{"text_format":"1","workbook":"xlsx","n_sheets":10,"sheets":["基本情報登録","メイン","入力シート","印刷シート","記入上の注意点","記入例日帰り","記入例②「泊あり」","記入例③「ゆとり出張」","記入例④「変更」","記入例⑤「取り止め」"],"not_rendered":{"charts":0,"images":2,"macros":1,"external_links":0,"defined_names":7,"comments":0,"pivot_tables":0},"unopened":[],"bounds":{"document_bytes":16777216,"sheet_cells":100000,"rows_first":2000,"rows_last":500,"rows_between":2000,"halvings":0,"cell_chars":16384,"cell_head_chars":4096},"cells_cut":0,"cells_raw":0,"read":"whole","date_system":"1900"}

{"sheet":"基本情報登録","index":0,"n_rows":51,"n_cols":11,"rows_kept":51,"cut":false,"hidden":false,"merged":[]}
["学校名","伊野中学校",null,"№","職員番号","職名","氏名","自宅住所",null,"№","交通機関"]
["年度",2,null,1,123456,"校長","○○　○○","高知市本町",null,1,"公用車"]
[null,null,null,2,null,null,null,null,null,2,"借上車"]
[null,null,null,3,null,null,null,null,null,3,"自家用車"]
[null,null,null,4,null,null,null,null,null,4,"自家用車同乗"]
[null,null,null,5,null,null,null,null,null,5,"乗合バス"]
[null,null,null,6,null,null,null,null,null,6,"高速バス"]
[null,null,null,7,null,null,null,null,null,7,"電車"]
[null,null,null,8,null,null,null,null,null,8,"鉄道"]
[null,null,null,9,null,null,null,null,null,9,"船舶"]
[null,null,null,10,null,null,null,null,null,10,"航空機"]
[null,null,null,11,null,null,null,null,null,11,"モノレール"]
[null,null,null,12,null,null,null,null,null,12,"空港連絡バス"]
[null,null,null,13]
[null,null,null,14]
[null,null,null,15]
[null,null,null,16]
[null,null,null,17]
[null,null,null,18]
[null,null,null,19]
[null,null,null,20]
[null,null,null,21]
[null,null,null,22]
[null,null,null,23]
[null,null,null,24]
[null,null,null,25]
[null,null,null,26]
[null,null,null,27]
[null,null,null,28]
[null,null,null,29]
[null,null,null,30]
[null,null,null,31]
[null,null,null,32]
[null,null,null,33]
[null,null,null,34]
[null,null,null,35]
[null,null,null,36]
[null,null,null,37]
[null,null,null,38]
[null,null,null,39]
[null,null,null,40]
[null,null,null,41]
[null,null,null,42]
[null,null,null,43]
[null,null,null,44]
[null,null,null,45]
[null,null,null,46]
[null,null,null,47]
[null,null,null,48]
[null,null,null,49]
[null,null,null,50]

{"sheet":"メイン","index":1,"n_rows":1,"n_cols":4,"rows_kept":1,"cut":false,"hidden":false,"merged":[[4,19,4,25],[5,19,5,25],[6,20,6,26],[7,20,7,26],[8,20,8,27]]}
[null,null,null,"別途旅費作成支援ツール　ver.200601"]

{"sheet":"入力シート","index":2,"n_rows":152,"n_cols":73,"rows_kept":152,"cut":false,"hidden":false,"merged":[]}
[null,2,3,4,5,6,7,8,9,10,11,12,13,14,15,16,17,18,19,20,21,22,23,24,25,26,27,28,29,30,31,32,33,34,35,36,37,38,39,40,41,42,43,44,45,46,47,48,49,50,51,52,53,54,55,56,57,58,59,60,61,62,63,64,65,66,67,68,69,70,71,72,73]
["命令番号","命令簿作成日","用務","場所","職名1","氏名1","職名2","氏名2","職名3","氏名3","出発","帰着","公用車","借上車","自家用車","自家用車同乗","乗合バス","高速バス","電車","鉄道","船舶","航空機","モノレール","空港連絡バス","その他","旅費支給機関","出張日1","出発地","経路","帰着地","泊数","出張日2","出発地","経路","帰着地","泊数","出張日3","出発地","経路","帰着地","泊数","出張日4","出発地","経路","帰着地","泊数","出張日5","出発地","経路","帰着地","泊数","出張日6","出発地","経路","帰着地","泊数","出張日7","出発地","経路","帰着地","泊数","出張日8","出発地","経路","帰着地","泊数","私有車1","同乗1","私有車2","同乗2","私有車3","同乗3","特別承認等"]
[1,"2020-06-01","テスト","テスト2",null,"○○　○○",null,"",null,"","公署","自宅",null,null,1,null,null,null,null,null,null,null,null,null,"","","6/1","学校","","自宅","1","","","","","","","","","","","","","","","","","","","","","","","","","","","","","","","","","","","","使用",null,null,null,null,null,""]
[null,null,null,null,{"$f":"IF(F4=\"\",\"\",INDEX(基本情報登録!F:F,MATCH(入力シート!F4,基本情報登録!G:G,0)))","v":""},"",{"$f":"IF(H4=\"\",\"\",INDEX(基本情報登録!F:F,MATCH(入力シート!H4,基本情報登録!G:G,0)))","v":""},"",{"$f":"IF(J4=\"\",\"\",INDEX(基本情報登録!F:F,MATCH(入力シート!J4,基本情報登録!G:G,0)))","v":""},"",null,null,null,null,null,null,null,null,null,null,null,null,null,null,"","","","","","","","","","","","","","","","","","","","","","","","","","","","","","","","","","","","","","","","","","",null,null,null,null,null,null,""]
[null,null,null,null,{"$f":"IF(F5=\"\",\"\",INDEX(基本情報登録!F:F,MATCH(入力シート!F5,基本情報登録!G:G,0)))","v":""},null,{"$f":"IF(H5=\"\",\"\",INDEX(基本情報登録!F:F,MATCH(入力シート!H5,基本情報登録!G:G,0)))","v":""},null,{"$f":"IF(J5=\"\",\"\",INDEX(基本情報登録!F:F,MATCH(入力シート!J5,基本情報登録!G:G,0)))","v":""}]
[null,null,null,null,{"$f":"IF(F6=\"\",\"\",INDEX(基本情報登録!F:F,MATCH(入力シート!F6,基本情報登録!G:G,0)))","v":""},null,{"$f":"IF(H6=\"\",\"\",INDEX(基本情報登録!F:F,MATCH(入力シート!H6,基本情報登録!G:G,0)))","v":""},null,{"$f":"IF(J6=\"\",\"\",INDEX(基本情報登録!F:F,MATCH(入力シート!J6,基本情報登録!G:G,0)))","v":""}]
[null,null,null,null,{"$f":"IF(F7=\"\",\"\",INDEX(基本情報登録!F:F,MATCH(入力シート!F7,基本情報登録!G:G,0)))","v":""},null,{"$f":"IF(H7=\"\",\"\",INDEX(基本情報登録!F:F,MATCH(入力シート!H7,基本情報登録!G:G,0)))","v":""},null,{"$f":"IF(J7=\"\",\"\",INDEX(基本情報登録!F:F,MATCH(入力シート!J7,基本情報登録!G:G,0)))","v":""}]
[null,null,null,null,{"$f":"IF(F8=\"\",\"\",INDEX(基本情報登録!F:F,MATCH(入力シート!F8,基本情報登録!G:G,0)))","v":""},null,{"$f":"IF(H8=\"\",\"\",INDEX(基本情報登録!F:F,MATCH(入力シート!H8,基本情報登録!G:G,0)))","v":""},null,{"$f":"IF(J8=\"\",\"\",INDEX(基本情報登録!F:F,MATCH(入力シート!J8,基本情報登録!G:G,0)))","v":""}]
[null,null,null,null,{"$f":"IF(F9=\"\",\"\",INDEX(基本情報登録!F:F,MATCH(入力シート!F9,基本情報登録!G:G,0)))","v":""},null,{"$f":"IF(H9=\"\",\"\",INDEX(基本情報登録!F:F,MATCH(入力シート!H9,基本情報登録!G:G,0)))","v":""},null,{"$f":"IF(J9=\"\",\"\",INDEX(基本情報登録!F:F,MATCH(入力シート!J9,基本情報登録!G:G,0)))","v":""}]
[null,null,null,null,{"$f":"IF(F10=\"\",\"\",INDEX(基本情報登録!F:F,MATCH(入力シート!F10,基本情報登録!G:G,0)))","v":""},null,{"$f":"IF(H10=\"\",\"\",INDEX(基本情報登録!F:F,MATCH(入力シート!H10,基本情報登録!G:G,0)))","v":""},null,{"$f":"IF(J10=\"\",\"\",INDEX(基本情報登録!F:F,MATCH(入力シート!J10,基本情報登録!G:G,0)))","v":""}]
[null,null,null,null,{"$f":"IF(F11=\"\",\"\",INDEX(基本情報登録!F:F,MATCH(入力シート!F11,基本情報登録!G:G,0)))","v":""},null,{"$f":"IF(H11=\"\",\"\",INDEX(基本情報登録!F:F,MATCH(入力シート!H11,基本情報登録!G:G,0)))","v":""},null,{"$f":"IF(J11=\"\",\"\",INDEX(基本情報登録!F:F,MATCH(入力シート!J11,基本情報登録!G:G,0)))","v":""}]
[null,null,null,null,{"$f":"IF(F12=\"\",\"\",INDEX(基本情報登録!F:F,MATCH(入力シート!F12,基本情報登録!G:G,0)))","v":""},null,{"$f":"IF(H12=\"\",\"\",INDEX(基本情報登録!F:F,MATCH(入力シート!H12,基本情報登録!G:G,0)))","v":""},null,{"$f":"IF(J12=\"\",\"\",INDEX(基本情報登録!F:F,MATCH(入力シート!J12,基本情報登録!G:G,0)))","v":""}]
[null,null,null,null,{"$f":"IF(F13=\"\",\"\",INDEX(基本情報登録!F:F,MATCH(入力シート!F13,基本情報登録!G:G,0)))","v":""},null,{"$f":"IF(H13=\"\",\"\",INDEX(基本情報登録!F:F,MATCH(入力シート!H13,基本情報登録!G:G,0)))","v":""},null,{"$f":"IF(J13=\"\",\"\",INDEX(基本情報登録!F:F,MATCH(入力シート!J13,基本情報登録!G:G,0)))","v":""}]
[null,null,null,null,{"$f":"IF(F14=\"\",\"\",INDEX(基本情報登録!F:F,MATCH(入力シート!F14,基本情報登録!G:G,0)))","v":""},null,{"$f":"IF(H14=\"\",\"\",INDEX(基本情報登録!F:F,MATCH(入力シート!H14,基本情報登録!G:G,0)))","v":""},null,{"$f":"IF(J14=\"\",\"\",INDEX(基本情報登録!F:F,MATCH(入力シート!J14,基本情報登録!G:G,0)))","v":""}]
[null,null,null,null,{"$f":"IF(F15=\"\",\"\",INDEX(基本情報登録!F:F,MATCH(入力シート!F15,基本情報登録!G:G,0)))","v":""},null,{"$f":"IF(H15=\"\",\"\",INDEX(基本情報登録!F:F,MATCH(入力シート!H15,基本情報登録!G:G,0)))","v":""},null,{"$f":"IF(J15=\"\",\"\",INDEX(基本情報登録!F:F,MATCH(入力シート!J15,基本情報登録!G:G,0)))","v":""}]
[null,null,null,null,{"$f":"IF(F16=\"\",\"\",INDEX(基本情報登録!F:F,MATCH(入力シート!F16,基本情報登録!G:G,0)))","v":""},null,{"$f":"IF(H16=\"\",\"\",INDEX(基本情報登録!F:F,MATCH(入力シート!H16,基本情報登録!G:G,0)))","v":""},null,{"$f":"IF(J16=\"\",\"\",INDEX(基本情報登録!F:F,MATCH(入力シート!J16,基本情報登録!G:G,0)))","v":""}]
[null,null,null,null,{"$f":"IF(F17=\"\",\"\",INDEX(基本情報登録!F:F,MATCH(入力シート!F17,基本情報登録!G:G,0)))","v":""},null,{"$f":"IF(H17=\"\",\"\",INDEX(基本情報登録!F:F,MATCH(入力シート!H17,基本情報登録!G:G,0)))","v":""},null,{"$f":"IF(J17=\"\",\"\",INDEX(基本情報登録!F:F,MATCH(入力シート!J17,基本情報登録!G:G,0)))","v":""}]
[null,null,null,null,{"$f":"IF(F18=\"\",\"\",INDEX(基本情報登録!F:F,MATCH(入力シート!F18,基本情報登録!G:G,0)))","v":""},null,{"$f":"IF(H18=\"\",\"\",INDEX(基本情報登録!F:F,MATCH(入力シート!H18,基本情報登録!G:G,0)))","v":""},null,{"$f":"IF(J18=\"\",\"\",INDEX(基本情報登録!F:F,MATCH(入力シート!J18,基本情報登録!G:G,0)))","v":""}]
[null,null,null,null,{"$f":"IF(F19=\"\",\"\",INDEX(基本情報登録!F:F,MATCH(入力シート!F19,基本情報登録!G:G,0)))","v":""},null,{"$f":"IF(H19=\"\",\"\",INDEX(基本情報登録!F:F,MATCH(入力シート!H19,基本情報登録!G:G,0)))","v":""},null,{"$f":"IF(J19=\"\",\"\",INDEX(基本情報登録!F:F,MATCH(入力シート!J19,基本情報登録!G:G,0)))","v":""}]
[null,null,null,null,{"$f":"IF(F20=\"\",\"\",INDEX(基本情報登録!F:F,MATCH(入力シート!F20,基本情報登録!G:G,0)))","v":""},null,{"$f":"IF(H20=\"\",\"\",INDEX(基本情報登録!F:F,MATCH(入力シート!H20,基本情報登録!G:G,0)))","v":""},null,{"$f":"IF(J20=\"\",\"\",INDEX(基本情報登録!F:F,MATCH(入力シート!J20,基本情報登録!G:G,0)))","v":""}]
[null,null,null,null,{"$f":"IF(F21=\"\",\"\",INDEX(基本情報登録!F:F,MATCH(入力シート!F21,基本情報登録!G:G,0)))","v":""},null,{"$f":"IF(H21=\"\",\"\",INDEX(基本情報登録!F:F,MATCH(入力シート!H21,基本情報登録!G:G,0)))","v":""},null,{"$f":"IF(J21=\"\",\"\",INDEX(基本情報登録!F:F,MATCH(入力シート!J21,基本情報登録!G:G,0)))","v":""}]
[null,null,null,null,{"$f":"IF(F22=\"\",\"\",INDEX(基本情報登録!F:F,MATCH(入力シート!F22,基本情報登録!G:G,0)))","v":""},null,{"$f":"IF(H22=\"\",\"\",INDEX(基本情報登録!F:F,MATCH(入力シート!H22,基本情報登録!G:G,0)))","v":""},null,{"$f":"IF(J22=\"\",\"\",INDEX(基本情報登録!F:F,MATCH(入力シート!J22,基本情報登録!G:G,0)))","v":""}]
[null,null,null,null,{"$f":"IF(F23=\"\",\"\",INDEX(基本情報登録!F:F,MATCH(入力シート!F23,基本情報登録!G:G,0)))","v":""},null,{"$f":"IF(H23=\"\",\"\",INDEX(基本情報登録!F:F,MATCH(入力シート!H23,基本情報登録!G:G,0)))","v":""},null,{"$f":"IF(J23=\"\",\"\",INDEX(基本情報登録!F:F,MATCH(入力シート!J23,基本情報登録!G:G,0)))","v":""}]
[null,null,null,null,{"$f":"IF(F24=\"\",\"\",INDEX(基本情報登録!F:F,MATCH(入力シート!F24,基本情報登録!G:G,0)))","v":""},null,{"$f":"IF(H24=\"\",\"\",INDEX(基本情報登録!F:F,MATCH(入力シート!H24,基本情報登録!G:G,0)))","v":""},null,{"$f":"IF(J24=\"\",\"\",INDEX(基本情報登録!F:F,MATCH(入力シート!J24,基本情報登録!G:G,0)))","v":""}]
[null,null,null,null,{"$f":"IF(F25=\"\",\"\",INDEX(基本情報登録!F:F,MATCH(入力シート!F25,基本情報登録!G:G,0)))","v":""},null,{"$f":"IF(H25=\"\",\"\",INDEX(基本情報登録!F:F,MATCH(入力シート!H25,基本情報登録!G:G,0)))","v":""},null,{"$f":"IF(J25=\"\",\"\",INDEX(基本情報登録!F:F,MATCH(入力シート!J25,基本情報登録!G:G,0)))","v":""}]
[null,null,null,null,{"$f":"IF(F26=\"\",\"\",INDEX(基本情報登録!F:F,MATCH(入力シート!F26,基本情報登録!G:G,0)))","v":""},null,{"$f":"IF(H26=\"\",\"\",INDEX(基本情報登録!F:F,MATCH(入力シート!H26,基本情報登録!G:G,0)))","v":""},null,{"$f":"IF(J26=\"\",\"\",INDEX(基本情報登録!F:F,MATCH(入力シート!J26,基本情報登録!G:G,0)))","v":""}]
[null,null,null,null,{"$f":"IF(F27=\"\",\"\",INDEX(基本情報登録!F:F,MATCH(入力シート!F27,基本情報登録!G:G,0)))","v":""},null,{"$f":"IF(H27=\"\",\"\",INDEX(基本情報登録!F:F,MATCH(入力シート!H27,基本情報登録!G:G,0)))","v":""},null,{"$f":"IF(J27=\"\",\"\",INDEX(基本情報登録!F:F,MATCH(入力シート!J27,基本情報登録!G:G,0)))","v":""}]
[null,null,null,null,{"$f":"IF(F28=\"\",\"\",INDEX(基本情報登録!F:F,MATCH(入力シート!F28,基本情報登録!G:G,0)))","v":""},null,{"$f":"IF(H28=\"\",\"\",INDEX(基本情報登録!F:F,MATCH(入力シート!H28,基本情報登録!G:G,0)))","v":""},null,{"$f":"IF(J28=\"\",\"\",INDEX(基本情報登録!F:F,MATCH(入力シート!J28,基本情報登録!G:G,0)))","v":""}]
[null,null,null,null,{"$f":"IF(F29=\"\",\"\",INDEX(基本情報登録!F:F,MATCH(入力シート!F29,基本情報登録!G:G,0)))","v":""},null,{"$f":"IF(H29=\"\",\"\",INDEX(基本情報登録!F:F,MATCH(入力シート!H29,基本情報登録!G:G,0)))","v":""},null,{"$f":"IF(J29=\"\",\"\",INDEX(基本情報登録!F:F,MATCH(入力シート!J29,基本情報登録!G:G,0)))","v":""}]
[null,null,null,null,{"$f":"IF(F30=\"\",\"\",INDEX(基本情報登録!F:F,MATCH(入力シート!F30,基本情報登録!G:G,0)))","v":""},null,{"$f":"IF(H30=\"\",\"\",INDEX(基本情報登録!F:F,MATCH(入力シート!H30,基本情報登録!G:G,0)))","v":""},null,{"$f":"IF(J30=\"\",\"\",INDEX(基本情報登録!F:F,MATCH(入力シート!J30,基本情報登録!G:G,0)))","v":""}]
[null,null,null,null,{"$f":"IF(F31=\"\",\"\",INDEX(基本情報登録!F:F,MATCH(入力シート!F31,基本情報登録!G:G,0)))","v":""},null,{"$f":"IF(H31=\"\",\"\",INDEX(基本情報登録!F:F,MATCH(入力シート!H31,基本情報登録!G:G,0)))","v":""},null,{"$f":"IF(J31=\"\",\"\",INDEX(基本情報登録!F:F,MATCH(入力シート!J31,基本情報登録!G:G,0)))","v":""}]
[null,null,null,null,{"$f":"IF(F32=\"\",\"\",INDEX(基本情報登録!F:F,MATCH(入力シート!F32,基本情報登録!G:G,0)))","v":""},null,{"$f":"IF(H32=\"\",\"\",INDEX(基本情報登録!F:F,MATCH(入力シート!H32,基本情報登録!G:G,0)))","v":""},null,{"$f":"IF(J32=\"\",\"\",INDEX(基本情報登録!F:F,MATCH(入力シート!J32,基本情報登録!G:G,0)))","v":""}]
[null,null,null,null,{"$f":"IF(F33=\"\",\"\",INDEX(基本情報登録!F:F,MATCH(入力シート!F33,基本情報登録!G:G,0)))","v":""},null,{"$f":"IF(H33=\"\",\"\",INDEX(基本情報登録!F:F,MATCH(入力シート!H33,基本情報登録!G:G,0)))","v":""},null,{"$f":"IF(J33=\"\",\"\",INDEX(基本情報登録!F:F,MATCH(入力シート!J33,基本情報登録!G:G,0)))","v":""}]
[null,null,null,null,{"$f":"IF(F34=\"\",\"\",INDEX(基本情報登録!F:F,MATCH(入力シート!F34,基本情報登録!G:G,0)))","v":""},null,{"$f":"IF(H34=\"\",\"\",INDEX(基本情報登録!F:F,MATCH(入力シート!H34,基本情報登録!G:G,0)))","v":""},null,{"$f":"IF(J34=\"\",\"\",INDEX(基本情報登録!F:F,MATCH(入力シート!J34,基本情報登録!G:G,0)))","v":""}]
[null,null,null,null,{"$f":"IF(F35=\"\",\"\",INDEX(基本情報登録!F:F,MATCH(入力シート!F35,基本情報登録!G:G,0)))","v":""},null,{"$f":"IF(H35=\"\",\"\",INDEX(基本情報登録!F:F,MATCH(入力シート!H35,基本情報登録!G:G,0)))","v":""},null,{"$f":"IF(J35=\"\",\"\",INDEX(基本情報登録!F:F,MATCH(入力シート!J35,基本情報登録!G:G,0)))","v":""}]
[null,null,null,null,{"$f":"IF(F36=\"\",\"\",INDEX(基本情報登録!F:F,MATCH(入力シート!F36,基本情報登録!G:G,0)))","v":""},null,{"$f":"IF(H36=\"\",\"\",INDEX(基本情報登録!F:F,MATCH(入力シート!H36,基本情報登録!G:G,0)))","v":""},null,{"$f":"IF(J36=\"\",\"\",INDEX(基本情報登録!F:F,MATCH(入力シート!J36,基本情報登録!G:G,0)))","v":""}]
[null,null,null,null,{"$f":"IF(F37=\"\",\"\",INDEX(基本情報登録!F:F,MATCH(入力シート!F37,基本情報登録!G:G,0)))","v":""},null,{"$f":"IF(H37=\"\",\"\",INDEX(基本情報登録!F:F,MATCH(入力シート!H37,基本情報登録!G:G,0)))","v":""},null,{"$f":"IF(J37=\"\",\"\",INDEX(基本情報登録!F:F,MATCH(入力シート!J37,基本情報登録!G:G,0)))","v":""}]
[null,null,null,null,{"$f":"IF(F38=\"\",\"\",INDEX(基本情報登録!F:F,MATCH(入力シート!F38,基本情報登録!G:G,0)))","v":""},null,{"$f":"IF(H38=\"\",\"\",INDEX(基本情報登録!F:F,MATCH(入力シート!H38,基本情報登録!G:G,0)))","v":""},null,{"$f":"IF(J38=\"\",\"\",INDEX(基本情報登録!F:F,MATCH(入力シート!J38,基本情報登録!G:G,0)))","v":""}]
[null,null,null,null,{"$f":"IF(F39=\"\",\"\",INDEX(基本情報登録!F:F,MATCH(入力シート!F39,基本情報登録!G:G,0)))","v":""},null,{"$f":"IF(H39=\"\",\"\",INDEX(基本情報登録!F:F,MATCH(入力シート!H39,基本情報登録!G:G,0)))","v":""},null,{"$f":"IF(J39=\"\",\"\",INDEX(基本情報登録!F:F,MATCH(入力シート!J39,基本情報登録!G:G,0)))","v":""}]
[null,null,null,null,{"$f":"IF(F40=\"\",\"\",INDEX(基本情報登録!F:F,MATCH(入力シート!F40,基本情報登録!G:G,0)))","v":""},null,{"$f":"IF(H40=\"\",\"\",INDEX(基本情報登録!F:F,MATCH(入力シート!H40,基本情報登録!G:G,0)))","v":""},null,{"$f":"IF(J40=\"\",\"\",INDEX(基本情報登録!F:F,MATCH(入力シート!J40,基本情報登録!G:G,0)))","v":""}]
[null,null,null,null,{"$f":"IF(F41=\"\",\"\",INDEX(基本情報登録!F:F,MATCH(入力シート!F41,基本情報登録!G:G,0)))","v":""},null,{"$f":"IF(H41=\"\",\"\",INDEX(基本情報登録!F:F,MATCH(入力シート!H41,基本情報登録!G:G,0)))","v":""},null,{"$f":"IF(J41=\"\",\"\",INDEX(基本情報登録!F:F,MATCH(入力シート!J41,基本情報登録!G:G,0)))","v":""}]
[null,null,null,null,{"$f":"IF(F42=\"\",\"\",INDEX(基本情報登録!F:F,MATCH(入力シート!F42,基本情報登録!G:G,0)))","v":""},null,{"$f":"IF(H42=\"\",\"\",INDEX(基本情報登録!F:F,MATCH(入力シート!H42,基本情報登録!G:G,0)))","v":""},null,{"$f":"IF(J42=\"\",\"\",INDEX(基本情報登録!F:F,MATCH(入力シート!J42,基本情報登録!G:G,0)))","v":""}]
[null,null,null,null,{"$f":"IF(F43=\"\",\"\",INDEX(基本情報登録!F:F,MATCH(入力シート!F43,基本情報登録!G:G,0)))","v":""},null,{"$f":"IF(H43=\"\",\"\",INDEX(基本情報登録!F:F,MATCH(入力シート!H43,基本情報登録!G:G,0)))","v":""},"",{"$f":"IF(J43=\"\",\"\",INDEX(基本情報登録!F:F,MATCH(入力シート!J43,基本情報登録!G:G,0)))","v":""}]
[null,null,null,null,{"$f":"IF(F44=\"\",\"\",INDEX(基本情報登録!F:F,MATCH(入力シート!F44,基本情報登録!G:G,0)))","v":""},null,{"$f":"IF(H44=\"\",\"\",INDEX(基本情報登録!F:F,MATCH(入力シート!H44,基本情報登録!G:G,0)))","v":""},"",{"$f":"IF(J44=\"\",\"\",INDEX(基本情報登録!F:F,MATCH(入力シート!J44,基本情報登録!G:G,0)))","v":""}]
[null,null,null,null,{"$f":"IF(F45=\"\",\"\",INDEX(基本情報登録!F:F,MATCH(入力シート!F45,基本情報登録!G:G,0)))","v":""},null,{"$f":"IF(H45=\"\",\"\",INDEX(基本情報登録!F:F,MATCH(入力シート!H45,基本情報登録!G:G,0)))","v":""},"",{"$f":"IF(J45=\"\",\"\",INDEX(基本情報登録!F:F,MATCH(入力シート!J45,基本情報登録!G:G,0)))","v":""}]
[null,null,null,null,{"$f":"IF(F46=\"\",\"\",INDEX(基本情報登録!F:F,MATCH(入力シート!F46,基本情報登録!G:G,0)))","v":""},null,{"$f":"IF(H46=\"\",\"\",INDEX(基本情報登録!F:F,MATCH(入力シート!H46,基本情報登録!G:G,0)))","v":""},null,{"$f":"IF(J46=\"\",\"\",INDEX(基本情報登録!F:F,MATCH(入力シート!J46,基本情報登録!G:G,0)))","v":""}]
[null,null,null,null,{"$f":"IF(F47=\"\",\"\",INDEX(基本情報登録!F:F,MATCH(入力シート!F47,基本情報登録!G:G,0)))","v":""},null,{"$f":"IF(H47=\"\",\"\",INDEX(基本情報登録!F:F,MATCH(入力シート!H47,基本情報登録!G:G,0)))","v":""},null,{"$f":"IF(J47=\"\",\"\",INDEX(基本情報登録!F:F,MATCH(入力シート!J47,基本情報登録!G:G,0)))","v":""}]
[null,null,null,null,{"$f":"IF(F48=\"\",\"\",INDEX(基本情報登録!F:F,MATCH(入力シート!F48,基本情報登録!G:G,0)))","v":""},null,{"$f":"IF(H48=\"\",\"\",INDEX(基本情報登録!F:F,MATCH(入力シート!H48,基本情報登録!G:G,0)))","v":""},null,{"$f":"IF(J48=\"\",\"\",INDEX(基本情報登録!F:F,MATCH(入力シート!J48,基本情報登録!G:G,0)))","v":""}]
[null,null,null,null,{"$f":"IF(F49=\"\",\"\",INDEX(基本情報登録!F:F,MATCH(入力シート!F49,基本情報登録!G:G,0)))","v":""},null,{"$f":"IF(H49=\"\",\"\",INDEX(基本情報登録!F:F,MATCH(入力シート!H49,基本情報登録!G:G,0)))","v":""},null,{"$f":"IF(J49=\"\",\"\",INDEX(基本情報登録!F:F,MATCH(入力シート!J49,基本情報登録!G:G,0)))","v":""}]
[null,null,null,null,{"$f":"IF(F50=\"\",\"\",INDEX(基本情報登録!F:F,MATCH(入力シート!F50,基本情報登録!G:G,0)))","v":""},null,{"$f":"IF(H50=\"\",\"\",INDEX(基本情報登録!F:F,MATCH(入力シート!H50,基本情報登録!G:G,0)))","v":""},null,{"$f":"IF(J50=\"\",\"\",INDEX(基本情報登録!F:F,MATCH(入力シート!J50,基本情報登録!G:G,0)))","v":""}]
[null,null,null,null,{"$f":"IF(F51=\"\",\"\",INDEX(基本情報登録!F:F,MATCH(入力シート!F51,基本情報登録!G:G,0)))","v":""},null,{"$f":"IF(H51=\"\",\"\",INDEX(基本情報登録!F:F,MATCH(入力シート!H51,基本情報登録!G:G,0)))","v":""},null,{"$f":"IF(J51=\"\",\"\",INDEX(基本情報登録!F:F,MATCH(入力シート!J51,基本情報登録!G:G,0)))","v":""}]
[null,null,null,null,{"$f":"IF(F52=\"\",\"\",INDEX(基本情報登録!F:F,MATCH(入力シート!F52,基本情報登録!G:G,0)))","v":""},null,{"$f":"IF(H52=\"\",\"\",INDEX(基本情報登録!F:F,MATCH(入力シート!H52,基本情報登録!G:G,0)))","v":""},null,{"$f":"IF(J52=\"\",\"\",INDEX(基本情報登録!F:F,MATCH(入力シート!J52,基本情報登録!G:G,0)))","v":""}]
[null,null,null,null,{"$f":"IF(F53=\"\",\"\",INDEX(基本情報登録!F:F,MATCH(入力シート!F53,基本情報登録!G:G,0)))","v":""},null,{"$f":"IF(H53=\"\",\"\",INDEX(基本情報登録!F:F,MATCH(入力シート!H53,基本情報登録!G:G,0)))","v":""},null,{"$f":"IF(J53=\"\",\"\",INDEX(基本情報登録!F:F,MATCH(入力シート!J53,基本情報登録!G:G,0)))","v":""}]
[null,null,null,null,{"$f":"IF(F54=\"\",\"\",INDEX(基本情報登録!F:F,MATCH(入力シート!F54,基本情報登録!G:G,0)))","v":""},null,{"$f":"IF(H54=\"\",\"\",INDEX(基本情報登録!F:F,MATCH(入力シート!H54,基本情報登録!G:G,0)))","v":""},null,{"$f":"IF(J54=\"\",\"\",INDEX(基本情報登録!F:F,MATCH(入力シート!J54,基本情報登録!G:G,0)))","v":""}]
[null,null,null,null,{"$f":"IF(F55=\"\",\"\",INDEX(基本情報登録!F:F,MATCH(入力シート!F55,基本情報登録!G:G,0)))","v":""},null,{"$f":"IF(H55=\"\",\"\",INDEX(基本情報登録!F:F,MATCH(入力シート!H55,基本情報登録!G:G,0)))","v":""},null,{"$f":"IF(J55=\"\",\"\",INDEX(基本情報登録!F:F,MATCH(入力シート!J55,基本情報登録!G:G,0)))","v":""}]
[null,null,null,null,{"$f":"IF(F56=\"\",\"\",INDEX(基本情報登録!F:F,MATCH(入力シート!F56,基本情報登録!G:G,0)))","v":""},null,{"$f":"IF(H56=\"\",\"\",INDEX(基本情報登録!F:F,MATCH(入力シート!H56,基本情報登録!G:G,0)))","v":""},null,{"$f":"IF(J56=\"\",\"\",INDEX(基本情報登録!F:F,MATCH(入力シート!J56,基本情報登録!G:G,0)))","v":""}]
[null,null,null,null,{"$f":"IF(F57=\"\",\"\",INDEX(基本情報登録!F:F,MATCH(入力シート!F57,基本情報登録!G:G,0)))","v":""},null,{"$f":"IF(H57=\"\",\"\",INDEX(基本情報登録!F:F,MATCH(入力シート!H57,基本情報登録!G:G,0)))","v":""},null,{"$f":"IF(J57=\"\",\"\",INDEX(基本情報登録!F:F,MATCH(入力シート!J57,基本情報登録!G:G,0)))","v":""}]
[null,null,null,null,{"$f":"IF(F58=\"\",\"\",INDEX(基本情報登録!F:F,MATCH(入力シート!F58,基本情報登録!G:G,0)))","v":""},null,{"$f":"IF(H58=\"\",\"\",INDEX(基本情報登録!F:F,MATCH(入力シート!H58,基本情報登録!G:G,0)))","v":""},null,{"$f":"IF(J58=\"\",\"\",INDEX(基本情報登録!F:F,MATCH(入力シート!J58,基本情報登録!G:G,0)))","v":""}]
[null,null,null,null,{"$f":"IF(F59=\"\",\"\",INDEX(基本情報登録!F:F,MATCH(入力シート!F59,基本情報登録!G:G,0)))","v":""},null,{"$f":"IF(H59=\"\",\"\",INDEX(基本情報登録!F:F,MATCH(入力シート!H59,基本情報登録!G:G,0)))","v":""},null,{"$f":"IF(J59=\"\",\"\",INDEX(基本情報登録!F:F,MATCH(入力シート!J59,基本情報登録!G:G,0)))","v":""}]
[null,null,null,null,{"$f":"IF(F60=\"\",\"\",INDEX(基本情報登録!F:F,MATCH(入力シート!F60,基本情報登録!G:G,0)))","v":""},null,{"$f":"IF(H60=\"\",\"\",INDEX(基本情報登録!F:F,MATCH(入力シート!H60,基本情報登録!G:G,0)))","v":""},null,{"$f":"IF(J60=\"\",\"\",INDEX(基本情報登録!F:F,MATCH(入力シート!J60,基本情報登録!G:G,0)))","v":""}]
[null,null,null,null,{"$f":"IF(F61=\"\",\"\",INDEX(基本情報登録!F:F,MATCH(入力シート!F61,基本情報登録!G:G,0)))","v":""},null,{"$f":"IF(H61=\"\",\"\",INDEX(基本情報登録!F:F,MATCH(入力シート!H61,基本情報登録!G:G,0)))","v":""},null,{"$f":"IF(J61=\"\",\"\",INDEX(基本情報登録!F:F,MATCH(入力シート!J61,基本情報登録!G:G,0)))","v":""}]
[null,null,null,null,{"$f":"IF(F62=\"\",\"\",INDEX(基本情報登録!F:F,MATCH(入力シート!F62,基本情報登録!G:G,0)))","v":""},null,{"$f":"IF(H62=\"\",\"\",INDEX(基本情報登録!F:F,MATCH(入力シート!H62,基本情報登録!G:G,0)))","v":""},null,{"$f":"IF(J62=\"\",\"\",INDEX(基本情報登録!F:F,MATCH(入力シート!J62,基本情報登録!G:G,0)))","v":""}]
[null,null,null,null,{"$f":"IF(F63=\"\",\"\",INDEX(基本情報登録!F:F,MATCH(入力シート!F63,基本情報登録!G:G,0)))","v":""},null,{"$f":"IF(H63=\"\",\"\",INDEX(基本情報登録!F:F,MATCH(入力シート!H63,基本情報登録!G:G,0)))","v":""},null,{"$f":"IF(J63=\"\",\"\",INDEX(基本情報登録!F:F,MATCH(入力シート!J63,基本情報登録!G:G,0)))","v":""}]
[null,null,null,null,{"$f":"IF(F64=\"\",\"\",INDEX(基本情報登録!F:F,MATCH(入力シート!F64,基本情報登録!G:G,0)))","v":""},null,{"$f":"IF(H64=\"\",\"\",INDEX(基本情報登録!F:F,MATCH(入力シート!H64,基本情報登録!G:G,0)))","v":""},null,{"$f":"IF(J64=\"\",\"\",INDEX(基本情報登録!F:F,MATCH(入力シート!J64,基本情報登録!G:G,0)))","v":""}]
[null,null,null,null,{"$f":"IF(F65=\"\",\"\",INDEX(基本情報登録!F:F,MATCH(入力シート!F65,基本情報登録!G:G,0)))","v":""},null,{"$f":"IF(H65=\"\",\"\",INDEX(基本情報登録!F:F,MATCH(入力シート!H65,基本情報登録!G:G,0)))","v":""},null,{"$f":"IF(J65=\"\",\"\",INDEX(基本情報登録!F:F,MATCH(入力シート!J65,基本情報登録!G:G,0)))","v":""}]
[null,null,null,null,{"$f":"IF(F66=\"\",\"\",INDEX(基本情報登録!F:F,MATCH(入力シート!F66,基本情報登録!G:G,0)))","v":""},null,{"$f":"IF(H66=\"\",\"\",INDEX(基本情報登録!F:F,MATCH(入力シート!H66,基本情報登録!G:G,0)))","v":""},null,{"$f":"IF(J66=\"\",\"\",INDEX(基本情報登録!F:F,MATCH(入力シート!J66,基本情報登録!G:G,0)))","v":""}]
[null,null,null,null,{"$f":"IF(F67=\"\",\"\",INDEX(基本情報登録!F:F,MATCH(入力シート!F67,基本情報登録!G:G,0)))","v":""},null,{"$f":"IF(H67=\"\",\"\",INDEX(基本情報登録!F:F,MATCH(入力シート!H67,基本情報登録!G:G,0)))","v":""},null,{"$f":"IF(J67=\"\",\"\",INDEX(基本情報登録!F:F,MATCH(入力シート!J67,基本情報登録!G:G,0)))","v":""}]
[null,null,null,null,{"$f":"IF(F68=\"\",\"\",INDEX(基本情報登録!F:F,MATCH(入力シート!F68,基本情報登録!G:G,0)))","v":""},null,{"$f":"IF(H68=\"\",\"\",INDEX(基本情報登録!F:F,MATCH(入力シート!H68,基本情報登録!G:G,0)))","v":""},null,{"$f":"IF(J68=\"\",\"\",INDEX(基本情報登録!F:F,MATCH(入力シート!J68,基本情報登録!G:G,0)))","v":""}]
[null,null,null,null,{"$f":"IF(F69=\"\",\"\",INDEX(基本情報登録!F:F,MATCH(入力シート!F69,基本情報登録!G:G,0)))","v":""},null,{"$f":"IF(H69=\"\",\"\",INDEX(基本情報登録!F:F,MATCH(入力シート!H69,基本情報登録!G:G,0)))","v":""},null,{"$f":"IF(J69=\"\",\"\",INDEX(基本情報登録!F:F,MATCH(入力シート!J69,基本情報登録!G:G,0)))","v":""}]
[null,null,null,null,{"$f":"IF(F70=\"\",\"\",INDEX(基本情報登録!F:F,MATCH(入力シート!F70,基本情報登録!G:G,0)))","v":""},null,{"$f":"IF(H70=\"\",\"\",INDEX(基本情報登録!F:F,MATCH(入力シート!H70,基本情報登録!G:G,0)))","v":""},null,{"$f":"IF(J70=\"\",\"\",INDEX(基本情報登録!F:F,MATCH(入力シート!J70,基本情報登録!G:G,0)))","v":""}]
[null,null,null,null,{"$f":"IF(F71=\"\",\"\",INDEX(基本情報登録!F:F,MATCH(入力シート!F71,基本情報登録!G:G,0)))","v":""},null,{"$f":"IF(H71=\"\",\"\",INDEX(基本情報登録!F:F,MATCH(入力シート!H71,基本情報登録!G:G,0)))","v":""},null,{"$f":"IF(J71=\"\",\"\",INDEX(基本情報登録!F:F,MATCH(入力シート!J71,基本情報登録!G:G,0)))","v":""}]
[null,null,null,null,{"$f":"IF(F72=\"\",\"\",INDEX(基本情報登録!F:F,MATCH(入力シート!F72,基本情報登録!G:G,0)))","v":""},null,{"$f":"IF(H72=\"\",\"\",INDEX(基本情報登録!F:F,MATCH(入力シート!H72,基本情報登録!G:G,0)))","v":""},null,{"$f":"IF(J72=\"\",\"\",INDEX(基本情報登録!F:F,MATCH(入力シート!J72,基本情報登録!G:G,0)))","v":""}]
[null,null,null,null,{"$f":"IF(F73=\"\",\"\",INDEX(基本情報登録!F:F,MATCH(入力シート!F73,基本情報登録!G:G,0)))","v":""},null,{"$f":"IF(H73=\"\",\"\",INDEX(基本情報登録!F:F,MATCH(入力シート!H73,基本情報登録!G:G,0)))","v":""},null,{"$f":"IF(J73=\"\",\"\",INDEX(基本情報登録!F:F,MATCH(入力シート!J73,基本情報登録!G:G,0)))","v":""}]
[null,null,null,null,{"$f":"IF(F74=\"\",\"\",INDEX(基本情報登録!F:F,MATCH(入力シート!F74,基本情報登録!G:G,0)))","v":""},null,{"$f":"IF(H74=\"\",\"\",INDEX(基本情報登録!F:F,MATCH(入力シート!H74,基本情報登録!G:G,0)))","v":""},null,{"$f":"IF(J74=\"\",\"\",INDEX(基本情報登録!F:F,MATCH(入力シート!J74,基本情報登録!G:G,0)))","v":""}]
[null,null,null,null,{"$f":"IF(F75=\"\",\"\",INDEX(基本情報登録!F:F,MATCH(入力シート!F75,基本情報登録!G:G,0)))","v":""},null,{"$f":"IF(H75=\"\",\"\",INDEX(基本情報登録!F:F,MATCH(入力シート!H75,基本情報登録!G:G,0)))","v":""},null,{"$f":"IF(J75=\"\",\"\",INDEX(基本情報登録!F:F,MATCH(入力シート!J75,基本情報登録!G:G,0)))","v":""}]
[null,null,null,null,{"$f":"IF(F76=\"\",\"\",INDEX(基本情報登録!F:F,MATCH(入力シート!F76,基本情報登録!G:G,0)))","v":""},null,{"$f":"IF(H76=\"\",\"\",INDEX(基本情報登録!F:F,MATCH(入力シート!H76,基本情報登録!G:G,0)))","v":""},null,{"$f":"IF(J76=\"\",\"\",INDEX(基本情報登録!F:F,MATCH(入力シート!J76,基本情報登録!G:G,0)))","v":""}]
[null,null,null,null,{"$f":"IF(F77=\"\",\"\",INDEX(基本情報登録!F:F,MATCH(入力シート!F77,基本情報登録!G:G,0)))","v":""},null,{"$f":"IF(H77=\"\",\"\",INDEX(基本情報登録!F:F,MATCH(入力シート!H77,基本情報登録!G:G,0)))","v":""},null,{"$f":"IF(J77=\"\",\"\",INDEX(基本情報登録!F:F,MATCH(入力シート!J77,基本情報登録!G:G,0)))","v":""}]
[null,null,null,null,{"$f":"IF(F78=\"\",\"\",INDEX(基本情報登録!F:F,MATCH(入力シート!F78,基本情報登録!G:G,0)))","v":""},null,{"$f":"IF(H78=\"\",\"\",INDEX(基本情報登録!F:F,MATCH(入力シート!H78,基本情報登録!G:G,0)))","v":""},null,{"$f":"IF(J78=\"\",\"\",INDEX(基本情報登録!F:F,MATCH(入力シート!J78,基本情報登録!G:G,0)))","v":""}]
[null,null,null,null,{"$f":"IF(F79=\"\",\"\",INDEX(基本情報登録!F:F,MATCH(入力シート!F79,基本情報登録!G:G,0)))","v":""},null,{"$f":"IF(H79=\"\",\"\",INDEX(基本情報登録!F:F,MATCH(入力シート!H79,基本情報登録!G:G,0)))","v":""},null,{"$f":"IF(J79=\"\",\"\",INDEX(基本情報登録!F:F,MATCH(入力シート!J79,基本情報登録!G:G,0)))","v":""}]
[null,null,null,null,{"$f":"IF(F80=\"\",\"\",INDEX(基本情報登録!F:F,MATCH(入力シート!F80,基本情報登録!G:G,0)))","v":""},null,{"$f":"IF(H80=\"\",\"\",INDEX(基本情報登録!F:F,MATCH(入力シート!H80,基本情報登録!G:G,0)))","v":""},null,{"$f":"IF(J80=\"\",\"\",INDEX(基本情報登録!F:F,MATCH(入力シート!J80,基本情報登録!G:G,0)))","v":""}]
[null,null,null,null,{"$f":"IF(F81=\"\",\"\",INDEX(基本情報登録!F:F,MATCH(入力シート!F81,基本情報登録!G:G,0)))","v":""},null,{"$f":"IF(H81=\"\",\"\",INDEX(基本情報登録!F:F,MATCH(入力シート!H81,基本情報登録!G:G,0)))","v":""},null,{"$f":"IF(J81=\"\",\"\",INDEX(基本情報登録!F:F,MATCH(入力シート!J81,基本情報登録!G:G,0)))","v":""}]
[null,null,null,null,{"$f":"IF(F82=\"\",\"\",INDEX(基本情報登録!F:F,MATCH(入力シート!F82,基本情報登録!G:G,0)))","v":""},null,{"$f":"IF(H82=\"\",\"\",INDEX(基本情報登録!F:F,MATCH(入力シート!H82,基本情報登録!G:G,0)))","v":""},null,{"$f":"IF(J82=\"\",\"\",INDEX(基本情報登録!F:F,MATCH(入力シート!J82,基本情報登録!G:G,0)))","v":""}]
[null,null,null,null,{"$f":"IF(F83=\"\",\"\",INDEX(基本情報登録!F:F,MATCH(入力シート!F83,基本情報登録!G:G,0)))","v":""},null,{"$f":"IF(H83=\"\",\"\",INDEX(基本情報登録!F:F,MATCH(入力シート!H83,基本情報登録!G:G,0)))","v":""},null,{"$f":"IF(J83=\"\",\"\",INDEX(基本情報登録!F:F,MATCH(入力シート!J83,基本情報登録!G:G,0)))","v":""}]
[null,null,null,null,{"$f":"IF(F84=\"\",\"\",INDEX(基本情報登録!F:F,MATCH(入力シート!F84,基本情報登録!G:G,0)))","v":""},null,{"$f":"IF(H84=\"\",\"\",INDEX(基本情報登録!F:F,MATCH(入力シート!H84,基本情報登録!G:G,0)))","v":""},null,{"$f":"IF(J84=\"\",\"\",INDEX(基本情報登録!F:F,MATCH(入力シート!J84,基本情報登録!G:G,0)))","v":""}]
[null,null,null,null,{"$f":"IF(F85=\"\",\"\",INDEX(基本情報登録!F:F,MATCH(入力シート!F85,基本情報登録!G:G,0)))","v":""},null,{"$f":"IF(H85=\"\",\"\",INDEX(基本情報登録!F:F,MATCH(入力シート!H85,基本情報登録!G:G,0)))","v":""},null,{"$f":"IF(J85=\"\",\"\",INDEX(基本情報登録!F:F,MATCH(入力シート!J85,基本情報登録!G:G,0)))","v":""}]
[null,null,null,null,{"$f":"IF(F86=\"\",\"\",INDEX(基本情報登録!F:F,MATCH(入力シート!F86,基本情報登録!G:G,0)))","v":""},null,{"$f":"IF(H86=\"\",\"\",INDEX(基本情報登録!F:F,MATCH(入力シート!H86,基本情報登録!G:G,0)))","v":""},null,{"$f":"IF(J86=\"\",\"\",INDEX(基本情報登録!F:F,MATCH(入力シート!J86,基本情報登録!G:G,0)))","v":""}]
[null,null,null,null,{"$f":"IF(F87=\"\",\"\",INDEX(基本情報登録!F:F,MATCH(入力シート!F87,基本情報登録!G:G,0)))","v":""},null,{"$f":"IF(H87=\"\",\"\",INDEX(基本情報登録!F:F,MATCH(入力シート!H87,基本情報登録!G:G,0)))","v":""},null,{"$f":"IF(J87=\"\",\"\",INDEX(基本情報登録!F:F,MATCH(入力シート!J87,基本情報登録!G:G,0)))","v":""}]
[null,null,null,null,{"$f":"IF(F88=\"\",\"\",INDEX(基本情報登録!F:F,MATCH(入力シート!F88,基本情報登録!G:G,0)))","v":""},null,{"$f":"IF(H88=\"\",\"\",INDEX(基本情報登録!F:F,MATCH(入力シート!H88,基本情報登録!G:G,0)))","v":""},null,{"$f":"IF(J88=\"\",\"\",INDEX(基本情報登録!F:F,MATCH(入力シート!J88,基本情報登録!G:G,0)))","v":""}]
[null,null,null,null,{"$f":"IF(F89=\"\",\"\",INDEX(基本情報登録!F:F,MATCH(入力シート!F89,基本情報登録!G:G,0)))","v":""},null,{"$f":"IF(H89=\"\",\"\",INDEX(基本情報登録!F:F,MATCH(入力シート!H89,基本情報登録!G:G,0)))","v":""},null,{"$f":"IF(J89=\"\",\"\",INDEX(基本情報登録!F:F,MATCH(入力シート!J89,基本情報登録!G:G,0)))","v":""}]
[null,null,null,null,{"$f":"IF(F90=\"\",\"\",INDEX(基本情報登録!F:F,MATCH(入力シート!F90,基本情報登録!G:G,0)))","v":""},null,{"$f":"IF(H90=\"\",\"\",INDEX(基本情報登録!F:F,MATCH(入力シート!H90,基本情報登録!G:G,0)))","v":""},null,{"$f":"IF(J90=\"\",\"\",INDEX(基本情報登録!F:F,MATCH(入力シート!J90,基本情報登録!G:G,0)))","v":""}]
[null,null,null,null,{"$f":"IF(F91=\"\",\"\",INDEX(基本情報登録!F:F,MATCH(入力シート!F91,基本情報登録!G:G,0)))","v":""},null,{"$f":"IF(H91=\"\",\"\",INDEX(基本情報登録!F:F,MATCH(入力シート!H91,基本情報登録!G:G,0)))","v":""},null,{"$f":"IF(J91=\"\",\"\",INDEX(基本情報登録!F:F,MATCH(入力シート!J91,基本情報登録!G:G,0)))","v":""}]
[null,null,null,null,{"$f":"IF(F92=\"\",\"\",INDEX(基本情報登録!F:F,MATCH(入力シート!F92,基本情報登録!G:G,0)))","v":""},null,{"$f":"IF(H92=\"\",\"\",INDEX(基本情報登録!F:F,MATCH(入力シート!H92,基本情報登録!G:G,0)))","v":""},null,{"$f":"IF(J92=\"\",\"\",INDEX(基本情報登録!F:F,MATCH(入力シート!J92,基本情報登録!G:G,0)))","v":""}]
[null,null,null,null,{"$f":"IF(F93=\"\",\"\",INDEX(基本情報登録!F:F,MATCH(入力シート!F93,基本情報登録!G:G,0)))","v":""},null,{"$f":"IF(H93=\"\",\"\",INDEX(基本情報登録!F:F,MATCH(入力シート!H93,基本情報登録!G:G,0)))","v":""},null,{"$f":"IF(J93=\"\",\"\",INDEX(基本情報登録!F:F,MATCH(入力シート!J93,基本情報登録!G:G,0)))","v":""}]
[null,null,null,null,{"$f":"IF(F94=\"\",\"\",INDEX(基本情報登録!F:F,MATCH(入力シート!F94,基本情報登録!G:G,0)))","v":""},null,{"$f":"IF(H94=\"\",\"\",INDEX(基本情報登録!F:F,MATCH(入力シート!H94,基本情報登録!G:G,0)))","v":""},null,{"$f":"IF(J94=\"\",\"\",INDEX(基本情報登録!F:F,MATCH(入力シート!J94,基本情報登録!G:G,0)))","v":""}]
[null,null,null,null,{"$f":"IF(F95=\"\",\"\",INDEX(基本情報登録!F:F,MATCH(入力シート!F95,基本情報登録!G:G,0)))","v":""},null,{"$f":"IF(H95=\"\",\"\",INDEX(基本情報登録!F:F,MATCH(入力シート!H95,基本情報登録!G:G,0)))","v":""},null,{"$f":"IF(J95=\"\",\"\",INDEX(基本情報登録!F:F,MATCH(入力シート!J95,基本情報登録!G:G,0)))","v":""}]
[null,null,null,null,{"$f":"IF(F96=\"\",\"\",INDEX(基本情報登録!F:F,MATCH(入力シート!F96,基本情報登録!G:G,0)))","v":""},null,{"$f":"IF(H96=\"\",\"\",INDEX(基本情報登録!F:F,MATCH(入力シート!H96,基本情報登録!G:G,0)))","v":""},null,{"$f":"IF(J96=\"\",\"\",INDEX(基本情報登録!F:F,MATCH(入力シート!J96,基本情報登録!G:G,0)))","v":""}]
[null,null,null,null,{"$f":"IF(F97=\"\",\"\",INDEX(基本情報登録!F:F,MATCH(入力シート!F97,基本情報登録!G:G,0)))","v":""},null,{"$f":"IF(H97=\"\",\"\",INDEX(基本情報登録!F:F,MATCH(入力シート!H97,基本情報登録!G:G,0)))","v":""},null,{"$f":"IF(J97=\"\",\"\",INDEX(基本情報登録!F:F,MATCH(入力シート!J97,基本情報登録!G:G,0)))","v":""}]
[null,null,null,null,{"$f":"IF(F98=\"\",\"\",INDEX(基本情報登録!F:F,MATCH(入力シート!F98,基本情報登録!G:G,0)))","v":""},null,{"$f":"IF(H98=\"\",\"\",INDEX(基本情報登録!F:F,MATCH(入力シート!H98,基本情報登録!G:G,0)))","v":""},null,{"$f":"IF(J98=\"\",\"\",INDEX(基本情報登録!F:F,MATCH(入力シート!J98,基本情報登録!G:G,0)))","v":""}]
[null,null,null,null,{"$f":"IF(F99=\"\",\"\",INDEX(基本情報登録!F:F,MATCH(入力シート!F99,基本情報登録!G:G,0)))","v":""},null,{"$f":"IF(H99=\"\",\"\",INDEX(基本情報登録!F:F,MATCH(入力シート!H99,基本情報登録!G:G,0)))","v":""},null,{"$f":"IF(J99=\"\",\"\",INDEX(基本情報登録!F:F,MATCH(入力シート!J99,基本情報登録!G:G,0)))","v":""}]
[null,null,null,null,{"$f":"IF(F100=\"\",\"\",INDEX(基本情報登録!F:F,MATCH(入力シート!F100,基本情報登録!G:G,0)))","v":""},null,{"$f":"IF(H100=\"\",\"\",INDEX(基本情報登録!F:F,MATCH(入力シート!H100,基本情報登録!G:G,0)))","v":""},null,{"$f":"IF(J100=\"\",\"\",INDEX(基本情報登録!F:F,MATCH(入力シート!J100,基本情報登録!G:G,0)))","v":""}]
[null,null,null,null,{"$f":"IF(F101=\"\",\"\",INDEX(基本情報登録!F:F,MATCH(入力シート!F101,基本情報登録!G:G,0)))","v":""},null,{"$f":"IF(H101=\"\",\"\",INDEX(基本情報登録!F:F,MATCH(入力シート!H101,基本情報登録!G:G,0)))","v":""},null,{"$f":"IF(J101=\"\",\"\",INDEX(基本情報登録!F:F,MATCH(入力シート!J101,基本情報登録!G:G,0)))","v":""}]
[null,null,null,null,{"$f":"IF(F102=\"\",\"\",INDEX(基本情報登録!F:F,MATCH(入力シート!F102,基本情報登録!G:G,0)))","v":""},null,{"$f":"IF(H102=\"\",\"\",INDEX(基本情報登録!F:F,MATCH(入力シート!H102,基本情報登録!G:G,0)))","v":""},null,{"$f":"IF(J102=\"\",\"\",INDEX(基本情報登録!F:F,MATCH(入力シート!J102,基本情報登録!G:G,0)))","v":""}]
[null,null,null,null,{"$f":"IF(F103=\"\",\"\",INDEX(基本情報登録!F:F,MATCH(入力シート!F103,基本情報登録!G:G,0)))","v":""},null,{"$f":"IF(H103=\"\",\"\",INDEX(基本情報登録!F:F,MATCH(入力シート!H103,基本情報登録!G:G,0)))","v":""},null,{"$f":"IF(J103=\"\",\"\",INDEX(基本情報登録!F:F,MATCH(入力シート!J103,基本情報登録!G:G,0)))","v":""}]
[null,null,null,null,{"$f":"IF(F104=\"\",\"\",INDEX(基本情報登録!F:F,MATCH(入力シート!F104,基本情報登録!G:G,0)))","v":""},null,{"$f":"IF(H104=\"\",\"\",INDEX(基本情報登録!F:F,MATCH(入力シート!H104,基本情報登録!G:G,0)))","v":""},null,{"$f":"IF(J104=\"\",\"\",INDEX(基本情報登録!F:F,MATCH(入力シート!J104,基本情報登録!G:G,0)))","v":""}]
[null,null,null,null,{"$f":"IF(F105=\"\",\"\",INDEX(基本情報登録!F:F,MATCH(入力シート!F105,基本情報登録!G:G,0)))","v":""},null,{"$f":"IF(H105=\"\",\"\",INDEX(基本情報登録!F:F,MATCH(入力シート!H105,基本情報登録!G:G,0)))","v":""},null,{"$f":"IF(J105=\"\",\"\",INDEX(基本情報登録!F:F,MATCH(入力シート!J105,基本情報登録!G:G,0)))","v":""}]
[null,null,null,null,{"$f":"IF(F106=\"\",\"\",INDEX(基本情報登録!F:F,MATCH(入力シート!F106,基本情報登録!G:G,0)))","v":""},null,{"$f":"IF(H106=\"\",\"\",INDEX(基本情報登録!F:F,MATCH(入力シート!H106,基本情報登録!G:G,0)))","v":""},null,{"$f":"IF(J106=\"\",\"\",INDEX(基本情報登録!F:F,MATCH(入力シート!J106,基本情報登録!G:G,0)))","v":""}]
[null,null,null,null,{"$f":"IF(F107=\"\",\"\",INDEX(基本情報登録!F:F,MATCH(入力シート!F107,基本情報登録!G:G,0)))","v":""},null,{"$f":"IF(H107=\"\",\"\",INDEX(基本情報登録!F:F,MATCH(入力シート!H107,基本情報登録!G:G,0)))","v":""},null,{"$f":"IF(J107=\"\",\"\",INDEX(基本情報登録!F:F,MATCH(入力シート!J107,基本情報登録!G:G,0)))","v":""}]
[null,null,null,null,{"$f":"IF(F108=\"\",\"\",INDEX(基本情報登録!F:F,MATCH(入力シート!F108,基本情報登録!G:G,0)))","v":""},null,{"$f":"IF(H108=\"\",\"\",INDEX(基本情報登録!F:F,MATCH(入力シート!H108,基本情報登録!G:G,0)))","v":""},null,{"$f":"IF(J108=\"\",\"\",INDEX(基本情報登録!F:F,MATCH(入力シート!J108,基本情報登録!G:G,0)))","v":""}]
[null,null,null,null,{"$f":"IF(F109=\"\",\"\",INDEX(基本情報登録!F:F,MATCH(入力シート!F109,基本情報登録!G:G,0)))","v":""},null,{"$f":"IF(H109=\"\",\"\",INDEX(基本情報登録!F:F,MATCH(入力シート!H109,基本情報登録!G:G,0)))","v":""},null,{"$f":"IF(J109=\"\",\"\",INDEX(基本情報登録!F:F,MATCH(入力シート!J109,基本情報登録!G:G,0)))","v":""}]
[null,null,null,null,{"$f":"IF(F110=\"\",\"\",INDEX(基本情報登録!F:F,MATCH(入力シート!F110,基本情報登録!G:G,0)))","v":""},null,{"$f":"IF(H110=\"\",\"\",INDEX(基本情報登録!F:F,MATCH(入力シート!H110,基本情報登録!G:G,0)))","v":""},null,{"$f":"IF(J110=\"\",\"\",INDEX(基本情報登録!F:F,MATCH(入力シート!J110,基本情報登録!G:G,0)))","v":""}]
[null,null,null,null,{"$f":"IF(F111=\"\",\"\",INDEX(基本情報登録!F:F,MATCH(入力シート!F111,基本情報登録!G:G,0)))","v":""},null,{"$f":"IF(H111=\"\",\"\",INDEX(基本情報登録!F:F,MATCH(入力シート!H111,基本情報登録!G:G,0)))","v":""},null,{"$f":"IF(J111=\"\",\"\",INDEX(基本情報登録!F:F,MATCH(入力シート!J111,基本情報登録!G:G,0)))","v":""}]
[null,null,null,null,{"$f":"IF(F112=\"\",\"\",INDEX(基本情報登録!F:F,MATCH(入力シート!F112,基本情報登録!G:G,0)))","v":""},null,{"$f":"IF(H112=\"\",\"\",INDEX(基本情報登録!F:F,MATCH(入力シート!H112,基本情報登録!G:G,0)))","v":""},null,{"$f":"IF(J112=\"\",\"\",INDEX(基本情報登録!F:F,MATCH(入力シート!J112,基本情報登録!G:G,0)))","v":""}]
[null,null,null,null,{"$f":"IF(F113=\"\",\"\",INDEX(基本情報登録!F:F,MATCH(入力シート!F113,基本情報登録!G:G,0)))","v":""},null,{"$f":"IF(H113=\"\",\"\",INDEX(基本情報登録!F:F,MATCH(入力シート!H113,基本情報登録!G:G,0)))","v":""},null,{"$f":"IF(J113=\"\",\"\",INDEX(基本情報登録!F:F,MATCH(入力シート!J113,基本情報登録!G:G,0)))","v":""}]
[null,null,null,null,{"$f":"IF(F114=\"\",\"\",INDEX(基本情報登録!F:F,MATCH(入力シート!F114,基本情報登録!G:G,0)))","v":""},null,{"$f":"IF(H114=\"\",\"\",INDEX(基本情報登録!F:F,MATCH(入力シート!H114,基本情報登録!G:G,0)))","v":""},null,{"$f":"IF(J114=\"\",\"\",INDEX(基本情報登録!F:F,MATCH(入力シート!J114,基本情報登録!G:G,0)))","v":""}]
[null,null,null,null,{"$f":"IF(F115=\"\",\"\",INDEX(基本情報登録!F:F,MATCH(入力シート!F115,基本情報登録!G:G,0)))","v":""},null,{"$f":"IF(H115=\"\",\"\",INDEX(基本情報登録!F:F,MATCH(入力シート!H115,基本情報登録!G:G,0)))","v":""},null,{"$f":"IF(J115=\"\",\"\",INDEX(基本情報登録!F:F,MATCH(入力シート!J115,基本情報登録!G:G,0)))","v":""}]
[null,null,null,null,{"$f":"IF(F116=\"\",\"\",INDEX(基本情報登録!F:F,MATCH(入力シート!F116,基本情報登録!G:G,0)))","v":""},null,{"$f":"IF(H116=\"\",\"\",INDEX(基本情報登録!F:F,MATCH(入力シート!H116,基本情報登録!G:G,0)))","v":""},null,{"$f":"IF(J116=\"\",\"\",INDEX(基本情報登録!F:F,MATCH(入力シート!J116,基本情報登録!G:G,0)))","v":""}]
[null,null,null,null,{"$f":"IF(F117=\"\",\"\",INDEX(基本情報登録!F:F,MATCH(入力シート!F117,基本情報登録!G:G,0)))","v":""},null,{"$f":"IF(H117=\"\",\"\",INDEX(基本情報登録!F:F,MATCH(入力シート!H117,基本情報登録!G:G,0)))","v":""},null,{"$f":"IF(J117=\"\",\"\",INDEX(基本情報登録!F:F,MATCH(入力シート!J117,基本情報登録!G:G,0)))","v":""}]
[null,null,null,null,{"$f":"IF(F118=\"\",\"\",INDEX(基本情報登録!F:F,MATCH(入力シート!F118,基本情報登録!G:G,0)))","v":""},null,{"$f":"IF(H118=\"\",\"\",INDEX(基本情報登録!F:F,MATCH(入力シート!H118,基本情報登録!G:G,0)))","v":""},null,{"$f":"IF(J118=\"\",\"\",INDEX(基本情報登録!F:F,MATCH(入力シート!J118,基本情報登録!G:G,0)))","v":""}]
[null,null,null,null,{"$f":"IF(F119=\"\",\"\",INDEX(基本情報登録!F:F,MATCH(入力シート!F119,基本情報登録!G:G,0)))","v":""},null,{"$f":"IF(H119=\"\",\"\",INDEX(基本情報登録!F:F,MATCH(入力シート!H119,基本情報登録!G:G,0)))","v":""},null,{"$f":"IF(J119=\"\",\"\",INDEX(基本情報登録!F:F,MATCH(入力シート!J119,基本情報登録!G:G,0)))","v":""}]
[null,null,null,null,{"$f":"IF(F120=\"\",\"\",INDEX(基本情報登録!F:F,MATCH(入力シート!F120,基本情報登録!G:G,0)))","v":""},null,{"$f":"IF(H120=\"\",\"\",INDEX(基本情報登録!F:F,MATCH(入力シート!H120,基本情報登録!G:G,0)))","v":""},null,{"$f":"IF(J120=\"\",\"\",INDEX(基本情報登録!F:F,MATCH(入力シート!J120,基本情報登録!G:G,0)))","v":""}]
[null,null,null,null,{"$f":"IF(F121=\"\",\"\",INDEX(基本情報登録!F:F,MATCH(入力シート!F121,基本情報登録!G:G,0)))","v":""},null,{"$f":"IF(H121=\"\",\"\",INDEX(基本情報登録!F:F,MATCH(入力シート!H121,基本情報登録!G:G,0)))","v":""},null,{"$f":"IF(J121=\"\",\"\",INDEX(基本情報登録!F:F,MATCH(入力シート!J121,基本情報登録!G:G,0)))","v":""}]
[null,null,null,null,{"$f":"IF(F122=\"\",\"\",INDEX(基本情報登録!F:F,MATCH(入力シート!F122,基本情報登録!G:G,0)))","v":""},null,{"$f":"IF(H122=\"\",\"\",INDEX(基本情報登録!F:F,MATCH(入力シート!H122,基本情報登録!G:G,0)))","v":""},null,{"$f":"IF(J122=\"\",\"\",INDEX(基本情報登録!F:F,MATCH(入力シート!J122,基本情報登録!G:G,0)))","v":""}]
[null,null,null,null,{"$f":"IF(F123=\"\",\"\",INDEX(基本情報登録!F:F,MATCH(入力シート!F123,基本情報登録!G:G,0)))","v":""},null,{"$f":"IF(H123=\"\",\"\",INDEX(基本情報登録!F:F,MATCH(入力シート!H123,基本情報登録!G:G,0)))","v":""},null,{"$f":"IF(J123=\"\",\"\",INDEX(基本情報登録!F:F,MATCH(入力シート!J123,基本情報登録!G:G,0)))","v":""}]
[null,null,null,null,{"$f":"IF(F124=\"\",\"\",INDEX(基本情報登録!F:F,MATCH(入力シート!F124,基本情報登録!G:G,0)))","v":""},null,{"$f":"IF(H124=\"\",\"\",INDEX(基本情報登録!F:F,MATCH(入力シート!H124,基本情報登録!G:G,0)))","v":""},null,{"$f":"IF(J124=\"\",\"\",INDEX(基本情報登録!F:F,MATCH(入力シート!J124,基本情報登録!G:G,0)))","v":""}]
[null,null,null,null,{"$f":"IF(F125=\"\",\"\",INDEX(基本情報登録!F:F,MATCH(入力シート!F125,基本情報登録!G:G,0)))","v":""},null,{"$f":"IF(H125=\"\",\"\",INDEX(基本情報登録!F:F,MATCH(入力シート!H125,基本情報登録!G:G,0)))","v":""},null,{"$f":"IF(J125=\"\",\"\",INDEX(基本情報登録!F:F,MATCH(入力シート!J125,基本情報登録!G:G,0)))","v":""}]
[null,null,null,null,{"$f":"IF(F126=\"\",\"\",INDEX(基本情報登録!F:F,MATCH(入力シート!F126,基本情報登録!G:G,0)))","v":""},null,{"$f":"IF(H126=\"\",\"\",INDEX(基本情報登録!F:F,MATCH(入力シート!H126,基本情報登録!G:G,0)))","v":""},null,{"$f":"IF(J126=\"\",\"\",INDEX(基本情報登録!F:F,MATCH(入力シート!J126,基本情報登録!G:G,0)))","v":""}]
[null,null,null,null,{"$f":"IF(F127=\"\",\"\",INDEX(基本情報登録!F:F,MATCH(入力シート!F127,基本情報登録!G:G,0)))","v":""},null,{"$f":"IF(H127=\"\",\"\",INDEX(基本情報登録!F:F,MATCH(入力シート!H127,基本情報登録!G:G,0)))","v":""},null,{"$f":"IF(J127=\"\",\"\",INDEX(基本情報登録!F:F,MATCH(入力シート!J127,基本情報登録!G:G,0)))","v":""}]
[null,null,null,null,{"$f":"IF(F128=\"\",\"\",INDEX(基本情報登録!F:F,MATCH(入力シート!F128,基本情報登録!G:G,0)))","v":""},null,{"$f":"IF(H128=\"\",\"\",INDEX(基本情報登録!F:F,MATCH(入力シート!H128,基本情報登録!G:G,0)))","v":""},null,{"$f":"IF(J128=\"\",\"\",INDEX(基本情報登録!F:F,MATCH(入力シート!J128,基本情報登録!G:G,0)))","v":""}]
[null,null,null,null,{"$f":"IF(F129=\"\",\"\",INDEX(基本情報登録!F:F,MATCH(入力シート!F129,基本情報登録!G:G,0)))","v":""},null,{"$f":"IF(H129=\"\",\"\",INDEX(基本情報登録!F:F,MATCH(入力シート!H129,基本情報登録!G:G,0)))","v":""},null,{"$f":"IF(J129=\"\",\"\",INDEX(基本情報登録!F:F,MATCH(入力シート!J129,基本情報登録!G:G,0)))","v":""}]
[null,null,null,null,{"$f":"IF(F130=\"\",\"\",INDEX(基本情報登録!F:F,MATCH(入力シート!F130,基本情報登録!G:G,0)))","v":""},null,{"$f":"IF(H130=\"\",\"\",INDEX(基本情報登録!F:F,MATCH(入力シート!H130,基本情報登録!G:G,0)))","v":""},null,{"$f":"IF(J130=\"\",\"\",INDEX(基本情報登録!F:F,MATCH(入力シート!J130,基本情報登録!G:G,0)))","v":""}]
[null,null,null,null,{"$f":"IF(F131=\"\",\"\",INDEX(基本情報登録!F:F,MATCH(入力シート!F131,基本情報登録!G:G,0)))","v":""},null,{"$f":"IF(H131=\"\",\"\",INDEX(基本情報登録!F:F,MATCH(入力シート!H131,基本情報登録!G:G,0)))","v":""},null,{"$f":"IF(J131=\"\",\"\",INDEX(基本情報登録!F:F,MATCH(入力シート!J131,基本情報登録!G:G,0)))","v":""}]
[null,null,null,null,{"$f":"IF(F132=\"\",\"\",INDEX(基本情報登録!F:F,MATCH(入力シート!F132,基本情報登録!G:G,0)))","v":""},null,{"$f":"IF(H132=\"\",\"\",INDEX(基本情報登録!F:F,MATCH(入力シート!H132,基本情報登録!G:G,0)))","v":""},null,{"$f":"IF(J132=\"\",\"\",INDEX(基本情報登録!F:F,MATCH(入力シート!J132,基本情報登録!G:G,0)))","v":""}]
[null,null,null,null,{"$f":"IF(F133=\"\",\"\",INDEX(基本情報登録!F:F,MATCH(入力シート!F133,基本情報登録!G:G,0)))","v":""},null,{"$f":"IF(H133=\"\",\"\",INDEX(基本情報登録!F:F,MATCH(入力シート!H133,基本情報登録!G:G,0)))","v":""},null,{"$f":"IF(J133=\"\",\"\",INDEX(基本情報登録!F:F,MATCH(入力シート!J133,基本情報登録!G:G,0)))","v":""}]
[null,null,null,null,{"$f":"IF(F134=\"\",\"\",INDEX(基本情報登録!F:F,MATCH(入力シート!F134,基本情報登録!G:G,0)))","v":""},null,{"$f":"IF(H134=\"\",\"\",INDEX(基本情報登録!F:F,MATCH(入力シート!H134,基本情報登録!G:G,0)))","v":""},null,{"$f":"IF(J134=\"\",\"\",INDEX(基本情報登録!F:F,MATCH(入力シート!J134,基本情報登録!G:G,0)))","v":""}]
[null,null,null,null,{"$f":"IF(F135=\"\",\"\",INDEX(基本情報登録!F:F,MATCH(入力シート!F135,基本情報登録!G:G,0)))","v":""},null,{"$f":"IF(H135=\"\",\"\",INDEX(基本情報登録!F:F,MATCH(入力シート!H135,基本情報登録!G:G,0)))","v":""},null,{"$f":"IF(J135=\"\",\"\",INDEX(基本情報登録!F:F,MATCH(入力シート!J135,基本情報登録!G:G,0)))","v":""}]
[null,null,null,null,{"$f":"IF(F136=\"\",\"\",INDEX(基本情報登録!F:F,MATCH(入力シート!F136,基本情報登録!G:G,0)))","v":""},null,{"$f":"IF(H136=\"\",\"\",INDEX(基本情報登録!F:F,MATCH(入力シート!H136,基本情報登録!G:G,0)))","v":""},null,{"$f":"IF(J136=\"\",\"\",INDEX(基本情報登録!F:F,MATCH(入力シート!J136,基本情報登録!G:G,0)))","v":""}]
[null,null,null,null,{"$f":"IF(F137=\"\",\"\",INDEX(基本情報登録!F:F,MATCH(入力シート!F137,基本情報登録!G:G,0)))","v":""},null,{"$f":"IF(H137=\"\",\"\",INDEX(基本情報登録!F:F,MATCH(入力シート!H137,基本情報登録!G:G,0)))","v":""},null,{"$f":"IF(J137=\"\",\"\",INDEX(基本情報登録!F:F,MATCH(入力シート!J137,基本情報登録!G:G,0)))","v":""}]
[null,null,null,null,{"$f":"IF(F138=\"\",\"\",INDEX(基本情報登録!F:F,MATCH(入力シート!F138,基本情報登録!G:G,0)))","v":""},null,{"$f":"IF(H138=\"\",\"\",INDEX(基本情報登録!F:F,MATCH(入力シート!H138,基本情報登録!G:G,0)))","v":""},null,{"$f":"IF(J138=\"\",\"\",INDEX(基本情報登録!F:F,MATCH(入力シート!J138,基本情報登録!G:G,0)))","v":""}]
[null,null,null,null,{"$f":"IF(F139=\"\",\"\",INDEX(基本情報登録!F:F,MATCH(入力シート!F139,基本情報登録!G:G,0)))","v":""},null,{"$f":"IF(H139=\"\",\"\",INDEX(基本情報登録!F:F,MATCH(入力シート!H139,基本情報登録!G:G,0)))","v":""},null,{"$f":"IF(J139=\"\",\"\",INDEX(基本情報登録!F:F,MATCH(入力シート!J139,基本情報登録!G:G,0)))","v":""}]
[null,null,null,null,{"$f":"IF(F140=\"\",\"\",INDEX(基本情報登録!F:F,MATCH(入力シート!F140,基本情報登録!G:G,0)))","v":""},null,{"$f":"IF(H140=\"\",\"\",INDEX(基本情報登録!F:F,MATCH(入力シート!H140,基本情報登録!G:G,0)))","v":""},null,{"$f":"IF(J140=\"\",\"\",INDEX(基本情報登録!F:F,MATCH(入力シート!J140,基本情報登録!G:G,0)))","v":""}]
[null,null,null,null,{"$f":"IF(F141=\"\",\"\",INDEX(基本情報登録!F:F,MATCH(入力シート!F141,基本情報登録!G:G,0)))","v":""},null,{"$f":"IF(H141=\"\",\"\",INDEX(基本情報登録!F:F,MATCH(入力シート!H141,基本情報登録!G:G,0)))","v":""},null,{"$f":"IF(J141=\"\",\"\",INDEX(基本情報登録!F:F,MATCH(入力シート!J141,基本情報登録!G:G,0)))","v":""}]
[null,null,null,null,{"$f":"IF(F142=\"\",\"\",INDEX(基本情報登録!F:F,MATCH(入力シート!F142,基本情報登録!G:G,0)))","v":""},null,{"$f":"IF(H142=\"\",\"\",INDEX(基本情報登録!F:F,MATCH(入力シート!H142,基本情報登録!G:G,0)))","v":""},null,{"$f":"IF(J142=\"\",\"\",INDEX(基本情報登録!F:F,MATCH(入力シート!J142,基本情報登録!G:G,0)))","v":""}]
[null,null,null,null,{"$f":"IF(F143=\"\",\"\",INDEX(基本情報登録!F:F,MATCH(入力シート!F143,基本情報登録!G:G,0)))","v":""},null,{"$f":"IF(H143=\"\",\"\",INDEX(基本情報登録!F:F,MATCH(入力シート!H143,基本情報登録!G:G,0)))","v":""},null,{"$f":"IF(J143=\"\",\"\",INDEX(基本情報登録!F:F,MATCH(入力シート!J143,基本情報登録!G:G,0)))","v":""}]
[null,null,null,null,{"$f":"IF(F144=\"\",\"\",INDEX(基本情報登録!F:F,MATCH(入力シート!F144,基本情報登録!G:G,0)))","v":""},null,{"$f":"IF(H144=\"\",\"\",INDEX(基本情報登録!F:F,MATCH(入力シート!H144,基本情報登録!G:G,0)))","v":""},null,{"$f":"IF(J144=\"\",\"\",INDEX(基本情報登録!F:F,MATCH(入力シート!J144,基本情報登録!G:G,0)))","v":""}]
[null,null,null,null,{"$f":"IF(F145=\"\",\"\",INDEX(基本情報登録!F:F,MATCH(入力シート!F145,基本情報登録!G:G,0)))","v":""},null,{"$f":"IF(H145=\"\",\"\",INDEX(基本情報登録!F:F,MATCH(入力シート!H145,基本情報登録!G:G,0)))","v":""},null,{"$f":"IF(J145=\"\",\"\",INDEX(基本情報登録!F:F,MATCH(入力シート!J145,基本情報登録!G:G,0)))","v":""}]
[null,null,null,null,{"$f":"IF(F146=\"\",\"\",INDEX(基本情報登録!F:F,MATCH(入力シート!F146,基本情報登録!G:G,0)))","v":""},null,{"$f":"IF(H146=\"\",\"\",INDEX(基本情報登録!F:F,MATCH(入力シート!H146,基本情報登録!G:G,0)))","v":""},null,{"$f":"IF(J146=\"\",\"\",INDEX(基本情報登録!F:F,MATCH(入力シート!J146,基本情報登録!G:G,0)))","v":""}]
[null,null,null,null,{"$f":"IF(F147=\"\",\"\",INDEX(基本情報登録!F:F,MATCH(入力シート!F147,基本情報登録!G:G,0)))","v":""},null,{"$f":"IF(H147=\"\",\"\",INDEX(基本情報登録!F:F,MATCH(入力シート!H147,基本情報登録!G:G,0)))","v":""},null,{"$f":"IF(J147=\"\",\"\",INDEX(基本情報登録!F:F,MATCH(入力シート!J147,基本情報登録!G:G,0)))","v":""}]
[null,null,null,null,{"$f":"IF(F148=\"\",\"\",INDEX(基本情報登録!F:F,MATCH(入力シート!F148,基本情報登録!G:G,0)))","v":""},null,{"$f":"IF(H148=\"\",\"\",INDEX(基本情報登録!F:F,MATCH(入力シート!H148,基本情報登録!G:G,0)))","v":""},null,{"$f":"IF(J148=\"\",\"\",INDEX(基本情報登録!F:F,MATCH(入力シート!J148,基本情報登録!G:G,0)))","v":""}]
[null,null,null,null,{"$f":"IF(F149=\"\",\"\",INDEX(基本情報登録!F:F,MATCH(入力シート!F149,基本情報登録!G:G,0)))","v":""},null,{"$f":"IF(H149=\"\",\"\",INDEX(基本情報登録!F:F,MATCH(入力シート!H149,基本情報登録!G:G,0)))","v":""},null,{"$f":"IF(J149=\"\",\"\",INDEX(基本情報登録!F:F,MATCH(入力シート!J149,基本情報登録!G:G,0)))","v":""}]
[null,null,null,null,{"$f":"IF(F150=\"\",\"\",INDEX(基本情報登録!F:F,MATCH(入力シート!F150,基本情報登録!G:G,0)))","v":""},null,{"$f":"IF(H150=\"\",\"\",INDEX(基本情報登録!F:F,MATCH(入力シート!H150,基本情報登録!G:G,0)))","v":""},null,{"$f":"IF(J150=\"\",\"\",INDEX(基本情報登録!F:F,MATCH(入力シート!J150,基本情報登録!G:G,0)))","v":""}]
[null,null,null,null,{"$f":"IF(F151=\"\",\"\",INDEX(基本情報登録!F:F,MATCH(入力シート!F151,基本情報登録!G:G,0)))","v":""},null,{"$f":"IF(H151=\"\",\"\",INDEX(基本情報登録!F:F,MATCH(入力シート!H151,基本情報登録!G:G,0)))","v":""},null,{"$f":"IF(J151=\"\",\"\",INDEX(基本情報登録!F:F,MATCH(入力シート!J151,基本情報登録!G:G,0)))","v":""}]
[null,null,null,null,{"$f":"IF(F152=\"\",\"\",INDEX(基本情報登録!F:F,MATCH(入力シート!F152,基本情報登録!G:G,0)))","v":""},null,{"$f":"IF(H152=\"\",\"\",INDEX(基本情報登録!F:F,MATCH(入力シート!H152,基本情報登録!G:G,0)))","v":""},null,{"$f":"IF(J152=\"\",\"\",INDEX(基本情報登録!F:F,MATCH(入力シート!J152,基本情報登録!G:G,0)))","v":""}]

{"sheet":"印刷シート","index":3,"n_rows":62,"n_cols":44,"rows_kept":62,"cut":false,"hidden":false,"merged":[[22,1,23,1],[20,29,20,30],[21,2,21,3],[21,4,21,6],[21,7,21,8],[21,23,21,24],[21,26,21,28],[21,29,21,30],[20,2,20,3],[20,4,20,6],[20,7,20,8],[22,4,23,6],[22,7,23,8],[22,9,23,9],[23,17,23,21],[23,23,23,24],[20,26,20,28],[20,11,25,11],[20,12,21,14],[20,15,21,16],[23,26,25,30],[24,1,26,1],[24,2,26,3],[24,4,26,6],[0,1,0,30],[0,0,40,0],[1,1,1,7],[2,1,2,2],[2,3,2,7],[2,11,2,14],[2,19,2,23],[2,27,2,30],[1,9,1,19],[1,21,1,30],[13,20,14,21],[18,18,18,20],[15,1,16,1],[15,2,16,3],[15,4,16,6],[15,7,16,8],[15,9,16,9],[16,17,16,21],[13,4,13,6],[13,7,13,8],[17,1,19,1],[17,2,19,3],[17,4,19,6],[17,7,19,8],[5,29,5,30],[6,11,11,11],[6,12,7,14],[6,20,7,21],[10,4,12,6],[10,9,12,9],[6,26,6,28],[7,26,7,28],[6,29,6,30],[5,4,5,6],[5,7,5,8],[5,12,5,14],[8,4,9,6],[8,7,9,8],[8,9,9,9],[7,7,7,8],[5,10,26,10],[7,29,7,30],[9,26,11,30],[13,29,13,30],[14,23,14,24],[14,26,14,28],[14,29,14,30],[11,23,11,24],[40,24,40,28],[3,1,3,2],[3,5,3,7],[3,9,3,12],[3,14,3,19],[3,21,3,23],[3,27,3,28],[4,3,4,30],[6,23,6,24],[7,23,7,24],[29,10,29,13],[34,10,34,13],[20,17,21,19],[20,20,21,21],[40,11,40,19],[40,20,40,22],[5,26,5,28],[27,2,27,3],[27,4,27,6],[27,7,27,8],[18,23,18,24],[16,26,18,30],[20,23,20,24],[13,11,18,11],[13,12,14,14],[13,15,14,16],[13,17,14,19],[16,23,16,24],[13,23,13,24],[13,26,13,28],[13,2,13,3],[14,2,14,3],[14,4,14,6],[14,7,14,8],[17,9,19,9],[24,7,26,8],[24,9,26,9],[25,18,25,20],[25,23,25,24],[22,2,23,3],[30,2,30,3],[30,4,30,6],[30,7,30,8],[28,2,28,3],[28,4,28,6],[28,7,28,8],[29,2,29,3],[29,4,29,6],[29,7,29,8],[28,11,28,30],[30,11,33,29],[11,18,11,20],[2,24,2,26],[10,1,12,1],[10,2,12,3],[10,7,12,8],[7,4,7,6],[7,2,7,3],[8,1,9,1],[5,15,5,16],[6,15,7,16],[9,23,9,24],[2,15,2,18],[5,17,5,19],[6,17,7,19],[9,17,9,21],[5,20,5,21],[5,23,5,24],[6,2,6,3],[6,4,6,6],[6,7,6,8],[4,1,4,2],[5,2,5,3],[8,2,9,3]]}
[null,"第４号様式(第９条関係)",null,null,null,null,null,null,null,null,null,null,null,null,null,null,null,null,null,null,null,null,null,null,null,null,null,null,null,null,null,1,"←印刷したい旅行命令番号を入力してください。"]
[null,"旅行命令（依頼）簿",null,null,null,null,null,null,"旅行命令","決裁日　　　　　　年 　月 　日",null,null,null,null,null,null,null,null,null,null,"命令変更","決裁日　　　　    年   月    日"]
[null,"執行機関",null,{"$f":"基本情報登録!B1","v":"伊野中学校"},null,null,null,null,"旅行命令番号",null,null,{"$f":"AF1","v":1},null,null,null,"命令簿作成日",null,null,null,{"$f":"INDEX(入力シート!B:B,MATCH(印刷シート!$AF$1,入力シート!A:A,0))","v":"2020-06-01"},null,null,null,null,"変更簿作成日",null,null,"　　   年   月   日"]
[null,{"$f":"基本情報登録!B2","v":2},null,"年度","款",null,null,null,"項",null,null,null,null,"目",null,null,null,null,null,null,"節","09　旅費",null,null,"略科目コード"]
[null,"用務",null,{"$f":"INDEX(入力シート!C:C,MATCH(印刷シート!$AF$1,入力シート!A:A,0))&\"　（\"&INDEX(入力シート!D:D,MATCH(印刷シート!$AF$1,入力シート!A:A,0))&\"）\"","v":"テスト　（テスト2）"}]
[null,"月日","出発地",null,"経路",null,null,"到着地",null,"泊数","受命者","№","所属（住所）",null,null,"職名",null,"氏名",null,null,"種別",null,"旅費額","減額",null,null,"支給済額",null,null,"差引支給額"]
[null,null,null,null,null,null,null,null,null,null,null,1,{"$f":"基本情報登録!B1","v":"伊野中学校"},null,null,{"$f":"INDEX(基本情報登録!F:F,MATCH(R7,基本情報登録!G:G,0))","v":"校長"},null,{"$f":"INDEX(入力シート!F:F,MATCH(印刷シート!$AF$1,入力シート!A:A,0))","v":"○○　○○"}]
[null,{"$f":"IF(INDEX(入力シート!AA:AA,MATCH(印刷シート!$AF$1,入力シート!A:A,0))=\"\",\"\",INDEX(入力シート!AA:AA,MATCH(印刷シート!$AF$1,入力シート!A:A,0)))","v":"6/1"},{"$f":"IF(INDEX(入力シート!AB:AB,MATCH(印刷シート!$AF$1,入力シート!A:A,0))=\"\",\"\",INDEX(入力シート!AB:AB,MATCH(印刷シート!$AF$1,入力シート!A:A,0)))","v":"学校"},null,{"$f":"IF(INDEX(入力シート!AC:AC,MATCH(印刷シート!$AF$1,入力シート!A:A,0))=\"\",\"\",INDEX(入力シート!AC:AC,MATCH(印刷シート!$AF$1,入力シート!A:A,0)))","v":""},null,null,{"$f":"IF(INDEX(入力シート!AD:AD,MATCH(印刷シート!$AF$1,入力シート!A:A,0))=\"\",\"\",INDEX(入力シート!AD:AD,MATCH(印刷シート!$AF$1,入力シート!A:A,0)))","v":"自宅"},null,{"$f":"IF(INDEX(入力シート!AE:AE,MATCH(印刷シート!$AF$1,入力シート!A:A,0))=0,\"\",INDEX(入力シート!AE:AE,MATCH(印刷シート!$AF$1,入力シート!A:A,0)))","v":"1"},null,null,null,null,null,null,null,null,null,null,null,null,null,null,null,null,null,null,null,null,null,null,null,null,"自家用車使用申出"]
[]
[null,null,null,null,null,null,null,null,null,null,null,null,"出発地",null,"公署","・","自宅","自宅住所",null,null,null,null,"自家用車","使用申出",null,null,"摘要",null,null,null,null,null,{"$f":"INDEX(入力シート!K:K,MATCH(印刷シート!$AF$1,入力シート!A:A,0))","v":"公署"},{"$f":"IF(AG10=\"自宅\",1,0)","v":0},{"$f":"INDEX(入力シート!BO:BO,MATCH(印刷シート!$AF$1,入力シート!A:A,0))","v":"使用"}]
[null,{"$f":"IF(INDEX(入力シート!AF:AF,MATCH(印刷シート!$AF$1,入力シート!A:A,0))=\"\",\"\",INDEX(入力シート!AF:AF,MATCH(印刷シート!$AF$1,入力シート!A:A,0)))","v":""},{"$f":"IF(INDEX(入力シート!AG:AG,MATCH(印刷シート!$AF$1,入力シート!A:A,0))=\"\",\"\",INDEX(入力シート!AG:AG,MATCH(印刷シート!$AF$1,入力シート!A:A,0)))","v":""},null,{"$f":"IF(INDEX(入力シート!AH:AH,MATCH(印刷シート!$AF$1,入力シート!A:A,0))=\"\",\"\",INDEX(入力シート!AH:AH,MATCH(印刷シート!$AF$1,入力シート!A:A,0)))","v":""},null,null,{"$f":"IF(INDEX(入力シート!AI:AI,MATCH(印刷シート!$AF$1,入力シート!A:A,0))=\"\",\"\",INDEX(入力シート!AI:AI,MATCH(印刷シート!$AF$1,入力シート!A:A,0)))","v":""},null,{"$f":"IF(INDEX(入力シート!AJ:AJ,MATCH(印刷シート!$AF$1,入力シート!A:A,0))=0,\"\",INDEX(入力シート!AJ:AJ,MATCH(印刷シート!$AF$1,入力シート!A:A,0)))","v":""}]
[null,null,null,null,null,null,null,null,null,null,null,null,"帰着地",null,"公署","・","自宅","(",{"$f":"IF(AH10+AH12>0,INDEX(基本情報登録!H:H,MATCH(印刷シート!R7,基本情報登録!G:G,0)),\"\")","v":"高知市本町"},null,null,")",null,"同乗",null,null,null,null,null,null,null,null,{"$f":"INDEX(入力シート!L:L,MATCH(印刷シート!$AF$1,入力シート!A:A,0))","v":"自宅"},{"$f":"IF(AG12=\"自宅\",1,0)","v":1},{"$f":"INDEX(入力シート!BP:BP,MATCH(印刷シート!$AF$1,入力シート!A:A,0))","v":0}]
[]
[null,null,null,null,null,null,null,null,null,null,null,2,{"$f":"IF(R14=\"\",\"\",基本情報登録!B1)","v":""},null,null,{"$f":"IF(R14=\"\",\"\",INDEX(基本情報登録!F:F,MATCH(R14,基本情報登録!G:G,0)))","v":""},null,{"$f":"IF(INDEX(入力シート!H:H,MATCH(印刷シート!$AF$1,入力シート!A:A,0))=\"\",\"\",INDEX(入力シート!H:H,MATCH(印刷シート!$AF$1,入力シート!A:A,0)))","v":""}]
[null,{"$f":"IF(INDEX(入力シート!AK:AK,MATCH(印刷シート!$AF$1,入力シート!A:A,0))=\"\",\"\",INDEX(入力シート!AK:AK,MATCH(印刷シート!$AF$1,入力シート!A:A,0)))","v":""},{"$f":"IF(INDEX(入力シート!AL:AL,MATCH(印刷シート!$AF$1,入力シート!A:A,0))=\"\",\"\",INDEX(入力シート!AL:AL,MATCH(印刷シート!$AF$1,入力シート!A:A,0)))","v":""},null,{"$f":"IF(INDEX(入力シート!AM:AM,MATCH(印刷シート!$AF$1,入力シート!A:A,0))=\"\",\"\",INDEX(入力シート!AM:AM,MATCH(印刷シート!$AF$1,入力シート!A:A,0)))","v":""},null,null,{"$f":"IF(INDEX(入力シート!AN:AN,MATCH(印刷シート!$AF$1,入力シート!A:A,0))=\"\",\"\",INDEX(入力シート!AN:AN,MATCH(印刷シート!$AF$1,入力シート!A:A,0)))","v":""},null,{"$f":"IF(INDEX(入力シート!AO:AO,MATCH(印刷シート!$AF$1,入力シート!A:A,0))=0,\"\",INDEX(入力シート!AO:AO,MATCH(印刷シート!$AF$1,入力シート!A:A,0)))","v":""}]
[]
[null,null,null,null,null,null,null,null,null,null,null,null,"出発地",null,"公署","・","自宅","自宅住所",null,null,null,null,"自家用車","使用申出",null,null,"摘要",null,null,null,null,null,{"$f":"IF(R14=\"\",\"\",INDEX(入力シート!K:K,MATCH(印刷シート!$AF$1,入力シート!A:A,0)))","v":""},{"$f":"IF(R14=\"\",\"\",IF(AG17=\"自宅\",1,0))","v":""},{"$f":"INDEX(入力シート!BQ:BQ,MATCH(印刷シート!$AF$1,入力シート!A:A,0))","v":0}]
[null,{"$f":"IF(INDEX(入力シート!AP:AP,MATCH(印刷シート!$AF$1,入力シート!A:A,0))=\"\",\"\",INDEX(入力シート!AP:AP,MATCH(印刷シート!$AF$1,入力シート!A:A,0)))","v":""},{"$f":"IF(INDEX(入力シート!AQ:AQ,MATCH(印刷シート!$AF$1,入力シート!A:A,0))=\"\",\"\",INDEX(入力シート!AQ:AQ,MATCH(印刷シート!$AF$1,入力シート!A:A,0)))","v":""},null,{"$f":"IF(INDEX(入力シート!AR:AR,MATCH(印刷シート!$AF$1,入力シート!A:A,0))=\"\",\"\",INDEX(入力シート!AR:AR,MATCH(印刷シート!$AF$1,入力シート!A:A,0)))","v":""},null,null,{"$f":"IF(INDEX(入力シート!AS:AS,MATCH(印刷シート!$AF$1,入力シート!A:A,0))=\"\",\"\",INDEX(入力シート!AS:AS,MATCH(印刷シート!$AF$1,入力シート!A:A,0)))","v":""},null,{"$f":"IF(INDEX(入力シート!AT:AT,MATCH(印刷シート!$AF$1,入力シート!A:A,0))=0,\"\",INDEX(入力シート!AT:AT,MATCH(印刷シート!$AF$1,入力シート!A:A,0)))","v":""}]
[null,null,null,null,null,null,null,null,null,null,null,null,"帰着地",null,"公署","・","自宅","(",{"$f":"IFERROR(IF(AH10+AH12>0,INDEX(基本情報登録!H:H,MATCH(印刷シート!R14,基本情報登録!G:G,0)),\"\"),\"\")","v":""},null,null,")",null,"同乗",null,null,null,null,null,null,null,null,{"$f":"IF(R14=\"\",\"\",INDEX(入力シート!L:L,MATCH(印刷シート!$AF$1,入力シート!A:A,0)))","v":""},{"$f":"IF(R14=\"\",\"\",IF(AG19=\"自宅\",1,0))","v":""},{"$f":"INDEX(入力シート!BR:BR,MATCH(印刷シート!$AF$1,入力シート!A:A,0))","v":0}]
[]
[null,null,null,null,null,null,null,null,null,null,null,3,{"$f":"IF(R21=\"\",\"\",基本情報登録!B1)","v":""},null,null,{"$f":"IF(R21=\"\",\"\",INDEX(基本情報登録!F:F,MATCH(R21,基本情報登録!G:G,0)))","v":""},null,{"$f":"IF(INDEX(入力シート!J:J,MATCH(印刷シート!$AF$1,入力シート!A:A,0))=\"\",\"\",INDEX(入力シート!J:J,MATCH(印刷シート!$AF$1,入力シート!A:A,0)))","v":""}]
[null,{"$f":"IF(INDEX(入力シート!AU:AU,MATCH(印刷シート!$AF$1,入力シート!A:A,0))=\"\",\"\",INDEX(入力シート!AU:AU,MATCH(印刷シート!$AF$1,入力シート!A:A,0)))","v":""},{"$f":"IF(INDEX(入力シート!AV:AV,MATCH(印刷シート!$AF$1,入力シート!A:A,0))=\"\",\"\",INDEX(入力シート!AV:AV,MATCH(印刷シート!$AF$1,入力シート!A:A,0)))","v":""},null,{"$f":"IF(INDEX(入力シート!AW:AW,MATCH(印刷シート!$AF$1,入力シート!A:A,0))=\"\",\"\",INDEX(入力シート!AW:AW,MATCH(印刷シート!$AF$1,入力シート!A:A,0)))","v":""},null,null,{"$f":"IF(INDEX(入力シート!AX:AX,MATCH(印刷シート!$AF$1,入力シート!A:A,0))=\"\",\"\",INDEX(入力シート!AX:AX,MATCH(印刷シート!$AF$1,入力シート!A:A,0)))","v":""},null,{"$f":"IF(INDEX(入力シート!AY:AY,MATCH(印刷シート!$AF$1,入力シート!A:A,0))=0,\"\",INDEX(入力シート!AY:AY,MATCH(印刷シート!$AF$1,入力シート!A:A,0)))","v":""}]
[]
[null,null,null,null,null,null,null,null,null,null,null,null,"出発地",null,"公署","・","自宅","自宅住所",null,null,null,null,"自家用車","使用申出",null,null,"摘要",null,null,null,null,null,{"$f":"IF(R21=\"\",\"\",INDEX(入力シート!K:K,MATCH(印刷シート!$AF$1,入力シート!A:A,0)))","v":""},{"$f":"IF(R21=\"\",\"\",IF(AG24=\"自宅\",1,0))","v":""},{"$f":"INDEX(入力シート!BS:BS,MATCH(印刷シート!$AF$1,入力シート!A:A,0))","v":0}]
[null,{"$f":"IF(INDEX(入力シート!AZ:AZ,MATCH(印刷シート!$AF$1,入力シート!A:A,0))=\"\",\"\",INDEX(入力シート!AZ:AZ,MATCH(印刷シート!$AF$1,入力シート!A:A,0)))","v":""},{"$f":"IF(INDEX(入力シート!BA:BA,MATCH(印刷シート!$AF$1,入力シート!A:A,0))=\"\",\"\",INDEX(入力シート!BA:BA,MATCH(印刷シート!$AF$1,入力シート!A:A,0)))","v":""},null,{"$f":"IF(INDEX(入力シート!BB:BB,MATCH(印刷シート!$AF$1,入力シート!A:A,0))=\"\",\"\",INDEX(入力シート!BB:BB,MATCH(印刷シート!$AF$1,入力シート!A:A,0)))","v":""},null,null,{"$f":"IF(INDEX(入力シート!BC:BC,MATCH(印刷シート!$AF$1,入力シート!A:A,0))=\"\",\"\",INDEX(入力シート!BC:BC,MATCH(印刷シート!$AF$1,入力シート!A:A,0)))","v":""},null,{"$f":"IF(INDEX(入力シート!BD:BD,MATCH(印刷シート!$AF$1,入力シート!A:A,0))=0,\"\",INDEX(入力シート!BD:BD,MATCH(印刷シート!$AF$1,入力シート!A:A,0)))","v":""}]
[null,null,null,null,null,null,null,null,null,null,null,null,"帰着地",null,"公署","・","自宅","(",{"$f":"IFERROR(IF(AH10+AH12>0,INDEX(基本情報登録!H:H,MATCH(印刷シート!R21,基本情報登録!G:G,0)),\"\"),\"\")","v":""},null,null,")",null,"同乗",null,null,null,null,null,null,null,null,{"$f":"IF(R21=\"\",\"\",INDEX(入力シート!L:L,MATCH(印刷シート!$AF$1,入力シート!A:A,0)))","v":""},{"$f":"IF(R21=\"\",\"\",IF(AG26=\"自宅\",1,0))","v":""},{"$f":"INDEX(入力シート!BT:BT,MATCH(印刷シート!$AF$1,入力シート!A:A,0))","v":0}]
[]
[null,null,null,null,null,null,null,null,null,null,"摘要"]
[null,{"$f":"IF(INDEX(入力シート!BE:BE,MATCH(印刷シート!$AF$1,入力シート!A:A,0))=\"\",\"\",INDEX(入力シート!BE:BE,MATCH(印刷シート!$AF$1,入力シート!A:A,0)))","v":""},{"$f":"IF(INDEX(入力シート!BF:BF,MATCH(印刷シート!$AF$1,入力シート!A:A,0))=\"\",\"\",INDEX(入力シート!BF:BF,MATCH(印刷シート!$AF$1,入力シート!A:A,0)))","v":""},null,{"$f":"IF(INDEX(入力シート!BG:BG,MATCH(印刷シート!$AF$1,入力シート!A:A,0))=\"\",\"\",INDEX(入力シート!BG:BG,MATCH(印刷シート!$AF$1,入力シート!A:A,0)))","v":""},null,null,{"$f":"IF(INDEX(入力シート!BH:BH,MATCH(印刷シート!$AF$1,入力シート!A:A,0))=\"\",\"\",INDEX(入力シート!BH:BH,MATCH(印刷シート!$AF$1,入力シート!A:A,0)))","v":""},null,{"$f":"IF(INDEX(入力シート!BI:BI,MATCH(印刷シート!$AF$1,入力シート!A:A,0))=0,\"\",INDEX(入力シート!BI:BI,MATCH(印刷シート!$AF$1,入力シート!A:A,0)))","v":""},null,{"$f":"\"旅費については、\"&INDEX(入力シート!Z:Z,MATCH(印刷シート!$AF$1,入力シート!A:A,0))&\"から支給\"","v":"旅費については、から支給"}]
[null,null,null,null,null,null,null,null,null,null,"（特別承認等）"]
[null,{"$f":"IF(INDEX(入力シート!BJ:BJ,MATCH(印刷シート!$AF$1,入力シート!A:A,0))=\"\",\"\",INDEX(入力シート!BJ:BJ,MATCH(印刷シート!$AF$1,入力シート!A:A,0)))","v":""},{"$f":"IF(INDEX(入力シート!BK:BK,MATCH(印刷シート!$AF$1,入力シート!A:A,0))=\"\",\"\",INDEX(入力シート!BK:BK,MATCH(印刷シート!$AF$1,入力シート!A:A,0)))","v":""},null,{"$f":"IF(INDEX(入力シート!BL:BL,MATCH(印刷シート!$AF$1,入力シート!A:A,0))=\"\",\"\",INDEX(入力シート!BL:BL,MATCH(印刷シート!$AF$1,入力シート!A:A,0)))","v":""},null,null,{"$f":"IF(INDEX(入力シート!BM:BM,MATCH(印刷シート!$AF$1,入力シート!A:A,0))=\"\",\"\",INDEX(入力シート!BM:BM,MATCH(印刷シート!$AF$1,入力シート!A:A,0)))","v":""},null,{"$f":"IF(INDEX(入力シート!BN:BN,MATCH(印刷シート!$AF$1,入力シート!A:A,0))=0,\"\",INDEX(入力シート!BN:BN,MATCH(印刷シート!$AF$1,入力シート!A:A,0)))","v":""},null,{"$f":"IF(INDEX(入力シート!BU:BU,MATCH(印刷シート!$AF$1,入力シート!A:A,0))=\"\",\"\",INDEX(入力シート!BU:BU,MATCH(印刷シート!$AF$1,入力シート!A:A,0)))","v":""}]
[null,"利用交通機関"]
[]
[]
[null,null,null,null,null,null,null,null,null,null,"（変更理由）"]
[]
[]
[]
[]
[]
[null,null,null,null,null,null,null,null,null,null,null,"\n\n\n旅費別途支給（○×△市教委から）",null,null,null,null,null,null,null,null,"\n　□概算",null,null,"旅行\n完結","\n年　月　日",null,null,null,null,"精算\n完結"]
[]
[null,null,null,null,null,null,null,null,null,null,null,null,null,null,null,null,null,null,null,null,null,null,null,null,null,null,null,null,null,null,null,null,null,1,{"$f":"INDEX(入力シート!M:M,MATCH(印刷シート!$AF$1,入力シート!A:A,0))","v":0},1,null,"公用車",null,null,null,8,null,"船舶"]
[]
[null,null,null,null,null,null,null,null,null,null,null,null,null,null,null,null,null,null,null,null,null,null,null,null,null,null,null,null,null,null,null,null,null,2,{"$f":"INDEX(入力シート!N:N,MATCH(印刷シート!$AF$1,入力シート!A:A,0))","v":0},2,null,"借上車",null,null,null,9,null,"航空機"]
[]
[null,null,null,null,null,null,null,null,null,null,null,null,null,null,null,null,null,null,null,null,null,null,null,null,null,null,null,null,null,null,null,null,null,3,{"$f":"INDEX(入力シート!O:O,MATCH(印刷シート!$AF$1,入力シート!A:A,0))","v":1},3,null,"自家用車","・","同乗",null,10,null,"モノレール"]
[]
[null,null,null,null,null,null,null,null,null,null,null,null,null,null,null,null,null,null,null,null,null,null,null,null,null,null,null,null,null,null,null,null,null,4,{"$f":"INDEX(入力シート!P:P,MATCH(印刷シート!$AF$1,入力シート!A:A,0))","v":0},4,null,"乗合バス",null,null,null,11,null,"空港連絡バス"]
[]
[null,null,null,null,null,null,null,null,null,null,null,null,null,null,null,null,null,null,null,null,null,null,null,null,null,null,null,null,null,null,null,null,null,5,{"$f":"INDEX(入力シート!Q:Q,MATCH(印刷シート!$AF$1,入力シート!A:A,0))","v":0},5,null,"高速バス",null,null,null,12,null,"その他"]
[]
[null,null,null,null,null,null,null,null,null,null,null,null,null,null,null,null,null,null,null,null,null,null,null,null,null,null,null,null,null,null,null,null,null,6,{"$f":"INDEX(入力シート!R:R,MATCH(印刷シート!$AF$1,入力シート!A:A,0))","v":0},6,null,"電車",null,null,null,null,null,{"$f":"IF(AI62=1,\"(\"&AI61&\")\",\"（　　　　　）\")","v":"（　　　　　）"}]
[]
[null,null,null,null,null,null,null,null,null,null,null,null,null,null,null,null,null,null,null,null,null,null,null,null,null,null,null,null,null,null,null,null,null,7,{"$f":"INDEX(入力シート!S:S,MATCH(印刷シート!$AF$1,入力シート!A:A,0))","v":0},7,null,"鉄道"]
[null,null,null,null,null,null,null,null,null,null,null,null,null,null,null,null,null,null,null,null,null,null,null,null,null,null,null,null,null,null,null,null,null,8,{"$f":"INDEX(入力シート!T:T,MATCH(印刷シート!$AF$1,入力シート!A:A,0))","v":0}]
[null,null,null,null,null,null,null,null,null,null,null,null,null,null,null,null,null,null,null,null,null,null,null,null,null,null,null,null,null,null,null,null,null,9,{"$f":"INDEX(入力シート!U:U,MATCH(印刷シート!$AF$1,入力シート!A:A,0))","v":0}]
[null,null,null,null,null,null,null,null,null,null,null,null,null,null,null,null,null,null,null,null,null,null,null,null,null,null,null,null,null,null,null,null,null,10,{"$f":"INDEX(入力シート!V:V,MATCH(印刷シート!$AF$1,入力シート!A:A,0))","v":0}]
[null,null,null,null,null,null,null,null,null,null,null,null,null,null,null,null,null,null,null,null,null,null,null,null,null,null,null,null,null,null,null,null,null,11,{"$f":"INDEX(入力シート!W:W,MATCH(印刷シート!$AF$1,入力シート!A:A,0))","v":0}]
[null,null,null,null,null,null,null,null,null,null,null,null,null,null,null,null,null,null,null,null,null,null,null,null,null,null,null,null,null,null,null,null,null,12,{"$f":"INDEX(入力シート!X:X,MATCH(印刷シート!$AF$1,入力シート!A:A,0))","v":0}]
[null,null,null,null,null,null,null,null,null,null,null,null,null,null,null,null,null,null,null,null,null,null,null,null,null,null,null,null,null,null,null,null,null,13,{"$f":"INDEX(入力シート!Y:Y,MATCH(印刷シート!$AF$1,入力シート!A:A,0))","v":""}]
[null,null,null,null,null,null,null,null,null,null,null,null,null,null,null,null,null,null,null,null,null,null,null,null,null,null,null,null,null,null,null,null,null,null,{"$f":"IF(AI61=\"\",0,(IF(AI61=0,0,1)))","v":0}]

{"sheet":"記入上の注意点","index":4,"n_rows":31,"n_cols":27,"rows_kept":31,"cut":false,"hidden":false,"merged":[[1,0,30,0],[0,0,0,27],[2,1,2,7],[3,1,3,2],[3,3,3,7],[3,11,3,14],[3,17,3,21],[3,24,3,27],[2,9,2,17],[2,19,2,27],[1,1,1,27],[5,1,5,2],[6,2,6,3],[6,4,6,6],[6,7,6,8],[6,10,18,10],[6,12,6,14],[8,2,8,3],[8,4,8,6],[8,7,8,8],[10,2,10,3],[7,2,7,3],[9,2,9,3],[7,4,7,6],[7,7,7,8],[9,4,9,6],[9,7,9,8],[7,11,10,11],[7,12,8,14],[10,4,10,6],[10,7,10,8],[30,11,30,17],[30,18,30,20],[30,22,30,25],[11,11,14,11],[15,11,18,11],[21,10,21,13],[25,10,25,13],[11,21,11,22],[12,21,12,22],[11,23,11,25],[15,12,15,14],[16,12,16,14],[4,5,4,7],[4,9,4,12],[4,14,4,17],[5,3,5,27],[4,19,4,21],[4,24,4,25],[6,23,6,25],[7,21,7,22],[6,26,6,27],[13,23,14,27],[7,26,7,27],[8,26,8,27],[11,26,11,27],[12,23,12,25],[12,26,12,27],[9,23,10,27],[7,23,7,25],[8,23,8,25],[6,16,6,17],[6,18,6,19],[7,15,8,15],[7,16,8,17],[6,21,6,22]]}
["　　記入上の注意点"]
[null,"第４号様式(第９条関係)"]
[null,"旅行命令（依頼）簿",null,null,null,null,null,null,"旅行命令","決裁日　　　　平成　27年 １月 13 日",null,null,null,null,null,null,null,null,"命令変更","決裁日　　平成    年   月    日"]
[null,"執行機関",null,"○○○学校",null,null,null,null,"旅行命令番号",null,null,"別途○",null,null,null,"命令簿作成日",null,"2015-01-13",null,null,null,null,"変更簿作成日",null,"　　   年   月   日"]
[null,"平成２６",null,"年度","款",null,null,null,"項",null,null,null,null,"目",null,null,null,null,"節","09　旅費",null,null,"略科目コード"]
[null,"用務",null,"○×△市学力向上推進事業に係る視察研修への出席　　　　　　　（　於：品川区教育委員会、荒川区立諏訪台中学校）"]
[null,"月日","出発地",null,"経路",null,null,"到着地",null,"泊数","受命者","Ｎo．","所属（住所）",null,null,"職名","氏名",null,"種別",null,"旅費額","減額",null,"支給済額",null,null,"差引支給額"]
[null,null,null,null,null,null,null,null,null,null,null,1,"○○○学校",null,null,"教諭","高知 太郎"]
[null,"2015-01-22","自宅",null,"東京都品川区",null,null,"東京都港区",null,1]
[null,null,null,null,null,null,null,null,null,null,null,null,"出発地　公署・自宅　　　自宅住所",null,null,null,null,null,null,null,"自家用車","使用申出",null,"摘要"]
[null,"2015-01-23","東京都港区",null,"東京都荒川区",null,null,"学校",null,null,null,null,"帰着地　公署・自宅　（高知市神田）",null,null,null,null,null,null,null,null,"同乗"]
[null,null,null,null,null,null,null,null,null,null,null,2]
[]
[null,null,null,null,null,null,null,null,null,null,null,null,"出発地　公署・自宅　　　自宅住所",null,null,null,null,null,null,null,"自家用車","使用申出",null,"摘要"]
[null,null,null,null,null,null,null,null,null,null,null,null,"帰着地　公署・自宅　（　　　　　）",null,null,null,null,null,null,null,null,"同乗"]
[null,null,null,null,null,null,null,null,null,null,null,3]
[]
[null,null,null,null,null,null,null,null,null,null,null,null,"出発地　公署・自宅　　　自宅住所",null,null,null,null,null,null,null,"自家用車","使用申出",null,"摘要"]
[null,null,null,null,null,null,null,null,null,null,null,null,"帰着地　公署・自宅　（　　　　　）",null,null,null,null,null,null,null,null,"同乗"]
[null,null,null,null,null,null,null,null,null,null,"摘要",null,"旅費は○○○○○○から全額支給"]
[]
[null,null,null,null,null,null,null,null,null,null,"（特別承認等）"]
[]
[null,"利用交通機関"]
[null,"１　公用車",null,null,null,null,"８　船舶"]
[null,"２　借上車",null,null,null,null,"９　航空機",null,null,null,"（変更理由）"]
[null,"３　自家用車・同乗",null,null,null,null,"10　モノレール"]
[null,"４　乗合バス",null,null,null,null,"11　空港連絡バス"]
[null,"５　高速バス",null,null,null,null,"12　その他"]
[null,"６　電車",null,null,null,null,"　（　　　　　）","　　　　　）"]
[null,"７　鉄道",null,null,null,null,null,null,null,null,null,"\n\n\n旅費別途支給（○×△市教委から）",null,null,null,null,null,null,"\n　□概算",null,null,"旅行\n完結","\n平成27年１月26日",null,null,null,"精算\n完結"]

{"sheet":"記入例日帰り","index":5,"n_rows":31,"n_cols":27,"rows_kept":31,"cut":false,"hidden":false,"merged":[[25,10,25,13],[30,11,30,17],[30,18,30,20],[30,22,30,25],[21,2,21,3],[21,4,21,6],[21,7,21,8],[21,10,21,13],[22,2,22,3],[22,4,22,6],[17,23,18,27],[18,2,18,3],[18,4,18,6],[18,7,18,8],[15,16,16,17],[15,18,16,19],[22,7,22,8],[19,2,19,3],[19,4,19,6],[19,7,19,8],[20,2,20,3],[20,4,20,6],[20,7,20,8],[15,7,15,8],[15,11,18,11],[15,12,16,14],[15,15,16,15],[16,2,16,3],[16,4,16,6],[16,7,16,8],[16,21,16,22],[16,23,16,25],[16,26,16,27],[17,2,17,3],[12,26,12,27],[13,2,13,3],[13,4,13,6],[13,7,13,8],[13,23,14,27],[14,2,14,3],[15,21,15,22],[15,23,15,25],[15,26,15,27],[15,2,15,3],[15,4,15,6],[17,4,17,6],[17,7,17,8],[9,23,10,27],[10,2,10,3],[10,4,10,6],[10,7,10,8],[11,26,11,27],[12,2,12,3],[12,4,12,6],[12,7,12,8],[12,21,12,22],[12,23,12,25],[11,2,11,3],[11,4,11,6],[11,7,11,8],[11,11,14,11],[14,4,14,6],[14,7,14,8],[11,16,12,17],[11,18,12,19],[11,21,11,22],[11,23,11,25],[11,12,12,14],[11,15,12,15],[6,18,6,19],[6,21,6,22],[6,23,6,25],[6,26,6,27],[7,2,7,3],[7,4,7,6],[7,7,7,8],[7,11,10,11],[7,12,8,14],[7,15,8,15],[7,16,8,17],[7,18,8,19],[7,21,7,22],[7,23,7,25],[7,26,7,27],[8,2,8,3],[8,4,8,6],[8,7,8,8],[8,21,8,22],[8,23,8,25],[8,26,8,27],[9,2,9,3],[9,4,9,6],[9,7,9,8],[0,0,0,27],[1,0,30,0],[1,1,1,27],[2,1,2,7],[2,9,2,17],[2,19,2,27],[3,1,3,2],[3,3,3,7],[3,11,3,14],[3,17,3,21],[3,24,3,27],[4,5,4,7],[4,9,4,12],[4,14,4,17],[4,19,4,21],[4,24,4,25],[5,1,5,2],[5,3,5,27],[6,2,6,3],[6,4,6,6],[6,7,6,8],[6,10,18,10],[6,12,6,14],[6,16,6,17]]}
["　　記入例①　\n　　公署発自宅着の日帰り出張の場合"]
[null,"第４号様式(第９条関係)"]
[null,"旅行命令（依頼）簿",null,null,null,null,null,null,"旅行命令","決裁日　　平成２７年 １月 ２６ 日",null,null,null,null,null,null,null,null,"命令変更","決裁日　　平成    年   月    日"]
[null,"執行機関",null,"○○○学校",null,null,null,null,"旅行命令番号",null,null,"別途○",null,null,null,"命令簿作成日",null,"平成27年　１月26日",null,null,null,null,"変更簿作成日",null,"　　   年   月   日"]
[null,"平成２６",null,"年度","款",null,null,null,"項",null,null,null,null,"目",null,null,null,null,"節","09　旅費",null,null,"略科目コード"]
[null,"用務",null,"第3回○×△連絡協議会出席　　　　　　　　（於：高知会館）"]
[null,"月日","出発地",null,"経路",null,null,"到着地",null,"泊数","受命者","Ｎo．","所属（住所）",null,null,"職名","氏名",null,"種別",null,"旅費額","減額",null,"支給済額",null,null,"差引支給額"]
[null,null,null,null,null,null,null,null,null,null,null,1,"○○○学校",null,null,"教諭","高知 太郎"]
[null,"2015-02-02","学校",null,"高知市本町",null,null,"自宅"]
[null,null,null,null,null,null,null,null,null,null,null,null,"出発地　公署・自宅　　　自宅住所",null,null,null,null,null,null,null,"自家用車","使用申出",null,"摘要"]
[null,null,null,null,null,null,null,null,null,null,null,null,"帰着地　公署・自宅　（高知市神田）",null,null,null,null,null,null,null,null,"同乗"]
[null,null,null,null,null,null,null,null,null,null,null,2]
[]
[null,null,null,null,null,null,null,null,null,null,null,null,"出発地　公署・自宅　　　自宅住所",null,null,null,null,null,null,null,"自家用車","使用申出",null,"摘要"]
[null,null,null,null,null,null,null,null,null,null,null,null,"帰着地　公署・自宅　（　　　　　）",null,null,null,null,null,null,null,null,"同乗"]
[null,null,null,null,null,null,null,null,null,null,null,3]
[]
[null,null,null,null,null,null,null,null,null,null,null,null,"出発地　公署・自宅　　　自宅住所",null,null,null,null,null,null,null,"自家用車","使用申出",null,"摘要"]
[null,null,null,null,null,null,null,null,null,null,null,null,"帰着地　公署・自宅　（　　　　　）",null,null,null,null,null,null,null,null,"同乗"]
[null,null,null,null,null,null,null,null,null,null,"摘要",null,"旅費は高知市○×△連絡協議会から全額支給"]
[]
[null,null,null,null,null,null,null,null,null,null,"（特別承認等）"]
[]
[null,"利用交通機関"]
[null,"１　公用車",null,null,null,null,"８　船舶"]
[null,"２　借上車",null,null,null,null,"９　航空機",null,null,null,"（変更理由）"]
[null,"３　自家用車・同乗",null,null,null,null,"10　モノレール"]
[null,"４　乗合バス",null,null,null,null,"11　空港連絡バス"]
[null,"５　高速バス",null,null,null,null,"12　その他"]
[null,"６　電車",null,null,null,null,"　（　　　　　）","　　　　　）"]
[null,"７　鉄道",null,null,null,null,null,null,null,null,null,"\n\n\n旅費別途支給（○×△市教委から）",null,null,null,null,null,null,"\n　□概算",null,null,"旅行\n完結","\n　平成27年2月3日",null,null,null,"精算\n完結"]

{"sheet":"記入例②「泊あり」","index":6,"n_rows":31,"n_cols":27,"rows_kept":31,"cut":false,"hidden":false,"merged":[[25,10,25,13],[30,11,30,17],[30,18,30,20],[30,22,30,25],[21,2,21,3],[21,4,21,6],[21,7,21,8],[21,10,21,13],[22,2,22,3],[22,4,22,6],[17,23,18,27],[18,2,18,3],[18,4,18,6],[18,7,18,8],[15,16,16,17],[15,18,16,19],[22,7,22,8],[19,2,19,3],[19,4,19,6],[19,7,19,8],[20,2,20,3],[20,4,20,6],[20,7,20,8],[15,7,15,8],[15,11,18,11],[15,12,16,14],[15,15,16,15],[16,2,16,3],[16,4,16,6],[16,7,16,8],[16,21,16,22],[16,23,16,25],[16,26,16,27],[17,2,17,3],[12,26,12,27],[13,2,13,3],[13,4,13,6],[13,7,13,8],[13,23,14,27],[14,2,14,3],[15,21,15,22],[15,23,15,25],[15,26,15,27],[15,2,15,3],[15,4,15,6],[17,4,17,6],[17,7,17,8],[9,23,10,27],[10,2,10,3],[10,4,10,6],[10,7,10,8],[11,26,11,27],[12,2,12,3],[12,4,12,6],[12,7,12,8],[12,21,12,22],[12,23,12,25],[11,2,11,3],[11,4,11,6],[11,7,11,8],[11,11,14,11],[14,4,14,6],[14,7,14,8],[11,16,12,17],[11,18,12,19],[11,21,11,22],[11,23,11,25],[11,12,12,14],[11,15,12,15],[6,18,6,19],[6,21,6,22],[6,23,6,25],[6,26,6,27],[7,2,7,3],[7,4,7,6],[7,7,7,8],[7,11,10,11],[7,12,8,14],[7,15,8,15],[7,16,8,17],[7,18,8,19],[7,21,7,22],[7,23,7,25],[7,26,7,27],[8,2,8,3],[8,4,8,6],[8,7,8,8],[8,21,8,22],[8,23,8,25],[8,26,8,27],[9,2,9,3],[9,4,9,6],[9,7,9,8],[0,0,0,27],[1,0,30,0],[1,1,1,27],[2,1,2,7],[2,9,2,17],[2,19,2,27],[3,1,3,2],[3,3,3,7],[3,11,3,14],[3,17,3,21],[3,24,3,27],[4,5,4,7],[4,9,4,12],[4,14,4,17],[4,19,4,21],[4,24,4,25],[5,1,5,2],[5,3,5,27],[6,2,6,3],[6,4,6,6],[6,7,6,8],[6,10,18,10],[6,12,6,14],[6,16,6,17]]}
["　　記入例②　\n　　泊をともなう出張の場合"]
[null,"第４号様式(第９条関係)"]
[null,"旅行命令（依頼）簿",null,null,null,null,null,null,"旅行命令","決裁日　　平成２７年 １月 ２６ 日",null,null,null,null,null,null,null,null,"命令変更","決裁日　　平成    年   月    日"]
[null,"執行機関",null,"○○○学校",null,null,null,null,"旅行命令番号",null,null,"別途○",null,null,null,"命令簿作成日",null,"平成27年　１月26日",null,null,null,null,"変更簿作成日",null,"　　   年   月   日"]
[null,"平成２６",null,"年度","款",null,null,null,"項",null,null,null,null,"目",null,null,null,null,"節","09　旅費",null,null,"略科目コード"]
[null,"用務",null,"大阪市立○○学校研究指定校発表会参加　　　　　　　　（大阪市立○○学校）"]
[null,"月日","出発地",null,"経路",null,null,"到着地",null,"泊数","受命者","Ｎo．","所属（住所）",null,null,"職名","氏名",null,"種別",null,"旅費額","減額",null,"支給済額",null,null,"差引支給額"]
[null,null,null,null,null,null,null,null,null,null,null,1,"○○○学校",null,null,"教諭","高知 太郎"]
[null,"2015-02-02","自宅",null,null,null,null,"大阪府大阪市",null,1]
[null,null,null,null,null,null,null,null,null,null,null,null,"出発地　公署・自宅　　　自宅住所",null,null,null,null,null,null,null,"自家用車","使用申出",null,"摘要"]
[null,"2015-02-03","大阪府大阪市",null,null,null,null,"自宅",null,null,null,null,"帰着地　公署・自宅　（高知市神田）",null,null,null,null,null,null,null,null,"同乗"]
[null,null,null,null,null,null,null,null,null,null,null,2]
[]
[null,null,null,null,null,null,null,null,null,null,null,null,"出発地　公署・自宅　　　自宅住所",null,null,null,null,null,null,null,"自家用車","使用申出",null,"摘要"]
[null,null,null,null,null,null,null,null,null,null,null,null,"帰着地　公署・自宅　（　　　　　）",null,null,null,null,null,null,null,null,"同乗"]
[null,null,null,null,null,null,null,null,null,null,null,3]
[]
[null,null,null,null,null,null,null,null,null,null,null,null,"出発地　公署・自宅　　　自宅住所",null,null,null,null,null,null,null,"自家用車","使用申出",null,"摘要"]
[null,null,null,null,null,null,null,null,null,null,null,null,"帰着地　公署・自宅　（　　　　　）",null,null,null,null,null,null,null,null,"同乗"]
[null,null,null,null,null,null,null,null,null,null,"摘要",null,"旅費は高知県○×△教育研究会から全額支給"]
[]
[null,null,null,null,null,null,null,null,null,null,"（特別承認等）"]
[]
[null,"利用交通機関"]
[null,"１　公用車",null,null,null,null,"８　船舶"]
[null,"２　借上車",null,null,null,null,"９　航空機",null,null,null,"（変更理由）"]
[null,"３　自家用車・同乗",null,null,null,null,"10　モノレール"]
[null,"４　乗合バス",null,null,null,null,"11　空港連絡バス"]
[null,"５　高速バス",null,null,null,null,"12　その他"]
[null,"６　電車",null,null,null,null,"　（　　　　　）","　　　　　）"]
[null,"７　鉄道",null,null,null,null,null,null,null,null,null,"\n\n\n旅費別途支給（○×△市教委から）",null,null,null,null,null,null,"\n　□概算",null,null,"旅行\n完結","\n平成27年2月４日",null,null,null,"精算\n完結"]

{"sheet":"記入例③「ゆとり出張」","index":7,"n_rows":31,"n_cols":27,"rows_kept":31,"cut":false,"hidden":false,"merged":[[12,26,12,27],[9,23,10,27],[13,23,14,27],[17,23,18,27],[12,23,12,25],[11,26,11,27],[8,26,8,27],[11,23,11,25],[1,1,1,27],[15,21,15,22],[15,23,15,25],[15,26,15,27],[16,21,16,22],[16,23,16,25],[16,26,16,27],[6,21,6,22],[6,23,6,25],[6,26,6,27],[7,23,7,25],[8,23,8,25],[7,26,7,27],[5,1,5,2],[6,2,6,3],[6,4,6,6],[7,21,7,22],[8,21,8,22],[15,12,16,14],[15,15,16,15],[15,16,16,17],[15,18,16,19],[11,21,11,22],[12,21,12,22],[18,2,18,3],[18,4,18,6],[18,7,18,8],[15,7,15,8],[16,2,16,3],[16,4,16,6],[16,7,16,8],[17,2,17,3],[17,4,17,6],[17,7,17,8],[30,22,30,25],[4,5,4,7],[4,9,4,12],[4,14,4,17],[4,19,4,21],[4,24,4,25],[5,3,5,27],[7,2,7,3],[7,4,7,6],[7,7,7,8],[9,2,9,3],[9,4,9,6],[9,7,9,8],[11,2,11,3],[11,4,11,6],[11,7,11,8],[10,4,10,6],[10,7,10,8],[12,2,12,3],[12,4,12,6],[12,7,12,8],[13,2,13,3],[13,4,13,6],[13,7,13,8],[6,16,6,17],[6,18,6,19],[11,12,12,14],[11,15,12,15],[11,16,12,17],[11,18,12,19],[30,11,30,17],[30,18,30,20],[7,11,10,11],[7,12,8,14],[7,15,8,15],[7,16,8,17],[7,18,8,19],[21,10,21,13],[25,10,25,13],[21,2,21,3],[21,4,21,6],[21,7,21,8],[22,2,22,3],[22,4,22,6],[22,7,22,8],[19,2,19,3],[19,4,19,6],[19,7,19,8],[20,2,20,3],[20,4,20,6],[20,7,20,8],[0,0,0,27],[2,1,2,7],[3,1,3,2],[3,3,3,7],[3,11,3,14],[3,17,3,21],[3,24,3,27],[2,9,2,17],[2,19,2,27],[1,0,30,0],[6,7,6,8],[6,10,18,10],[6,12,6,14],[8,2,8,3],[8,4,8,6],[8,7,8,8],[10,2,10,3],[11,11,14,11],[15,11,18,11],[14,2,14,3],[14,4,14,6],[14,7,14,8],[15,2,15,3],[15,4,15,6]]}
["　　記入例③　\n　　ゆとり出張の場合"]
[null,"第４号様式(第９条関係)"]
[null,"旅行命令（依頼）簿",null,null,null,null,null,null,"旅行命令","決裁日　　平成２６年 １２月 ５ 日",null,null,null,null,null,null,null,null,"命令変更","決裁日　　平成    年   月    日"]
[null,"執行機関",null,"○○○学校",null,null,null,null,"旅行命令番号",null,null,"別途○",null,null,null,"命令簿作成日",null,"2014-12-05",null,null,null,null,"変更簿作成日",null,"　　   年   月   日"]
[null,"平成２６",null,"年度","款",null,null,null,"項",null,null,null,null,"目",null,null,null,null,"節","09　旅費",null,null,"略科目コード"]
[null,"用務",null,"○○研究大会横浜大会参加　　　　　　　　（パシフィコ横浜）"]
[null,"月日","出発地",null,"経路",null,null,"到着地",null,"泊数","受命者","Ｎo．","所属（住所）",null,null,"職名","氏名",null,"種別",null,"旅費額","減額",null,"支給済額",null,null,"差引支給額"]
[null,null,null,null,null,null,null,null,null,null,null,1,"○○○学校",null,null,"教諭","高知 太郎"]
[null,"2014-12-12","自宅",null,"神奈川県横浜市",null,null,"自宅"]
[null,null,null,null,null,null,null,null,null,null,null,null,"出発地　公署・自宅　　　自宅住所",null,null,null,null,null,null,null,"自家用車","使用申出",null,"摘要"]
[null,null,null,null,null,null,null,null,null,null,null,null,"帰着地　公署・自宅　（高知市神田）",null,null,null,null,null,null,null,null,"同乗"]
[null,null,null,null,null,null,null,null,null,null,null,2]
[]
[null,null,null,null,null,null,null,null,null,null,null,null,"出発地　公署・自宅　　　自宅住所",null,null,null,null,null,null,null,"自家用車","使用申出",null,"摘要"]
[null,null,null,null,null,null,null,null,null,null,null,null,"帰着地　公署・自宅　（　　　　　）",null,null,null,null,null,null,null,null,"同乗"]
[null,null,null,null,null,null,null,null,null,null,null,3]
[]
[null,null,null,null,null,null,null,null,null,null,null,null,"出発地　公署・自宅　　　自宅住所",null,null,null,null,null,null,null,"自家用車","使用申出",null,"摘要"]
[null,null,null,null,null,null,null,null,null,null,null,null,"帰着地　公署・自宅　（　　　　　）",null,null,null,null,null,null,null,null,"同乗"]
[null,null,null,null,null,null,null,null,null,null,"摘要",null,"旅費は高知県○×△教育研究会から全額支給"]
[]
[null,null,null,null,null,null,null,null,null,null,"（特別承認等）"]
[null,null,null,null,null,null,null,null,null,null,null,null,"12月13･14日はゆとり出張"]
[null,"利用交通機関"]
[null,"１　公用車",null,null,null,null,"８　船舶",null,null,null,null,null,"12月14日は航空機利用で自宅着"]
[null,"２　借上車",null,null,null,null,"９　航空機",null,null,null,"（変更理由）"]
[null,"３　自家用車・同乗",null,null,null,null,"10　モノレール"]
[null,"４　乗合バス",null,null,null,null,"11　空港連絡バス"]
[null,"５　高速バス",null,null,null,null,"12　その他"]
[null,"６　電車",null,null,null,null,"　（　　　　　）","　　　　　）"]
[null,"７　鉄道",null,null,null,null,null,null,null,null,null,"\n\n\n旅費別途支給（○×△市教委から）",null,null,null,null,null,null,"\n　□概算",null,null,"旅行\n完結","\n平成26年12月15日",null,null,null,"精算\n完結"]

{"sheet":"記入例④「変更」","index":8,"n_rows":31,"n_cols":27,"rows_kept":31,"cut":false,"hidden":false,"merged":[[3,24,3,27],[4,5,4,7],[4,9,4,12],[4,14,4,17],[4,19,4,21],[4,24,4,25],[0,0,0,27],[1,0,30,0],[1,1,1,27],[2,1,2,7],[2,9,2,17],[2,19,2,27],[3,1,3,2],[3,3,3,7],[3,11,3,14],[3,17,3,21],[5,1,5,2],[5,3,5,27],[6,2,6,3],[6,4,6,6],[6,7,6,8],[6,10,18,10],[6,12,6,14],[6,16,6,17],[6,18,6,19],[6,21,6,22],[6,23,6,25],[6,26,6,27],[7,2,7,3],[7,4,7,6],[7,7,7,8],[7,11,10,11],[7,12,8,14],[7,15,8,15],[7,16,8,17],[7,18,8,19],[7,21,7,22],[7,23,7,25],[7,26,7,27],[8,2,8,3],[8,4,8,6],[8,7,8,8],[8,21,8,22],[8,23,8,25],[8,26,8,27],[12,21,12,22],[12,23,12,25],[11,2,11,3],[11,4,11,6],[11,7,11,8],[11,11,14,11],[9,2,9,3],[9,4,9,6],[9,7,9,8],[9,23,10,27],[10,2,10,3],[10,4,10,6],[10,7,10,8],[15,2,15,3],[15,4,15,6],[15,7,15,8],[15,11,18,11],[15,12,16,14],[15,15,16,15],[12,26,12,27],[13,2,13,3],[13,4,13,6],[13,7,13,8],[13,23,14,27],[14,2,14,3],[14,4,14,6],[14,7,14,8],[11,16,12,17],[11,18,12,19],[11,21,11,22],[11,23,11,25],[11,12,12,14],[11,15,12,15],[11,26,11,27],[12,2,12,3],[12,4,12,6],[12,7,12,8],[19,2,19,3],[19,4,19,6],[19,7,19,8],[20,2,20,3],[20,4,20,6],[20,7,20,8],[16,26,16,27],[17,2,17,3],[17,4,17,6],[17,7,17,8],[17,23,18,27],[18,2,18,3],[18,4,18,6],[18,7,18,8],[15,16,16,17],[15,18,16,19],[15,21,15,22],[15,23,15,25],[15,26,15,27],[16,2,16,3],[16,4,16,6],[16,7,16,8],[16,21,16,22],[16,23,16,25],[25,10,25,13],[30,11,30,17],[30,18,30,20],[30,22,30,25],[21,2,21,3],[21,4,21,6],[21,7,21,8],[21,10,21,13],[22,2,22,3],[22,4,22,6],[22,7,22,8]]}
["　　記入例④　\n　　変更があった場合"]
[null,"第４号様式(第９条関係)"]
[null,"旅行命令（依頼）簿",null,null,null,null,null,null,"旅行命令","決裁日　　平成２７年 １月 ２６ 日",null,null,null,null,null,null,null,null,"命令変更","決裁日　　平成２７年 ２月 １ 日"]
[null,"執行機関",null,"○○○学校",null,null,null,null,"旅行命令番号",null,null,"別途○",null,null,null,"命令簿作成日",null,"平成27年　１月26日",null,null,null,null,"変更簿作成日",null,"平成27年２月１日"]
[null,"平成２６",null,"年度","款",null,null,null,"項",null,null,null,null,"目",null,null,null,null,"節","09　旅費",null,null,"略科目コード"]
[null,"用務",null,"第3回○×△連絡協議会出席　　　　　　　　（高知会館）"]
[null,"月日","出発地",null,"経路",null,null,"到着地",null,"泊数","受命者","Ｎo．","所属（住所）",null,null,"職名","氏名",null,"種別",null,"旅費額","減額",null,"支給済額",null,null,"差引支給額"]
[null,"2015-02-13",null,null,null,null,null,null,null,null,null,1,"○○○学校",null,null,"教諭","高知 太郎"]
[null,"2015-02-02","学校",null,"高知市本町",null,null,"自宅"]
[null,null,null,null,null,null,null,null,null,null,null,null,"出発地　公署・自宅　　　自宅住所",null,null,null,null,null,null,null,"自家用車","使用申出",null,"摘要"]
[null,null,null,null,null,null,null,null,null,null,null,null,"帰着地　公署・自宅　（高知市神田）",null,null,null,null,null,null,null,null,"同乗"]
[null,null,null,null,null,null,null,null,null,null,null,2]
[]
[null,null,null,null,null,null,null,null,null,null,null,null,"出発地　公署・自宅　　　自宅住所",null,null,null,null,null,null,null,"自家用車","使用申出",null,"摘要"]
[null,null,null,null,null,null,null,null,null,null,null,null,"帰着地　公署・自宅　（　　　　　）",null,null,null,null,null,null,null,null,"同乗"]
[null,null,null,null,null,null,null,null,null,null,null,3]
[]
[null,null,null,null,null,null,null,null,null,null,null,null,"出発地　公署・自宅　　　自宅住所",null,null,null,null,null,null,null,"自家用車","使用申出",null,"摘要"]
[null,null,null,null,null,null,null,null,null,null,null,null,"帰着地　公署・自宅　（　　　　　）",null,null,null,null,null,null,null,null,"同乗"]
[null,null,null,null,null,null,null,null,null,null,"摘要",null,"旅費は高知市○×△連絡協議会から全額支給"]
[]
[null,null,null,null,null,null,null,null,null,null,"（特別承認等）"]
[]
[null,"利用交通機関"]
[null,"１　公用車",null,null,null,null,"８　船舶"]
[null,"２　借上車",null,null,null,null,"９　航空機",null,null,null,"（変更理由）"]
[null,"３　自家用車・同乗",null,null,null,null,"10　モノレール"]
[null,"４　乗合バス",null,null,null,null,"11　空港連絡バス",null,null,null,null,"悪天候により日程変更（13日に延期）のため"]
[null,"５　高速バス",null,null,null,null,"12　その他"]
[null,"６　電車",null,null,null,null,"　（　　　　　）","　　　　　）"]
[null,"７　鉄道",null,null,null,null,null,null,null,null,null,"\n\n\n旅費別途支給（○×△市教委から）",null,null,null,null,null,null,"\n　□概算",null,null,"旅行\n完結","\n平成27年2月16日",null,null,null,"精算\n完結"]

{"sheet":"記入例⑤「取り止め」","index":9,"n_rows":31,"n_cols":27,"rows_kept":31,"cut":false,"hidden":false,"merged":[[3,24,3,27],[4,5,4,7],[4,9,4,12],[4,14,4,17],[4,19,4,21],[4,24,4,25],[0,0,0,27],[1,0,30,0],[1,1,1,27],[2,1,2,7],[2,9,2,17],[2,19,2,27],[3,1,3,2],[3,3,3,7],[3,11,3,14],[3,17,3,21],[5,1,5,2],[5,3,5,27],[6,2,6,3],[6,4,6,6],[6,7,6,8],[6,10,18,10],[6,12,6,14],[6,16,6,17],[6,18,6,19],[6,21,6,22],[6,23,6,25],[6,26,6,27],[7,2,7,3],[7,4,7,6],[7,7,7,8],[7,11,10,11],[7,12,8,14],[7,15,8,15],[7,16,8,17],[7,18,8,19],[7,21,7,22],[7,23,7,25],[7,26,7,27],[8,2,8,3],[8,4,8,6],[8,7,8,8],[8,21,8,22],[8,23,8,25],[8,26,8,27],[12,21,12,22],[12,23,12,25],[11,2,11,3],[11,4,11,6],[11,7,11,8],[11,11,14,11],[9,2,9,3],[9,4,9,6],[9,7,9,8],[9,23,10,27],[10,2,10,3],[10,4,10,6],[10,7,10,8],[15,2,15,3],[15,4,15,6],[15,7,15,8],[15,11,18,11],[15,12,16,14],[15,15,16,15],[12,26,12,27],[13,2,13,3],[13,4,13,6],[13,7,13,8],[13,23,14,27],[14,2,14,3],[14,4,14,6],[14,7,14,8],[11,16,12,17],[11,18,12,19],[11,21,11,22],[11,23,11,25],[11,12,12,14],[11,15,12,15],[11,26,11,27],[12,2,12,3],[12,4,12,6],[12,7,12,8],[19,2,19,3],[19,4,19,6],[19,7,19,8],[20,2,20,3],[20,4,20,6],[20,7,20,8],[16,26,16,27],[17,2,17,3],[17,4,17,6],[17,7,17,8],[17,23,18,27],[18,2,18,3],[18,4,18,6],[18,7,18,8],[15,16,16,17],[15,18,16,19],[15,21,15,22],[15,23,15,25],[15,26,15,27],[16,2,16,3],[16,4,16,6],[16,7,16,8],[16,21,16,22],[16,23,16,25],[25,10,25,13],[30,11,30,17],[30,18,30,20],[30,22,30,25],[21,2,21,3],[21,4,21,6],[21,7,21,8],[21,10,21,13],[22,2,22,3],[22,4,22,6],[22,7,22,8]]}
["　　記入例⑤　\n　　取り止めがあった場合"]
[null,"第４号様式(第９条関係)"]
[null,"旅行命令（依頼）簿",null,null,null,null,null,null,"旅行命令","決裁日　　平成２７年 １月 ２６ 日",null,null,null,null,null,null,null,null,"命令変更","決裁日　　平成２７年 ２月 ２ 日"]
[null,"執行機関",null,"○○○学校",null,null,null,null,"旅行命令番号",null,null,"別途○",null,null,null,"命令簿作成日",null,"平成27年　１月26日",null,null,null,null,"変更簿作成日",null,"平成27年２月２日"]
[null,"平成２６",null,"年度","款",null,null,null,"項",null,null,null,null,"目",null,null,null,null,"節","09　旅費",null,null,"略科目コード"]
[null,"用務",null,"第3回○×△連絡協議会出席　　　　　　　　（高知会館）"]
[null,"月日","出発地",null,"経路",null,null,"到着地",null,"泊数","受命者","Ｎo．","所属（住所）",null,null,"職名","氏名",null,"種別",null,"旅費額","減額",null,"支給済額",null,null,"差引支給額"]
[null,null,null,null,null,null,null,null,null,null,null,1,"○○○学校",null,null,"教諭","高知 太郎"]
[null,"2015-02-02","学校",null,"高知市本町",null,null,"自宅"]
[null,null,null,null,null,null,null,null,null,null,null,null,"出発地　公署・自宅　　　自宅住所",null,null,null,null,null,null,null,"自家用車","使用申出",null,"摘要"]
[null,null,null,null,null,null,null,null,null,null,null,null,"帰着地　公署・自宅　（高知市神田）",null,null,null,null,null,null,null,null,"同乗"]
[null,null,null,null,null,null,null,null,null,null,null,2]
[]
[null,null,null,null,null,null,null,null,null,null,null,null,"出発地　公署・自宅　　　自宅住所",null,null,null,null,null,null,null,"自家用車","使用申出",null,"摘要"]
[null,null,null,null,null,null,null,null,null,null,null,null,"帰着地　公署・自宅　（　　　　　）",null,null,null,null,null,null,null,null,"同乗"]
[null,null,null,null,null,null,null,null,null,null,null,3]
[]
[null,null,null,null,null,null,null,null,null,null,null,null,"出発地　公署・自宅　　　自宅住所",null,null,null,null,null,null,null,"自家用車","使用申出",null,"摘要"]
[null,null,null,null,null,null,null,null,null,null,null,null,"帰着地　公署・自宅　（　　　　　）",null,null,null,null,null,null,null,null,"同乗"]
[null,null,null,null,null,null,null,null,null,null,"摘要",null,"旅費は高知市○×△連絡協議会から全額支給"]
[]
[null,null,null,null,null,null,null,null,null,null,"（特別承認等）"]
[]
[null,"利用交通機関"]
[null,"１　公用車",null,null,null,null,"８　船舶"]
[null,"２　借上車",null,null,null,null,"９　航空機",null,null,null,"（変更理由）"]
[null,"３　自家用車・同乗",null,null,null,null,"10　モノレール"]
[null,"４　乗合バス",null,null,null,null,"11　空港連絡バス",null,null,null,null,"緊急な校務（生徒指導）のため"]
[null,"５　高速バス",null,null,null,null,"12　その他"]
[null,"６　電車",null,null,null,null,"　（　　　　　）","　　　　　）"]
[null,"７　鉄道",null,null,null,null,null,null,null,null,null,"\n\n\n旅費別途支給（○×△市教委から）",null,null,null,null,null,null,"\n　□概算",null,null,"旅行\n完結","\n　　　年　月　日",null,null,null,"精算\n完結"]