{"text_format":"1","workbook":"xlsx","n_sheets":76,"sheets":["記入例","4計画","5計画","６計画","7計画","8計画","9計画","10計画","11計画","12計画","1計画","2計画","3計画","４実績","５実績","6実績","7実績","8実績","9実績","10実績","11実績","12実績","1実績","2実績","3実績","（整理簿入力例)","４","５","６","７","８","９","１０","１１","１２","１","２","３","４(副顧問)","５(副顧問)","６(副顧問)","７(副顧問)","８(副顧問)","９(副顧問)","１０(副顧問)","１１(副顧問)","１２(副顧問)","１(副顧問)","２(副顧問)","３(副顧問)","４(副顧問) (2)","５(副顧問) (2)","６(副顧問) (2)","７(副顧問) (2)","８(副顧問) (2)","９(副顧問) (2)","１０(副顧問) (2)","１１(副顧問) (2)","１２(副顧問) (2)","１(副顧問) (2)","２(副顧問) (2)","３(副顧問) (2)","４(副顧問) (3)","５(副顧問) (3)","６(副顧問) (3)","７(副顧問) (3)","８(副顧問) (3)","９(副顧問) (3)","１０(副顧問) (3)","１１(副顧問) (3)","１２(副顧問) (3)","１(副顧問) (3)","２(副顧問) (3)","３(副顧問) (3)","Sheet2","Sheet1"],"not_rendered":{"charts":0,"images":0,"macros":1,"external_links":0,"defined_names":101,"comments":0,"pivot_tables":0},"unopened":[],"bounds":{"document_bytes":16777216,"sheet_cells":100000,"rows_first":2000,"rows_last":500,"rows_between":2000,"halvings":0,"cell_chars":16384,"cell_head_chars":4096},"cells_cut":0,"cells_raw":0,"read":"whole","date_system":"1900"}

{"sheet":"記入例","index":0,"n_rows":53,"n_cols":46,"rows_kept":53,"cut":false,"hidden":false,"merged":[[46,32,48,36],[46,37,46,40],[47,37,48,40],[49,32,49,34],[0,42,0,44],[0,45,0,46],[52,27,52,31],[52,32,52,34],[51,19,51,20],[51,21,51,22],[51,23,51,24],[51,25,51,26],[51,27,51,31],[51,32,51,34],[50,32,50,34],[48,27,48,31],[44,18,44,20],[44,21,44,26],[44,27,44,32],[44,33,44,40],[43,33,43,40],[41,33,41,40],[42,33,42,40],[39,33,39,40],[40,33,40,40],[50,17,50,18],[50,19,50,20],[50,21,50,22],[51,0,51,2],[51,3,51,4],[51,5,51,6],[51,7,51,8],[51,9,51,10],[51,11,51,12],[51,13,51,14],[51,15,51,16],[51,17,51,18],[50,23,50,24],[50,25,50,26],[50,27,50,31],[49,25,49,26],[49,27,49,31],[50,0,50,2],[50,3,50,4],[50,5,50,6],[50,7,50,8],[50,9,50,10],[50,11,50,12],[49,17,49,18],[49,19,49,20],[49,21,49,22],[49,23,49,24],[49,0,49,2],[49,3,49,4],[49,5,49,6],[49,7,49,8],[49,9,49,10],[49,11,49,12],[48,3,48,4],[48,5,48,6],[48,7,48,8],[48,9,48,10],[48,11,48,12],[50,13,50,14],[50,15,50,16],[49,13,49,14],[49,15,49,16],[48,25,48,26],[48,23,48,24],[44,0,44,1],[44,2,44,3],[44,4,44,6],[44,8,44,10],[44,11,44,13],[44,15,44,17],[45,27,45,32],[45,18,45,20],[45,21,45,26],[45,0,45,1],[45,2,45,3],[45,4,45,6],[45,8,45,10],[45,11,45,13],[45,15,45,17],[46,18,46,20],[48,13,48,14],[48,15,48,16],[48,17,48,18],[48,19,48,20],[48,21,48,22],[48,0,48,2],[45,33,45,40],[43,0,43,1],[43,2,43,3],[43,4,43,6],[43,8,43,10],[43,11,43,13],[43,15,43,17],[43,18,43,20],[43,21,43,26],[43,27,43,32],[42,0,42,1],[42,2,42,3],[42,4,42,6],[42,8,42,10],[42,11,42,13],[42,15,42,17],[42,18,42,20],[42,21,42,26],[42,27,42,32],[41,0,41,1],[41,2,41,3],[41,4,41,6],[41,8,41,10],[41,11,41,13],[41,15,41,17],[41,18,41,20],[41,21,41,26],[41,27,41,32],[40,0,40,1],[40,2,40,3],[40,4,40,6],[40,8,40,10],[40,11,40,13],[40,15,40,17],[40,18,40,20],[40,21,40,26],[40,27,40,32],[39,0,39,1],[39,2,39,3],[39,4,39,6],[39,8,39,10],[39,11,39,13],[39,15,39,17],[39,18,39,20],[39,21,39,26],[39,27,39,32],[37,33,37,40],[38,0,38,1],[38,2,38,3],[38,4,38,6],[38,8,38,10],[38,11,38,13],[38,15,38,17],[38,18,38,20],[38,21,38,26],[38,27,38,32],[38,33,38,40],[37,0,37,1],[37,2,37,3],[37,4,37,6],[37,8,37,10],[37,11,37,13],[37,15,37,17],[37,18,37,20],[37,21,37,26],[37,27,37,32],[35,33,35,40],[36,0,36,1],[36,2,36,3],[36,4,36,6],[36,8,36,10],[36,11,36,13],[36,15,36,17],[36,18,36,20],[36,21,36,26],[36,27,36,32],[36,33,36,40],[35,0,35,1],[35,2,35,3],[35,4,35,6],[35,8,35,10],[35,11,35,13],[35,15,35,17],[35,18,35,20],[35,21,35,26],[35,27,35,32],[33,33,33,40],[34,0,34,1],[34,2,34,3],[34,4,34,6],[34,8,34,10],[34,11,34,13],[34,15,34,17],[34,18,34,20],[34,21,34,26],[34,27,34,32],[34,33,34,40],[33,0,33,1],[33,2,33,3],[33,4,33,6],[33,8,33,10],[33,11,33,13],[33,15,33,17],[33,18,33,20],[33,21,33,26],[33,27,33,32],[31,33,31,40],[32,0,32,1],[32,2,32,3],[32,4,32,6],[32,8,32,10],[32,11,32,13],[32,15,32,17],[32,18,32,20],[32,21,32,26],[32,27,32,32],[32,33,32,40],[31,0,31,1],[31,2,31,3],[31,4,31,6],[31,8,31,10],[31,11,31,13],[31,15,31,17],[31,18,31,20],[31,21,31,26],[31,27,31,32],[29,33,29,40],[30,0,30,1],[30,2,30,3],[30,4,30,6],[30,8,30,10],[30,11,30,13],[30,15,30,17],[30,18,30,20],[30,21,30,26],[30,27,30,32],[30,33,30,40],[29,0,29,1],[29,2,29,3],[29,4,29,6],[29,8,29,10],[29,11,29,13],[29,15,29,17],[29,18,29,20],[29,21,29,26],[29,27,29,32],[27,33,27,40],[28,0,28,1],[28,2,28,3],[28,4,28,6],[28,8,28,10],[28,11,28,13],[28,15,28,17],[28,18,28,20],[28,21,28,26],[28,27,28,32],[28,33,28,40],[27,0,27,1],[27,2,27,3],[27,4,27,6],[27,8,27,10],[27,11,27,13],[27,15,27,17],[27,18,27,20],[27,21,27,26],[27,27,27,32],[25,33,25,40],[26,0,26,1],[26,2,26,3],[26,4,26,6],[26,8,26,10],[26,11,26,13],[26,15,26,17],[26,18,26,20],[26,21,26,26],[26,27,26,32],[26,33,26,40],[25,0,25,1],[25,2,25,3],[25,4,25,6],[25,8,25,10],[25,11,25,13],[25,15,25,17],[25,18,25,20],[25,21,25,26],[25,27,25,32],[23,33,23,40],[24,0,24,1],[24,2,24,3],[24,4,24,6],[24,8,24,10],[24,11,24,13],[24,15,24,17],[24,18,24,20],[24,21,24,26],[24,27,24,32],[24,33,24,40],[23,0,23,1],[23,2,23,3],[23,4,23,6],[23,8,23,10],[23,11,23,13],[23,15,23,17],[23,18,23,20],[23,21,23,26],[23,27,23,32],[21,33,21,40],[22,0,22,1],[22,2,22,3],[22,4,22,6],[22,8,22,10],[22,11,22,13],[22,15,22,17],[22,18,22,20],[22,21,22,26],[22,27,22,32],[22,33,22,40],[21,0,21,1],[21,2,21,3],[21,4,21,6],[21,8,21,10],[21,11,21,13],[21,15,21,17],[21,18,21,20],[21,21,21,26],[21,27,21,32],[19,33,19,40],[20,0,20,1],[20,2,20,3],[20,4,20,6],[20,8,20,10],[20,11,20,13],[20,15,20,17],[20,18,20,20],[20,21,20,26],[20,27,20,32],[20,33,20,40],[19,0,19,1],[19,2,19,3],[19,4,19,6],[19,8,19,10],[19,11,19,13],[19,15,19,17],[19,18,19,20],[19,21,19,26],[19,27,19,32],[17,33,17,40],[18,0,18,1],[18,2,18,3],[18,4,18,6],[18,8,18,10],[18,11,18,13],[18,15,18,17],[18,18,18,20],[18,21,18,26],[18,27,18,32],[18,33,18,40],[17,0,17,1],[17,2,17,3],[17,4,17,6],[17,8,17,10],[17,11,17,13],[17,15,17,17],[17,18,17,20],[17,21,17,26],[17,27,17,32],[15,18,15,20],[15,21,15,26],[15,27,15,32],[15,33,15,40],[16,0,16,1],[16,2,16,3],[16,4,16,6],[16,8,16,10],[16,11,16,13],[16,15,16,17],[15,0,15,1],[15,2,15,3],[15,4,15,6],[15,8,15,10],[15,11,15,13],[15,15,15,17],[16,18,16,20],[16,21,16,26],[16,27,16,32],[16,33,16,40],[11,39,12,40],[14,0,14,1],[14,2,14,3],[14,4,14,10],[14,11,14,17],[14,18,14,20],[14,21,14,32],[14,33,14,40],[9,39,10,40],[11,1,12,2],[11,3,12,7],[11,8,12,9],[11,10,12,18],[11,19,12,20],[11,21,12,22],[11,23,12,27],[11,28,12,29],[11,30,12,38],[9,1,10,2],[9,3,10,7],[9,8,10,9],[9,10,10,18],[9,19,10,20],[9,21,10,22],[9,23,10,27],[9,28,10,29],[9,30,10,38],[6,37,6,38],[6,39,6,40],[7,27,7,28],[7,29,7,30],[7,31,7,32],[7,33,7,34],[7,35,7,36],[7,37,7,38],[7,39,7,40],[6,0,7,4],[6,5,7,7],[6,8,7,22],[6,24,7,26],[6,27,6,28],[6,29,6,30],[6,31,6,32],[6,33,6,34],[6,35,6,36],[1,38,2,40],[2,0,4,3],[2,4,4,7],[2,8,4,11],[2,12,4,15],[2,16,4,19],[2,20,4,23],[3,25,4,27],[3,28,4,37],[3,38,4,40],[0,0,0,3],[1,0,1,3],[1,4,1,7],[1,8,1,11],[1,12,1,15],[1,16,1,19],[1,20,1,23],[1,25,2,27],[1,28,2,37]]}
[null,null,null,null,null,null,null,null,null,null,null,null,null,null,null,null,null,null,null,null,null,null,null,null,null,null,null,null,null,null,null,null,null,null,null,null,null,null,null,null,null,null,2020,null,null,"年度"]
["校長",null,null,null,"教頭",null,null,null,"教頭",null,null,null,"主幹教諭",null,null,null,null,null,null,null,"顧問",null,null,null,null,"学校名",null,null,"四万十中",null,null,null,null,null,null,null,null,null,"学校"]
["印",null,null,null,"印",null,null,null,"印",null,null,null,"印",null,null,null,"印",null,null,null,"印"]
[null,null,null,null,null,null,null,null,null,null,null,null,null,null,null,null,null,null,null,null,null,null,null,null,null,"部活動名",null,null,"サッカー",null,null,null,null,null,null,null,null,null,"部"]
[]
[]
[4,null,null,null,null,"月",null,null,"〈月間〉部活動計画・活動実績",null,null,null,null,null,null,null,null,null,null,null,null,null,null,null,"部員数",null,null,"1女",null,"2女",null,"3女",null,"1男",null,"2男",null,"3男",null,"計"]
[null,null,null,null,null,null,null,null,null,null,null,null,null,null,null,null,null,null,null,null,null,null,null,null,null,null,null,null,null,null,null,null,null,6,null,3,null,3,null,{"$f":"SUM(AB8:AM8)","v":12}]
[]
[null,"職名",null,"教諭",null,null,null,null,"顧問",null,"中村　太郎",null,null,null,null,null,null,null,null,null,null,"職名",null,null,null,null,null,null,"副２"]
[]
[null,"職名",null,"期限付講師",null,null,null,null,"副顧問",null,"四万十　花子",null,null,null,null,null,null,null,null,null,null,"職名",null,null,null,null,null,null,"副３"]
[]
[]
["日",null,"曜",null,"ＡＭ",null,null,null,null,null,null,"ＰＭ",null,null,null,null,null,null,"時間",null,null,"内容（練習・大会・OFF等）",null,null,null,null,null,null,null,null,null,null,null,"場所"]
[1,null,{"$f":"IF(A16=\"\",\"\",TEXT(DATE($AQ$1,$A$7,A16),\"aaa\"))","v":"水"},null,null,null,null,"～",null,null,null,null,null,null,"～",null,null,null,{"$f":"(I16-E16)+(P16-L16)","v":"00:00:00"},null,null,"部活動休業日",null,null,null,null,null,"中村",null,null,null,null,null,"学校"]
[2,null,{"$f":"IF(A17=\"\",\"\",TEXT(DATE($AQ$1,$A$7,A17),\"aaa\"))","v":"木"},null,"07:30:00",null,null,"～","08:00:00",null,null,"16:30:00",null,null,"～","18:00:00",null,null,"02:00:00",null,null,"練習",null,null,null,null,null,"中村",null,null,null,null,null,"学校"]
[3,null,"金",null,"07:30:00",null,null,"～","08:00:00",null,null,"16:30:00",null,null,"～","18:00:00",null,null,"02:00:00",null,null,"練習",null,null,null,null,null,"四万十",null,null,null,null,null,"学校"]
[4,null,"土",null,"09:00:00",null,null,"～","12:00:00",null,null,null,null,null,"～",null,null,null,"03:00:00",null,null,"練習試合（○○中）",null,null,null,null,null,"中村・四万十",null,null,null,null,null,"○○中学校"]
[5,null,"日",null,null,null,null,"～",null,null,null,null,null,null,"～",null,null,null,"00:00:00",null,null,"部活動休業日"]
[6,null,"月",null,"07:30:00",null,null,"～","08:00:00",null,null,"16:30:00",null,null,"～","18:00:00",null,null,"02:00:00",null,null,"練習",null,null,null,null,null,"中村",null,null,null,null,null,"学校"]
[7,null,"火",null,"07:30:00",null,null,"～","08:00:00",null,null,"16:30:00",null,null,"～","18:00:00",null,null,"02:00:00",null,null,"練習",null,null,null,null,null,"中村",null,null,null,null,null,"○○中学校"]
[8,null,"水",null,null,null,null,"～",null,null,null,null,null,null,"～",null,null,null,"00:00:00",null,null,"部活動休業日"]
[9,null,"木",null,"07:30:00",null,null,"～","08:00:00",null,null,"16:30:00",null,null,"～","18:00:00",null,null,"02:00:00",null,null,null,null,null,null,null,null,null,null,null,null,null,null,"学校"]
[10,null,"金",null,"07:30:00",null,null,"～","08:00:00",null,null,"16:30:00",null,null,"～","18:00:00",null,null,"02:00:00",null,null,null,null,null,null,null,null,null,null,null,null,null,null,"学校"]
[11,null,"土",null,"09:00:00",null,null,"～","12:00:00",null,null,null,null,null,"～",null,null,null,"03:00:00",null,null,"練習",null,null,null,null,null,"中村"]
[12,null,"日",null,null,null,null,"～",null,null,null,null,null,null,"～",null,null,null,"00:00:00",null,null,"部活動休業日"]
[13,null,"月",null,"07:30:00",null,null,"～","08:00:00",null,null,"16:30:00",null,null,"～","18:00:00",null,null,"02:00:00",null,null,"練習",null,null,null,null,null,"中村",null,null,null,null,null,"学校"]
[14,null,"火",null,"07:30:00",null,null,"～","08:00:00",null,null,"16:30:00",null,null,"～","18:00:00",null,null,"02:00:00",null,null,"練習",null,null,null,null,null,"中村",null,null,null,null,null,"学校"]
[15,null,"水",null,null,null,null,"～",null,null,null,null,null,null,"～",null,null,null,"00:00:00",null,null,"部活動休業日"]
[16,null,"木",null,"07:30:00",null,null,"～","08:00:00",null,null,"16:30:00",null,null,"～","18:00:00",null,null,"02:00:00",null,null,"練習",null,null,null,null,null,"中村",null,null,null,null,null,"学校"]
[17,null,"金",null,"07:30:00",null,null,"～","08:00:00",null,null,"16:30:00",null,null,"～","18:00:00",null,null,"02:00:00",null,null,"練習",null,null,null,null,null,"中村",null,null,null,null,null,"学校"]
[18,null,"土",null,"08:30:00",null,null,"～","12:30:00",null,null,"13:00:00",null,null,"～","17:00:00",null,null,"08:00:00",null,null,"高知県○○大会",null,null,null,null,null,"中村・四万十",null,null,null,null,null,"○○運動公園"]
[19,null,"日",null,"06:30:00",null,null,"～","12:30:00",null,null,"13:00:00",null,null,"～","15:00:00",null,null,"08:00:00",null,null,"高知県○○大会",null,null,null,null,null,"中村・四万十",null,null,null,null,null,"○○運動公園"]
[20,null,"月",null,null,null,null,"～",null,null,null,null,null,null,"～",null,null,null,"00:00:00",null,null,"部活動休業日"]
[21,null,"火",null,"07:30:00",null,null,"～","08:00:00",null,null,"16:30:00",null,null,"～","18:00:00",null,null,"02:00:00",null,null,"練習",null,null,null,null,null,"四万十",null,null,null,null,null,"学校"]
[22,null,"水",null,null,null,null,"～",null,null,null,null,null,null,"～",null,null,null,"00:00:00",null,null,"部活動休業日"]
[23,null,"木",null,"07:30:00",null,null,"～","08:00:00",null,null,"16:30:00",null,null,"～","18:00:00",null,null,"02:00:00",null,null,"練習",null,null,null,null,null,"中村",null,null,null,null,null,"学校"]
[24,null,"金",null,"07:30:00",null,null,"～","08:00:00",null,null,"16:30:00",null,null,"～","18:00:00",null,null,"02:00:00",null,null,"練習",null,null,null,null,null,"中村",null,null,null,null,null,"学校"]
[25,null,"土",null,"09:00:00",null,null,"～","12:00:00",null,null,null,null,null,"～",null,null,null,"03:00:00",null,null,"練習",null,null,null,null,null,"中村",null,null,null,null,null,"学校"]
[26,null,"日",null,null,null,null,"～",null,null,null,null,null,null,"～",null,null,null,"00:00:00",null,null,"部活動休業日"]
[27,null,"月",null,"09:00:00",null,null,"～","12:00:00",null,null,null,null,null,"～",null,null,null,"03:00:00",null,null,"練習",null,null,null,null,null,"中村",null,null,null,null,null,"学校"]
[28,null,"火",null,"07:30:00",null,null,"～","08:00:00",null,null,"16:30:00",null,null,"～","18:00:00",null,null,"02:00:00",null,null,"練習",null,null,null,null,null,"中村"]
[29,null,"水",null,null,null,null,"～",null,null,null,null,null,null,"～",null,null,null,"00:00:00",null,null,"部活動休業日"]
[30,null,"木",null,"07:30:00",null,null,"～","08:00:00",null,null,"16:30:00",null,null,"～","18:00:00",null,null,"02:00:00",null,null,"練習",null,null,null,null,null,"中村",null,null,null,null,null,"学校"]
[null,null,"",null,null,null,null,"～",null,null,null,null,null,null,"～",null,null,null,"00:00:00"]
[null,null,null,null,null,null,null,null,null,null,null,null,null,null,null,null,null,null,{"$f":"SUM(S16:U46)","v":2.4166666666666665},null,null,null,null,null,null,null,null,null,null,null,null,null,"赤字変更内容については口頭命令済",null,null,null,null,"校長"]
[null,null,null,null,null,null,null,null,null,null,null,null,null,null,null,null,null,null,null,null,null,null,null,null,null,null,null,null,null,null,null,null,null,null,null,null,null," 　 .  　."]
["月",null,null,4,null,5,null,6,null,7,null,8,null,9,null,10,null,11,null,12,null,1,null,2,null,3,null,"計"]
["時間",null,null,{"$f":"S47","v":2.4166666666666665},null,null,null,null,null,null,null,null,null,null,null,null,null,null,null,null,null,null,null,null,null,null,null,{"$f":"SUM(D50:AA50)","v":2.4166666666666665},null,null,null,null,"時間"]
["活動日数",null,null,{"$f":"COUNTIF(S16:U45,\">0\")","v":21},null,null,null,null,null,null,null,null,null,null,null,null,null,null,null,null,null,null,null,null,null,null,null,{"$f":"SUM(D51:AA51)","v":21},null,null,null,null,"活動日数"]
["休養日数",null,null,{"$f":"COUNTIF(S16:U45,\"0:00\")","v":9},null,null,null,null,null,null,null,null,null,null,null,null,null,null,null,null,null,null,null,null,null,null,null,{"$f":"SUM(D52:AA52)","v":9},null,null,null,null,"休養日数"]
[null,null,null,null,null,null,null,null,null,null,null,null,null,null,null,null,null,null,null,null,null,null,null,null,null,null,null,{"$f":"AB50/AB51","v":0.11507936507936507},null,null,null,null,"平均時間/日"]

{"sheet":"4計画","index":1,"n_rows":53,"n_cols":63,"rows_kept":53,"cut":false,"hidden":false,"merged":[[46,32,48,36],[46,37,46,40],[47,37,48,40],[0,42,0,44],[0,45,0,46],[0,0,0,3],[6,0,7,4],[6,5,7,7],[6,8,7,22],[6,24,7,26],[6,33,6,34],[6,35,6,36],[6,37,6,38],[6,39,6,40],[7,27,7,28],[7,29,7,30],[7,31,7,32],[7,33,7,34],[7,35,7,36],[7,37,7,38],[7,39,7,40],[6,27,6,28],[6,29,6,30],[6,31,6,32],[14,4,14,10],[14,11,14,17],[14,18,14,20],[14,21,14,32],[14,33,14,40],[15,0,15,1],[15,2,15,3],[15,4,15,6],[15,8,15,10],[15,11,15,13],[15,15,15,17],[15,18,15,20],[15,21,15,26],[15,27,15,32],[15,33,15,40],[14,0,14,1],[14,2,14,3],[16,33,16,40],[17,0,17,1],[17,2,17,3],[17,4,17,6],[17,8,17,10],[17,11,17,13],[17,15,17,17],[17,18,17,20],[17,21,17,26],[17,27,17,32],[17,33,17,40],[16,0,16,1],[16,2,16,3],[16,4,16,6],[16,8,16,10],[16,11,16,13],[16,15,16,17],[16,18,16,20],[16,21,16,26],[16,27,16,32],[18,33,18,40],[19,0,19,1],[19,2,19,3],[19,4,19,6],[19,8,19,10],[19,11,19,13],[19,15,19,17],[19,18,19,20],[19,21,19,26],[19,27,19,32],[19,33,19,40],[18,0,18,1],[18,2,18,3],[18,4,18,6],[18,8,18,10],[18,11,18,13],[18,15,18,17],[18,18,18,20],[18,21,18,26],[18,27,18,32],[20,33,20,40],[21,0,21,1],[21,2,21,3],[21,4,21,6],[21,8,21,10],[21,11,21,13],[21,15,21,17],[21,18,21,20],[21,21,21,26],[21,27,21,32],[21,33,21,40],[20,0,20,1],[20,2,20,3],[20,4,20,6],[20,8,20,10],[20,11,20,13],[20,15,20,17],[20,18,20,20],[20,21,20,26],[20,27,20,32],[22,33,22,40],[23,0,23,1],[23,2,23,3],[23,4,23,6],[23,8,23,10],[23,11,23,13],[23,15,23,17],[23,18,23,20],[23,21,23,26],[23,27,23,32],[23,33,23,40],[22,0,22,1],[22,2,22,3],[22,4,22,6],[22,8,22,10],[22,11,22,13],[22,15,22,17],[22,18,22,20],[22,21,22,26],[22,27,22,32],[24,33,24,40],[25,0,25,1],[25,2,25,3],[25,4,25,6],[25,8,25,10],[25,11,25,13],[25,15,25,17],[25,18,25,20],[25,21,25,26],[25,27,25,32],[25,33,25,40],[24,0,24,1],[24,2,24,3],[24,4,24,6],[24,8,24,10],[24,11,24,13],[24,15,24,17],[24,18,24,20],[24,21,24,26],[24,27,24,32],[26,33,26,40],[27,0,27,1],[27,2,27,3],[27,4,27,6],[27,8,27,10],[27,11,27,13],[27,15,27,17],[27,18,27,20],[27,21,27,26],[27,27,27,32],[27,33,27,40],[26,0,26,1],[26,2,26,3],[26,4,26,6],[26,8,26,10],[26,11,26,13],[26,15,26,17],[26,18,26,20],[26,21,26,26],[26,27,26,32],[28,0,28,1],[28,2,28,3],[28,4,28,6],[28,8,28,10],[28,11,28,13],[28,15,28,17],[28,18,28,20],[28,21,28,26],[28,27,28,32],[29,0,29,1],[29,2,29,3],[29,4,29,6],[29,8,29,10],[29,11,29,13],[29,15,29,17],[29,18,29,20],[29,21,29,26],[29,27,29,32],[30,0,30,1],[30,2,30,3],[30,4,30,6],[30,8,30,10],[30,11,30,13],[30,15,30,17],[30,18,30,20],[30,21,30,26],[30,27,30,32],[31,0,31,1],[31,2,31,3],[31,4,31,6],[31,8,31,10],[31,11,31,13],[31,15,31,17],[31,18,31,20],[31,21,31,26],[31,27,31,32],[32,0,32,1],[32,2,32,3],[32,4,32,6],[32,8,32,10],[32,11,32,13],[32,15,32,17],[32,18,32,20],[32,21,32,26],[32,27,32,32],[33,0,33,1],[33,2,33,3],[33,4,33,6],[33,8,33,10],[33,11,33,13],[33,15,33,17],[33,18,33,20],[33,21,33,26],[33,27,33,32],[34,0,34,1],[34,2,34,3],[34,4,34,6],[34,8,34,10],[34,11,34,13],[34,15,34,17],[34,18,34,20],[34,21,34,26],[34,27,34,32],[35,0,35,1],[35,2,35,3],[35,4,35,6],[35,8,35,10],[35,11,35,13],[35,15,35,17],[35,18,35,20],[35,21,35,26],[35,27,35,32],[36,0,36,1],[36,2,36,3],[36,4,36,6],[36,8,36,10],[36,11,36,13],[36,15,36,17],[36,18,36,20],[36,21,36,26],[36,27,36,32],[37,0,37,1],[37,2,37,3],[37,4,37,6],[37,8,37,10],[37,11,37,13],[37,15,37,17],[37,18,37,20],[37,21,37,26],[37,27,37,32],[38,0,38,1],[38,2,38,3],[38,4,38,6],[38,8,38,10],[38,11,38,13],[38,15,38,17],[38,18,38,20],[38,21,38,26],[38,27,38,32],[39,0,39,1],[39,2,39,3],[39,4,39,6],[39,8,39,10],[39,11,39,13],[39,15,39,17],[39,18,39,20],[39,21,39,26],[39,27,39,32],[40,0,40,1],[40,2,40,3],[40,4,40,6],[40,8,40,10],[40,11,40,13],[40,15,40,17],[40,18,40,20],[40,21,40,26],[40,27,40,32],[41,0,41,1],[41,2,41,3],[41,4,41,6],[41,8,41,10],[41,11,41,13],[41,15,41,17],[41,18,41,20],[41,21,41,26],[41,27,41,32],[42,0,42,1],[42,2,42,3],[42,4,42,6],[42,8,42,10],[42,11,42,13],[42,15,42,17],[42,18,42,20],[42,21,42,26],[42,27,42,32],[43,0,43,1],[43,2,43,3],[43,4,43,6],[43,8,43,10],[43,11,43,13],[43,15,43,17],[43,18,43,20],[43,21,43,26],[43,27,43,32],[44,0,44,1],[44,2,44,3],[44,4,44,6],[44,8,44,10],[44,11,44,13],[44,15,44,17],[44,18,44,20],[44,21,44,26],[44,27,44,32],[45,0,45,1],[45,2,45,3],[45,18,45,20],[45,33,45,40],[48,0,48,2],[48,3,48,4],[48,5,48,6],[48,7,48,8],[48,9,48,10],[48,11,48,12],[48,13,48,14],[48,15,48,16],[48,17,48,18],[48,19,48,20],[48,21,48,22],[48,23,48,24],[48,25,48,26],[48,27,48,31],[46,18,46,20],[45,4,45,6],[45,8,45,10],[45,11,45,13],[45,15,45,17],[45,21,45,26],[49,0,49,2],[49,3,49,4],[49,5,49,6],[49,7,49,8],[49,9,49,10],[49,11,49,12],[49,13,49,14],[49,15,49,16],[49,17,49,18],[50,0,50,2],[50,3,50,4],[50,5,50,6],[50,7,50,8],[50,9,50,10],[50,11,50,12],[50,13,50,14],[50,15,50,16],[50,17,50,18],[49,19,49,20],[49,21,49,22],[49,23,49,24],[49,25,49,26],[49,27,49,31],[50,19,50,20],[50,21,50,22],[50,23,50,24],[50,25,50,26],[50,27,50,31],[51,13,51,14],[51,15,51,16],[51,17,51,18],[51,19,51,20],[51,21,51,22],[51,23,51,24],[51,25,51,26],[51,27,51,31],[51,32,51,34],[51,0,51,2],[1,38,2,40],[2,0,4,3],[2,4,4,7],[2,8,4,11],[2,12,4,15],[2,16,4,19],[2,20,4,23],[3,25,4,27],[3,28,4,37],[3,38,4,40],[1,0,1,3],[1,4,1,7],[1,8,1,11],[1,12,1,15],[1,16,1,19],[1,20,1,23],[1,25,2,27],[1,28,2,37],[51,3,51,4],[51,5,51,6],[51,7,51,8],[51,9,51,10],[51,11,51,12],[9,1,10,2],[9,3,10,7],[9,8,10,9],[9,10,10,18],[9,19,10,20],[9,21,10,22],[9,23,10,27],[9,28,10,29],[9,30,10,38],[11,1,12,2],[11,3,12,7],[11,8,12,9],[11,10,12,18],[11,19,12,20],[11,21,12,22],[11,23,12,27],[11,28,12,29],[11,30,12,38],[45,27,45,32],[44,33,44,40],[42,33,42,40],[43,33,43,40],[52,27,52,31],[52,32,52,34],[50,32,50,34],[49,32,49,34],[9,39,10,40],[11,39,12,40],[40,33,40,40],[41,33,41,40],[38,33,38,40],[39,33,39,40],[36,33,36,40],[37,33,37,40],[34,33,34,40],[35,33,35,40],[32,33,32,40],[33,33,33,40],[30,33,30,40],[31,33,31,40],[28,33,28,40],[29,33,29,40]]}
[null,null,null,null,null,null,null,null,null,null,null,null,null,null,null,null,null,null,null,null,null,null,null,null,null,null,null,null,null,null,null,null,null,null,null,null,null,null,null,null,null,null,2020,null,null,"年度"]
["校長",null,null,null,"教頭",null,null,null,"教頭",null,null,null,"主幹教諭",null,null,null,null,null,null,null,"顧問",null,null,null,null,"学校名",null,null,null,null,null,null,null,null,null,null,null,null,"学校"]
["印",null,null,null,"印",null,null,null,"印",null,null,null,"印",null,null,null,"印",null,null,null,"印"]
[null,null,null,null,null,null,null,null,null,null,null,null,null,null,null,null,null,null,null,null,null,null,null,null,null,"部活動名",null,null,null,null,null,null,null,null,null,null,null,null,"部"]
[]
[]
[4,null,null,null,null,"月",null,null,"〈月間〉部活動計画・活動実績",null,null,null,null,null,null,null,null,null,null,null,null,null,null,null,"部員数",null,null,"1女",null,"2女",null,"3女",null,"1男",null,"2男",null,"3男",null,"計"]
[null,null,null,null,null,null,null,null,null,null,null,null,null,null,null,null,null,null,null,null,null,null,null,null,null,null,null,null,null,0,null,0,null,null,null,null,null,null,null,{"$f":"SUM(AB8:AM8)","v":0}]
[]
[null,"職名",null,null,null,null,null,null,"顧問",null,null,null,null,null,null,null,null,null,null,null,null,"職名",null,null,null,null,null,null,"副２"]
[]
[null,"職名",null,null,null,null,null,null,"副顧問",null,null,null,null,null,null,null,null,null,null,null,null,"職名",null,null,null,null,null,null,"副３"]
[]
[]
["日",null,"曜",null,"ＡＭ",null,null,null,null,null,null,"ＰＭ",null,null,null,null,null,null,"時間",null,null,"内容（練習・大会・OFF等）",null,null,null,null,null,null,null,null,null,null,null,"場所"]
[1,null,{"$f":"IF(A16=\"\",\"\",TEXT(DATE($AQ$1,$A$7,A16),\"aaa\"))","v":"水"},null,null,null,null,"～",null,null,null,null,null,null,"～",null,null,null,{"$f":"(I16-E16)+(P16-L16)","v":"00:00:00"}]
[2,null,{"$f":"IF(A17=\"\",\"\",TEXT(DATE($AQ$1,$A$7,A17),\"aaa\"))","v":"木"},null,null,null,null,"～",null,null,null,null,null,null,"～",null,null,null,"00:00:00"]
[3,null,"金",null,null,null,null,"～",null,null,null,null,null,null,"～",null,null,null,"00:00:00"]
[4,null,"土",null,null,null,null,"～",null,null,null,null,null,null,"～",null,null,null,"00:00:00"]
[5,null,"日",null,null,null,null,"～",null,null,null,null,null,null,"～",null,null,null,"00:00:00"]
[6,null,"月",null,null,null,null,"～",null,null,null,null,null,null,"～",null,null,null,"00:00:00"]
[7,null,"火",null,null,null,null,"～",null,null,null,null,null,null,"～",null,null,null,"00:00:00"]
[8,null,"水",null,null,null,null,"～",null,null,null,null,null,null,"～",null,null,null,"00:00:00"]
[9,null,"木",null,null,null,null,"～",null,null,null,null,null,null,"～",null,null,null,"00:00:00"]
[10,null,"金",null,null,null,null,"～",null,null,null,null,null,null,"～",null,null,null,"00:00:00"]
[11,null,"土",null,null,null,null,"～",null,null,null,null,null,null,"～",null,null,null,"00:00:00"]
[12,null,"日",null,null,null,null,"～",null,null,null,null,null,null,"～",null,null,null,"00:00:00"]
[13,null,"月",null,null,null,null,"～",null,null,null,null,null,null,"～",null,null,null,"00:00:00"]
[14,null,"火",null,null,null,null,"～",null,null,null,null,null,null,"～",null,null,null,"00:00:00"]
[15,null,"水",null,null,null,null,"～",null,null,null,null,null,null,"～",null,null,null,"00:00:00"]
[16,null,"木",null,null,null,null,"～",null,null,null,null,null,null,"～",null,null,null,"00:00:00"]
[17,null,"金",null,null,null,null,"～",null,null,null,null,null,null,"～",null,null,null,"00:00:00"]
[18,null,"土",null,null,null,null,"～",null,null,null,null,null,null,"～",null,null,null,"00:00:00"]
[19,null,"日",null,null,null,null,"～",null,null,null,null,null,null,"～",null,null,null,"00:00:00"]
[20,null,"月",null,null,null,null,"～",null,null,null,null,null,null,"～",null,null,null,"00:00:00"]
[21,null,"火",null,null,null,null,"～",null,null,null,null,null,null,"～",null,null,null,"00:00:00"]
[22,null,"水",null,null,null,null,"～",null,null,null,null,null,null,"～",null,null,null,"00:00:00"]
[23,null,"木",null,null,null,null,"～",null,null,null,null,null,null,"～",null,null,null,"00:00:00"]
[24,null,"金",null,null,null,null,"～",null,null,null,null,null,null,"～",null,null,null,"00:00:00"]
[25,null,"土",null,null,null,null,"～",null,null,null,null,null,null,"～",null,null,null,"00:00:00"]
[26,null,"日",null,null,null,null,"～",null,null,null,null,null,null,"～",null,null,null,"00:00:00"]
[27,null,"月",null,null,null,null,"～",null,null,null,null,null,null,"～",null,null,null,"00:00:00"]
[28,null,"火",null,null,null,null,"～",null,null,null,null,null,null,"～",null,null,null,"00:00:00"]
[29,null,"水",null,null,null,null,"～",null,null,null,null,null,null,"～",null,null,null,"00:00:00"]
[30,null,"木",null,null,null,null,"～",null,null,null,null,null,null,"～",null,null,null,"00:00:00"]
[null,null,"",null,null,null,null,"～",null,null,null,null,null,null,"～",null,null,null,"00:00:00",null,null,null,null,null,null,null,null,null,null,null,null,null,null,null,null,null,null,null,null,null,null,null,null,null,null,null,null,null,null,null,null,null,null,null,null,null,null,null,null,null,null,null,{"$f":"RIGHT(V46,2)","v":""}]
[null,null,null,null,null,null,null,null,null,null,null,null,null,null,null,null,null,null,{"$f":"SUM(S16:U46)","v":0},null,null,null,null,null,null,null,null,null,null,null,null,null,"赤字変更内容については口頭命令済",null,null,null,null,"校長"]
[null,null,null,null,null,null,null,null,null,null,null,null,null,null,null,null,null,null,null,null,null,null,null,null,null,null,null,null,null,null,null,null,null,null,null,null,null," 　 .  　."]
["月",null,null,4,null,5,null,6,null,7,null,8,null,9,null,10,null,11,null,12,null,1,null,2,null,3,null,"計"]
["時間",null,null,{"$f":"S47","v":0},null,null,null,null,null,null,null,null,null,null,null,null,null,null,null,null,null,null,null,null,null,null,null,{"$f":"SUM(D50:AA50)","v":0},null,null,null,null,"時間"]
["活動日数",null,null,{"$f":"COUNTIF(S16:U45,\">0\")","v":0},null,null,null,null,null,null,null,null,null,null,null,null,null,null,null,null,null,null,null,null,null,null,null,{"$f":"SUM(D51:AA51)","v":0},null,null,null,null,"活動日数"]
["休養日数",null,null,{"$f":"COUNTIF(S16:U45,\"0:00\")","v":30},null,null,null,null,null,null,null,null,null,null,null,null,null,null,null,null,null,null,null,null,null,null,null,{"$f":"SUM(D52:AA52)","v":30},null,null,null,null,"休養日数"]
[null,null,null,null,null,null,null,null,null,null,null,null,null,null,null,null,null,null,null,null,null,null,null,null,null,null,null,{"$f":"AB50/AB51","v":{"$error":"#DIV/0!"}},null,null,null,null,"平均時間/日"]

{"sheet":"5計画","index":2,"n_rows":53,"n_cols":63,"rows_kept":53,"cut":false,"hidden":false,"merged":[[46,32,48,36],[46,37,46,40],[47,37,48,40],[2,0,4,3],[2,4,4,7],[2,8,4,11],[2,12,4,15],[6,0,7,4],[6,5,7,7],[1,25,2,27],[1,28,2,37],[14,0,14,1],[14,2,14,3],[14,4,14,10],[14,11,14,17],[14,18,14,20],[14,21,14,32],[14,33,14,40],[15,0,15,1],[15,2,15,3],[15,4,15,6],[15,8,15,10],[15,11,15,13],[15,15,15,17],[0,0,0,3],[1,0,1,3],[1,4,1,7],[1,8,1,11],[1,12,1,15],[1,16,1,19],[1,20,1,23],[6,27,6,28],[6,29,6,30],[15,18,15,20],[15,21,15,26],[15,27,15,32],[15,33,15,40],[16,33,16,40],[17,0,17,1],[17,2,17,3],[17,4,17,6],[17,8,17,10],[17,11,17,13],[17,15,17,17],[17,18,17,20],[17,21,17,26],[17,27,17,32],[17,33,17,40],[16,0,16,1],[16,2,16,3],[16,4,16,6],[16,8,16,10],[16,11,16,13],[16,15,16,17],[16,18,16,20],[16,21,16,26],[16,27,16,32],[18,33,18,40],[19,0,19,1],[19,2,19,3],[19,4,19,6],[19,8,19,10],[19,11,19,13],[19,15,19,17],[19,18,19,20],[19,21,19,26],[19,27,19,32],[19,33,19,40],[18,0,18,1],[18,2,18,3],[18,4,18,6],[18,8,18,10],[18,11,18,13],[18,15,18,17],[18,18,18,20],[18,21,18,26],[18,27,18,32],[20,33,20,40],[21,0,21,1],[21,2,21,3],[21,4,21,6],[21,8,21,10],[21,11,21,13],[21,15,21,17],[21,18,21,20],[21,21,21,26],[21,27,21,32],[21,33,21,40],[20,0,20,1],[20,2,20,3],[20,4,20,6],[20,8,20,10],[20,11,20,13],[20,15,20,17],[20,18,20,20],[20,21,20,26],[20,27,20,32],[22,33,22,40],[23,0,23,1],[23,2,23,3],[23,4,23,6],[23,8,23,10],[23,11,23,13],[23,15,23,17],[23,18,23,20],[23,21,23,26],[23,27,23,32],[23,33,23,40],[22,0,22,1],[22,2,22,3],[22,4,22,6],[22,8,22,10],[22,11,22,13],[22,15,22,17],[22,18,22,20],[22,21,22,26],[22,27,22,32],[24,33,24,40],[25,0,25,1],[25,2,25,3],[25,4,25,6],[25,8,25,10],[25,11,25,13],[25,15,25,17],[25,18,25,20],[25,21,25,26],[25,27,25,32],[25,33,25,40],[24,0,24,1],[24,2,24,3],[24,4,24,6],[24,8,24,10],[24,11,24,13],[24,15,24,17],[24,18,24,20],[24,21,24,26],[24,27,24,32],[26,33,26,40],[27,0,27,1],[27,2,27,3],[27,4,27,6],[27,8,27,10],[27,11,27,13],[27,15,27,17],[27,18,27,20],[27,21,27,26],[27,27,27,32],[27,33,27,40],[26,0,26,1],[26,2,26,3],[26,4,26,6],[26,8,26,10],[26,11,26,13],[26,15,26,17],[26,18,26,20],[26,21,26,26],[26,27,26,32],[28,33,28,40],[29,0,29,1],[29,2,29,3],[29,4,29,6],[29,8,29,10],[29,11,29,13],[29,15,29,17],[29,18,29,20],[29,21,29,26],[29,27,29,32],[29,33,29,40],[28,0,28,1],[28,2,28,3],[28,4,28,6],[28,8,28,10],[28,11,28,13],[28,15,28,17],[28,18,28,20],[28,21,28,26],[28,27,28,32],[30,33,30,40],[31,0,31,1],[31,2,31,3],[31,4,31,6],[31,8,31,10],[31,11,31,13],[31,15,31,17],[31,18,31,20],[31,21,31,26],[31,27,31,32],[31,33,31,40],[30,0,30,1],[30,2,30,3],[30,4,30,6],[30,8,30,10],[30,11,30,13],[30,15,30,17],[30,18,30,20],[30,21,30,26],[30,27,30,32],[32,33,32,40],[33,0,33,1],[33,2,33,3],[33,4,33,6],[33,8,33,10],[33,11,33,13],[33,15,33,17],[33,18,33,20],[33,21,33,26],[33,27,33,32],[33,33,33,40],[32,0,32,1],[32,2,32,3],[32,4,32,6],[32,8,32,10],[32,11,32,13],[32,15,32,17],[32,18,32,20],[32,21,32,26],[32,27,32,32],[34,33,34,40],[35,0,35,1],[35,2,35,3],[35,4,35,6],[35,8,35,10],[35,11,35,13],[35,15,35,17],[35,18,35,20],[35,21,35,26],[35,27,35,32],[35,33,35,40],[34,0,34,1],[34,2,34,3],[34,4,34,6],[34,8,34,10],[34,11,34,13],[34,15,34,17],[34,18,34,20],[34,21,34,26],[34,27,34,32],[36,33,36,40],[37,0,37,1],[37,2,37,3],[37,4,37,6],[37,8,37,10],[37,11,37,13],[37,15,37,17],[37,18,37,20],[37,21,37,26],[37,27,37,32],[37,33,37,40],[36,0,36,1],[36,2,36,3],[36,4,36,6],[36,8,36,10],[36,11,36,13],[36,15,36,17],[36,18,36,20],[36,21,36,26],[36,27,36,32],[38,33,38,40],[39,0,39,1],[39,2,39,3],[39,4,39,6],[39,8,39,10],[39,11,39,13],[39,15,39,17],[39,18,39,20],[39,21,39,26],[39,27,39,32],[39,33,39,40],[38,0,38,1],[38,2,38,3],[38,4,38,6],[38,8,38,10],[38,11,38,13],[38,15,38,17],[38,18,38,20],[38,21,38,26],[38,27,38,32],[40,33,40,40],[41,0,41,1],[41,2,41,3],[41,4,41,6],[41,8,41,10],[41,11,41,13],[41,15,41,17],[41,18,41,20],[41,21,41,26],[41,27,41,32],[41,33,41,40],[40,0,40,1],[40,2,40,3],[40,4,40,6],[40,8,40,10],[40,11,40,13],[40,15,40,17],[40,18,40,20],[40,21,40,26],[40,27,40,32],[42,33,42,40],[43,0,43,1],[43,2,43,3],[43,4,43,6],[43,8,43,10],[43,11,43,13],[43,15,43,17],[43,18,43,20],[43,21,43,26],[43,27,43,32],[43,33,43,40],[42,0,42,1],[42,2,42,3],[42,4,42,6],[42,8,42,10],[42,11,42,13],[42,15,42,17],[42,18,42,20],[42,21,42,26],[42,27,42,32],[48,21,48,22],[48,23,48,24],[48,25,48,26],[48,27,48,31],[44,33,44,40],[45,0,45,1],[45,2,45,3],[45,4,45,6],[45,8,45,10],[45,11,45,13],[45,15,45,17],[45,18,45,20],[45,21,45,26],[45,27,45,32],[45,33,45,40],[44,0,44,1],[44,2,44,3],[44,4,44,6],[44,8,44,10],[44,11,44,13],[44,15,44,17],[44,18,44,20],[44,21,44,26],[44,27,44,32],[48,3,48,4],[48,5,48,6],[48,7,48,8],[48,9,48,10],[48,11,48,12],[48,13,48,14],[48,15,48,16],[48,17,48,18],[48,19,48,20],[51,0,51,2],[51,3,51,4],[51,5,51,6],[51,7,51,8],[51,9,51,10],[51,11,51,12],[51,13,51,14],[51,15,51,16],[51,17,51,18],[46,18,46,20],[48,0,48,2],[1,38,2,40],[2,16,4,19],[2,20,4,23],[3,25,4,27],[3,28,4,37],[3,38,4,40],[6,8,7,22],[6,24,7,26],[6,33,6,34],[6,35,6,36],[6,37,6,38],[6,39,6,40],[7,27,7,28],[7,29,7,30],[7,31,7,32],[7,33,7,34],[7,35,7,36],[7,37,7,38],[7,39,7,40],[6,31,6,32],[9,39,10,40],[11,39,12,40],[50,32,50,34],[49,0,49,2],[49,3,49,4],[49,5,49,6],[49,7,49,8],[49,9,49,10],[49,11,49,12],[49,13,49,14],[49,15,49,16],[49,17,49,18],[49,19,49,20],[49,21,49,22],[49,23,49,24],[49,25,49,26],[49,27,49,31],[49,32,49,34],[50,0,50,2],[50,3,50,4],[50,5,50,6],[50,7,50,8],[50,9,50,10],[50,11,50,12],[50,13,50,14],[9,1,10,2],[9,3,10,7],[9,8,10,9],[9,10,10,18],[9,19,10,20],[9,21,10,22],[9,23,10,27],[9,28,10,29],[9,30,10,38],[52,27,52,31],[52,32,52,34],[11,1,12,2],[11,3,12,7],[11,8,12,9],[11,10,12,18],[11,19,12,20],[11,21,12,22],[11,23,12,27],[11,28,12,29],[11,30,12,38],[51,19,51,20],[51,21,51,22],[51,23,51,24],[51,25,51,26],[51,27,51,31],[51,32,51,34],[50,15,50,16],[50,17,50,18],[50,19,50,20],[50,21,50,22],[50,23,50,24],[50,25,50,26],[50,27,50,31]]}
[null,null,null,null,null,null,null,null,null,null,null,null,null,null,null,null,null,null,null,null,null,null,null,null,null,null,null,null,null,null,null,null,null,null,null,null,null,null,null,null,null,null,null,null,{"$f":"'4計画'!AQ1","v":2020}]
["校長",null,null,null,"教頭",null,null,null,"教頭",null,null,null,"主幹教諭",null,null,null,null,null,null,null,"顧問",null,null,null,null,"学校名",null,null,{"$f":"IF('４実績'!AC2=\"\",\"\",'４実績'!AC2)","v":0},null,null,null,null,null,null,null,null,null,"学校"]
["印",null,null,null,"印",null,null,null,"印",null,null,null,"印",null,null,null,"印",null,null,null,"印"]
[null,null,null,null,null,null,null,null,null,null,null,null,null,null,null,null,null,null,null,null,null,null,null,null,null,"部活動名",null,null,{"$f":"IF('４実績'!AC4=\"\",\"\",'４実績'!AC4)","v":0},null,null,null,null,null,null,null,null,null,"部"]
[]
[]
[5,null,null,null,null,"月",null,null,"〈月間〉部活動計画・活動実績",null,null,null,null,null,null,null,null,null,null,null,null,null,null,null,"部員数",null,null,"1女",null,"2女",null,"3女",null,"1男",null,"2男",null,"3男",null,"計"]
[null,null,null,null,null,null,null,null,null,null,null,null,null,null,null,null,null,null,null,null,null,null,null,null,null,null,null,{"$f":"IF('４実績'!AB8=\"\",\"\",'４実績'!AB8)","v":0},null,{"$f":"IF('４実績'!AD8=\"\",\"\",'４実績'!AD8)","v":0},null,{"$f":"IF('４実績'!AF8=\"\",\"\",'４実績'!AF8)","v":0},null,{"$f":"IF('４実績'!AH8=\"\",\"\",'４実績'!AH8)","v":0},null,{"$f":"IF('４実績'!AJ8=\"\",\"\",'４実績'!AJ8)","v":0},null,{"$f":"IF('４実績'!AL8=\"\",\"\",'４実績'!AL8)","v":0},null,{"$f":"SUM(AB8:AM8)","v":0}]
[]
[null,"職名",null,null,null,null,null,null,"顧問",null,{"$f":"IF('４実績'!K10=\"\",\"\",'４実績'!K10)","v":0},null,null,null,null,null,null,null,null,null,null,"職名",null,{"$f":"IF('４実績'!X10=\"\",\"\",'４実績'!X10)","v":0},null,null,null,null,"副２",null,{"$f":"IF('４実績'!AE10=\"\",\"\",'４実績'!AE10)","v":0}]
[]
[null,"職名",null,{"$f":"IF('４実績'!D12=\"\",\"\",'４実績'!D12)","v":0},null,null,null,null,"副顧問",null,{"$f":"IF('４実績'!K12=\"\",\"\",'４実績'!K12)","v":0},null,null,null,null,null,null,null,null,null,null,"職名",null,{"$f":"IF('４実績'!X12=\"\",\"\",'４実績'!X12)","v":0},null,null,null,null,"副３",null,{"$f":"IF('４実績'!AE12=\"\",\"\",'４実績'!AE12)","v":0}]
[]
[]
["日",null,"曜",null,"ＡＭ",null,null,null,null,null,null,"ＰＭ",null,null,null,null,null,null,"時間",null,null,"内容（練習・大会・OFF等）",null,null,null,null,null,null,null,null,null,null,null,"場所"]
[1,null,{"$f":"IF(A16=\"\",\"\",TEXT(DATE($AS$1,$A$7,A16),\"aaa\"))","v":"金"},null,null,null,null,"～",null,null,null,null,null,null,"～",null,null,null,{"$f":"(I16-E16)+(P16-L16)","v":"00:00:00"}]
[2,null,{"$f":"IF(A17=\"\",\"\",TEXT(DATE($AS$1,$A$7,A17),\"aaa\"))","v":"土"},null,null,null,null,"～",null,null,null,null,null,null,"～",null,null,null,"00:00:00"]
[3,null,"日",null,null,null,null,"～",null,null,null,null,null,null,"～",null,null,null,"00:00:00"]
[4,null,"月",null,null,null,null,"～",null,null,null,null,null,null,"～",null,null,null,"00:00:00"]
[5,null,"火",null,null,null,null,"～",null,null,null,null,null,null,"～",null,null,null,"00:00:00"]
[6,null,"水",null,null,null,null,"～",null,null,null,null,null,null,"～",null,null,null,"00:00:00"]
[7,null,"木",null,null,null,null,"～",null,null,null,null,null,null,"～",null,null,null,"00:00:00"]
[8,null,"金",null,null,null,null,"～",null,null,null,null,null,null,"～",null,null,null,"00:00:00"]
[9,null,"土",null,null,null,null,"～",null,null,null,null,null,null,"～",null,null,null,"00:00:00"]
[10,null,"日",null,null,null,null,"～",null,null,null,null,null,null,"～",null,null,null,"00:00:00"]
[11,null,"月",null,null,null,null,"～",null,null,null,null,null,null,"～",null,null,null,"00:00:00"]
[12,null,"火",null,null,null,null,"～",null,null,null,null,null,null,"～",null,null,null,"00:00:00"]
[13,null,"水",null,null,null,null,"～",null,null,null,null,null,null,"～",null,null,null,"00:00:00"]
[14,null,"木",null,null,null,null,"～",null,null,null,null,null,null,"～",null,null,null,"00:00:00"]
[15,null,"金",null,null,null,null,"～",null,null,null,null,null,null,"～",null,null,null,"00:00:00"]
[16,null,"土",null,null,null,null,"～",null,null,null,null,null,null,"～",null,null,null,"00:00:00"]
[17,null,"日",null,null,null,null,"～",null,null,null,null,null,null,"～",null,null,null,"00:00:00"]
[18,null,"月",null,null,null,null,"～",null,null,null,null,null,null,"～",null,null,null,"00:00:00"]
[19,null,"火",null,null,null,null,"～",null,null,null,null,null,null,"～",null,null,null,"00:00:00"]
[20,null,"水",null,null,null,null,"～",null,null,null,null,null,null,"～",null,null,null,"00:00:00"]
[21,null,"木",null,null,null,null,"～",null,null,null,null,null,null,"～",null,null,null,"00:00:00"]
[22,null,"金",null,null,null,null,"～",null,null,null,null,null,null,"～",null,null,null,"00:00:00"]
[23,null,"土",null,null,null,null,"～",null,null,null,null,null,null,"～",null,null,null,"00:00:00"]
[24,null,"日",null,null,null,null,"～",null,null,null,null,null,null,"～",null,null,null,"00:00:00"]
[25,null,"月",null,null,null,null,"～",null,null,null,null,null,null,"～",null,null,null,"00:00:00"]
[26,null,"火",null,null,null,null,"～",null,null,null,null,null,null,"～",null,null,null,"00:00:00"]
[27,null,"水",null,null,null,null,"～",null,null,null,null,null,null,"～",null,null,null,"00:00:00"]
[28,null,"木",null,null,null,null,"～",null,null,null,null,null,null,"～",null,null,null,"00:00:00"]
[29,null,"金",null,null,null,null,"～",null,null,null,null,null,null,"～",null,null,null,"00:00:00"]
[30,null,"土",null,null,null,null,"～",null,null,null,null,null,null,"～",null,null,null,"00:00:00"]
[31,null,"日",null,null,null,null,"～",null,null,null,null,null,null,"～",null,null,null,"00:00:00",null,null,null,null,null,null,null,null,null,null,null,null,null,null,null,null,null,null,null,null,null,null,null,null,null,null,null,null,null,null,null,null,null,null,null,null,null,null,null,null,null,null,null,{"$f":"RIGHT(V46,2)","v":""}]
[null,null,null,null,null,null,null,null,null,null,null,null,null,null,null,null,null,null,{"$f":"SUM(S16:U46)","v":0},null,null,null,null,null,null,null,null,null,null,null,null,null,"赤字変更内容については口頭命令済",null,null,null,null,"校長"]
[null,null,null,null,null,null,null,null,null,null,null,null,null,null,null,null,null,null,null,null,null,null,null,null,null,null,null,null,null,null,null,null,null,null,null,null,null,"　  .  　."]
["月",null,null,4,null,5,null,6,null,7,null,8,null,9,null,10,null,11,null,12,null,1,null,2,null,3,null,"計"]
["時間",null,null,{"$f":"'４実績'!D50","v":0},null,{"$f":"S47","v":0},null,null,null,null,null,null,null,null,null,null,null,null,null,null,null,null,null,null,null,null,null,{"$f":"SUM(D50:AA50)","v":0},null,null,null,null,"時間"]
["活動日数",null,null,{"$f":"'４実績'!D51","v":0},null,{"$f":"COUNTIF(S16:U46,\">0\")","v":0},null,null,null,null,null,null,null,null,null,null,null,null,null,null,null,null,null,null,null,null,null,{"$f":"SUM(D51:AA51)","v":0},null,null,null,null,"活動日数"]
["休養日数",null,null,{"$f":"'４実績'!D52","v":30},null,{"$f":"COUNTIF(S16:U46,\"0:00\")","v":31},null,null,null,null,null,null,null,null,null,null,null,null,null,null,null,null,null,null,null,null,null,{"$f":"SUM(D52:AA52)","v":61},null,null,null,null,"休養日数"]
[null,null,null,null,null,null,null,null,null,null,null,null,null,null,null,null,null,null,null,null,null,null,null,null,null,null,null,{"$f":"AB50/AB51","v":{"$error":"#DIV/0!"}},null,null,null,null,"平均時間/日"]

{"sheet":"６計画","index":3,"n_rows":53,"n_cols":63,"rows_kept":53,"cut":false,"hidden":false,"merged":[[46,32,48,36],[46,37,46,40],[47,37,48,40],[0,0,0,3],[6,0,7,4],[6,5,7,7],[6,8,7,22],[6,24,7,26],[6,33,6,34],[6,35,6,36],[6,37,6,38],[6,39,6,40],[7,27,7,28],[7,29,7,30],[7,31,7,32],[7,33,7,34],[7,35,7,36],[7,37,7,38],[7,39,7,40],[6,27,6,28],[6,29,6,30],[6,31,6,32],[14,0,14,1],[14,2,14,3],[14,4,14,10],[14,11,14,17],[14,18,14,20],[14,21,14,32],[14,33,14,40],[15,0,15,1],[15,2,15,3],[15,4,15,6],[15,8,15,10],[15,11,15,13],[15,15,15,17],[15,18,15,20],[15,21,15,26],[15,27,15,32],[15,33,15,40],[16,33,16,40],[17,0,17,1],[17,2,17,3],[17,4,17,6],[17,8,17,10],[17,11,17,13],[17,15,17,17],[17,18,17,20],[17,21,17,26],[17,27,17,32],[17,33,17,40],[16,0,16,1],[16,2,16,3],[16,4,16,6],[16,8,16,10],[16,11,16,13],[16,15,16,17],[16,18,16,20],[16,21,16,26],[16,27,16,32],[18,33,18,40],[19,0,19,1],[19,2,19,3],[19,4,19,6],[19,8,19,10],[19,11,19,13],[19,15,19,17],[19,18,19,20],[19,21,19,26],[19,27,19,32],[19,33,19,40],[18,0,18,1],[18,2,18,3],[18,4,18,6],[18,8,18,10],[18,11,18,13],[18,15,18,17],[18,18,18,20],[18,21,18,26],[18,27,18,32],[20,33,20,40],[21,0,21,1],[21,2,21,3],[21,4,21,6],[21,8,21,10],[21,11,21,13],[21,15,21,17],[21,18,21,20],[21,21,21,26],[21,27,21,32],[21,33,21,40],[20,0,20,1],[20,2,20,3],[20,4,20,6],[20,8,20,10],[20,11,20,13],[20,15,20,17],[20,18,20,20],[20,21,20,26],[20,27,20,32],[22,33,22,40],[23,0,23,1],[23,2,23,3],[23,4,23,6],[23,8,23,10],[23,11,23,13],[23,15,23,17],[23,18,23,20],[23,21,23,26],[23,27,23,32],[23,33,23,40],[22,0,22,1],[22,2,22,3],[22,4,22,6],[22,8,22,10],[22,11,22,13],[22,15,22,17],[22,18,22,20],[22,21,22,26],[22,27,22,32],[24,33,24,40],[25,0,25,1],[25,2,25,3],[25,4,25,6],[25,8,25,10],[25,11,25,13],[25,15,25,17],[25,18,25,20],[25,21,25,26],[25,27,25,32],[25,33,25,40],[24,0,24,1],[24,2,24,3],[24,4,24,6],[24,8,24,10],[24,11,24,13],[24,15,24,17],[24,18,24,20],[24,21,24,26],[24,27,24,32],[26,33,26,40],[27,0,27,1],[27,2,27,3],[27,4,27,6],[27,8,27,10],[27,11,27,13],[27,15,27,17],[27,18,27,20],[27,21,27,26],[27,27,27,32],[27,33,27,40],[26,0,26,1],[26,2,26,3],[26,4,26,6],[26,8,26,10],[26,11,26,13],[26,15,26,17],[26,18,26,20],[26,21,26,26],[26,27,26,32],[28,0,28,1],[28,2,28,3],[28,4,28,6],[28,8,28,10],[28,11,28,13],[28,15,28,17],[28,18,28,20],[28,21,28,26],[28,27,28,32],[29,0,29,1],[29,2,29,3],[29,4,29,6],[29,8,29,10],[29,11,29,13],[29,15,29,17],[29,18,29,20],[29,21,29,26],[29,27,29,32],[30,0,30,1],[30,2,30,3],[30,4,30,6],[30,8,30,10],[30,11,30,13],[30,15,30,17],[30,18,30,20],[30,21,30,26],[30,27,30,32],[31,0,31,1],[31,2,31,3],[31,4,31,6],[31,8,31,10],[31,11,31,13],[31,15,31,17],[31,18,31,20],[31,21,31,26],[31,27,31,32],[32,0,32,1],[32,2,32,3],[32,4,32,6],[32,8,32,10],[32,11,32,13],[32,15,32,17],[32,18,32,20],[32,21,32,26],[32,27,32,32],[33,0,33,1],[33,2,33,3],[33,4,33,6],[33,8,33,10],[33,11,33,13],[33,15,33,17],[33,18,33,20],[33,21,33,26],[33,27,33,32],[34,0,34,1],[34,2,34,3],[34,4,34,6],[34,8,34,10],[34,11,34,13],[34,15,34,17],[34,18,34,20],[34,21,34,26],[34,27,34,32],[35,0,35,1],[35,2,35,3],[35,4,35,6],[35,8,35,10],[35,11,35,13],[35,15,35,17],[35,18,35,20],[35,21,35,26],[35,27,35,32],[36,0,36,1],[36,2,36,3],[36,4,36,6],[36,8,36,10],[36,11,36,13],[36,15,36,17],[36,18,36,20],[36,21,36,26],[36,27,36,32],[37,0,37,1],[37,2,37,3],[37,4,37,6],[37,8,37,10],[37,11,37,13],[37,15,37,17],[37,18,37,20],[37,21,37,26],[37,27,37,32],[38,0,38,1],[38,2,38,3],[38,4,38,6],[38,8,38,10],[38,11,38,13],[38,15,38,17],[38,18,38,20],[38,21,38,26],[38,27,38,32],[39,0,39,1],[39,2,39,3],[39,4,39,6],[39,8,39,10],[39,11,39,13],[39,15,39,17],[39,18,39,20],[39,21,39,26],[39,27,39,32],[40,0,40,1],[40,2,40,3],[40,4,40,6],[40,8,40,10],[40,11,40,13],[40,15,40,17],[40,18,40,20],[40,21,40,26],[40,27,40,32],[41,0,41,1],[41,2,41,3],[41,4,41,6],[41,8,41,10],[41,11,41,13],[41,15,41,17],[41,18,41,20],[41,21,41,26],[41,27,41,32],[42,0,42,1],[42,2,42,3],[42,4,42,6],[42,8,42,10],[42,11,42,13],[42,15,42,17],[42,18,42,20],[42,21,42,26],[42,27,42,32],[43,0,43,1],[43,2,43,3],[43,4,43,6],[43,8,43,10],[43,11,43,13],[43,15,43,17],[43,18,43,20],[43,21,43,26],[43,27,43,32],[44,0,44,1],[44,2,44,3],[44,4,44,6],[44,8,44,10],[44,11,44,13],[44,15,44,17],[44,18,44,20],[44,21,44,26],[44,27,44,32],[45,0,45,1],[45,2,45,3],[45,18,45,20],[45,33,45,40],[48,0,48,2],[48,3,48,4],[48,5,48,6],[48,7,48,8],[48,9,48,10],[48,11,48,12],[48,13,48,14],[48,15,48,16],[48,17,48,18],[48,19,48,20],[48,21,48,22],[48,23,48,24],[48,25,48,26],[48,27,48,31],[46,18,46,20],[45,4,45,6],[45,8,45,10],[45,11,45,13],[45,15,45,17],[45,21,45,26],[49,0,49,2],[49,3,49,4],[49,5,49,6],[49,7,49,8],[49,9,49,10],[49,11,49,12],[49,13,49,14],[49,15,49,16],[49,17,49,18],[50,0,50,2],[50,3,50,4],[50,5,50,6],[50,7,50,8],[50,9,50,10],[50,11,50,12],[50,13,50,14],[50,15,50,16],[50,17,50,18],[49,19,49,20],[49,21,49,22],[49,23,49,24],[49,25,49,26],[49,27,49,31],[50,19,50,20],[50,21,50,22],[50,23,50,24],[50,25,50,26],[50,27,50,31],[51,13,51,14],[51,15,51,16],[51,17,51,18],[51,19,51,20],[51,21,51,22],[51,23,51,24],[51,25,51,26],[51,27,51,31],[51,32,51,34],[51,0,51,2],[1,38,2,40],[2,0,4,3],[2,4,4,7],[2,8,4,11],[2,12,4,15],[2,16,4,19],[2,20,4,23],[3,25,4,27],[3,28,4,37],[3,38,4,40],[1,0,1,3],[1,4,1,7],[1,8,1,11],[1,12,1,15],[1,16,1,19],[1,20,1,23],[1,25,2,27],[1,28,2,37],[51,3,51,4],[51,5,51,6],[51,7,51,8],[51,9,51,10],[51,11,51,12],[9,1,10,2],[9,3,10,7],[9,8,10,9],[9,10,10,18],[9,19,10,20],[9,21,10,22],[9,23,10,27],[9,28,10,29],[9,30,10,38],[11,1,12,2],[11,3,12,7],[11,8,12,9],[11,10,12,18],[11,19,12,20],[11,21,12,22],[11,23,12,27],[11,28,12,29],[11,30,12,38],[49,32,49,34],[45,27,45,32],[44,33,44,40],[42,33,42,40],[43,33,43,40],[52,27,52,31],[52,32,52,34],[50,32,50,34],[9,39,10,40],[11,39,12,40],[40,33,40,40],[41,33,41,40],[38,33,38,40],[39,33,39,40],[36,33,36,40],[37,33,37,40],[34,33,34,40],[35,33,35,40],[32,33,32,40],[33,33,33,40],[30,33,30,40],[31,33,31,40],[28,33,28,40],[29,33,29,40]]}
[null,null,null,null,null,null,null,null,null,null,null,null,null,null,null,null,null,null,null,null,null,null,null,null,null,null,null,null,null,null,null,null,null,null,null,null,null,null,null,null,null,null,null,null,null,{"$f":"'4計画'!AQ1","v":2020}]
["校長",null,null,null,"教頭",null,null,null,"教頭",null,null,null,"主幹教諭",null,null,null,null,null,null,null,"顧問",null,null,null,null,"学校名",null,null,{"$f":"IF('５実績'!AC2=\"\",\"\",'５実績'!AC2)","v":0},null,null,null,null,null,null,null,null,null,"学校"]
["印",null,null,null,"印",null,null,null,"印",null,null,null,"印",null,null,null,"印",null,null,null,"印"]
[null,null,null,null,null,null,null,null,null,null,null,null,null,null,null,null,null,null,null,null,null,null,null,null,null,"部活動名",null,null,{"$f":"IF('５実績'!AC4=\"\",\"\",'５実績'!AC4)","v":0},null,null,null,null,null,null,null,null,null,"部"]
[]
[]
[6,null,null,null,null,"月",null,null,"〈月間〉部活動計画・活動実績",null,null,null,null,null,null,null,null,null,null,null,null,null,null,null,"部員数",null,null,"1女",null,"2女",null,"3女",null,"1男",null,"2男",null,"3男",null,"計"]
[null,null,null,null,null,null,null,null,null,null,null,null,null,null,null,null,null,null,null,null,null,null,null,null,null,null,null,{"$f":"IF('５実績'!AB8=\"\",\"\",'５実績'!AB8)","v":0},null,{"$f":"IF('５実績'!AD8=\"\",\"\",'５実績'!AD8)","v":0},null,{"$f":"IF('５実績'!AF8=\"\",\"\",'５実績'!AF8)","v":0},null,{"$f":"IF('５実績'!AH8=\"\",\"\",'５実績'!AH8)","v":0},null,{"$f":"IF('５実績'!AJ8=\"\",\"\",'５実績'!AJ8)","v":0},null,{"$f":"IF('５実績'!AL8=\"\",\"\",'５実績'!AL8)","v":0},null,{"$f":"SUM(AB8:AM8)","v":0}]
[]
[null,"職名",null,{"$f":"IF('５実績'!D10=\"\",\"\",'５実績'!D10)","v":0},null,null,null,null,"顧問",null,{"$f":"IF('５実績'!K10=\"\",\"\",'５実績'!K10)","v":0},null,null,null,null,null,null,null,null,null,null,"職名",null,{"$f":"IF('５実績'!X10=\"\",\"\",'５実績'!X10)","v":0},null,null,null,null,"副２",null,{"$f":"IF('５実績'!AE10=\"\",\"\",'５実績'!AE10)","v":0}]
[]
[null,"職名",null,{"$f":"IF('５実績'!D12=\"\",\"\",'５実績'!D12)","v":0},null,null,null,null,"副顧問",null,{"$f":"IF('５実績'!K12=\"\",\"\",'５実績'!K12)","v":0},null,null,null,null,null,null,null,null,null,null,"職名",null,{"$f":"IF('５実績'!X12=\"\",\"\",'５実績'!X12)","v":0},null,null,null,null,"副３",null,{"$f":"IF('５実績'!AE12=\"\",\"\",'５実績'!AE12)","v":0}]
[]
[]
["日",null,"曜",null,"ＡＭ",null,null,null,null,null,null,"ＰＭ",null,null,null,null,null,null,"時間",null,null,"内容（練習・大会・OFF等）",null,null,null,null,null,null,null,null,null,null,null,"場所"]
[1,null,{"$f":"IF(A16=\"\",\"\",TEXT(DATE($AT$1,$A$7,A16),\"aaa\"))","v":"月"},null,null,null,null,"～",null,null,null,null,null,null,"～",null,null,null,{"$f":"(I16-E16)+(P16-L16)","v":"00:00:00"}]
[2,null,{"$f":"IF(A17=\"\",\"\",TEXT(DATE($AT$1,$A$7,A17),\"aaa\"))","v":"火"},null,null,null,null,"～",null,null,null,null,null,null,"～",null,null,null,"00:00:00"]
[3,null,"水",null,null,null,null,"～",null,null,null,null,null,null,"～",null,null,null,"00:00:00"]
[4,null,"木",null,null,null,null,"～",null,null,null,null,null,null,"～",null,null,null,"00:00:00"]
[5,null,"金",null,null,null,null,"～",null,null,null,null,null,null,"～",null,null,null,"00:00:00"]
[6,null,"土",null,null,null,null,"～",null,null,null,null,null,null,"～",null,null,null,"00:00:00"]
[7,null,"日",null,null,null,null,"～",null,null,null,null,null,null,"～",null,null,null,"00:00:00"]
[8,null,"月",null,null,null,null,"～",null,null,null,null,null,null,"～",null,null,null,"00:00:00"]
[9,null,"火",null,null,null,null,"～",null,null,null,null,null,null,"～",null,null,null,"00:00:00"]
[10,null,"水",null,null,null,null,"～",null,null,null,null,null,null,"～",null,null,null,"00:00:00"]
[11,null,"木",null,null,null,null,"～",null,null,null,null,null,null,"～",null,null,null,"00:00:00"]
[12,null,"金",null,null,null,null,"～",null,null,null,null,null,null,"～",null,null,null,"00:00:00"]
[13,null,"土",null,null,null,null,"～",null,null,null,null,null,null,"～",null,null,null,"00:00:00"]
[14,null,"日",null,null,null,null,"～",null,null,null,null,null,null,"～",null,null,null,"00:00:00"]
[15,null,"月",null,null,null,null,"～",null,null,null,null,null,null,"～",null,null,null,"00:00:00"]
[16,null,"火",null,null,null,null,"～",null,null,null,null,null,null,"～",null,null,null,"00:00:00"]
[17,null,"水",null,null,null,null,"～",null,null,null,null,null,null,"～",null,null,null,"00:00:00"]
[18,null,"木",null,null,null,null,"～",null,null,null,null,null,null,"～",null,null,null,"00:00:00"]
[19,null,"金",null,null,null,null,"～",null,null,null,null,null,null,"～",null,null,null,"00:00:00"]
[20,null,"土",null,null,null,null,"～",null,null,null,null,null,null,"～",null,null,null,"00:00:00"]
[21,null,"日",null,null,null,null,"～",null,null,null,null,null,null,"～",null,null,null,"00:00:00"]
[22,null,"月",null,null,null,null,"～",null,null,null,null,null,null,"～",null,null,null,"00:00:00"]
[23,null,"火",null,null,null,null,"～",null,null,null,null,null,null,"～",null,null,null,"00:00:00"]
[24,null,"水",null,null,null,null,"～",null,null,null,null,null,null,"～",null,null,null,"00:00:00"]
[25,null,"木",null,null,null,null,"～",null,null,null,null,null,null,"～",null,null,null,"00:00:00"]
[26,null,"金",null,null,null,null,"～",null,null,null,null,null,null,"～",null,null,null,"00:00:00"]
[27,null,"土",null,null,null,null,"～",null,null,null,null,null,null,"～",null,null,null,"00:00:00"]
[28,null,"日",null,null,null,null,"～",null,null,null,null,null,null,"～",null,null,null,"00:00:00"]
[29,null,"月",null,null,null,null,"～",null,null,null,null,null,null,"～",null,null,null,"00:00:00"]
[30,null,"火",null,null,null,null,"～",null,null,null,null,null,null,"～",null,null,null,"00:00:00"]
[null,null,"",null,null,null,null,"～",null,null,null,null,null,null,"～",null,null,null,"00:00:00",null,null,null,null,null,null,null,null,null,null,null,null,null,null,null,null,null,null,null,null,null,null,null,null,null,null,null,null,null,null,null,null,null,null,null,null,null,null,null,null,null,null,null,{"$f":"RIGHT(V46,2)","v":""}]
[null,null,null,null,null,null,null,null,null,null,null,null,null,null,null,null,null,null,{"$f":"SUM(S16:U46)","v":0},null,null,null,null,null,null,null,null,null,null,null,null,null,"赤字変更内容については口頭命令済",null,null,null,null,"校長"]
[null,null,null,null,null,null,null,null,null,null,null,null,null,null,null,null,null,null,null,null,null,null,null,null,null,null,null,null,null,null,null,null,null,null,null,null,null," 　 .  　."]
["月",null,null,4,null,5,null,6,null,7,null,8,null,9,null,10,null,11,null,12,null,1,null,2,null,3,null,"計"]
["時間",null,null,{"$f":"'４実績'!D50","v":0},null,{"$f":"'５実績'!F50","v":0},null,{"$f":"S47","v":0},null,null,null,null,null,null,null,null,null,null,null,null,null,null,null,null,null,null,null,{"$f":"SUM(D50:AA50)","v":0},null,null,null,null,"時間"]
["活動日数",null,null,{"$f":"'４実績'!D51","v":0},null,{"$f":"'５実績'!F51","v":0},null,{"$f":"COUNTIF(S16:U45,\">0\")","v":0},null,null,null,null,null,null,null,null,null,null,null,null,null,null,null,null,null,null,null,{"$f":"SUM(D51:AA51)","v":0},null,null,null,null,"活動日数"]
["休養日数",null,null,{"$f":"'４実績'!D52","v":30},null,{"$f":"'５実績'!F52","v":31},null,{"$f":"COUNTIF(S16:U45,\"0:00\")","v":30},null,null,null,null,null,null,null,null,null,null,null,null,null,null,null,null,null,null,null,{"$f":"SUM(D52:AA52)","v":91},null,null,null,null,"休養日数"]
[null,null,null,null,null,null,null,null,null,null,null,null,null,null,null,null,null,null,null,null,null,null,null,null,null,null,null,{"$f":"AB50/AB51","v":{"$error":"#DIV/0!"}},null,null,null,null,"平均時間/日"]

{"sheet":"7計画","index":4,"n_rows":53,"n_cols":63,"rows_kept":53,"cut":false,"hidden":false,"merged":[[46,32,48,36],[46,37,46,40],[47,37,48,40],[2,0,4,3],[2,4,4,7],[2,8,4,11],[2,12,4,15],[6,0,7,4],[6,5,7,7],[1,25,2,27],[1,28,2,37],[14,0,14,1],[14,2,14,3],[14,4,14,10],[14,11,14,17],[14,18,14,20],[14,21,14,32],[14,33,14,40],[15,0,15,1],[15,2,15,3],[15,4,15,6],[15,8,15,10],[15,11,15,13],[15,15,15,17],[0,0,0,3],[1,0,1,3],[1,4,1,7],[1,8,1,11],[1,12,1,15],[1,16,1,19],[1,20,1,23],[6,27,6,28],[6,29,6,30],[15,18,15,20],[15,21,15,26],[15,27,15,32],[15,33,15,40],[16,33,16,40],[17,0,17,1],[17,2,17,3],[17,4,17,6],[17,8,17,10],[17,11,17,13],[17,15,17,17],[17,18,17,20],[17,21,17,26],[17,27,17,32],[17,33,17,40],[16,0,16,1],[16,2,16,3],[16,4,16,6],[16,8,16,10],[16,11,16,13],[16,15,16,17],[16,18,16,20],[16,21,16,26],[16,27,16,32],[18,33,18,40],[19,0,19,1],[19,2,19,3],[19,4,19,6],[19,8,19,10],[19,11,19,13],[19,15,19,17],[19,18,19,20],[19,21,19,26],[19,27,19,32],[19,33,19,40],[18,0,18,1],[18,2,18,3],[18,4,18,6],[18,8,18,10],[18,11,18,13],[18,15,18,17],[18,18,18,20],[18,21,18,26],[18,27,18,32],[20,33,20,40],[21,0,21,1],[21,2,21,3],[21,4,21,6],[21,8,21,10],[21,11,21,13],[21,15,21,17],[21,18,21,20],[21,21,21,26],[21,27,21,32],[21,33,21,40],[20,0,20,1],[20,2,20,3],[20,4,20,6],[20,8,20,10],[20,11,20,13],[20,15,20,17],[20,18,20,20],[20,21,20,26],[20,27,20,32],[22,33,22,40],[23,0,23,1],[23,2,23,3],[23,4,23,6],[23,8,23,10],[23,11,23,13],[23,15,23,17],[23,18,23,20],[23,21,23,26],[23,27,23,32],[23,33,23,40],[22,0,22,1],[22,2,22,3],[22,4,22,6],[22,8,22,10],[22,11,22,13],[22,15,22,17],[22,18,22,20],[22,21,22,26],[22,27,22,32],[24,33,24,40],[25,0,25,1],[25,2,25,3],[25,4,25,6],[25,8,25,10],[25,11,25,13],[25,15,25,17],[25,18,25,20],[25,21,25,26],[25,27,25,32],[25,33,25,40],[24,0,24,1],[24,2,24,3],[24,4,24,6],[24,8,24,10],[24,11,24,13],[24,15,24,17],[24,18,24,20],[24,21,24,26],[24,27,24,32],[26,33,26,40],[27,0,27,1],[27,2,27,3],[27,4,27,6],[27,8,27,10],[27,11,27,13],[27,15,27,17],[27,18,27,20],[27,21,27,26],[27,27,27,32],[27,33,27,40],[26,0,26,1],[26,2,26,3],[26,4,26,6],[26,8,26,10],[26,11,26,13],[26,15,26,17],[26,18,26,20],[26,21,26,26],[26,27,26,32],[28,33,28,40],[29,0,29,1],[29,2,29,3],[29,4,29,6],[29,8,29,10],[29,11,29,13],[29,15,29,17],[29,18,29,20],[29,21,29,26],[29,27,29,32],[29,33,29,40],[28,0,28,1],[28,2,28,3],[28,4,28,6],[28,8,28,10],[28,11,28,13],[28,15,28,17],[28,18,28,20],[28,21,28,26],[28,27,28,32],[30,33,30,40],[31,0,31,1],[31,2,31,3],[31,4,31,6],[31,8,31,10],[31,11,31,13],[31,15,31,17],[31,18,31,20],[31,21,31,26],[31,27,31,32],[31,33,31,40],[30,0,30,1],[30,2,30,3],[30,4,30,6],[30,8,30,10],[30,11,30,13],[30,15,30,17],[30,18,30,20],[30,21,30,26],[30,27,30,32],[32,33,32,40],[33,0,33,1],[33,2,33,3],[33,4,33,6],[33,8,33,10],[33,11,33,13],[33,15,33,17],[33,18,33,20],[33,21,33,26],[33,27,33,32],[33,33,33,40],[32,0,32,1],[32,2,32,3],[32,4,32,6],[32,8,32,10],[32,11,32,13],[32,15,32,17],[32,18,32,20],[32,21,32,26],[32,27,32,32],[34,33,34,40],[35,0,35,1],[35,2,35,3],[35,4,35,6],[35,8,35,10],[35,11,35,13],[35,15,35,17],[35,18,35,20],[35,21,35,26],[35,27,35,32],[35,33,35,40],[34,0,34,1],[34,2,34,3],[34,4,34,6],[34,8,34,10],[34,11,34,13],[34,15,34,17],[34,18,34,20],[34,21,34,26],[34,27,34,32],[36,33,36,40],[37,0,37,1],[37,2,37,3],[37,4,37,6],[37,8,37,10],[37,11,37,13],[37,15,37,17],[37,18,37,20],[37,21,37,26],[37,27,37,32],[37,33,37,40],[36,0,36,1],[36,2,36,3],[36,4,36,6],[36,8,36,10],[36,11,36,13],[36,15,36,17],[36,18,36,20],[36,21,36,26],[36,27,36,32],[38,33,38,40],[39,0,39,1],[39,2,39,3],[39,4,39,6],[39,8,39,10],[39,11,39,13],[39,15,39,17],[39,18,39,20],[39,21,39,26],[39,27,39,32],[39,33,39,40],[38,0,38,1],[38,2,38,3],[38,4,38,6],[38,8,38,10],[38,11,38,13],[38,15,38,17],[38,18,38,20],[38,21,38,26],[38,27,38,32],[40,33,40,40],[41,0,41,1],[41,2,41,3],[41,4,41,6],[41,8,41,10],[41,11,41,13],[41,15,41,17],[41,18,41,20],[41,21,41,26],[41,27,41,32],[41,33,41,40],[40,0,40,1],[40,2,40,3],[40,4,40,6],[40,8,40,10],[40,11,40,13],[40,15,40,17],[40,18,40,20],[40,21,40,26],[40,27,40,32],[42,33,42,40],[43,0,43,1],[43,2,43,3],[43,4,43,6],[43,8,43,10],[43,11,43,13],[43,15,43,17],[43,18,43,20],[43,21,43,26],[43,27,43,32],[43,33,43,40],[42,0,42,1],[42,2,42,3],[42,4,42,6],[42,8,42,10],[42,11,42,13],[42,15,42,17],[42,18,42,20],[42,21,42,26],[42,27,42,32],[48,21,48,22],[48,23,48,24],[48,25,48,26],[48,27,48,31],[44,33,44,40],[45,0,45,1],[45,2,45,3],[45,4,45,6],[45,8,45,10],[45,11,45,13],[45,15,45,17],[45,18,45,20],[45,21,45,26],[45,27,45,32],[45,33,45,40],[44,0,44,1],[44,2,44,3],[44,4,44,6],[44,8,44,10],[44,11,44,13],[44,15,44,17],[44,18,44,20],[44,21,44,26],[44,27,44,32],[48,3,48,4],[48,5,48,6],[48,7,48,8],[48,9,48,10],[48,11,48,12],[48,13,48,14],[48,15,48,16],[48,17,48,18],[48,19,48,20],[51,0,51,2],[51,3,51,4],[51,5,51,6],[51,7,51,8],[51,9,51,10],[51,11,51,12],[51,13,51,14],[51,15,51,16],[51,17,51,18],[46,18,46,20],[48,0,48,2],[1,38,2,40],[2,16,4,19],[2,20,4,23],[3,25,4,27],[3,28,4,37],[3,38,4,40],[6,8,7,22],[6,24,7,26],[6,33,6,34],[6,35,6,36],[6,37,6,38],[6,39,6,40],[7,27,7,28],[7,29,7,30],[7,31,7,32],[7,33,7,34],[7,35,7,36],[7,37,7,38],[7,39,7,40],[6,31,6,32],[9,39,10,40],[11,39,12,40],[50,32,50,34],[49,0,49,2],[49,3,49,4],[49,5,49,6],[49,7,49,8],[49,9,49,10],[49,11,49,12],[49,13,49,14],[49,15,49,16],[49,17,49,18],[49,19,49,20],[49,21,49,22],[49,23,49,24],[49,25,49,26],[49,27,49,31],[49,32,49,34],[50,0,50,2],[50,3,50,4],[50,5,50,6],[50,7,50,8],[50,9,50,10],[50,11,50,12],[50,13,50,14],[9,1,10,2],[9,3,10,7],[9,8,10,9],[9,10,10,18],[9,19,10,20],[9,21,10,22],[9,23,10,27],[9,28,10,29],[9,30,10,38],[52,27,52,31],[52,32,52,34],[11,1,12,2],[11,3,12,7],[11,8,12,9],[11,10,12,18],[11,19,12,20],[11,21,12,22],[11,23,12,27],[11,28,12,29],[11,30,12,38],[51,19,51,20],[51,21,51,22],[51,23,51,24],[51,25,51,26],[51,27,51,31],[51,32,51,34],[50,15,50,16],[50,17,50,18],[50,19,50,20],[50,21,50,22],[50,23,50,24],[50,25,50,26],[50,27,50,31]]}
[null,null,null,null,null,null,null,null,null,null,null,null,null,null,null,null,null,null,null,null,null,null,null,null,null,null,null,null,null,null,null,null,null,null,null,null,null,null,null,null,null,null,null,null,{"$f":"'4計画'!AQ1","v":2020}]
["校長",null,null,null,"教頭",null,null,null,"教頭",null,null,null,"主幹教諭",null,null,null,null,null,null,null,"顧問",null,null,null,null,"学校名",null,null,{"$f":"IF('6実績'!AC2=\"\",\"\",'6実績'!AC2)","v":0},null,null,null,null,null,null,null,null,null,"学校"]
["印",null,null,null,"印",null,null,null,"印",null,null,null,"印",null,null,null,"印",null,null,null,"印"]
[null,null,null,null,null,null,null,null,null,null,null,null,null,null,null,null,null,null,null,null,null,null,null,null,null,"部活動名",null,null,{"$f":"IF('6実績'!AC4=\"\",\"\",'6実績'!AC4)","v":0},null,null,null,null,null,null,null,null,null,"部"]
[]
[]
[7,null,null,null,null,"月",null,null,"〈月間〉部活動計画・活動実績",null,null,null,null,null,null,null,null,null,null,null,null,null,null,null,"部員数",null,null,"1女",null,"2女",null,"3女",null,"1男",null,"2男",null,"3男",null,"計"]
[null,null,null,null,null,null,null,null,null,null,null,null,null,null,null,null,null,null,null,null,null,null,null,null,null,null,null,{"$f":"IF('6実績'!AB8=\"\",\"\",'6実績'!AB8)","v":0},null,{"$f":"IF('6実績'!AD8=\"\",\"\",'6実績'!AD8)","v":0},null,{"$f":"IF('6実績'!AF8=\"\",\"\",'6実績'!AF8)","v":0},null,{"$f":"IF('6実績'!AH8=\"\",\"\",'6実績'!AH8)","v":0},null,{"$f":"IF('6実績'!AJ8=\"\",\"\",'6実績'!AJ8)","v":0},null,{"$f":"IF('6実績'!AL8=\"\",\"\",'6実績'!AL8)","v":0},null,{"$f":"SUM(AB8:AM8)","v":0}]
[]
[null,"職名",null,{"$f":"IF('6実績'!D10=\"\",\"\",'6実績'!D10)","v":0},null,null,null,null,"顧問",null,{"$f":"IF('6実績'!K10=\"\",\"\",'6実績'!K10)","v":0},null,null,null,null,null,null,null,null,null,null,"職名",null,{"$f":"IF('6実績'!X10=\"\",\"\",'6実績'!X10)","v":0},null,null,null,null,"副２",null,{"$f":"IF('6実績'!AE10=\"\",\"\",'6実績'!AE10)","v":0}]
[]
[null,"職名",null,{"$f":"IF('6実績'!D12=\"\",\"\",'6実績'!D12)","v":0},null,null,null,null,"副顧問",null,{"$f":"IF('6実績'!K12=\"\",\"\",'6実績'!K12)","v":0},null,null,null,null,null,null,null,null,null,null,"職名",null,{"$f":"IF('6実績'!X12=\"\",\"\",'6実績'!X12)","v":0},null,null,null,null,"副３",null,{"$f":"IF('6実績'!AE12=\"\",\"\",'6実績'!AE12)","v":0}]
[]
[]
["日",null,"曜",null,"ＡＭ",null,null,null,null,null,null,"ＰＭ",null,null,null,null,null,null,"時間",null,null,"内容（練習・大会・OFF等）",null,null,null,null,null,null,null,null,null,null,null,"場所"]
[1,null,{"$f":"IF(A16=\"\",\"\",TEXT(DATE($AS$1,$A$7,A16),\"aaa\"))","v":"水"},null,null,null,null,"～",null,null,null,null,null,null,"～",null,null,null,{"$f":"(I16-E16)+(P16-L16)","v":"00:00:00"}]
[2,null,{"$f":"IF(A17=\"\",\"\",TEXT(DATE($AS$1,$A$7,A17),\"aaa\"))","v":"木"},null,null,null,null,"～",null,null,null,null,null,null,"～",null,null,null,"00:00:00"]
[3,null,"金",null,null,null,null,"～",null,null,null,null,null,null,"～",null,null,null,"00:00:00"]
[4,null,"土",null,null,null,null,"～",null,null,null,null,null,null,"～",null,null,null,"00:00:00"]
[5,null,"日",null,null,null,null,"～",null,null,null,null,null,null,"～",null,null,null,"00:00:00"]
[6,null,"月",null,null,null,null,"～",null,null,null,null,null,null,"～",null,null,null,"00:00:00"]
[7,null,"火",null,null,null,null,"～",null,null,null,null,null,null,"～",null,null,null,"00:00:00"]
[8,null,"水",null,null,null,null,"～",null,null,null,null,null,null,"～",null,null,null,"00:00:00"]
[9,null,"木",null,null,null,null,"～",null,null,null,null,null,null,"～",null,null,null,"00:00:00"]
[10,null,"金",null,null,null,null,"～",null,null,null,null,null,null,"～",null,null,null,"00:00:00"]
[11,null,"土",null,null,null,null,"～",null,null,null,null,null,null,"～",null,null,null,"00:00:00"]
[12,null,"日",null,null,null,null,"～",null,null,null,null,null,null,"～",null,null,null,"00:00:00"]
[13,null,"月",null,null,null,null,"～",null,null,null,null,null,null,"～",null,null,null,"00:00:00"]
[14,null,"火",null,null,null,null,"～",null,null,null,null,null,null,"～",null,null,null,"00:00:00"]
[15,null,"水",null,null,null,null,"～",null,null,null,null,null,null,"～",null,null,null,"00:00:00"]
[16,null,"木",null,null,null,null,"～",null,null,null,null,null,null,"～",null,null,null,"00:00:00"]
[17,null,"金",null,null,null,null,"～",null,null,null,null,null,null,"～",null,null,null,"00:00:00"]
[18,null,"土",null,null,null,null,"～",null,null,null,null,null,null,"～",null,null,null,"00:00:00"]
[19,null,"日",null,null,null,null,"～",null,null,null,null,null,null,"～",null,null,null,"00:00:00"]
[20,null,"月",null,null,null,null,"～",null,null,null,null,null,null,"～",null,null,null,"00:00:00"]
[21,null,"火",null,null,null,null,"～",null,null,null,null,null,null,"～",null,null,null,"00:00:00"]
[22,null,"水",null,null,null,null,"～",null,null,null,null,null,null,"～",null,null,null,"00:00:00"]
[23,null,"木",null,null,null,null,"～",null,null,null,null,null,null,"～",null,null,null,"00:00:00"]
[24,null,"金",null,null,null,null,"～",null,null,null,null,null,null,"～",null,null,null,"00:00:00"]
[25,null,"土",null,null,null,null,"～",null,null,null,null,null,null,"～",null,null,null,"00:00:00"]
[26,null,"日",null,null,null,null,"～",null,null,null,null,null,null,"～",null,null,null,"00:00:00"]
[27,null,"月",null,null,null,null,"～",null,null,null,null,null,null,"～",null,null,null,"00:00:00"]
[28,null,"火",null,null,null,null,"～",null,null,null,null,null,null,"～",null,null,null,"00:00:00"]
[29,null,"水",null,null,null,null,"～",null,null,null,null,null,null,"～",null,null,null,"00:00:00"]
[30,null,"木",null,null,null,null,"～",null,null,null,null,null,null,"～",null,null,null,"00:00:00"]
[31,null,"金",null,null,null,null,"～",null,null,null,null,null,null,"～",null,null,null,"00:00:00",null,null,null,null,null,null,null,null,null,null,null,null,null,null,null,null,null,null,null,null,null,null,null,null,null,null,null,null,null,null,null,null,null,null,null,null,null,null,null,null,null,null,null,{"$f":"RIGHT(V46,2)","v":""}]
[null,null,null,null,null,null,null,null,null,null,null,null,null,null,null,null,null,null,{"$f":"SUM(S16:U46)","v":0},null,null,null,null,null,null,null,null,null,null,null,null,null,"赤字変更内容については口頭命令済",null,null,null,null,"校長"]
[null,null,null,null,null,null,null,null,null,null,null,null,null,null,null,null,null,null,null,null,null,null,null,null,null,null,null,null,null,null,null,null,null,null,null,null,null," 　 .  　."]
["月",null,null,4,null,5,null,6,null,7,null,8,null,9,null,10,null,11,null,12,null,1,null,2,null,3,null,"計"]
["時間",null,null,{"$f":"'４実績'!D50","v":0},null,{"$f":"'５実績'!F50","v":0},null,{"$f":"'6実績'!H50","v":0},null,{"$f":"S47","v":0},null,null,null,null,null,null,null,null,null,null,null,null,null,null,null,null,null,{"$f":"SUM(D50:AA50)","v":0},null,null,null,null,"時間"]
["活動日数",null,null,{"$f":"'４実績'!D51","v":0},null,{"$f":"'５実績'!F51","v":0},null,{"$f":"'6実績'!H51","v":0},null,{"$f":"COUNTIF(S16:U46,\">0\")","v":0},null,null,null,null,null,null,null,null,null,null,null,null,null,null,null,null,null,{"$f":"SUM(D51:AA51)","v":0},null,null,null,null,"活動日数"]
["休養日数",null,null,{"$f":"'４実績'!D52","v":30},null,{"$f":"'５実績'!F52","v":31},null,{"$f":"'6実績'!H52","v":30},null,{"$f":"COUNTIF(S16:U46,\"0:00\")","v":31},null,null,null,null,null,null,null,null,null,null,null,null,null,null,null,null,null,{"$f":"SUM(D52:AA52)","v":122},null,null,null,null,"休養日数"]
[null,null,null,null,null,null,null,null,null,null,null,null,null,null,null,null,null,null,null,null,null,null,null,null,null,null,null,{"$f":"AB50/AB51","v":{"$error":"#DIV/0!"}},null,null,null,null,"平均時間/日"]

{"sheet":"8計画","index":5,"n_rows":53,"n_cols":63,"rows_kept":53,"cut":false,"hidden":false,"merged":[[46,32,48,36],[46,37,46,40],[47,37,48,40],[2,0,4,3],[2,4,4,7],[2,8,4,11],[2,12,4,15],[6,0,7,4],[6,5,7,7],[1,25,2,27],[1,28,2,37],[14,0,14,1],[14,2,14,3],[14,4,14,10],[14,11,14,17],[14,18,14,20],[14,21,14,32],[14,33,14,40],[15,0,15,1],[15,2,15,3],[15,4,15,6],[15,8,15,10],[15,11,15,13],[15,15,15,17],[0,0,0,3],[1,0,1,3],[1,4,1,7],[1,8,1,11],[1,12,1,15],[1,16,1,19],[1,20,1,23],[6,27,6,28],[6,29,6,30],[15,18,15,20],[15,21,15,26],[15,27,15,32],[15,33,15,40],[16,33,16,40],[17,0,17,1],[17,2,17,3],[17,4,17,6],[17,8,17,10],[17,11,17,13],[17,15,17,17],[17,18,17,20],[17,21,17,26],[17,27,17,32],[17,33,17,40],[16,0,16,1],[16,2,16,3],[16,4,16,6],[16,8,16,10],[16,11,16,13],[16,15,16,17],[16,18,16,20],[16,21,16,26],[16,27,16,32],[18,33,18,40],[19,0,19,1],[19,2,19,3],[19,4,19,6],[19,8,19,10],[19,11,19,13],[19,15,19,17],[19,18,19,20],[19,21,19,26],[19,27,19,32],[19,33,19,40],[18,0,18,1],[18,2,18,3],[18,4,18,6],[18,8,18,10],[18,11,18,13],[18,15,18,17],[18,18,18,20],[18,21,18,26],[18,27,18,32],[20,33,20,40],[21,0,21,1],[21,2,21,3],[21,4,21,6],[21,8,21,10],[21,11,21,13],[21,15,21,17],[21,18,21,20],[21,21,21,26],[21,27,21,32],[21,33,21,40],[20,0,20,1],[20,2,20,3],[20,4,20,6],[20,8,20,10],[20,11,20,13],[20,15,20,17],[20,18,20,20],[20,21,20,26],[20,27,20,32],[22,33,22,40],[23,0,23,1],[23,2,23,3],[23,4,23,6],[23,8,23,10],[23,11,23,13],[23,15,23,17],[23,18,23,20],[23,21,23,26],[23,27,23,32],[23,33,23,40],[22,0,22,1],[22,2,22,3],[22,4,22,6],[22,8,22,10],[22,11,22,13],[22,15,22,17],[22,18,22,20],[22,21,22,26],[22,27,22,32],[24,33,24,40],[25,0,25,1],[25,2,25,3],[25,4,25,6],[25,8,25,10],[25,11,25,13],[25,15,25,17],[25,18,25,20],[25,21,25,26],[25,27,25,32],[25,33,25,40],[24,0,24,1],[24,2,24,3],[24,4,24,6],[24,8,24,10],[24,11,24,13],[24,15,24,17],[24,18,24,20],[24,21,24,26],[24,27,24,32],[26,33,26,40],[27,0,27,1],[27,2,27,3],[27,4,27,6],[27,8,27,10],[27,11,27,13],[27,15,27,17],[27,18,27,20],[27,21,27,26],[27,27,27,32],[27,33,27,40],[26,0,26,1],[26,2,26,3],[26,4,26,6],[26,8,26,10],[26,11,26,13],[26,15,26,17],[26,18,26,20],[26,21,26,26],[26,27,26,32],[28,33,28,40],[29,0,29,1],[29,2,29,3],[29,4,29,6],[29,8,29,10],[29,11,29,13],[29,15,29,17],[29,18,29,20],[29,21,29,26],[29,27,29,32],[29,33,29,40],[28,0,28,1],[28,2,28,3],[28,4,28,6],[28,8,28,10],[28,11,28,13],[28,15,28,17],[28,18,28,20],[28,21,28,26],[28,27,28,32],[30,33,30,40],[31,0,31,1],[31,2,31,3],[31,4,31,6],[31,8,31,10],[31,11,31,13],[31,15,31,17],[31,18,31,20],[31,21,31,26],[31,27,31,32],[31,33,31,40],[30,0,30,1],[30,2,30,3],[30,4,30,6],[30,8,30,10],[30,11,30,13],[30,15,30,17],[30,18,30,20],[30,21,30,26],[30,27,30,32],[32,33,32,40],[33,0,33,1],[33,2,33,3],[33,4,33,6],[33,8,33,10],[33,11,33,13],[33,15,33,17],[33,18,33,20],[33,21,33,26],[33,27,33,32],[33,33,33,40],[32,0,32,1],[32,2,32,3],[32,4,32,6],[32,8,32,10],[32,11,32,13],[32,15,32,17],[32,18,32,20],[32,21,32,26],[32,27,32,32],[34,33,34,40],[35,0,35,1],[35,2,35,3],[35,4,35,6],[35,8,35,10],[35,11,35,13],[35,15,35,17],[35,18,35,20],[35,21,35,26],[35,27,35,32],[35,33,35,40],[34,0,34,1],[34,2,34,3],[34,4,34,6],[34,8,34,10],[34,11,34,13],[34,15,34,17],[34,18,34,20],[34,21,34,26],[34,27,34,32],[36,33,36,40],[37,0,37,1],[37,2,37,3],[37,4,37,6],[37,8,37,10],[37,11,37,13],[37,15,37,17],[37,18,37,20],[37,21,37,26],[37,27,37,32],[37,33,37,40],[36,0,36,1],[36,2,36,3],[36,4,36,6],[36,8,36,10],[36,11,36,13],[36,15,36,17],[36,18,36,20],[36,21,36,26],[36,27,36,32],[38,33,38,40],[39,0,39,1],[39,2,39,3],[39,4,39,6],[39,8,39,10],[39,11,39,13],[39,15,39,17],[39,18,39,20],[39,21,39,26],[39,27,39,32],[39,33,39,40],[38,0,38,1],[38,2,38,3],[38,4,38,6],[38,8,38,10],[38,11,38,13],[38,15,38,17],[38,18,38,20],[38,21,38,26],[38,27,38,32],[40,33,40,40],[41,0,41,1],[41,2,41,3],[41,4,41,6],[41,8,41,10],[41,11,41,13],[41,15,41,17],[41,18,41,20],[41,21,41,26],[41,27,41,32],[41,33,41,40],[40,0,40,1],[40,2,40,3],[40,4,40,6],[40,8,40,10],[40,11,40,13],[40,15,40,17],[40,18,40,20],[40,21,40,26],[40,27,40,32],[42,33,42,40],[43,0,43,1],[43,2,43,3],[43,4,43,6],[43,8,43,10],[43,11,43,13],[43,15,43,17],[43,18,43,20],[43,21,43,26],[43,27,43,32],[43,33,43,40],[42,0,42,1],[42,2,42,3],[42,4,42,6],[42,8,42,10],[42,11,42,13],[42,15,42,17],[42,18,42,20],[42,21,42,26],[42,27,42,32],[48,21,48,22],[48,23,48,24],[48,25,48,26],[48,27,48,31],[44,33,44,40],[45,0,45,1],[45,2,45,3],[45,4,45,6],[45,8,45,10],[45,11,45,13],[45,15,45,17],[45,18,45,20],[45,21,45,26],[45,27,45,32],[45,33,45,40],[44,0,44,1],[44,2,44,3],[44,4,44,6],[44,8,44,10],[44,11,44,13],[44,15,44,17],[44,18,44,20],[44,21,44,26],[44,27,44,32],[48,3,48,4],[48,5,48,6],[48,7,48,8],[48,9,48,10],[48,11,48,12],[48,13,48,14],[48,15,48,16],[48,17,48,18],[48,19,48,20],[51,0,51,2],[51,3,51,4],[51,5,51,6],[51,7,51,8],[51,9,51,10],[51,11,51,12],[51,13,51,14],[51,15,51,16],[51,17,51,18],[46,18,46,20],[48,0,48,2],[1,38,2,40],[2,16,4,19],[2,20,4,23],[3,25,4,27],[3,28,4,37],[3,38,4,40],[6,8,7,22],[6,24,7,26],[6,33,6,34],[6,35,6,36],[6,37,6,38],[6,39,6,40],[7,27,7,28],[7,29,7,30],[7,31,7,32],[7,33,7,34],[7,35,7,36],[7,37,7,38],[7,39,7,40],[6,31,6,32],[9,39,10,40],[11,39,12,40],[50,32,50,34],[49,0,49,2],[49,3,49,4],[49,5,49,6],[49,7,49,8],[49,9,49,10],[49,11,49,12],[49,13,49,14],[49,15,49,16],[49,17,49,18],[49,19,49,20],[49,21,49,22],[49,23,49,24],[49,25,49,26],[49,27,49,31],[49,32,49,34],[50,0,50,2],[50,3,50,4],[50,5,50,6],[50,7,50,8],[50,9,50,10],[50,11,50,12],[50,13,50,14],[9,1,10,2],[9,3,10,7],[9,8,10,9],[9,10,10,18],[9,19,10,20],[9,21,10,22],[9,23,10,27],[9,28,10,29],[9,30,10,38],[52,27,52,31],[52,32,52,34],[11,1,12,2],[11,3,12,7],[11,8,12,9],[11,10,12,18],[11,19,12,20],[11,21,12,22],[11,23,12,27],[11,28,12,29],[11,30,12,38],[51,19,51,20],[51,21,51,22],[51,23,51,24],[51,25,51,26],[51,27,51,31],[51,32,51,34],[50,15,50,16],[50,17,50,18],[50,19,50,20],[50,21,50,22],[50,23,50,24],[50,25,50,26],[50,27,50,31]]}
[null,null,null,null,null,null,null,null,null,null,null,null,null,null,null,null,null,null,null,null,null,null,null,null,null,null,null,null,null,null,null,null,null,null,null,null,null,null,null,null,null,null,null,null,{"$f":"'4計画'!AQ1","v":2020}]
["校長",null,null,null,"教頭",null,null,null,"教頭",null,null,null,"主幹教諭",null,null,null,null,null,null,null,"顧問",null,null,null,null,"学校名",null,null,{"$f":"IF('7実績'!AC2=\"\",\"\",'7実績'!AC2)","v":0},null,null,null,null,null,null,null,null,null,"学校"]
["印",null,null,null,"印",null,null,null,"印",null,null,null,"印",null,null,null,"印",null,null,null,"印"]
[null,null,null,null,null,null,null,null,null,null,null,null,null,null,null,null,null,null,null,null,null,null,null,null,null,"部活動名",null,null,{"$f":"IF('7実績'!AC4=\"\",\"\",'7実績'!AC4)","v":0},null,null,null,null,null,null,null,null,null,"部"]
[]
[]
[8,null,null,null,null,"月",null,null,"〈月間〉部活動計画・活動実績",null,null,null,null,null,null,null,null,null,null,null,null,null,null,null,"部員数",null,null,"1女",null,"2女",null,"3女",null,"1男",null,"2男",null,"3男",null,"計"]
[null,null,null,null,null,null,null,null,null,null,null,null,null,null,null,null,null,null,null,null,null,null,null,null,null,null,null,{"$f":"IF('7実績'!AB8=\"\",\"\",'7実績'!AB8)","v":0},null,{"$f":"IF('7実績'!AD8=\"\",\"\",'7実績'!AD8)","v":0},null,{"$f":"IF('7実績'!AF8=\"\",\"\",'7実績'!AF8)","v":0},null,{"$f":"IF('7実績'!AH8=\"\",\"\",'7実績'!AH8)","v":0},null,{"$f":"IF('7実績'!AJ8=\"\",\"\",'7実績'!AJ8)","v":0},null,{"$f":"IF('7実績'!AL8=\"\",\"\",'7実績'!AL8)","v":0},null,{"$f":"SUM(AB8:AM8)","v":0}]
[]
[null,"職名",null,{"$f":"IF('7実績'!D10=\"\",\"\",'7実績'!D10)","v":0},null,null,null,null,"顧問",null,{"$f":"IF('7実績'!K10=\"\",\"\",'7実績'!K10)","v":0},null,null,null,null,null,null,null,null,null,null,"職名",null,{"$f":"IF('7実績'!X10=\"\",\"\",'7実績'!X10)","v":0},null,null,null,null,"副２",null,{"$f":"IF('7実績'!AE10=\"\",\"\",'7実績'!AE10)","v":0}]
[]
[null,"職名",null,{"$f":"IF('7実績'!D12=\"\",\"\",'7実績'!D12)","v":0},null,null,null,null,"副顧問",null,{"$f":"IF('7実績'!K12=\"\",\"\",'7実績'!K12)","v":0},null,null,null,null,null,null,null,null,null,null,"職名",null,{"$f":"IF('7実績'!X12=\"\",\"\",'7実績'!X12)","v":0},null,null,null,null,"副３",null,{"$f":"IF('7実績'!AE12=\"\",\"\",'7実績'!AE12)","v":0}]
[]
[]
["日",null,"曜",null,"ＡＭ",null,null,null,null,null,null,"ＰＭ",null,null,null,null,null,null,"時間",null,null,"内容（練習・大会・OFF等）",null,null,null,null,null,null,null,null,null,null,null,"場所"]
[1,null,{"$f":"IF(A16=\"\",\"\",TEXT(DATE($AS$1,$A$7,A16),\"aaa\"))","v":"土"},null,null,null,null,"～",null,null,null,null,null,null,"～",null,null,null,{"$f":"(I16-E16)+(P16-L16)","v":"00:00:00"}]
[2,null,{"$f":"IF(A17=\"\",\"\",TEXT(DATE($AS$1,$A$7,A17),\"aaa\"))","v":"日"},null,null,null,null,"～",null,null,null,null,null,null,"～",null,null,null,"00:00:00"]
[3,null,"月",null,null,null,null,"～",null,null,null,null,null,null,"～",null,null,null,"00:00:00"]
[4,null,"火",null,null,null,null,"～",null,null,null,null,null,null,"～",null,null,null,"00:00:00"]
[5,null,"水",null,null,null,null,"～",null,null,null,null,null,null,"～",null,null,null,"00:00:00"]
[6,null,"木",null,null,null,null,"～",null,null,null,null,null,null,"～",null,null,null,"00:00:00"]
[7,null,"金",null,null,null,null,"～",null,null,null,null,null,null,"～",null,null,null,"00:00:00"]
[8,null,"土",null,null,null,null,"～",null,null,null,null,null,null,"～",null,null,null,"00:00:00"]
[9,null,"日",null,null,null,null,"～",null,null,null,null,null,null,"～",null,null,null,"00:00:00"]
[10,null,"月",null,null,null,null,"～",null,null,null,null,null,null,"～",null,null,null,"00:00:00"]
[11,null,"火",null,null,null,null,"～",null,null,null,null,null,null,"～",null,null,null,"00:00:00"]
[12,null,"水",null,null,null,null,"～",null,null,null,null,null,null,"～",null,null,null,"00:00:00"]
[13,null,"木",null,null,null,null,"～",null,null,null,null,null,null,"～",null,null,null,"00:00:00"]
[14,null,"金",null,null,null,null,"～",null,null,null,null,null,null,"～",null,null,null,"00:00:00"]
[15,null,"土",null,null,null,null,"～",null,null,null,null,null,null,"～",null,null,null,"00:00:00"]
[16,null,"日",null,null,null,null,"～",null,null,null,null,null,null,"～",null,null,null,"00:00:00"]
[17,null,"月",null,null,null,null,"～",null,null,null,null,null,null,"～",null,null,null,"00:00:00"]
[18,null,"火",null,null,null,null,"～",null,null,null,null,null,null,"～",null,null,null,"00:00:00"]
[19,null,"水",null,null,null,null,"～",null,null,null,null,null,null,"～",null,null,null,"00:00:00"]
[20,null,"木",null,null,null,null,"～",null,null,null,null,null,null,"～",null,null,null,"00:00:00"]
[21,null,"金",null,null,null,null,"～",null,null,null,null,null,null,"～",null,null,null,"00:00:00"]
[22,null,"土",null,null,null,null,"～",null,null,null,null,null,null,"～",null,null,null,"00:00:00"]
[23,null,"日",null,null,null,null,"～",null,null,null,null,null,null,"～",null,null,null,"00:00:00"]
[24,null,"月",null,null,null,null,"～",null,null,null,null,null,null,"～",null,null,null,"00:00:00"]
[25,null,"火",null,null,null,null,"～",null,null,null,null,null,null,"～",null,null,null,"00:00:00"]
[26,null,"水",null,null,null,null,"～",null,null,null,null,null,null,"～",null,null,null,"00:00:00"]
[27,null,"木",null,null,null,null,"～",null,null,null,null,null,null,"～",null,null,null,"00:00:00"]
[28,null,"金",null,null,null,null,"～",null,null,null,null,null,null,"～",null,null,null,"00:00:00"]
[29,null,"土",null,null,null,null,"～",null,null,null,null,null,null,"～",null,null,null,"00:00:00"]
[30,null,"日",null,null,null,null,"～",null,null,null,null,null,null,"～",null,null,null,"00:00:00"]
[31,null,"月",null,null,null,null,"～",null,null,null,null,null,null,"～",null,null,null,"00:00:00",null,null,null,null,null,null,null,null,null,null,null,null,null,null,null,null,null,null,null,null,null,null,null,null,null,null,null,null,null,null,null,null,null,null,null,null,null,null,null,null,null,null,null,{"$f":"RIGHT(V46,2)","v":""}]
[null,null,null,null,null,null,null,null,null,null,null,null,null,null,null,null,null,null,{"$f":"SUM(S16:U46)","v":0},null,null,null,null,null,null,null,null,null,null,null,null,null,"赤字変更内容については口頭命令済",null,null,null,null,"校長"]
[null,null,null,null,null,null,null,null,null,null,null,null,null,null,null,null,null,null,null,null,null,null,null,null,null,null,null,null,null,null,null,null,null,null,null,null,null," 　 .  　."]
["月",null,null,4,null,5,null,6,null,7,null,8,null,9,null,10,null,11,null,12,null,1,null,2,null,3,null,"計"]
["時間",null,null,{"$f":"'４実績'!D50","v":0},null,{"$f":"'５実績'!F50","v":0},null,{"$f":"'6実績'!H50","v":0},null,{"$f":"'7実績'!J50","v":0},null,{"$f":"S47","v":0},null,null,null,null,null,null,null,null,null,null,null,null,null,null,null,{"$f":"SUM(D50:AA50)","v":0},null,null,null,null,"時間"]
["活動日数",null,null,{"$f":"'４実績'!D51","v":0},null,{"$f":"'５実績'!F51","v":0},null,{"$f":"'6実績'!H51","v":0},null,{"$f":"'7実績'!J51","v":0},null,{"$f":"COUNTIF(S16:U46,\">0\")","v":0},null,null,null,null,null,null,null,null,null,null,null,null,null,null,null,{"$f":"SUM(D51:AA51)","v":0},null,null,null,null,"活動日数"]
["休養日数",null,null,{"$f":"'４実績'!D52","v":30},null,{"$f":"'５実績'!F52","v":31},null,{"$f":"'6実績'!H52","v":30},null,{"$f":"'7実績'!J52","v":31},null,{"$f":"COUNTIF(S16:U46,\"0:00\")","v":31},null,null,null,null,null,null,null,null,null,null,null,null,null,null,null,{"$f":"SUM(D52:AA52)","v":153},null,null,null,null,"休養日数"]
[null,null,null,null,null,null,null,null,null,null,null,null,null,null,null,null,null,null,null,null,null,null,null,null,null,null,null,{"$f":"AB50/AB51","v":{"$error":"#DIV/0!"}},null,null,null,null,"平均時間/日"]

{"sheet":"9計画","index":6,"n_rows":53,"n_cols":63,"rows_kept":53,"cut":false,"hidden":false,"merged":[[0,0,0,3],[1,25,2,27],[1,28,2,37],[1,38,2,40],[2,0,4,3],[2,4,4,7],[2,8,4,11],[2,12,4,15],[2,16,4,19],[2,20,4,23],[3,25,4,27],[1,0,1,3],[1,4,1,7],[1,8,1,11],[1,12,1,15],[1,16,1,19],[1,20,1,23],[3,28,4,37],[3,38,4,40],[6,0,7,4],[6,5,7,7],[6,8,7,22],[6,24,7,26],[6,27,6,28],[6,29,6,30],[6,31,6,32],[6,33,6,34],[6,35,6,36],[6,37,6,38],[6,39,6,40],[7,27,7,28],[7,29,7,30],[7,31,7,32],[7,33,7,34],[7,35,7,36],[7,37,7,38],[7,39,7,40],[9,23,10,27],[9,28,10,29],[9,30,10,38],[9,39,10,40],[11,1,12,2],[11,3,12,7],[11,8,12,9],[11,10,12,18],[11,19,12,20],[11,21,12,22],[9,1,10,2],[9,3,10,7],[9,8,10,9],[9,10,10,18],[9,19,10,20],[9,21,10,22],[11,23,12,27],[11,28,12,29],[11,30,12,38],[11,39,12,40],[14,0,14,1],[14,2,14,3],[14,4,14,10],[14,11,14,17],[14,18,14,20],[14,21,14,32],[14,33,14,40],[15,0,15,1],[15,2,15,3],[15,4,15,6],[15,8,15,10],[15,11,15,13],[15,15,15,17],[15,18,15,20],[15,21,15,26],[15,27,15,32],[15,33,15,40],[16,33,16,40],[17,0,17,1],[17,2,17,3],[17,4,17,6],[17,8,17,10],[17,11,17,13],[17,15,17,17],[17,18,17,20],[17,21,17,26],[17,27,17,32],[17,33,17,40],[16,0,16,1],[16,2,16,3],[16,4,16,6],[16,8,16,10],[16,11,16,13],[16,15,16,17],[16,18,16,20],[16,21,16,26],[16,27,16,32],[18,33,18,40],[19,0,19,1],[19,2,19,3],[19,4,19,6],[19,8,19,10],[19,11,19,13],[19,15,19,17],[19,18,19,20],[19,21,19,26],[19,27,19,32],[19,33,19,40],[18,0,18,1],[18,2,18,3],[18,4,18,6],[18,8,18,10],[18,11,18,13],[18,15,18,17],[18,18,18,20],[18,21,18,26],[18,27,18,32],[20,33,20,40],[21,0,21,1],[21,2,21,3],[21,4,21,6],[21,8,21,10],[21,11,21,13],[21,15,21,17],[21,18,21,20],[21,21,21,26],[21,27,21,32],[21,33,21,40],[20,0,20,1],[20,2,20,3],[20,4,20,6],[20,8,20,10],[20,11,20,13],[20,15,20,17],[20,18,20,20],[20,21,20,26],[20,27,20,32],[22,33,22,40],[23,0,23,1],[23,2,23,3],[23,4,23,6],[23,8,23,10],[23,11,23,13],[23,15,23,17],[23,18,23,20],[23,21,23,26],[23,27,23,32],[23,33,23,40],[22,0,22,1],[22,2,22,3],[22,4,22,6],[22,8,22,10],[22,11,22,13],[22,15,22,17],[22,18,22,20],[22,21,22,26],[22,27,22,32],[24,33,24,40],[25,0,25,1],[25,2,25,3],[25,4,25,6],[25,8,25,10],[25,11,25,13],[25,15,25,17],[25,18,25,20],[25,21,25,26],[25,27,25,32],[25,33,25,40],[24,0,24,1],[24,2,24,3],[24,4,24,6],[24,8,24,10],[24,11,24,13],[24,15,24,17],[24,18,24,20],[24,21,24,26],[24,27,24,32],[26,33,26,40],[27,0,27,1],[27,2,27,3],[27,4,27,6],[27,8,27,10],[27,11,27,13],[27,15,27,17],[27,18,27,20],[27,21,27,26],[27,27,27,32],[27,33,27,40],[26,0,26,1],[26,2,26,3],[26,4,26,6],[26,8,26,10],[26,11,26,13],[26,15,26,17],[26,18,26,20],[26,21,26,26],[26,27,26,32],[28,33,28,40],[29,0,29,1],[29,2,29,3],[29,4,29,6],[29,8,29,10],[29,11,29,13],[29,15,29,17],[29,18,29,20],[29,21,29,26],[29,27,29,32],[29,33,29,40],[28,0,28,1],[28,2,28,3],[28,4,28,6],[28,8,28,10],[28,11,28,13],[28,15,28,17],[28,18,28,20],[28,21,28,26],[28,27,28,32],[30,33,30,40],[31,0,31,1],[31,2,31,3],[31,4,31,6],[31,8,31,10],[31,11,31,13],[31,15,31,17],[31,18,31,20],[31,21,31,26],[31,27,31,32],[31,33,31,40],[30,0,30,1],[30,2,30,3],[30,4,30,6],[30,8,30,10],[30,11,30,13],[30,15,30,17],[30,18,30,20],[30,21,30,26],[30,27,30,32],[32,33,32,40],[33,0,33,1],[33,2,33,3],[33,4,33,6],[33,8,33,10],[33,11,33,13],[33,15,33,17],[33,18,33,20],[33,21,33,26],[33,27,33,32],[33,33,33,40],[32,0,32,1],[32,2,32,3],[32,4,32,6],[32,8,32,10],[32,11,32,13],[32,15,32,17],[32,18,32,20],[32,21,32,26],[32,27,32,32],[34,33,34,40],[35,0,35,1],[35,2,35,3],[35,4,35,6],[35,8,35,10],[35,11,35,13],[35,15,35,17],[35,18,35,20],[35,21,35,26],[35,27,35,32],[35,33,35,40],[34,0,34,1],[34,2,34,3],[34,4,34,6],[34,8,34,10],[34,11,34,13],[34,15,34,17],[34,18,34,20],[34,21,34,26],[34,27,34,32],[36,33,36,40],[37,0,37,1],[37,2,37,3],[37,4,37,6],[37,8,37,10],[37,11,37,13],[37,15,37,17],[37,18,37,20],[37,21,37,26],[37,27,37,32],[37,33,37,40],[36,0,36,1],[36,2,36,3],[36,4,36,6],[36,8,36,10],[36,11,36,13],[36,15,36,17],[36,18,36,20],[36,21,36,26],[36,27,36,32],[38,33,38,40],[39,0,39,1],[39,2,39,3],[39,4,39,6],[39,8,39,10],[39,11,39,13],[39,15,39,17],[39,18,39,20],[39,21,39,26],[39,27,39,32],[39,33,39,40],[38,0,38,1],[38,2,38,3],[38,4,38,6],[38,8,38,10],[38,11,38,13],[38,15,38,17],[38,18,38,20],[38,21,38,26],[38,27,38,32],[40,33,40,40],[41,0,41,1],[41,2,41,3],[41,4,41,6],[41,8,41,10],[41,11,41,13],[41,15,41,17],[41,18,41,20],[41,21,41,26],[41,27,41,32],[41,33,41,40],[40,0,40,1],[40,2,40,3],[40,4,40,6],[40,8,40,10],[40,11,40,13],[40,15,40,17],[40,18,40,20],[40,21,40,26],[40,27,40,32],[42,33,42,40],[43,0,43,1],[43,2,43,3],[43,4,43,6],[43,8,43,10],[43,11,43,13],[43,15,43,17],[43,18,43,20],[43,21,43,26],[43,27,43,32],[43,33,43,40],[42,0,42,1],[42,2,42,3],[42,4,42,6],[42,8,42,10],[42,11,42,13],[42,15,42,17],[42,18,42,20],[42,21,42,26],[42,27,42,32],[45,33,45,40],[46,18,46,20],[44,33,44,40],[45,0,45,1],[45,2,45,3],[45,4,45,6],[45,8,45,10],[45,11,45,13],[45,15,45,17],[45,18,45,20],[45,21,45,26],[45,27,45,32],[44,0,44,1],[44,2,44,3],[44,4,44,6],[44,8,44,10],[44,11,44,13],[44,15,44,17],[44,18,44,20],[44,21,44,26],[44,27,44,32],[46,32,48,36],[46,37,46,40],[47,37,48,40],[48,25,48,26],[48,27,48,31],[49,0,49,2],[49,3,49,4],[49,5,49,6],[49,7,49,8],[49,9,49,10],[49,11,49,12],[49,13,49,14],[49,15,49,16],[48,13,48,14],[48,15,48,16],[48,17,48,18],[48,19,48,20],[48,21,48,22],[48,23,48,24],[48,0,48,2],[48,3,48,4],[48,5,48,6],[48,7,48,8],[48,9,48,10],[48,11,48,12],[50,25,50,26],[50,27,50,31],[50,32,50,34],[49,32,49,34],[50,0,50,2],[50,3,50,4],[50,5,50,6],[50,7,50,8],[50,9,50,10],[50,11,50,12],[50,13,50,14],[50,15,50,16],[50,17,50,18],[49,17,49,18],[49,19,49,20],[49,21,49,22],[49,23,49,24],[49,25,49,26],[49,27,49,31],[51,0,51,2],[51,3,51,4],[51,5,51,6],[51,7,51,8],[51,9,51,10],[51,11,51,12],[50,19,50,20],[50,21,50,22],[50,23,50,24],[51,25,51,26],[51,27,51,31],[51,32,51,34],[52,27,52,31],[52,32,52,34],[51,13,51,14],[51,15,51,16],[51,17,51,18],[51,19,51,20],[51,21,51,22],[51,23,51,24]]}
[null,null,null,null,null,null,null,null,null,null,null,null,null,null,null,null,null,null,null,null,null,null,null,null,null,null,null,null,null,null,null,null,null,null,null,null,null,null,null,null,null,null,null,null,{"$f":"'4計画'!AQ1","v":2020}]
["校長",null,null,null,"教頭",null,null,null,"教頭",null,null,null,"主幹教諭",null,null,null,null,null,null,null,"顧問",null,null,null,null,"学校名",null,null,{"$f":"IF('8実績'!AC2=\"\",\"\",'8実績'!AC2)","v":0},null,null,null,null,null,null,null,null,null,"学校"]
["印",null,null,null,"印",null,null,null,"印",null,null,null,"印",null,null,null,"印",null,null,null,"印"]
[null,null,null,null,null,null,null,null,null,null,null,null,null,null,null,null,null,null,null,null,null,null,null,null,null,"部活動名",null,null,{"$f":"IF('8実績'!AC4=\"\",\"\",'8実績'!AC4)","v":0},null,null,null,null,null,null,null,null,null,"部"]
[]
[]
[9,null,null,null,null,"月",null,null,"〈月間〉部活動計画・活動実績",null,null,null,null,null,null,null,null,null,null,null,null,null,null,null,"部員数",null,null,"1女",null,"2女",null,"3女",null,"1男",null,"2男",null,"3男",null,"計"]
[null,null,null,null,null,null,null,null,null,null,null,null,null,null,null,null,null,null,null,null,null,null,null,null,null,null,null,{"$f":"IF('8実績'!AB8=\"\",\"\",'8実績'!AB8)","v":0},null,{"$f":"IF('8実績'!AD8=\"\",\"\",'8実績'!AD8)","v":0},null,{"$f":"IF('8実績'!AF8=\"\",\"\",'8実績'!AF8)","v":0},null,{"$f":"IF('8実績'!AH8=\"\",\"\",'8実績'!AH8)","v":0},null,{"$f":"IF('8実績'!AJ8=\"\",\"\",'8実績'!AJ8)","v":0},null,{"$f":"IF('8実績'!AL8=\"\",\"\",'8実績'!AL8)","v":0},null,{"$f":"SUM(AB8:AM8)","v":0}]
[]
[null,"職名",null,{"$f":"IF('8実績'!D10=\"\",\"\",'8実績'!D10)","v":0},null,null,null,null,"顧問",null,{"$f":"IF('8実績'!K10=\"\",\"\",'8実績'!K10)","v":0},null,null,null,null,null,null,null,null,null,null,"職名",null,{"$f":"IF('8実績'!X10=\"\",\"\",'8実績'!X10)","v":0},null,null,null,null,"副２",null,{"$f":"IF('8実績'!AE10=\"\",\"\",'8実績'!AE10)","v":0}]
[]
[null,"職名",null,{"$f":"IF('8実績'!D12=\"\",\"\",'8実績'!D12)","v":0},null,null,null,null,"副顧問",null,{"$f":"IF('8実績'!K12=\"\",\"\",'8実績'!K12)","v":0},null,null,null,null,null,null,null,null,null,null,"職名",null,{"$f":"IF('8実績'!X12=\"\",\"\",'8実績'!X12)","v":0},null,null,null,null,"副３",null,{"$f":"IF('8実績'!AE12=\"\",\"\",'8実績'!AE12)","v":0}]
[]
[]
["日",null,"曜",null,"ＡＭ",null,null,null,null,null,null,"ＰＭ",null,null,null,null,null,null,"時間",null,null,"内容（練習・大会・OFF等）",null,null,null,null,null,null,null,null,null,null,null,"場所"]
[1,null,{"$f":"IF(A16=\"\",\"\",TEXT(DATE($AS$1,$A$7,A16),\"aaa\"))","v":"火"},null,null,null,null,"～",null,null,null,null,null,null,"～",null,null,null,{"$f":"(I16-E16)+(P16-L16)","v":"00:00:00"}]
[2,null,{"$f":"IF(A17=\"\",\"\",TEXT(DATE($AS$1,$A$7,A17),\"aaa\"))","v":"水"},null,null,null,null,"～",null,null,null,null,null,null,"～",null,null,null,"00:00:00"]
[3,null,"木",null,null,null,null,"～",null,null,null,null,null,null,"～",null,null,null,"00:00:00"]
[4,null,"金",null,null,null,null,"～",null,null,null,null,null,null,"～",null,null,null,"00:00:00"]
[5,null,"土",null,null,null,null,"～",null,null,null,null,null,null,"～",null,null,null,"00:00:00"]
[6,null,"日",null,null,null,null,"～",null,null,null,null,null,null,"～",null,null,null,"00:00:00"]
[7,null,"月",null,null,null,null,"～",null,null,null,null,null,null,"～",null,null,null,"00:00:00"]
[8,null,"火",null,null,null,null,"～",null,null,null,null,null,null,"～",null,null,null,"00:00:00"]
[9,null,"水",null,null,null,null,"～",null,null,null,null,null,null,"～",null,null,null,"00:00:00"]
[10,null,"木",null,null,null,null,"～",null,null,null,null,null,null,"～",null,null,null,"00:00:00"]
[11,null,"金",null,null,null,null,"～",null,null,null,null,null,null,"～",null,null,null,"00:00:00"]
[12,null,"土",null,null,null,null,"～",null,null,null,null,null,null,"～",null,null,null,"00:00:00"]
[13,null,"日",null,null,null,null,"～",null,null,null,null,null,null,"～",null,null,null,"00:00:00"]
[14,null,"月",null,null,null,null,"～",null,null,null,null,null,null,"～",null,null,null,"00:00:00"]
[15,null,"火",null,null,null,null,"～",null,null,null,null,null,null,"～",null,null,null,"00:00:00"]
[16,null,"水",null,null,null,null,"～",null,null,null,null,null,null,"～",null,null,null,"00:00:00"]
[17,null,"木",null,null,null,null,"～",null,null,null,null,null,null,"～",null,null,null,"00:00:00"]
[18,null,"金",null,null,null,null,"～",null,null,null,null,null,null,"～",null,null,null,"00:00:00"]
[19,null,"土",null,null,null,null,"～",null,null,null,null,null,null,"～",null,null,null,"00:00:00"]
[20,null,"日",null,null,null,null,"～",null,null,null,null,null,null,"～",null,null,null,"00:00:00"]
[21,null,"月",null,null,null,null,"～",null,null,null,null,null,null,"～",null,null,null,"00:00:00"]
[22,null,"火",null,null,null,null,"～",null,null,null,null,null,null,"～",null,null,null,"00:00:00"]
[23,null,"水",null,null,null,null,"～",null,null,null,null,null,null,"～",null,null,null,"00:00:00"]
[24,null,"木",null,null,null,null,"～",null,null,null,null,null,null,"～",null,null,null,"00:00:00"]
[25,null,"金",null,null,null,null,"～",null,null,null,null,null,null,"～",null,null,null,"00:00:00"]
[26,null,"土",null,null,null,null,"～",null,null,null,null,null,null,"～",null,null,null,"00:00:00"]
[27,null,"日",null,null,null,null,"～",null,null,null,null,null,null,"～",null,null,null,"00:00:00"]
[28,null,"月",null,null,null,null,"～",null,null,null,null,null,null,"～",null,null,null,"00:00:00"]
[29,null,"火",null,null,null,null,"～",null,null,null,null,null,null,"～",null,null,null,"00:00:00"]
[30,null,"水",null,null,null,null,"～",null,null,null,null,null,null,"～",null,null,null,"00:00:00"]
[null,null,"",null,null,null,null,"～",null,null,null,null,null,null,"～",null,null,null,"00:00:00",null,null,null,null,null,null,null,null,null,null,null,null,null,null,null,null,null,null,null,null,null,null,null,null,null,null,null,null,null,null,null,null,null,null,null,null,null,null,null,null,null,null,null,{"$f":"RIGHT(V46,2)","v":""}]
[null,null,null,null,null,null,null,null,null,null,null,null,null,null,null,null,null,null,{"$f":"SUM(S16:U46)","v":0},null,null,null,null,null,null,null,null,null,null,null,null,null,"赤字変更内容については口頭命令済",null,null,null,null,"校長"]
[null,null,null,null,null,null,null,null,null,null,null,null,null,null,null,null,null,null,null,null,null,null,null,null,null,null,null,null,null,null,null,null,null,null,null,null,null," 　 .  　."]
["月",null,null,4,null,5,null,6,null,7,null,8,null,9,null,10,null,11,null,12,null,1,null,2,null,3,null,"計"]
["時間",null,null,{"$f":"'４実績'!D50","v":0},null,{"$f":"'５実績'!F50","v":0},null,{"$f":"'6実績'!H50","v":0},null,{"$f":"'7実績'!J50","v":0},null,{"$f":"'8実績'!L50:M50","v":0},null,{"$f":"S47","v":0},null,null,null,null,null,null,null,null,null,null,null,null,null,{"$f":"SUM(D50:AA50)","v":0},null,null,null,null,"時間"]
["活動日数",null,null,{"$f":"'４実績'!D51","v":0},null,{"$f":"'５実績'!F51","v":0},null,{"$f":"'6実績'!H51","v":0},null,{"$f":"'7実績'!J51","v":0},null,{"$f":"'8実績'!L51:M51","v":0},null,{"$f":"COUNTIF(S16:U46,\">0\")","v":0},null,null,null,null,null,null,null,null,null,null,null,null,null,{"$f":"SUM(D51:AA51)","v":0},null,null,null,null,"活動日数"]
["休養日数",null,null,{"$f":"'４実績'!D52","v":30},null,{"$f":"'５実績'!F52","v":31},null,{"$f":"'6実績'!H52","v":30},null,{"$f":"'7実績'!J52","v":31},null,{"$f":"'8実績'!L52:M52","v":31},null,{"$f":"COUNTIF(S16:U45,\"0:00\")","v":30},null,null,null,null,null,null,null,null,null,null,null,null,null,{"$f":"SUM(D52:AA52)","v":183},null,null,null,null,"休養日数"]
[null,null,null,null,null,null,null,null,null,null,null,null,null,null,null,null,null,null,null,null,null,null,null,null,null,null,null,{"$f":"AB50/AB51","v":{"$error":"#DIV/0!"}},null,null,null,null,"平均時間/日"]

{"sheet":"10計画","index":7,"n_rows":53,"n_cols":63,"rows_kept":53,"cut":false,"hidden":false,"merged":[[0,0,0,3],[1,25,2,27],[1,28,2,37],[1,38,2,40],[2,0,4,3],[2,4,4,7],[2,8,4,11],[2,12,4,15],[2,16,4,19],[2,20,4,23],[3,25,4,27],[1,0,1,3],[1,4,1,7],[1,8,1,11],[1,12,1,15],[1,16,1,19],[1,20,1,23],[3,28,4,37],[3,38,4,40],[6,0,7,4],[6,5,7,7],[6,8,7,22],[6,24,7,26],[6,27,6,28],[6,29,6,30],[6,31,6,32],[6,33,6,34],[6,35,6,36],[6,37,6,38],[6,39,6,40],[7,27,7,28],[7,29,7,30],[7,31,7,32],[7,33,7,34],[7,35,7,36],[7,37,7,38],[7,39,7,40],[9,23,10,27],[9,28,10,29],[9,30,10,38],[9,39,10,40],[11,1,12,2],[11,3,12,7],[11,8,12,9],[11,10,12,18],[11,19,12,20],[11,21,12,22],[9,1,10,2],[9,3,10,7],[9,8,10,9],[9,10,10,18],[9,19,10,20],[9,21,10,22],[11,23,12,27],[11,28,12,29],[11,30,12,38],[11,39,12,40],[14,0,14,1],[14,2,14,3],[14,4,14,10],[14,11,14,17],[14,18,14,20],[14,21,14,32],[14,33,14,40],[15,0,15,1],[15,2,15,3],[15,4,15,6],[15,8,15,10],[15,11,15,13],[15,15,15,17],[15,18,15,20],[15,21,15,26],[15,27,15,32],[15,33,15,40],[16,33,16,40],[17,0,17,1],[17,2,17,3],[17,4,17,6],[17,8,17,10],[17,11,17,13],[17,15,17,17],[17,18,17,20],[17,21,17,26],[17,27,17,32],[17,33,17,40],[16,0,16,1],[16,2,16,3],[16,4,16,6],[16,8,16,10],[16,11,16,13],[16,15,16,17],[16,18,16,20],[16,21,16,26],[16,27,16,32],[18,33,18,40],[19,0,19,1],[19,2,19,3],[19,4,19,6],[19,8,19,10],[19,11,19,13],[19,15,19,17],[19,18,19,20],[19,21,19,26],[19,27,19,32],[19,33,19,40],[18,0,18,1],[18,2,18,3],[18,4,18,6],[18,8,18,10],[18,11,18,13],[18,15,18,17],[18,18,18,20],[18,21,18,26],[18,27,18,32],[20,33,20,40],[21,0,21,1],[21,2,21,3],[21,4,21,6],[21,8,21,10],[21,11,21,13],[21,15,21,17],[21,18,21,20],[21,21,21,26],[21,27,21,32],[21,33,21,40],[20,0,20,1],[20,2,20,3],[20,4,20,6],[20,8,20,10],[20,11,20,13],[20,15,20,17],[20,18,20,20],[20,21,20,26],[20,27,20,32],[22,33,22,40],[23,0,23,1],[23,2,23,3],[23,4,23,6],[23,8,23,10],[23,11,23,13],[23,15,23,17],[23,18,23,20],[23,21,23,26],[23,27,23,32],[23,33,23,40],[22,0,22,1],[22,2,22,3],[22,4,22,6],[22,8,22,10],[22,11,22,13],[22,15,22,17],[22,18,22,20],[22,21,22,26],[22,27,22,32],[24,33,24,40],[25,0,25,1],[25,2,25,3],[25,4,25,6],[25,8,25,10],[25,11,25,13],[25,15,25,17],[25,18,25,20],[25,21,25,26],[25,27,25,32],[25,33,25,40],[24,0,24,1],[24,2,24,3],[24,4,24,6],[24,8,24,10],[24,11,24,13],[24,15,24,17],[24,18,24,20],[24,21,24,26],[24,27,24,32],[26,33,26,40],[27,0,27,1],[27,2,27,3],[27,4,27,6],[27,8,27,10],[27,11,27,13],[27,15,27,17],[27,18,27,20],[27,21,27,26],[27,27,27,32],[27,33,27,40],[26,0,26,1],[26,2,26,3],[26,4,26,6],[26,8,26,10],[26,11,26,13],[26,15,26,17],[26,18,26,20],[26,21,26,26],[26,27,26,32],[28,33,28,40],[29,0,29,1],[29,2,29,3],[29,4,29,6],[29,8,29,10],[29,11,29,13],[29,15,29,17],[29,18,29,20],[29,21,29,26],[29,27,29,32],[29,33,29,40],[28,0,28,1],[28,2,28,3],[28,4,28,6],[28,8,28,10],[28,11,28,13],[28,15,28,17],[28,18,28,20],[28,21,28,26],[28,27,28,32],[30,33,30,40],[31,0,31,1],[31,2,31,3],[31,4,31,6],[31,8,31,10],[31,11,31,13],[31,15,31,17],[31,18,31,20],[31,21,31,26],[31,27,31,32],[31,33,31,40],[30,0,30,1],[30,2,30,3],[30,4,30,6],[30,8,30,10],[30,11,30,13],[30,15,30,17],[30,18,30,20],[30,21,30,26],[30,27,30,32],[32,33,32,40],[33,0,33,1],[33,2,33,3],[33,4,33,6],[33,8,33,10],[33,11,33,13],[33,15,33,17],[33,18,33,20],[33,21,33,26],[33,27,33,32],[33,33,33,40],[32,0,32,1],[32,2,32,3],[32,4,32,6],[32,8,32,10],[32,11,32,13],[32,15,32,17],[32,18,32,20],[32,21,32,26],[32,27,32,32],[34,33,34,40],[35,0,35,1],[35,2,35,3],[35,4,35,6],[35,8,35,10],[35,11,35,13],[35,15,35,17],[35,18,35,20],[35,21,35,26],[35,27,35,32],[35,33,35,40],[34,0,34,1],[34,2,34,3],[34,4,34,6],[34,8,34,10],[34,11,34,13],[34,15,34,17],[34,18,34,20],[34,21,34,26],[34,27,34,32],[36,33,36,40],[37,0,37,1],[37,2,37,3],[37,4,37,6],[37,8,37,10],[37,11,37,13],[37,15,37,17],[37,18,37,20],[37,21,37,26],[37,27,37,32],[37,33,37,40],[36,0,36,1],[36,2,36,3],[36,4,36,6],[36,8,36,10],[36,11,36,13],[36,15,36,17],[36,18,36,20],[36,21,36,26],[36,27,36,32],[38,33,38,40],[39,0,39,1],[39,2,39,3],[39,4,39,6],[39,8,39,10],[39,11,39,13],[39,15,39,17],[39,18,39,20],[39,21,39,26],[39,27,39,32],[39,33,39,40],[38,0,38,1],[38,2,38,3],[38,4,38,6],[38,8,38,10],[38,11,38,13],[38,15,38,17],[38,18,38,20],[38,21,38,26],[38,27,38,32],[40,33,40,40],[41,0,41,1],[41,2,41,3],[41,4,41,6],[41,8,41,10],[41,11,41,13],[41,15,41,17],[41,18,41,20],[41,21,41,26],[41,27,41,32],[41,33,41,40],[40,0,40,1],[40,2,40,3],[40,4,40,6],[40,8,40,10],[40,11,40,13],[40,15,40,17],[40,18,40,20],[40,21,40,26],[40,27,40,32],[42,33,42,40],[43,0,43,1],[43,2,43,3],[43,4,43,6],[43,8,43,10],[43,11,43,13],[43,15,43,17],[43,18,43,20],[43,21,43,26],[43,27,43,32],[43,33,43,40],[42,0,42,1],[42,2,42,3],[42,4,42,6],[42,8,42,10],[42,11,42,13],[42,15,42,17],[42,18,42,20],[42,21,42,26],[42,27,42,32],[45,33,45,40],[46,18,46,20],[44,33,44,40],[45,0,45,1],[45,2,45,3],[45,4,45,6],[45,8,45,10],[45,11,45,13],[45,15,45,17],[45,18,45,20],[45,21,45,26],[45,27,45,32],[44,0,44,1],[44,2,44,3],[44,4,44,6],[44,8,44,10],[44,11,44,13],[44,15,44,17],[44,18,44,20],[44,21,44,26],[44,27,44,32],[46,32,48,36],[46,37,46,40],[47,37,48,40],[48,25,48,26],[48,27,48,31],[49,0,49,2],[49,3,49,4],[49,5,49,6],[49,7,49,8],[49,9,49,10],[49,11,49,12],[49,13,49,14],[49,15,49,16],[48,13,48,14],[48,15,48,16],[48,17,48,18],[48,19,48,20],[48,21,48,22],[48,23,48,24],[48,0,48,2],[48,3,48,4],[48,5,48,6],[48,7,48,8],[48,9,48,10],[48,11,48,12],[50,25,50,26],[50,27,50,31],[50,32,50,34],[49,32,49,34],[50,0,50,2],[50,3,50,4],[50,5,50,6],[50,7,50,8],[50,9,50,10],[50,11,50,12],[50,13,50,14],[50,15,50,16],[50,17,50,18],[49,17,49,18],[49,19,49,20],[49,21,49,22],[49,23,49,24],[49,25,49,26],[49,27,49,31],[51,0,51,2],[51,3,51,4],[51,5,51,6],[51,7,51,8],[51,9,51,10],[51,11,51,12],[50,19,50,20],[50,21,50,22],[50,23,50,24],[51,25,51,26],[51,27,51,31],[51,32,51,34],[52,27,52,31],[52,32,52,34],[51,13,51,14],[51,15,51,16],[51,17,51,18],[51,19,51,20],[51,21,51,22],[51,23,51,24]]}
[null,null,null,null,null,null,null,null,null,null,null,null,null,null,null,null,null,null,null,null,null,null,null,null,null,null,null,null,null,null,null,null,null,null,null,null,null,null,null,null,null,null,null,null,{"$f":"'4計画'!AQ1","v":2020}]
["校長",null,null,null,"教頭",null,null,null,"教頭",null,null,null,"主幹教諭",null,null,null,null,null,null,null,"顧問",null,null,null,null,"学校名",null,null,{"$f":"IF('9実績'!AC2=\"\",\"\",'9実績'!AC2)","v":0},null,null,null,null,null,null,null,null,null,"学校"]
["印",null,null,null,"印",null,null,null,"印",null,null,null,"印",null,null,null,"印",null,null,null,"印"]
[null,null,null,null,null,null,null,null,null,null,null,null,null,null,null,null,null,null,null,null,null,null,null,null,null,"部活動名",null,null,{"$f":"IF('9実績'!AC4=\"\",\"\",'9実績'!AC4)","v":0},null,null,null,null,null,null,null,null,null,"部"]
[]
[]
[10,null,null,null,null,"月",null,null,"〈月間〉部活動計画・活動実績",null,null,null,null,null,null,null,null,null,null,null,null,null,null,null,"部員数",null,null,"1女",null,"2女",null,"3女",null,"1男",null,"2男",null,"3男",null,"計"]
[null,null,null,null,null,null,null,null,null,null,null,null,null,null,null,null,null,null,null,null,null,null,null,null,null,null,null,{"$f":"IF('9実績'!AB8=\"\",\"\",'9実績'!AB8)","v":0},null,{"$f":"IF('9実績'!AD8=\"\",\"\",'9実績'!AD8)","v":0},null,{"$f":"IF('9実績'!AF8=\"\",\"\",'9実績'!AF8)","v":0},null,{"$f":"IF('9実績'!AH8=\"\",\"\",'9実績'!AH8)","v":0},null,{"$f":"IF('9実績'!AJ8=\"\",\"\",'9実績'!AJ8)","v":0},null,{"$f":"IF('9実績'!AL8=\"\",\"\",'9実績'!AL8)","v":0},null,{"$f":"SUM(AB8:AM8)","v":0}]
[]
[null,"職名",null,{"$f":"IF('9実績'!D10=\"\",\"\",'9実績'!D10)","v":0},null,null,null,null,"顧問",null,{"$f":"IF('9実績'!K10=\"\",\"\",'9実績'!K10)","v":0},null,null,null,null,null,null,null,null,null,null,"職名",null,{"$f":"IF('9実績'!X10=\"\",\"\",'9実績'!X10)","v":0},null,null,null,null,"副２",null,{"$f":"IF('9実績'!AE10=\"\",\"\",'9実績'!AE10)","v":0}]
[]
[null,"職名",null,{"$f":"IF('9実績'!D12=\"\",\"\",'9実績'!D12)","v":0},null,null,null,null,"副顧問",null,{"$f":"IF('9実績'!K12=\"\",\"\",'9実績'!K12)","v":0},null,null,null,null,null,null,null,null,null,null,"職名",null,{"$f":"IF('9実績'!X12=\"\",\"\",'9実績'!X12)","v":0},null,null,null,null,"副３",null,{"$f":"IF('9実績'!AE12=\"\",\"\",'9実績'!AE12)","v":0}]
[]
[]
["日",null,"曜",null,"ＡＭ",null,null,null,null,null,null,"ＰＭ",null,null,null,null,null,null,"時間",null,null,"内容（練習・大会・OFF等）",null,null,null,null,null,null,null,null,null,null,null,"場所"]
[1,null,{"$f":"IF(A16=\"\",\"\",TEXT(DATE($AS$1,$A$7,A16),\"aaa\"))","v":"木"},null,null,null,null,"～",null,null,null,null,null,null,"～",null,null,null,{"$f":"(I16-E16)+(P16-L16)","v":"00:00:00"}]
[2,null,{"$f":"IF(A17=\"\",\"\",TEXT(DATE($AS$1,$A$7,A17),\"aaa\"))","v":"金"},null,null,null,null,"～",null,null,null,null,null,null,"～",null,null,null,"00:00:00"]
[3,null,"土",null,null,null,null,"～",null,null,null,null,null,null,"～",null,null,null,"00:00:00"]
[4,null,"日",null,null,null,null,"～",null,null,null,null,null,null,"～",null,null,null,"00:00:00"]
[5,null,"月",null,null,null,null,"～",null,null,null,null,null,null,"～",null,null,null,"00:00:00"]
[6,null,"火",null,null,null,null,"～",null,null,null,null,null,null,"～",null,null,null,"00:00:00"]
[7,null,"水",null,null,null,null,"～",null,null,null,null,null,null,"～",null,null,null,"00:00:00"]
[8,null,"木",null,null,null,null,"～",null,null,null,null,null,null,"～",null,null,null,"00:00:00"]
[9,null,"金",null,null,null,null,"～",null,null,null,null,null,null,"～",null,null,null,"00:00:00"]
[10,null,"土",null,null,null,null,"～",null,null,null,null,null,null,"～",null,null,null,"00:00:00"]
[11,null,"日",null,null,null,null,"～",null,null,null,null,null,null,"～",null,null,null,"00:00:00"]
[12,null,"月",null,null,null,null,"～",null,null,null,null,null,null,"～",null,null,null,"00:00:00"]
[13,null,"火",null,null,null,null,"～",null,null,null,null,null,null,"～",null,null,null,"00:00:00"]
[14,null,"水",null,null,null,null,"～",null,null,null,null,null,null,"～",null,null,null,"00:00:00"]
[15,null,"木",null,null,null,null,"～",null,null,null,null,null,null,"～",null,null,null,"00:00:00"]
[16,null,"金",null,null,null,null,"～",null,null,null,null,null,null,"～",null,null,null,"00:00:00"]
[17,null,"土",null,null,null,null,"～",null,null,null,null,null,null,"～",null,null,null,"00:00:00"]
[18,null,"日",null,null,null,null,"～",null,null,null,null,null,null,"～",null,null,null,"00:00:00"]
[19,null,"月",null,null,null,null,"～",null,null,null,null,null,null,"～",null,null,null,"00:00:00"]
[20,null,"火",null,null,null,null,"～",null,null,null,null,null,null,"～",null,null,null,"00:00:00"]
[21,null,"水",null,null,null,null,"～",null,null,null,null,null,null,"～",null,null,null,"00:00:00"]
[22,null,"木",null,null,null,null,"～",null,null,null,null,null,null,"～",null,null,null,"00:00:00"]
[23,null,"金",null,null,null,null,"～",null,null,null,null,null,null,"～",null,null,null,"00:00:00"]
[24,null,"土",null,null,null,null,"～",null,null,null,null,null,null,"～",null,null,null,"00:00:00"]
[25,null,"日",null,null,null,null,"～",null,null,null,null,null,null,"～",null,null,null,"00:00:00"]
[26,null,"月",null,null,null,null,"～",null,null,null,null,null,null,"～",null,null,null,"00:00:00"]
[27,null,"火",null,null,null,null,"～",null,null,null,null,null,null,"～",null,null,null,"00:00:00"]
[28,null,"水",null,null,null,null,"～",null,null,null,null,null,null,"～",null,null,null,"00:00:00"]
[29,null,"木",null,null,null,null,"～",null,null,null,null,null,null,"～",null,null,null,"00:00:00"]
[30,null,"金",null,null,null,null,"～",null,null,null,null,null,null,"～",null,null,null,"00:00:00"]
[31,null,"土",null,null,null,null,"～",null,null,null,null,null,null,"～",null,null,null,"00:00:00",null,null,null,null,null,null,null,null,null,null,null,null,null,null,null,null,null,null,null,null,null,null,null,null,null,null,null,null,null,null,null,null,null,null,null,null,null,null,null,null,null,null,null,{"$f":"RIGHT(V46,2)","v":""}]
[null,null,null,null,null,null,null,null,null,null,null,null,null,null,null,null,null,null,{"$f":"SUM(S16:U46)","v":0},null,null,null,null,null,null,null,null,null,null,null,null,null,"赤字変更内容については口頭命令済",null,null,null,null,"校長"]
[null,null,null,null,null,null,null,null,null,null,null,null,null,null,null,null,null,null,null,null,null,null,null,null,null,null,null,null,null,null,null,null,null,null,null,null,null," 　 .  　."]
["月",null,null,4,null,5,null,6,null,7,null,8,null,9,null,10,null,11,null,12,null,1,null,2,null,3,null,"計"]
["時間",null,null,{"$f":"'４実績'!D50","v":0},null,{"$f":"'５実績'!F50","v":0},null,{"$f":"'6実績'!H50","v":0},null,{"$f":"'7実績'!J50","v":0},null,{"$f":"'8実績'!L50:M50","v":0},null,{"$f":"'9実績'!N50:O50","v":0},null,{"$f":"S47","v":0},null,null,null,null,null,null,null,null,null,null,null,{"$f":"SUM(D50:AA50)","v":0},null,null,null,null,"時間"]
["活動日数",null,null,{"$f":"'４実績'!D51","v":0},null,{"$f":"'５実績'!F51","v":0},null,{"$f":"'6実績'!H51","v":0},null,{"$f":"'7実績'!J51","v":0},null,{"$f":"'8実績'!L51:M51","v":0},null,{"$f":"'9実績'!N51:O51","v":0},null,{"$f":"COUNTIF(S16:U46,\">0\")","v":0},null,null,null,null,null,null,null,null,null,null,null,{"$f":"SUM(D51:AA51)","v":0},null,null,null,null,"活動日数"]
["休養日数",null,null,{"$f":"'４実績'!D52","v":30},null,{"$f":"'５実績'!F52","v":31},null,{"$f":"'6実績'!H52","v":30},null,{"$f":"'7実績'!J52","v":31},null,{"$f":"'8実績'!L52:M52","v":31},null,{"$f":"'9実績'!N52:O52","v":30},null,{"$f":"COUNTIF(S16:U46,\"0:00\")","v":31},null,null,null,null,null,null,null,null,null,null,null,{"$f":"SUM(D52:AA52)","v":214},null,null,null,null,"休養日数"]
[null,null,null,null,null,null,null,null,null,null,null,null,null,null,null,null,null,null,null,null,null,null,null,null,null,null,null,{"$f":"AB50/AB51","v":{"$error":"#DIV/0!"}},null,null,null,null,"平均時間/日"]

{"sheet":"11計画","index":8,"n_rows":53,"n_cols":63,"rows_kept":53,"cut":false,"hidden":false,"merged":[[0,0,0,3],[1,25,2,27],[1,28,2,37],[1,38,2,40],[2,0,4,3],[2,4,4,7],[2,8,4,11],[2,12,4,15],[2,16,4,19],[2,20,4,23],[3,25,4,27],[1,0,1,3],[1,4,1,7],[1,8,1,11],[1,12,1,15],[1,16,1,19],[1,20,1,23],[3,28,4,37],[3,38,4,40],[6,0,7,4],[6,5,7,7],[6,8,7,22],[6,24,7,26],[6,27,6,28],[6,29,6,30],[6,31,6,32],[6,33,6,34],[6,35,6,36],[6,37,6,38],[6,39,6,40],[7,27,7,28],[7,29,7,30],[7,31,7,32],[7,33,7,34],[7,35,7,36],[7,37,7,38],[7,39,7,40],[9,23,10,27],[9,28,10,29],[9,30,10,38],[9,39,10,40],[11,1,12,2],[11,3,12,7],[11,8,12,9],[11,10,12,18],[11,19,12,20],[11,21,12,22],[9,1,10,2],[9,3,10,7],[9,8,10,9],[9,10,10,18],[9,19,10,20],[9,21,10,22],[11,23,12,27],[11,28,12,29],[11,30,12,38],[11,39,12,40],[14,0,14,1],[14,2,14,3],[14,4,14,10],[14,11,14,17],[14,18,14,20],[14,21,14,32],[14,33,14,40],[15,0,15,1],[15,2,15,3],[15,4,15,6],[15,8,15,10],[15,11,15,13],[15,15,15,17],[15,18,15,20],[15,21,15,26],[15,27,15,32],[15,33,15,40],[16,33,16,40],[17,0,17,1],[17,2,17,3],[17,4,17,6],[17,8,17,10],[17,11,17,13],[17,15,17,17],[17,18,17,20],[17,21,17,26],[17,27,17,32],[17,33,17,40],[16,0,16,1],[16,2,16,3],[16,4,16,6],[16,8,16,10],[16,11,16,13],[16,15,16,17],[16,18,16,20],[16,21,16,26],[16,27,16,32],[18,33,18,40],[19,0,19,1],[19,2,19,3],[19,4,19,6],[19,8,19,10],[19,11,19,13],[19,15,19,17],[19,18,19,20],[19,21,19,26],[19,27,19,32],[19,33,19,40],[18,0,18,1],[18,2,18,3],[18,4,18,6],[18,8,18,10],[18,11,18,13],[18,15,18,17],[18,18,18,20],[18,21,18,26],[18,27,18,32],[20,33,20,40],[21,0,21,1],[21,2,21,3],[21,4,21,6],[21,8,21,10],[21,11,21,13],[21,15,21,17],[21,18,21,20],[21,21,21,26],[21,27,21,32],[21,33,21,40],[20,0,20,1],[20,2,20,3],[20,4,20,6],[20,8,20,10],[20,11,20,13],[20,15,20,17],[20,18,20,20],[20,21,20,26],[20,27,20,32],[22,33,22,40],[23,0,23,1],[23,2,23,3],[23,4,23,6],[23,8,23,10],[23,11,23,13],[23,15,23,17],[23,18,23,20],[23,21,23,26],[23,27,23,32],[23,33,23,40],[22,0,22,1],[22,2,22,3],[22,4,22,6],[22,8,22,10],[22,11,22,13],[22,15,22,17],[22,18,22,20],[22,21,22,26],[22,27,22,32],[24,33,24,40],[25,0,25,1],[25,2,25,3],[25,4,25,6],[25,8,25,10],[25,11,25,13],[25,15,25,17],[25,18,25,20],[25,21,25,26],[25,27,25,32],[25,33,25,40],[24,0,24,1],[24,2,24,3],[24,4,24,6],[24,8,24,10],[24,11,24,13],[24,15,24,17],[24,18,24,20],[24,21,24,26],[24,27,24,32],[26,33,26,40],[27,0,27,1],[27,2,27,3],[27,4,27,6],[27,8,27,10],[27,11,27,13],[27,15,27,17],[27,18,27,20],[27,21,27,26],[27,27,27,32],[27,33,27,40],[26,0,26,1],[26,2,26,3],[26,4,26,6],[26,8,26,10],[26,11,26,13],[26,15,26,17],[26,18,26,20],[26,21,26,26],[26,27,26,32],[28,33,28,40],[29,0,29,1],[29,2,29,3],[29,4,29,6],[29,8,29,10],[29,11,29,13],[29,15,29,17],[29,18,29,20],[29,21,29,26],[29,27,29,32],[29,33,29,40],[28,0,28,1],[28,2,28,3],[28,4,28,6],[28,8,28,10],[28,11,28,13],[28,15,28,17],[28,18,28,20],[28,21,28,26],[28,27,28,32],[30,33,30,40],[31,0,31,1],[31,2,31,3],[31,4,31,6],[31,8,31,10],[31,11,31,13],[31,15,31,17],[31,18,31,20],[31,21,31,26],[31,27,31,32],[31,33,31,40],[30,0,30,1],[30,2,30,3],[30,4,30,6],[30,8,30,10],[30,11,30,13],[30,15,30,17],[30,18,30,20],[30,21,30,26],[30,27,30,32],[32,33,32,40],[33,0,33,1],[33,2,33,3],[33,4,33,6],[33,8,33,10],[33,11,33,13],[33,15,33,17],[33,18,33,20],[33,21,33,26],[33,27,33,32],[33,33,33,40],[32,0,32,1],[32,2,32,3],[32,4,32,6],[32,8,32,10],[32,11,32,13],[32,15,32,17],[32,18,32,20],[32,21,32,26],[32,27,32,32],[34,33,34,40],[35,0,35,1],[35,2,35,3],[35,4,35,6],[35,8,35,10],[35,11,35,13],[35,15,35,17],[35,18,35,20],[35,21,35,26],[35,27,35,32],[35,33,35,40],[34,0,34,1],[34,2,34,3],[34,4,34,6],[34,8,34,10],[34,11,34,13],[34,15,34,17],[34,18,34,20],[34,21,34,26],[34,27,34,32],[36,33,36,40],[37,0,37,1],[37,2,37,3],[37,4,37,6],[37,8,37,10],[37,11,37,13],[37,15,37,17],[37,18,37,20],[37,21,37,26],[37,27,37,32],[37,33,37,40],[36,0,36,1],[36,2,36,3],[36,4,36,6],[36,8,36,10],[36,11,36,13],[36,15,36,17],[36,18,36,20],[36,21,36,26],[36,27,36,32],[38,33,38,40],[39,0,39,1],[39,2,39,3],[39,4,39,6],[39,8,39,10],[39,11,39,13],[39,15,39,17],[39,18,39,20],[39,21,39,26],[39,27,39,32],[39,33,39,40],[38,0,38,1],[38,2,38,3],[38,4,38,6],[38,8,38,10],[38,11,38,13],[38,15,38,17],[38,18,38,20],[38,21,38,26],[38,27,38,32],[40,33,40,40],[41,0,41,1],[41,2,41,3],[41,4,41,6],[41,8,41,10],[41,11,41,13],[41,15,41,17],[41,18,41,20],[41,21,41,26],[41,27,41,32],[41,33,41,40],[40,0,40,1],[40,2,40,3],[40,4,40,6],[40,8,40,10],[40,11,40,13],[40,15,40,17],[40,18,40,20],[40,21,40,26],[40,27,40,32],[42,33,42,40],[43,0,43,1],[43,2,43,3],[43,4,43,6],[43,8,43,10],[43,11,43,13],[43,15,43,17],[43,18,43,20],[43,21,43,26],[43,27,43,32],[43,33,43,40],[42,0,42,1],[42,2,42,3],[42,4,42,6],[42,8,42,10],[42,11,42,13],[42,15,42,17],[42,18,42,20],[42,21,42,26],[42,27,42,32],[45,33,45,40],[46,18,46,20],[44,33,44,40],[45,0,45,1],[45,2,45,3],[45,4,45,6],[45,8,45,10],[45,11,45,13],[45,15,45,17],[45,18,45,20],[45,21,45,26],[45,27,45,32],[44,0,44,1],[44,2,44,3],[44,4,44,6],[44,8,44,10],[44,11,44,13],[44,15,44,17],[44,18,44,20],[44,21,44,26],[44,27,44,32],[46,32,48,36],[46,37,46,40],[47,37,48,40],[48,25,48,26],[48,27,48,31],[49,0,49,2],[49,3,49,4],[49,5,49,6],[49,7,49,8],[49,9,49,10],[49,11,49,12],[49,13,49,14],[49,15,49,16],[48,13,48,14],[48,15,48,16],[48,17,48,18],[48,19,48,20],[48,21,48,22],[48,23,48,24],[48,0,48,2],[48,3,48,4],[48,5,48,6],[48,7,48,8],[48,9,48,10],[48,11,48,12],[50,25,50,26],[50,27,50,31],[50,32,50,34],[49,32,49,34],[50,0,50,2],[50,3,50,4],[50,5,50,6],[50,7,50,8],[50,9,50,10],[50,11,50,12],[50,13,50,14],[50,15,50,16],[50,17,50,18],[49,17,49,18],[49,19,49,20],[49,21,49,22],[49,23,49,24],[49,25,49,26],[49,27,49,31],[51,0,51,2],[51,3,51,4],[51,5,51,6],[51,7,51,8],[51,9,51,10],[51,11,51,12],[50,19,50,20],[50,21,50,22],[50,23,50,24],[51,25,51,26],[51,27,51,31],[51,32,51,34],[52,27,52,31],[52,32,52,34],[51,13,51,14],[51,15,51,16],[51,17,51,18],[51,19,51,20],[51,21,51,22],[51,23,51,24]]}
[null,null,null,null,null,null,null,null,null,null,null,null,null,null,null,null,null,null,null,null,null,null,null,null,null,null,null,null,null,null,null,null,null,null,null,null,null,null,null,null,null,null,null,null,{"$f":"'4計画'!AQ1","v":2020}]
["校長",null,null,null,"教頭",null,null,null,"教頭",null,null,null,"主幹教諭",null,null,null,null,null,null,null,"顧問",null,null,null,null,"学校名",null,null,{"$f":"IF('10実績'!AC2=\"\",\"\",'10実績'!AC2)","v":0},null,null,null,null,null,null,null,null,null,"学校"]
["印",null,null,null,"印",null,null,null,"印",null,null,null,"印",null,null,null,"印",null,null,null,"印"]
[null,null,null,null,null,null,null,null,null,null,null,null,null,null,null,null,null,null,null,null,null,null,null,null,null,"部活動名",null,null,{"$f":"IF('10実績'!AC4=\"\",\"\",'10実績'!AC4)","v":0},null,null,null,null,null,null,null,null,null,"部"]
[]
[]
[11,null,null,null,null,"月",null,null,"〈月間〉部活動計画・活動実績",null,null,null,null,null,null,null,null,null,null,null,null,null,null,null,"部員数",null,null,"1女",null,"2女",null,"3女",null,"1男",null,"2男",null,"3男",null,"計"]
[null,null,null,null,null,null,null,null,null,null,null,null,null,null,null,null,null,null,null,null,null,null,null,null,null,null,null,{"$f":"IF('10実績'!AB8=\"\",\"\",'10実績'!AB8)","v":0},null,{"$f":"IF('10実績'!AD8=\"\",\"\",'10実績'!AD8)","v":0},null,{"$f":"IF('10実績'!AF8=\"\",\"\",'10実績'!AF8)","v":0},null,{"$f":"IF('10実績'!AH8=\"\",\"\",'10実績'!AH8)","v":0},null,{"$f":"IF('10実績'!AJ8=\"\",\"\",'10実績'!AJ8)","v":0},null,{"$f":"IF('10実績'!AL8=\"\",\"\",'10実績'!AL8)","v":0},null,{"$f":"SUM(AB8:AM8)","v":0}]
[]
[null,"職名",null,{"$f":"IF('10実績'!D10=\"\",\"\",'10実績'!D10)","v":0},null,null,null,null,"顧問",null,{"$f":"IF('10実績'!K10=\"\",\"\",'10実績'!K10)","v":0},null,null,null,null,null,null,null,null,null,null,"職名",null,{"$f":"IF('10実績'!X10=\"\",\"\",'10実績'!X10)","v":0},null,null,null,null,"副２",null,{"$f":"IF('10実績'!AE10=\"\",\"\",'10実績'!AE10)","v":0}]
[]
[null,"職名",null,{"$f":"IF('10実績'!D12=\"\",\"\",'10実績'!D12)","v":0},null,null,null,null,"副顧問",null,{"$f":"IF('10実績'!K12=\"\",\"\",'10実績'!K12)","v":0},null,null,null,null,null,null,null,null,null,null,"職名",null,{"$f":"IF('10実績'!X12=\"\",\"\",'10実績'!X12)","v":0},null,null,null,null,"副３",null,{"$f":"IF('10実績'!AE12=\"\",\"\",'10実績'!AE12)","v":0}]
[]
[]
["日",null,"曜",null,"ＡＭ",null,null,null,null,null,null,"ＰＭ",null,null,null,null,null,null,"時間",null,null,"内容（練習・大会・OFF等）",null,null,null,null,null,null,null,null,null,null,null,"場所"]
[1,null,{"$f":"IF(A16=\"\",\"\",TEXT(DATE($AS$1,$A$7,A16),\"aaa\"))","v":"日"},null,null,null,null,"～",null,null,null,null,null,null,"～",null,null,null,{"$f":"(I16-E16)+(P16-L16)","v":"00:00:00"}]
[2,null,{"$f":"IF(A17=\"\",\"\",TEXT(DATE($AS$1,$A$7,A17),\"aaa\"))","v":"月"},null,null,null,null,"～",null,null,null,null,null,null,"～",null,null,null,"00:00:00"]
[3,null,"火",null,null,null,null,"～",null,null,null,null,null,null,"～",null,null,null,"00:00:00"]
[4,null,"水",null,null,null,null,"～",null,null,null,null,null,null,"～",null,null,null,"00:00:00"]
[5,null,"木",null,null,null,null,"～",null,null,null,null,null,null,"～",null,null,null,"00:00:00"]
[6,null,"金",null,null,null,null,"～",null,null,null,null,null,null,"～",null,null,null,"00:00:00"]
[7,null,"土",null,null,null,null,"～",null,null,null,null,null,null,"～",null,null,null,"00:00:00"]
[8,null,"日",null,null,null,null,"～",null,null,null,null,null,null,"～",null,null,null,"00:00:00"]
[9,null,"月",null,null,null,null,"～",null,null,null,null,null,null,"～",null,null,null,"00:00:00"]
[10,null,"火",null,null,null,null,"～",null,null,null,null,null,null,"～",null,null,null,"00:00:00"]
[11,null,"水",null,null,null,null,"～",null,null,null,null,null,null,"～",null,null,null,"00:00:00"]
[12,null,"木",null,null,null,null,"～",null,null,null,null,null,null,"～",null,null,null,"00:00:00"]
[13,null,"金",null,null,null,null,"～",null,null,null,null,null,null,"～",null,null,null,"00:00:00"]
[14,null,"土",null,null,null,null,"～",null,null,null,null,null,null,"～",null,null,null,"00:00:00"]
[15,null,"日",null,null,null,null,"～",null,null,null,null,null,null,"～",null,null,null,"00:00:00"]
[16,null,"月",null,null,null,null,"～",null,null,null,null,null,null,"～",null,null,null,"00:00:00"]
[17,null,"火",null,null,null,null,"～",null,null,null,null,null,null,"～",null,null,null,"00:00:00"]
[18,null,"水",null,null,null,null,"～",null,null,null,null,null,null,"～",null,null,null,"00:00:00"]
[19,null,"木",null,null,null,null,"～",null,null,null,null,null,null,"～",null,null,null,"00:00:00"]
[20,null,"金",null,null,null,null,"～",null,null,null,null,null,null,"～",null,null,null,"00:00:00"]
[21,null,"土",null,null,null,null,"～",null,null,null,null,null,null,"～",null,null,null,"00:00:00"]
[22,null,"日",null,null,null,null,"～",null,null,null,null,null,null,"～",null,null,null,"00:00:00"]
[23,null,"月",null,null,null,null,"～",null,null,null,null,null,null,"～",null,null,null,"00:00:00"]
[24,null,"火",null,null,null,null,"～",null,null,null,null,null,null,"～",null,null,null,"00:00:00"]
[25,null,"水",null,null,null,null,"～",null,null,null,null,null,null,"～",null,null,null,"00:00:00"]
[26,null,"木",null,null,null,null,"～",null,null,null,null,null,null,"～",null,null,null,"00:00:00"]
[27,null,"金",null,null,null,null,"～",null,null,null,null,null,null,"～",null,null,null,"00:00:00"]
[28,null,"土",null,null,null,null,"～",null,null,null,null,null,null,"～",null,null,null,"00:00:00"]
[29,null,"日",null,null,null,null,"～",null,null,null,null,null,null,"～",null,null,null,"00:00:00"]
[30,null,"月",null,null,null,null,"～",null,null,null,null,null,null,"～",null,null,null,"00:00:00"]
[null,null,"",null,null,null,null,"～",null,null,null,null,null,null,"～",null,null,null,"00:00:00",null,null,null,null,null,null,null,null,null,null,null,null,null,null,null,null,null,null,null,null,null,null,null,null,null,null,null,null,null,null,null,null,null,null,null,null,null,null,null,null,null,null,null,{"$f":"RIGHT(V46,2)","v":""}]
[null,null,null,null,null,null,null,null,null,null,null,null,null,null,null,null,null,null,{"$f":"SUM(S16:U46)","v":0},null,null,null,null,null,null,null,null,null,null,null,null,null,"赤字変更内容については口頭命令済",null,null,null,null,"校長"]
[null,null,null,null,null,null,null,null,null,null,null,null,null,null,null,null,null,null,null,null,null,null,null,null,null,null,null,null,null,null,null,null,null,null,null,null,null," 　 .  　."]
["月",null,null,4,null,5,null,6,null,7,null,8,null,9,null,10,null,11,null,12,null,1,null,2,null,3,null,"計"]
["時間",null,null,{"$f":"'４実績'!D50","v":0},null,{"$f":"'５実績'!F50","v":0},null,{"$f":"'6実績'!H50","v":0},null,{"$f":"'7実績'!J50","v":0},null,{"$f":"'8実績'!L50:M50","v":0},null,{"$f":"'9実績'!N50:O50","v":0},null,{"$f":"'10実績'!P50:Q50","v":0},null,{"$f":"S47","v":0},null,null,null,null,null,null,null,null,null,{"$f":"SUM(D50:AA50)","v":0},null,null,null,null,"時間"]
["活動日数",null,null,{"$f":"'４実績'!D51","v":0},null,{"$f":"'５実績'!F51","v":0},null,{"$f":"'6実績'!H51","v":0},null,{"$f":"'7実績'!J51","v":0},null,{"$f":"'8実績'!L51:M51","v":0},null,{"$f":"'9実績'!N51:O51","v":0},null,{"$f":"'10実績'!P51:Q51","v":0},null,{"$f":"COUNTIF(S16:U46,\">0\")","v":0},null,null,null,null,null,null,null,null,null,{"$f":"SUM(D51:AA51)","v":0},null,null,null,null,"活動日数"]
["休養日数",null,null,{"$f":"'４実績'!D52","v":30},null,{"$f":"'５実績'!F52","v":31},null,{"$f":"'6実績'!H52","v":30},null,{"$f":"'7実績'!J52","v":31},null,{"$f":"'8実績'!L52:M52","v":31},null,{"$f":"'9実績'!N52:O52","v":30},null,{"$f":"'10実績'!P52:Q52","v":31},null,{"$f":"COUNTIF(S16:U45,\"0:00\")","v":30},null,null,null,null,null,null,null,null,null,{"$f":"SUM(D52:AA52)","v":244},null,null,null,null,"休養日数"]
[null,null,null,null,null,null,null,null,null,null,null,null,null,null,null,null,null,null,null,null,null,null,null,null,null,null,null,{"$f":"AB50/AB51","v":{"$error":"#DIV/0!"}},null,null,null,null,"平均時間/日"]

{"sheet":"12計画","index":9,"n_rows":53,"n_cols":63,"rows_kept":53,"cut":false,"hidden":false,"merged":[[0,0,0,3],[1,25,2,27],[1,28,2,37],[1,38,2,40],[2,0,4,3],[2,4,4,7],[2,8,4,11],[2,12,4,15],[2,16,4,19],[2,20,4,23],[3,25,4,27],[1,0,1,3],[1,4,1,7],[1,8,1,11],[1,12,1,15],[1,16,1,19],[1,20,1,23],[3,28,4,37],[3,38,4,40],[6,0,7,4],[6,5,7,7],[6,8,7,22],[6,24,7,26],[6,27,6,28],[6,29,6,30],[6,31,6,32],[6,33,6,34],[6,35,6,36],[6,37,6,38],[6,39,6,40],[7,27,7,28],[7,29,7,30],[7,31,7,32],[7,33,7,34],[7,35,7,36],[7,37,7,38],[7,39,7,40],[9,23,10,27],[9,28,10,29],[9,30,10,38],[9,39,10,40],[11,1,12,2],[11,3,12,7],[11,8,12,9],[11,10,12,18],[11,19,12,20],[11,21,12,22],[9,1,10,2],[9,3,10,7],[9,8,10,9],[9,10,10,18],[9,19,10,20],[9,21,10,22],[11,23,12,27],[11,28,12,29],[11,30,12,38],[11,39,12,40],[14,0,14,1],[14,2,14,3],[14,4,14,10],[14,11,14,17],[14,18,14,20],[14,21,14,32],[14,33,14,40],[15,0,15,1],[15,2,15,3],[15,4,15,6],[15,8,15,10],[15,11,15,13],[15,15,15,17],[15,18,15,20],[15,21,15,26],[15,27,15,32],[15,33,15,40],[16,33,16,40],[17,0,17,1],[17,2,17,3],[17,4,17,6],[17,8,17,10],[17,11,17,13],[17,15,17,17],[17,18,17,20],[17,21,17,26],[17,27,17,32],[17,33,17,40],[16,0,16,1],[16,2,16,3],[16,4,16,6],[16,8,16,10],[16,11,16,13],[16,15,16,17],[16,18,16,20],[16,21,16,26],[16,27,16,32],[18,33,18,40],[19,0,19,1],[19,2,19,3],[19,4,19,6],[19,8,19,10],[19,11,19,13],[19,15,19,17],[19,18,19,20],[19,21,19,26],[19,27,19,32],[19,33,19,40],[18,0,18,1],[18,2,18,3],[18,4,18,6],[18,8,18,10],[18,11,18,13],[18,15,18,17],[18,18,18,20],[18,21,18,26],[18,27,18,32],[20,33,20,40],[21,0,21,1],[21,2,21,3],[21,4,21,6],[21,8,21,10],[21,11,21,13],[21,15,21,17],[21,18,21,20],[21,21,21,26],[21,27,21,32],[21,33,21,40],[20,0,20,1],[20,2,20,3],[20,4,20,6],[20,8,20,10],[20,11,20,13],[20,15,20,17],[20,18,20,20],[20,21,20,26],[20,27,20,32],[22,33,22,40],[23,0,23,1],[23,2,23,3],[23,4,23,6],[23,8,23,10],[23,11,23,13],[23,15,23,17],[23,18,23,20],[23,21,23,26],[23,27,23,32],[23,33,23,40],[22,0,22,1],[22,2,22,3],[22,4,22,6],[22,8,22,10],[22,11,22,13],[22,15,22,17],[22,18,22,20],[22,21,22,26],[22,27,22,32],[24,33,24,40],[25,0,25,1],[25,2,25,3],[25,4,25,6],[25,8,25,10],[25,11,25,13],[25,15,25,17],[25,18,25,20],[25,21,25,26],[25,27,25,32],[25,33,25,40],[24,0,24,1],[24,2,24,3],[24,4,24,6],[24,8,24,10],[24,11,24,13],[24,15,24,17],[24,18,24,20],[24,21,24,26],[24,27,24,32],[26,33,26,40],[27,0,27,1],[27,2,27,3],[27,4,27,6],[27,8,27,10],[27,11,27,13],[27,15,27,17],[27,18,27,20],[27,21,27,26],[27,27,27,32],[27,33,27,40],[26,0,26,1],[26,2,26,3],[26,4,26,6],[26,8,26,10],[26,11,26,13],[26,15,26,17],[26,18,26,20],[26,21,26,26],[26,27,26,32],[28,33,28,40],[29,0,29,1],[29,2,29,3],[29,4,29,6],[29,8,29,10],[29,11,29,13],[29,15,29,17],[29,18,29,20],[29,21,29,26],[29,27,29,32],[29,33,29,40],[28,0,28,1],[28,2,28,3],[28,4,28,6],[28,8,28,10],[28,11,28,13],[28,15,28,17],[28,18,28,20],[28,21,28,26],[28,27,28,32],[30,33,30,40],[31,0,31,1],[31,2,31,3],[31,4,31,6],[31,8,31,10],[31,11,31,13],[31,15,31,17],[31,18,31,20],[31,21,31,26],[31,27,31,32],[31,33,31,40],[30,0,30,1],[30,2,30,3],[30,4,30,6],[30,8,30,10],[30,11,30,13],[30,15,30,17],[30,18,30,20],[30,21,30,26],[30,27,30,32],[32,33,32,40],[33,0,33,1],[33,2,33,3],[33,4,33,6],[33,8,33,10],[33,11,33,13],[33,15,33,17],[33,18,33,20],[33,21,33,26],[33,27,33,32],[33,33,33,40],[32,0,32,1],[32,2,32,3],[32,4,32,6],[32,8,32,10],[32,11,32,13],[32,15,32,17],[32,18,32,20],[32,21,32,26],[32,27,32,32],[34,33,34,40],[35,0,35,1],[35,2,35,3],[35,4,35,6],[35,8,35,10],[35,11,35,13],[35,15,35,17],[35,18,35,20],[35,21,35,26],[35,27,35,32],[35,33,35,40],[34,0,34,1],[34,2,34,3],[34,4,34,6],[34,8,34,10],[34,11,34,13],[34,15,34,17],[34,18,34,20],[34,21,34,26],[34,27,34,32],[36,33,36,40],[37,0,37,1],[37,2,37,3],[37,4,37,6],[37,8,37,10],[37,11,37,13],[37,15,37,17],[37,18,37,20],[37,21,37,26],[37,27,37,32],[37,33,37,40],[36,0,36,1],[36,2,36,3],[36,4,36,6],[36,8,36,10],[36,11,36,13],[36,15,36,17],[36,18,36,20],[36,21,36,26],[36,27,36,32],[38,33,38,40],[39,0,39,1],[39,2,39,3],[39,4,39,6],[39,8,39,10],[39,11,39,13],[39,15,39,17],[39,18,39,20],[39,21,39,26],[39,27,39,32],[39,33,39,40],[38,0,38,1],[38,2,38,3],[38,4,38,6],[38,8,38,10],[38,11,38,13],[38,15,38,17],[38,18,38,20],[38,21,38,26],[38,27,38,32],[40,33,40,40],[41,0,41,1],[41,2,41,3],[41,4,41,6],[41,8,41,10],[41,11,41,13],[41,15,41,17],[41,18,41,20],[41,21,41,26],[41,27,41,32],[41,33,41,40],[40,0,40,1],[40,2,40,3],[40,4,40,6],[40,8,40,10],[40,11,40,13],[40,15,40,17],[40,18,40,20],[40,21,40,26],[40,27,40,32],[42,33,42,40],[43,0,43,1],[43,2,43,3],[43,4,43,6],[43,8,43,10],[43,11,43,13],[43,15,43,17],[43,18,43,20],[43,21,43,26],[43,27,43,32],[43,33,43,40],[42,0,42,1],[42,2,42,3],[42,4,42,6],[42,8,42,10],[42,11,42,13],[42,15,42,17],[42,18,42,20],[42,21,42,26],[42,27,42,32],[45,33,45,40],[46,18,46,20],[44,33,44,40],[45,0,45,1],[45,2,45,3],[45,4,45,6],[45,8,45,10],[45,11,45,13],[45,15,45,17],[45,18,45,20],[45,21,45,26],[45,27,45,32],[44,0,44,1],[44,2,44,3],[44,4,44,6],[44,8,44,10],[44,11,44,13],[44,15,44,17],[44,18,44,20],[44,21,44,26],[44,27,44,32],[46,32,48,36],[46,37,46,40],[47,37,48,40],[48,25,48,26],[48,27,48,31],[49,0,49,2],[49,3,49,4],[49,5,49,6],[49,7,49,8],[49,9,49,10],[49,11,49,12],[49,13,49,14],[49,15,49,16],[48,13,48,14],[48,15,48,16],[48,17,48,18],[48,19,48,20],[48,21,48,22],[48,23,48,24],[48,0,48,2],[48,3,48,4],[48,5,48,6],[48,7,48,8],[48,9,48,10],[48,11,48,12],[50,25,50,26],[50,27,50,31],[50,32,50,34],[49,32,49,34],[50,0,50,2],[50,3,50,4],[50,5,50,6],[50,7,50,8],[50,9,50,10],[50,11,50,12],[50,13,50,14],[50,15,50,16],[50,17,50,18],[49,17,49,18],[49,19,49,20],[49,21,49,22],[49,23,49,24],[49,25,49,26],[49,27,49,31],[51,0,51,2],[51,3,51,4],[51,5,51,6],[51,7,51,8],[51,9,51,10],[51,11,51,12],[50,19,50,20],[50,21,50,22],[50,23,50,24],[51,25,51,26],[51,27,51,31],[51,32,51,34],[52,27,52,31],[52,32,52,34],[51,13,51,14],[51,15,51,16],[51,17,51,18],[51,19,51,20],[51,21,51,22],[51,23,51,24]]}
[null,null,null,null,null,null,null,null,null,null,null,null,null,null,null,null,null,null,null,null,null,null,null,null,null,null,null,null,null,null,null,null,null,null,null,null,null,null,null,null,null,null,null,null,{"$f":"'4計画'!AQ1","v":2020}]
["校長",null,null,null,"教頭",null,null,null,"教頭",null,null,null,"主幹教諭",null,null,null,null,null,null,null,"顧問",null,null,null,null,"学校名",null,null,{"$f":"IF('11実績'!AC2=\"\",\"\",'11実績'!AC2)","v":0},null,null,null,null,null,null,null,null,null,"学校"]
["印",null,null,null,"印",null,null,null,"印",null,null,null,"印",null,null,null,"印",null,null,null,"印"]
[null,null,null,null,null,null,null,null,null,null,null,null,null,null,null,null,null,null,null,null,null,null,null,null,null,"部活動名",null,null,{"$f":"IF('11実績'!AC4=\"\",\"\",'11実績'!AC4)","v":0},null,null,null,null,null,null,null,null,null,"部"]
[]
[]
[12,null,null,null,null,"月",null,null,"〈月間〉部活動計画・活動実績",null,null,null,null,null,null,null,null,null,null,null,null,null,null,null,"部員数",null,null,"1女",null,"2女",null,"3女",null,"1男",null,"2男",null,"3男",null,"計"]
[null,null,null,null,null,null,null,null,null,null,null,null,null,null,null,null,null,null,null,null,null,null,null,null,null,null,null,{"$f":"IF('11実績'!AB8=\"\",\"\",'11実績'!AB8)","v":0},null,{"$f":"IF('11実績'!AD8=\"\",\"\",'11実績'!AD8)","v":0},null,{"$f":"IF('11実績'!AF8=\"\",\"\",'11実績'!AF8)","v":0},null,{"$f":"IF('11実績'!AH8=\"\",\"\",'11実績'!AH8)","v":0},null,{"$f":"IF('11実績'!AJ8=\"\",\"\",'11実績'!AJ8)","v":0},null,{"$f":"IF('11実績'!AL8=\"\",\"\",'11実績'!AL8)","v":0},null,{"$f":"SUM(AB8:AM8)","v":0}]
[]
[null,"職名",null,{"$f":"IF('11実績'!D10=\"\",\"\",'11実績'!D10)","v":0},null,null,null,null,"顧問",null,{"$f":"IF('11実績'!K10=\"\",\"\",'11実績'!K10)","v":0},null,null,null,null,null,null,null,null,null,null,"職名",null,{"$f":"IF('11実績'!X10=\"\",\"\",'11実績'!X10)","v":0},null,null,null,null,"副２",null,{"$f":"IF('11実績'!AE10=\"\",\"\",'11実績'!AE10)","v":0}]
[]
[null,"職名",null,{"$f":"IF('11実績'!D12=\"\",\"\",'11実績'!D12)","v":0},null,null,null,null,"副顧問",null,{"$f":"IF('11実績'!K12=\"\",\"\",'11実績'!K12)","v":0},null,null,null,null,null,null,null,null,null,null,"職名",null,{"$f":"IF('11実績'!X12=\"\",\"\",'11実績'!X12)","v":0},null,null,null,null,"副３",null,{"$f":"IF('11実績'!AE12=\"\",\"\",'11実績'!AE12)","v":0}]
[]
[]
["日",null,"曜",null,"ＡＭ",null,null,null,null,null,null,"ＰＭ",null,null,null,null,null,null,"時間",null,null,"内容（練習・大会・OFF等）",null,null,null,null,null,null,null,null,null,null,null,"場所"]
[1,null,{"$f":"IF(A16=\"\",\"\",TEXT(DATE($AS$1,$A$7,A16),\"aaa\"))","v":"火"},null,null,null,null,"～",null,null,null,null,null,null,"～",null,null,null,{"$f":"(I16-E16)+(P16-L16)","v":"00:00:00"}]
[2,null,{"$f":"IF(A17=\"\",\"\",TEXT(DATE($AS$1,$A$7,A17),\"aaa\"))","v":"水"},null,null,null,null,"～",null,null,null,null,null,null,"～",null,null,null,"00:00:00"]
[3,null,"木",null,null,null,null,"～",null,null,null,null,null,null,"～",null,null,null,"00:00:00"]
[4,null,"金",null,null,null,null,"～",null,null,null,null,null,null,"～",null,null,null,"00:00:00"]
[5,null,"土",null,null,null,null,"～",null,null,null,null,null,null,"～",null,null,null,"00:00:00"]
[6,null,"日",null,null,null,null,"～",null,null,null,null,null,null,"～",null,null,null,"00:00:00"]
[7,null,"月",null,null,null,null,"～",null,null,null,null,null,null,"～",null,null,null,"00:00:00"]
[8,null,"火",null,null,null,null,"～",null,null,null,null,null,null,"～",null,null,null,"00:00:00"]
[9,null,"水",null,null,null,null,"～",null,null,null,null,null,null,"～",null,null,null,"00:00:00"]
[10,null,"木",null,null,null,null,"～",null,null,null,null,null,null,"～",null,null,null,"00:00:00"]
[11,null,"金",null,null,null,null,"～",null,null,null,null,null,null,"～",null,null,null,"00:00:00"]
[12,null,"土",null,null,null,null,"～",null,null,null,null,null,null,"～",null,null,null,"00:00:00"]
[13,null,"日",null,null,null,null,"～",null,null,null,null,null,null,"～",null,null,null,"00:00:00"]
[14,null,"月",null,null,null,null,"～",null,null,null,null,null,null,"～",null,null,null,"00:00:00"]
[15,null,"火",null,null,null,null,"～",null,null,null,null,null,null,"～",null,null,null,"00:00:00"]
[16,null,"水",null,null,null,null,"～",null,null,null,null,null,null,"～",null,null,null,"00:00:00"]
[17,null,"木",null,null,null,null,"～",null,null,null,null,null,null,"～",null,null,null,"00:00:00"]
[18,null,"金",null,null,null,null,"～",null,null,null,null,null,null,"～",null,null,null,"00:00:00"]
[19,null,"土",null,null,null,null,"～",null,null,null,null,null,null,"～",null,null,null,"00:00:00"]
[20,null,"日",null,null,null,null,"～",null,null,null,null,null,null,"～",null,null,null,"00:00:00"]
[21,null,"月",null,null,null,null,"～",null,null,null,null,null,null,"～",null,null,null,"00:00:00"]
[22,null,"火",null,null,null,null,"～",null,null,null,null,null,null,"～",null,null,null,"00:00:00"]
[23,null,"水",null,null,null,null,"～",null,null,null,null,null,null,"～",null,null,null,"00:00:00"]
[24,null,"木",null,null,null,null,"～",null,null,null,null,null,null,"～",null,null,null,"00:00:00"]
[25,null,"金",null,null,null,null,"～",null,null,null,null,null,null,"～",null,null,null,"00:00:00"]
[26,null,"土",null,null,null,null,"～",null,null,null,null,null,null,"～",null,null,null,"00:00:00"]
[27,null,"日",null,null,null,null,"～",null,null,null,null,null,null,"～",null,null,null,"00:00:00"]
[28,null,"月",null,null,null,null,"～",null,null,null,null,null,null,"～",null,null,null,"00:00:00"]
[29,null,"火",null,null,null,null,"～",null,null,null,null,null,null,"～",null,null,null,"00:00:00"]
[30,null,"水",null,null,null,null,"～",null,null,null,null,null,null,"～",null,null,null,"00:00:00"]
[31,null,"木",null,null,null,null,"～",null,null,null,null,null,null,"～",null,null,null,"00:00:00",null,null,null,null,null,null,null,null,null,null,null,null,null,null,null,null,null,null,null,null,null,null,null,null,null,null,null,null,null,null,null,null,null,null,null,null,null,null,null,null,null,null,null,{"$f":"RIGHT(V46,2)","v":""}]
[null,null,null,null,null,null,null,null,null,null,null,null,null,null,null,null,null,null,{"$f":"SUM(S16:U46)","v":0},null,null,null,null,null,null,null,null,null,null,null,null,null,"赤字変更内容については口頭命令済",null,null,null,null,"校長"]
[null,null,null,null,null,null,null,null,null,null,null,null,null,null,null,null,null,null,null,null,null,null,null,null,null,null,null,null,null,null,null,null,null,null,null,null,null," 　 .  　."]
["月",null,null,4,null,5,null,6,null,7,null,8,null,9,null,10,null,11,null,12,null,1,null,2,null,3,null,"計"]
["時間",null,null,{"$f":"'４実績'!D50","v":0},null,{"$f":"'５実績'!F50","v":0},null,{"$f":"'6実績'!H50","v":0},null,{"$f":"'7実績'!J50","v":0},null,{"$f":"'8実績'!L50:M50","v":0},null,{"$f":"'9実績'!N50:O50","v":0},null,{"$f":"'10実績'!P50:Q50","v":0},null,{"$f":"'11実績'!R50:S50","v":0},null,{"$f":"S47","v":0},null,null,null,null,null,null,null,{"$f":"SUM(D50:AA50)","v":0},null,null,null,null,"時間"]
["活動日数",null,null,{"$f":"'４実績'!D51","v":0},null,{"$f":"'５実績'!F51","v":0},null,{"$f":"'6実績'!H51","v":0},null,{"$f":"'7実績'!J51","v":0},null,{"$f":"'8実績'!L51:M51","v":0},null,{"$f":"'9実績'!N51:O51","v":0},null,{"$f":"'10実績'!P51:Q51","v":0},null,{"$f":"'11実績'!R51:S51","v":0},null,{"$f":"COUNTIF(S16:U46,\">0\")","v":0},null,null,null,null,null,null,null,{"$f":"SUM(D51:AA51)","v":0},null,null,null,null,"活動日数"]
["休養日数",null,null,{"$f":"'４実績'!D52","v":30},null,{"$f":"'５実績'!F52","v":31},null,{"$f":"'6実績'!H52","v":30},null,{"$f":"'7実績'!J52","v":31},null,{"$f":"'8実績'!L52:M52","v":31},null,{"$f":"'9実績'!N52:O52","v":30},null,{"$f":"'10実績'!P52:Q52","v":31},null,{"$f":"'11実績'!R52:S52","v":30},null,{"$f":"COUNTIF(S16:U46,\"0:00\")","v":31},null,null,null,null,null,null,null,{"$f":"SUM(D52:AA52)","v":275},null,null,null,null,"休養日数"]
[null,null,null,null,null,null,null,null,null,null,null,null,null,null,null,null,null,null,null,null,null,null,null,null,null,null,null,{"$f":"AB50/AB51","v":{"$error":"#DIV/0!"}},null,null,null,null,"平均時間/日"]

{"sheet":"1計画","index":10,"n_rows":53,"n_cols":63,"rows_kept":53,"cut":false,"hidden":false,"merged":[[0,0,0,3],[1,25,2,27],[1,28,2,37],[1,38,2,40],[2,0,4,3],[2,4,4,7],[2,8,4,11],[2,12,4,15],[2,16,4,19],[2,20,4,23],[3,25,4,27],[1,0,1,3],[1,4,1,7],[1,8,1,11],[1,12,1,15],[1,16,1,19],[1,20,1,23],[3,28,4,37],[3,38,4,40],[6,0,7,4],[6,5,7,7],[6,8,7,22],[6,24,7,26],[6,27,6,28],[6,29,6,30],[6,31,6,32],[6,33,6,34],[6,35,6,36],[6,37,6,38],[6,39,6,40],[7,27,7,28],[7,29,7,30],[7,31,7,32],[7,33,7,34],[7,35,7,36],[7,37,7,38],[7,39,7,40],[9,23,10,27],[9,28,10,29],[9,30,10,38],[9,39,10,40],[11,1,12,2],[11,3,12,7],[11,8,12,9],[11,10,12,18],[11,19,12,20],[11,21,12,22],[9,1,10,2],[9,3,10,7],[9,8,10,9],[9,10,10,18],[9,19,10,20],[9,21,10,22],[11,23,12,27],[11,28,12,29],[11,30,12,38],[11,39,12,40],[14,0,14,1],[14,2,14,3],[14,4,14,10],[14,11,14,17],[14,18,14,20],[14,21,14,32],[14,33,14,40],[15,0,15,1],[15,2,15,3],[15,4,15,6],[15,8,15,10],[15,11,15,13],[15,15,15,17],[15,18,15,20],[15,21,15,26],[15,27,15,32],[15,33,15,40],[16,33,16,40],[17,0,17,1],[17,2,17,3],[17,4,17,6],[17,8,17,10],[17,11,17,13],[17,15,17,17],[17,18,17,20],[17,21,17,26],[17,27,17,32],[17,33,17,40],[16,0,16,1],[16,2,16,3],[16,4,16,6],[16,8,16,10],[16,11,16,13],[16,15,16,17],[16,18,16,20],[16,21,16,26],[16,27,16,32],[18,33,18,40],[19,0,19,1],[19,2,19,3],[19,4,19,6],[19,8,19,10],[19,11,19,13],[19,15,19,17],[19,18,19,20],[19,21,19,26],[19,27,19,32],[19,33,19,40],[18,0,18,1],[18,2,18,3],[18,4,18,6],[18,8,18,10],[18,11,18,13],[18,15,18,17],[18,18,18,20],[18,21,18,26],[18,27,18,32],[20,33,20,40],[21,0,21,1],[21,2,21,3],[21,4,21,6],[21,8,21,10],[21,11,21,13],[21,15,21,17],[21,18,21,20],[21,21,21,26],[21,27,21,32],[21,33,21,40],[20,0,20,1],[20,2,20,3],[20,4,20,6],[20,8,20,10],[20,11,20,13],[20,15,20,17],[20,18,20,20],[20,21,20,26],[20,27,20,32],[22,33,22,40],[23,0,23,1],[23,2,23,3],[23,4,23,6],[23,8,23,10],[23,11,23,13],[23,15,23,17],[23,18,23,20],[23,21,23,26],[23,27,23,32],[23,33,23,40],[22,0,22,1],[22,2,22,3],[22,4,22,6],[22,8,22,10],[22,11,22,13],[22,15,22,17],[22,18,22,20],[22,21,22,26],[22,27,22,32],[24,33,24,40],[25,0,25,1],[25,2,25,3],[25,4,25,6],[25,8,25,10],[25,11,25,13],[25,15,25,17],[25,18,25,20],[25,21,25,26],[25,27,25,32],[25,33,25,40],[24,0,24,1],[24,2,24,3],[24,4,24,6],[24,8,24,10],[24,11,24,13],[24,15,24,17],[24,18,24,20],[24,21,24,26],[24,27,24,32],[26,33,26,40],[27,0,27,1],[27,2,27,3],[27,4,27,6],[27,8,27,10],[27,11,27,13],[27,15,27,17],[27,18,27,20],[27,21,27,26],[27,27,27,32],[27,33,27,40],[26,0,26,1],[26,2,26,3],[26,4,26,6],[26,8,26,10],[26,11,26,13],[26,15,26,17],[26,18,26,20],[26,21,26,26],[26,27,26,32],[28,33,28,40],[29,0,29,1],[29,2,29,3],[29,4,29,6],[29,8,29,10],[29,11,29,13],[29,15,29,17],[29,18,29,20],[29,21,29,26],[29,27,29,32],[29,33,29,40],[28,0,28,1],[28,2,28,3],[28,4,28,6],[28,8,28,10],[28,11,28,13],[28,15,28,17],[28,18,28,20],[28,21,28,26],[28,27,28,32],[30,33,30,40],[31,0,31,1],[31,2,31,3],[31,4,31,6],[31,8,31,10],[31,11,31,13],[31,15,31,17],[31,18,31,20],[31,21,31,26],[31,27,31,32],[31,33,31,40],[30,0,30,1],[30,2,30,3],[30,4,30,6],[30,8,30,10],[30,11,30,13],[30,15,30,17],[30,18,30,20],[30,21,30,26],[30,27,30,32],[32,33,32,40],[33,0,33,1],[33,2,33,3],[33,4,33,6],[33,8,33,10],[33,11,33,13],[33,15,33,17],[33,18,33,20],[33,21,33,26],[33,27,33,32],[33,33,33,40],[32,0,32,1],[32,2,32,3],[32,4,32,6],[32,8,32,10],[32,11,32,13],[32,15,32,17],[32,18,32,20],[32,21,32,26],[32,27,32,32],[34,33,34,40],[35,0,35,1],[35,2,35,3],[35,4,35,6],[35,8,35,10],[35,11,35,13],[35,15,35,17],[35,18,35,20],[35,21,35,26],[35,27,35,32],[35,33,35,40],[34,0,34,1],[34,2,34,3],[34,4,34,6],[34,8,34,10],[34,11,34,13],[34,15,34,17],[34,18,34,20],[34,21,34,26],[34,27,34,32],[36,33,36,40],[37,0,37,1],[37,2,37,3],[37,4,37,6],[37,8,37,10],[37,11,37,13],[37,15,37,17],[37,18,37,20],[37,21,37,26],[37,27,37,32],[37,33,37,40],[36,0,36,1],[36,2,36,3],[36,4,36,6],[36,8,36,10],[36,11,36,13],[36,15,36,17],[36,18,36,20],[36,21,36,26],[36,27,36,32],[38,33,38,40],[39,0,39,1],[39,2,39,3],[39,4,39,6],[39,8,39,10],[39,11,39,13],[39,15,39,17],[39,18,39,20],[39,21,39,26],[39,27,39,32],[39,33,39,40],[38,0,38,1],[38,2,38,3],[38,4,38,6],[38,8,38,10],[38,11,38,13],[38,15,38,17],[38,18,38,20],[38,21,38,26],[38,27,38,32],[40,33,40,40],[41,0,41,1],[41,2,41,3],[41,4,41,6],[41,8,41,10],[41,11,41,13],[41,15,41,17],[41,18,41,20],[41,21,41,26],[41,27,41,32],[41,33,41,40],[40,0,40,1],[40,2,40,3],[40,4,40,6],[40,8,40,10],[40,11,40,13],[40,15,40,17],[40,18,40,20],[40,21,40,26],[40,27,40,32],[42,33,42,40],[43,0,43,1],[43,2,43,3],[43,4,43,6],[43,8,43,10],[43,11,43,13],[43,15,43,17],[43,18,43,20],[43,21,43,26],[43,27,43,32],[43,33,43,40],[42,0,42,1],[42,2,42,3],[42,4,42,6],[42,8,42,10],[42,11,42,13],[42,15,42,17],[42,18,42,20],[42,21,42,26],[42,27,42,32],[45,33,45,40],[46,18,46,20],[44,33,44,40],[45,0,45,1],[45,2,45,3],[45,4,45,6],[45,8,45,10],[45,11,45,13],[45,15,45,17],[45,18,45,20],[45,21,45,26],[45,27,45,32],[44,0,44,1],[44,2,44,3],[44,4,44,6],[44,8,44,10],[44,11,44,13],[44,15,44,17],[44,18,44,20],[44,21,44,26],[44,27,44,32],[46,32,48,36],[46,37,46,40],[47,37,48,40],[48,25,48,26],[48,27,48,31],[49,0,49,2],[49,3,49,4],[49,5,49,6],[49,7,49,8],[49,9,49,10],[49,11,49,12],[49,13,49,14],[49,15,49,16],[48,13,48,14],[48,15,48,16],[48,17,48,18],[48,19,48,20],[48,21,48,22],[48,23,48,24],[48,0,48,2],[48,3,48,4],[48,5,48,6],[48,7,48,8],[48,9,48,10],[48,11,48,12],[50,25,50,26],[50,27,50,31],[50,32,50,34],[49,32,49,34],[50,0,50,2],[50,3,50,4],[50,5,50,6],[50,7,50,8],[50,9,50,10],[50,11,50,12],[50,13,50,14],[50,15,50,16],[50,17,50,18],[49,17,49,18],[49,19,49,20],[49,21,49,22],[49,23,49,24],[49,25,49,26],[49,27,49,31],[51,0,51,2],[51,3,51,4],[51,5,51,6],[51,7,51,8],[51,9,51,10],[51,11,51,12],[50,19,50,20],[50,21,50,22],[50,23,50,24],[51,25,51,26],[51,27,51,31],[51,32,51,34],[52,27,52,31],[52,32,52,34],[51,13,51,14],[51,15,51,16],[51,17,51,18],[51,19,51,20],[51,21,51,22],[51,23,51,24]]}
[null,null,null,null,null,null,null,null,null,null,null,null,null,null,null,null,null,null,null,null,null,null,null,null,null,null,null,null,null,null,null,null,null,null,null,null,null,null,null,null,null,null,null,null,{"$f":"'4計画'!AQ1+1","v":2021}]
["校長",null,null,null,"教頭",null,null,null,"教頭",null,null,null,"主幹教諭",null,null,null,null,null,null,null,"顧問",null,null,null,null,"学校名",null,null,{"$f":"IF('12実績'!AC2=\"\",\"\",'12実績'!AC2)","v":0},null,null,null,null,null,null,null,null,null,"学校"]
["印",null,null,null,"印",null,null,null,"印",null,null,null,"印",null,null,null,"印",null,null,null,"印"]
[null,null,null,null,null,null,null,null,null,null,null,null,null,null,null,null,null,null,null,null,null,null,null,null,null,"部活動名",null,null,{"$f":"IF('12実績'!AC4=\"\",\"\",'12実績'!AC4)","v":0},null,null,null,null,null,null,null,null,null,"部"]
[]
[]
[1,null,null,null,null,"月",null,null,"〈月間〉部活動計画・活動実績",null,null,null,null,null,null,null,null,null,null,null,null,null,null,null,"部員数",null,null,"1女",null,"2女",null,"3女",null,"1男",null,"2男",null,"3男",null,"計"]
[null,null,null,null,null,null,null,null,null,null,null,null,null,null,null,null,null,null,null,null,null,null,null,null,null,null,null,{"$f":"IF('12実績'!AB8=\"\",\"\",'12実績'!AB8)","v":0},null,{"$f":"IF('12実績'!AD8=\"\",\"\",'12実績'!AD8)","v":0},null,{"$f":"IF('12実績'!AF8=\"\",\"\",'12実績'!AF8)","v":0},null,{"$f":"IF('12実績'!AH8=\"\",\"\",'12実績'!AH8)","v":0},null,{"$f":"IF('12実績'!AJ8=\"\",\"\",'12実績'!AJ8)","v":0},null,{"$f":"IF('12実績'!AL8=\"\",\"\",'12実績'!AL8)","v":0},null,{"$f":"SUM(AB8:AM8)","v":0}]
[]
[null,"職名",null,{"$f":"IF('12実績'!D10=\"\",\"\",'12実績'!D10)","v":0},null,null,null,null,"顧問",null,{"$f":"IF('12実績'!K10=\"\",\"\",'12実績'!K10)","v":0},null,null,null,null,null,null,null,null,null,null,"職名",null,{"$f":"IF('12実績'!X10=\"\",\"\",'12実績'!X10)","v":0},null,null,null,null,"副２",null,{"$f":"IF('12実績'!AE10=\"\",\"\",'12実績'!AE10)","v":0}]
[]
[null,"職名",null,{"$f":"IF('12実績'!D12=\"\",\"\",'12実績'!D12)","v":0},null,null,null,null,"副顧問",null,{"$f":"IF('12実績'!K12=\"\",\"\",'12実績'!K12)","v":0},null,null,null,null,null,null,null,null,null,null,"職名",null,{"$f":"IF('12実績'!X12=\"\",\"\",'12実績'!X12)","v":0},null,null,null,null,"副３",null,{"$f":"IF('12実績'!AE12=\"\",\"\",'12実績'!AE12)","v":0}]
[]
[]
["日",null,"曜",null,"ＡＭ",null,null,null,null,null,null,"ＰＭ",null,null,null,null,null,null,"時間",null,null,"内容（練習・大会・OFF等）",null,null,null,null,null,null,null,null,null,null,null,"場所"]
[1,null,{"$f":"IF(A16=\"\",\"\",TEXT(DATE($AS$1,$A$7,A16),\"aaa\"))","v":"金"},null,null,null,null,"～",null,null,null,null,null,null,"～",null,null,null,{"$f":"(I16-E16)+(P16-L16)","v":"00:00:00"}]
[2,null,{"$f":"IF(A17=\"\",\"\",TEXT(DATE($AS$1,$A$7,A17),\"aaa\"))","v":"土"},null,null,null,null,"～",null,null,null,null,null,null,"～",null,null,null,"00:00:00"]
[3,null,"日",null,null,null,null,"～",null,null,null,null,null,null,"～",null,null,null,"00:00:00"]
[4,null,"月",null,null,null,null,"～",null,null,null,null,null,null,"～",null,null,null,"00:00:00"]
[5,null,"火",null,null,null,null,"～",null,null,null,null,null,null,"～",null,null,null,"00:00:00"]
[6,null,"水",null,null,null,null,"～",null,null,null,null,null,null,"～",null,null,null,"00:00:00"]
[7,null,"木",null,null,null,null,"～",null,null,null,null,null,null,"～",null,null,null,"00:00:00"]
[8,null,"金",null,null,null,null,"～",null,null,null,null,null,null,"～",null,null,null,"00:00:00"]
[9,null,"土",null,null,null,null,"～",null,null,null,null,null,null,"～",null,null,null,"00:00:00"]
[10,null,"日",null,null,null,null,"～",null,null,null,null,null,null,"～",null,null,null,"00:00:00"]
[11,null,"月",null,null,null,null,"～",null,null,null,null,null,null,"～",null,null,null,"00:00:00"]
[12,null,"火",null,null,null,null,"～",null,null,null,null,null,null,"～",null,null,null,"00:00:00"]
[13,null,"水",null,null,null,null,"～",null,null,null,null,null,null,"～",null,null,null,"00:00:00"]
[14,null,"木",null,null,null,null,"～",null,null,null,null,null,null,"～",null,null,null,"00:00:00"]
[15,null,"金",null,null,null,null,"～",null,null,null,null,null,null,"～",null,null,null,"00:00:00"]
[16,null,"土",null,null,null,null,"～",null,null,null,null,null,null,"～",null,null,null,"00:00:00"]
[17,null,"日",null,null,null,null,"～",null,null,null,null,null,null,"～",null,null,null,"00:00:00"]
[18,null,"月",null,null,null,null,"～",null,null,null,null,null,null,"～",null,null,null,"00:00:00"]
[19,null,"火",null,null,null,null,"～",null,null,null,null,null,null,"～",null,null,null,"00:00:00"]
[20,null,"水",null,null,null,null,"～",null,null,null,null,null,null,"～",null,null,null,"00:00:00"]
[21,null,"木",null,null,null,null,"～",null,null,null,null,null,null,"～",null,null,null,"00:00:00"]
[22,null,"金",null,null,null,null,"～",null,null,null,null,null,null,"～",null,null,null,"00:00:00"]
[23,null,"土",null,null,null,null,"～",null,null,null,null,null,null,"～",null,null,null,"00:00:00"]
[24,null,"日",null,null,null,null,"～",null,null,null,null,null,null,"～",null,null,null,"00:00:00"]
[25,null,"月",null,null,null,null,"～",null,null,null,null,null,null,"～",null,null,null,"00:00:00"]
[26,null,"火",null,null,null,null,"～",null,null,null,null,null,null,"～",null,null,null,"00:00:00"]
[27,null,"水",null,null,null,null,"～",null,null,null,null,null,null,"～",null,null,null,"00:00:00"]
[28,null,"木",null,null,null,null,"～",null,null,null,null,null,null,"～",null,null,null,"00:00:00"]
[29,null,"金",null,null,null,null,"～",null,null,null,null,null,null,"～",null,null,null,"00:00:00"]
[30,null,"土",null,null,null,null,"～",null,null,null,null,null,null,"～",null,null,null,"00:00:00"]
[31,null,"日",null,null,null,null,"～",null,null,null,null,null,null,"～",null,null,null,"00:00:00",null,null,null,null,null,null,null,null,null,null,null,null,null,null,null,null,null,null,null,null,null,null,null,null,null,null,null,null,null,null,null,null,null,null,null,null,null,null,null,null,null,null,null,{"$f":"RIGHT(V46,2)","v":""}]
[null,null,null,null,null,null,null,null,null,null,null,null,null,null,null,null,null,null,{"$f":"SUM(S16:U46)","v":0},null,null,null,null,null,null,null,null,null,null,null,null,null,"赤字変更内容については口頭命令済",null,null,null,null,"校長"]
[null,null,null,null,null,null,null,null,null,null,null,null,null,null,null,null,null,null,null,null,null,null,null,null,null,null,null,null,null,null,null,null,null,null,null,null,null," 　 .  　."]
["月",null,null,4,null,5,null,6,null,7,null,8,null,9,null,10,null,11,null,12,null,1,null,2,null,3,null,"計"]
["時間",null,null,{"$f":"'４実績'!D50","v":0},null,{"$f":"'５実績'!F50","v":0},null,{"$f":"'6実績'!H50","v":0},null,{"$f":"'7実績'!J50","v":0},null,{"$f":"'8実績'!L50:M50","v":0},null,{"$f":"'9実績'!N50:O50","v":0},null,{"$f":"'10実績'!P50:Q50","v":0},null,{"$f":"'11実績'!R50:S50","v":0},null,{"$f":"'12実績'!T50:U50","v":0},null,{"$f":"S47","v":0},null,null,null,null,null,{"$f":"SUM(D50:AA50)","v":0},null,null,null,null,"時間"]
["活動日数",null,null,{"$f":"'４実績'!D51","v":0},null,{"$f":"'５実績'!F51","v":0},null,{"$f":"'6実績'!H51","v":0},null,{"$f":"'7実績'!J51","v":0},null,{"$f":"'8実績'!L51:M51","v":0},null,{"$f":"'9実績'!N51:O51","v":0},null,{"$f":"'10実績'!P51:Q51","v":0},null,{"$f":"'11実績'!R51:S51","v":0},null,{"$f":"'12実績'!T51:U51","v":0},null,{"$f":"COUNTIF(S16:U46,\">0\")","v":0},null,null,null,null,null,{"$f":"SUM(D51:AA51)","v":0},null,null,null,null,"活動日数"]
["休養日数",null,null,{"$f":"'４実績'!D52","v":30},null,{"$f":"'５実績'!F52","v":31},null,{"$f":"'6実績'!H52","v":30},null,{"$f":"'7実績'!J52","v":31},null,{"$f":"'8実績'!L52:M52","v":31},null,{"$f":"'9実績'!N52:O52","v":30},null,{"$f":"'10実績'!P52:Q52","v":31},null,{"$f":"'11実績'!R52:S52","v":30},null,{"$f":"'12実績'!T52:U52","v":31},null,{"$f":"COUNTIF(S16:U46,\"0:00\")","v":31},null,null,null,null,null,{"$f":"SUM(D52:AA52)","v":306},null,null,null,null,"休養日数"]
[null,null,null,null,null,null,null,null,null,null,null,null,null,null,null,null,null,null,null,null,null,null,null,null,null,null,null,{"$f":"AB50/AB51","v":{"$error":"#DIV/0!"}},null,null,null,null,"平均時間/日"]

{"sheet":"2計画","index":11,"n_rows":53,"n_cols":63,"rows_kept":53,"cut":false,"hidden":false,"merged":[[0,0,0,3],[1,25,2,27],[1,28,2,37],[1,38,2,40],[2,0,4,3],[2,4,4,7],[2,8,4,11],[2,12,4,15],[2,16,4,19],[2,20,4,23],[3,25,4,27],[1,0,1,3],[1,4,1,7],[1,8,1,11],[1,12,1,15],[1,16,1,19],[1,20,1,23],[3,28,4,37],[3,38,4,40],[6,0,7,4],[6,5,7,7],[6,8,7,22],[6,24,7,26],[6,27,6,28],[6,29,6,30],[6,31,6,32],[6,33,6,34],[6,35,6,36],[6,37,6,38],[6,39,6,40],[7,27,7,28],[7,29,7,30],[7,31,7,32],[7,33,7,34],[7,35,7,36],[7,37,7,38],[7,39,7,40],[9,23,10,27],[9,28,10,29],[9,30,10,38],[9,39,10,40],[11,1,12,2],[11,3,12,7],[11,8,12,9],[11,10,12,18],[11,19,12,20],[11,21,12,22],[9,1,10,2],[9,3,10,7],[9,8,10,9],[9,10,10,18],[9,19,10,20],[9,21,10,22],[11,23,12,27],[11,28,12,29],[11,30,12,38],[11,39,12,40],[14,0,14,1],[14,2,14,3],[14,4,14,10],[14,11,14,17],[14,18,14,20],[14,21,14,32],[14,33,14,40],[15,0,15,1],[15,2,15,3],[15,4,15,6],[15,8,15,10],[15,11,15,13],[15,15,15,17],[15,18,15,20],[15,21,15,26],[15,27,15,32],[15,33,15,40],[16,33,16,40],[17,0,17,1],[17,2,17,3],[17,4,17,6],[17,8,17,10],[17,11,17,13],[17,15,17,17],[17,18,17,20],[17,21,17,26],[17,27,17,32],[17,33,17,40],[16,0,16,1],[16,2,16,3],[16,4,16,6],[16,8,16,10],[16,11,16,13],[16,15,16,17],[16,18,16,20],[16,21,16,26],[16,27,16,32],[18,33,18,40],[19,0,19,1],[19,2,19,3],[19,4,19,6],[19,8,19,10],[19,11,19,13],[19,15,19,17],[19,18,19,20],[19,21,19,26],[19,27,19,32],[19,33,19,40],[18,0,18,1],[18,2,18,3],[18,4,18,6],[18,8,18,10],[18,11,18,13],[18,15,18,17],[18,18,18,20],[18,21,18,26],[18,27,18,32],[20,33,20,40],[21,0,21,1],[21,2,21,3],[21,4,21,6],[21,8,21,10],[21,11,21,13],[21,15,21,17],[21,18,21,20],[21,21,21,26],[21,27,21,32],[21,33,21,40],[20,0,20,1],[20,2,20,3],[20,4,20,6],[20,8,20,10],[20,11,20,13],[20,15,20,17],[20,18,20,20],[20,21,20,26],[20,27,20,32],[22,33,22,40],[23,0,23,1],[23,2,23,3],[23,4,23,6],[23,8,23,10],[23,11,23,13],[23,15,23,17],[23,18,23,20],[23,21,23,26],[23,27,23,32],[23,33,23,40],[22,0,22,1],[22,2,22,3],[22,4,22,6],[22,8,22,10],[22,11,22,13],[22,15,22,17],[22,18,22,20],[22,21,22,26],[22,27,22,32],[24,33,24,40],[25,0,25,1],[25,2,25,3],[25,4,25,6],[25,8,25,10],[25,11,25,13],[25,15,25,17],[25,18,25,20],[25,21,25,26],[25,27,25,32],[25,33,25,40],[24,0,24,1],[24,2,24,3],[24,4,24,6],[24,8,24,10],[24,11,24,13],[24,15,24,17],[24,18,24,20],[24,21,24,26],[24,27,24,32],[26,33,26,40],[27,0,27,1],[27,2,27,3],[27,4,27,6],[27,8,27,10],[27,11,27,13],[27,15,27,17],[27,18,27,20],[27,21,27,26],[27,27,27,32],[27,33,27,40],[26,0,26,1],[26,2,26,3],[26,4,26,6],[26,8,26,10],[26,11,26,13],[26,15,26,17],[26,18,26,20],[26,21,26,26],[26,27,26,32],[28,33,28,40],[29,0,29,1],[29,2,29,3],[29,4,29,6],[29,8,29,10],[29,11,29,13],[29,15,29,17],[29,18,29,20],[29,21,29,26],[29,27,29,32],[29,33,29,40],[28,0,28,1],[28,2,28,3],[28,4,28,6],[28,8,28,10],[28,11,28,13],[28,15,28,17],[28,18,28,20],[28,21,28,26],[28,27,28,32],[30,33,30,40],[31,0,31,1],[31,2,31,3],[31,4,31,6],[31,8,31,10],[31,11,31,13],[31,15,31,17],[31,18,31,20],[31,21,31,26],[31,27,31,32],[31,33,31,40],[30,0,30,1],[30,2,30,3],[30,4,30,6],[30,8,30,10],[30,11,30,13],[30,15,30,17],[30,18,30,20],[30,21,30,26],[30,27,30,32],[32,33,32,40],[33,0,33,1],[33,2,33,3],[33,4,33,6],[33,8,33,10],[33,11,33,13],[33,15,33,17],[33,18,33,20],[33,21,33,26],[33,27,33,32],[33,33,33,40],[32,0,32,1],[32,2,32,3],[32,4,32,6],[32,8,32,10],[32,11,32,13],[32,15,32,17],[32,18,32,20],[32,21,32,26],[32,27,32,32],[34,33,34,40],[35,0,35,1],[35,2,35,3],[35,4,35,6],[35,8,35,10],[35,11,35,13],[35,15,35,17],[35,18,35,20],[35,21,35,26],[35,27,35,32],[35,33,35,40],[34,0,34,1],[34,2,34,3],[34,4,34,6],[34,8,34,10],[34,11,34,13],[34,15,34,17],[34,18,34,20],[34,21,34,26],[34,27,34,32],[36,33,36,40],[37,0,37,1],[37,2,37,3],[37,4,37,6],[37,8,37,10],[37,11,37,13],[37,15,37,17],[37,18,37,20],[37,21,37,26],[37,27,37,32],[37,33,37,40],[36,0,36,1],[36,2,36,3],[36,4,36,6],[36,8,36,10],[36,11,36,13],[36,15,36,17],[36,18,36,20],[36,21,36,26],[36,27,36,32],[38,33,38,40],[39,0,39,1],[39,2,39,3],[39,4,39,6],[39,8,39,10],[39,11,39,13],[39,15,39,17],[39,18,39,20],[39,21,39,26],[39,27,39,32],[39,33,39,40],[38,0,38,1],[38,2,38,3],[38,4,38,6],[38,8,38,10],[38,11,38,13],[38,15,38,17],[38,18,38,20],[38,21,38,26],[38,27,38,32],[40,33,40,40],[41,0,41,1],[41,2,41,3],[41,4,41,6],[41,8,41,10],[41,11,41,13],[41,15,41,17],[41,18,41,20],[41,21,41,26],[41,27,41,32],[41,33,41,40],[40,0,40,1],[40,2,40,3],[40,4,40,6],[40,8,40,10],[40,11,40,13],[40,15,40,17],[40,18,40,20],[40,21,40,26],[40,27,40,32],[42,33,42,40],[43,0,43,1],[43,2,43,3],[43,4,43,6],[43,8,43,10],[43,11,43,13],[43,15,43,17],[43,18,43,20],[43,21,43,26],[43,27,43,32],[43,33,43,40],[42,0,42,1],[42,2,42,3],[42,4,42,6],[42,8,42,10],[42,11,42,13],[42,15,42,17],[42,18,42,20],[42,21,42,26],[42,27,42,32],[45,33,45,40],[46,18,46,20],[44,33,44,40],[45,0,45,1],[45,2,45,3],[45,4,45,6],[45,8,45,10],[45,11,45,13],[45,15,45,17],[45,18,45,20],[45,21,45,26],[45,27,45,32],[44,0,44,1],[44,2,44,3],[44,4,44,6],[44,8,44,10],[44,11,44,13],[44,15,44,17],[44,18,44,20],[44,21,44,26],[44,27,44,32],[46,32,48,36],[46,37,46,40],[47,37,48,40],[48,25,48,26],[48,27,48,31],[49,0,49,2],[49,3,49,4],[49,5,49,6],[49,7,49,8],[49,9,49,10],[49,11,49,12],[49,13,49,14],[49,15,49,16],[48,13,48,14],[48,15,48,16],[48,17,48,18],[48,19,48,20],[48,21,48,22],[48,23,48,24],[48,0,48,2],[48,3,48,4],[48,5,48,6],[48,7,48,8],[48,9,48,10],[48,11,48,12],[50,25,50,26],[50,27,50,31],[50,32,50,34],[49,32,49,34],[50,0,50,2],[50,3,50,4],[50,5,50,6],[50,7,50,8],[50,9,50,10],[50,11,50,12],[50,13,50,14],[50,15,50,16],[50,17,50,18],[49,17,49,18],[49,19,49,20],[49,21,49,22],[49,23,49,24],[49,25,49,26],[49,27,49,31],[51,0,51,2],[51,3,51,4],[51,5,51,6],[51,7,51,8],[51,9,51,10],[51,11,51,12],[50,19,50,20],[50,21,50,22],[50,23,50,24],[51,25,51,26],[51,27,51,31],[51,32,51,34],[52,27,52,31],[52,32,52,34],[51,13,51,14],[51,15,51,16],[51,17,51,18],[51,19,51,20],[51,21,51,22],[51,23,51,24]]}
[null,null,null,null,null,null,null,null,null,null,null,null,null,null,null,null,null,null,null,null,null,null,null,null,null,null,null,null,null,null,null,null,null,null,null,null,null,null,null,null,null,null,null,null,{"$f":"'4計画'!AQ1+1","v":2021}]
["校長",null,null,null,"教頭",null,null,null,"教頭",null,null,null,"主幹教諭",null,null,null,null,null,null,null,"顧問",null,null,null,null,"学校名",null,null,{"$f":"IF('1実績'!AC2=\"\",\"\",'1実績'!AC2)","v":0},null,null,null,null,null,null,null,null,null,"学校"]
["印",null,null,null,"印",null,null,null,"印",null,null,null,"印",null,null,null,"印",null,null,null,"印"]
[null,null,null,null,null,null,null,null,null,null,null,null,null,null,null,null,null,null,null,null,null,null,null,null,null,"部活動名",null,null,{"$f":"IF('1実績'!AC4=\"\",\"\",'1実績'!AC4)","v":0},null,null,null,null,null,null,null,null,null,"部"]
[]
[]
[2,null,null,null,null,"月",null,null,"〈月間〉部活動計画・活動実績",null,null,null,null,null,null,null,null,null,null,null,null,null,null,null,"部員数",null,null,"1女",null,"2女",null,"3女",null,"1男",null,"2男",null,"3男",null,"計"]
[null,null,null,null,null,null,null,null,null,null,null,null,null,null,null,null,null,null,null,null,null,null,null,null,null,null,null,{"$f":"IF('1実績'!AB8=\"\",\"\",'1実績'!AB8)","v":0},null,{"$f":"IF('1実績'!AD8=\"\",\"\",'1実績'!AD8)","v":0},null,{"$f":"IF('1実績'!AF8=\"\",\"\",'1実績'!AF8)","v":0},null,{"$f":"IF('1実績'!AH8=\"\",\"\",'1実績'!AH8)","v":0},null,{"$f":"IF('1実績'!AJ8=\"\",\"\",'1実績'!AJ8)","v":0},null,{"$f":"IF('1実績'!AL8=\"\",\"\",'1実績'!AL8)","v":0},null,{"$f":"SUM(AB8:AM8)","v":0}]
[]
[null,"職名",null,{"$f":"IF('1実績'!D10=\"\",\"\",'1実績'!D10)","v":0},null,null,null,null,"顧問",null,{"$f":"IF('1実績'!K10=\"\",\"\",'1実績'!K10)","v":0},null,null,null,null,null,null,null,null,null,null,"職名",null,{"$f":"IF('1実績'!X10=\"\",\"\",'1実績'!X10)","v":0},null,null,null,null,"副２",null,{"$f":"IF('1実績'!AE10=\"\",\"\",'1実績'!AE10)","v":0}]
[]
[null,"職名",null,{"$f":"IF('1実績'!D12=\"\",\"\",'1実績'!D12)","v":0},null,null,null,null,"副顧問",null,{"$f":"IF('1実績'!K12=\"\",\"\",'1実績'!K12)","v":0},null,null,null,null,null,null,null,null,null,null,"職名",null,{"$f":"IF('1実績'!X12=\"\",\"\",'1実績'!X12)","v":0},null,null,null,null,"副３",null,{"$f":"IF('1実績'!AE12=\"\",\"\",'1実績'!AE12)","v":0}]
[]
[]
["日",null,"曜",null,"ＡＭ",null,null,null,null,null,null,"ＰＭ",null,null,null,null,null,null,"時間",null,null,"内容（練習・大会・OFF等）",null,null,null,null,null,null,null,null,null,null,null,"場所"]
[1,null,{"$f":"IF(A16=\"\",\"\",TEXT(DATE($AS$1,$A$7,A16),\"aaa\"))","v":"月"},null,null,null,null,"～",null,null,null,null,null,null,"～",null,null,null,{"$f":"(I16-E16)+(P16-L16)","v":"00:00:00"}]
[2,null,{"$f":"IF(A17=\"\",\"\",TEXT(DATE($AS$1,$A$7,A17),\"aaa\"))","v":"火"},null,null,null,null,"～",null,null,null,null,null,null,"～",null,null,null,"00:00:00"]
[3,null,"水",null,null,null,null,"～",null,null,null,null,null,null,"～",null,null,null,"00:00:00"]
[4,null,"木",null,null,null,null,"～",null,null,null,null,null,null,"～",null,null,null,"00:00:00"]
[5,null,"金",null,null,null,null,"～",null,null,null,null,null,null,"～",null,null,null,"00:00:00"]
[6,null,"土",null,null,null,null,"～",null,null,null,null,null,null,"～",null,null,null,"00:00:00"]
[7,null,"日",null,null,null,null,"～",null,null,null,null,null,null,"～",null,null,null,"00:00:00"]
[8,null,"月",null,null,null,null,"～",null,null,null,null,null,null,"～",null,null,null,"00:00:00"]
[9,null,"火",null,null,null,null,"～",null,null,null,null,null,null,"～",null,null,null,"00:00:00"]
[10,null,"水",null,null,null,null,"～",null,null,null,null,null,null,"～",null,null,null,"00:00:00"]
[11,null,"木",null,null,null,null,"～",null,null,null,null,null,null,"～",null,null,null,"00:00:00"]
[12,null,"金",null,null,null,null,"～",null,null,null,null,null,null,"～",null,null,null,"00:00:00"]
[13,null,"土",null,null,null,null,"～",null,null,null,null,null,null,"～",null,null,null,"00:00:00"]
[14,null,"日",null,null,null,null,"～",null,null,null,null,null,null,"～",null,null,null,"00:00:00"]
[15,null,"月",null,null,null,null,"～",null,null,null,null,null,null,"～",null,null,null,"00:00:00"]
[16,null,"火",null,null,null,null,"～",null,null,null,null,null,null,"～",null,null,null,"00:00:00"]
[17,null,"水",null,null,null,null,"～",null,null,null,null,null,null,"～",null,null,null,"00:00:00"]
[18,null,"木",null,null,null,null,"～",null,null,null,null,null,null,"～",null,null,null,"00:00:00"]
[19,null,"金",null,null,null,null,"～",null,null,null,null,null,null,"～",null,null,null,"00:00:00"]
[20,null,"土",null,null,null,null,"～",null,null,null,null,null,null,"～",null,null,null,"00:00:00"]
[21,null,"日",null,null,null,null,"～",null,null,null,null,null,null,"～",null,null,null,"00:00:00"]
[22,null,"月",null,null,null,null,"～",null,null,null,null,null,null,"～",null,null,null,"00:00:00"]
[23,null,"火",null,null,null,null,"～",null,null,null,null,null,null,"～",null,null,null,"00:00:00"]
[24,null,"水",null,null,null,null,"～",null,null,null,null,null,null,"～",null,null,null,"00:00:00"]
[25,null,"木",null,null,null,null,"～",null,null,null,null,null,null,"～",null,null,null,"00:00:00"]
[26,null,"金",null,null,null,null,"～",null,null,null,null,null,null,"～",null,null,null,"00:00:00"]
[27,null,"土",null,null,null,null,"～",null,null,null,null,null,null,"～",null,null,null,"00:00:00"]
[28,null,"日",null,null,null,null,"～",null,null,null,null,null,null,"～",null,null,null,"00:00:00"]
[29,null,"月",null,null,null,null,"～",null,null,null,null,null,null,"～",null,null,null,"00:00:00"]
[null,null,"",null,null,null,null,"～",null,null,null,null,null,null,"～",null,null,null,"00:00:00"]
[null,null,"",null,null,null,null,"～",null,null,null,null,null,null,"～",null,null,null,"00:00:00",null,null,null,null,null,null,null,null,null,null,null,null,null,null,null,null,null,null,null,null,null,null,null,null,null,null,null,null,null,null,null,null,null,null,null,null,null,null,null,null,null,null,null,{"$f":"RIGHT(V46,2)","v":""}]
[null,null,null,null,null,null,null,null,null,null,null,null,null,null,null,null,null,null,{"$f":"SUM(S16:U46)","v":0},null,null,null,null,null,null,null,null,null,null,null,null,null,"赤字変更内容については口頭命令済",null,null,null,null,"校長"]
[null,null,null,null,null,null,null,null,null,null,null,null,null,null,null,null,null,null,null,null,null,null,null,null,null,null,null,null,null,null,null,null,null,null,null,null,null," 　 .  　."]
["月",null,null,4,null,5,null,6,null,7,null,8,null,9,null,10,null,11,null,12,null,1,null,2,null,3,null,"計"]
["時間",null,null,{"$f":"'４実績'!D50","v":0},null,{"$f":"'５実績'!F50","v":0},null,{"$f":"'6実績'!H50","v":0},null,{"$f":"'7実績'!J50","v":0},null,{"$f":"'8実績'!L50:M50","v":0},null,{"$f":"'9実績'!N50:O50","v":0},null,{"$f":"'10実績'!P50:Q50","v":0},null,{"$f":"'11実績'!R50:S50","v":0},null,{"$f":"'12実績'!T50:U50","v":0},null,{"$f":"'1実績'!V50:W50","v":0},null,{"$f":"S47","v":0},null,null,null,{"$f":"SUM(D50:AA50)","v":0},null,null,null,null,"時間"]
["活動日数",null,null,{"$f":"'４実績'!D51","v":0},null,{"$f":"'５実績'!F51","v":0},null,{"$f":"'6実績'!H51","v":0},null,{"$f":"'7実績'!J51","v":0},null,{"$f":"'8実績'!L51:M51","v":0},null,{"$f":"'9実績'!N51:O51","v":0},null,{"$f":"'10実績'!P51:Q51","v":0},null,{"$f":"'11実績'!R51:S51","v":0},null,{"$f":"'12実績'!T51:U51","v":0},null,{"$f":"'1実績'!V51:W51","v":0},null,{"$f":"COUNTIF(S16:U46,\">0\")","v":0},null,null,null,{"$f":"SUM(D51:AA51)","v":0},null,null,null,null,"活動日数"]
["休養日数",null,null,{"$f":"'４実績'!D52","v":30},null,{"$f":"'５実績'!F52","v":31},null,{"$f":"'6実績'!H52","v":30},null,{"$f":"'7実績'!J52","v":31},null,{"$f":"'8実績'!L52:M52","v":31},null,{"$f":"'9実績'!N52:O52","v":30},null,{"$f":"'10実績'!P52:Q52","v":31},null,{"$f":"'11実績'!R52:S52","v":30},null,{"$f":"'12実績'!T52:U52","v":31},null,{"$f":"'1実績'!V52:W52","v":31},null,{"$f":"COUNTIF(S16:U43,\"0:00\")","v":28},null,null,null,{"$f":"SUM(D52:AA52)","v":334},null,null,null,null,"休養日数"]
[null,null,null,null,null,null,null,null,null,null,null,null,null,null,null,null,null,null,null,null,null,null,null,null,null,null,null,{"$f":"AB50/AB51","v":{"$error":"#DIV/0!"}},null,null,null,null,"平均時間/日"]

{"sheet":"3計画","index":12,"n_rows":53,"n_cols":63,"rows_kept":53,"cut":false,"hidden":false,"merged":[[0,0,0,3],[1,25,2,27],[1,28,2,37],[1,38,2,40],[2,0,4,3],[2,4,4,7],[2,8,4,11],[2,12,4,15],[2,16,4,19],[2,20,4,23],[3,25,4,27],[1,0,1,3],[1,4,1,7],[1,8,1,11],[1,12,1,15],[1,16,1,19],[1,20,1,23],[3,28,4,37],[3,38,4,40],[6,0,7,4],[6,5,7,7],[6,8,7,22],[6,24,7,26],[6,27,6,28],[6,29,6,30],[6,31,6,32],[6,33,6,34],[6,35,6,36],[6,37,6,38],[6,39,6,40],[7,27,7,28],[7,29,7,30],[7,31,7,32],[7,33,7,34],[7,35,7,36],[7,37,7,38],[7,39,7,40],[9,23,10,27],[9,28,10,29],[9,30,10,38],[9,39,10,40],[11,1,12,2],[11,3,12,7],[11,8,12,9],[11,10,12,18],[11,19,12,20],[11,21,12,22],[9,1,10,2],[9,3,10,7],[9,8,10,9],[9,10,10,18],[9,19,10,20],[9,21,10,22],[11,23,12,27],[11,28,12,29],[11,30,12,38],[11,39,12,40],[14,0,14,1],[14,2,14,3],[14,4,14,10],[14,11,14,17],[14,18,14,20],[14,21,14,32],[14,33,14,40],[15,0,15,1],[15,2,15,3],[15,4,15,6],[15,8,15,10],[15,11,15,13],[15,15,15,17],[15,18,15,20],[15,21,15,26],[15,27,15,32],[15,33,15,40],[16,33,16,40],[17,0,17,1],[17,2,17,3],[17,4,17,6],[17,8,17,10],[17,11,17,13],[17,15,17,17],[17,18,17,20],[17,21,17,26],[17,27,17,32],[17,33,17,40],[16,0,16,1],[16,2,16,3],[16,4,16,6],[16,8,16,10],[16,11,16,13],[16,15,16,17],[16,18,16,20],[16,21,16,26],[16,27,16,32],[18,33,18,40],[19,0,19,1],[19,2,19,3],[19,4,19,6],[19,8,19,10],[19,11,19,13],[19,15,19,17],[19,18,19,20],[19,21,19,26],[19,27,19,32],[19,33,19,40],[18,0,18,1],[18,2,18,3],[18,4,18,6],[18,8,18,10],[18,11,18,13],[18,15,18,17],[18,18,18,20],[18,21,18,26],[18,27,18,32],[20,33,20,40],[21,0,21,1],[21,2,21,3],[21,4,21,6],[21,8,21,10],[21,11,21,13],[21,15,21,17],[21,18,21,20],[21,21,21,26],[21,27,21,32],[21,33,21,40],[20,0,20,1],[20,2,20,3],[20,4,20,6],[20,8,20,10],[20,11,20,13],[20,15,20,17],[20,18,20,20],[20,21,20,26],[20,27,20,32],[22,33,22,40],[23,0,23,1],[23,2,23,3],[23,4,23,6],[23,8,23,10],[23,11,23,13],[23,15,23,17],[23,18,23,20],[23,21,23,26],[23,27,23,32],[23,33,23,40],[22,0,22,1],[22,2,22,3],[22,4,22,6],[22,8,22,10],[22,11,22,13],[22,15,22,17],[22,18,22,20],[22,21,22,26],[22,27,22,32],[24,33,24,40],[25,0,25,1],[25,2,25,3],[25,4,25,6],[25,8,25,10],[25,11,25,13],[25,15,25,17],[25,18,25,20],[25,21,25,26],[25,27,25,32],[25,33,25,40],[24,0,24,1],[24,2,24,3],[24,4,24,6],[24,8,24,10],[24,11,24,13],[24,15,24,17],[24,18,24,20],[24,21,24,26],[24,27,24,32],[26,33,26,40],[27,0,27,1],[27,2,27,3],[27,4,27,6],[27,8,27,10],[27,11,27,13],[27,15,27,17],[27,18,27,20],[27,21,27,26],[27,27,27,32],[27,33,27,40],[26,0,26,1],[26,2,26,3],[26,4,26,6],[26,8,26,10],[26,11,26,13],[26,15,26,17],[26,18,26,20],[26,21,26,26],[26,27,26,32],[28,33,28,40],[29,0,29,1],[29,2,29,3],[29,4,29,6],[29,8,29,10],[29,11,29,13],[29,15,29,17],[29,18,29,20],[29,21,29,26],[29,27,29,32],[29,33,29,40],[28,0,28,1],[28,2,28,3],[28,4,28,6],[28,8,28,10],[28,11,28,13],[28,15,28,17],[28,18,28,20],[28,21,28,26],[28,27,28,32],[30,33,30,40],[31,0,31,1],[31,2,31,3],[31,4,31,6],[31,8,31,10],[31,11,31,13],[31,15,31,17],[31,18,31,20],[31,21,31,26],[31,27,31,32],[31,33,31,40],[30,0,30,1],[30,2,30,3],[30,4,30,6],[30,8,30,10],[30,11,30,13],[30,15,30,17],[30,18,30,20],[30,21,30,26],[30,27,30,32],[32,33,32,40],[33,0,33,1],[33,2,33,3],[33,4,33,6],[33,8,33,10],[33,11,33,13],[33,15,33,17],[33,18,33,20],[33,21,33,26],[33,27,33,32],[33,33,33,40],[32,0,32,1],[32,2,32,3],[32,4,32,6],[32,8,32,10],[32,11,32,13],[32,15,32,17],[32,18,32,20],[32,21,32,26],[32,27,32,32],[34,33,34,40],[35,0,35,1],[35,2,35,3],[35,4,35,6],[35,8,35,10],[35,11,35,13],[35,15,35,17],[35,18,35,20],[35,21,35,26],[35,27,35,32],[35,33,35,40],[34,0,34,1],[34,2,34,3],[34,4,34,6],[34,8,34,10],[34,11,34,13],[34,15,34,17],[34,18,34,20],[34,21,34,26],[34,27,34,32],[36,33,36,40],[37,0,37,1],[37,2,37,3],[37,4,37,6],[37,8,37,10],[37,11,37,13],[37,15,37,17],[37,18,37,20],[37,21,37,26],[37,27,37,32],[37,33,37,40],[36,0,36,1],[36,2,36,3],[36,4,36,6],[36,8,36,10],[36,11,36,13],[36,15,36,17],[36,18,36,20],[36,21,36,26],[36,27,36,32],[38,33,38,40],[39,0,39,1],[39,2,39,3],[39,4,39,6],[39,8,39,10],[39,11,39,13],[39,15,39,17],[39,18,39,20],[39,21,39,26],[39,27,39,32],[39,33,39,40],[38,0,38,1],[38,2,38,3],[38,4,38,6],[38,8,38,10],[38,11,38,13],[38,15,38,17],[38,18,38,20],[38,21,38,26],[38,27,38,32],[40,33,40,40],[41,0,41,1],[41,2,41,3],[41,4,41,6],[41,8,41,10],[41,11,41,13],[41,15,41,17],[41,18,41,20],[41,21,41,26],[41,27,41,32],[41,33,41,40],[40,0,40,1],[40,2,40,3],[40,4,40,6],[40,8,40,10],[40,11,40,13],[40,15,40,17],[40,18,40,20],[40,21,40,26],[40,27,40,32],[42,33,42,40],[43,0,43,1],[43,2,43,3],[43,4,43,6],[43,8,43,10],[43,11,43,13],[43,15,43,17],[43,18,43,20],[43,21,43,26],[43,27,43,32],[43,33,43,40],[42,0,42,1],[42,2,42,3],[42,4,42,6],[42,8,42,10],[42,11,42,13],[42,15,42,17],[42,18,42,20],[42,21,42,26],[42,27,42,32],[45,33,45,40],[46,18,46,20],[44,33,44,40],[45,0,45,1],[45,2,45,3],[45,4,45,6],[45,8,45,10],[45,11,45,13],[45,15,45,17],[45,18,45,20],[45,21,45,26],[45,27,45,32],[44,0,44,1],[44,2,44,3],[44,4,44,6],[44,8,44,10],[44,11,44,13],[44,15,44,17],[44,18,44,20],[44,21,44,26],[44,27,44,32],[46,32,48,36],[46,37,46,40],[47,37,48,40],[48,25,48,26],[48,27,48,31],[49,0,49,2],[49,3,49,4],[49,5,49,6],[49,7,49,8],[49,9,49,10],[49,11,49,12],[49,13,49,14],[49,15,49,16],[48,13,48,14],[48,15,48,16],[48,17,48,18],[48,19,48,20],[48,21,48,22],[48,23,48,24],[48,0,48,2],[48,3,48,4],[48,5,48,6],[48,7,48,8],[48,9,48,10],[48,11,48,12],[50,25,50,26],[50,27,50,31],[50,32,50,34],[49,32,49,34],[50,0,50,2],[50,3,50,4],[50,5,50,6],[50,7,50,8],[50,9,50,10],[50,11,50,12],[50,13,50,14],[50,15,50,16],[50,17,50,18],[49,17,49,18],[49,19,49,20],[49,21,49,22],[49,23,49,24],[49,25,49,26],[49,27,49,31],[51,0,51,2],[51,3,51,4],[51,5,51,6],[51,7,51,8],[51,9,51,10],[51,11,51,12],[50,19,50,20],[50,21,50,22],[50,23,50,24],[51,25,51,26],[51,27,51,31],[51,32,51,34],[52,27,52,31],[52,32,52,34],[51,13,51,14],[51,15,51,16],[51,17,51,18],[51,19,51,20],[51,21,51,22],[51,23,51,24]]}
[null,null,null,null,null,null,null,null,null,null,null,null,null,null,null,null,null,null,null,null,null,null,null,null,null,null,null,null,null,null,null,null,null,null,null,null,null,null,null,null,null,null,null,null,{"$f":"'4計画'!AQ1+1","v":2021}]
["校長",null,null,null,"教頭",null,null,null,"教頭",null,null,null,"主幹教諭",null,null,null,null,null,null,null,"顧問",null,null,null,null,"学校名",null,null,{"$f":"IF('2実績'!AC2=\"\",\"\",'2実績'!AC2)","v":0},null,null,null,null,null,null,null,null,null,"学校"]
["印",null,null,null,"印",null,null,null,"印",null,null,null,"印",null,null,null,"印",null,null,null,"印"]
[null,null,null,null,null,null,null,null,null,null,null,null,null,null,null,null,null,null,null,null,null,null,null,null,null,"部活動名",null,null,{"$f":"IF('2実績'!AC4=\"\",\"\",'2実績'!AC4)","v":0},null,null,null,null,null,null,null,null,null,"部"]
[]
[]
[3,null,null,null,null,"月",null,null,"〈月間〉部活動計画・活動実績",null,null,null,null,null,null,null,null,null,null,null,null,null,null,null,"部員数",null,null,"1女",null,"2女",null,"3女",null,"1男",null,"2男",null,"3男",null,"計"]
[null,null,null,null,null,null,null,null,null,null,null,null,null,null,null,null,null,null,null,null,null,null,null,null,null,null,null,{"$f":"IF('2実績'!AB8=\"\",\"\",'2実績'!AB8)","v":0},null,{"$f":"IF('2実績'!AD8=\"\",\"\",'2実績'!AD8)","v":0},null,{"$f":"IF('2実績'!AF8=\"\",\"\",'2実績'!AF8)","v":0},null,{"$f":"IF('2実績'!AH8=\"\",\"\",'2実績'!AH8)","v":0},null,{"$f":"IF('2実績'!AJ8=\"\",\"\",'2実績'!AJ8)","v":0},null,{"$f":"IF('2実績'!AL8=\"\",\"\",'2実績'!AL8)","v":0},null,{"$f":"SUM(AB8:AM8)","v":0}]
[]
[null,"職名",null,{"$f":"IF('2実績'!D10=\"\",\"\",'2実績'!D10)","v":0},null,null,null,null,"顧問",null,{"$f":"IF('2実績'!K10=\"\",\"\",'2実績'!K10)","v":0},null,null,null,null,null,null,null,null,null,null,"職名",null,{"$f":"IF('2実績'!X10=\"\",\"\",'2実績'!X10)","v":0},null,null,null,null,"副２",null,{"$f":"IF('2実績'!AE10=\"\",\"\",'2実績'!AE10)","v":0}]
[]
[null,"職名",null,{"$f":"IF('2実績'!D12=\"\",\"\",'2実績'!D12)","v":0},null,null,null,null,"副顧問",null,{"$f":"IF('2実績'!K12=\"\",\"\",'2実績'!K12)","v":0},null,null,null,null,null,null,null,null,null,null,"職名",null,{"$f":"IF('2実績'!X12=\"\",\"\",'2実績'!X12)","v":0},null,null,null,null,"副３",null,{"$f":"IF('2実績'!AE12=\"\",\"\",'2実績'!AE12)","v":0}]
[]
[]
["日",null,"曜",null,"ＡＭ",null,null,null,null,null,null,"ＰＭ",null,null,null,null,null,null,"時間",null,null,"内容（練習・大会・OFF等）",null,null,null,null,null,null,null,null,null,null,null,"場所"]
[1,null,{"$f":"IF(A16=\"\",\"\",TEXT(DATE($AS$1,$A$7,A16),\"aaa\"))","v":"月"},null,null,null,null,"～",null,null,null,null,null,null,"～",null,null,null,{"$f":"(I16-E16)+(P16-L16)","v":"00:00:00"}]
[2,null,{"$f":"IF(A17=\"\",\"\",TEXT(DATE($AS$1,$A$7,A17),\"aaa\"))","v":"火"},null,null,null,null,"～",null,null,null,null,null,null,"～",null,null,null,"00:00:00"]
[3,null,"水",null,null,null,null,"～",null,null,null,null,null,null,"～",null,null,null,"00:00:00"]
[4,null,"木",null,null,null,null,"～",null,null,null,null,null,null,"～",null,null,null,"00:00:00"]
[5,null,"金",null,null,null,null,"～",null,null,null,null,null,null,"～",null,null,null,"00:00:00"]
[6,null,"土",null,null,null,null,"～",null,null,null,null,null,null,"～",null,null,null,"00:00:00"]
[7,null,"日",null,null,null,null,"～",null,null,null,null,null,null,"～",null,null,null,"00:00:00"]
[8,null,"月",null,null,null,null,"～",null,null,null,null,null,null,"～",null,null,null,"00:00:00"]
[9,null,"火",null,null,null,null,"～",null,null,null,null,null,null,"～",null,null,null,"00:00:00"]
[10,null,"水",null,null,null,null,"～",null,null,null,null,null,null,"～",null,null,null,"00:00:00"]
[11,null,"木",null,null,null,null,"～",null,null,null,null,null,null,"～",null,null,null,"00:00:00"]
[12,null,"金",null,null,null,null,"～",null,null,null,null,null,null,"～",null,null,null,"00:00:00"]
[13,null,"土",null,null,null,null,"～",null,null,null,null,null,null,"～",null,null,null,"00:00:00"]
[14,null,"日",null,null,null,null,"～",null,null,null,null,null,null,"～",null,null,null,"00:00:00"]
[15,null,"月",null,null,null,null,"～",null,null,null,null,null,null,"～",null,null,null,"00:00:00"]
[16,null,"火",null,null,null,null,"～",null,null,null,null,null,null,"～",null,null,null,"00:00:00"]
[17,null,"水",null,null,null,null,"～",null,null,null,null,null,null,"～",null,null,null,"00:00:00"]
[18,null,"木",null,null,null,null,"～",null,null,null,null,null,null,"～",null,null,null,"00:00:00"]
[19,null,"金",null,null,null,null,"～",null,null,null,null,null,null,"～",null,null,null,"00:00:00"]
[20,null,"土",null,null,null,null,"～",null,null,null,null,null,null,"～",null,null,null,"00:00:00"]
[21,null,"日",null,null,null,null,"～",null,null,null,null,null,null,"～",null,null,null,"00:00:00"]
[22,null,"月",null,null,null,null,"～",null,null,null,null,null,null,"～",null,null,null,"00:00:00"]
[23,null,"火",null,null,null,null,"～",null,null,null,null,null,null,"～",null,null,null,"00:00:00"]
[24,null,"水",null,null,null,null,"～",null,null,null,null,null,null,"～",null,null,null,"00:00:00"]
[25,null,"木",null,null,null,null,"～",null,null,null,null,null,null,"～",null,null,null,"00:00:00"]
[26,null,"金",null,null,null,null,"～",null,null,null,null,null,null,"～",null,null,null,"00:00:00"]
[27,null,"土",null,null,null,null,"～",null,null,null,null,null,null,"～",null,null,null,"00:00:00"]
[28,null,"日",null,null,null,null,"～",null,null,null,null,null,null,"～",null,null,null,"00:00:00"]
[29,null,"月",null,null,null,null,"～",null,null,null,null,null,null,"～",null,null,null,"00:00:00"]
[30,null,"火",null,null,null,null,"～",null,null,null,null,null,null,"～",null,null,null,"00:00:00"]
[31,null,"水",null,null,null,null,"～",null,null,null,null,null,null,"～",null,null,null,"00:00:00",null,null,null,null,null,null,null,null,null,null,null,null,null,null,null,null,null,null,null,null,null,null,null,null,null,null,null,null,null,null,null,null,null,null,null,null,null,null,null,null,null,null,null,{"$f":"RIGHT(V46,2)","v":""}]
[null,null,null,null,null,null,null,null,null,null,null,null,null,null,null,null,null,null,{"$f":"SUM(S16:U46)","v":0},null,null,null,null,null,null,null,null,null,null,null,null,null,"赤字変更内容については口頭命令済",null,null,null,null,"校長"]
[null,null,null,null,null,null,null,null,null,null,null,null,null,null,null,null,null,null,null,null,null,null,null,null,null,null,null,null,null,null,null,null,null,null,null,null,null," 　 .  　."]
["月",null,null,4,null,5,null,6,null,7,null,8,null,9,null,10,null,11,null,12,null,1,null,2,null,3,null,"計"]
["時間",null,null,{"$f":"'４実績'!D50","v":0},null,{"$f":"'５実績'!F50","v":0},null,{"$f":"'6実績'!H50","v":0},null,{"$f":"'7実績'!J50","v":0},null,{"$f":"'8実績'!L50:M50","v":0},null,{"$f":"'9実績'!N50:O50","v":0},null,{"$f":"'10実績'!P50:Q50","v":0},null,{"$f":"'11実績'!R50:S50","v":0},null,{"$f":"'12実績'!T50:U50","v":0},null,{"$f":"'1実績'!V50:W50","v":0},null,{"$f":"'2実績'!X50:Y50","v":0},null,{"$f":"S47","v":0},null,{"$f":"SUM(D50:AA50)","v":0},null,null,null,null,"時間"]
["活動日数",null,null,{"$f":"'４実績'!D51","v":0},null,{"$f":"'５実績'!F51","v":0},null,{"$f":"'6実績'!H51","v":0},null,{"$f":"'7実績'!J51","v":0},null,{"$f":"'8実績'!L51:M51","v":0},null,{"$f":"'9実績'!N51:O51","v":0},null,{"$f":"'10実績'!P51:Q51","v":0},null,{"$f":"'11実績'!R51:S51","v":0},null,{"$f":"'12実績'!T51:U51","v":0},null,{"$f":"'1実績'!V51:W51","v":0},null,{"$f":"'2実績'!X51:Y51","v":0},null,{"$f":"COUNTIF(S16:U46,\">0\")","v":0},null,{"$f":"SUM(D51:AA51)","v":0},null,null,null,null,"活動日数"]
["休養日数",null,null,{"$f":"'４実績'!D52","v":30},null,{"$f":"'５実績'!F52","v":31},null,{"$f":"'6実績'!H52","v":30},null,{"$f":"'7実績'!J52","v":31},null,{"$f":"'8実績'!L52:M52","v":31},null,{"$f":"'9実績'!N52:O52","v":30},null,{"$f":"'10実績'!P52:Q52","v":31},null,{"$f":"'11実績'!R52:S52","v":30},null,{"$f":"'12実績'!T52:U52","v":31},null,{"$f":"'1実績'!V52:W52","v":31},null,{"$f":"'2実績'!X52:Y52","v":28},null,{"$f":"COUNTIF(S16:U46,\"0:00\")","v":31},null,{"$f":"SUM(D52:AA52)","v":365},null,null,null,null,"休養日数"]
[null,null,null,null,null,null,null,null,null,null,null,null,null,null,null,null,null,null,null,null,null,null,null,null,null,null,null,{"$f":"AB50/AB51","v":{"$error":"#DIV/0!"}},null,null,null,null,"平均時間/日"]

{"sheet":"４実績","index":13,"n_rows":53,"n_cols":112,"rows_kept":53,"cut":false,"hidden":false,"merged":[[41,42,41,45],[42,42,42,45],[43,42,43,45],[44,42,44,45],[45,42,45,45],[32,42,32,45],[33,42,33,45],[34,42,34,45],[35,42,35,45],[36,42,36,45],[37,42,37,45],[38,42,38,45],[39,42,39,45],[40,42,40,45],[23,42,23,45],[24,42,24,45],[25,42,25,45],[26,42,26,45],[27,42,27,45],[28,42,28,45],[29,42,29,45],[30,42,30,45],[31,42,31,45],[14,42,14,45],[15,42,15,45],[16,42,16,45],[17,42,17,45],[18,42,18,45],[19,42,19,45],[20,42,20,45],[21,42,21,45],[22,42,22,45],[0,0,0,3],[1,0,1,3],[1,4,1,7],[1,8,1,11],[1,12,1,15],[1,16,1,19],[1,20,1,23],[1,25,2,27],[1,28,2,37],[1,38,2,40],[2,0,4,3],[2,4,4,7],[2,8,4,11],[2,12,4,15],[2,16,4,19],[2,20,4,23],[3,25,4,27],[3,28,4,37],[3,38,4,40],[6,0,7,4],[6,5,7,7],[6,8,7,22],[6,24,7,26],[6,27,6,28],[6,29,6,30],[6,31,6,32],[6,33,6,34],[6,35,6,36],[9,23,10,27],[9,28,10,29],[9,30,10,38],[6,37,6,38],[6,39,6,40],[7,27,7,28],[7,29,7,30],[7,31,7,32],[7,33,7,34],[7,35,7,36],[7,37,7,38],[7,39,7,40],[11,39,12,40],[14,0,14,1],[14,2,14,3],[14,4,14,10],[14,11,14,17],[14,18,14,20],[14,21,14,32],[14,33,14,40],[9,39,10,40],[11,1,12,2],[11,3,12,7],[11,8,12,9],[11,10,12,18],[11,19,12,20],[11,21,12,22],[11,23,12,27],[11,28,12,29],[11,30,12,38],[9,1,10,2],[9,3,10,7],[9,8,10,9],[9,10,10,18],[9,19,10,20],[9,21,10,22],[15,18,15,20],[15,21,15,26],[15,27,15,32],[15,33,15,40],[16,0,16,1],[16,2,16,3],[16,4,16,6],[16,8,16,10],[16,11,16,13],[16,15,16,17],[15,0,15,1],[15,2,15,3],[15,4,15,6],[15,8,15,10],[15,11,15,13],[15,15,15,17],[16,18,16,20],[16,21,16,26],[16,27,16,32],[16,33,16,40],[17,33,17,40],[18,0,18,1],[18,2,18,3],[18,4,18,6],[18,8,18,10],[18,11,18,13],[18,15,18,17],[18,18,18,20],[18,21,18,26],[18,27,18,32],[18,33,18,40],[17,0,17,1],[17,2,17,3],[17,4,17,6],[17,8,17,10],[17,11,17,13],[17,15,17,17],[17,18,17,20],[17,21,17,26],[17,27,17,32],[19,33,19,40],[20,0,20,1],[20,2,20,3],[20,4,20,6],[20,8,20,10],[20,11,20,13],[20,15,20,17],[20,18,20,20],[20,21,20,26],[20,27,20,32],[20,33,20,40],[19,0,19,1],[19,2,19,3],[19,4,19,6],[19,8,19,10],[19,11,19,13],[19,15,19,17],[19,18,19,20],[19,21,19,26],[19,27,19,32],[21,33,21,40],[22,0,22,1],[22,2,22,3],[22,4,22,6],[22,8,22,10],[22,11,22,13],[22,15,22,17],[22,18,22,20],[22,21,22,26],[22,27,22,32],[22,33,22,40],[21,0,21,1],[21,2,21,3],[21,4,21,6],[21,8,21,10],[21,11,21,13],[21,15,21,17],[21,18,21,20],[21,21,21,26],[21,27,21,32],[23,33,23,40],[24,0,24,1],[24,2,24,3],[24,4,24,6],[24,8,24,10],[24,11,24,13],[24,15,24,17],[24,18,24,20],[24,21,24,26],[24,27,24,32],[24,33,24,40],[23,0,23,1],[23,2,23,3],[23,4,23,6],[23,8,23,10],[23,11,23,13],[23,15,23,17],[23,18,23,20],[23,21,23,26],[23,27,23,32],[25,33,25,40],[26,0,26,1],[26,2,26,3],[26,4,26,6],[26,8,26,10],[26,11,26,13],[26,15,26,17],[26,18,26,20],[26,21,26,26],[26,27,26,32],[26,33,26,40],[25,0,25,1],[25,2,25,3],[25,4,25,6],[25,8,25,10],[25,11,25,13],[25,15,25,17],[25,18,25,20],[25,21,25,26],[25,27,25,32],[27,33,27,40],[28,0,28,1],[28,2,28,3],[28,4,28,6],[28,8,28,10],[28,11,28,13],[28,15,28,17],[28,18,28,20],[28,21,28,26],[28,27,28,32],[28,33,28,40],[27,0,27,1],[27,2,27,3],[27,4,27,6],[27,8,27,10],[27,11,27,13],[27,15,27,17],[27,18,27,20],[27,21,27,26],[27,27,27,32],[29,33,29,40],[30,0,30,1],[30,2,30,3],[30,4,30,6],[30,8,30,10],[30,11,30,13],[30,15,30,17],[30,18,30,20],[30,21,30,26],[30,27,30,32],[30,33,30,40],[29,0,29,1],[29,2,29,3],[29,4,29,6],[29,8,29,10],[29,11,29,13],[29,15,29,17],[29,18,29,20],[29,21,29,26],[29,27,29,32],[31,33,31,40],[32,0,32,1],[32,2,32,3],[32,4,32,6],[32,8,32,10],[32,11,32,13],[32,15,32,17],[32,18,32,20],[32,21,32,26],[32,27,32,32],[32,33,32,40],[31,0,31,1],[31,2,31,3],[31,4,31,6],[31,8,31,10],[31,11,31,13],[31,15,31,17],[31,18,31,20],[31,21,31,26],[31,27,31,32],[33,33,33,40],[34,0,34,1],[34,2,34,3],[34,4,34,6],[34,8,34,10],[34,11,34,13],[34,15,34,17],[34,18,34,20],[34,21,34,26],[34,27,34,32],[34,33,34,40],[33,0,33,1],[33,2,33,3],[33,4,33,6],[33,8,33,10],[33,11,33,13],[33,15,33,17],[33,18,33,20],[33,21,33,26],[33,27,33,32],[35,33,35,40],[36,0,36,1],[36,2,36,3],[36,4,36,6],[36,8,36,10],[36,11,36,13],[36,15,36,17],[36,18,36,20],[36,21,36,26],[36,27,36,32],[36,33,36,40],[35,0,35,1],[35,2,35,3],[35,4,35,6],[35,8,35,10],[35,11,35,13],[35,15,35,17],[35,18,35,20],[35,21,35,26],[35,27,35,32],[37,33,37,40],[38,0,38,1],[38,2,38,3],[38,4,38,6],[38,8,38,10],[38,11,38,13],[38,15,38,17],[38,18,38,20],[38,21,38,26],[38,27,38,32],[38,33,38,40],[37,0,37,1],[37,2,37,3],[37,4,37,6],[37,8,37,10],[37,11,37,13],[37,15,37,17],[37,18,37,20],[37,21,37,26],[37,27,37,32],[39,33,39,40],[40,0,40,1],[40,2,40,3],[40,4,40,6],[40,8,40,10],[40,11,40,13],[40,15,40,17],[40,18,40,20],[40,21,40,26],[40,27,40,32],[40,33,40,40],[39,0,39,1],[39,2,39,3],[39,4,39,6],[39,8,39,10],[39,11,39,13],[39,15,39,17],[39,18,39,20],[39,21,39,26],[39,27,39,32],[45,21,45,26],[45,0,45,1],[41,33,41,40],[42,0,42,1],[42,2,42,3],[42,4,42,6],[42,8,42,10],[42,11,42,13],[42,15,42,17],[42,18,42,20],[42,21,42,26],[42,27,42,32],[42,33,42,40],[41,0,41,1],[41,2,41,3],[41,4,41,6],[41,8,41,10],[41,11,41,13],[41,15,41,17],[41,18,41,20],[41,21,41,26],[41,27,41,32],[48,9,48,10],[48,11,48,12],[43,33,43,40],[44,0,44,1],[44,2,44,3],[44,4,44,6],[44,8,44,10],[44,11,44,13],[44,15,44,17],[45,33,45,40],[43,0,43,1],[43,2,43,3],[43,4,43,6],[43,8,43,10],[43,11,43,13],[43,15,43,17],[43,18,43,20],[43,21,43,26],[43,27,43,32],[44,18,44,20],[44,21,44,26],[44,27,44,32],[44,33,44,40],[45,18,45,20],[50,3,50,4],[50,5,50,6],[50,7,50,8],[50,9,50,10],[50,11,50,12],[46,18,46,20],[48,23,48,24],[48,25,48,26],[45,27,45,32],[48,19,48,20],[48,21,48,22],[48,27,48,31],[45,2,45,3],[45,4,45,6],[45,8,45,10],[45,11,45,13],[45,15,45,17],[48,13,48,14],[48,15,48,16],[48,17,48,18],[48,0,48,2],[48,3,48,4],[48,5,48,6],[48,7,48,8],[51,15,51,16],[51,17,51,18],[50,13,50,14],[50,15,50,16],[49,13,49,14],[49,15,49,16],[49,17,49,18],[49,19,49,20],[49,0,49,2],[49,3,49,4],[49,5,49,6],[49,7,49,8],[49,9,49,10],[49,11,49,12],[50,17,50,18],[50,19,50,20],[51,0,51,2],[51,3,51,4],[51,5,51,6],[51,7,51,8],[51,9,51,10],[51,11,51,12],[51,13,51,14],[50,0,50,2],[52,27,52,31],[52,32,52,34],[49,32,49,34],[51,19,51,20],[51,21,51,22],[51,23,51,24],[51,25,51,26],[51,27,51,31],[51,32,51,34],[50,32,50,34],[49,23,49,24],[50,23,50,24],[50,25,50,26],[50,27,50,31],[49,25,49,26],[49,27,49,31],[49,21,49,22],[50,21,50,22],[0,72,0,75],[1,72,1,75],[1,76,1,79],[1,80,1,83],[1,84,1,87],[1,88,1,91],[1,92,1,95],[1,97,2,99],[1,100,2,109],[1,110,2,112],[2,72,4,75],[2,76,4,79],[2,80,4,83],[2,84,4,87],[2,88,4,91],[2,92,4,95],[3,97,4,99],[3,100,4,109],[3,110,4,112],[6,72,7,76],[6,77,7,79],[6,80,7,94],[6,96,7,98],[6,99,6,100],[6,101,6,102],[6,103,6,104],[6,105,6,106],[6,107,6,108],[6,109,6,110],[6,111,6,112],[7,99,7,100],[7,101,7,102],[7,103,7,104],[7,105,7,106],[7,107,7,108],[7,109,7,110],[7,111,7,112],[9,111,10,112],[11,73,12,74],[11,75,12,79],[11,80,12,81],[11,82,12,90],[11,91,12,92],[11,93,12,94],[11,95,12,99],[11,100,12,101],[11,102,12,110],[11,111,12,112],[9,73,10,74],[9,75,10,79],[9,80,10,81],[9,82,10,90],[9,91,10,92],[9,93,10,94],[9,95,10,99],[9,100,10,101],[9,102,10,110],[14,72,14,73],[14,74,14,75],[14,76,14,82],[14,83,14,89],[14,90,14,92],[14,93,14,104],[14,105,14,112],[15,72,15,73],[15,74,15,75],[15,76,15,78],[15,80,15,82],[15,83,15,85],[15,87,15,89],[15,90,15,92],[15,93,15,98],[15,99,15,104],[15,105,15,112],[16,105,16,112],[17,72,17,73],[17,74,17,75],[17,76,17,78],[17,80,17,82],[17,83,17,85],[17,87,17,89],[17,90,17,92],[17,93,17,98],[17,99,17,104],[17,105,17,112],[16,72,16,73],[16,74,16,75],[16,76,16,78],[16,80,16,82],[16,83,16,85],[16,87,16,89],[16,90,16,92],[16,93,16,98],[16,99,16,104],[18,105,18,112],[19,72,19,73],[19,74,19,75],[19,76,19,78],[19,80,19,82],[19,83,19,85],[19,87,19,89],[19,90,19,92],[19,93,19,98],[19,99,19,104],[19,105,19,112],[18,72,18,73],[18,74,18,75],[18,76,18,78],[18,80,18,82],[18,83,18,85],[18,87,18,89],[18,90,18,92],[18,93,18,98],[18,99,18,104],[20,105,20,112],[21,72,21,73],[21,74,21,75],[21,76,21,78],[21,80,21,82],[21,83,21,85],[21,87,21,89],[21,90,21,92],[21,93,21,98],[21,99,21,104],[21,105,21,112],[20,72,20,73],[20,74,20,75],[20,76,20,78],[20,80,20,82],[20,83,20,85],[20,87,20,89],[20,90,20,92],[20,93,20,98],[20,99,20,104],[22,105,22,112],[23,72,23,73],[23,74,23,75],[23,76,23,78],[23,80,23,82],[23,83,23,85],[23,87,23,89],[23,90,23,92],[23,93,23,98],[23,99,23,104],[23,105,23,112],[22,72,22,73],[22,74,22,75],[22,76,22,78],[22,80,22,82],[22,83,22,85],[22,87,22,89],[22,90,22,92],[22,93,22,98],[22,99,22,104],[24,105,24,112],[25,72,25,73],[25,74,25,75],[25,76,25,78],[25,80,25,82],[25,83,25,85],[25,87,25,89],[25,90,25,92],[25,93,25,98],[25,99,25,104],[25,105,25,112],[24,72,24,73],[24,74,24,75],[24,76,24,78],[24,80,24,82],[24,83,24,85],[24,87,24,89],[24,90,24,92],[24,93,24,98],[24,99,24,104],[26,105,26,112],[27,72,27,73],[27,74,27,75],[27,76,27,78],[27,80,27,82],[27,83,27,85],[27,87,27,89],[27,90,27,92],[27,93,27,98],[27,99,27,104],[27,105,27,112],[26,72,26,73],[26,74,26,75],[26,76,26,78],[26,80,26,82],[26,83,26,85],[26,87,26,89],[26,90,26,92],[26,93,26,98],[26,99,26,104],[28,105,28,112],[29,72,29,73],[29,74,29,75],[29,76,29,78],[29,80,29,82],[29,83,29,85],[29,87,29,89],[29,90,29,92],[29,93,29,98],[29,99,29,104],[29,105,29,112],[28,72,28,73],[28,74,28,75],[28,76,28,78],[28,80,28,82],[28,83,28,85],[28,87,28,89],[28,90,28,92],[28,93,28,98],[28,99,28,104],[30,105,30,112],[31,72,31,73],[31,74,31,75],[31,76,31,78],[31,80,31,82],[31,83,31,85],[31,87,31,89],[31,90,31,92],[31,93,31,98],[31,99,31,104],[31,105,31,112],[30,72,30,73],[30,74,30,75],[30,76,30,78],[30,80,30,82],[30,83,30,85],[30,87,30,89],[30,90,30,92],[30,93,30,98],[30,99,30,104],[32,105,32,112],[33,72,33,73],[33,74,33,75],[33,76,33,78],[33,80,33,82],[33,83,33,85],[33,87,33,89],[33,90,33,92],[33,93,33,98],[33,99,33,104],[33,105,33,112],[32,72,32,73],[32,74,32,75],[32,76,32,78],[32,80,32,82],[32,83,32,85],[32,87,32,89],[32,90,32,92],[32,93,32,98],[32,99,32,104],[34,105,34,112],[35,72,35,73],[35,74,35,75],[35,76,35,78],[35,80,35,82],[35,83,35,85],[35,87,35,89],[35,90,35,92],[35,93,35,98],[35,99,35,104],[35,105,35,112],[34,72,34,73],[34,74,34,75],[34,76,34,78],[34,80,34,82],[34,83,34,85],[34,87,34,89],[34,90,34,92],[34,93,34,98],[34,99,34,104],[36,105,36,112],[37,72,37,73],[37,74,37,75],[37,76,37,78],[37,80,37,82],[37,83,37,85],[37,87,37,89],[37,90,37,92],[37,93,37,98],[37,99,37,104],[37,105,37,112],[36,72,36,73],[36,74,36,75],[36,76,36,78],[36,80,36,82],[36,83,36,85],[36,87,36,89],[36,90,36,92],[36,93,36,98],[36,99,36,104],[38,105,38,112],[39,72,39,73],[39,74,39,75],[39,76,39,78],[39,80,39,82],[39,83,39,85],[39,87,39,89],[39,90,39,92],[39,93,39,98],[39,99,39,104],[39,105,39,112],[38,72,38,73],[38,74,38,75],[38,76,38,78],[38,80,38,82],[38,83,38,85],[38,87,38,89],[38,90,38,92],[38,93,38,98],[38,99,38,104],[40,105,40,112],[41,72,41,73],[41,74,41,75],[41,76,41,78],[41,80,41,82],[41,83,41,85],[41,87,41,89],[41,90,41,92],[41,93,41,98],[41,99,41,104],[41,105,41,112],[40,72,40,73],[40,74,40,75],[40,76,40,78],[40,80,40,82],[40,83,40,85],[40,87,40,89],[40,90,40,92],[40,93,40,98],[40,99,40,104],[42,105,42,112],[43,72,43,73],[43,74,43,75],[43,76,43,78],[43,80,43,82],[43,83,43,85],[43,87,43,89],[43,90,43,92],[43,93,43,98],[43,99,43,104],[43,105,43,112],[42,72,42,73],[42,74,42,75],[42,76,42,78],[42,80,42,82],[42,83,42,85],[42,87,42,89],[42,90,42,92],[42,93,42,98],[42,99,42,104],[44,105,44,112],[45,72,45,73],[45,74,45,75],[45,76,45,78],[45,80,45,82],[45,83,45,85],[45,87,45,89],[45,90,45,92],[45,93,45,98],[45,99,45,104],[45,105,45,112],[44,72,44,73],[44,74,44,75],[44,76,44,78],[44,80,44,82],[44,83,44,85],[44,87,44,89],[44,90,44,92],[44,93,44,98],[44,99,44,104],[48,79,48,80],[48,81,48,82],[48,83,48,84],[48,85,48,86],[48,87,48,88],[48,89,48,90],[49,72,49,74],[49,75,49,76],[49,77,49,78],[46,104,48,108],[46,109,46,112],[47,109,48,112],[48,91,48,92],[48,93,48,94],[48,95,48,96],[48,97,48,98],[48,99,48,103],[49,91,49,92],[49,93,49,94],[49,95,49,96],[49,97,49,98],[49,99,49,103],[49,104,49,106],[50,72,50,74],[50,75,50,76],[50,77,50,78],[50,79,50,80],[50,81,50,82],[50,83,50,84],[5,0,5,22],[51,91,51,92],[51,93,51,94],[50,91,50,92],[50,93,50,94],[50,85,50,86],[50,87,50,88],[50,89,50,90],[49,79,49,80],[49,81,49,82],[49,83,49,84],[49,85,49,86],[49,87,49,88],[49,89,49,90],[46,90,46,92],[48,72,48,74],[48,75,48,76],[48,77,48,78],[51,72,51,74],[51,75,51,76],[51,77,51,78],[51,79,51,80],[51,81,51,82],[51,83,51,84],[51,85,51,86],[51,87,51,88],[51,89,51,90],[50,95,50,96],[50,97,50,98],[50,99,50,103],[50,104,50,106],[51,95,51,96],[51,97,51,98],[51,99,51,103],[51,104,51,106],[52,99,52,103],[52,104,52,106]]}
[]
[{"$f":"'4計画'!A2:D2","v":"校長"},null,null,null,{"$f":"'4計画'!E2:H2","v":"教頭"},null,null,null,{"$f":"'4計画'!I2:L2","v":"教頭"},null,null,null,{"$f":"'4計画'!M2:P2","v":"主幹教諭"},null,null,null,{"$f":"'4計画'!Q2:T2","v":0},null,null,null,{"$f":"'4計画'!U2:X2","v":"顧問"},null,null,null,null,"学校名",null,null,{"$f":"'4計画'!AC2:AL3","v":0},null,null,null,null,null,null,null,null,null,"学校",null,null,null,null,null,null,null,null,null,null,null,null,null,null,null,null,null,null,null,null,null,null,null,null,null,null,null,null,null,null,null,null,null,{"$f":"'4計画'!BU2:BX2","v":0},null,null,null,{"$f":"'4計画'!BY2:CB2","v":0},null,null,null,{"$f":"'4計画'!CC2:CF2","v":0},null,null,null,{"$f":"'4計画'!CG2:CJ2","v":0},null,null,null,{"$f":"'4計画'!CK2:CN2","v":0},null,null,null,{"$f":"'4計画'!CO2:CR2","v":0},null,null,null,null,null,null,null,{"$f":"'4計画'!CW2:DF3","v":0}]
["印",null,null,null,"印",null,null,null,"印",null,null,null,"印",null,null,null,"印",null,null,null,"印"]
[null,null,null,null,null,null,null,null,null,null,null,null,null,null,null,null,null,null,null,null,null,null,null,null,null,"部活動名",null,null,{"$f":"'4計画'!AC4:AL5","v":0},null,null,null,null,null,null,null,null,null,"部",null,null,null,null,null,null,null,null,null,null,null,null,null,null,null,null,null,null,null,null,null,null,null,null,null,null,null,null,null,null,null,null,null,null,null,null,null,null,null,null,null,null,null,null,null,null,null,null,null,null,null,null,null,null,null,null,null,null,null,null,null,{"$f":"'4計画'!CW4:DF5","v":0}]
[]
["　※活動計画と違う内容については、校長口頭命令済み"]
[4,null,null,null,null,"月",null,null,"〈月間〉部活動計画・活動実績",null,null,null,null,null,null,null,null,null,null,null,null,null,null,null,"部員数",null,null,"1女",null,"2女",null,"3女",null,"1男",null,"2男",null,"3男",null,"計"]
[null,null,null,null,null,null,null,null,null,null,null,null,null,null,null,null,null,null,null,null,null,null,null,null,null,null,null,{"$f":"'4計画'!AB8:AC8","v":0},null,{"$f":"'4計画'!AD8:AE8","v":0},null,{"$f":"'4計画'!AF8:AG8","v":0},null,{"$f":"'4計画'!AH8:AI8","v":0},null,{"$f":"'4計画'!AJ8:AK8","v":0},null,{"$f":"'4計画'!AL8:AM8","v":0},null,{"$f":"SUM(AB8:AM8)","v":0},null,null,null,null,null,null,null,null,null,null,null,null,null,null,null,null,null,null,null,null,null,null,null,null,null,null,null,null,null,null,null,null,null,null,null,null,null,null,null,null,null,null,null,null,null,null,null,null,null,null,null,null,null,null,null,null,null,null,null,{"$f":"'4計画'!AB8","v":0},null,{"$f":"'4計画'!AD8","v":0},null,{"$f":"'4計画'!AF8","v":0},null,{"$f":"'4計画'!AH8","v":0},null,{"$f":"'4計画'!AJ8","v":0},null,{"$f":"'4計画'!AL8","v":0},null,{"$f":"SUM(CV8:DG8)","v":0}]
[]
[null,"職名",null,{"$f":"'4計画'!D10:H11","v":0},null,null,null,null,"顧問",null,{"$f":"'4計画'!K10:S11","v":0},null,null,null,null,null,null,null,null,null,null,"職名",null,{"$f":"'4計画'!X10:AB11","v":0},null,null,null,null,"副２",null,{"$f":"'4計画'!AE10:AM11","v":0},null,null,null,null,null,null,null,null,null,null,null,null,null,null,false,null,null,null,null,null,null,null,null,null,null,null,null,null,null,null,null,null,null,null,null,null,null,null,null,null,null,null,null,null,{"$f":"'4計画'!D10","v":0},null,null,null,null,null,null,{"$f":"'4計画'!K10","v":0},null,null,null,null,null,null,null,null,null,null,null,null,{"$f":"'4計画'!X10","v":0},null,null,null,null,null,null,{"$f":"'4計画'!AE10","v":0}]
[]
[null,"職名",null,{"$f":"'4計画'!D12:H13","v":0},null,null,null,null,"副顧問",null,{"$f":"'4計画'!K12:S13","v":0},null,null,null,null,null,null,null,null,null,null,"職名",null,{"$f":"'4計画'!X12:AB13","v":0},null,null,null,null,"副３",null,{"$f":"'4計画'!AE12:AM13","v":0},null,null,null,null,null,null,null,null,null,null,null,null,null,null,null,null,null,null,null,null,null,null,null,null,null,null,null,null,null,null,null,null,null,null,null,null,null,null,null,null,null,null,null,null,{"$f":"'4計画'!D12","v":0},null,null,null,null,null,null,{"$f":"'4計画'!K12","v":0},null,null,null,null,null,null,null,null,null,null,null,null,{"$f":"'4計画'!X12","v":0},null,null,null,null,null,null,{"$f":"'4計画'!AE12","v":0}]
[]
[]
["日",null,"曜",null,"ＡＭ",null,null,null,null,null,null,"ＰＭ",null,null,null,null,null,null,"時間",null,null,"内容（練習・大会・OFF等）",null,null,null,null,null,null,null,null,null,null,null,"場所",null,null,null,null,null,null,null,false,"特殊業務"]
[1,null,{"$f":"'4計画'!C16:D16","v":"水"},null,{"$f":"'4計画'!E16:G16","v":"00:00:00"},null,null,"～",{"$f":"'4計画'!I16:K16","v":"00:00:00"},null,null,{"$f":"'4計画'!L16:N16","v":"00:00:00"},null,null,"～",{"$f":"'4計画'!P16:R16","v":"00:00:00"},null,null,{"$f":"(I16-E16)+(P16-L16)","v":"00:00:00"},null,null,{"$f":"'4計画'!V16:AA16","v":0},null,null,null,null,null,{"$f":"'4計画'!AB16:AG16","v":0},null,null,null,null,null,{"$f":"'4計画'!AH16:AO16","v":0},null,null,null,null,null,null,null,false,null,null,null,null,null,null,null,null,null,null,null,null,null,null,null,null,null,null,null,null,{"$f":"RIGHT(V16,2)","v":"0"},null,null,null,null,null,null,null,null,null,null,null,{"$f":"'4計画'!C16","v":"水"},null,{"$f":"'4計画'!E16","v":"00:00:00"},null,null,"～",{"$f":"'4計画'!I16","v":"00:00:00"},null,null,{"$f":"'4計画'!L16","v":"00:00:00"},null,null,"～",{"$f":"'4計画'!P16","v":"00:00:00"},null,null,{"$f":"(CC16-BY16)+(CJ16-CF16)","v":"00:00:00"},null,null,{"$f":"'4計画'!V16","v":0},null,null,null,null,null,{"$f":"'4計画'!AB16","v":0},null,null,null,null,null,{"$f":"'4計画'!AH16","v":0}]
[2,null,{"$f":"'4計画'!C17:D17","v":"木"},null,{"$f":"'4計画'!E17:G17","v":"00:00:00"},null,null,"～",{"$f":"'4計画'!I17:K17","v":"00:00:00"},null,null,{"$f":"'4計画'!L17:N17","v":"00:00:00"},null,null,"～",{"$f":"'4計画'!P17:R17","v":"00:00:00"},null,null,"00:00:00",null,null,{"$f":"'4計画'!V17:AA17","v":0},null,null,null,null,null,{"$f":"'4計画'!AB17:AG17","v":0},null,null,null,null,null,{"$f":"'4計画'!AH17:AO17","v":0},null,null,null,null,null,null,null,false,null,null,null,null,null,null,null,null,null,null,null,null,null,null,null,null,null,null,null,null,{"$f":"RIGHT(V17,2)","v":"0"},null,null,null,null,null,null,null,null,null,null,null,{"$f":"'4計画'!C17","v":"木"},null,{"$f":"'4計画'!E17","v":"00:00:00"},null,null,"～",{"$f":"'4計画'!I17","v":"00:00:00"},null,null,{"$f":"'4計画'!L17","v":"00:00:00"},null,null,"～",{"$f":"'4計画'!P17","v":"00:00:00"},null,null,"00:00:00",null,null,{"$f":"'4計画'!V17","v":0},null,null,null,null,null,{"$f":"'4計画'!AB17","v":0},null,null,null,null,null,{"$f":"'4計画'!AH17","v":0}]
[3,null,{"$f":"'4計画'!C18:D18","v":"金"},null,{"$f":"'4計画'!E18:G18","v":"00:00:00"},null,null,"～",{"$f":"'4計画'!I18:K18","v":"00:00:00"},null,null,{"$f":"'4計画'!L18:N18","v":"00:00:00"},null,null,"～",{"$f":"'4計画'!P18:R18","v":"00:00:00"},null,null,"00:00:00",null,null,{"$f":"'4計画'!V18:AA18","v":0},null,null,null,null,null,{"$f":"'4計画'!AB18:AG18","v":0},null,null,null,null,null,{"$f":"'4計画'!AH18:AO18","v":0},null,null,null,null,null,null,null,false,null,null,null,null,null,null,null,null,null,null,null,null,null,null,null,null,null,null,null,null,"0",null,null,null,null,null,null,null,null,null,null,null,{"$f":"'4計画'!C18","v":"金"},null,{"$f":"'4計画'!E18","v":"00:00:00"},null,null,"～",{"$f":"'4計画'!I18","v":"00:00:00"},null,null,{"$f":"'4計画'!L18","v":"00:00:00"},null,null,"～",{"$f":"'4計画'!P18","v":"00:00:00"},null,null,"00:00:00",null,null,{"$f":"'4計画'!V18","v":0},null,null,null,null,null,{"$f":"'4計画'!AB18","v":0},null,null,null,null,null,{"$f":"'4計画'!AH18","v":0}]
[4,null,{"$f":"'4計画'!C19:D19","v":"土"},null,{"$f":"'4計画'!E19:G19","v":"00:00:00"},null,null,"～",{"$f":"'4計画'!I19:K19","v":"00:00:00"},null,null,{"$f":"'4計画'!L19:N19","v":"00:00:00"},null,null,"～",{"$f":"'4計画'!P19:R19","v":"00:00:00"},null,null,"00:00:00",null,null,{"$f":"'4計画'!V19:AA19","v":0},null,null,null,null,null,{"$f":"'4計画'!AB19:AG19","v":0},null,null,null,null,null,{"$f":"'4計画'!AH19:AO19","v":0},null,null,null,null,null,null,null,false,null,null,null,null,null,null,null,null,null,null,null,null,null,null,null,null,null,null,null,null,"0",null,null,null,null,null,null,null,null,null,null,null,{"$f":"'4計画'!C19","v":"土"},null,{"$f":"'4計画'!E19","v":"00:00:00"},null,null,"～",{"$f":"'4計画'!I19","v":"00:00:00"},null,null,{"$f":"'4計画'!L19","v":"00:00:00"},null,null,"～",{"$f":"'4計画'!P19","v":"00:00:00"},null,null,"00:00:00",null,null,{"$f":"'4計画'!V19","v":0},null,null,null,null,null,{"$f":"'4計画'!AB19","v":0},null,null,null,null,null,{"$f":"'4計画'!AH19","v":0}]
[5,null,{"$f":"'4計画'!C20:D20","v":"日"},null,{"$f":"'4計画'!E20:G20","v":"00:00:00"},null,null,"～",{"$f":"'4計画'!I20:K20","v":"00:00:00"},null,null,{"$f":"'4計画'!L20:N20","v":"00:00:00"},null,null,"～",{"$f":"'4計画'!P20:R20","v":"00:00:00"},null,null,"00:00:00",null,null,{"$f":"'4計画'!V20:AA20","v":0},null,null,null,null,null,{"$f":"'4計画'!AB20:AG20","v":0},null,null,null,null,null,{"$f":"'4計画'!AH20:AO20","v":0},null,null,null,null,null,null,null,false,null,null,null,null,null,null,null,null,null,null,null,null,null,null,null,null,null,null,null,null,"0",null,null,null,null,null,null,null,null,null,null,null,{"$f":"'4計画'!C20","v":"日"},null,{"$f":"'4計画'!E20","v":"00:00:00"},null,null,"～",{"$f":"'4計画'!I20","v":"00:00:00"},null,null,{"$f":"'4計画'!L20","v":"00:00:00"},null,null,"～",{"$f":"'4計画'!P20","v":"00:00:00"},null,null,"00:00:00",null,null,{"$f":"'4計画'!V20","v":0},null,null,null,null,null,{"$f":"'4計画'!AB20","v":0},null,null,null,null,null,{"$f":"'4計画'!AH20","v":0}]
[6,null,{"$f":"'4計画'!C21:D21","v":"月"},null,{"$f":"'4計画'!E21:G21","v":"00:00:00"},null,null,"～",{"$f":"'4計画'!I21:K21","v":"00:00:00"},null,null,{"$f":"'4計画'!L21:N21","v":"00:00:00"},null,null,"～",{"$f":"'4計画'!P21:R21","v":"00:00:00"},null,null,"00:00:00",null,null,{"$f":"'4計画'!V21:AA21","v":0},null,null,null,null,null,{"$f":"'4計画'!AB21:AG21","v":0},null,null,null,null,null,{"$f":"'4計画'!AH21:AO21","v":0},null,null,null,null,null,null,null,false,null,null,null,null,null,null,null,null,null,null,null,null,null,null,null,null,null,null,null,null,"0",null,null,null,null,null,null,null,null,null,null,null,{"$f":"'4計画'!C21","v":"月"},null,{"$f":"'4計画'!E21","v":"00:00:00"},null,null,"～",{"$f":"'4計画'!I21","v":"00:00:00"},null,null,{"$f":"'4計画'!L21","v":"00:00:00"},null,null,"～",{"$f":"'4計画'!P21","v":"00:00:00"},null,null,"00:00:00",null,null,{"$f":"'4計画'!V21","v":0},null,null,null,null,null,{"$f":"'4計画'!AB21","v":0},null,null,null,null,null,{"$f":"'4計画'!AH21","v":0}]
[7,null,{"$f":"'4計画'!C22:D22","v":"火"},null,{"$f":"'4計画'!E22:G22","v":"00:00:00"},null,null,"～",{"$f":"'4計画'!I22:K22","v":"00:00:00"},null,null,{"$f":"'4計画'!L22:N22","v":"00:00:00"},null,null,"～",{"$f":"'4計画'!P22:R22","v":"00:00:00"},null,null,"00:00:00",null,null,{"$f":"'4計画'!V22:AA22","v":0},null,null,null,null,null,{"$f":"'4計画'!AB22:AG22","v":0},null,null,null,null,null,{"$f":"'4計画'!AH22:AO22","v":0},null,null,null,null,null,null,null,false,null,null,null,null,null,null,null,null,null,null,null,null,null,null,null,null,null,null,null,null,"0",null,null,null,null,null,null,null,null,null,null,null,{"$f":"'4計画'!C22","v":"火"},null,{"$f":"'4計画'!E22","v":"00:00:00"},null,null,"～",{"$f":"'4計画'!I22","v":"00:00:00"},null,null,{"$f":"'4計画'!L22","v":"00:00:00"},null,null,"～",{"$f":"'4計画'!P22","v":"00:00:00"},null,null,"00:00:00",null,null,{"$f":"'4計画'!V22","v":0},null,null,null,null,null,{"$f":"'4計画'!AB22","v":0},null,null,null,null,null,{"$f":"'4計画'!AH22","v":0}]
[8,null,{"$f":"'4計画'!C23:D23","v":"水"},null,{"$f":"'4計画'!E23:G23","v":"00:00:00"},null,null,"～",{"$f":"'4計画'!I23:K23","v":"00:00:00"},null,null,{"$f":"'4計画'!L23:N23","v":"00:00:00"},null,null,"～",{"$f":"'4計画'!P23:R23","v":"00:00:00"},null,null,"00:00:00",null,null,{"$f":"'4計画'!V23:AA23","v":0},null,null,null,null,null,{"$f":"'4計画'!AB23:AG23","v":0},null,null,null,null,null,{"$f":"'4計画'!AH23:AO23","v":0},null,null,null,null,null,null,null,false,null,null,null,null,null,null,null,null,null,null,null,null,null,null,null,null,null,null,null,null,"0",null,null,null,null,null,null,null,null,null,null,null,{"$f":"'4計画'!C23","v":"水"},null,{"$f":"'4計画'!E23","v":"00:00:00"},null,null,"～",{"$f":"'4計画'!I23","v":"00:00:00"},null,null,{"$f":"'4計画'!L23","v":"00:00:00"},null,null,"～",{"$f":"'4計画'!P23","v":"00:00:00"},null,null,"00:00:00",null,null,{"$f":"'4計画'!V23","v":0},null,null,null,null,null,{"$f":"'4計画'!AB23","v":0},null,null,null,null,null,{"$f":"'4計画'!AH23","v":0}]
[9,null,{"$f":"'4計画'!C24:D24","v":"木"},null,{"$f":"'4計画'!E24:G24","v":"00:00:00"},null,null,"～",{"$f":"'4計画'!I24:K24","v":"00:00:00"},null,null,{"$f":"'4計画'!L24:N24","v":"00:00:00"},null,null,"～",{"$f":"'4計画'!P24:R24","v":"00:00:00"},null,null,"00:00:00",null,null,{"$f":"'4計画'!V24:AA24","v":0},null,null,null,null,null,{"$f":"'4計画'!AB24:AG24","v":0},null,null,null,null,null,{"$f":"'4計画'!AH24:AO24","v":0},null,null,null,null,null,null,null,false,null,null,null,null,null,null,null,null,null,null,null,null,null,null,null,null,null,null,null,null,"0",null,null,null,null,null,null,null,null,null,null,null,{"$f":"'4計画'!C24","v":"木"},null,{"$f":"'4計画'!E24","v":"00:00:00"},null,null,"～",{"$f":"'4計画'!I24","v":"00:00:00"},null,null,{"$f":"'4計画'!L24","v":"00:00:00"},null,null,"～",{"$f":"'4計画'!P24","v":"00:00:00"},null,null,"00:00:00",null,null,{"$f":"'4計画'!V24","v":0},null,null,null,null,null,{"$f":"'4計画'!AB24","v":0},null,null,null,null,null,{"$f":"'4計画'!AH24","v":0}]
[10,null,{"$f":"'4計画'!C25:D25","v":"金"},null,{"$f":"'4計画'!E25:G25","v":"00:00:00"},null,null,"～",{"$f":"'4計画'!I25:K25","v":"00:00:00"},null,null,{"$f":"'4計画'!L25:N25","v":"00:00:00"},null,null,"～",{"$f":"'4計画'!P25:R25","v":"00:00:00"},null,null,"00:00:00",null,null,{"$f":"'4計画'!V25:AA25","v":0},null,null,null,null,null,{"$f":"'4計画'!AB25:AG25","v":0},null,null,null,null,null,{"$f":"'4計画'!AH25:AO25","v":0},null,null,null,null,null,null,null,false,null,null,null,null,null,null,null,null,null,null,null,null,null,null,null,null,null,null,null,null,"0",null,null,null,null,null,null,null,null,null,null,null,{"$f":"'4計画'!C25","v":"金"},null,{"$f":"'4計画'!E25","v":"00:00:00"},null,null,"～",{"$f":"'4計画'!I25","v":"00:00:00"},null,null,{"$f":"'4計画'!L25","v":"00:00:00"},null,null,"～",{"$f":"'4計画'!P25","v":"00:00:00"},null,null,"00:00:00",null,null,{"$f":"'4計画'!V25","v":0},null,null,null,null,null,{"$f":"'4計画'!AB25","v":0},null,null,null,null,null,{"$f":"'4計画'!AH25","v":0}]
[11,null,{"$f":"'4計画'!C26:D26","v":"土"},null,{"$f":"'4計画'!E26:G26","v":"00:00:00"},null,null,"～",{"$f":"'4計画'!I26:K26","v":"00:00:00"},null,null,{"$f":"'4計画'!L26:N26","v":"00:00:00"},null,null,"～",{"$f":"'4計画'!P26:R26","v":"00:00:00"},null,null,"00:00:00",null,null,{"$f":"'4計画'!V26:AA26","v":0},null,null,null,null,null,{"$f":"'4計画'!AB26:AG26","v":0},null,null,null,null,null,{"$f":"'4計画'!AH26:AO26","v":0},null,null,null,null,null,null,null,false,null,null,null,null,null,null,null,null,null,null,null,null,null,null,null,null,null,null,null,null,"0",null,null,null,null,null,null,null,null,null,null,null,{"$f":"'4計画'!C26","v":"土"},null,{"$f":"'4計画'!E26","v":"00:00:00"},null,null,"～",{"$f":"'4計画'!I26","v":"00:00:00"},null,null,{"$f":"'4計画'!L26","v":"00:00:00"},null,null,"～",{"$f":"'4計画'!P26","v":"00:00:00"},null,null,"00:00:00",null,null,{"$f":"'4計画'!V26","v":0},null,null,null,null,null,{"$f":"'4計画'!AB26","v":0},null,null,null,null,null,{"$f":"'4計画'!AH26","v":0}]
[12,null,{"$f":"'4計画'!C27:D27","v":"日"},null,{"$f":"'4計画'!E27:G27","v":"00:00:00"},null,null,"～",{"$f":"'4計画'!I27:K27","v":"00:00:00"},null,null,{"$f":"'4計画'!L27:N27","v":"00:00:00"},null,null,"～",{"$f":"'4計画'!P27:R27","v":"00:00:00"},null,null,"00:00:00",null,null,{"$f":"'4計画'!V27:AA27","v":0},null,null,null,null,null,{"$f":"'4計画'!AB27:AG27","v":0},null,null,null,null,null,{"$f":"'4計画'!AH27:AO27","v":0},null,null,null,null,null,null,null,false,null,null,null,null,null,null,null,null,null,null,null,null,null,null,null,null,null,null,null,null,"0",null,null,null,null,null,null,null,null,null,null,null,{"$f":"'4計画'!C27","v":"日"},null,{"$f":"'4計画'!E27","v":"00:00:00"},null,null,"～",{"$f":"'4計画'!I27","v":"00:00:00"},null,null,{"$f":"'4計画'!L27","v":"00:00:00"},null,null,"～",{"$f":"'4計画'!P27","v":"00:00:00"},null,null,"00:00:00",null,null,{"$f":"'4計画'!V27","v":0},null,null,null,null,null,{"$f":"'4計画'!AB27","v":0},null,null,null,null,null,{"$f":"'4計画'!AH27","v":0}]
[13,null,{"$f":"'4計画'!C28:D28","v":"月"},null,{"$f":"'4計画'!E28:G28","v":"00:00:00"},null,null,"～",{"$f":"'4計画'!I28:K28","v":"00:00:00"},null,null,{"$f":"'4計画'!L28:N28","v":"00:00:00"},null,null,"～",{"$f":"'4計画'!P28:R28","v":"00:00:00"},null,null,"00:00:00",null,null,{"$f":"'4計画'!V28:AA28","v":0},null,null,null,null,null,{"$f":"'4計画'!AB28:AG28","v":0},null,null,null,null,null,{"$f":"'4計画'!AH28:AO28","v":0},null,null,null,null,null,null,null,false,null,null,null,null,null,null,null,null,null,null,null,null,null,null,null,null,null,null,null,null,"0",null,null,null,null,null,null,null,null,null,null,null,{"$f":"'4計画'!C28","v":"月"},null,{"$f":"'4計画'!E28","v":"00:00:00"},null,null,"～",{"$f":"'4計画'!I28","v":"00:00:00"},null,null,{"$f":"'4計画'!L28","v":"00:00:00"},null,null,"～",{"$f":"'4計画'!P28","v":"00:00:00"},null,null,"00:00:00",null,null,{"$f":"'4計画'!V28","v":0},null,null,null,null,null,{"$f":"'4計画'!AB28","v":0},null,null,null,null,null,{"$f":"'4計画'!AH28","v":0}]
[14,null,{"$f":"'4計画'!C29:D29","v":"火"},null,{"$f":"'4計画'!E29:G29","v":"00:00:00"},null,null,"～",{"$f":"'4計画'!I29:K29","v":"00:00:00"},null,null,{"$f":"'4計画'!L29:N29","v":"00:00:00"},null,null,"～",{"$f":"'4計画'!P29:R29","v":"00:00:00"},null,null,"00:00:00",null,null,{"$f":"'4計画'!V29:AA29","v":0},null,null,null,null,null,{"$f":"'4計画'!AB29:AG29","v":0},null,null,null,null,null,{"$f":"'4計画'!AH29:AO29","v":0},null,null,null,null,null,null,null,false,null,null,null,null,null,null,null,null,null,null,null,null,null,null,null,null,null,null,null,null,"0",null,null,null,null,null,null,null,null,null,null,null,{"$f":"'4計画'!C29","v":"火"},null,{"$f":"'4計画'!E29","v":"00:00:00"},null,null,"～",{"$f":"'4計画'!I29","v":"00:00:00"},null,null,{"$f":"'4計画'!L29","v":"00:00:00"},null,null,"～",{"$f":"'4計画'!P29","v":"00:00:00"},null,null,"00:00:00",null,null,{"$f":"'4計画'!V29","v":0},null,null,null,null,null,{"$f":"'4計画'!AB29","v":0},null,null,null,null,null,{"$f":"'4計画'!AH29","v":0}]
[15,null,{"$f":"'4計画'!C30:D30","v":"水"},null,{"$f":"'4計画'!E30:G30","v":"00:00:00"},null,null,"～",{"$f":"'4計画'!I30:K30","v":"00:00:00"},null,null,{"$f":"'4計画'!L30:N30","v":"00:00:00"},null,null,"～",{"$f":"'4計画'!P30:R30","v":"00:00:00"},null,null,"00:00:00",null,null,{"$f":"'4計画'!V30:AA30","v":0},null,null,null,null,null,{"$f":"'4計画'!AB30:AG30","v":0},null,null,null,null,null,{"$f":"'4計画'!AH30:AO30","v":0},null,null,null,null,null,null,null,false,null,null,null,null,null,null,null,null,null,null,null,null,null,null,null,null,null,null,null,null,"0",null,null,null,null,null,null,null,null,null,null,null,{"$f":"'4計画'!C30","v":"水"},null,{"$f":"'4計画'!E30","v":"00:00:00"},null,null,"～",{"$f":"'4計画'!I30","v":"00:00:00"},null,null,{"$f":"'4計画'!L30","v":"00:00:00"},null,null,"～",{"$f":"'4計画'!P30","v":"00:00:00"},null,null,"00:00:00",null,null,{"$f":"'4計画'!V30","v":0},null,null,null,null,null,{"$f":"'4計画'!AB30","v":0},null,null,null,null,null,{"$f":"'4計画'!AH30","v":0}]
[16,null,{"$f":"'4計画'!C31:D31","v":"木"},null,{"$f":"'4計画'!E31:G31","v":"00:00:00"},null,null,"～",{"$f":"'4計画'!I31:K31","v":"00:00:00"},null,null,{"$f":"'4計画'!L31:N31","v":"00:00:00"},null,null,"～",{"$f":"'4計画'!P31:R31","v":"00:00:00"},null,null,"00:00:00",null,null,{"$f":"'4計画'!V31:AA31","v":0},null,null,null,null,null,{"$f":"'4計画'!AB31:AG31","v":0},null,null,null,null,null,{"$f":"'4計画'!AH31:AO31","v":0},null,null,null,null,null,null,null,false,null,null,null,null,null,null,null,null,null,null,null,null,null,null,null,null,null,null,null,null,"0",null,null,null,null,null,null,null,null,null,null,null,{"$f":"'4計画'!C31","v":"木"},null,{"$f":"'4計画'!E31","v":"00:00:00"},null,null,"～",{"$f":"'4計画'!I31","v":"00:00:00"},null,null,{"$f":"'4計画'!L31","v":"00:00:00"},null,null,"～",{"$f":"'4計画'!P31","v":"00:00:00"},null,null,"00:00:00",null,null,{"$f":"'4計画'!V31","v":0},null,null,null,null,null,{"$f":"'4計画'!AB31","v":0},null,null,null,null,null,{"$f":"'4計画'!AH31","v":0}]
[17,null,{"$f":"'4計画'!C32:D32","v":"金"},null,{"$f":"'4計画'!E32:G32","v":"00:00:00"},null,null,"～",{"$f":"'4計画'!I32:K32","v":"00:00:00"},null,null,{"$f":"'4計画'!L32:N32","v":"00:00:00"},null,null,"～",{"$f":"'4計画'!P32:R32","v":"00:00:00"},null,null,"00:00:00",null,null,{"$f":"'4計画'!V32:AA32","v":0},null,null,null,null,null,{"$f":"'4計画'!AB32:AG32","v":0},null,null,null,null,null,{"$f":"'4計画'!AH32:AO32","v":0},null,null,null,null,null,null,null,false,null,null,null,null,null,null,null,null,null,null,null,null,null,null,null,null,null,null,null,null,"0",null,null,null,null,null,null,null,null,null,null,null,{"$f":"'4計画'!C32","v":"金"},null,{"$f":"'4計画'!E32","v":"00:00:00"},null,null,"～",{"$f":"'4計画'!I32","v":"00:00:00"},null,null,{"$f":"'4計画'!L32","v":"00:00:00"},null,null,"～",{"$f":"'4計画'!P32","v":"00:00:00"},null,null,"00:00:00",null,null,{"$f":"'4計画'!V32","v":0},null,null,null,null,null,{"$f":"'4計画'!AB32","v":0},null,null,null,null,null,{"$f":"'4計画'!AH32","v":0}]
[18,null,{"$f":"'4計画'!C33:D33","v":"土"},null,{"$f":"'4計画'!E33:G33","v":"00:00:00"},null,null,"～",{"$f":"'4計画'!I33:K33","v":"00:00:00"},null,null,{"$f":"'4計画'!L33:N33","v":"00:00:00"},null,null,"～",{"$f":"'4計画'!P33:R33","v":"00:00:00"},null,null,"00:00:00",null,null,{"$f":"'4計画'!V33:AA33","v":0},null,null,null,null,null,{"$f":"'4計画'!AB33:AG33","v":0},null,null,null,null,null,{"$f":"'4計画'!AH33:AO33","v":0},null,null,null,null,null,null,null,false,null,null,null,null,null,null,null,null,null,null,null,null,null,null,null,null,null,null,null,null,"0",null,null,null,null,null,null,null,null,null,null,null,{"$f":"'4計画'!C33","v":"土"},null,{"$f":"'4計画'!E33","v":"00:00:00"},null,null,"～",{"$f":"'4計画'!I33","v":"00:00:00"},null,null,{"$f":"'4計画'!L33","v":"00:00:00"},null,null,"～",{"$f":"'4計画'!P33","v":"00:00:00"},null,null,"00:00:00",null,null,{"$f":"'4計画'!V33","v":0},null,null,null,null,null,{"$f":"'4計画'!AB33","v":0},null,null,null,null,null,{"$f":"'4計画'!AH33","v":0}]
[19,null,{"$f":"'4計画'!C34:D34","v":"日"},null,{"$f":"'4計画'!E34:G34","v":"00:00:00"},null,null,"～",{"$f":"'4計画'!I34:K34","v":"00:00:00"},null,null,{"$f":"'4計画'!L34:N34","v":"00:00:00"},null,null,"～",{"$f":"'4計画'!P34:R34","v":"00:00:00"},null,null,"00:00:00",null,null,{"$f":"'4計画'!V34:AA34","v":0},null,null,null,null,null,{"$f":"'4計画'!AB34:AG34","v":0},null,null,null,null,null,{"$f":"'4計画'!AH34:AO34","v":0},null,null,null,null,null,null,null,false,null,null,null,null,null,null,null,null,null,null,null,null,null,null,null,null,null,null,null,null,"0",null,null,null,null,null,null,null,null,null,null,null,{"$f":"'4計画'!C34","v":"日"},null,{"$f":"'4計画'!E34","v":"00:00:00"},null,null,"～",{"$f":"'4計画'!I34","v":"00:00:00"},null,null,{"$f":"'4計画'!L34","v":"00:00:00"},null,null,"～",{"$f":"'4計画'!P34","v":"00:00:00"},null,null,"00:00:00",null,null,{"$f":"'4計画'!V34","v":0},null,null,null,null,null,{"$f":"'4計画'!AB34","v":0},null,null,null,null,null,{"$f":"'4計画'!AH34","v":0}]
[20,null,{"$f":"'4計画'!C35:D35","v":"月"},null,{"$f":"'4計画'!E35:G35","v":"00:00:00"},null,null,"～",{"$f":"'4計画'!I35:K35","v":"00:00:00"},null,null,{"$f":"'4計画'!L35:N35","v":"00:00:00"},null,null,"～",{"$f":"'4計画'!P35:R35","v":"00:00:00"},null,null,"00:00:00",null,null,{"$f":"'4計画'!V35:AA35","v":0},null,null,null,null,null,{"$f":"'4計画'!AB35:AG35","v":0},null,null,null,null,null,{"$f":"'4計画'!AH35:AO35","v":0},null,null,null,null,null,null,null,false,null,null,null,null,null,null,null,null,null,null,null,null,null,null,null,null,null,null,null,null,"0",null,null,null,null,null,null,null,null,null,null,null,{"$f":"'4計画'!C35","v":"月"},null,{"$f":"'4計画'!E35","v":"00:00:00"},null,null,"～",{"$f":"'4計画'!I35","v":"00:00:00"},null,null,{"$f":"'4計画'!L35","v":"00:00:00"},null,null,"～",{"$f":"'4計画'!P35","v":"00:00:00"},null,null,"00:00:00",null,null,{"$f":"'4計画'!V35","v":0},null,null,null,null,null,{"$f":"'4計画'!AB35","v":0},null,null,null,null,null,{"$f":"'4計画'!AH35","v":0}]
[21,null,{"$f":"'4計画'!C36:D36","v":"火"},null,{"$f":"'4計画'!E36:G36","v":"00:00:00"},null,null,"～",{"$f":"'4計画'!I36:K36","v":"00:00:00"},null,null,{"$f":"'4計画'!L36:N36","v":"00:00:00"},null,null,"～",{"$f":"'4計画'!P36:R36","v":"00:00:00"},null,null,"00:00:00",null,null,{"$f":"'4計画'!V36:AA36","v":0},null,null,null,null,null,{"$f":"'4計画'!AB36:AG36","v":0},null,null,null,null,null,{"$f":"'4計画'!AH36:AO36","v":0},null,null,null,null,null,null,null,false,null,null,null,null,null,null,null,null,null,null,null,null,null,null,null,null,null,null,null,null,"0",null,null,null,null,null,null,null,null,null,null,null,{"$f":"'4計画'!C36","v":"火"},null,{"$f":"'4計画'!E36","v":"00:00:00"},null,null,"～",{"$f":"'4計画'!I36","v":"00:00:00"},null,null,{"$f":"'4計画'!L36","v":"00:00:00"},null,null,"～",{"$f":"'4計画'!P36","v":"00:00:00"},null,null,"00:00:00",null,null,{"$f":"'4計画'!V36","v":0},null,null,null,null,null,{"$f":"'4計画'!AB36","v":0},null,null,null,null,null,{"$f":"'4計画'!AH36","v":0}]
[22,null,{"$f":"'4計画'!C37:D37","v":"水"},null,{"$f":"'4計画'!E37:G37","v":"00:00:00"},null,null,"～",{"$f":"'4計画'!I37:K37","v":"00:00:00"},null,null,{"$f":"'4計画'!L37:N37","v":"00:00:00"},null,null,"～",{"$f":"'4計画'!P37:R37","v":"00:00:00"},null,null,"00:00:00",null,null,{"$f":"'4計画'!V37:AA37","v":0},null,null,null,null,null,{"$f":"'4計画'!AB37:AG37","v":0},null,null,null,null,null,{"$f":"'4計画'!AH37:AO37","v":0},null,null,null,null,null,null,null,false,null,null,null,null,null,null,null,null,null,null,null,null,null,null,null,null,null,null,null,null,"0",null,null,null,null,null,null,null,null,null,null,null,{"$f":"'4計画'!C37","v":"水"},null,{"$f":"'4計画'!E37","v":"00:00:00"},null,null,"～",{"$f":"'4計画'!I37","v":"00:00:00"},null,null,{"$f":"'4計画'!L37","v":"00:00:00"},null,null,"～",{"$f":"'4計画'!P37","v":"00:00:00"},null,null,"00:00:00",null,null,{"$f":"'4計画'!V37","v":0},null,null,null,null,null,{"$f":"'4計画'!AB37","v":0},null,null,null,null,null,{"$f":"'4計画'!AH37","v":0}]
[23,null,{"$f":"'4計画'!C38:D38","v":"木"},null,{"$f":"'4計画'!E38:G38","v":"00:00:00"},null,null,"～",{"$f":"'4計画'!I38:K38","v":"00:00:00"},null,null,{"$f":"'4計画'!L38:N38","v":"00:00:00"},null,null,"～",{"$f":"'4計画'!P38:R38","v":"00:00:00"},null,null,"00:00:00",null,null,{"$f":"'4計画'!V38:AA38","v":0},null,null,null,null,null,{"$f":"'4計画'!AB38:AG38","v":0},null,null,null,null,null,{"$f":"'4計画'!AH38:AO38","v":0},null,null,null,null,null,null,null,false,null,null,null,null,null,null,null,null,null,null,null,null,null,null,null,null,null,null,null,null,"0",null,null,null,null,null,null,null,null,null,null,null,{"$f":"'4計画'!C38","v":"木"},null,{"$f":"'4計画'!E38","v":"00:00:00"},null,null,"～",{"$f":"'4計画'!I38","v":"00:00:00"},null,null,{"$f":"'4計画'!L38","v":"00:00:00"},null,null,"～",{"$f":"'4計画'!P38","v":"00:00:00"},null,null,"00:00:00",null,null,{"$f":"'4計画'!V38","v":0},null,null,null,null,null,{"$f":"'4計画'!AB38","v":0},null,null,null,null,null,{"$f":"'4計画'!AH38","v":0}]
[24,null,{"$f":"'4計画'!C39:D39","v":"金"},null,{"$f":"'4計画'!E39:G39","v":"00:00:00"},null,null,"～",{"$f":"'4計画'!I39:K39","v":"00:00:00"},null,null,{"$f":"'4計画'!L39:N39","v":"00:00:00"},null,null,"～",{"$f":"'4計画'!P39:R39","v":"00:00:00"},null,null,"00:00:00",null,null,{"$f":"'4計画'!V39:AA39","v":0},null,null,null,null,null,{"$f":"'4計画'!AB39:AG39","v":0},null,null,null,null,null,{"$f":"'4計画'!AH39:AO39","v":0},null,null,null,null,null,null,null,false,null,null,null,null,null,null,null,null,null,null,null,null,null,null,null,null,null,null,null,null,"0",null,null,null,null,null,null,null,null,null,null,null,{"$f":"'4計画'!C39","v":"金"},null,{"$f":"'4計画'!E39","v":"00:00:00"},null,null,"～",{"$f":"'4計画'!I39","v":"00:00:00"},null,null,{"$f":"'4計画'!L39","v":"00:00:00"},null,null,"～",{"$f":"'4計画'!P39","v":"00:00:00"},null,null,"00:00:00",null,null,{"$f":"'4計画'!V39","v":0},null,null,null,null,null,{"$f":"'4計画'!AB39","v":0},null,null,null,null,null,{"$f":"'4計画'!AH39","v":0}]
[25,null,{"$f":"'4計画'!C40:D40","v":"土"},null,{"$f":"'4計画'!E40:G40","v":"00:00:00"},null,null,"～",{"$f":"'4計画'!I40:K40","v":"00:00:00"},null,null,{"$f":"'4計画'!L40:N40","v":"00:00:00"},null,null,"～",{"$f":"'4計画'!P40:R40","v":"00:00:00"},null,null,"00:00:00",null,null,{"$f":"'4計画'!V40:AA40","v":0},null,null,null,null,null,{"$f":"'4計画'!AB40:AG40","v":0},null,null,null,null,null,{"$f":"'4計画'!AH40:AO40","v":0},null,null,null,null,null,null,null,false,null,null,null,null,null,null,null,null,null,null,null,null,null,null,null,null,null,null,null,null,"0",null,null,null,null,null,null,null,null,null,null,null,{"$f":"'4計画'!C40","v":"土"},null,{"$f":"'4計画'!E40","v":"00:00:00"},null,null,"～",{"$f":"'4計画'!I40","v":"00:00:00"},null,null,{"$f":"'4計画'!L40","v":"00:00:00"},null,null,"～",{"$f":"'4計画'!P40","v":"00:00:00"},null,null,"00:00:00",null,null,{"$f":"'4計画'!V40","v":0},null,null,null,null,null,{"$f":"'4計画'!AB40","v":0},null,null,null,null,null,{"$f":"'4計画'!AH40","v":0}]
[26,null,{"$f":"'4計画'!C41:D41","v":"日"},null,{"$f":"'4計画'!E41:G41","v":"00:00:00"},null,null,"～",{"$f":"'4計画'!I41:K41","v":"00:00:00"},null,null,{"$f":"'4計画'!L41:N41","v":"00:00:00"},null,null,"～",{"$f":"'4計画'!P41:R41","v":"00:00:00"},null,null,"00:00:00",null,null,{"$f":"'4計画'!V41:AA41","v":0},null,null,null,null,null,{"$f":"'4計画'!AB41:AG41","v":0},null,null,null,null,null,{"$f":"'4計画'!AH41:AO41","v":0},null,null,null,null,null,null,null,false,null,null,null,null,null,null,null,null,null,null,null,null,null,null,null,null,null,null,null,null,"0",null,null,null,null,null,null,null,null,null,null,null,{"$f":"'4計画'!C41","v":"日"},null,{"$f":"'4計画'!E41","v":"00:00:00"},null,null,"～",{"$f":"'4計画'!I41","v":"00:00:00"},null,null,{"$f":"'4計画'!L41","v":"00:00:00"},null,null,"～",{"$f":"'4計画'!P41","v":"00:00:00"},null,null,"00:00:00",null,null,{"$f":"'4計画'!V41","v":0},null,null,null,null,null,{"$f":"'4計画'!AB41","v":0},null,null,null,null,null,{"$f":"'4計画'!AH41","v":0}]
[27,null,{"$f":"'4計画'!C42:D42","v":"月"},null,{"$f":"'4計画'!E42:G42","v":"00:00:00"},null,null,"～",{"$f":"'4計画'!I42:K42","v":"00:00:00"},null,null,{"$f":"'4計画'!L42:N42","v":"00:00:00"},null,null,"～",{"$f":"'4計画'!P42:R42","v":"00:00:00"},null,null,"00:00:00",null,null,{"$f":"'4計画'!V42:AA42","v":0},null,null,null,null,null,{"$f":"'4計画'!AB42:AG42","v":0},null,null,null,null,null,{"$f":"'4計画'!AH42:AO42","v":0},null,null,null,null,null,null,null,false,null,null,null,null,null,null,null,null,null,null,null,null,null,null,null,null,null,null,null,null,"0",null,null,null,null,null,null,null,null,null,null,null,{"$f":"'4計画'!C42","v":"月"},null,{"$f":"'4計画'!E42","v":"00:00:00"},null,null,"～",{"$f":"'4計画'!I42","v":"00:00:00"},null,null,{"$f":"'4計画'!L42","v":"00:00:00"},null,null,"～",{"$f":"'4計画'!P42","v":"00:00:00"},null,null,"00:00:00",null,null,{"$f":"'4計画'!V42","v":0},null,null,null,null,null,{"$f":"'4計画'!AB42","v":0},null,null,null,null,null,{"$f":"'4計画'!AH42","v":0}]
[28,null,{"$f":"'4計画'!C43:D43","v":"火"},null,{"$f":"'4計画'!E43:G43","v":"00:00:00"},null,null,"～",{"$f":"'4計画'!I43:K43","v":"00:00:00"},null,null,{"$f":"'4計画'!L43:N43","v":"00:00:00"},null,null,"～",{"$f":"'4計画'!P43:R43","v":"00:00:00"},null,null,"00:00:00",null,null,{"$f":"'4計画'!V43:AA43","v":0},null,null,null,null,null,{"$f":"'4計画'!AB43:AG43","v":0},null,null,null,null,null,{"$f":"'4計画'!AH43:AO43","v":0},null,null,null,null,null,null,null,false,null,null,null,null,null,null,null,null,null,null,null,null,null,null,null,null,null,null,null,null,"0",null,null,null,null,null,null,null,null,null,null,null,{"$f":"'4計画'!C43","v":"火"},null,{"$f":"'4計画'!E43","v":"00:00:00"},null,null,"～",{"$f":"'4計画'!I43","v":"00:00:00"},null,null,{"$f":"'4計画'!L43","v":"00:00:00"},null,null,"～",{"$f":"'4計画'!P43","v":"00:00:00"},null,null,"00:00:00",null,null,{"$f":"'4計画'!V43","v":0},null,null,null,null,null,{"$f":"'4計画'!AB43","v":0},null,null,null,null,null,{"$f":"'4計画'!AH43","v":0}]
[29,null,{"$f":"'4計画'!C44:D44","v":"水"},null,{"$f":"'4計画'!E44:G44","v":"00:00:00"},null,null,"～",{"$f":"'4計画'!I44:K44","v":"00:00:00"},null,null,{"$f":"'4計画'!L44:N44","v":"00:00:00"},null,null,"～",{"$f":"'4計画'!P44:R44","v":"00:00:00"},null,null,"00:00:00",null,null,{"$f":"'4計画'!V44:AA44","v":0},null,null,null,null,null,{"$f":"'4計画'!AB44:AG44","v":0},null,null,null,null,null,{"$f":"'4計画'!AH44:AO44","v":0},null,null,null,null,null,null,null,false,null,null,null,null,null,null,null,null,null,null,null,null,null,null,null,null,null,null,null,null,"0",null,null,null,null,null,null,null,null,null,null,null,{"$f":"'4計画'!C44","v":"水"},null,{"$f":"'4計画'!E44","v":"00:00:00"},null,null,"～",{"$f":"'4計画'!I44","v":"00:00:00"},null,null,{"$f":"'4計画'!L44","v":"00:00:00"},null,null,"～",{"$f":"'4計画'!P44","v":"00:00:00"},null,null,"00:00:00",null,null,{"$f":"'4計画'!V44","v":0},null,null,null,null,null,{"$f":"'4計画'!AB44","v":0},null,null,null,null,null,{"$f":"'4計画'!AH44","v":0}]
[30,null,{"$f":"'4計画'!C45:D45","v":"木"},null,{"$f":"'4計画'!E45:G45","v":"00:00:00"},null,null,"～",{"$f":"'4計画'!I45:K45","v":"00:00:00"},null,null,{"$f":"'4計画'!L45:N45","v":"00:00:00"},null,null,"～",{"$f":"'4計画'!P45:R45","v":"00:00:00"},null,null,"00:00:00",null,null,{"$f":"'4計画'!V45:AA45","v":0},null,null,null,null,null,{"$f":"'4計画'!AB45:AG45","v":0},null,null,null,null,null,{"$f":"'4計画'!AH45:AO45","v":0},null,null,null,null,null,null,null,false,null,null,null,null,null,null,null,null,null,null,null,null,null,null,null,null,null,null,null,null,"0",null,null,null,null,null,null,null,null,null,null,null,{"$f":"'4計画'!C45","v":"木"},null,{"$f":"'4計画'!E45","v":"00:00:00"},null,null,"～",{"$f":"'4計画'!I45","v":"00:00:00"},null,null,{"$f":"'4計画'!L45","v":"00:00:00"},null,null,"～",{"$f":"'4計画'!P45","v":"00:00:00"},null,null,"00:00:00",null,null,{"$f":"'4計画'!V45","v":0},null,null,null,null,null,{"$f":"'4計画'!AB45","v":0},null,null,null,null,null,{"$f":"'4計画'!AH45","v":0}]
[null,null,{"$f":"'4計画'!C46:D46","v":""},null,{"$f":"'4計画'!E46:G46","v":"00:00:00"},null,null,"～",{"$f":"'4計画'!I46:K46","v":"00:00:00"},null,null,{"$f":"'4計画'!L46:N46","v":"00:00:00"},null,null,"～",{"$f":"'4計画'!P46:R46","v":"00:00:00"},null,null,"00:00:00",null,null,{"$f":"'4計画'!V46:AA46","v":0},null,null,null,null,null,{"$f":"'4計画'!AB46:AG46","v":0},null,null,null,null,null,{"$f":"'4計画'!AH46:AO46","v":0},null,null,null,null,null,null,null,false,null,null,null,null,null,null,null,null,null,null,null,null,null,null,null,null,null,null,null,null,"0",null,null,null,null,null,null,null,null,null,null,null,{"$f":"'4計画'!C46","v":""},null,{"$f":"'4計画'!E46","v":"00:00:00"},null,null,"～",{"$f":"'4計画'!I46","v":"00:00:00"},null,null,{"$f":"'4計画'!L46","v":"00:00:00"},null,null,"～",{"$f":"'4計画'!P46","v":"00:00:00"},null,null,"00:00:00",null,null,{"$f":"'4計画'!V46","v":0},null,null,null,null,null,{"$f":"'4計画'!AB46","v":0},null,null,null,null,null,{"$f":"'4計画'!AH46","v":0}]
[null,null,null,null,null,null,null,null,null,null,null,null,null,null,null,null,null,null,{"$f":"SUM(S16:U46)","v":0},null,null,null,null,null,null,null,null,null,null,null,null,null,null,null,null,null,null,null,null,null,null,null,null,null,null,null,null,null,null,null,null,null,null,null,null,null,null,null,null,null,null,null,null,null,null,null,null,null,null,null,null,null,null,null,null,null,null,null,null,null,null,null,null,null,null,null,null,null,null,null,{"$f":"SUM(CM16:CO46)","v":0}]
[]
["月",null,null,4,null,5,null,6,null,7,null,8,null,9,null,10,null,11,null,12,null,1,null,2,null,3,null,"計"]
["時間",null,null,{"$f":"S47","v":0},null,null,null,null,null,null,null,null,null,null,null,null,null,null,null,null,null,null,null,null,null,null,null,{"$f":"SUM(D50:AA50)","v":0},null,null,null,null,"時間",null,null,null,null,null,null,null,null,null,null,null,null,null,null,null,null,null,null,null,null,null,null,null,null,null,null,null,null,null,null,null,null,null,null,null,null,null,null,null,null,null,null,{"$f":"CM47","v":0},null,null,null,null,null,null,null,null,null,null,null,null,null,null,null,null,null,null,null,null,null,null,null,{"$f":"SUM(BX50:CU50)","v":0}]
["活動日数",null,null,{"$f":"COUNTIF(S16:U45,\">0\")","v":0},null,null,null,null,null,null,null,null,null,null,null,null,null,null,null,null,null,null,null,null,null,null,null,{"$f":"SUM(D51:AA51)","v":0},null,null,null,null,"活動日数",null,null,null,null,null,null,null,null,null,null,null,null,null,null,null,null,null,null,null,null,null,null,null,null,null,null,null,null,null,null,null,null,null,null,null,null,null,null,null,null,null,null,{"$f":"COUNTIF(CM16:CO45,\">0\")","v":0},null,null,null,null,null,null,null,null,null,null,null,null,null,null,null,null,null,null,null,null,null,null,null,{"$f":"SUM(BX51:CU51)","v":0}]
["休養日数",null,null,{"$f":"COUNTIF(S16:U45,\"0:00\")","v":30},null,null,null,null,null,null,null,null,null,null,null,null,null,null,null,null,null,null,null,null,null,null,null,{"$f":"SUM(D52:AA52)","v":30},null,null,null,null,"休養日数",null,null,null,null,null,null,null,null,null,null,null,null,null,null,null,null,null,null,null,null,null,null,null,null,null,null,null,null,null,null,null,null,null,null,null,null,null,null,null,null,null,null,{"$f":"COUNTIF(CM16:CO45,\"0:00\")","v":30},null,null,null,null,null,null,null,null,null,null,null,null,null,null,null,null,null,null,null,null,null,null,null,{"$f":"SUM(BX52:CU52)","v":30}]
[null,null,null,null,null,null,null,null,null,null,null,null,null,null,null,null,null,null,null,null,null,null,null,null,null,null,null,{"$f":"AB50/AB51","v":{"$error":"#DIV/0!"}},null,null,null,null,"平均時間/日",null,null,null,null,null,null,null,null,null,null,null,null,null,null,null,null,null,null,null,null,null,null,null,null,null,null,null,null,null,null,null,null,null,null,null,null,null,null,null,null,null,null,null,null,null,null,null,null,null,null,null,null,null,null,null,null,null,null,null,null,null,null,null,null,null,null,{"$f":"CV50/CV51","v":{"$error":"#DIV/0!"}}]

{"sheet":"５実績","index":14,"n_rows":53,"n_cols":112,"rows_kept":53,"cut":false,"hidden":false,"merged":[[51,91,51,92],[51,93,51,94],[51,95,51,96],[51,97,51,98],[51,99,51,103],[51,104,51,106],[52,99,52,103],[52,104,52,106],[51,72,51,74],[51,75,51,76],[51,77,51,78],[51,79,51,80],[51,81,51,82],[51,83,51,84],[51,85,51,86],[51,87,51,88],[51,89,51,90],[50,91,50,92],[50,93,50,94],[50,95,50,96],[50,97,50,98],[50,99,50,103],[50,104,50,106],[49,72,49,74],[49,75,49,76],[49,77,49,78],[50,72,50,74],[50,75,50,76],[50,77,50,78],[50,79,50,80],[50,81,50,82],[50,83,50,84],[50,85,50,86],[50,87,50,88],[50,89,50,90],[49,79,49,80],[49,81,49,82],[49,83,49,84],[49,85,49,86],[49,87,49,88],[49,89,49,90],[46,90,46,92],[46,104,48,108],[46,109,46,112],[47,109,48,112],[48,91,48,92],[48,93,48,94],[48,95,48,96],[48,97,48,98],[48,99,48,103],[49,91,49,92],[49,93,49,94],[49,95,49,96],[49,97,49,98],[49,99,49,103],[49,104,49,106],[48,72,48,74],[48,75,48,76],[48,77,48,78],[48,79,48,80],[48,81,48,82],[48,83,48,84],[48,85,48,86],[48,87,48,88],[48,89,48,90],[44,105,44,112],[45,72,45,73],[45,74,45,75],[45,76,45,78],[45,80,45,82],[45,83,45,85],[45,87,45,89],[45,90,45,92],[45,93,45,98],[45,99,45,104],[45,105,45,112],[44,72,44,73],[44,74,44,75],[44,76,44,78],[44,80,44,82],[44,83,44,85],[44,87,44,89],[44,90,44,92],[44,93,44,98],[44,99,44,104],[42,105,42,112],[43,72,43,73],[43,74,43,75],[43,76,43,78],[43,80,43,82],[43,83,43,85],[43,87,43,89],[43,90,43,92],[43,93,43,98],[43,99,43,104],[43,105,43,112],[42,72,42,73],[42,74,42,75],[42,76,42,78],[42,80,42,82],[42,83,42,85],[42,87,42,89],[42,90,42,92],[42,93,42,98],[42,99,42,104],[40,105,40,112],[41,72,41,73],[41,74,41,75],[41,76,41,78],[41,80,41,82],[41,83,41,85],[41,87,41,89],[41,90,41,92],[41,93,41,98],[41,99,41,104],[41,105,41,112],[40,72,40,73],[40,74,40,75],[40,76,40,78],[40,80,40,82],[40,83,40,85],[40,87,40,89],[40,90,40,92],[40,93,40,98],[40,99,40,104],[38,105,38,112],[39,72,39,73],[39,74,39,75],[39,76,39,78],[39,80,39,82],[39,83,39,85],[39,87,39,89],[39,90,39,92],[39,93,39,98],[39,99,39,104],[39,105,39,112],[38,72,38,73],[38,74,38,75],[38,76,38,78],[38,80,38,82],[38,83,38,85],[38,87,38,89],[38,90,38,92],[38,93,38,98],[38,99,38,104],[36,105,36,112],[37,72,37,73],[37,74,37,75],[37,76,37,78],[37,80,37,82],[37,83,37,85],[37,87,37,89],[37,90,37,92],[37,93,37,98],[37,99,37,104],[37,105,37,112],[36,72,36,73],[36,74,36,75],[36,76,36,78],[36,80,36,82],[36,83,36,85],[36,87,36,89],[36,90,36,92],[36,93,36,98],[36,99,36,104],[34,105,34,112],[35,72,35,73],[35,74,35,75],[35,76,35,78],[35,80,35,82],[35,83,35,85],[35,87,35,89],[35,90,35,92],[35,93,35,98],[35,99,35,104],[35,105,35,112],[34,72,34,73],[34,74,34,75],[34,76,34,78],[34,80,34,82],[34,83,34,85],[34,87,34,89],[34,90,34,92],[34,93,34,98],[34,99,34,104],[32,105,32,112],[33,72,33,73],[33,74,33,75],[33,76,33,78],[33,80,33,82],[33,83,33,85],[33,87,33,89],[33,90,33,92],[33,93,33,98],[33,99,33,104],[33,105,33,112],[32,72,32,73],[32,74,32,75],[32,76,32,78],[32,80,32,82],[32,83,32,85],[32,87,32,89],[32,90,32,92],[32,93,32,98],[32,99,32,104],[30,105,30,112],[31,72,31,73],[31,74,31,75],[31,76,31,78],[31,80,31,82],[31,83,31,85],[31,87,31,89],[31,90,31,92],[31,93,31,98],[31,99,31,104],[31,105,31,112],[30,72,30,73],[30,74,30,75],[30,76,30,78],[30,80,30,82],[30,83,30,85],[30,87,30,89],[30,90,30,92],[30,93,30,98],[30,99,30,104],[28,105,28,112],[29,72,29,73],[29,74,29,75],[29,76,29,78],[29,80,29,82],[29,83,29,85],[29,87,29,89],[29,90,29,92],[29,93,29,98],[29,99,29,104],[29,105,29,112],[28,72,28,73],[28,74,28,75],[28,76,28,78],[28,80,28,82],[28,83,28,85],[28,87,28,89],[28,90,28,92],[28,93,28,98],[28,99,28,104],[26,105,26,112],[27,72,27,73],[27,74,27,75],[27,76,27,78],[27,80,27,82],[27,83,27,85],[27,87,27,89],[27,90,27,92],[27,93,27,98],[27,99,27,104],[27,105,27,112],[26,72,26,73],[26,74,26,75],[26,76,26,78],[26,80,26,82],[26,83,26,85],[26,87,26,89],[26,90,26,92],[26,93,26,98],[26,99,26,104],[24,105,24,112],[25,72,25,73],[25,74,25,75],[25,76,25,78],[25,80,25,82],[25,83,25,85],[25,87,25,89],[25,90,25,92],[25,93,25,98],[25,99,25,104],[25,105,25,112],[24,72,24,73],[24,74,24,75],[24,76,24,78],[24,80,24,82],[24,83,24,85],[24,87,24,89],[24,90,24,92],[24,93,24,98],[24,99,24,104],[22,105,22,112],[23,72,23,73],[23,74,23,75],[23,76,23,78],[23,80,23,82],[23,83,23,85],[23,87,23,89],[23,90,23,92],[23,93,23,98],[23,99,23,104],[23,105,23,112],[22,72,22,73],[22,74,22,75],[22,76,22,78],[22,80,22,82],[22,83,22,85],[22,87,22,89],[22,90,22,92],[22,93,22,98],[22,99,22,104],[20,105,20,112],[21,72,21,73],[21,74,21,75],[21,76,21,78],[21,80,21,82],[21,83,21,85],[21,87,21,89],[21,90,21,92],[21,93,21,98],[21,99,21,104],[21,105,21,112],[20,72,20,73],[20,74,20,75],[20,76,20,78],[20,80,20,82],[20,83,20,85],[20,87,20,89],[20,90,20,92],[20,93,20,98],[20,99,20,104],[18,105,18,112],[19,72,19,73],[19,74,19,75],[19,76,19,78],[19,80,19,82],[19,83,19,85],[19,87,19,89],[19,90,19,92],[19,93,19,98],[19,99,19,104],[19,105,19,112],[18,72,18,73],[18,74,18,75],[18,76,18,78],[18,80,18,82],[18,83,18,85],[18,87,18,89],[18,90,18,92],[18,93,18,98],[18,99,18,104],[16,105,16,112],[17,72,17,73],[17,74,17,75],[17,76,17,78],[17,80,17,82],[17,83,17,85],[17,87,17,89],[17,90,17,92],[17,93,17,98],[17,99,17,104],[17,105,17,112],[16,72,16,73],[16,74,16,75],[16,76,16,78],[16,80,16,82],[16,83,16,85],[16,87,16,89],[16,90,16,92],[16,93,16,98],[16,99,16,104],[14,72,14,73],[14,74,14,75],[14,76,14,82],[14,83,14,89],[14,90,14,92],[14,93,14,104],[14,105,14,112],[15,72,15,73],[15,74,15,75],[15,76,15,78],[15,80,15,82],[15,83,15,85],[15,87,15,89],[15,90,15,92],[15,93,15,98],[15,99,15,104],[15,105,15,112],[9,111,10,112],[11,73,12,74],[11,75,12,79],[11,80,12,81],[11,82,12,90],[11,91,12,92],[11,93,12,94],[11,95,12,99],[11,100,12,101],[11,102,12,110],[11,111,12,112],[9,73,10,74],[9,75,10,79],[9,80,10,81],[9,82,10,90],[9,91,10,92],[9,93,10,94],[9,95,10,99],[9,100,10,101],[9,102,10,110],[6,109,6,110],[6,111,6,112],[7,99,7,100],[7,101,7,102],[7,103,7,104],[7,105,7,106],[7,107,7,108],[7,109,7,110],[7,111,7,112],[6,72,7,76],[6,77,7,79],[6,80,7,94],[6,96,7,98],[6,99,6,100],[6,101,6,102],[6,103,6,104],[6,105,6,106],[6,107,6,108],[1,110,2,112],[2,72,4,75],[2,76,4,79],[2,80,4,83],[2,84,4,87],[2,88,4,91],[2,92,4,95],[3,97,4,99],[3,100,4,109],[3,110,4,112],[0,72,0,75],[1,72,1,75],[1,76,1,79],[1,80,1,83],[1,84,1,87],[1,88,1,91],[1,92,1,95],[1,97,2,99],[1,100,2,109],[41,42,41,45],[42,42,42,45],[43,42,43,45],[44,42,44,45],[45,42,45,45],[32,42,32,45],[33,42,33,45],[34,42,34,45],[35,42,35,45],[36,42,36,45],[37,42,37,45],[38,42,38,45],[39,42,39,45],[40,42,40,45],[23,42,23,45],[24,42,24,45],[25,42,25,45],[26,42,26,45],[27,42,27,45],[28,42,28,45],[29,42,29,45],[30,42,30,45],[31,42,31,45],[14,42,14,45],[15,42,15,45],[16,42,16,45],[17,42,17,45],[18,42,18,45],[19,42,19,45],[20,42,20,45],[21,42,21,45],[22,42,22,45],[0,0,0,3],[1,0,1,3],[1,4,1,7],[1,8,1,11],[1,12,1,15],[1,16,1,19],[1,20,1,23],[1,25,2,27],[1,28,2,37],[1,38,2,40],[2,0,4,3],[2,4,4,7],[2,8,4,11],[2,12,4,15],[2,16,4,19],[2,20,4,23],[3,25,4,27],[3,28,4,37],[3,38,4,40],[6,0,7,4],[6,5,7,7],[6,8,7,22],[6,24,7,26],[6,27,6,28],[6,29,6,30],[6,31,6,32],[6,33,6,34],[6,35,6,36],[9,23,10,27],[9,28,10,29],[9,30,10,38],[6,37,6,38],[6,39,6,40],[7,27,7,28],[7,29,7,30],[7,31,7,32],[7,33,7,34],[7,35,7,36],[7,37,7,38],[7,39,7,40],[11,39,12,40],[14,0,14,1],[14,2,14,3],[14,4,14,10],[14,11,14,17],[14,18,14,20],[14,21,14,32],[14,33,14,40],[9,39,10,40],[11,1,12,2],[11,3,12,7],[11,8,12,9],[11,10,12,18],[11,19,12,20],[11,21,12,22],[11,23,12,27],[11,28,12,29],[11,30,12,38],[9,1,10,2],[9,3,10,7],[9,8,10,9],[9,10,10,18],[9,19,10,20],[9,21,10,22],[15,18,15,20],[15,21,15,26],[15,27,15,32],[15,33,15,40],[16,0,16,1],[16,2,16,3],[16,4,16,6],[16,8,16,10],[16,11,16,13],[16,15,16,17],[15,0,15,1],[15,2,15,3],[15,4,15,6],[15,8,15,10],[15,11,15,13],[15,15,15,17],[16,18,16,20],[16,21,16,26],[16,27,16,32],[16,33,16,40],[17,33,17,40],[18,0,18,1],[18,2,18,3],[18,4,18,6],[18,8,18,10],[18,11,18,13],[18,15,18,17],[18,18,18,20],[18,21,18,26],[18,27,18,32],[18,33,18,40],[17,0,17,1],[17,2,17,3],[17,4,17,6],[17,8,17,10],[17,11,17,13],[17,15,17,17],[17,18,17,20],[17,21,17,26],[17,27,17,32],[19,33,19,40],[20,0,20,1],[20,2,20,3],[20,4,20,6],[20,8,20,10],[20,11,20,13],[20,15,20,17],[20,18,20,20],[20,21,20,26],[20,27,20,32],[20,33,20,40],[19,0,19,1],[19,2,19,3],[19,4,19,6],[19,8,19,10],[19,11,19,13],[19,15,19,17],[19,18,19,20],[19,21,19,26],[19,27,19,32],[21,33,21,40],[22,0,22,1],[22,2,22,3],[22,4,22,6],[22,8,22,10],[22,11,22,13],[22,15,22,17],[22,18,22,20],[22,21,22,26],[22,27,22,32],[22,33,22,40],[21,0,21,1],[21,2,21,3],[21,4,21,6],[21,8,21,10],[21,11,21,13],[21,15,21,17],[21,18,21,20],[21,21,21,26],[21,27,21,32],[23,33,23,40],[24,0,24,1],[24,2,24,3],[24,4,24,6],[24,8,24,10],[24,11,24,13],[24,15,24,17],[24,18,24,20],[24,21,24,26],[24,27,24,32],[24,33,24,40],[23,0,23,1],[23,2,23,3],[23,4,23,6],[23,8,23,10],[23,11,23,13],[23,15,23,17],[23,18,23,20],[23,21,23,26],[23,27,23,32],[25,33,25,40],[26,0,26,1],[26,2,26,3],[26,4,26,6],[26,8,26,10],[26,11,26,13],[26,15,26,17],[26,18,26,20],[26,21,26,26],[26,27,26,32],[26,33,26,40],[25,0,25,1],[25,2,25,3],[25,4,25,6],[25,8,25,10],[25,11,25,13],[25,15,25,17],[25,18,25,20],[25,21,25,26],[25,27,25,32],[27,33,27,40],[28,0,28,1],[28,2,28,3],[28,4,28,6],[28,8,28,10],[28,11,28,13],[28,15,28,17],[28,18,28,20],[28,21,28,26],[28,27,28,32],[28,33,28,40],[27,0,27,1],[27,2,27,3],[27,4,27,6],[27,8,27,10],[27,11,27,13],[27,15,27,17],[27,18,27,20],[27,21,27,26],[27,27,27,32],[29,33,29,40],[30,0,30,1],[30,2,30,3],[30,4,30,6],[30,8,30,10],[30,11,30,13],[30,15,30,17],[30,18,30,20],[30,21,30,26],[30,27,30,32],[30,33,30,40],[29,0,29,1],[29,2,29,3],[29,4,29,6],[29,8,29,10],[29,11,29,13],[29,15,29,17],[29,18,29,20],[29,21,29,26],[29,27,29,32],[31,33,31,40],[32,0,32,1],[32,2,32,3],[32,4,32,6],[32,8,32,10],[32,11,32,13],[32,15,32,17],[32,18,32,20],[32,21,32,26],[32,27,32,32],[32,33,32,40],[31,0,31,1],[31,2,31,3],[31,4,31,6],[31,8,31,10],[31,11,31,13],[31,15,31,17],[31,18,31,20],[31,21,31,26],[31,27,31,32],[33,33,33,40],[34,0,34,1],[34,2,34,3],[34,4,34,6],[34,8,34,10],[34,11,34,13],[34,15,34,17],[34,18,34,20],[34,21,34,26],[34,27,34,32],[34,33,34,40],[33,0,33,1],[33,2,33,3],[33,4,33,6],[33,8,33,10],[33,11,33,13],[33,15,33,17],[33,18,33,20],[33,21,33,26],[33,27,33,32],[35,33,35,40],[36,0,36,1],[36,2,36,3],[36,4,36,6],[36,8,36,10],[36,11,36,13],[36,15,36,17],[36,18,36,20],[36,21,36,26],[36,27,36,32],[36,33,36,40],[35,0,35,1],[35,2,35,3],[35,4,35,6],[35,8,35,10],[35,11,35,13],[35,15,35,17],[35,18,35,20],[35,21,35,26],[35,27,35,32],[37,33,37,40],[38,0,38,1],[38,2,38,3],[38,4,38,6],[38,8,38,10],[38,11,38,13],[38,15,38,17],[38,18,38,20],[38,21,38,26],[38,27,38,32],[38,33,38,40],[37,0,37,1],[37,2,37,3],[37,4,37,6],[37,8,37,10],[37,11,37,13],[37,15,37,17],[37,18,37,20],[37,21,37,26],[37,27,37,32],[39,33,39,40],[40,0,40,1],[40,2,40,3],[40,4,40,6],[40,8,40,10],[40,11,40,13],[40,15,40,17],[40,18,40,20],[40,21,40,26],[40,27,40,32],[40,33,40,40],[39,0,39,1],[39,2,39,3],[39,4,39,6],[39,8,39,10],[39,11,39,13],[39,15,39,17],[39,18,39,20],[39,21,39,26],[39,27,39,32],[41,33,41,40],[42,0,42,1],[42,2,42,3],[42,4,42,6],[42,8,42,10],[42,11,42,13],[42,15,42,17],[42,18,42,20],[42,21,42,26],[42,27,42,32],[42,33,42,40],[41,0,41,1],[41,2,41,3],[41,4,41,6],[41,8,41,10],[41,11,41,13],[41,15,41,17],[41,18,41,20],[41,21,41,26],[41,27,41,32],[45,27,45,32],[43,33,43,40],[44,0,44,1],[44,2,44,3],[44,4,44,6],[44,8,44,10],[44,11,44,13],[44,15,44,17],[44,18,44,20],[44,21,44,26],[44,27,44,32],[44,33,44,40],[43,0,43,1],[43,2,43,3],[43,4,43,6],[43,8,43,10],[43,11,43,13],[43,15,43,17],[43,18,43,20],[43,21,43,26],[43,27,43,32],[45,33,45,40],[45,0,45,1],[45,2,45,3],[50,19,50,20],[50,21,50,22],[50,23,50,24],[50,25,50,26],[46,18,46,20],[49,13,49,14],[48,13,48,14],[48,15,48,16],[48,17,48,18],[49,17,49,18],[49,19,49,20],[49,21,49,22],[49,23,49,24],[48,23,48,24],[48,25,48,26],[49,15,49,16],[49,0,49,2],[49,3,49,4],[45,4,45,6],[45,8,45,10],[45,11,45,13],[45,15,45,17],[45,18,45,20],[45,21,45,26],[48,0,48,2],[48,3,48,4],[48,5,48,6],[48,7,48,8],[48,9,48,10],[49,5,49,6],[49,7,49,8],[49,9,49,10],[49,11,49,12],[48,11,48,12],[51,15,51,16],[51,17,51,18],[50,0,50,2],[50,3,50,4],[50,5,50,6],[50,7,50,8],[50,9,50,10],[50,11,50,12],[50,13,50,14],[50,15,50,16],[50,17,50,18],[5,0,5,22],[48,27,48,31],[48,19,48,20],[48,21,48,22],[50,27,50,31],[49,27,49,31],[49,32,49,34],[49,25,49,26],[52,27,52,31],[52,32,52,34],[51,19,51,20],[51,21,51,22],[51,23,51,24],[51,25,51,26],[51,27,51,31],[51,32,51,34],[50,32,50,34],[51,0,51,2],[51,3,51,4],[51,5,51,6],[51,7,51,8],[51,9,51,10],[51,11,51,12],[51,13,51,14]]}
[]
[{"$f":"'5計画'!A2:D2","v":"校長"},null,null,null,{"$f":"'5計画'!E2:H2","v":"教頭"},null,null,null,{"$f":"'5計画'!I2:L2","v":"教頭"},null,null,null,{"$f":"'5計画'!M2:P2","v":"主幹教諭"},null,null,null,{"$f":"'5計画'!Q2:T2","v":0},null,null,null,{"$f":"'5計画'!U2:X2","v":"顧問"},null,null,null,null,"学校名",null,null,{"$f":"'5計画'!AC2:AL3","v":0},null,null,null,null,null,null,null,null,null,"学校",null,null,null,null,null,null,null,null,null,null,null,null,null,null,null,null,null,null,null,null,null,null,null,null,null,null,null,null,null,null,null,null,null,{"$f":"'5計画'!BU2:BX2","v":0},null,null,null,{"$f":"'5計画'!BY2:CB2","v":0},null,null,null,{"$f":"'5計画'!CC2:CF2","v":0},null,null,null,{"$f":"'5計画'!CG2:CJ2","v":0},null,null,null,{"$f":"'5計画'!CK2:CN2","v":0},null,null,null,{"$f":"'5計画'!CO2:CR2","v":0},null,null,null,null,null,null,null,{"$f":"'5計画'!CW2:DF3","v":0}]
["印",null,null,null,"印",null,null,null,"印",null,null,null,"印",null,null,null,"印",null,null,null,"印"]
[null,null,null,null,null,null,null,null,null,null,null,null,null,null,null,null,null,null,null,null,null,null,null,null,null,"部活動名",null,null,{"$f":"'5計画'!AC4:AL5","v":0},null,null,null,null,null,null,null,null,null,"部",null,null,null,null,null,null,null,null,null,null,null,null,null,null,null,null,null,null,null,null,null,null,null,null,null,null,null,null,null,null,null,null,null,null,null,null,null,null,null,null,null,null,null,null,null,null,null,null,null,null,null,null,null,null,null,null,null,null,null,null,null,{"$f":"'5計画'!CW4:DF5","v":0}]
[]
["　※活動計画と違う内容については、校長口頭命令済み"]
[5,null,null,null,null,"月",null,null,"〈月間〉部活動計画・活動実績",null,null,null,null,null,null,null,null,null,null,null,null,null,null,null,"部員数",null,null,"1女",null,"2女",null,"3女",null,"1男",null,"2男",null,"3男",null,"計"]
[null,null,null,null,null,null,null,null,null,null,null,null,null,null,null,null,null,null,null,null,null,null,null,null,null,null,null,{"$f":"'5計画'!AB8:AC8","v":0},null,{"$f":"'5計画'!AD8:AE8","v":0},null,{"$f":"'5計画'!AF8:AG8","v":0},null,{"$f":"'5計画'!AH8:AI8","v":0},null,{"$f":"'5計画'!AJ8:AK8","v":0},null,{"$f":"'5計画'!AL8:AM8","v":0},null,{"$f":"SUM(AB8:AM8)","v":0},null,null,null,null,null,null,null,null,null,null,null,null,null,null,null,null,null,null,null,null,null,null,null,null,null,null,null,null,null,null,null,null,null,null,null,null,null,null,null,null,null,null,null,null,null,null,null,null,null,null,null,null,null,null,null,null,null,null,null,{"$f":"'5計画'!AB8","v":0},null,{"$f":"'5計画'!AD8","v":0},null,{"$f":"'5計画'!AF8","v":0},null,{"$f":"'5計画'!AH8","v":0},null,{"$f":"'5計画'!AJ8","v":0},null,{"$f":"'5計画'!AL8","v":0},null,{"$f":"SUM(CV8:DG8)","v":0}]
[]
[null,"職名",null,{"$f":"'5計画'!D10:H11","v":0},null,null,null,null,"顧問",null,{"$f":"'5計画'!K10:S11","v":0},null,null,null,null,null,null,null,null,null,null,"職名",null,{"$f":"'5計画'!X10:AB11","v":0},null,null,null,null,"副２",null,{"$f":"'5計画'!AE10:AM11","v":0},null,null,null,null,null,null,null,null,null,null,null,null,null,null,null,null,null,null,null,null,null,null,null,null,null,null,null,null,null,null,null,null,null,null,null,null,null,null,null,null,null,null,null,null,{"$f":"'5計画'!D10","v":0},null,null,null,null,null,null,{"$f":"'5計画'!K10","v":0},null,null,null,null,null,null,null,null,null,null,null,null,{"$f":"'5計画'!X10","v":0},null,null,null,null,null,null,{"$f":"'5計画'!AE10","v":0}]
[]
[null,"職名",null,{"$f":"'5計画'!D12:H13","v":0},null,null,null,null,"副顧問",null,{"$f":"'5計画'!K12:S13","v":0},null,null,null,null,null,null,null,null,null,null,"職名",null,{"$f":"'5計画'!X12:AB13","v":0},null,null,null,null,"副３",null,{"$f":"'5計画'!AE12:AM13","v":0},null,null,null,null,null,null,null,null,null,null,null,null,null,null,null,null,null,null,null,null,null,null,null,null,null,null,null,null,null,null,null,null,null,null,null,null,null,null,null,null,null,null,null,null,{"$f":"'5計画'!D12","v":0},null,null,null,null,null,null,{"$f":"'5計画'!K12","v":0},null,null,null,null,null,null,null,null,null,null,null,null,{"$f":"'5計画'!X12","v":0},null,null,null,null,null,null,{"$f":"'5計画'!AE12","v":0}]
[]
[]
["日",null,"曜",null,"ＡＭ",null,null,null,null,null,null,"ＰＭ",null,null,null,null,null,null,"時間",null,null,"内容（練習・大会・OFF等）",null,null,null,null,null,null,null,null,null,null,null,"場所",null,null,null,null,null,null,null,false,"特殊業務"]
[1,null,{"$f":"'5計画'!C16:D16","v":"金"},null,{"$f":"'5計画'!E16:G16","v":"00:00:00"},null,null,"～",{"$f":"'5計画'!I16:K16","v":"00:00:00"},null,null,{"$f":"'5計画'!L16:N16","v":"00:00:00"},null,null,"～",{"$f":"'5計画'!P16:R16","v":"00:00:00"},null,null,{"$f":"(I16-E16)+(P16-L16)","v":"00:00:00"},null,null,{"$f":"'5計画'!V16:AA16","v":0},null,null,null,null,null,{"$f":"'5計画'!AB16:AG16","v":0},null,null,null,null,null,{"$f":"'5計画'!AH16:AO16","v":0},null,null,null,null,null,null,null,false,null,null,null,null,null,null,null,null,null,null,null,null,null,null,null,null,null,null,null,null,{"$f":"RIGHT(V16,2)","v":"0"},null,null,null,null,null,null,null,null,null,null,null,{"$f":"'5計画'!C16","v":"金"},null,{"$f":"'5計画'!E16","v":"00:00:00"},null,null,"～",{"$f":"'5計画'!I16","v":"00:00:00"},null,null,{"$f":"'5計画'!L16","v":"00:00:00"},null,null,"～",{"$f":"'5計画'!P16","v":"00:00:00"},null,null,{"$f":"(CC16-BY16)+(CJ16-CF16)","v":"00:00:00"},null,null,{"$f":"'5計画'!V16","v":0},null,null,null,null,null,{"$f":"'5計画'!AB16","v":0},null,null,null,null,null,{"$f":"'5計画'!AH16","v":0}]
[2,null,{"$f":"'5計画'!C17:D17","v":"土"},null,{"$f":"'5計画'!E17:G17","v":"00:00:00"},null,null,"～",{"$f":"'5計画'!I17:K17","v":"00:00:00"},null,null,{"$f":"'5計画'!L17:N17","v":"00:00:00"},null,null,"～",{"$f":"'5計画'!P17:R17","v":"00:00:00"},null,null,"00:00:00",null,null,{"$f":"'5計画'!V17:AA17","v":0},null,null,null,null,null,{"$f":"'5計画'!AB17:AG17","v":0},null,null,null,null,null,{"$f":"'5計画'!AH17:AO17","v":0},null,null,null,null,null,null,null,false,null,null,null,null,null,null,null,null,null,null,null,null,null,null,null,null,null,null,null,null,{"$f":"RIGHT(V17,2)","v":"0"},null,null,null,null,null,null,null,null,null,null,null,{"$f":"'5計画'!C17","v":"土"},null,{"$f":"'5計画'!E17","v":"00:00:00"},null,null,"～",{"$f":"'5計画'!I17","v":"00:00:00"},null,null,{"$f":"'5計画'!L17","v":"00:00:00"},null,null,"～",{"$f":"'5計画'!P17","v":"00:00:00"},null,null,"00:00:00",null,null,{"$f":"'5計画'!V17","v":0},null,null,null,null,null,{"$f":"'5計画'!AB17","v":0},null,null,null,null,null,{"$f":"'5計画'!AH17","v":0}]
[3,null,{"$f":"'5計画'!C18:D18","v":"日"},null,{"$f":"'5計画'!E18:G18","v":"00:00:00"},null,null,"～",{"$f":"'5計画'!I18:K18","v":"00:00:00"},null,null,{"$f":"'5計画'!L18:N18","v":"00:00:00"},null,null,"～",{"$f":"'5計画'!P18:R18","v":"00:00:00"},null,null,"00:00:00",null,null,{"$f":"'5計画'!V18:AA18","v":0},null,null,null,null,null,{"$f":"'5計画'!AB18:AG18","v":0},null,null,null,null,null,{"$f":"'5計画'!AH18:AO18","v":0},null,null,null,null,null,null,null,false,null,null,null,null,null,null,null,null,null,null,null,null,null,null,null,null,null,null,null,null,"0",null,null,null,null,null,null,null,null,null,null,null,{"$f":"'5計画'!C18","v":"日"},null,{"$f":"'5計画'!E18","v":"00:00:00"},null,null,"～",{"$f":"'5計画'!I18","v":"00:00:00"},null,null,{"$f":"'5計画'!L18","v":"00:00:00"},null,null,"～",{"$f":"'5計画'!P18","v":"00:00:00"},null,null,"00:00:00",null,null,{"$f":"'5計画'!V18","v":0},null,null,null,null,null,{"$f":"'5計画'!AB18","v":0},null,null,null,null,null,{"$f":"'5計画'!AH18","v":0}]
[4,null,{"$f":"'5計画'!C19:D19","v":"月"},null,{"$f":"'5計画'!E19:G19","v":"00:00:00"},null,null,"～",{"$f":"'5計画'!I19:K19","v":"00:00:00"},null,null,{"$f":"'5計画'!L19:N19","v":"00:00:00"},null,null,"～",{"$f":"'5計画'!P19:R19","v":"00:00:00"},null,null,"00:00:00",null,null,{"$f":"'5計画'!V19:AA19","v":0},null,null,null,null,null,{"$f":"'5計画'!AB19:AG19","v":0},null,null,null,null,null,{"$f":"'5計画'!AH19:AO19","v":0},null,null,null,null,null,null,null,false,null,null,null,null,null,null,null,null,null,null,null,null,null,null,null,null,null,null,null,null,"0",null,null,null,null,null,null,null,null,null,null,null,{"$f":"'5計画'!C19","v":"月"},null,{"$f":"'5計画'!E19","v":"00:00:00"},null,null,"～",{"$f":"'5計画'!I19","v":"00:00:00"},null,null,{"$f":"'5計画'!L19","v":"00:00:00"},null,null,"～",{"$f":"'5計画'!P19","v":"00:00:00"},null,null,"00:00:00",null,null,{"$f":"'5計画'!V19","v":0},null,null,null,null,null,{"$f":"'5計画'!AB19","v":0},null,null,null,null,null,{"$f":"'5計画'!AH19","v":0}]
[5,null,{"$f":"'5計画'!C20:D20","v":"火"},null,{"$f":"'5計画'!E20:G20","v":"00:00:00"},null,null,"～",{"$f":"'5計画'!I20:K20","v":"00:00:00"},null,null,{"$f":"'5計画'!L20:N20","v":"00:00:00"},null,null,"～",{"$f":"'5計画'!P20:R20","v":"00:00:00"},null,null,"00:00:00",null,null,{"$f":"'5計画'!V20:AA20","v":0},null,null,null,null,null,{"$f":"'5計画'!AB20:AG20","v":0},null,null,null,null,null,{"$f":"'5計画'!AH20:AO20","v":0},null,null,null,null,null,null,null,false,null,null,null,null,null,null,null,null,null,null,null,null,null,null,null,null,null,null,null,null,"0",null,null,null,null,null,null,null,null,null,null,null,{"$f":"'5計画'!C20","v":"火"},null,{"$f":"'5計画'!E20","v":"00:00:00"},null,null,"～",{"$f":"'5計画'!I20","v":"00:00:00"},null,null,{"$f":"'5計画'!L20","v":"00:00:00"},null,null,"～",{"$f":"'5計画'!P20","v":"00:00:00"},null,null,"00:00:00",null,null,{"$f":"'5計画'!V20","v":0},null,null,null,null,null,{"$f":"'5計画'!AB20","v":0},null,null,null,null,null,{"$f":"'5計画'!AH20","v":0}]
[6,null,{"$f":"'5計画'!C21:D21","v":"水"},null,{"$f":"'5計画'!E21:G21","v":"00:00:00"},null,null,"～",{"$f":"'5計画'!I21:K21","v":"00:00:00"},null,null,{"$f":"'5計画'!L21:N21","v":"00:00:00"},null,null,"～",{"$f":"'5計画'!P21:R21","v":"00:00:00"},null,null,"00:00:00",null,null,{"$f":"'5計画'!V21:AA21","v":0},null,null,null,null,null,{"$f":"'5計画'!AB21:AG21","v":0},null,null,null,null,null,{"$f":"'5計画'!AH21:AO21","v":0},null,null,null,null,null,null,null,false,null,null,null,null,null,null,null,null,null,null,null,null,null,null,null,null,null,null,null,null,"0",null,null,null,null,null,null,null,null,null,null,null,{"$f":"'5計画'!C21","v":"水"},null,{"$f":"'5計画'!E21","v":"00:00:00"},null,null,"～",{"$f":"'5計画'!I21","v":"00:00:00"},null,null,{"$f":"'5計画'!L21","v":"00:00:00"},null,null,"～",{"$f":"'5計画'!P21","v":"00:00:00"},null,null,"00:00:00",null,null,{"$f":"'5計画'!V21","v":0},null,null,null,null,null,{"$f":"'5計画'!AB21","v":0},null,null,null,null,null,{"$f":"'5計画'!AH21","v":0}]
[7,null,{"$f":"'5計画'!C22:D22","v":"木"},null,{"$f":"'5計画'!E22:G22","v":"00:00:00"},null,null,"～",{"$f":"'5計画'!I22:K22","v":"00:00:00"},null,null,{"$f":"'5計画'!L22:N22","v":"00:00:00"},null,null,"～",{"$f":"'5計画'!P22:R22","v":"00:00:00"},null,null,"00:00:00",null,null,{"$f":"'5計画'!V22:AA22","v":0},null,null,null,null,null,{"$f":"'5計画'!AB22:AG22","v":0},null,null,null,null,null,{"$f":"'5計画'!AH22:AO22","v":0},null,null,null,null,null,null,null,false,null,null,null,null,null,null,null,null,null,null,null,null,null,null,null,null,null,null,null,null,"0",null,null,null,null,null,null,null,null,null,null,null,{"$f":"'5計画'!C22","v":"木"},null,{"$f":"'5計画'!E22","v":"00:00:00"},null,null,"～",{"$f":"'5計画'!I22","v":"00:00:00"},null,null,{"$f":"'5計画'!L22","v":"00:00:00"},null,null,"～",{"$f":"'5計画'!P22","v":"00:00:00"},null,null,"00:00:00",null,null,{"$f":"'5計画'!V22","v":0},null,null,null,null,null,{"$f":"'5計画'!AB22","v":0},null,null,null,null,null,{"$f":"'5計画'!AH22","v":0}]
[8,null,{"$f":"'5計画'!C23:D23","v":"金"},null,{"$f":"'5計画'!E23:G23","v":"00:00:00"},null,null,"～",{"$f":"'5計画'!I23:K23","v":"00:00:00"},null,null,{"$f":"'5計画'!L23:N23","v":"00:00:00"},null,null,"～",{"$f":"'5計画'!P23:R23","v":"00:00:00"},null,null,"00:00:00",null,null,{"$f":"'5計画'!V23:AA23","v":0},null,null,null,null,null,{"$f":"'5計画'!AB23:AG23","v":0},null,null,null,null,null,{"$f":"'5計画'!AH23:AO23","v":0},null,null,null,null,null,null,null,false,null,null,null,null,null,null,null,null,null,null,null,null,null,null,null,null,null,null,null,null,"0",null,null,null,null,null,null,null,null,null,null,null,{"$f":"'5計画'!C23","v":"金"},null,{"$f":"'5計画'!E23","v":"00:00:00"},null,null,"～",{"$f":"'5計画'!I23","v":"00:00:00"},null,null,{"$f":"'5計画'!L23","v":"00:00:00"},null,null,"～",{"$f":"'5計画'!P23","v":"00:00:00"},null,null,"00:00:00",null,null,{"$f":"'5計画'!V23","v":0},null,null,null,null,null,{"$f":"'5計画'!AB23","v":0},null,null,null,null,null,{"$f":"'5計画'!AH23","v":0}]
[9,null,{"$f":"'5計画'!C24:D24","v":"土"},null,{"$f":"'5計画'!E24:G24","v":"00:00:00"},null,null,"～",{"$f":"'5計画'!I24:K24","v":"00:00:00"},null,null,{"$f":"'5計画'!L24:N24","v":"00:00:00"},null,null,"～",{"$f":"'5計画'!P24:R24","v":"00:00:00"},null,null,"00:00:00",null,null,{"$f":"'5計画'!V24:AA24","v":0},null,null,null,null,null,{"$f":"'5計画'!AB24:AG24","v":0},null,null,null,null,null,{"$f":"'5計画'!AH24:AO24","v":0},null,null,null,null,null,null,null,false,null,null,null,null,null,null,null,null,null,null,null,null,null,null,null,null,null,null,null,null,"0",null,null,null,null,null,null,null,null,null,null,null,{"$f":"'5計画'!C24","v":"土"},null,{"$f":"'5計画'!E24","v":"00:00:00"},null,null,"～",{"$f":"'5計画'!I24","v":"00:00:00"},null,null,{"$f":"'5計画'!L24","v":"00:00:00"},null,null,"～",{"$f":"'5計画'!P24","v":"00:00:00"},null,null,"00:00:00",null,null,{"$f":"'5計画'!V24","v":0},null,null,null,null,null,{"$f":"'5計画'!AB24","v":0},null,null,null,null,null,{"$f":"'5計画'!AH24","v":0}]
[10,null,{"$f":"'5計画'!C25:D25","v":"日"},null,{"$f":"'5計画'!E25:G25","v":"00:00:00"},null,null,"～",{"$f":"'5計画'!I25:K25","v":"00:00:00"},null,null,{"$f":"'5計画'!L25:N25","v":"00:00:00"},null,null,"～",{"$f":"'5計画'!P25:R25","v":"00:00:00"},null,null,"00:00:00",null,null,{"$f":"'5計画'!V25:AA25","v":0},null,null,null,null,null,{"$f":"'5計画'!AB25:AG25","v":0},null,null,null,null,null,{"$f":"'5計画'!AH25:AO25","v":0},null,null,null,null,null,null,null,false,null,null,null,null,null,null,null,null,null,null,null,null,null,null,null,null,null,null,null,null,"0",null,null,null,null,null,null,null,null,null,null,null,{"$f":"'5計画'!C25","v":"日"},null,{"$f":"'5計画'!E25","v":"00:00:00"},null,null,"～",{"$f":"'5計画'!I25","v":"00:00:00"},null,null,{"$f":"'5計画'!L25","v":"00:00:00"},null,null,"～",{"$f":"'5計画'!P25","v":"00:00:00"},null,null,"00:00:00",null,null,{"$f":"'5計画'!V25","v":0},null,null,null,null,null,{"$f":"'5計画'!AB25","v":0},null,null,null,null,null,{"$f":"'5計画'!AH25","v":0}]
[11,null,{"$f":"'5計画'!C26:D26","v":"月"},null,{"$f":"'5計画'!E26:G26","v":"00:00:00"},null,null,"～",{"$f":"'5計画'!I26:K26","v":"00:00:00"},null,null,{"$f":"'5計画'!L26:N26","v":"00:00:00"},null,null,"～",{"$f":"'5計画'!P26:R26","v":"00:00:00"},null,null,"00:00:00",null,null,{"$f":"'5計画'!V26:AA26","v":0},null,null,null,null,null,{"$f":"'5計画'!AB26:AG26","v":0},null,null,null,null,null,{"$f":"'5計画'!AH26:AO26","v":0},null,null,null,null,null,null,null,false,null,null,null,null,null,null,null,null,null,null,null,null,null,null,null,null,null,null,null,null,"0",null,null,null,null,null,null,null,null,null,null,null,{"$f":"'5計画'!C26","v":"月"},null,{"$f":"'5計画'!E26","v":"00:00:00"},null,null,"～",{"$f":"'5計画'!I26","v":"00:00:00"},null,null,{"$f":"'5計画'!L26","v":"00:00:00"},null,null,"～",{"$f":"'5計画'!P26","v":"00:00:00"},null,null,"00:00:00",null,null,{"$f":"'5計画'!V26","v":0},null,null,null,null,null,{"$f":"'5計画'!AB26","v":0},null,null,null,null,null,{"$f":"'5計画'!AH26","v":0}]
[12,null,{"$f":"'5計画'!C27:D27","v":"火"},null,{"$f":"'5計画'!E27:G27","v":"00:00:00"},null,null,"～",{"$f":"'5計画'!I27:K27","v":"00:00:00"},null,null,{"$f":"'5計画'!L27:N27","v":"00:00:00"},null,null,"～",{"$f":"'5計画'!P27:R27","v":"00:00:00"},null,null,"00:00:00",null,null,{"$f":"'5計画'!V27:AA27","v":0},null,null,null,null,null,{"$f":"'5計画'!AB27:AG27","v":0},null,null,null,null,null,{"$f":"'5計画'!AH27:AO27","v":0},null,null,null,null,null,null,null,false,null,null,null,null,null,null,null,null,null,null,null,null,null,null,null,null,null,null,null,null,"0",null,null,null,null,null,null,null,null,null,null,null,{"$f":"'5計画'!C27","v":"火"},null,{"$f":"'5計画'!E27","v":"00:00:00"},null,null,"～",{"$f":"'5計画'!I27","v":"00:00:00"},null,null,{"$f":"'5計画'!L27","v":"00:00:00"},null,null,"～",{"$f":"'5計画'!P27","v":"00:00:00"},null,null,"00:00:00",null,null,{"$f":"'5計画'!V27","v":0},null,null,null,null,null,{"$f":"'5計画'!AB27","v":0},null,null,null,null,null,{"$f":"'5計画'!AH27","v":0}]
[13,null,{"$f":"'5計画'!C28:D28","v":"水"},null,{"$f":"'5計画'!E28:G28","v":"00:00:00"},null,null,"～",{"$f":"'5計画'!I28:K28","v":"00:00:00"},null,null,{"$f":"'5計画'!L28:N28","v":"00:00:00"},null,null,"～",{"$f":"'5計画'!P28:R28","v":"00:00:00"},null,null,"00:00:00",null,null,{"$f":"'5計画'!V28:AA28","v":0},null,null,null,null,null,{"$f":"'5計画'!AB28:AG28","v":0},null,null,null,null,null,{"$f":"'5計画'!AH28:AO28","v":0},null,null,null,null,null,null,null,false,null,null,null,null,null,null,null,null,null,null,null,null,null,null,null,null,null,null,null,null,"0",null,null,null,null,null,null,null,null,null,null,null,{"$f":"'5計画'!C28","v":"水"},null,{"$f":"'5計画'!E28","v":"00:00:00"},null,null,"～",{"$f":"'5計画'!I28","v":"00:00:00"},null,null,{"$f":"'5計画'!L28","v":"00:00:00"},null,null,"～",{"$f":"'5計画'!P28","v":"00:00:00"},null,null,"00:00:00",null,null,{"$f":"'5計画'!V28","v":0},null,null,null,null,null,{"$f":"'5計画'!AB28","v":0},null,null,null,null,null,{"$f":"'5計画'!AH28","v":0}]
[14,null,{"$f":"'5計画'!C29:D29","v":"木"},null,{"$f":"'5計画'!E29:G29","v":"00:00:00"},null,null,"～",{"$f":"'5計画'!I29:K29","v":"00:00:00"},null,null,{"$f":"'5計画'!L29:N29","v":"00:00:00"},null,null,"～",{"$f":"'5計画'!P29:R29","v":"00:00:00"},null,null,"00:00:00",null,null,{"$f":"'5計画'!V29:AA29","v":0},null,null,null,null,null,{"$f":"'5計画'!AB29:AG29","v":0},null,null,null,null,null,{"$f":"'5計画'!AH29:AO29","v":0},null,null,null,null,null,null,null,false,null,null,null,null,null,null,null,null,null,null,null,null,null,null,null,null,null,null,null,null,"0",null,null,null,null,null,null,null,null,null,null,null,{"$f":"'5計画'!C29","v":"木"},null,{"$f":"'5計画'!E29","v":"00:00:00"},null,null,"～",{"$f":"'5計画'!I29","v":"00:00:00"},null,null,{"$f":"'5計画'!L29","v":"00:00:00"},null,null,"～",{"$f":"'5計画'!P29","v":"00:00:00"},null,null,"00:00:00",null,null,{"$f":"'5計画'!V29","v":0},null,null,null,null,null,{"$f":"'5計画'!AB29","v":0},null,null,null,null,null,{"$f":"'5計画'!AH29","v":0}]
[15,null,{"$f":"'5計画'!C30:D30","v":"金"},null,{"$f":"'5計画'!E30:G30","v":"00:00:00"},null,null,"～",{"$f":"'5計画'!I30:K30","v":"00:00:00"},null,null,{"$f":"'5計画'!L30:N30","v":"00:00:00"},null,null,"～",{"$f":"'5計画'!P30:R30","v":"00:00:00"},null,null,"00:00:00",null,null,{"$f":"'5計画'!V30:AA30","v":0},null,null,null,null,null,{"$f":"'5計画'!AB30:AG30","v":0},null,null,null,null,null,{"$f":"'5計画'!AH30:AO30","v":0},null,null,null,null,null,null,null,false,null,null,null,null,null,null,null,null,null,null,null,null,null,null,null,null,null,null,null,null,"0",null,null,null,null,null,null,null,null,null,null,null,{"$f":"'5計画'!C30","v":"金"},null,{"$f":"'5計画'!E30","v":"00:00:00"},null,null,"～",{"$f":"'5計画'!I30","v":"00:00:00"},null,null,{"$f":"'5計画'!L30","v":"00:00:00"},null,null,"～",{"$f":"'5計画'!P30","v":"00:00:00"},null,null,"00:00:00",null,null,{"$f":"'5計画'!V30","v":0},null,null,null,null,null,{"$f":"'5計画'!AB30","v":0},null,null,null,null,null,{"$f":"'5計画'!AH30","v":0}]
[16,null,{"$f":"'5計画'!C31:D31","v":"土"},null,{"$f":"'5計画'!E31:G31","v":"00:00:00"},null,null,"～",{"$f":"'5計画'!I31:K31","v":"00:00:00"},null,null,{"$f":"'5計画'!L31:N31","v":"00:00:00"},null,null,"～",{"$f":"'5計画'!P31:R31","v":"00:00:00"},null,null,"00:00:00",null,null,{"$f":"'5計画'!V31:AA31","v":0},null,null,null,null,null,{"$f":"'5計画'!AB31:AG31","v":0},null,null,null,null,null,{"$f":"'5計画'!AH31:AO31","v":0},null,null,null,null,null,null,null,false,null,null,null,null,null,null,null,null,null,null,null,null,null,null,null,null,null,null,null,null,"0",null,null,null,null,null,null,null,null,null,null,null,{"$f":"'5計画'!C31","v":"土"},null,{"$f":"'5計画'!E31","v":"00:00:00"},null,null,"～",{"$f":"'5計画'!I31","v":"00:00:00"},null,null,{"$f":"'5計画'!L31","v":"00:00:00"},null,null,"～",{"$f":"'5計画'!P31","v":"00:00:00"},null,null,"00:00:00",null,null,{"$f":"'5計画'!V31","v":0},null,null,null,null,null,{"$f":"'5計画'!AB31","v":0},null,null,null,null,null,{"$f":"'5計画'!AH31","v":0}]
[17,null,{"$f":"'5計画'!C32:D32","v":"日"},null,{"$f":"'5計画'!E32:G32","v":"00:00:00"},null,null,"～",{"$f":"'5計画'!I32:K32","v":"00:00:00"},null,null,{"$f":"'5計画'!L32:N32","v":"00:00:00"},null,null,"～",{"$f":"'5計画'!P32:R32","v":"00:00:00"},null,null,"00:00:00",null,null,{"$f":"'5計画'!V32:AA32","v":0},null,null,null,null,null,{"$f":"'5計画'!AB32:AG32","v":0},null,null,null,null,null,{"$f":"'5計画'!AH32:AO32","v":0},null,null,null,null,null,null,null,false,null,null,null,null,null,null,null,null,null,null,null,null,null,null,null,null,null,null,null,null,"0",null,null,null,null,null,null,null,null,null,null,null,{"$f":"'5計画'!C32","v":"日"},null,{"$f":"'5計画'!E32","v":"00:00:00"},null,null,"～",{"$f":"'5計画'!I32","v":"00:00:00"},null,null,{"$f":"'5計画'!L32","v":"00:00:00"},null,null,"～",{"$f":"'5計画'!P32","v":"00:00:00"},null,null,"00:00:00",null,null,{"$f":"'5計画'!V32","v":0},null,null,null,null,null,{"$f":"'5計画'!AB32","v":0},null,null,null,null,null,{"$f":"'5計画'!AH32","v":0}]
[18,null,{"$f":"'5計画'!C33:D33","v":"月"},null,{"$f":"'5計画'!E33:G33","v":"00:00:00"},null,null,"～",{"$f":"'5計画'!I33:K33","v":"00:00:00"},null,null,{"$f":"'5計画'!L33:N33","v":"00:00:00"},null,null,"～",{"$f":"'5計画'!P33:R33","v":"00:00:00"},null,null,"00:00:00",null,null,{"$f":"'5計画'!V33:AA33","v":0},null,null,null,null,null,{"$f":"'5計画'!AB33:AG33","v":0},null,null,null,null,null,{"$f":"'5計画'!AH33:AO33","v":0},null,null,null,null,null,null,null,false,null,null,null,null,null,null,null,null,null,null,null,null,null,null,null,null,null,null,null,null,"0",null,null,null,null,null,null,null,null,null,null,null,{"$f":"'5計画'!C33","v":"月"},null,{"$f":"'5計画'!E33","v":"00:00:00"},null,null,"～",{"$f":"'5計画'!I33","v":"00:00:00"},null,null,{"$f":"'5計画'!L33","v":"00:00:00"},null,null,"～",{"$f":"'5計画'!P33","v":"00:00:00"},null,null,"00:00:00",null,null,{"$f":"'5計画'!V33","v":0},null,null,null,null,null,{"$f":"'5計画'!AB33","v":0},null,null,null,null,null,{"$f":"'5計画'!AH33","v":0}]
[19,null,{"$f":"'5計画'!C34:D34","v":"火"},null,{"$f":"'5計画'!E34:G34","v":"00:00:00"},null,null,"～",{"$f":"'5計画'!I34:K34","v":"00:00:00"},null,null,{"$f":"'5計画'!L34:N34","v":"00:00:00"},null,null,"～",{"$f":"'5計画'!P34:R34","v":"00:00:00"},null,null,"00:00:00",null,null,{"$f":"'5計画'!V34:AA34","v":0},null,null,null,null,null,{"$f":"'5計画'!AB34:AG34","v":0},null,null,null,null,null,{"$f":"'5計画'!AH34:AO34","v":0},null,null,null,null,null,null,null,false,null,null,null,null,null,null,null,null,null,null,null,null,null,null,null,null,null,null,null,null,"0",null,null,null,null,null,null,null,null,null,null,null,{"$f":"'5計画'!C34","v":"火"},null,{"$f":"'5計画'!E34","v":"00:00:00"},null,null,"～",{"$f":"'5計画'!I34","v":"00:00:00"},null,null,{"$f":"'5計画'!L34","v":"00:00:00"},null,null,"～",{"$f":"'5計画'!P34","v":"00:00:00"},null,null,"00:00:00",null,null,{"$f":"'5計画'!V34","v":0},null,null,null,null,null,{"$f":"'5計画'!AB34","v":0},null,null,null,null,null,{"$f":"'5計画'!AH34","v":0}]
[20,null,{"$f":"'5計画'!C35:D35","v":"水"},null,{"$f":"'5計画'!E35:G35","v":"00:00:00"},null,null,"～",{"$f":"'5計画'!I35:K35","v":"00:00:00"},null,null,{"$f":"'5計画'!L35:N35","v":"00:00:00"},null,null,"～",{"$f":"'5計画'!P35:R35","v":"00:00:00"},null,null,"00:00:00",null,null,{"$f":"'5計画'!V35:AA35","v":0},null,null,null,null,null,{"$f":"'5計画'!AB35:AG35","v":0},null,null,null,null,null,{"$f":"'5計画'!AH35:AO35","v":0},null,null,null,null,null,null,null,false,null,null,null,null,null,null,null,null,null,null,null,null,null,null,null,null,null,null,null,null,"0",null,null,null,null,null,null,null,null,null,null,null,{"$f":"'5計画'!C35","v":"水"},null,{"$f":"'5計画'!E35","v":"00:00:00"},null,null,"～",{"$f":"'5計画'!I35","v":"00:00:00"},null,null,{"$f":"'5計画'!L35","v":"00:00:00"},null,null,"～",{"$f":"'5計画'!P35","v":"00:00:00"},null,null,"00:00:00",null,null,{"$f":"'5計画'!V35","v":0},null,null,null,null,null,{"$f":"'5計画'!AB35","v":0},null,null,null,null,null,{"$f":"'5計画'!AH35","v":0}]
[21,null,{"$f":"'5計画'!C36:D36","v":"木"},null,{"$f":"'5計画'!E36:G36","v":"00:00:00"},null,null,"～",{"$f":"'5計画'!I36:K36","v":"00:00:00"},null,null,{"$f":"'5計画'!L36:N36","v":"00:00:00"},null,null,"～",{"$f":"'5計画'!P36:R36","v":"00:00:00"},null,null,"00:00:00",null,null,{"$f":"'5計画'!V36:AA36","v":0},null,null,null,null,null,{"$f":"'5計画'!AB36:AG36","v":0},null,null,null,null,null,{"$f":"'5計画'!AH36:AO36","v":0},null,null,null,null,null,null,null,false,null,null,null,null,null,null,null,null,null,null,null,null,null,null,null,null,null,null,null,null,"0",null,null,null,null,null,null,null,null,null,null,null,{"$f":"'5計画'!C36","v":"木"},null,{"$f":"'5計画'!E36","v":"00:00:00"},null,null,"～",{"$f":"'5計画'!I36","v":"00:00:00"},null,null,{"$f":"'5計画'!L36","v":"00:00:00"},null,null,"～",{"$f":"'5計画'!P36","v":"00:00:00"},null,null,"00:00:00",null,null,{"$f":"'5計画'!V36","v":0},null,null,null,null,null,{"$f":"'5計画'!AB36","v":0},null,null,null,null,null,{"$f":"'5計画'!AH36","v":0}]
[22,null,{"$f":"'5計画'!C37:D37","v":"金"},null,{"$f":"'5計画'!E37:G37","v":"00:00:00"},null,null,"～",{"$f":"'5計画'!I37:K37","v":"00:00:00"},null,null,{"$f":"'5計画'!L37:N37","v":"00:00:00"},null,null,"～",{"$f":"'5計画'!P37:R37","v":"00:00:00"},null,null,"00:00:00",null,null,{"$f":"'5計画'!V37:AA37","v":0},null,null,null,null,null,{"$f":"'5計画'!AB37:AG37","v":0},null,null,null,null,null,{"$f":"'5計画'!AH37:AO37","v":0},null,null,null,null,null,null,null,false,null,null,null,null,null,null,null,null,null,null,null,null,null,null,null,null,null,null,null,null,"0",null,null,null,null,null,null,null,null,null,null,null,{"$f":"'5計画'!C37","v":"金"},null,{"$f":"'5計画'!E37","v":"00:00:00"},null,null,"～",{"$f":"'5計画'!I37","v":"00:00:00"},null,null,{"$f":"'5計画'!L37","v":"00:00:00"},null,null,"～",{"$f":"'5計画'!P37","v":"00:00:00"},null,null,"00:00:00",null,null,{"$f":"'5計画'!V37","v":0},null,null,null,null,null,{"$f":"'5計画'!AB37","v":0},null,null,null,null,null,{"$f":"'5計画'!AH37","v":0}]
[23,null,{"$f":"'5計画'!C38:D38","v":"土"},null,{"$f":"'5計画'!E38:G38","v":"00:00:00"},null,null,"～",{"$f":"'5計画'!I38:K38","v":"00:00:00"},null,null,{"$f":"'5計画'!L38:N38","v":"00:00:00"},null,null,"～",{"$f":"'5計画'!P38:R38","v":"00:00:00"},null,null,"00:00:00",null,null,{"$f":"'5計画'!V38:AA38","v":0},null,null,null,null,null,{"$f":"'5計画'!AB38:AG38","v":0},null,null,null,null,null,{"$f":"'5計画'!AH38:AO38","v":0},null,null,null,null,null,null,null,false,null,null,null,null,null,null,null,null,null,null,null,null,null,null,null,null,null,null,null,null,"0",null,null,null,null,null,null,null,null,null,null,null,{"$f":"'5計画'!C38","v":"土"},null,{"$f":"'5計画'!E38","v":"00:00:00"},null,null,"～",{"$f":"'5計画'!I38","v":"00:00:00"},null,null,{"$f":"'5計画'!L38","v":"00:00:00"},null,null,"～",{"$f":"'5計画'!P38","v":"00:00:00"},null,null,"00:00:00",null,null,{"$f":"'5計画'!V38","v":0},null,null,null,null,null,{"$f":"'5計画'!AB38","v":0},null,null,null,null,null,{"$f":"'5計画'!AH38","v":0}]
[24,null,{"$f":"'5計画'!C39:D39","v":"日"},null,{"$f":"'5計画'!E39:G39","v":"00:00:00"},null,null,"～",{"$f":"'5計画'!I39:K39","v":"00:00:00"},null,null,{"$f":"'5計画'!L39:N39","v":"00:00:00"},null,null,"～",{"$f":"'5計画'!P39:R39","v":"00:00:00"},null,null,"00:00:00",null,null,{"$f":"'5計画'!V39:AA39","v":0},null,null,null,null,null,{"$f":"'5計画'!AB39:AG39","v":0},null,null,null,null,null,{"$f":"'5計画'!AH39:AO39","v":0},null,null,null,null,null,null,null,false,null,null,null,null,null,null,null,null,null,null,null,null,null,null,null,null,null,null,null,null,"0",null,null,null,null,null,null,null,null,null,null,null,{"$f":"'5計画'!C39","v":"日"},null,{"$f":"'5計画'!E39","v":"00:00:00"},null,null,"～",{"$f":"'5計画'!I39","v":"00:00:00"},null,null,{"$f":"'5計画'!L39","v":"00:00:00"},null,null,"～",{"$f":"'5計画'!P39","v":"00:00:00"},null,null,"00:00:00",null,null,{"$f":"'5計画'!V39","v":0},null,null,null,null,null,{"$f":"'5計画'!AB39","v":0},null,null,null,null,null,{"$f":"'5計画'!AH39","v":0}]
[25,null,{"$f":"'5計画'!C40:D40","v":"月"},null,{"$f":"'5計画'!E40:G40","v":"00:00:00"},null,null,"～",{"$f":"'5計画'!I40:K40","v":"00:00:00"},null,null,{"$f":"'5計画'!L40:N40","v":"00:00:00"},null,null,"～",{"$f":"'5計画'!P40:R40","v":"00:00:00"},null,null,"00:00:00",null,null,{"$f":"'5計画'!V40:AA40","v":0},null,null,null,null,null,{"$f":"'5計画'!AB40:AG40","v":0},null,null,null,null,null,{"$f":"'5計画'!AH40:AO40","v":0},null,null,null,null,null,null,null,false,null,null,null,null,null,null,null,null,null,null,null,null,null,null,null,null,null,null,null,null,"0",null,null,null,null,null,null,null,null,null,null,null,{"$f":"'5計画'!C40","v":"月"},null,{"$f":"'5計画'!E40","v":"00:00:00"},null,null,"～",{"$f":"'5計画'!I40","v":"00:00:00"},null,null,{"$f":"'5計画'!L40","v":"00:00:00"},null,null,"～",{"$f":"'5計画'!P40","v":"00:00:00"},null,null,"00:00:00",null,null,{"$f":"'5計画'!V40","v":0},null,null,null,null,null,{"$f":"'5計画'!AB40","v":0},null,null,null,null,null,{"$f":"'5計画'!AH40","v":0}]
[26,null,{"$f":"'5計画'!C41:D41","v":"火"},null,{"$f":"'5計画'!E41:G41","v":"00:00:00"},null,null,"～",{"$f":"'5計画'!I41:K41","v":"00:00:00"},null,null,{"$f":"'5計画'!L41:N41","v":"00:00:00"},null,null,"～",{"$f":"'5計画'!P41:R41","v":"00:00:00"},null,null,"00:00:00",null,null,{"$f":"'5計画'!V41:AA41","v":0},null,null,null,null,null,{"$f":"'5計画'!AB41:AG41","v":0},null,null,null,null,null,{"$f":"'5計画'!AH41:AO41","v":0},null,null,null,null,null,null,null,false,null,null,null,null,null,null,null,null,null,null,null,null,null,null,null,null,null,null,null,null,"0",null,null,null,null,null,null,null,null,null,null,null,{"$f":"'5計画'!C41","v":"火"},null,{"$f":"'5計画'!E41","v":"00:00:00"},null,null,"～",{"$f":"'5計画'!I41","v":"00:00:00"},null,null,{"$f":"'5計画'!L41","v":"00:00:00"},null,null,"～",{"$f":"'5計画'!P41","v":"00:00:00"},null,null,"00:00:00",null,null,{"$f":"'5計画'!V41","v":0},null,null,null,null,null,{"$f":"'5計画'!AB41","v":0},null,null,null,null,null,{"$f":"'5計画'!AH41","v":0}]
[27,null,{"$f":"'5計画'!C42:D42","v":"水"},null,{"$f":"'5計画'!E42:G42","v":"00:00:00"},null,null,"～",{"$f":"'5計画'!I42:K42","v":"00:00:00"},null,null,{"$f":"'5計画'!L42:N42","v":"00:00:00"},null,null,"～",{"$f":"'5計画'!P42:R42","v":"00:00:00"},null,null,"00:00:00",null,null,{"$f":"'5計画'!V42:AA42","v":0},null,null,null,null,null,{"$f":"'5計画'!AB42:AG42","v":0},null,null,null,null,null,{"$f":"'5計画'!AH42:AO42","v":0},null,null,null,null,null,null,null,false,null,null,null,null,null,null,null,null,null,null,null,null,null,null,null,null,null,null,null,null,"0",null,null,null,null,null,null,null,null,null,null,null,{"$f":"'5計画'!C42","v":"水"},null,{"$f":"'5計画'!E42","v":"00:00:00"},null,null,"～",{"$f":"'5計画'!I42","v":"00:00:00"},null,null,{"$f":"'5計画'!L42","v":"00:00:00"},null,null,"～",{"$f":"'5計画'!P42","v":"00:00:00"},null,null,"00:00:00",null,null,{"$f":"'5計画'!V42","v":0},null,null,null,null,null,{"$f":"'5計画'!AB42","v":0},null,null,null,null,null,{"$f":"'5計画'!AH42","v":0}]
[28,null,{"$f":"'5計画'!C43:D43","v":"木"},null,{"$f":"'5計画'!E43:G43","v":"00:00:00"},null,null,"～",{"$f":"'5計画'!I43:K43","v":"00:00:00"},null,null,{"$f":"'5計画'!L43:N43","v":"00:00:00"},null,null,"～",{"$f":"'5計画'!P43:R43","v":"00:00:00"},null,null,"00:00:00",null,null,{"$f":"'5計画'!V43:AA43","v":0},null,null,null,null,null,{"$f":"'5計画'!AB43:AG43","v":0},null,null,null,null,null,{"$f":"'5計画'!AH43:AO43","v":0},null,null,null,null,null,null,null,false,null,null,null,null,null,null,null,null,null,null,null,null,null,null,null,null,null,null,null,null,"0",null,null,null,null,null,null,null,null,null,null,null,{"$f":"'5計画'!C43","v":"木"},null,{"$f":"'5計画'!E43","v":"00:00:00"},null,null,"～",{"$f":"'5計画'!I43","v":"00:00:00"},null,null,{"$f":"'5計画'!L43","v":"00:00:00"},null,null,"～",{"$f":"'5計画'!P43","v":"00:00:00"},null,null,"00:00:00",null,null,{"$f":"'5計画'!V43","v":0},null,null,null,null,null,{"$f":"'5計画'!AB43","v":0},null,null,null,null,null,{"$f":"'5計画'!AH43","v":0}]
[29,null,{"$f":"'5計画'!C44:D44","v":"金"},null,{"$f":"'5計画'!E44:G44","v":"00:00:00"},null,null,"～",{"$f":"'5計画'!I44:K44","v":"00:00:00"},null,null,{"$f":"'5計画'!L44:N44","v":"00:00:00"},null,null,"～",{"$f":"'5計画'!P44:R44","v":"00:00:00"},null,null,"00:00:00",null,null,{"$f":"'5計画'!V44:AA44","v":0},null,null,null,null,null,{"$f":"'5計画'!AB44:AG44","v":0},null,null,null,null,null,{"$f":"'5計画'!AH44:AO44","v":0},null,null,null,null,null,null,null,false,null,null,null,null,null,null,null,null,null,null,null,null,null,null,null,null,null,null,null,null,"0",null,null,null,null,null,null,null,null,null,null,null,{"$f":"'5計画'!C44","v":"金"},null,{"$f":"'5計画'!E44","v":"00:00:00"},null,null,"～",{"$f":"'5計画'!I44","v":"00:00:00"},null,null,{"$f":"'5計画'!L44","v":"00:00:00"},null,null,"～",{"$f":"'5計画'!P44","v":"00:00:00"},null,null,"00:00:00",null,null,{"$f":"'5計画'!V44","v":0},null,null,null,null,null,{"$f":"'5計画'!AB44","v":0},null,null,null,null,null,{"$f":"'5計画'!AH44","v":0}]
[30,null,{"$f":"'5計画'!C45:D45","v":"土"},null,{"$f":"'5計画'!E45:G45","v":"00:00:00"},null,null,"～",{"$f":"'5計画'!I45:K45","v":"00:00:00"},null,null,{"$f":"'5計画'!L45:N45","v":"00:00:00"},null,null,"～",{"$f":"'5計画'!P45:R45","v":"00:00:00"},null,null,"00:00:00",null,null,{"$f":"'5計画'!V45:AA45","v":0},null,null,null,null,null,{"$f":"'5計画'!AB45:AG45","v":0},null,null,null,null,null,{"$f":"'5計画'!AH45:AO45","v":0},null,null,null,null,null,null,null,false,null,null,null,null,null,null,null,null,null,null,null,null,null,null,null,null,null,null,null,null,"0",null,null,null,null,null,null,null,null,null,null,null,{"$f":"'5計画'!C45","v":"土"},null,{"$f":"'5計画'!E45","v":"00:00:00"},null,null,"～",{"$f":"'5計画'!I45","v":"00:00:00"},null,null,{"$f":"'5計画'!L45","v":"00:00:00"},null,null,"～",{"$f":"'5計画'!P45","v":"00:00:00"},null,null,"00:00:00",null,null,{"$f":"'5計画'!V45","v":0},null,null,null,null,null,{"$f":"'5計画'!AB45","v":0},null,null,null,null,null,{"$f":"'5計画'!AH45","v":0}]
[31,null,{"$f":"'5計画'!C46:D46","v":"日"},null,{"$f":"'5計画'!E46:G46","v":"00:00:00"},null,null,"～",{"$f":"'5計画'!I46:K46","v":"00:00:00"},null,null,{"$f":"'5計画'!L46:N46","v":"00:00:00"},null,null,"～",{"$f":"'5計画'!P46:R46","v":"00:00:00"},null,null,"00:00:00",null,null,{"$f":"'5計画'!V46:AA46","v":0},null,null,null,null,null,{"$f":"'5計画'!AB46:AG46","v":0},null,null,null,null,null,{"$f":"'5計画'!AH46:AO46","v":0},null,null,null,null,null,null,null,false,null,null,null,null,null,null,null,null,null,null,null,null,null,null,null,null,null,null,null,null,"0",null,null,null,null,null,null,null,null,null,null,null,{"$f":"'5計画'!C46","v":"日"},null,{"$f":"'5計画'!E46","v":"00:00:00"},null,null,"～",{"$f":"'5計画'!I46","v":"00:00:00"},null,null,{"$f":"'5計画'!L46","v":"00:00:00"},null,null,"～",{"$f":"'5計画'!P46","v":"00:00:00"},null,null,"00:00:00",null,null,{"$f":"'5計画'!V46","v":0},null,null,null,null,null,{"$f":"'5計画'!AB46","v":0},null,null,null,null,null,{"$f":"'5計画'!AH46","v":0}]
[null,null,null,null,null,null,null,null,null,null,null,null,null,null,null,null,null,null,{"$f":"SUM(S16:U46)","v":0},null,null,null,null,null,null,null,null,null,null,null,null,null,null,null,null,null,null,null,null,null,null,null,null,null,null,null,null,null,null,null,null,null,null,null,null,null,null,null,null,null,null,null,null,null,null,null,null,null,null,null,null,null,null,null,null,null,null,null,null,null,null,null,null,null,null,null,null,null,null,null,{"$f":"SUM(CM16:CO46)","v":0}]
[]
["月",null,null,4,null,5,null,6,null,7,null,8,null,9,null,10,null,11,null,12,null,1,null,2,null,3,null,"計"]
["時間",null,null,{"$f":"'４実績'!D50","v":0},null,{"$f":"S47","v":0},null,null,null,null,null,null,null,null,null,null,null,null,null,null,null,null,null,null,null,null,null,{"$f":"SUM(D50:AA50)","v":0},null,null,null,null,"時間",null,null,null,null,null,null,null,null,null,null,null,null,null,null,null,null,null,null,null,null,null,null,null,null,null,null,null,null,null,null,null,null,null,null,null,null,null,null,null,null,null,null,{"$f":"'４実績'!D50","v":0},null,{"$f":"CM47","v":0},null,null,null,null,null,null,null,null,null,null,null,null,null,null,null,null,null,null,null,null,null,{"$f":"SUM(BX50:CU50)","v":0}]
["活動日数",null,null,{"$f":"'４実績'!D51","v":0},null,{"$f":"COUNTIF(S16:U46,\">0\")","v":0},null,null,null,null,null,null,null,null,null,null,null,null,null,null,null,null,null,null,null,null,null,{"$f":"SUM(D51:AA51)","v":0},null,null,null,null,"活動日数",null,null,null,null,null,null,null,null,null,null,null,null,null,null,null,null,null,null,null,null,null,null,null,null,null,null,null,null,null,null,null,null,null,null,null,null,null,null,null,null,null,null,{"$f":"'４実績'!D51","v":0},null,{"$f":"COUNTIF(CM16:CO46,\">0\")","v":0},null,null,null,null,null,null,null,null,null,null,null,null,null,null,null,null,null,null,null,null,null,{"$f":"SUM(BX51:CU51)","v":0}]
["休養日数",null,null,{"$f":"'４実績'!D52","v":30},null,{"$f":"COUNTIF(S16:U46,\"0:00\")","v":31},null,null,null,null,null,null,null,null,null,null,null,null,null,null,null,null,null,null,null,null,null,{"$f":"SUM(D52:AA52)","v":61},null,null,null,null,"休養日数",null,null,null,null,null,null,null,null,null,null,null,null,null,null,null,null,null,null,null,null,null,null,null,null,null,null,null,null,null,null,null,null,null,null,null,null,null,null,null,null,null,null,{"$f":"'４実績'!D52","v":30},null,{"$f":"COUNTIF(CM16:CO46,\"0:00\")","v":31},null,null,null,null,null,null,null,null,null,null,null,null,null,null,null,null,null,null,null,null,null,{"$f":"SUM(BX52:CU52)","v":61}]
[null,null,null,null,null,null,null,null,null,null,null,null,null,null,null,null,null,null,null,null,null,null,null,null,null,null,null,{"$f":"AB50/AB51","v":{"$error":"#DIV/0!"}},null,null,null,null,"平均時間/日",null,null,null,null,null,null,null,null,null,null,null,null,null,null,null,null,null,null,null,null,null,null,null,null,null,null,null,null,null,null,null,null,null,null,null,null,null,null,null,null,null,null,null,null,null,null,null,null,null,null,null,null,null,null,null,null,null,null,null,null,null,null,null,null,null,null,{"$f":"CV50/CV51","v":{"$error":"#DIV/0!"}}]

{"sheet":"6実績","index":15,"n_rows":53,"n_cols":112,"rows_kept":53,"cut":false,"hidden":false,"merged":[[51,91,51,92],[51,93,51,94],[51,95,51,96],[51,97,51,98],[51,99,51,103],[51,104,51,106],[52,99,52,103],[52,104,52,106],[51,72,51,74],[51,75,51,76],[51,77,51,78],[51,79,51,80],[51,81,51,82],[51,83,51,84],[51,85,51,86],[51,87,51,88],[51,89,51,90],[50,91,50,92],[50,93,50,94],[50,95,50,96],[50,97,50,98],[50,99,50,103],[50,104,50,106],[49,72,49,74],[49,75,49,76],[49,77,49,78],[50,72,50,74],[50,75,50,76],[50,77,50,78],[50,79,50,80],[50,81,50,82],[50,83,50,84],[50,85,50,86],[50,87,50,88],[50,89,50,90],[49,79,49,80],[49,81,49,82],[49,83,49,84],[49,85,49,86],[49,87,49,88],[49,89,49,90],[46,90,46,92],[46,104,48,108],[46,109,46,112],[47,109,48,112],[48,91,48,92],[48,93,48,94],[48,95,48,96],[48,97,48,98],[48,99,48,103],[49,91,49,92],[49,93,49,94],[49,95,49,96],[49,97,49,98],[49,99,49,103],[49,104,49,106],[48,72,48,74],[48,75,48,76],[48,77,48,78],[48,79,48,80],[48,81,48,82],[48,83,48,84],[48,85,48,86],[48,87,48,88],[48,89,48,90],[44,105,44,112],[45,72,45,73],[45,74,45,75],[45,76,45,78],[45,80,45,82],[45,83,45,85],[45,87,45,89],[45,90,45,92],[45,93,45,98],[45,99,45,104],[45,105,45,112],[44,72,44,73],[44,74,44,75],[44,76,44,78],[44,80,44,82],[44,83,44,85],[44,87,44,89],[44,90,44,92],[44,93,44,98],[44,99,44,104],[42,105,42,112],[43,72,43,73],[43,74,43,75],[43,76,43,78],[43,80,43,82],[43,83,43,85],[43,87,43,89],[43,90,43,92],[43,93,43,98],[43,99,43,104],[43,105,43,112],[42,72,42,73],[42,74,42,75],[42,76,42,78],[42,80,42,82],[42,83,42,85],[42,87,42,89],[42,90,42,92],[42,93,42,98],[42,99,42,104],[40,105,40,112],[41,72,41,73],[41,74,41,75],[41,76,41,78],[41,80,41,82],[41,83,41,85],[41,87,41,89],[41,90,41,92],[41,93,41,98],[41,99,41,104],[41,105,41,112],[40,72,40,73],[40,74,40,75],[40,76,40,78],[40,80,40,82],[40,83,40,85],[40,87,40,89],[40,90,40,92],[40,93,40,98],[40,99,40,104],[38,105,38,112],[39,72,39,73],[39,74,39,75],[39,76,39,78],[39,80,39,82],[39,83,39,85],[39,87,39,89],[39,90,39,92],[39,93,39,98],[39,99,39,104],[39,105,39,112],[38,72,38,73],[38,74,38,75],[38,76,38,78],[38,80,38,82],[38,83,38,85],[38,87,38,89],[38,90,38,92],[38,93,38,98],[38,99,38,104],[36,105,36,112],[37,72,37,73],[37,74,37,75],[37,76,37,78],[37,80,37,82],[37,83,37,85],[37,87,37,89],[37,90,37,92],[37,93,37,98],[37,99,37,104],[37,105,37,112],[36,72,36,73],[36,74,36,75],[36,76,36,78],[36,80,36,82],[36,83,36,85],[36,87,36,89],[36,90,36,92],[36,93,36,98],[36,99,36,104],[34,105,34,112],[35,72,35,73],[35,74,35,75],[35,76,35,78],[35,80,35,82],[35,83,35,85],[35,87,35,89],[35,90,35,92],[35,93,35,98],[35,99,35,104],[35,105,35,112],[34,72,34,73],[34,74,34,75],[34,76,34,78],[34,80,34,82],[34,83,34,85],[34,87,34,89],[34,90,34,92],[34,93,34,98],[34,99,34,104],[32,105,32,112],[33,72,33,73],[33,74,33,75],[33,76,33,78],[33,80,33,82],[33,83,33,85],[33,87,33,89],[33,90,33,92],[33,93,33,98],[33,99,33,104],[33,105,33,112],[32,72,32,73],[32,74,32,75],[32,76,32,78],[32,80,32,82],[32,83,32,85],[32,87,32,89],[32,90,32,92],[32,93,32,98],[32,99,32,104],[30,105,30,112],[31,72,31,73],[31,74,31,75],[31,76,31,78],[31,80,31,82],[31,83,31,85],[31,87,31,89],[31,90,31,92],[31,93,31,98],[31,99,31,104],[31,105,31,112],[30,72,30,73],[30,74,30,75],[30,76,30,78],[30,80,30,82],[30,83,30,85],[30,87,30,89],[30,90,30,92],[30,93,30,98],[30,99,30,104],[28,105,28,112],[29,72,29,73],[29,74,29,75],[29,76,29,78],[29,80,29,82],[29,83,29,85],[29,87,29,89],[29,90,29,92],[29,93,29,98],[29,99,29,104],[29,105,29,112],[28,72,28,73],[28,74,28,75],[28,76,28,78],[28,80,28,82],[28,83,28,85],[28,87,28,89],[28,90,28,92],[28,93,28,98],[28,99,28,104],[26,105,26,112],[27,72,27,73],[27,74,27,75],[27,76,27,78],[27,80,27,82],[27,83,27,85],[27,87,27,89],[27,90,27,92],[27,93,27,98],[27,99,27,104],[27,105,27,112],[26,72,26,73],[26,74,26,75],[26,76,26,78],[26,80,26,82],[26,83,26,85],[26,87,26,89],[26,90,26,92],[26,93,26,98],[26,99,26,104],[24,105,24,112],[25,72,25,73],[25,74,25,75],[25,76,25,78],[25,80,25,82],[25,83,25,85],[25,87,25,89],[25,90,25,92],[25,93,25,98],[25,99,25,104],[25,105,25,112],[24,72,24,73],[24,74,24,75],[24,76,24,78],[24,80,24,82],[24,83,24,85],[24,87,24,89],[24,90,24,92],[24,93,24,98],[24,99,24,104],[22,105,22,112],[23,72,23,73],[23,74,23,75],[23,76,23,78],[23,80,23,82],[23,83,23,85],[23,87,23,89],[23,90,23,92],[23,93,23,98],[23,99,23,104],[23,105,23,112],[22,72,22,73],[22,74,22,75],[22,76,22,78],[22,80,22,82],[22,83,22,85],[22,87,22,89],[22,90,22,92],[22,93,22,98],[22,99,22,104],[20,105,20,112],[21,72,21,73],[21,74,21,75],[21,76,21,78],[21,80,21,82],[21,83,21,85],[21,87,21,89],[21,90,21,92],[21,93,21,98],[21,99,21,104],[21,105,21,112],[20,72,20,73],[20,74,20,75],[20,76,20,78],[20,80,20,82],[20,83,20,85],[20,87,20,89],[20,90,20,92],[20,93,20,98],[20,99,20,104],[18,105,18,112],[19,72,19,73],[19,74,19,75],[19,76,19,78],[19,80,19,82],[19,83,19,85],[19,87,19,89],[19,90,19,92],[19,93,19,98],[19,99,19,104],[19,105,19,112],[18,72,18,73],[18,74,18,75],[18,76,18,78],[18,80,18,82],[18,83,18,85],[18,87,18,89],[18,90,18,92],[18,93,18,98],[18,99,18,104],[16,105,16,112],[17,72,17,73],[17,74,17,75],[17,76,17,78],[17,80,17,82],[17,83,17,85],[17,87,17,89],[17,90,17,92],[17,93,17,98],[17,99,17,104],[17,105,17,112],[16,72,16,73],[16,74,16,75],[16,76,16,78],[16,80,16,82],[16,83,16,85],[16,87,16,89],[16,90,16,92],[16,93,16,98],[16,99,16,104],[14,72,14,73],[14,74,14,75],[14,76,14,82],[14,83,14,89],[14,90,14,92],[14,93,14,104],[14,105,14,112],[15,72,15,73],[15,74,15,75],[15,76,15,78],[15,80,15,82],[15,83,15,85],[15,87,15,89],[15,90,15,92],[15,93,15,98],[15,99,15,104],[15,105,15,112],[9,111,10,112],[11,73,12,74],[11,75,12,79],[11,80,12,81],[11,82,12,90],[11,91,12,92],[11,93,12,94],[11,95,12,99],[11,100,12,101],[11,102,12,110],[11,111,12,112],[9,73,10,74],[9,75,10,79],[9,80,10,81],[9,82,10,90],[9,91,10,92],[9,93,10,94],[9,95,10,99],[9,100,10,101],[9,102,10,110],[6,109,6,110],[6,111,6,112],[7,99,7,100],[7,101,7,102],[7,103,7,104],[7,105,7,106],[7,107,7,108],[7,109,7,110],[7,111,7,112],[6,72,7,76],[6,77,7,79],[6,80,7,94],[6,96,7,98],[6,99,6,100],[6,101,6,102],[6,103,6,104],[6,105,6,106],[6,107,6,108],[1,110,2,112],[2,72,4,75],[2,76,4,79],[2,80,4,83],[2,84,4,87],[2,88,4,91],[2,92,4,95],[3,97,4,99],[3,100,4,109],[3,110,4,112],[0,72,0,75],[1,72,1,75],[1,76,1,79],[1,80,1,83],[1,84,1,87],[1,88,1,91],[1,92,1,95],[1,97,2,99],[1,100,2,109],[41,42,41,45],[42,42,42,45],[43,42,43,45],[44,42,44,45],[45,42,45,45],[32,42,32,45],[33,42,33,45],[34,42,34,45],[35,42,35,45],[36,42,36,45],[37,42,37,45],[38,42,38,45],[39,42,39,45],[40,42,40,45],[23,42,23,45],[24,42,24,45],[25,42,25,45],[26,42,26,45],[27,42,27,45],[28,42,28,45],[29,42,29,45],[30,42,30,45],[31,42,31,45],[14,42,14,45],[15,42,15,45],[16,42,16,45],[17,42,17,45],[18,42,18,45],[19,42,19,45],[20,42,20,45],[21,42,21,45],[22,42,22,45],[0,0,0,3],[1,0,1,3],[1,4,1,7],[1,8,1,11],[1,12,1,15],[1,16,1,19],[1,20,1,23],[1,25,2,27],[1,28,2,37],[1,38,2,40],[2,0,4,3],[2,4,4,7],[2,8,4,11],[2,12,4,15],[2,16,4,19],[2,20,4,23],[3,25,4,27],[3,28,4,37],[3,38,4,40],[6,0,7,4],[6,5,7,7],[6,8,7,22],[6,24,7,26],[6,27,6,28],[6,29,6,30],[6,31,6,32],[6,33,6,34],[6,35,6,36],[9,23,10,27],[9,28,10,29],[9,30,10,38],[6,37,6,38],[6,39,6,40],[7,27,7,28],[7,29,7,30],[7,31,7,32],[7,33,7,34],[7,35,7,36],[7,37,7,38],[7,39,7,40],[11,39,12,40],[14,0,14,1],[14,2,14,3],[14,4,14,10],[14,11,14,17],[14,18,14,20],[14,21,14,32],[14,33,14,40],[9,39,10,40],[11,1,12,2],[11,3,12,7],[11,8,12,9],[11,10,12,18],[11,19,12,20],[11,21,12,22],[11,23,12,27],[11,28,12,29],[11,30,12,38],[9,1,10,2],[9,3,10,7],[9,8,10,9],[9,10,10,18],[9,19,10,20],[9,21,10,22],[15,18,15,20],[15,21,15,26],[15,27,15,32],[15,33,15,40],[16,0,16,1],[16,2,16,3],[16,4,16,6],[16,8,16,10],[16,11,16,13],[16,15,16,17],[15,0,15,1],[15,2,15,3],[15,4,15,6],[15,8,15,10],[15,11,15,13],[15,15,15,17],[16,18,16,20],[16,21,16,26],[16,27,16,32],[16,33,16,40],[17,33,17,40],[18,0,18,1],[18,2,18,3],[18,4,18,6],[18,8,18,10],[18,11,18,13],[18,15,18,17],[18,18,18,20],[18,21,18,26],[18,27,18,32],[18,33,18,40],[17,0,17,1],[17,2,17,3],[17,4,17,6],[17,8,17,10],[17,11,17,13],[17,15,17,17],[17,18,17,20],[17,21,17,26],[17,27,17,32],[19,33,19,40],[20,0,20,1],[20,2,20,3],[20,4,20,6],[20,8,20,10],[20,11,20,13],[20,15,20,17],[20,18,20,20],[20,21,20,26],[20,27,20,32],[20,33,20,40],[19,0,19,1],[19,2,19,3],[19,4,19,6],[19,8,19,10],[19,11,19,13],[19,15,19,17],[19,18,19,20],[19,21,19,26],[19,27,19,32],[21,33,21,40],[22,0,22,1],[22,2,22,3],[22,4,22,6],[22,8,22,10],[22,11,22,13],[22,15,22,17],[22,18,22,20],[22,21,22,26],[22,27,22,32],[22,33,22,40],[21,0,21,1],[21,2,21,3],[21,4,21,6],[21,8,21,10],[21,11,21,13],[21,15,21,17],[21,18,21,20],[21,21,21,26],[21,27,21,32],[23,33,23,40],[24,0,24,1],[24,2,24,3],[24,4,24,6],[24,8,24,10],[24,11,24,13],[24,15,24,17],[24,18,24,20],[24,21,24,26],[24,27,24,32],[24,33,24,40],[23,0,23,1],[23,2,23,3],[23,4,23,6],[23,8,23,10],[23,11,23,13],[23,15,23,17],[23,18,23,20],[23,21,23,26],[23,27,23,32],[25,33,25,40],[26,0,26,1],[26,2,26,3],[26,4,26,6],[26,8,26,10],[26,11,26,13],[26,15,26,17],[26,18,26,20],[26,21,26,26],[26,27,26,32],[26,33,26,40],[25,0,25,1],[25,2,25,3],[25,4,25,6],[25,8,25,10],[25,11,25,13],[25,15,25,17],[25,18,25,20],[25,21,25,26],[25,27,25,32],[27,33,27,40],[28,0,28,1],[28,2,28,3],[28,4,28,6],[28,8,28,10],[28,11,28,13],[28,15,28,17],[28,18,28,20],[28,21,28,26],[28,27,28,32],[28,33,28,40],[27,0,27,1],[27,2,27,3],[27,4,27,6],[27,8,27,10],[27,11,27,13],[27,15,27,17],[27,18,27,20],[27,21,27,26],[27,27,27,32],[29,33,29,40],[30,0,30,1],[30,2,30,3],[30,4,30,6],[30,8,30,10],[30,11,30,13],[30,15,30,17],[30,18,30,20],[30,21,30,26],[30,27,30,32],[30,33,30,40],[29,0,29,1],[29,2,29,3],[29,4,29,6],[29,8,29,10],[29,11,29,13],[29,15,29,17],[29,18,29,20],[29,21,29,26],[29,27,29,32],[31,33,31,40],[32,0,32,1],[32,2,32,3],[32,4,32,6],[32,8,32,10],[32,11,32,13],[32,15,32,17],[32,18,32,20],[32,21,32,26],[32,27,32,32],[32,33,32,40],[31,0,31,1],[31,2,31,3],[31,4,31,6],[31,8,31,10],[31,11,31,13],[31,15,31,17],[31,18,31,20],[31,21,31,26],[31,27,31,32],[33,33,33,40],[34,0,34,1],[34,2,34,3],[34,4,34,6],[34,8,34,10],[34,11,34,13],[34,15,34,17],[34,18,34,20],[34,21,34,26],[34,27,34,32],[34,33,34,40],[33,0,33,1],[33,2,33,3],[33,4,33,6],[33,8,33,10],[33,11,33,13],[33,15,33,17],[33,18,33,20],[33,21,33,26],[33,27,33,32],[35,33,35,40],[36,0,36,1],[36,2,36,3],[36,4,36,6],[36,8,36,10],[36,11,36,13],[36,15,36,17],[36,18,36,20],[36,21,36,26],[36,27,36,32],[36,33,36,40],[35,0,35,1],[35,2,35,3],[35,4,35,6],[35,8,35,10],[35,11,35,13],[35,15,35,17],[35,18,35,20],[35,21,35,26],[35,27,35,32],[37,33,37,40],[38,0,38,1],[38,2,38,3],[38,4,38,6],[38,8,38,10],[38,11,38,13],[38,15,38,17],[38,18,38,20],[38,21,38,26],[38,27,38,32],[38,33,38,40],[37,0,37,1],[37,2,37,3],[37,4,37,6],[37,8,37,10],[37,11,37,13],[37,15,37,17],[37,18,37,20],[37,21,37,26],[37,27,37,32],[39,33,39,40],[40,0,40,1],[40,2,40,3],[40,4,40,6],[40,8,40,10],[40,11,40,13],[40,15,40,17],[40,18,40,20],[40,21,40,26],[40,27,40,32],[40,33,40,40],[39,0,39,1],[39,2,39,3],[39,4,39,6],[39,8,39,10],[39,11,39,13],[39,15,39,17],[39,18,39,20],[39,21,39,26],[39,27,39,32],[41,33,41,40],[42,0,42,1],[42,2,42,3],[42,4,42,6],[42,8,42,10],[42,11,42,13],[42,15,42,17],[42,18,42,20],[42,21,42,26],[42,27,42,32],[42,33,42,40],[41,0,41,1],[41,2,41,3],[41,4,41,6],[41,8,41,10],[41,11,41,13],[41,15,41,17],[41,18,41,20],[41,21,41,26],[41,27,41,32],[43,33,43,40],[44,0,44,1],[44,2,44,3],[44,4,44,6],[44,8,44,10],[44,11,44,13],[44,15,44,17],[44,18,44,20],[44,21,44,26],[44,27,44,32],[44,33,44,40],[43,0,43,1],[43,2,43,3],[43,4,43,6],[43,8,43,10],[43,11,43,13],[43,15,43,17],[43,18,43,20],[43,21,43,26],[43,27,43,32],[45,33,45,40],[46,18,46,20],[48,0,48,2],[48,3,48,4],[48,5,48,6],[48,7,48,8],[48,9,48,10],[48,23,48,24],[48,25,48,26],[48,27,48,31],[48,15,48,16],[48,17,48,18],[48,19,48,20],[48,21,48,22],[45,0,45,1],[45,2,45,3],[45,4,45,6],[45,8,45,10],[45,11,45,13],[45,15,45,17],[45,18,45,20],[45,21,45,26],[45,27,45,32],[49,32,49,34],[49,0,49,2],[49,3,49,4],[49,5,49,6],[49,7,49,8],[49,9,49,10],[49,11,49,12],[49,13,49,14],[48,11,48,12],[48,13,48,14],[49,27,49,31],[49,15,49,16],[49,17,49,18],[49,19,49,20],[49,21,49,22],[49,23,49,24],[49,25,49,26],[50,0,50,2],[50,3,50,4],[50,5,50,6],[50,7,50,8],[50,9,50,10],[50,11,50,12],[50,13,50,14],[50,15,50,16],[50,17,50,18],[5,0,5,22],[51,25,51,26],[51,27,51,31],[51,32,51,34],[52,27,52,31],[52,32,52,34],[51,13,51,14],[51,15,51,16],[51,17,51,18],[51,19,51,20],[51,21,51,22],[51,23,51,24],[51,0,51,2],[51,3,51,4],[51,5,51,6],[51,7,51,8],[51,9,51,10],[51,11,51,12],[50,19,50,20],[50,21,50,22],[50,23,50,24],[50,25,50,26],[50,27,50,31],[50,32,50,34]]}
[]
[{"$f":"'６計画'!A2:D2","v":"校長"},null,null,null,{"$f":"'６計画'!E2:H2","v":"教頭"},null,null,null,{"$f":"'６計画'!I2:L2","v":"教頭"},null,null,null,{"$f":"'６計画'!M2:P2","v":"主幹教諭"},null,null,null,{"$f":"'６計画'!Q2:T2","v":0},null,null,null,{"$f":"'６計画'!U2:X2","v":"顧問"},null,null,null,null,"学校名",null,null,{"$f":"'６計画'!AC2:AL3","v":0},null,null,null,null,null,null,null,null,null,"学校",null,null,null,null,null,null,null,null,null,null,null,null,null,null,null,null,null,null,null,null,null,null,null,null,null,null,null,null,null,null,null,null,null,{"$f":"'６計画'!BU2:BX2","v":0},null,null,null,{"$f":"'６計画'!BY2:CB2","v":0},null,null,null,{"$f":"'６計画'!CC2:CF2","v":0},null,null,null,{"$f":"'６計画'!CG2:CJ2","v":0},null,null,null,{"$f":"'６計画'!CK2:CN2","v":0},null,null,null,{"$f":"'６計画'!CO2:CR2","v":0},null,null,null,null,null,null,null,{"$f":"'６計画'!CW2:DF3","v":0}]
["印",null,null,null,"印",null,null,null,"印",null,null,null,"印",null,null,null,"印",null,null,null,"印"]
[null,null,null,null,null,null,null,null,null,null,null,null,null,null,null,null,null,null,null,null,null,null,null,null,null,"部活動名",null,null,{"$f":"'６計画'!AC4:AL5","v":0},null,null,null,null,null,null,null,null,null,"部",null,null,null,null,null,null,null,null,null,null,null,null,null,null,null,null,null,null,null,null,null,null,null,null,null,null,null,null,null,null,null,null,null,null,null,null,null,null,null,null,null,null,null,null,null,null,null,null,null,null,null,null,null,null,null,null,null,null,null,null,null,{"$f":"'６計画'!CW4:DF5","v":0}]
[]
["　※活動計画と違う内容については、校長口頭命令済み"]
[6,null,null,null,null,"月",null,null,"〈月間〉部活動計画・活動実績",null,null,null,null,null,null,null,null,null,null,null,null,null,null,null,"部員数",null,null,"1女",null,"2女",null,"3女",null,"1男",null,"2男",null,"3男",null,"計"]
[null,null,null,null,null,null,null,null,null,null,null,null,null,null,null,null,null,null,null,null,null,null,null,null,null,null,null,{"$f":"'６計画'!AB8:AC8","v":0},null,{"$f":"'６計画'!AD8:AE8","v":0},null,{"$f":"'６計画'!AF8:AG8","v":0},null,{"$f":"'６計画'!AH8:AI8","v":0},null,{"$f":"'６計画'!AJ8:AK8","v":0},null,{"$f":"'６計画'!AL8:AM8","v":0},null,{"$f":"SUM(AB8:AM8)","v":0},null,null,null,null,null,null,null,null,null,null,null,null,null,null,null,null,null,null,null,null,null,null,null,null,null,null,null,null,null,null,null,null,null,null,null,null,null,null,null,null,null,null,null,null,null,null,null,null,null,null,null,null,null,null,null,null,null,null,null,{"$f":"'６計画'!AB8","v":0},null,{"$f":"'６計画'!AD8","v":0},null,{"$f":"'６計画'!AF8","v":0},null,{"$f":"'６計画'!AH8","v":0},null,{"$f":"'６計画'!AJ8","v":0},null,{"$f":"'６計画'!AL8","v":0},null,{"$f":"SUM(CV8:DG8)","v":0}]
[]
[null,"職名",null,{"$f":"'６計画'!D10:H11","v":0},null,null,null,null,"顧問",null,{"$f":"'６計画'!K10:S11","v":0},null,null,null,null,null,null,null,null,null,null,"職名",null,{"$f":"'６計画'!X10:AB11","v":0},null,null,null,null,"副２",null,{"$f":"'６計画'!AE10:AM11","v":0},null,null,null,null,null,null,null,null,null,null,null,null,null,null,null,null,null,null,null,null,null,null,null,null,null,null,null,null,null,null,null,null,null,null,null,null,null,null,null,null,null,null,null,null,{"$f":"'６計画'!D10","v":0},null,null,null,null,null,null,{"$f":"'６計画'!K10","v":0},null,null,null,null,null,null,null,null,null,null,null,null,{"$f":"'６計画'!X10","v":0},null,null,null,null,null,null,{"$f":"'６計画'!AE10","v":0}]
[]
[null,"職名",null,{"$f":"'６計画'!D12:H13","v":0},null,null,null,null,"副顧問",null,{"$f":"'６計画'!K12:S13","v":0},null,null,null,null,null,null,null,null,null,null,"職名",null,{"$f":"'６計画'!X12:AB13","v":0},null,null,null,null,"副３",null,{"$f":"'６計画'!AE12:AM13","v":0},null,null,null,null,null,null,null,null,null,null,null,null,null,null,null,null,null,null,null,null,null,null,null,null,null,null,null,null,null,null,null,null,null,null,null,null,null,null,null,null,null,null,null,null,{"$f":"'６計画'!D12","v":0},null,null,null,null,null,null,{"$f":"'６計画'!K12","v":0},null,null,null,null,null,null,null,null,null,null,null,null,{"$f":"'６計画'!X12","v":0},null,null,null,null,null,null,{"$f":"'６計画'!AE12","v":0}]
[]
[]
["日",null,"曜",null,"ＡＭ",null,null,null,null,null,null,"ＰＭ",null,null,null,null,null,null,"時間",null,null,"内容（練習・大会・OFF等）",null,null,null,null,null,null,null,null,null,null,null,"場所",null,null,null,null,null,null,null,false,"特殊業務"]
[1,null,{"$f":"'６計画'!C16:D16","v":"月"},null,{"$f":"'６計画'!E16:G16","v":"00:00:00"},null,null,"～",{"$f":"'６計画'!I16:K16","v":"00:00:00"},null,null,{"$f":"'６計画'!L16:N16","v":"00:00:00"},null,null,"～",{"$f":"'６計画'!P16:R16","v":"00:00:00"},null,null,{"$f":"(I16-E16)+(P16-L16)","v":"00:00:00"},null,null,{"$f":"'６計画'!V16:AA16","v":0},null,null,null,null,null,{"$f":"'６計画'!AB16:AG16","v":0},null,null,null,null,null,{"$f":"'６計画'!AH16:AO16","v":0},null,null,null,null,null,null,null,false,null,null,null,null,null,null,null,null,null,null,null,null,null,null,null,null,null,null,null,null,{"$f":"RIGHT(V16,2)","v":"0"},null,null,null,null,null,null,null,null,null,null,null,{"$f":"'６計画'!C16","v":"月"},null,{"$f":"'６計画'!E16","v":"00:00:00"},null,null,"～",{"$f":"'６計画'!I16","v":"00:00:00"},null,null,{"$f":"'６計画'!L16","v":"00:00:00"},null,null,"～",{"$f":"'６計画'!P16","v":"00:00:00"},null,null,{"$f":"(CC16-BY16)+(CJ16-CF16)","v":"00:00:00"},null,null,{"$f":"'６計画'!V16","v":0},null,null,null,null,null,{"$f":"'６計画'!AB16","v":0},null,null,null,null,null,{"$f":"'６計画'!AH16","v":0}]
[2,null,{"$f":"'６計画'!C17:D17","v":"火"},null,{"$f":"'６計画'!E17:G17","v":"00:00:00"},null,null,"～",{"$f":"'６計画'!I17:K17","v":"00:00:00"},null,null,{"$f":"'６計画'!L17:N17","v":"00:00:00"},null,null,"～",{"$f":"'６計画'!P17:R17","v":"00:00:00"},null,null,"00:00:00",null,null,{"$f":"'６計画'!V17:AA17","v":0},null,null,null,null,null,{"$f":"'６計画'!AB17:AG17","v":0},null,null,null,null,null,{"$f":"'６計画'!AH17:AO17","v":0},null,null,null,null,null,null,null,false,null,null,null,null,null,null,null,null,null,null,null,null,null,null,null,null,null,null,null,null,{"$f":"RIGHT(V17,2)","v":"0"},null,null,null,null,null,null,null,null,null,null,null,{"$f":"'６計画'!C17","v":"火"},null,{"$f":"'６計画'!E17","v":"00:00:00"},null,null,"～",{"$f":"'６計画'!I17","v":"00:00:00"},null,null,{"$f":"'６計画'!L17","v":"00:00:00"},null,null,"～",{"$f":"'６計画'!P17","v":"00:00:00"},null,null,"00:00:00",null,null,{"$f":"'６計画'!V17","v":0},null,null,null,null,null,{"$f":"'６計画'!AB17","v":0},null,null,null,null,null,{"$f":"'６計画'!AH17","v":0}]
[3,null,{"$f":"'６計画'!C18:D18","v":"水"},null,{"$f":"'６計画'!E18:G18","v":"00:00:00"},null,null,"～",{"$f":"'６計画'!I18:K18","v":"00:00:00"},null,null,{"$f":"'６計画'!L18:N18","v":"00:00:00"},null,null,"～",{"$f":"'６計画'!P18:R18","v":"00:00:00"},null,null,"00:00:00",null,null,{"$f":"'６計画'!V18:AA18","v":0},null,null,null,null,null,{"$f":"'６計画'!AB18:AG18","v":0},null,null,null,null,null,{"$f":"'６計画'!AH18:AO18","v":0},null,null,null,null,null,null,null,false,null,null,null,null,null,null,null,null,null,null,null,null,null,null,null,null,null,null,null,null,"0",null,null,null,null,null,null,null,null,null,null,null,{"$f":"'６計画'!C18","v":"水"},null,{"$f":"'６計画'!E18","v":"00:00:00"},null,null,"～",{"$f":"'６計画'!I18","v":"00:00:00"},null,null,{"$f":"'６計画'!L18","v":"00:00:00"},null,null,"～",{"$f":"'６計画'!P18","v":"00:00:00"},null,null,"00:00:00",null,null,{"$f":"'６計画'!V18","v":0},null,null,null,null,null,{"$f":"'６計画'!AB18","v":0},null,null,null,null,null,{"$f":"'６計画'!AH18","v":0}]
[4,null,{"$f":"'６計画'!C19:D19","v":"木"},null,{"$f":"'６計画'!E19:G19","v":"00:00:00"},null,null,"～",{"$f":"'６計画'!I19:K19","v":"00:00:00"},null,null,{"$f":"'６計画'!L19:N19","v":"00:00:00"},null,null,"～",{"$f":"'６計画'!P19:R19","v":"00:00:00"},null,null,"00:00:00",null,null,{"$f":"'６計画'!V19:AA19","v":0},null,null,null,null,null,{"$f":"'６計画'!AB19:AG19","v":0},null,null,null,null,null,{"$f":"'６計画'!AH19:AO19","v":0},null,null,null,null,null,null,null,false,null,null,null,null,null,null,null,null,null,null,null,null,null,null,null,null,null,null,null,null,"0",null,null,null,null,null,null,null,null,null,null,null,{"$f":"'６計画'!C19","v":"木"},null,{"$f":"'６計画'!E19","v":"00:00:00"},null,null,"～",{"$f":"'６計画'!I19","v":"00:00:00"},null,null,{"$f":"'６計画'!L19","v":"00:00:00"},null,null,"～",{"$f":"'６計画'!P19","v":"00:00:00"},null,null,"00:00:00",null,null,{"$f":"'６計画'!V19","v":0},null,null,null,null,null,{"$f":"'６計画'!AB19","v":0},null,null,null,null,null,{"$f":"'６計画'!AH19","v":0}]
[5,null,{"$f":"'６計画'!C20:D20","v":"金"},null,{"$f":"'６計画'!E20:G20","v":"00:00:00"},null,null,"～",{"$f":"'６計画'!I20:K20","v":"00:00:00"},null,null,{"$f":"'６計画'!L20:N20","v":"00:00:00"},null,null,"～",{"$f":"'６計画'!P20:R20","v":"00:00:00"},null,null,"00:00:00",null,null,{"$f":"'６計画'!V20:AA20","v":0},null,null,null,null,null,{"$f":"'６計画'!AB20:AG20","v":0},null,null,null,null,null,{"$f":"'６計画'!AH20:AO20","v":0},null,null,null,null,null,null,null,false,null,null,null,null,null,null,null,null,null,null,null,null,null,null,null,null,null,null,null,null,"0",null,null,null,null,null,null,null,null,null,null,null,{"$f":"'６計画'!C20","v":"金"},null,{"$f":"'６計画'!E20","v":"00:00:00"},null,null,"～",{"$f":"'６計画'!I20","v":"00:00:00"},null,null,{"$f":"'６計画'!L20","v":"00:00:00"},null,null,"～",{"$f":"'６計画'!P20","v":"00:00:00"},null,null,"00:00:00",null,null,{"$f":"'６計画'!V20","v":0},null,null,null,null,null,{"$f":"'６計画'!AB20","v":0},null,null,null,null,null,{"$f":"'６計画'!AH20","v":0}]
[6,null,{"$f":"'６計画'!C21:D21","v":"土"},null,{"$f":"'６計画'!E21:G21","v":"00:00:00"},null,null,"～",{"$f":"'６計画'!I21:K21","v":"00:00:00"},null,null,{"$f":"'６計画'!L21:N21","v":"00:00:00"},null,null,"～",{"$f":"'６計画'!P21:R21","v":"00:00:00"},null,null,"00:00:00",null,null,{"$f":"'６計画'!V21:AA21","v":0},null,null,null,null,null,{"$f":"'６計画'!AB21:AG21","v":0},null,null,null,null,null,{"$f":"'６計画'!AH21:AO21","v":0},null,null,null,null,null,null,null,false,null,null,null,null,null,null,null,null,null,null,null,null,null,null,null,null,null,null,null,null,"0",null,null,null,null,null,null,null,null,null,null,null,{"$f":"'６計画'!C21","v":"土"},null,{"$f":"'６計画'!E21","v":"00:00:00"},null,null,"～",{"$f":"'６計画'!I21","v":"00:00:00"},null,null,{"$f":"'６計画'!L21","v":"00:00:00"},null,null,"～",{"$f":"'６計画'!P21","v":"00:00:00"},null,null,"00:00:00",null,null,{"$f":"'６計画'!V21","v":0},null,null,null,null,null,{"$f":"'６計画'!AB21","v":0},null,null,null,null,null,{"$f":"'６計画'!AH21","v":0}]
[7,null,{"$f":"'６計画'!C22:D22","v":"日"},null,{"$f":"'６計画'!E22:G22","v":"00:00:00"},null,null,"～",{"$f":"'６計画'!I22:K22","v":"00:00:00"},null,null,{"$f":"'６計画'!L22:N22","v":"00:00:00"},null,null,"～",{"$f":"'６計画'!P22:R22","v":"00:00:00"},null,null,"00:00:00",null,null,{"$f":"'６計画'!V22:AA22","v":0},null,null,null,null,null,{"$f":"'６計画'!AB22:AG22","v":0},null,null,null,null,null,{"$f":"'６計画'!AH22:AO22","v":0},null,null,null,null,null,null,null,false,null,null,null,null,null,null,null,null,null,null,null,null,null,null,null,null,null,null,null,null,"0",null,null,null,null,null,null,null,null,null,null,null,{"$f":"'６計画'!C22","v":"日"},null,{"$f":"'６計画'!E22","v":"00:00:00"},null,null,"～",{"$f":"'６計画'!I22","v":"00:00:00"},null,null,{"$f":"'６計画'!L22","v":"00:00:00"},null,null,"～",{"$f":"'６計画'!P22","v":"00:00:00"},null,null,"00:00:00",null,null,{"$f":"'６計画'!V22","v":0},null,null,null,null,null,{"$f":"'６計画'!AB22","v":0},null,null,null,null,null,{"$f":"'６計画'!AH22","v":0}]
[8,null,{"$f":"'６計画'!C23:D23","v":"月"},null,{"$f":"'６計画'!E23:G23","v":"00:00:00"},null,null,"～",{"$f":"'６計画'!I23:K23","v":"00:00:00"},null,null,{"$f":"'６計画'!L23:N23","v":"00:00:00"},null,null,"～",{"$f":"'６計画'!P23:R23","v":"00:00:00"},null,null,"00:00:00",null,null,{"$f":"'６計画'!V23:AA23","v":0},null,null,null,null,null,{"$f":"'６計画'!AB23:AG23","v":0},null,null,null,null,null,{"$f":"'６計画'!AH23:AO23","v":0},null,null,null,null,null,null,null,false,null,null,null,null,null,null,null,null,null,null,null,null,null,null,null,null,null,null,null,null,"0",null,null,null,null,null,null,null,null,null,null,null,{"$f":"'６計画'!C23","v":"月"},null,{"$f":"'６計画'!E23","v":"00:00:00"},null,null,"～",{"$f":"'６計画'!I23","v":"00:00:00"},null,null,{"$f":"'６計画'!L23","v":"00:00:00"},null,null,"～",{"$f":"'６計画'!P23","v":"00:00:00"},null,null,"00:00:00",null,null,{"$f":"'６計画'!V23","v":0},null,null,null,null,null,{"$f":"'６計画'!AB23","v":0},null,null,null,null,null,{"$f":"'６計画'!AH23","v":0}]
[9,null,{"$f":"'６計画'!C24:D24","v":"火"},null,{"$f":"'６計画'!E24:G24","v":"00:00:00"},null,null,"～",{"$f":"'６計画'!I24:K24","v":"00:00:00"},null,null,{"$f":"'６計画'!L24:N24","v":"00:00:00"},null,null,"～",{"$f":"'６計画'!P24:R24","v":"00:00:00"},null,null,"00:00:00",null,null,{"$f":"'６計画'!V24:AA24","v":0},null,null,null,null,null,{"$f":"'６計画'!AB24:AG24","v":0},null,null,null,null,null,{"$f":"'６計画'!AH24:AO24","v":0},null,null,null,null,null,null,null,false,null,null,null,null,null,null,null,null,null,null,null,null,null,null,null,null,null,null,null,null,"0",null,null,null,null,null,null,null,null,null,null,null,{"$f":"'６計画'!C24","v":"火"},null,{"$f":"'６計画'!E24","v":"00:00:00"},null,null,"～",{"$f":"'６計画'!I24","v":"00:00:00"},null,null,{"$f":"'６計画'!L24","v":"00:00:00"},null,null,"～",{"$f":"'６計画'!P24","v":"00:00:00"},null,null,"00:00:00",null,null,{"$f":"'６計画'!V24","v":0},null,null,null,null,null,{"$f":"'６計画'!AB24","v":0},null,null,null,null,null,{"$f":"'６計画'!AH24","v":0}]
[10,null,{"$f":"'６計画'!C25:D25","v":"水"},null,{"$f":"'６計画'!E25:G25","v":"00:00:00"},null,null,"～",{"$f":"'６計画'!I25:K25","v":"00:00:00"},null,null,{"$f":"'６計画'!L25:N25","v":"00:00:00"},null,null,"～",{"$f":"'６計画'!P25:R25","v":"00:00:00"},null,null,"00:00:00",null,null,{"$f":"'６計画'!V25:AA25","v":0},null,null,null,null,null,{"$f":"'６計画'!AB25:AG25","v":0},null,null,null,null,null,{"$f":"'６計画'!AH25:AO25","v":0},null,null,null,null,null,null,null,false,null,null,null,null,null,null,null,null,null,null,null,null,null,null,null,null,null,null,null,null,"0",null,null,null,null,null,null,null,null,null,null,null,{"$f":"'６計画'!C25","v":"水"},null,{"$f":"'６計画'!E25","v":"00:00:00"},null,null,"～",{"$f":"'６計画'!I25","v":"00:00:00"},null,null,{"$f":"'６計画'!L25","v":"00:00:00"},null,null,"～",{"$f":"'６計画'!P25","v":"00:00:00"},null,null,"00:00:00",null,null,{"$f":"'６計画'!V25","v":0},null,null,null,null,null,{"$f":"'６計画'!AB25","v":0},null,null,null,null,null,{"$f":"'６計画'!AH25","v":0}]
[11,null,{"$f":"'６計画'!C26:D26","v":"木"},null,{"$f":"'６計画'!E26:G26","v":"00:00:00"},null,null,"～",{"$f":"'６計画'!I26:K26","v":"00:00:00"},null,null,{"$f":"'６計画'!L26:N26","v":"00:00:00"},null,null,"～",{"$f":"'６計画'!P26:R26","v":"00:00:00"},null,null,"00:00:00",null,null,{"$f":"'６計画'!V26:AA26","v":0},null,null,null,null,null,{"$f":"'６計画'!AB26:AG26","v":0},null,null,null,null,null,{"$f":"'６計画'!AH26:AO26","v":0},null,null,null,null,null,null,null,false,null,null,null,null,null,null,null,null,null,null,null,null,null,null,null,null,null,null,null,null,"0",null,null,null,null,null,null,null,null,null,null,null,{"$f":"'６計画'!C26","v":"木"},null,{"$f":"'６計画'!E26","v":"00:00:00"},null,null,"～",{"$f":"'６計画'!I26","v":"00:00:00"},null,null,{"$f":"'６計画'!L26","v":"00:00:00"},null,null,"～",{"$f":"'６計画'!P26","v":"00:00:00"},null,null,"00:00:00",null,null,{"$f":"'６計画'!V26","v":0},null,null,null,null,null,{"$f":"'６計画'!AB26","v":0},null,null,null,null,null,{"$f":"'６計画'!AH26","v":0}]
[12,null,{"$f":"'６計画'!C27:D27","v":"金"},null,{"$f":"'６計画'!E27:G27","v":"00:00:00"},null,null,"～",{"$f":"'６計画'!I27:K27","v":"00:00:00"},null,null,{"$f":"'６計画'!L27:N27","v":"00:00:00"},null,null,"～",{"$f":"'６計画'!P27:R27","v":"00:00:00"},null,null,"00:00:00",null,null,{"$f":"'６計画'!V27:AA27","v":0},null,null,null,null,null,{"$f":"'６計画'!AB27:AG27","v":0},null,null,null,null,null,{"$f":"'６計画'!AH27:AO27","v":0},null,null,null,null,null,null,null,false,null,null,null,null,null,null,null,null,null,null,null,null,null,null,null,null,null,null,null,null,"0",null,null,null,null,null,null,null,null,null,null,null,{"$f":"'６計画'!C27","v":"金"},null,{"$f":"'６計画'!E27","v":"00:00:00"},null,null,"～",{"$f":"'６計画'!I27","v":"00:00:00"},null,null,{"$f":"'６計画'!L27","v":"00:00:00"},null,null,"～",{"$f":"'６計画'!P27","v":"00:00:00"},null,null,"00:00:00",null,null,{"$f":"'６計画'!V27","v":0},null,null,null,null,null,{"$f":"'６計画'!AB27","v":0},null,null,null,null,null,{"$f":"'６計画'!AH27","v":0}]
[13,null,{"$f":"'６計画'!C28:D28","v":"土"},null,{"$f":"'６計画'!E28:G28","v":"00:00:00"},null,null,"～",{"$f":"'６計画'!I28:K28","v":"00:00:00"},null,null,{"$f":"'６計画'!L28:N28","v":"00:00:00"},null,null,"～",{"$f":"'６計画'!P28:R28","v":"00:00:00"},null,null,"00:00:00",null,null,{"$f":"'６計画'!V28:AA28","v":0},null,null,null,null,null,{"$f":"'６計画'!AB28:AG28","v":0},null,null,null,null,null,{"$f":"'６計画'!AH28:AO28","v":0},null,null,null,null,null,null,null,false,null,null,null,null,null,null,null,null,null,null,null,null,null,null,null,null,null,null,null,null,"0",null,null,null,null,null,null,null,null,null,null,null,{"$f":"'６計画'!C28","v":"土"},null,{"$f":"'６計画'!E28","v":"00:00:00"},null,null,"～",{"$f":"'６計画'!I28","v":"00:00:00"},null,null,{"$f":"'６計画'!L28","v":"00:00:00"},null,null,"～",{"$f":"'６計画'!P28","v":"00:00:00"},null,null,"00:00:00",null,null,{"$f":"'６計画'!V28","v":0},null,null,null,null,null,{"$f":"'６計画'!AB28","v":0},null,null,null,null,null,{"$f":"'６計画'!AH28","v":0}]
[14,null,{"$f":"'６計画'!C29:D29","v":"日"},null,{"$f":"'６計画'!E29:G29","v":"00:00:00"},null,null,"～",{"$f":"'６計画'!I29:K29","v":"00:00:00"},null,null,{"$f":"'６計画'!L29:N29","v":"00:00:00"},null,null,"～",{"$f":"'６計画'!P29:R29","v":"00:00:00"},null,null,"00:00:00",null,null,{"$f":"'６計画'!V29:AA29","v":0},null,null,null,null,null,{"$f":"'６計画'!AB29:AG29","v":0},null,null,null,null,null,{"$f":"'６計画'!AH29:AO29","v":0},null,null,null,null,null,null,null,false,null,null,null,null,null,null,null,null,null,null,null,null,null,null,null,null,null,null,null,null,"0",null,null,null,null,null,null,null,null,null,null,null,{"$f":"'６計画'!C29","v":"日"},null,{"$f":"'６計画'!E29","v":"00:00:00"},null,null,"～",{"$f":"'６計画'!I29","v":"00:00:00"},null,null,{"$f":"'６計画'!L29","v":"00:00:00"},null,null,"～",{"$f":"'６計画'!P29","v":"00:00:00"},null,null,"00:00:00",null,null,{"$f":"'６計画'!V29","v":0},null,null,null,null,null,{"$f":"'６計画'!AB29","v":0},null,null,null,null,null,{"$f":"'６計画'!AH29","v":0}]
[15,null,{"$f":"'６計画'!C30:D30","v":"月"},null,{"$f":"'６計画'!E30:G30","v":"00:00:00"},null,null,"～",{"$f":"'６計画'!I30:K30","v":"00:00:00"},null,null,{"$f":"'６計画'!L30:N30","v":"00:00:00"},null,null,"～",{"$f":"'６計画'!P30:R30","v":"00:00:00"},null,null,"00:00:00",null,null,{"$f":"'６計画'!V30:AA30","v":0},null,null,null,null,null,{"$f":"'６計画'!AB30:AG30","v":0},null,null,null,null,null,{"$f":"'６計画'!AH30:AO30","v":0},null,null,null,null,null,null,null,false,null,null,null,null,null,null,null,null,null,null,null,null,null,null,null,null,null,null,null,null,"0",null,null,null,null,null,null,null,null,null,null,null,{"$f":"'６計画'!C30","v":"月"},null,{"$f":"'６計画'!E30","v":"00:00:00"},null,null,"～",{"$f":"'６計画'!I30","v":"00:00:00"},null,null,{"$f":"'６計画'!L30","v":"00:00:00"},null,null,"～",{"$f":"'６計画'!P30","v":"00:00:00"},null,null,"00:00:00",null,null,{"$f":"'６計画'!V30","v":0},null,null,null,null,null,{"$f":"'６計画'!AB30","v":0},null,null,null,null,null,{"$f":"'６計画'!AH30","v":0}]
[16,null,{"$f":"'６計画'!C31:D31","v":"火"},null,{"$f":"'６計画'!E31:G31","v":"00:00:00"},null,null,"～",{"$f":"'６計画'!I31:K31","v":"00:00:00"},null,null,{"$f":"'６計画'!L31:N31","v":"00:00:00"},null,null,"～",{"$f":"'６計画'!P31:R31","v":"00:00:00"},null,null,"00:00:00",null,null,{"$f":"'６計画'!V31:AA31","v":0},null,null,null,null,null,{"$f":"'６計画'!AB31:AG31","v":0},null,null,null,null,null,{"$f":"'６計画'!AH31:AO31","v":0},null,null,null,null,null,null,null,false,null,null,null,null,null,null,null,null,null,null,null,null,null,null,null,null,null,null,null,null,"0",null,null,null,null,null,null,null,null,null,null,null,{"$f":"'６計画'!C31","v":"火"},null,{"$f":"'６計画'!E31","v":"00:00:00"},null,null,"～",{"$f":"'６計画'!I31","v":"00:00:00"},null,null,{"$f":"'６計画'!L31","v":"00:00:00"},null,null,"～",{"$f":"'６計画'!P31","v":"00:00:00"},null,null,"00:00:00",null,null,{"$f":"'６計画'!V31","v":0},null,null,null,null,null,{"$f":"'６計画'!AB31","v":0},null,null,null,null,null,{"$f":"'６計画'!AH31","v":0}]
[17,null,{"$f":"'６計画'!C32:D32","v":"水"},null,{"$f":"'６計画'!E32:G32","v":"00:00:00"},null,null,"～",{"$f":"'６計画'!I32:K32","v":"00:00:00"},null,null,{"$f":"'６計画'!L32:N32","v":"00:00:00"},null,null,"～",{"$f":"'６計画'!P32:R32","v":"00:00:00"},null,null,"00:00:00",null,null,{"$f":"'６計画'!V32:AA32","v":0},null,null,null,null,null,{"$f":"'６計画'!AB32:AG32","v":0},null,null,null,null,null,{"$f":"'６計画'!AH32:AO32","v":0},null,null,null,null,null,null,null,false,null,null,null,null,null,null,null,null,null,null,null,null,null,null,null,null,null,null,null,null,"0",null,null,null,null,null,null,null,null,null,null,null,{"$f":"'６計画'!C32","v":"水"},null,{"$f":"'６計画'!E32","v":"00:00:00"},null,null,"～",{"$f":"'６計画'!I32","v":"00:00:00"},null,null,{"$f":"'６計画'!L32","v":"00:00:00"},null,null,"～",{"$f":"'６計画'!P32","v":"00:00:00"},null,null,"00:00:00",null,null,{"$f":"'６計画'!V32","v":0},null,null,null,null,null,{"$f":"'６計画'!AB32","v":0},null,null,null,null,null,{"$f":"'６計画'!AH32","v":0}]
[18,null,{"$f":"'６計画'!C33:D33","v":"木"},null,{"$f":"'６計画'!E33:G33","v":"00:00:00"},null,null,"～",{"$f":"'６計画'!I33:K33","v":"00:00:00"},null,null,{"$f":"'６計画'!L33:N33","v":"00:00:00"},null,null,"～",{"$f":"'６計画'!P33:R33","v":"00:00:00"},null,null,"00:00:00",null,null,{"$f":"'６計画'!V33:AA33","v":0},null,null,null,null,null,{"$f":"'６計画'!AB33:AG33","v":0},null,null,null,null,null,{"$f":"'６計画'!AH33:AO33","v":0},null,null,null,null,null,null,null,false,null,null,null,null,null,null,null,null,null,null,null,null,null,null,null,null,null,null,null,null,"0",null,null,null,null,null,null,null,null,null,null,null,{"$f":"'６計画'!C33","v":"木"},null,{"$f":"'６計画'!E33","v":"00:00:00"},null,null,"～",{"$f":"'６計画'!I33","v":"00:00:00"},null,null,{"$f":"'６計画'!L33","v":"00:00:00"},null,null,"～",{"$f":"'６計画'!P33","v":"00:00:00"},null,null,"00:00:00",null,null,{"$f":"'６計画'!V33","v":0},null,null,null,null,null,{"$f":"'６計画'!AB33","v":0},null,null,null,null,null,{"$f":"'６計画'!AH33","v":0}]
[19,null,{"$f":"'６計画'!C34:D34","v":"金"},null,{"$f":"'６計画'!E34:G34","v":"00:00:00"},null,null,"～",{"$f":"'６計画'!I34:K34","v":"00:00:00"},null,null,{"$f":"'６計画'!L34:N34","v":"00:00:00"},null,null,"～",{"$f":"'６計画'!P34:R34","v":"00:00:00"},null,null,"00:00:00",null,null,{"$f":"'６計画'!V34:AA34","v":0},null,null,null,null,null,{"$f":"'６計画'!AB34:AG34","v":0},null,null,null,null,null,{"$f":"'６計画'!AH34:AO34","v":0},null,null,null,null,null,null,null,false,null,null,null,null,null,null,null,null,null,null,null,null,null,null,null,null,null,null,null,null,"0",null,null,null,null,null,null,null,null,null,null,null,{"$f":"'６計画'!C34","v":"金"},null,{"$f":"'６計画'!E34","v":"00:00:00"},null,null,"～",{"$f":"'６計画'!I34","v":"00:00:00"},null,null,{"$f":"'６計画'!L34","v":"00:00:00"},null,null,"～",{"$f":"'６計画'!P34","v":"00:00:00"},null,null,"00:00:00",null,null,{"$f":"'６計画'!V34","v":0},null,null,null,null,null,{"$f":"'６計画'!AB34","v":0},null,null,null,null,null,{"$f":"'６計画'!AH34","v":0}]
[20,null,{"$f":"'６計画'!C35:D35","v":"土"},null,{"$f":"'６計画'!E35:G35","v":"00:00:00"},null,null,"～",{"$f":"'６計画'!I35:K35","v":"00:00:00"},null,null,{"$f":"'６計画'!L35:N35","v":"00:00:00"},null,null,"～",{"$f":"'６計画'!P35:R35","v":"00:00:00"},null,null,"00:00:00",null,null,{"$f":"'６計画'!V35:AA35","v":0},null,null,null,null,null,{"$f":"'６計画'!AB35:AG35","v":0},null,null,null,null,null,{"$f":"'６計画'!AH35:AO35","v":0},null,null,null,null,null,null,null,false,null,null,null,null,null,null,null,null,null,null,null,null,null,null,null,null,null,null,null,null,"0",null,null,null,null,null,null,null,null,null,null,null,{"$f":"'６計画'!C35","v":"土"},null,{"$f":"'６計画'!E35","v":"00:00:00"},null,null,"～",{"$f":"'６計画'!I35","v":"00:00:00"},null,null,{"$f":"'６計画'!L35","v":"00:00:00"},null,null,"～",{"$f":"'６計画'!P35","v":"00:00:00"},null,null,"00:00:00",null,null,{"$f":"'６計画'!V35","v":0},null,null,null,null,null,{"$f":"'６計画'!AB35","v":0},null,null,null,null,null,{"$f":"'６計画'!AH35","v":0}]
[21,null,{"$f":"'６計画'!C36:D36","v":"日"},null,{"$f":"'６計画'!E36:G36","v":"00:00:00"},null,null,"～",{"$f":"'６計画'!I36:K36","v":"00:00:00"},null,null,{"$f":"'６計画'!L36:N36","v":"00:00:00"},null,null,"～",{"$f":"'６計画'!P36:R36","v":"00:00:00"},null,null,"00:00:00",null,null,{"$f":"'６計画'!V36:AA36","v":0},null,null,null,null,null,{"$f":"'６計画'!AB36:AG36","v":0},null,null,null,null,null,{"$f":"'６計画'!AH36:AO36","v":0},null,null,null,null,null,null,null,false,null,null,null,null,null,null,null,null,null,null,null,null,null,null,null,null,null,null,null,null,"0",null,null,null,null,null,null,null,null,null,null,null,{"$f":"'６計画'!C36","v":"日"},null,{"$f":"'６計画'!E36","v":"00:00:00"},null,null,"～",{"$f":"'６計画'!I36","v":"00:00:00"},null,null,{"$f":"'６計画'!L36","v":"00:00:00"},null,null,"～",{"$f":"'６計画'!P36","v":"00:00:00"},null,null,"00:00:00",null,null,{"$f":"'６計画'!V36","v":0},null,null,null,null,null,{"$f":"'６計画'!AB36","v":0},null,null,null,null,null,{"$f":"'６計画'!AH36","v":0}]
[22,null,{"$f":"'６計画'!C37:D37","v":"月"},null,{"$f":"'６計画'!E37:G37","v":"00:00:00"},null,null,"～",{"$f":"'６計画'!I37:K37","v":"00:00:00"},null,null,{"$f":"'６計画'!L37:N37","v":"00:00:00"},null,null,"～",{"$f":"'６計画'!P37:R37","v":"00:00:00"},null,null,"00:00:00",null,null,{"$f":"'６計画'!V37:AA37","v":0},null,null,null,null,null,{"$f":"'６計画'!AB37:AG37","v":0},null,null,null,null,null,{"$f":"'６計画'!AH37:AO37","v":0},null,null,null,null,null,null,null,false,null,null,null,null,null,null,null,null,null,null,null,null,null,null,null,null,null,null,null,null,"0",null,null,null,null,null,null,null,null,null,null,null,{"$f":"'６計画'!C37","v":"月"},null,{"$f":"'６計画'!E37","v":"00:00:00"},null,null,"～",{"$f":"'６計画'!I37","v":"00:00:00"},null,null,{"$f":"'６計画'!L37","v":"00:00:00"},null,null,"～",{"$f":"'６計画'!P37","v":"00:00:00"},null,null,"00:00:00",null,null,{"$f":"'６計画'!V37","v":0},null,null,null,null,null,{"$f":"'６計画'!AB37","v":0},null,null,null,null,null,{"$f":"'６計画'!AH37","v":0}]
[23,null,{"$f":"'６計画'!C38:D38","v":"火"},null,{"$f":"'６計画'!E38:G38","v":"00:00:00"},null,null,"～",{"$f":"'６計画'!I38:K38","v":"00:00:00"},null,null,{"$f":"'６計画'!L38:N38","v":"00:00:00"},null,null,"～",{"$f":"'６計画'!P38:R38","v":"00:00:00"},null,null,"00:00:00",null,null,{"$f":"'６計画'!V38:AA38","v":0},null,null,null,null,null,{"$f":"'６計画'!AB38:AG38","v":0},null,null,null,null,null,{"$f":"'６計画'!AH38:AO38","v":0},null,null,null,null,null,null,null,false,null,null,null,null,null,null,null,null,null,null,null,null,null,null,null,null,null,null,null,null,"0",null,null,null,null,null,null,null,null,null,null,null,{"$f":"'６計画'!C38","v":"火"},null,{"$f":"'６計画'!E38","v":"00:00:00"},null,null,"～",{"$f":"'６計画'!I38","v":"00:00:00"},null,null,{"$f":"'６計画'!L38","v":"00:00:00"},null,null,"～",{"$f":"'６計画'!P38","v":"00:00:00"},null,null,"00:00:00",null,null,{"$f":"'６計画'!V38","v":0},null,null,null,null,null,{"$f":"'６計画'!AB38","v":0},null,null,null,null,null,{"$f":"'６計画'!AH38","v":0}]
[24,null,{"$f":"'６計画'!C39:D39","v":"水"},null,{"$f":"'６計画'!E39:G39","v":"00:00:00"},null,null,"～",{"$f":"'６計画'!I39:K39","v":"00:00:00"},null,null,{"$f":"'６計画'!L39:N39","v":"00:00:00"},null,null,"～",{"$f":"'６計画'!P39:R39","v":"00:00:00"},null,null,"00:00:00",null,null,{"$f":"'６計画'!V39:AA39","v":0},null,null,null,null,null,{"$f":"'６計画'!AB39:AG39","v":0},null,null,null,null,null,{"$f":"'６計画'!AH39:AO39","v":0},null,null,null,null,null,null,null,false,null,null,null,null,null,null,null,null,null,null,null,null,null,null,null,null,null,null,null,null,"0",null,null,null,null,null,null,null,null,null,null,null,{"$f":"'６計画'!C39","v":"水"},null,{"$f":"'６計画'!E39","v":"00:00:00"},null,null,"～",{"$f":"'６計画'!I39","v":"00:00:00"},null,null,{"$f":"'６計画'!L39","v":"00:00:00"},null,null,"～",{"$f":"'６計画'!P39","v":"00:00:00"},null,null,"00:00:00",null,null,{"$f":"'６計画'!V39","v":0},null,null,null,null,null,{"$f":"'６計画'!AB39","v":0},null,null,null,null,null,{"$f":"'６計画'!AH39","v":0}]
[25,null,{"$f":"'６計画'!C40:D40","v":"木"},null,{"$f":"'６計画'!E40:G40","v":"00:00:00"},null,null,"～",{"$f":"'６計画'!I40:K40","v":"00:00:00"},null,null,{"$f":"'６計画'!L40:N40","v":"00:00:00"},null,null,"～",{"$f":"'６計画'!P40:R40","v":"00:00:00"},null,null,"00:00:00",null,null,{"$f":"'６計画'!V40:AA40","v":0},null,null,null,null,null,{"$f":"'６計画'!AB40:AG40","v":0},null,null,null,null,null,{"$f":"'６計画'!AH40:AO40","v":0},null,null,null,null,null,null,null,false,null,null,null,null,null,null,null,null,null,null,null,null,null,null,null,null,null,null,null,null,"0",null,null,null,null,null,null,null,null,null,null,null,{"$f":"'６計画'!C40","v":"木"},null,{"$f":"'６計画'!E40","v":"00:00:00"},null,null,"～",{"$f":"'６計画'!I40","v":"00:00:00"},null,null,{"$f":"'６計画'!L40","v":"00:00:00"},null,null,"～",{"$f":"'６計画'!P40","v":"00:00:00"},null,null,"00:00:00",null,null,{"$f":"'６計画'!V40","v":0},null,null,null,null,null,{"$f":"'６計画'!AB40","v":0},null,null,null,null,null,{"$f":"'６計画'!AH40","v":0}]
[26,null,{"$f":"'６計画'!C41:D41","v":"金"},null,{"$f":"'６計画'!E41:G41","v":"00:00:00"},null,null,"～",{"$f":"'６計画'!I41:K41","v":"00:00:00"},null,null,{"$f":"'６計画'!L41:N41","v":"00:00:00"},null,null,"～",{"$f":"'６計画'!P41:R41","v":"00:00:00"},null,null,"00:00:00",null,null,{"$f":"'６計画'!V41:AA41","v":0},null,null,null,null,null,{"$f":"'６計画'!AB41:AG41","v":0},null,null,null,null,null,{"$f":"'６計画'!AH41:AO41","v":0},null,null,null,null,null,null,null,false,null,null,null,null,null,null,null,null,null,null,null,null,null,null,null,null,null,null,null,null,"0",null,null,null,null,null,null,null,null,null,null,null,{"$f":"'６計画'!C41","v":"金"},null,{"$f":"'６計画'!E41","v":"00:00:00"},null,null,"～",{"$f":"'６計画'!I41","v":"00:00:00"},null,null,{"$f":"'６計画'!L41","v":"00:00:00"},null,null,"～",{"$f":"'６計画'!P41","v":"00:00:00"},null,null,"00:00:00",null,null,{"$f":"'６計画'!V41","v":0},null,null,null,null,null,{"$f":"'６計画'!AB41","v":0},null,null,null,null,null,{"$f":"'６計画'!AH41","v":0}]
[27,null,{"$f":"'６計画'!C42:D42","v":"土"},null,{"$f":"'６計画'!E42:G42","v":"00:00:00"},null,null,"～",{"$f":"'６計画'!I42:K42","v":"00:00:00"},null,null,{"$f":"'６計画'!L42:N42","v":"00:00:00"},null,null,"～",{"$f":"'６計画'!P42:R42","v":"00:00:00"},null,null,"00:00:00",null,null,{"$f":"'６計画'!V42:AA42","v":0},null,null,null,null,null,{"$f":"'６計画'!AB42:AG42","v":0},null,null,null,null,null,{"$f":"'６計画'!AH42:AO42","v":0},null,null,null,null,null,null,null,false,null,null,null,null,null,null,null,null,null,null,null,null,null,null,null,null,null,null,null,null,"0",null,null,null,null,null,null,null,null,null,null,null,{"$f":"'６計画'!C42","v":"土"},null,{"$f":"'６計画'!E42","v":"00:00:00"},null,null,"～",{"$f":"'６計画'!I42","v":"00:00:00"},null,null,{"$f":"'６計画'!L42","v":"00:00:00"},null,null,"～",{"$f":"'６計画'!P42","v":"00:00:00"},null,null,"00:00:00",null,null,{"$f":"'６計画'!V42","v":0},null,null,null,null,null,{"$f":"'６計画'!AB42","v":0},null,null,null,null,null,{"$f":"'６計画'!AH42","v":0}]
[28,null,{"$f":"'６計画'!C43:D43","v":"日"},null,{"$f":"'６計画'!E43:G43","v":"00:00:00"},null,null,"～",{"$f":"'６計画'!I43:K43","v":"00:00:00"},null,null,{"$f":"'６計画'!L43:N43","v":"00:00:00"},null,null,"～",{"$f":"'６計画'!P43:R43","v":"00:00:00"},null,null,"00:00:00",null,null,{"$f":"'６計画'!V43:AA43","v":0},null,null,null,null,null,{"$f":"'６計画'!AB43:AG43","v":0},null,null,null,null,null,{"$f":"'６計画'!AH43:AO43","v":0},null,null,null,null,null,null,null,false,null,null,null,null,null,null,null,null,null,null,null,null,null,null,null,null,null,null,null,null,"0",null,null,null,null,null,null,null,null,null,null,null,{"$f":"'６計画'!C43","v":"日"},null,{"$f":"'６計画'!E43","v":"00:00:00"},null,null,"～",{"$f":"'６計画'!I43","v":"00:00:00"},null,null,{"$f":"'６計画'!L43","v":"00:00:00"},null,null,"～",{"$f":"'６計画'!P43","v":"00:00:00"},null,null,"00:00:00",null,null,{"$f":"'６計画'!V43","v":0},null,null,null,null,null,{"$f":"'６計画'!AB43","v":0},null,null,null,null,null,{"$f":"'６計画'!AH43","v":0}]
[29,null,{"$f":"'６計画'!C44:D44","v":"月"},null,{"$f":"'６計画'!E44:G44","v":"00:00:00"},null,null,"～",{"$f":"'６計画'!I44:K44","v":"00:00:00"},null,null,{"$f":"'６計画'!L44:N44","v":"00:00:00"},null,null,"～",{"$f":"'６計画'!P44:R44","v":"00:00:00"},null,null,"00:00:00",null,null,{"$f":"'６計画'!V44:AA44","v":0},null,null,null,null,null,{"$f":"'６計画'!AB44:AG44","v":0},null,null,null,null,null,{"$f":"'６計画'!AH44:AO44","v":0},null,null,null,null,null,null,null,false,null,null,null,null,null,null,null,null,null,null,null,null,null,null,null,null,null,null,null,null,"0",null,null,null,null,null,null,null,null,null,null,null,{"$f":"'６計画'!C44","v":"月"},null,{"$f":"'６計画'!E44","v":"00:00:00"},null,null,"～",{"$f":"'６計画'!I44","v":"00:00:00"},null,null,{"$f":"'６計画'!L44","v":"00:00:00"},null,null,"～",{"$f":"'６計画'!P44","v":"00:00:00"},null,null,"00:00:00",null,null,{"$f":"'６計画'!V44","v":0},null,null,null,null,null,{"$f":"'６計画'!AB44","v":0},null,null,null,null,null,{"$f":"'６計画'!AH44","v":0}]
[30,null,{"$f":"'６計画'!C45:D45","v":"火"},null,{"$f":"'６計画'!E45:G45","v":"00:00:00"},null,null,"～",{"$f":"'６計画'!I45:K45","v":"00:00:00"},null,null,{"$f":"'６計画'!L45:N45","v":"00:00:00"},null,null,"～",{"$f":"'６計画'!P45:R45","v":"00:00:00"},null,null,"00:00:00",null,null,{"$f":"'６計画'!V45:AA45","v":0},null,null,null,null,null,{"$f":"'６計画'!AB45:AG45","v":0},null,null,null,null,null,{"$f":"'６計画'!AH45:AO45","v":0},null,null,null,null,null,null,null,false,null,null,null,null,null,null,null,null,null,null,null,null,null,null,null,null,null,null,null,null,"0",null,null,null,null,null,null,null,null,null,null,null,{"$f":"'６計画'!C45","v":"火"},null,{"$f":"'６計画'!E45","v":"00:00:00"},null,null,"～",{"$f":"'６計画'!I45","v":"00:00:00"},null,null,{"$f":"'６計画'!L45","v":"00:00:00"},null,null,"～",{"$f":"'６計画'!P45","v":"00:00:00"},null,null,"00:00:00",null,null,{"$f":"'６計画'!V45","v":0},null,null,null,null,null,{"$f":"'６計画'!AB45","v":0},null,null,null,null,null,{"$f":"'６計画'!AH45","v":0}]
[null,null,{"$f":"'６計画'!C46:D46","v":""},null,{"$f":"'６計画'!E46:G46","v":"00:00:00"},null,null,"～",{"$f":"'６計画'!I46:K46","v":"00:00:00"},null,null,{"$f":"'６計画'!L46:N46","v":"00:00:00"},null,null,"～",{"$f":"'６計画'!P46:R46","v":"00:00:00"},null,null,"00:00:00",null,null,{"$f":"'６計画'!V46:AA46","v":0},null,null,null,null,null,{"$f":"'６計画'!AB46:AG46","v":0},null,null,null,null,null,{"$f":"'６計画'!AH46:AO46","v":0},null,null,null,null,null,null,null,false,null,null,null,null,null,null,null,null,null,null,null,null,null,null,null,null,null,null,null,null,"0",null,null,null,null,null,null,null,null,null,null,null,{"$f":"'６計画'!C46","v":""},null,{"$f":"'６計画'!E46","v":"00:00:00"},null,null,"～",{"$f":"'６計画'!I46","v":"00:00:00"},null,null,{"$f":"'６計画'!L46","v":"00:00:00"},null,null,"～",{"$f":"'６計画'!P46","v":"00:00:00"},null,null,"00:00:00",null,null,{"$f":"'６計画'!V46","v":0},null,null,null,null,null,{"$f":"'６計画'!AB46","v":0},null,null,null,null,null,{"$f":"'６計画'!AH46","v":0}]
[null,null,null,null,null,null,null,null,null,null,null,null,null,null,null,null,null,null,{"$f":"SUM(S16:U46)","v":0},null,null,null,null,null,null,null,null,null,null,null,null,null,null,null,null,null,null,null,null,null,null,null,null,null,null,null,null,null,null,null,null,null,null,null,null,null,null,null,null,null,null,null,null,null,null,null,null,null,null,null,null,null,null,null,null,null,null,null,null,null,null,null,null,null,null,null,null,null,null,null,{"$f":"SUM(CM16:CO46)","v":0}]
[]
["月",null,null,4,null,5,null,6,null,7,null,8,null,9,null,10,null,11,null,12,null,1,null,2,null,3,null,"計"]
["時間",null,null,{"$f":"'４実績'!D50","v":0},null,{"$f":"'５実績'!F50","v":0},null,{"$f":"S47","v":0},null,null,null,null,null,null,null,null,null,null,null,null,null,null,null,null,null,null,null,{"$f":"SUM(D50:AA50)","v":0},null,null,null,null,"時間",null,null,null,null,null,null,null,null,null,null,null,null,null,null,null,null,null,null,null,null,null,null,null,null,null,null,null,null,null,null,null,null,null,null,null,null,null,null,null,null,null,null,{"$f":"'４実績'!D50","v":0},null,{"$f":"'５実績'!F50","v":0},null,{"$f":"CM47","v":0},null,null,null,null,null,null,null,null,null,null,null,null,null,null,null,null,null,null,null,{"$f":"SUM(BX50:CU50)","v":0}]
["活動日数",null,null,{"$f":"'４実績'!D51","v":0},null,{"$f":"'５実績'!F51","v":0},null,{"$f":"COUNTIF(S16:U45,\">0\")","v":0},null,null,null,null,null,null,null,null,null,null,null,null,null,null,null,null,null,null,null,{"$f":"SUM(D51:AA51)","v":0},null,null,null,null,"活動日数",null,null,null,null,null,null,null,null,null,null,null,null,null,null,null,null,null,null,null,null,null,null,null,null,null,null,null,null,null,null,null,null,null,null,null,null,null,null,null,null,null,null,{"$f":"'４実績'!D51","v":0},null,{"$f":"'５実績'!F51","v":0},null,{"$f":"COUNTIF(CM16:CO45,\">0\")","v":0},null,null,null,null,null,null,null,null,null,null,null,null,null,null,null,null,null,null,null,{"$f":"SUM(BX51:CU51)","v":0}]
["休養日数",null,null,{"$f":"'４実績'!D52","v":30},null,{"$f":"'５実績'!F52","v":31},null,{"$f":"COUNTIF(S16:U45,\"0:00\")","v":30},null,null,null,null,null,null,null,null,null,null,null,null,null,null,null,null,null,null,null,{"$f":"SUM(D52:AA52)","v":91},null,null,null,null,"休養日数",null,null,null,null,null,null,null,null,null,null,null,null,null,null,null,null,null,null,null,null,null,null,null,null,null,null,null,null,null,null,null,null,null,null,null,null,null,null,null,null,null,null,{"$f":"'４実績'!D52","v":30},null,{"$f":"'５実績'!F52","v":31},null,{"$f":"COUNTIF(CM16:CO45,\"0:00\")","v":30},null,null,null,null,null,null,null,null,null,null,null,null,null,null,null,null,null,null,null,{"$f":"SUM(BX52:CU52)","v":91}]
[null,null,null,null,null,null,null,null,null,null,null,null,null,null,null,null,null,null,null,null,null,null,null,null,null,null,null,{"$f":"AB50/AB51","v":{"$error":"#DIV/0!"}},null,null,null,null,"平均時間/日",null,null,null,null,null,null,null,null,null,null,null,null,null,null,null,null,null,null,null,null,null,null,null,null,null,null,null,null,null,null,null,null,null,null,null,null,null,null,null,null,null,null,null,null,null,null,null,null,null,null,null,null,null,null,null,null,null,null,null,null,null,null,null,null,null,null,{"$f":"CV50/CV51","v":{"$error":"#DIV/0!"}}]

{"sheet":"7実績","index":16,"n_rows":53,"n_cols":112,"rows_kept":53,"cut":false,"hidden":false,"merged":[[41,42,41,45],[42,42,42,45],[43,42,43,45],[44,42,44,45],[45,42,45,45],[32,42,32,45],[33,42,33,45],[34,42,34,45],[35,42,35,45],[36,42,36,45],[37,42,37,45],[38,42,38,45],[39,42,39,45],[40,42,40,45],[23,42,23,45],[24,42,24,45],[25,42,25,45],[26,42,26,45],[27,42,27,45],[28,42,28,45],[29,42,29,45],[30,42,30,45],[31,42,31,45],[14,42,14,45],[15,42,15,45],[16,42,16,45],[17,42,17,45],[18,42,18,45],[19,42,19,45],[20,42,20,45],[21,42,21,45],[22,42,22,45],[0,0,0,3],[1,0,1,3],[1,4,1,7],[1,8,1,11],[1,12,1,15],[1,16,1,19],[1,20,1,23],[1,25,2,27],[1,28,2,37],[1,38,2,40],[2,0,4,3],[2,4,4,7],[2,8,4,11],[2,12,4,15],[2,16,4,19],[2,20,4,23],[3,25,4,27],[3,28,4,37],[3,38,4,40],[6,0,7,4],[6,5,7,7],[6,8,7,22],[6,24,7,26],[6,27,6,28],[6,29,6,30],[6,31,6,32],[6,33,6,34],[6,35,6,36],[9,23,10,27],[9,28,10,29],[9,30,10,38],[6,37,6,38],[6,39,6,40],[7,27,7,28],[7,29,7,30],[7,31,7,32],[7,33,7,34],[7,35,7,36],[7,37,7,38],[7,39,7,40],[11,39,12,40],[14,0,14,1],[14,2,14,3],[14,4,14,10],[14,11,14,17],[14,18,14,20],[14,21,14,32],[14,33,14,40],[9,39,10,40],[11,1,12,2],[11,3,12,7],[11,8,12,9],[11,10,12,18],[11,19,12,20],[11,21,12,22],[11,23,12,27],[11,28,12,29],[11,30,12,38],[9,1,10,2],[9,3,10,7],[9,8,10,9],[9,10,10,18],[9,19,10,20],[9,21,10,22],[15,18,15,20],[15,21,15,26],[15,27,15,32],[15,33,15,40],[16,0,16,1],[16,2,16,3],[16,4,16,6],[16,8,16,10],[16,11,16,13],[16,15,16,17],[15,0,15,1],[15,2,15,3],[15,4,15,6],[15,8,15,10],[15,11,15,13],[15,15,15,17],[16,18,16,20],[16,21,16,26],[16,27,16,32],[16,33,16,40],[17,33,17,40],[18,0,18,1],[18,2,18,3],[18,4,18,6],[18,8,18,10],[18,11,18,13],[18,15,18,17],[18,18,18,20],[18,21,18,26],[18,27,18,32],[18,33,18,40],[17,0,17,1],[17,2,17,3],[17,4,17,6],[17,8,17,10],[17,11,17,13],[17,15,17,17],[17,18,17,20],[17,21,17,26],[17,27,17,32],[19,33,19,40],[20,0,20,1],[20,2,20,3],[20,4,20,6],[20,8,20,10],[20,11,20,13],[20,15,20,17],[20,18,20,20],[20,21,20,26],[20,27,20,32],[20,33,20,40],[19,0,19,1],[19,2,19,3],[19,4,19,6],[19,8,19,10],[19,11,19,13],[19,15,19,17],[19,18,19,20],[19,21,19,26],[19,27,19,32],[21,33,21,40],[22,0,22,1],[22,2,22,3],[22,4,22,6],[22,8,22,10],[22,11,22,13],[22,15,22,17],[22,18,22,20],[22,21,22,26],[22,27,22,32],[22,33,22,40],[21,0,21,1],[21,2,21,3],[21,4,21,6],[21,8,21,10],[21,11,21,13],[21,15,21,17],[21,18,21,20],[21,21,21,26],[21,27,21,32],[23,33,23,40],[24,0,24,1],[24,2,24,3],[24,4,24,6],[24,8,24,10],[24,11,24,13],[24,15,24,17],[24,18,24,20],[24,21,24,26],[24,27,24,32],[24,33,24,40],[23,0,23,1],[23,2,23,3],[23,4,23,6],[23,8,23,10],[23,11,23,13],[23,15,23,17],[23,18,23,20],[23,21,23,26],[23,27,23,32],[25,33,25,40],[26,0,26,1],[26,2,26,3],[26,4,26,6],[26,8,26,10],[26,11,26,13],[26,15,26,17],[26,18,26,20],[26,21,26,26],[26,27,26,32],[26,33,26,40],[25,0,25,1],[25,2,25,3],[25,4,25,6],[25,8,25,10],[25,11,25,13],[25,15,25,17],[25,18,25,20],[25,21,25,26],[25,27,25,32],[27,33,27,40],[28,0,28,1],[28,2,28,3],[28,4,28,6],[28,8,28,10],[28,11,28,13],[28,15,28,17],[28,18,28,20],[28,21,28,26],[28,27,28,32],[28,33,28,40],[27,0,27,1],[27,2,27,3],[27,4,27,6],[27,8,27,10],[27,11,27,13],[27,15,27,17],[27,18,27,20],[27,21,27,26],[27,27,27,32],[29,33,29,40],[30,0,30,1],[30,2,30,3],[30,4,30,6],[30,8,30,10],[30,11,30,13],[30,15,30,17],[30,18,30,20],[30,21,30,26],[30,27,30,32],[30,33,30,40],[29,0,29,1],[29,2,29,3],[29,4,29,6],[29,8,29,10],[29,11,29,13],[29,15,29,17],[29,18,29,20],[29,21,29,26],[29,27,29,32],[31,33,31,40],[32,0,32,1],[32,2,32,3],[32,4,32,6],[32,8,32,10],[32,11,32,13],[32,15,32,17],[32,18,32,20],[32,21,32,26],[32,27,32,32],[32,33,32,40],[31,0,31,1],[31,2,31,3],[31,4,31,6],[31,8,31,10],[31,11,31,13],[31,15,31,17],[31,18,31,20],[31,21,31,26],[31,27,31,32],[33,33,33,40],[34,0,34,1],[34,2,34,3],[34,4,34,6],[34,8,34,10],[34,11,34,13],[34,15,34,17],[34,18,34,20],[34,21,34,26],[34,27,34,32],[34,33,34,40],[33,0,33,1],[33,2,33,3],[33,4,33,6],[33,8,33,10],[33,11,33,13],[33,15,33,17],[33,18,33,20],[33,21,33,26],[33,27,33,32],[36,33,36,40],[35,0,35,1],[35,2,35,3],[35,4,35,6],[35,8,35,10],[35,11,35,13],[35,15,35,17],[35,18,35,20],[35,21,35,26],[35,27,35,32],[36,0,36,1],[36,2,36,3],[36,4,36,6],[36,8,36,10],[36,11,36,13],[36,15,36,17],[36,18,36,20],[36,21,36,26],[36,27,36,32],[37,0,37,1],[37,2,37,3],[37,4,37,6],[37,8,37,10],[37,11,37,13],[37,15,37,17],[37,18,37,20],[37,21,37,26],[37,27,37,32],[38,0,38,1],[38,2,38,3],[38,4,38,6],[38,8,38,10],[38,11,38,13],[38,15,38,17],[38,18,38,20],[38,21,38,26],[38,27,38,32],[39,0,39,1],[39,2,39,3],[39,4,39,6],[39,8,39,10],[39,11,39,13],[39,15,39,17],[39,18,39,20],[39,21,39,26],[39,27,39,32],[40,0,40,1],[40,2,40,3],[40,4,40,6],[40,8,40,10],[40,11,40,13],[40,15,40,17],[40,18,40,20],[40,21,40,26],[40,27,40,32],[45,0,45,1],[45,2,45,3],[41,33,41,40],[42,0,42,1],[42,2,42,3],[42,4,42,6],[42,8,42,10],[42,11,42,13],[42,15,42,17],[42,18,42,20],[42,21,42,26],[42,27,42,32],[42,33,42,40],[41,0,41,1],[41,2,41,3],[41,4,41,6],[41,8,41,10],[41,11,41,13],[41,15,41,17],[41,18,41,20],[41,21,41,26],[41,27,41,32],[43,0,43,1],[43,2,43,3],[43,4,43,6],[43,8,43,10],[43,11,43,13],[43,15,43,17],[43,18,43,20],[43,21,43,26],[43,27,43,32],[44,0,44,1],[44,2,44,3],[44,4,44,6],[44,8,44,10],[44,11,44,13],[44,15,44,17],[44,18,44,20],[44,21,44,26],[44,27,44,32],[48,0,48,2],[48,3,48,4],[48,5,48,6],[48,7,48,8],[48,9,48,10],[49,5,49,6],[49,7,49,8],[49,9,49,10],[49,11,49,12],[48,11,48,12],[45,4,45,6],[45,8,45,10],[45,11,45,13],[45,15,45,17],[45,18,45,20],[45,21,45,26],[50,17,50,18],[50,19,50,20],[50,21,50,22],[50,23,50,24],[50,25,50,26],[46,18,46,20],[49,13,49,14],[48,13,48,14],[48,15,48,16],[48,17,48,18],[49,17,49,18],[49,19,49,20],[49,21,49,22],[49,23,49,24],[48,23,48,24],[48,25,48,26],[50,0,50,2],[50,3,50,4],[50,5,50,6],[50,7,50,8],[50,9,50,10],[50,11,50,12],[50,13,50,14],[50,15,50,16],[49,15,49,16],[49,0,49,2],[49,3,49,4],[51,0,51,2],[51,3,51,4],[51,5,51,6],[51,7,51,8],[51,9,51,10],[51,11,51,12],[51,13,51,14],[51,15,51,16],[51,17,51,18],[52,27,52,31],[52,32,52,34],[51,19,51,20],[51,21,51,22],[51,23,51,24],[51,25,51,26],[51,27,51,31],[51,32,51,34],[50,32,50,34],[48,27,48,31],[48,19,48,20],[48,21,48,22],[50,27,50,31],[49,27,49,31],[49,32,49,34],[49,25,49,26],[0,72,0,75],[1,72,1,75],[6,72,7,76],[11,73,12,74],[11,75,12,79],[14,72,14,73],[14,74,14,75],[14,76,14,82],[45,27,45,32],[43,33,43,40],[44,33,44,40],[45,33,45,40],[39,33,39,40],[40,33,40,40],[37,33,37,40],[38,33,38,40],[35,33,35,40],[1,76,1,79],[1,80,1,83],[1,84,1,87],[1,88,1,91],[1,92,1,95],[1,97,2,99],[1,100,2,109],[1,110,2,112],[2,72,4,75],[2,76,4,79],[2,80,4,83],[2,84,4,87],[2,88,4,91],[2,92,4,95],[3,97,4,99],[3,100,4,109],[3,110,4,112],[6,77,7,79],[6,80,7,94],[6,96,7,98],[6,99,6,100],[6,101,6,102],[6,103,6,104],[6,105,6,106],[6,107,6,108],[6,109,6,110],[6,111,6,112],[7,99,7,100],[7,101,7,102],[7,103,7,104],[7,105,7,106],[7,107,7,108],[7,109,7,110],[7,111,7,112],[9,111,10,112],[11,80,12,81],[11,82,12,90],[11,91,12,92],[11,93,12,94],[11,95,12,99],[11,100,12,101],[11,102,12,110],[11,111,12,112],[9,73,10,74],[9,75,10,79],[9,80,10,81],[9,82,10,90],[9,91,10,92],[9,93,10,94],[9,95,10,99],[9,100,10,101],[9,102,10,110],[14,83,14,89],[14,90,14,92],[14,93,14,104],[14,105,14,112],[15,72,15,73],[15,74,15,75],[15,76,15,78],[15,80,15,82],[15,83,15,85],[15,87,15,89],[15,90,15,92],[15,93,15,98],[15,99,15,104],[15,105,15,112],[16,105,16,112],[17,72,17,73],[17,74,17,75],[17,76,17,78],[17,80,17,82],[17,83,17,85],[17,87,17,89],[17,90,17,92],[17,93,17,98],[17,99,17,104],[17,105,17,112],[16,72,16,73],[16,74,16,75],[16,76,16,78],[16,80,16,82],[16,83,16,85],[16,87,16,89],[16,90,16,92],[16,93,16,98],[16,99,16,104],[18,105,18,112],[19,72,19,73],[19,74,19,75],[19,76,19,78],[19,80,19,82],[19,83,19,85],[19,87,19,89],[19,90,19,92],[19,93,19,98],[19,99,19,104],[19,105,19,112],[18,72,18,73],[18,74,18,75],[18,76,18,78],[18,80,18,82],[18,83,18,85],[18,87,18,89],[18,90,18,92],[18,93,18,98],[18,99,18,104],[20,105,20,112],[21,72,21,73],[21,74,21,75],[21,76,21,78],[21,80,21,82],[21,83,21,85],[21,87,21,89],[21,90,21,92],[21,93,21,98],[21,99,21,104],[21,105,21,112],[20,72,20,73],[20,74,20,75],[20,76,20,78],[20,80,20,82],[20,83,20,85],[20,87,20,89],[20,90,20,92],[20,93,20,98],[20,99,20,104],[22,105,22,112],[23,72,23,73],[23,74,23,75],[23,76,23,78],[23,80,23,82],[23,83,23,85],[23,87,23,89],[23,90,23,92],[23,93,23,98],[23,99,23,104],[23,105,23,112],[22,72,22,73],[22,74,22,75],[22,76,22,78],[22,80,22,82],[22,83,22,85],[22,87,22,89],[22,90,22,92],[22,93,22,98],[22,99,22,104],[24,105,24,112],[25,72,25,73],[25,74,25,75],[25,76,25,78],[25,80,25,82],[25,83,25,85],[25,87,25,89],[25,90,25,92],[25,93,25,98],[25,99,25,104],[25,105,25,112],[24,72,24,73],[24,74,24,75],[24,76,24,78],[24,80,24,82],[24,83,24,85],[24,87,24,89],[24,90,24,92],[24,93,24,98],[24,99,24,104],[26,105,26,112],[27,72,27,73],[27,74,27,75],[27,76,27,78],[27,80,27,82],[27,83,27,85],[27,87,27,89],[27,90,27,92],[27,93,27,98],[27,99,27,104],[27,105,27,112],[26,72,26,73],[26,74,26,75],[26,76,26,78],[26,80,26,82],[26,83,26,85],[26,87,26,89],[26,90,26,92],[26,93,26,98],[26,99,26,104],[28,105,28,112],[29,72,29,73],[29,74,29,75],[29,76,29,78],[29,80,29,82],[29,83,29,85],[29,87,29,89],[29,90,29,92],[29,93,29,98],[29,99,29,104],[29,105,29,112],[28,72,28,73],[28,74,28,75],[28,76,28,78],[28,80,28,82],[28,83,28,85],[28,87,28,89],[28,90,28,92],[28,93,28,98],[28,99,28,104],[30,105,30,112],[31,72,31,73],[31,74,31,75],[31,76,31,78],[31,80,31,82],[31,83,31,85],[31,87,31,89],[31,90,31,92],[31,93,31,98],[31,99,31,104],[31,105,31,112],[30,72,30,73],[30,74,30,75],[30,76,30,78],[30,80,30,82],[30,83,30,85],[30,87,30,89],[30,90,30,92],[30,93,30,98],[30,99,30,104],[32,105,32,112],[33,72,33,73],[33,74,33,75],[33,76,33,78],[33,80,33,82],[33,83,33,85],[33,87,33,89],[33,90,33,92],[33,93,33,98],[33,99,33,104],[33,105,33,112],[32,72,32,73],[32,74,32,75],[32,76,32,78],[32,80,32,82],[32,83,32,85],[32,87,32,89],[32,90,32,92],[32,93,32,98],[32,99,32,104],[34,105,34,112],[35,72,35,73],[35,74,35,75],[35,76,35,78],[35,80,35,82],[35,83,35,85],[35,87,35,89],[35,90,35,92],[35,93,35,98],[35,99,35,104],[35,105,35,112],[34,72,34,73],[34,74,34,75],[34,76,34,78],[34,80,34,82],[34,83,34,85],[34,87,34,89],[34,90,34,92],[34,93,34,98],[34,99,34,104],[36,105,36,112],[37,72,37,73],[37,74,37,75],[37,76,37,78],[37,80,37,82],[37,83,37,85],[37,87,37,89],[37,90,37,92],[37,93,37,98],[37,99,37,104],[37,105,37,112],[36,72,36,73],[36,74,36,75],[36,76,36,78],[36,80,36,82],[36,83,36,85],[36,87,36,89],[36,90,36,92],[36,93,36,98],[36,99,36,104],[38,105,38,112],[39,72,39,73],[39,74,39,75],[39,76,39,78],[39,80,39,82],[39,83,39,85],[39,87,39,89],[39,90,39,92],[39,93,39,98],[39,99,39,104],[39,105,39,112],[38,72,38,73],[38,74,38,75],[38,76,38,78],[38,80,38,82],[38,83,38,85],[38,87,38,89],[38,90,38,92],[38,93,38,98],[38,99,38,104],[40,105,40,112],[41,72,41,73],[41,74,41,75],[41,76,41,78],[41,80,41,82],[41,83,41,85],[41,87,41,89],[41,90,41,92],[41,93,41,98],[41,99,41,104],[41,105,41,112],[40,72,40,73],[40,74,40,75],[40,76,40,78],[40,80,40,82],[40,83,40,85],[40,87,40,89],[40,90,40,92],[40,93,40,98],[40,99,40,104],[42,105,42,112],[43,72,43,73],[43,74,43,75],[43,76,43,78],[43,80,43,82],[43,83,43,85],[43,87,43,89],[43,90,43,92],[43,93,43,98],[43,99,43,104],[43,105,43,112],[42,72,42,73],[42,74,42,75],[42,76,42,78],[42,80,42,82],[42,83,42,85],[42,87,42,89],[42,90,42,92],[42,93,42,98],[42,99,42,104],[44,105,44,112],[45,72,45,73],[45,74,45,75],[45,76,45,78],[45,80,45,82],[45,83,45,85],[45,87,45,89],[45,90,45,92],[45,93,45,98],[45,99,45,104],[45,105,45,112],[44,72,44,73],[44,74,44,75],[44,76,44,78],[44,80,44,82],[44,83,44,85],[44,87,44,89],[44,90,44,92],[44,93,44,98],[44,99,44,104],[48,79,48,80],[48,81,48,82],[48,83,48,84],[48,85,48,86],[48,87,48,88],[48,89,48,90],[49,72,49,74],[49,75,49,76],[49,77,49,78],[46,104,48,108],[46,109,46,112],[47,109,48,112],[48,91,48,92],[48,93,48,94],[48,95,48,96],[48,97,48,98],[48,99,48,103],[49,91,49,92],[49,93,49,94],[49,95,49,96],[49,97,49,98],[49,99,49,103],[49,104,49,106],[50,72,50,74],[50,75,50,76],[50,77,50,78],[50,79,50,80],[50,81,50,82],[50,83,50,84],[5,0,5,22],[51,91,51,92],[51,93,51,94],[50,91,50,92],[50,93,50,94],[50,85,50,86],[50,87,50,88],[50,89,50,90],[49,79,49,80],[49,81,49,82],[49,83,49,84],[49,85,49,86],[49,87,49,88],[49,89,49,90],[46,90,46,92],[48,72,48,74],[48,75,48,76],[48,77,48,78],[51,72,51,74],[51,75,51,76],[51,77,51,78],[51,79,51,80],[51,81,51,82],[51,83,51,84],[51,85,51,86],[51,87,51,88],[51,89,51,90],[50,95,50,96],[50,97,50,98],[50,99,50,103],[50,104,50,106],[51,95,51,96],[51,97,51,98],[51,99,51,103],[51,104,51,106],[52,99,52,103],[52,104,52,106]]}
[]
[{"$f":"'7計画'!A2:D2","v":"校長"},null,null,null,{"$f":"'7計画'!E2:H2","v":"教頭"},null,null,null,{"$f":"'7計画'!I2:L2","v":"教頭"},null,null,null,{"$f":"'7計画'!M2:P2","v":"主幹教諭"},null,null,null,{"$f":"'7計画'!Q2:T2","v":0},null,null,null,{"$f":"'7計画'!U2:X2","v":"顧問"},null,null,null,null,"学校名",null,null,{"$f":"'7計画'!AC2:AL3","v":0},null,null,null,null,null,null,null,null,null,"学校",null,null,null,null,null,null,null,null,null,null,null,null,null,null,null,null,null,null,null,null,null,null,null,null,null,null,null,null,null,null,null,null,null,{"$f":"'7計画'!BU2:BX2","v":0},null,null,null,{"$f":"'7計画'!BY2:CB2","v":0},null,null,null,{"$f":"'7計画'!CC2:CF2","v":0},null,null,null,{"$f":"'7計画'!CG2:CJ2","v":0},null,null,null,{"$f":"'7計画'!CK2:CN2","v":0},null,null,null,{"$f":"'7計画'!CO2:CR2","v":0},null,null,null,null,null,null,null,{"$f":"'7計画'!CW2:DF3","v":0}]
["印",null,null,null,"印",null,null,null,"印",null,null,null,"印",null,null,null,"印",null,null,null,"印"]
[null,null,null,null,null,null,null,null,null,null,null,null,null,null,null,null,null,null,null,null,null,null,null,null,null,"部活動名",null,null,{"$f":"'7計画'!AC4:AL5","v":0},null,null,null,null,null,null,null,null,null,"部",null,null,null,null,null,null,null,null,null,null,null,null,null,null,null,null,null,null,null,null,null,null,null,null,null,null,null,null,null,null,null,null,null,null,null,null,null,null,null,null,null,null,null,null,null,null,null,null,null,null,null,null,null,null,null,null,null,null,null,null,null,{"$f":"'7計画'!CW4:DF5","v":0}]
[]
["　※活動計画と違う内容については、校長口頭命令済み"]
[7,null,null,null,null,"月",null,null,"〈月間〉部活動計画・活動実績",null,null,null,null,null,null,null,null,null,null,null,null,null,null,null,"部員数",null,null,"1女",null,"2女",null,"3女",null,"1男",null,"2男",null,"3男",null,"計"]
[null,null,null,null,null,null,null,null,null,null,null,null,null,null,null,null,null,null,null,null,null,null,null,null,null,null,null,{"$f":"'7計画'!AB8:AC8","v":0},null,{"$f":"'7計画'!AD8:AE8","v":0},null,{"$f":"'7計画'!AF8:AG8","v":0},null,{"$f":"'7計画'!AH8:AI8","v":0},null,{"$f":"'7計画'!AJ8:AK8","v":0},null,{"$f":"'7計画'!AL8:AM8","v":0},null,{"$f":"SUM(AB8:AM8)","v":0},null,null,null,null,null,null,null,null,null,null,null,null,null,null,null,null,null,null,null,null,null,null,null,null,null,null,null,null,null,null,null,null,null,null,null,null,null,null,null,null,null,null,null,null,null,null,null,null,null,null,null,null,null,null,null,null,null,null,null,{"$f":"'7計画'!AB8","v":0},null,{"$f":"'7計画'!AD8","v":0},null,{"$f":"'7計画'!AF8","v":0},null,{"$f":"'7計画'!AH8","v":0},null,{"$f":"'7計画'!AJ8","v":0},null,{"$f":"'7計画'!AL8","v":0},null,{"$f":"SUM(CV8:DG8)","v":0}]
[]
[null,"職名",null,{"$f":"'7計画'!D10:H11","v":0},null,null,null,null,"顧問",null,{"$f":"'7計画'!K10:S11","v":0},null,null,null,null,null,null,null,null,null,null,"職名",null,{"$f":"'7計画'!X10:AB11","v":0},null,null,null,null,"副２",null,{"$f":"'7計画'!AE10:AM11","v":0},null,null,null,null,null,null,null,null,null,null,null,null,null,null,null,null,null,null,null,null,null,null,null,null,null,null,null,null,null,null,null,null,null,null,null,null,null,null,null,null,null,null,null,null,{"$f":"'7計画'!D10","v":0},null,null,null,null,null,null,{"$f":"'7計画'!K10","v":0},null,null,null,null,null,null,null,null,null,null,null,null,{"$f":"'7計画'!X10","v":0},null,null,null,null,null,null,{"$f":"'7計画'!AE10","v":0}]
[]
[null,"職名",null,{"$f":"'7計画'!D12:H13","v":0},null,null,null,null,"副顧問",null,{"$f":"'7計画'!K12:S13","v":0},null,null,null,null,null,null,null,null,null,null,"職名",null,{"$f":"'7計画'!X12:AB13","v":0},null,null,null,null,"副３",null,{"$f":"'7計画'!AE12:AM13","v":0},null,null,null,null,null,null,null,null,null,null,null,null,null,null,null,null,null,null,null,null,null,null,null,null,null,null,null,null,null,null,null,null,null,null,null,null,null,null,null,null,null,null,null,null,{"$f":"'7計画'!D12","v":0},null,null,null,null,null,null,{"$f":"'7計画'!K12","v":0},null,null,null,null,null,null,null,null,null,null,null,null,{"$f":"'7計画'!X12","v":0},null,null,null,null,null,null,{"$f":"'7計画'!AE12","v":0}]
[]
[]
["日",null,"曜",null,"ＡＭ",null,null,null,null,null,null,"ＰＭ",null,null,null,null,null,null,"時間",null,null,"内容（練習・大会・OFF等）",null,null,null,null,null,null,null,null,null,null,null,"場所",null,null,null,null,null,null,null,false,"特殊業務"]
[1,null,{"$f":"'7計画'!C16:D16","v":"水"},null,{"$f":"'7計画'!E16:G16","v":"00:00:00"},null,null,"～",{"$f":"'7計画'!I16:K16","v":"00:00:00"},null,null,{"$f":"'7計画'!L16:N16","v":"00:00:00"},null,null,"～",{"$f":"'7計画'!P16:R16","v":"00:00:00"},null,null,{"$f":"(I16-E16)+(P16-L16)","v":"00:00:00"},null,null,{"$f":"'7計画'!V16:AA16","v":0},null,null,null,null,null,{"$f":"'7計画'!AB16:AG16","v":0},null,null,null,null,null,{"$f":"'7計画'!AH16:AO16","v":0},null,null,null,null,null,null,null,false,null,null,null,null,null,null,null,null,null,null,null,null,null,null,null,null,null,null,null,null,{"$f":"RIGHT(V16,2)","v":"0"},null,null,null,null,null,null,null,null,null,null,null,{"$f":"'7計画'!C16","v":"水"},null,{"$f":"'7計画'!E16","v":"00:00:00"},null,null,"～",{"$f":"'7計画'!I16","v":"00:00:00"},null,null,{"$f":"'7計画'!L16","v":"00:00:00"},null,null,"～",{"$f":"'7計画'!P16","v":"00:00:00"},null,null,{"$f":"(CC16-BY16)+(CJ16-CF16)","v":"00:00:00"},null,null,{"$f":"'7計画'!V16","v":0},null,null,null,null,null,{"$f":"'7計画'!AB16","v":0},null,null,null,null,null,{"$f":"'7計画'!AH16","v":0}]
[2,null,{"$f":"'7計画'!C17:D17","v":"木"},null,{"$f":"'7計画'!E17:G17","v":"00:00:00"},null,null,"～",{"$f":"'7計画'!I17:K17","v":"00:00:00"},null,null,{"$f":"'7計画'!L17:N17","v":"00:00:00"},null,null,"～",{"$f":"'7計画'!P17:R17","v":"00:00:00"},null,null,"00:00:00",null,null,{"$f":"'7計画'!V17:AA17","v":0},null,null,null,null,null,{"$f":"'7計画'!AB17:AG17","v":0},null,null,null,null,null,{"$f":"'7計画'!AH17:AO17","v":0},null,null,null,null,null,null,null,false,null,null,null,null,null,null,null,null,null,null,null,null,null,null,null,null,null,null,null,null,{"$f":"RIGHT(V17,2)","v":"0"},null,null,null,null,null,null,null,null,null,null,null,{"$f":"'7計画'!C17","v":"木"},null,{"$f":"'7計画'!E17","v":"00:00:00"},null,null,"～",{"$f":"'7計画'!I17","v":"00:00:00"},null,null,{"$f":"'7計画'!L17","v":"00:00:00"},null,null,"～",{"$f":"'7計画'!P17","v":"00:00:00"},null,null,"00:00:00",null,null,{"$f":"'7計画'!V17","v":0},null,null,null,null,null,{"$f":"'7計画'!AB17","v":0},null,null,null,null,null,{"$f":"'7計画'!AH17","v":0}]
[3,null,{"$f":"'7計画'!C18:D18","v":"金"},null,{"$f":"'7計画'!E18:G18","v":"00:00:00"},null,null,"～",{"$f":"'7計画'!I18:K18","v":"00:00:00"},null,null,{"$f":"'7計画'!L18:N18","v":"00:00:00"},null,null,"～",{"$f":"'7計画'!P18:R18","v":"00:00:00"},null,null,"00:00:00",null,null,{"$f":"'7計画'!V18:AA18","v":0},null,null,null,null,null,{"$f":"'7計画'!AB18:AG18","v":0},null,null,null,null,null,{"$f":"'7計画'!AH18:AO18","v":0},null,null,null,null,null,null,null,false,null,null,null,null,null,null,null,null,null,null,null,null,null,null,null,null,null,null,null,null,"0",null,null,null,null,null,null,null,null,null,null,null,{"$f":"'7計画'!C18","v":"金"},null,{"$f":"'7計画'!E18","v":"00:00:00"},null,null,"～",{"$f":"'7計画'!I18","v":"00:00:00"},null,null,{"$f":"'7計画'!L18","v":"00:00:00"},null,null,"～",{"$f":"'7計画'!P18","v":"00:00:00"},null,null,"00:00:00",null,null,{"$f":"'7計画'!V18","v":0},null,null,null,null,null,{"$f":"'7計画'!AB18","v":0},null,null,null,null,null,{"$f":"'7計画'!AH18","v":0}]
[4,null,{"$f":"'7計画'!C19:D19","v":"土"},null,{"$f":"'7計画'!E19:G19","v":"00:00:00"},null,null,"～",{"$f":"'7計画'!I19:K19","v":"00:00:00"},null,null,{"$f":"'7計画'!L19:N19","v":"00:00:00"},null,null,"～",{"$f":"'7計画'!P19:R19","v":"00:00:00"},null,null,"00:00:00",null,null,{"$f":"'7計画'!V19:AA19","v":0},null,null,null,null,null,{"$f":"'7計画'!AB19:AG19","v":0},null,null,null,null,null,{"$f":"'7計画'!AH19:AO19","v":0},null,null,null,null,null,null,null,false,null,null,null,null,null,null,null,null,null,null,null,null,null,null,null,null,null,null,null,null,"0",null,null,null,null,null,null,null,null,null,null,null,{"$f":"'7計画'!C19","v":"土"},null,{"$f":"'7計画'!E19","v":"00:00:00"},null,null,"～",{"$f":"'7計画'!I19","v":"00:00:00"},null,null,{"$f":"'7計画'!L19","v":"00:00:00"},null,null,"～",{"$f":"'7計画'!P19","v":"00:00:00"},null,null,"00:00:00",null,null,{"$f":"'7計画'!V19","v":0},null,null,null,null,null,{"$f":"'7計画'!AB19","v":0},null,null,null,null,null,{"$f":"'7計画'!AH19","v":0}]
[5,null,{"$f":"'7計画'!C20:D20","v":"日"},null,{"$f":"'7計画'!E20:G20","v":"00:00:00"},null,null,"～",{"$f":"'7計画'!I20:K20","v":"00:00:00"},null,null,{"$f":"'7計画'!L20:N20","v":"00:00:00"},null,null,"～",{"$f":"'7計画'!P20:R20","v":"00:00:00"},null,null,"00:00:00",null,null,{"$f":"'7計画'!V20:AA20","v":0},null,null,null,null,null,{"$f":"'7計画'!AB20:AG20","v":0},null,null,null,null,null,{"$f":"'7計画'!AH20:AO20","v":0},null,null,null,null,null,null,null,false,null,null,null,null,null,null,null,null,null,null,null,null,null,null,null,null,null,null,null,null,"0",null,null,null,null,null,null,null,null,null,null,null,{"$f":"'7計画'!C20","v":"日"},null,{"$f":"'7計画'!E20","v":"00:00:00"},null,null,"～",{"$f":"'7計画'!I20","v":"00:00:00"},null,null,{"$f":"'7計画'!L20","v":"00:00:00"},null,null,"～",{"$f":"'7計画'!P20","v":"00:00:00"},null,null,"00:00:00",null,null,{"$f":"'7計画'!V20","v":0},null,null,null,null,null,{"$f":"'7計画'!AB20","v":0},null,null,null,null,null,{"$f":"'7計画'!AH20","v":0}]
[6,null,{"$f":"'7計画'!C21:D21","v":"月"},null,{"$f":"'7計画'!E21:G21","v":"00:00:00"},null,null,"～",{"$f":"'7計画'!I21:K21","v":"00:00:00"},null,null,{"$f":"'7計画'!L21:N21","v":"00:00:00"},null,null,"～",{"$f":"'7計画'!P21:R21","v":"00:00:00"},null,null,"00:00:00",null,null,{"$f":"'7計画'!V21:AA21","v":0},null,null,null,null,null,{"$f":"'7計画'!AB21:AG21","v":0},null,null,null,null,null,{"$f":"'7計画'!AH21:AO21","v":0},null,null,null,null,null,null,null,false,null,null,null,null,null,null,null,null,null,null,null,null,null,null,null,null,null,null,null,null,"0",null,null,null,null,null,null,null,null,null,null,null,{"$f":"'7計画'!C21","v":"月"},null,{"$f":"'7計画'!E21","v":"00:00:00"},null,null,"～",{"$f":"'7計画'!I21","v":"00:00:00"},null,null,{"$f":"'7計画'!L21","v":"00:00:00"},null,null,"～",{"$f":"'7計画'!P21","v":"00:00:00"},null,null,"00:00:00",null,null,{"$f":"'7計画'!V21","v":0},null,null,null,null,null,{"$f":"'7計画'!AB21","v":0},null,null,null,null,null,{"$f":"'7計画'!AH21","v":0}]
[7,null,{"$f":"'7計画'!C22:D22","v":"火"},null,{"$f":"'7計画'!E22:G22","v":"00:00:00"},null,null,"～",{"$f":"'7計画'!I22:K22","v":"00:00:00"},null,null,{"$f":"'7計画'!L22:N22","v":"00:00:00"},null,null,"～",{"$f":"'7計画'!P22:R22","v":"00:00:00"},null,null,"00:00:00",null,null,{"$f":"'7計画'!V22:AA22","v":0},null,null,null,null,null,{"$f":"'7計画'!AB22:AG22","v":0},null,null,null,null,null,{"$f":"'7計画'!AH22:AO22","v":0},null,null,null,null,null,null,null,false,null,null,null,null,null,null,null,null,null,null,null,null,null,null,null,null,null,null,null,null,"0",null,null,null,null,null,null,null,null,null,null,null,{"$f":"'7計画'!C22","v":"火"},null,{"$f":"'7計画'!E22","v":"00:00:00"},null,null,"～",{"$f":"'7計画'!I22","v":"00:00:00"},null,null,{"$f":"'7計画'!L22","v":"00:00:00"},null,null,"～",{"$f":"'7計画'!P22","v":"00:00:00"},null,null,"00:00:00",null,null,{"$f":"'7計画'!V22","v":0},null,null,null,null,null,{"$f":"'7計画'!AB22","v":0},null,null,null,null,null,{"$f":"'7計画'!AH22","v":0}]
[8,null,{"$f":"'7計画'!C23:D23","v":"水"},null,{"$f":"'7計画'!E23:G23","v":"00:00:00"},null,null,"～",{"$f":"'7計画'!I23:K23","v":"00:00:00"},null,null,{"$f":"'7計画'!L23:N23","v":"00:00:00"},null,null,"～",{"$f":"'7計画'!P23:R23","v":"00:00:00"},null,null,"00:00:00",null,null,{"$f":"'7計画'!V23:AA23","v":0},null,null,null,null,null,{"$f":"'7計画'!AB23:AG23","v":0},null,null,null,null,null,{"$f":"'7計画'!AH23:AO23","v":0},null,null,null,null,null,null,null,false,null,null,null,null,null,null,null,null,null,null,null,null,null,null,null,null,null,null,null,null,"0",null,null,null,null,null,null,null,null,null,null,null,{"$f":"'7計画'!C23","v":"水"},null,{"$f":"'7計画'!E23","v":"00:00:00"},null,null,"～",{"$f":"'7計画'!I23","v":"00:00:00"},null,null,{"$f":"'7計画'!L23","v":"00:00:00"},null,null,"～",{"$f":"'7計画'!P23","v":"00:00:00"},null,null,"00:00:00",null,null,{"$f":"'7計画'!V23","v":0},null,null,null,null,null,{"$f":"'7計画'!AB23","v":0},null,null,null,null,null,{"$f":"'7計画'!AH23","v":0}]
[9,null,{"$f":"'7計画'!C24:D24","v":"木"},null,{"$f":"'7計画'!E24:G24","v":"00:00:00"},null,null,"～",{"$f":"'7計画'!I24:K24","v":"00:00:00"},null,null,{"$f":"'7計画'!L24:N24","v":"00:00:00"},null,null,"～",{"$f":"'7計画'!P24:R24","v":"00:00:00"},null,null,"00:00:00",null,null,{"$f":"'7計画'!V24:AA24","v":0},null,null,null,null,null,{"$f":"'7計画'!AB24:AG24","v":0},null,null,null,null,null,{"$f":"'7計画'!AH24:AO24","v":0},null,null,null,null,null,null,null,false,null,null,null,null,null,null,null,null,null,null,null,null,null,null,null,null,null,null,null,null,"0",null,null,null,null,null,null,null,null,null,null,null,{"$f":"'7計画'!C24","v":"木"},null,{"$f":"'7計画'!E24","v":"00:00:00"},null,null,"～",{"$f":"'7計画'!I24","v":"00:00:00"},null,null,{"$f":"'7計画'!L24","v":"00:00:00"},null,null,"～",{"$f":"'7計画'!P24","v":"00:00:00"},null,null,"00:00:00",null,null,{"$f":"'7計画'!V24","v":0},null,null,null,null,null,{"$f":"'7計画'!AB24","v":0},null,null,null,null,null,{"$f":"'7計画'!AH24","v":0}]
[10,null,{"$f":"'7計画'!C25:D25","v":"金"},null,{"$f":"'7計画'!E25:G25","v":"00:00:00"},null,null,"～",{"$f":"'7計画'!I25:K25","v":"00:00:00"},null,null,{"$f":"'7計画'!L25:N25","v":"00:00:00"},null,null,"～",{"$f":"'7計画'!P25:R25","v":"00:00:00"},null,null,"00:00:00",null,null,{"$f":"'7計画'!V25:AA25","v":0},null,null,null,null,null,{"$f":"'7計画'!AB25:AG25","v":0},null,null,null,null,null,{"$f":"'7計画'!AH25:AO25","v":0},null,null,null,null,null,null,null,false,null,null,null,null,null,null,null,null,null,null,null,null,null,null,null,null,null,null,null,null,"0",null,null,null,null,null,null,null,null,null,null,null,{"$f":"'7計画'!C25","v":"金"},null,{"$f":"'7計画'!E25","v":"00:00:00"},null,null,"～",{"$f":"'7計画'!I25","v":"00:00:00"},null,null,{"$f":"'7計画'!L25","v":"00:00:00"},null,null,"～",{"$f":"'7計画'!P25","v":"00:00:00"},null,null,"00:00:00",null,null,{"$f":"'7計画'!V25","v":0},null,null,null,null,null,{"$f":"'7計画'!AB25","v":0},null,null,null,null,null,{"$f":"'7計画'!AH25","v":0}]
[11,null,{"$f":"'7計画'!C26:D26","v":"土"},null,{"$f":"'7計画'!E26:G26","v":"00:00:00"},null,null,"～",{"$f":"'7計画'!I26:K26","v":"00:00:00"},null,null,{"$f":"'7計画'!L26:N26","v":"00:00:00"},null,null,"～",{"$f":"'7計画'!P26:R26","v":"00:00:00"},null,null,"00:00:00",null,null,{"$f":"'7計画'!V26:AA26","v":0},null,null,null,null,null,{"$f":"'7計画'!AB26:AG26","v":0},null,null,null,null,null,{"$f":"'7計画'!AH26:AO26","v":0},null,null,null,null,null,null,null,false,null,null,null,null,null,null,null,null,null,null,null,null,null,null,null,null,null,null,null,null,"0",null,null,null,null,null,null,null,null,null,null,null,{"$f":"'7計画'!C26","v":"土"},null,{"$f":"'7計画'!E26","v":"00:00:00"},null,null,"～",{"$f":"'7計画'!I26","v":"00:00:00"},null,null,{"$f":"'7計画'!L26","v":"00:00:00"},null,null,"～",{"$f":"'7計画'!P26","v":"00:00:00"},null,null,"00:00:00",null,null,{"$f":"'7計画'!V26","v":0},null,null,null,null,null,{"$f":"'7計画'!AB26","v":0},null,null,null,null,null,{"$f":"'7計画'!AH26","v":0}]
[12,null,{"$f":"'7計画'!C27:D27","v":"日"},null,{"$f":"'7計画'!E27:G27","v":"00:00:00"},null,null,"～",{"$f":"'7計画'!I27:K27","v":"00:00:00"},null,null,{"$f":"'7計画'!L27:N27","v":"00:00:00"},null,null,"～",{"$f":"'7計画'!P27:R27","v":"00:00:00"},null,null,"00:00:00",null,null,{"$f":"'7計画'!V27:AA27","v":0},null,null,null,null,null,{"$f":"'7計画'!AB27:AG27","v":0},null,null,null,null,null,{"$f":"'7計画'!AH27:AO27","v":0},null,null,null,null,null,null,null,false,null,null,null,null,null,null,null,null,null,null,null,null,null,null,null,null,null,null,null,null,"0",null,null,null,null,null,null,null,null,null,null,null,{"$f":"'7計画'!C27","v":"日"},null,{"$f":"'7計画'!E27","v":"00:00:00"},null,null,"～",{"$f":"'7計画'!I27","v":"00:00:00"},null,null,{"$f":"'7計画'!L27","v":"00:00:00"},null,null,"～",{"$f":"'7計画'!P27","v":"00:00:00"},null,null,"00:00:00",null,null,{"$f":"'7計画'!V27","v":0},null,null,null,null,null,{"$f":"'7計画'!AB27","v":0},null,null,null,null,null,{"$f":"'7計画'!AH27","v":0}]
[13,null,{"$f":"'7計画'!C28:D28","v":"月"},null,{"$f":"'7計画'!E28:G28","v":"00:00:00"},null,null,"～",{"$f":"'7計画'!I28:K28","v":"00:00:00"},null,null,{"$f":"'7計画'!L28:N28","v":"00:00:00"},null,null,"～",{"$f":"'7計画'!P28:R28","v":"00:00:00"},null,null,"00:00:00",null,null,{"$f":"'7計画'!V28:AA28","v":0},null,null,null,null,null,{"$f":"'7計画'!AB28:AG28","v":0},null,null,null,null,null,{"$f":"'7計画'!AH28:AO28","v":0},null,null,null,null,null,null,null,false,null,null,null,null,null,null,null,null,null,null,null,null,null,null,null,null,null,null,null,null,"0",null,null,null,null,null,null,null,null,null,null,null,{"$f":"'7計画'!C28","v":"月"},null,{"$f":"'7計画'!E28","v":"00:00:00"},null,null,"～",{"$f":"'7計画'!I28","v":"00:00:00"},null,null,{"$f":"'7計画'!L28","v":"00:00:00"},null,null,"～",{"$f":"'7計画'!P28","v":"00:00:00"},null,null,"00:00:00",null,null,{"$f":"'7計画'!V28","v":0},null,null,null,null,null,{"$f":"'7計画'!AB28","v":0},null,null,null,null,null,{"$f":"'7計画'!AH28","v":0}]
[14,null,{"$f":"'7計画'!C29:D29","v":"火"},null,{"$f":"'7計画'!E29:G29","v":"00:00:00"},null,null,"～",{"$f":"'7計画'!I29:K29","v":"00:00:00"},null,null,{"$f":"'7計画'!L29:N29","v":"00:00:00"},null,null,"～",{"$f":"'7計画'!P29:R29","v":"00:00:00"},null,null,"00:00:00",null,null,{"$f":"'7計画'!V29:AA29","v":0},null,null,null,null,null,{"$f":"'7計画'!AB29:AG29","v":0},null,null,null,null,null,{"$f":"'7計画'!AH29:AO29","v":0},null,null,null,null,null,null,null,false,null,null,null,null,null,null,null,null,null,null,null,null,null,null,null,null,null,null,null,null,"0",null,null,null,null,null,null,null,null,null,null,null,{"$f":"'7計画'!C29","v":"火"},null,{"$f":"'7計画'!E29","v":"00:00:00"},null,null,"～",{"$f":"'7計画'!I29","v":"00:00:00"},null,null,{"$f":"'7計画'!L29","v":"00:00:00"},null,null,"～",{"$f":"'7計画'!P29","v":"00:00:00"},null,null,"00:00:00",null,null,{"$f":"'7計画'!V29","v":0},null,null,null,null,null,{"$f":"'7計画'!AB29","v":0},null,null,null,null,null,{"$f":"'7計画'!AH29","v":0}]
[15,null,{"$f":"'7計画'!C30:D30","v":"水"},null,{"$f":"'7計画'!E30:G30","v":"00:00:00"},null,null,"～",{"$f":"'7計画'!I30:K30","v":"00:00:00"},null,null,{"$f":"'7計画'!L30:N30","v":"00:00:00"},null,null,"～",{"$f":"'7計画'!P30:R30","v":"00:00:00"},null,null,"00:00:00",null,null,{"$f":"'7計画'!V30:AA30","v":0},null,null,null,null,null,{"$f":"'7計画'!AB30:AG30","v":0},null,null,null,null,null,{"$f":"'7計画'!AH30:AO30","v":0},null,null,null,null,null,null,null,false,null,null,null,null,null,null,null,null,null,null,null,null,null,null,null,null,null,null,null,null,"0",null,null,null,null,null,null,null,null,null,null,null,{"$f":"'7計画'!C30","v":"水"},null,{"$f":"'7計画'!E30","v":"00:00:00"},null,null,"～",{"$f":"'7計画'!I30","v":"00:00:00"},null,null,{"$f":"'7計画'!L30","v":"00:00:00"},null,null,"～",{"$f":"'7計画'!P30","v":"00:00:00"},null,null,"00:00:00",null,null,{"$f":"'7計画'!V30","v":0},null,null,null,null,null,{"$f":"'7計画'!AB30","v":0},null,null,null,null,null,{"$f":"'7計画'!AH30","v":0}]
[16,null,{"$f":"'7計画'!C31:D31","v":"木"},null,{"$f":"'7計画'!E31:G31","v":"00:00:00"},null,null,"～",{"$f":"'7計画'!I31:K31","v":"00:00:00"},null,null,{"$f":"'7計画'!L31:N31","v":"00:00:00"},null,null,"～",{"$f":"'7計画'!P31:R31","v":"00:00:00"},null,null,"00:00:00",null,null,{"$f":"'7計画'!V31:AA31","v":0},null,null,null,null,null,{"$f":"'7計画'!AB31:AG31","v":0},null,null,null,null,null,{"$f":"'7計画'!AH31:AO31","v":0},null,null,null,null,null,null,null,false,null,null,null,null,null,null,null,null,null,null,null,null,null,null,null,null,null,null,null,null,"0",null,null,null,null,null,null,null,null,null,null,null,{"$f":"'7計画'!C31","v":"木"},null,{"$f":"'7計画'!E31","v":"00:00:00"},null,null,"～",{"$f":"'7計画'!I31","v":"00:00:00"},null,null,{"$f":"'7計画'!L31","v":"00:00:00"},null,null,"～",{"$f":"'7計画'!P31","v":"00:00:00"},null,null,"00:00:00",null,null,{"$f":"'7計画'!V31","v":0},null,null,null,null,null,{"$f":"'7計画'!AB31","v":0},null,null,null,null,null,{"$f":"'7計画'!AH31","v":0}]
[17,null,{"$f":"'7計画'!C32:D32","v":"金"},null,{"$f":"'7計画'!E32:G32","v":"00:00:00"},null,null,"～",{"$f":"'7計画'!I32:K32","v":"00:00:00"},null,null,{"$f":"'7計画'!L32:N32","v":"00:00:00"},null,null,"～",{"$f":"'7計画'!P32:R32","v":"00:00:00"},null,null,"00:00:00",null,null,{"$f":"'7計画'!V32:AA32","v":0},null,null,null,null,null,{"$f":"'7計画'!AB32:AG32","v":0},null,null,null,null,null,{"$f":"'7計画'!AH32:AO32","v":0},null,null,null,null,null,null,null,false,null,null,null,null,null,null,null,null,null,null,null,null,null,null,null,null,null,null,null,null,"0",null,null,null,null,null,null,null,null,null,null,null,{"$f":"'7計画'!C32","v":"金"},null,{"$f":"'7計画'!E32","v":"00:00:00"},null,null,"～",{"$f":"'7計画'!I32","v":"00:00:00"},null,null,{"$f":"'7計画'!L32","v":"00:00:00"},null,null,"～",{"$f":"'7計画'!P32","v":"00:00:00"},null,null,"00:00:00",null,null,{"$f":"'7計画'!V32","v":0},null,null,null,null,null,{"$f":"'7計画'!AB32","v":0},null,null,null,null,null,{"$f":"'7計画'!AH32","v":0}]
[18,null,{"$f":"'7計画'!C33:D33","v":"土"},null,{"$f":"'7計画'!E33:G33","v":"00:00:00"},null,null,"～",{"$f":"'7計画'!I33:K33","v":"00:00:00"},null,null,{"$f":"'7計画'!L33:N33","v":"00:00:00"},null,null,"～",{"$f":"'7計画'!P33:R33","v":"00:00:00"},null,null,"00:00:00",null,null,{"$f":"'7計画'!V33:AA33","v":0},null,null,null,null,null,{"$f":"'7計画'!AB33:AG33","v":0},null,null,null,null,null,{"$f":"'7計画'!AH33:AO33","v":0},null,null,null,null,null,null,null,false,null,null,null,null,null,null,null,null,null,null,null,null,null,null,null,null,null,null,null,null,"0",null,null,null,null,null,null,null,null,null,null,null,{"$f":"'7計画'!C33","v":"土"},null,{"$f":"'7計画'!E33","v":"00:00:00"},null,null,"～",{"$f":"'7計画'!I33","v":"00:00:00"},null,null,{"$f":"'7計画'!L33","v":"00:00:00"},null,null,"～",{"$f":"'7計画'!P33","v":"00:00:00"},null,null,"00:00:00",null,null,{"$f":"'7計画'!V33","v":0},null,null,null,null,null,{"$f":"'7計画'!AB33","v":0},null,null,null,null,null,{"$f":"'7計画'!AH33","v":0}]
[19,null,{"$f":"'7計画'!C34:D34","v":"日"},null,{"$f":"'7計画'!E34:G34","v":"00:00:00"},null,null,"～",{"$f":"'7計画'!I34:K34","v":"00:00:00"},null,null,{"$f":"'7計画'!L34:N34","v":"00:00:00"},null,null,"～",{"$f":"'7計画'!P34:R34","v":"00:00:00"},null,null,"00:00:00",null,null,{"$f":"'7計画'!V34:AA34","v":0},null,null,null,null,null,{"$f":"'7計画'!AB34:AG34","v":0},null,null,null,null,null,{"$f":"'7計画'!AH34:AO34","v":0},null,null,null,null,null,null,null,false,null,null,null,null,null,null,null,null,null,null,null,null,null,null,null,null,null,null,null,null,"0",null,null,null,null,null,null,null,null,null,null,null,{"$f":"'7計画'!C34","v":"日"},null,{"$f":"'7計画'!E34","v":"00:00:00"},null,null,"～",{"$f":"'7計画'!I34","v":"00:00:00"},null,null,{"$f":"'7計画'!L34","v":"00:00:00"},null,null,"～",{"$f":"'7計画'!P34","v":"00:00:00"},null,null,"00:00:00",null,null,{"$f":"'7計画'!V34","v":0},null,null,null,null,null,{"$f":"'7計画'!AB34","v":0},null,null,null,null,null,{"$f":"'7計画'!AH34","v":0}]
[20,null,{"$f":"'7計画'!C35:D35","v":"月"},null,{"$f":"'7計画'!E35:G35","v":"00:00:00"},null,null,"～",{"$f":"'7計画'!I35:K35","v":"00:00:00"},null,null,{"$f":"'7計画'!L35:N35","v":"00:00:00"},null,null,"～",{"$f":"'7計画'!P35:R35","v":"00:00:00"},null,null,"00:00:00",null,null,{"$f":"'7計画'!V35:AA35","v":0},null,null,null,null,null,{"$f":"'7計画'!AB35:AG35","v":0},null,null,null,null,null,{"$f":"'7計画'!AH35:AO35","v":0},null,null,null,null,null,null,null,false,null,null,null,null,null,null,null,null,null,null,null,null,null,null,null,null,null,null,null,null,"0",null,null,null,null,null,null,null,null,null,null,null,{"$f":"'7計画'!C35","v":"月"},null,{"$f":"'7計画'!E35","v":"00:00:00"},null,null,"～",{"$f":"'7計画'!I35","v":"00:00:00"},null,null,{"$f":"'7計画'!L35","v":"00:00:00"},null,null,"～",{"$f":"'7計画'!P35","v":"00:00:00"},null,null,"00:00:00",null,null,{"$f":"'7計画'!V35","v":0},null,null,null,null,null,{"$f":"'7計画'!AB35","v":0},null,null,null,null,null,{"$f":"'7計画'!AH35","v":0}]
[21,null,{"$f":"'7計画'!C36:D36","v":"火"},null,{"$f":"'7計画'!E36:G36","v":"00:00:00"},null,null,"～",{"$f":"'7計画'!I36:K36","v":"00:00:00"},null,null,{"$f":"'7計画'!L36:N36","v":"00:00:00"},null,null,"～",{"$f":"'7計画'!P36:R36","v":"00:00:00"},null,null,"00:00:00",null,null,{"$f":"'7計画'!V36:AA36","v":0},null,null,null,null,null,{"$f":"'7計画'!AB36:AG36","v":0},null,null,null,null,null,{"$f":"'7計画'!AH36:AO36","v":0},null,null,null,null,null,null,null,false,null,null,null,null,null,null,null,null,null,null,null,null,null,null,null,null,null,null,null,null,"0",null,null,null,null,null,null,null,null,null,null,null,{"$f":"'7計画'!C36","v":"火"},null,{"$f":"'7計画'!E36","v":"00:00:00"},null,null,"～",{"$f":"'7計画'!I36","v":"00:00:00"},null,null,{"$f":"'7計画'!L36","v":"00:00:00"},null,null,"～",{"$f":"'7計画'!P36","v":"00:00:00"},null,null,"00:00:00",null,null,{"$f":"'7計画'!V36","v":0},null,null,null,null,null,{"$f":"'7計画'!AB36","v":0},null,null,null,null,null,{"$f":"'7計画'!AH36","v":0}]
[22,null,{"$f":"'7計画'!C37:D37","v":"水"},null,{"$f":"'7計画'!E37:G37","v":"00:00:00"},null,null,"～",{"$f":"'7計画'!I37:K37","v":"00:00:00"},null,null,{"$f":"'7計画'!L37:N37","v":"00:00:00"},null,null,"～",{"$f":"'7計画'!P37:R37","v":"00:00:00"},null,null,"00:00:00",null,null,{"$f":"'7計画'!V37:AA37","v":0},null,null,null,null,null,{"$f":"'7計画'!AB37:AG37","v":0},null,null,null,null,null,{"$f":"'7計画'!AH37:AO37","v":0},null,null,null,null,null,null,null,false,null,null,null,null,null,null,null,null,null,null,null,null,null,null,null,null,null,null,null,null,"0",null,null,null,null,null,null,null,null,null,null,null,{"$f":"'7計画'!C37","v":"水"},null,{"$f":"'7計画'!E37","v":"00:00:00"},null,null,"～",{"$f":"'7計画'!I37","v":"00:00:00"},null,null,{"$f":"'7計画'!L37","v":"00:00:00"},null,null,"～",{"$f":"'7計画'!P37","v":"00:00:00"},null,null,"00:00:00",null,null,{"$f":"'7計画'!V37","v":0},null,null,null,null,null,{"$f":"'7計画'!AB37","v":0},null,null,null,null,null,{"$f":"'7計画'!AH37","v":0}]
[23,null,{"$f":"'7計画'!C38:D38","v":"木"},null,{"$f":"'7計画'!E38:G38","v":"00:00:00"},null,null,"～",{"$f":"'7計画'!I38:K38","v":"00:00:00"},null,null,{"$f":"'7計画'!L38:N38","v":"00:00:00"},null,null,"～",{"$f":"'7計画'!P38:R38","v":"00:00:00"},null,null,"00:00:00",null,null,{"$f":"'7計画'!V38:AA38","v":0},null,null,null,null,null,{"$f":"'7計画'!AB38:AG38","v":0},null,null,null,null,null,{"$f":"'7計画'!AH38:AO38","v":0},null,null,null,null,null,null,null,false,null,null,null,null,null,null,null,null,null,null,null,null,null,null,null,null,null,null,null,null,"0",null,null,null,null,null,null,null,null,null,null,null,{"$f":"'7計画'!C38","v":"木"},null,{"$f":"'7計画'!E38","v":"00:00:00"},null,null,"～",{"$f":"'7計画'!I38","v":"00:00:00"},null,null,{"$f":"'7計画'!L38","v":"00:00:00"},null,null,"～",{"$f":"'7計画'!P38","v":"00:00:00"},null,null,"00:00:00",null,null,{"$f":"'7計画'!V38","v":0},null,null,null,null,null,{"$f":"'7計画'!AB38","v":0},null,null,null,null,null,{"$f":"'7計画'!AH38","v":0}]
[24,null,{"$f":"'7計画'!C39:D39","v":"金"},null,{"$f":"'7計画'!E39:G39","v":"00:00:00"},null,null,"～",{"$f":"'7計画'!I39:K39","v":"00:00:00"},null,null,{"$f":"'7計画'!L39:N39","v":"00:00:00"},null,null,"～",{"$f":"'7計画'!P39:R39","v":"00:00:00"},null,null,"00:00:00",null,null,{"$f":"'7計画'!V39:AA39","v":0},null,null,null,null,null,{"$f":"'7計画'!AB39:AG39","v":0},null,null,null,null,null,{"$f":"'7計画'!AH39:AO39","v":0},null,null,null,null,null,null,null,false,null,null,null,null,null,null,null,null,null,null,null,null,null,null,null,null,null,null,null,null,"0",null,null,null,null,null,null,null,null,null,null,null,{"$f":"'7計画'!C39","v":"金"},null,{"$f":"'7計画'!E39","v":"00:00:00"},null,null,"～",{"$f":"'7計画'!I39","v":"00:00:00"},null,null,{"$f":"'7計画'!L39","v":"00:00:00"},null,null,"～",{"$f":"'7計画'!P39","v":"00:00:00"},null,null,"00:00:00",null,null,{"$f":"'7計画'!V39","v":0},null,null,null,null,null,{"$f":"'7計画'!AB39","v":0},null,null,null,null,null,{"$f":"'7計画'!AH39","v":0}]
[25,null,{"$f":"'7計画'!C40:D40","v":"土"},null,{"$f":"'7計画'!E40:G40","v":"00:00:00"},null,null,"～",{"$f":"'7計画'!I40:K40","v":"00:00:00"},null,null,{"$f":"'7計画'!L40:N40","v":"00:00:00"},null,null,"～",{"$f":"'7計画'!P40:R40","v":"00:00:00"},null,null,"00:00:00",null,null,{"$f":"'7計画'!V40:AA40","v":0},null,null,null,null,null,{"$f":"'7計画'!AB40:AG40","v":0},null,null,null,null,null,{"$f":"'7計画'!AH40:AO40","v":0},null,null,null,null,null,null,null,false,null,null,null,null,null,null,null,null,null,null,null,null,null,null,null,null,null,null,null,null,"0",null,null,null,null,null,null,null,null,null,null,null,{"$f":"'7計画'!C40","v":"土"},null,{"$f":"'7計画'!E40","v":"00:00:00"},null,null,"～",{"$f":"'7計画'!I40","v":"00:00:00"},null,null,{"$f":"'7計画'!L40","v":"00:00:00"},null,null,"～",{"$f":"'7計画'!P40","v":"00:00:00"},null,null,"00:00:00",null,null,{"$f":"'7計画'!V40","v":0},null,null,null,null,null,{"$f":"'7計画'!AB40","v":0},null,null,null,null,null,{"$f":"'7計画'!AH40","v":0}]
[26,null,{"$f":"'7計画'!C41:D41","v":"日"},null,{"$f":"'7計画'!E41:G41","v":"00:00:00"},null,null,"～",{"$f":"'7計画'!I41:K41","v":"00:00:00"},null,null,{"$f":"'7計画'!L41:N41","v":"00:00:00"},null,null,"～",{"$f":"'7計画'!P41:R41","v":"00:00:00"},null,null,"00:00:00",null,null,{"$f":"'7計画'!V41:AA41","v":0},null,null,null,null,null,{"$f":"'7計画'!AB41:AG41","v":0},null,null,null,null,null,{"$f":"'7計画'!AH41:AO41","v":0},null,null,null,null,null,null,null,false,null,null,null,null,null,null,null,null,null,null,null,null,null,null,null,null,null,null,null,null,"0",null,null,null,null,null,null,null,null,null,null,null,{"$f":"'7計画'!C41","v":"日"},null,{"$f":"'7計画'!E41","v":"00:00:00"},null,null,"～",{"$f":"'7計画'!I41","v":"00:00:00"},null,null,{"$f":"'7計画'!L41","v":"00:00:00"},null,null,"～",{"$f":"'7計画'!P41","v":"00:00:00"},null,null,"00:00:00",null,null,{"$f":"'7計画'!V41","v":0},null,null,null,null,null,{"$f":"'7計画'!AB41","v":0},null,null,null,null,null,{"$f":"'7計画'!AH41","v":0}]
[27,null,{"$f":"'7計画'!C42:D42","v":"月"},null,{"$f":"'7計画'!E42:G42","v":"00:00:00"},null,null,"～",{"$f":"'7計画'!I42:K42","v":"00:00:00"},null,null,{"$f":"'7計画'!L42:N42","v":"00:00:00"},null,null,"～",{"$f":"'7計画'!P42:R42","v":"00:00:00"},null,null,"00:00:00",null,null,{"$f":"'7計画'!V42:AA42","v":0},null,null,null,null,null,{"$f":"'7計画'!AB42:AG42","v":0},null,null,null,null,null,{"$f":"'7計画'!AH42:AO42","v":0},null,null,null,null,null,null,null,false,null,null,null,null,null,null,null,null,null,null,null,null,null,null,null,null,null,null,null,null,"0",null,null,null,null,null,null,null,null,null,null,null,{"$f":"'7計画'!C42","v":"月"},null,{"$f":"'7計画'!E42","v":"00:00:00"},null,null,"～",{"$f":"'7計画'!I42","v":"00:00:00"},null,null,{"$f":"'7計画'!L42","v":"00:00:00"},null,null,"～",{"$f":"'7計画'!P42","v":"00:00:00"},null,null,"00:00:00",null,null,{"$f":"'7計画'!V42","v":0},null,null,null,null,null,{"$f":"'7計画'!AB42","v":0},null,null,null,null,null,{"$f":"'7計画'!AH42","v":0}]
[28,null,{"$f":"'7計画'!C43:D43","v":"火"},null,{"$f":"'7計画'!E43:G43","v":"00:00:00"},null,null,"～",{"$f":"'7計画'!I43:K43","v":"00:00:00"},null,null,{"$f":"'7計画'!L43:N43","v":"00:00:00"},null,null,"～",{"$f":"'7計画'!P43:R43","v":"00:00:00"},null,null,"00:00:00",null,null,{"$f":"'7計画'!V43:AA43","v":0},null,null,null,null,null,{"$f":"'7計画'!AB43:AG43","v":0},null,null,null,null,null,{"$f":"'7計画'!AH43:AO43","v":0},null,null,null,null,null,null,null,false,null,null,null,null,null,null,null,null,null,null,null,null,null,null,null,null,null,null,null,null,"0",null,null,null,null,null,null,null,null,null,null,null,{"$f":"'7計画'!C43","v":"火"},null,{"$f":"'7計画'!E43","v":"00:00:00"},null,null,"～",{"$f":"'7計画'!I43","v":"00:00:00"},null,null,{"$f":"'7計画'!L43","v":"00:00:00"},null,null,"～",{"$f":"'7計画'!P43","v":"00:00:00"},null,null,"00:00:00",null,null,{"$f":"'7計画'!V43","v":0},null,null,null,null,null,{"$f":"'7計画'!AB43","v":0},null,null,null,null,null,{"$f":"'7計画'!AH43","v":0}]
[29,null,{"$f":"'7計画'!C44:D44","v":"水"},null,{"$f":"'7計画'!E44:G44","v":"00:00:00"},null,null,"～",{"$f":"'7計画'!I44:K44","v":"00:00:00"},null,null,{"$f":"'7計画'!L44:N44","v":"00:00:00"},null,null,"～",{"$f":"'7計画'!P44:R44","v":"00:00:00"},null,null,"00:00:00",null,null,{"$f":"'7計画'!V44:AA44","v":0},null,null,null,null,null,{"$f":"'7計画'!AB44:AG44","v":0},null,null,null,null,null,{"$f":"'7計画'!AH44:AO44","v":0},null,null,null,null,null,null,null,false,null,null,null,null,null,null,null,null,null,null,null,null,null,null,null,null,null,null,null,null,"0",null,null,null,null,null,null,null,null,null,null,null,{"$f":"'7計画'!C44","v":"水"},null,{"$f":"'7計画'!E44","v":"00:00:00"},null,null,"～",{"$f":"'7計画'!I44","v":"00:00:00"},null,null,{"$f":"'7計画'!L44","v":"00:00:00"},null,null,"～",{"$f":"'7計画'!P44","v":"00:00:00"},null,null,"00:00:00",null,null,{"$f":"'7計画'!V44","v":0},null,null,null,null,null,{"$f":"'7計画'!AB44","v":0},null,null,null,null,null,{"$f":"'7計画'!AH44","v":0}]
[30,null,{"$f":"'7計画'!C45:D45","v":"木"},null,{"$f":"'7計画'!E45:G45","v":"00:00:00"},null,null,"～",{"$f":"'7計画'!I45:K45","v":"00:00:00"},null,null,{"$f":"'7計画'!L45:N45","v":"00:00:00"},null,null,"～",{"$f":"'7計画'!P45:R45","v":"00:00:00"},null,null,"00:00:00",null,null,{"$f":"'7計画'!V45:AA45","v":0},null,null,null,null,null,{"$f":"'7計画'!AB45:AG45","v":0},null,null,null,null,null,{"$f":"'7計画'!AH45:AO45","v":0},null,null,null,null,null,null,null,false,null,null,null,null,null,null,null,null,null,null,null,null,null,null,null,null,null,null,null,null,"0",null,null,null,null,null,null,null,null,null,null,null,{"$f":"'7計画'!C45","v":"木"},null,{"$f":"'7計画'!E45","v":"00:00:00"},null,null,"～",{"$f":"'7計画'!I45","v":"00:00:00"},null,null,{"$f":"'7計画'!L45","v":"00:00:00"},null,null,"～",{"$f":"'7計画'!P45","v":"00:00:00"},null,null,"00:00:00",null,null,{"$f":"'7計画'!V45","v":0},null,null,null,null,null,{"$f":"'7計画'!AB45","v":0},null,null,null,null,null,{"$f":"'7計画'!AH45","v":0}]
[31,null,{"$f":"'7計画'!C46:D46","v":"金"},null,{"$f":"'7計画'!E46:G46","v":"00:00:00"},null,null,"～",{"$f":"'7計画'!I46:K46","v":"00:00:00"},null,null,{"$f":"'7計画'!L46:N46","v":"00:00:00"},null,null,"～",{"$f":"'7計画'!P46:R46","v":"00:00:00"},null,null,"00:00:00",null,null,{"$f":"'7計画'!V46:AA46","v":0},null,null,null,null,null,{"$f":"'7計画'!AB46:AG46","v":0},null,null,null,null,null,{"$f":"'7計画'!AH46:AO46","v":0},null,null,null,null,null,null,null,false,null,null,null,null,null,null,null,null,null,null,null,null,null,null,null,null,null,null,null,null,"0",null,null,null,null,null,null,null,null,null,31,null,{"$f":"'7計画'!C46","v":"金"},null,{"$f":"'7計画'!E46","v":"00:00:00"},null,null,"～",{"$f":"'7計画'!I46","v":"00:00:00"},null,null,{"$f":"'7計画'!L46","v":"00:00:00"},null,null,"～",{"$f":"'7計画'!P46","v":"00:00:00"},null,null,"00:00:00",null,null,{"$f":"'7計画'!V46","v":0},null,null,null,null,null,{"$f":"'7計画'!AB46","v":0},null,null,null,null,null,{"$f":"'7計画'!AH46","v":0}]
[null,null,null,null,null,null,null,null,null,null,null,null,null,null,null,null,null,null,{"$f":"SUM(S16:U46)","v":0},null,null,null,null,null,null,null,null,null,null,null,null,null,null,null,null,null,null,null,null,null,null,null,null,null,null,null,null,null,null,null,null,null,null,null,null,null,null,null,null,null,null,null,null,null,null,null,null,null,null,null,null,null,null,null,null,null,null,null,null,null,null,null,null,null,null,null,null,null,null,null,{"$f":"SUM(CM16:CO46)","v":0}]
[]
["月",null,null,4,null,5,null,6,null,7,null,8,null,9,null,10,null,11,null,12,null,1,null,2,null,3,null,"計"]
["時間",null,null,{"$f":"'４実績'!D50","v":0},null,{"$f":"'５実績'!F50","v":0},null,{"$f":"'6実績'!H50","v":0},null,{"$f":"S47","v":0},null,null,null,null,null,null,null,null,null,null,null,null,null,null,null,null,null,{"$f":"SUM(D50:AA50)","v":0},null,null,null,null,"時間",null,null,null,null,null,null,null,null,null,null,null,null,null,null,null,null,null,null,null,null,null,null,null,null,null,null,null,null,null,null,null,null,null,null,null,null,null,null,null,null,null,null,{"$f":"'４実績'!D50","v":0},null,{"$f":"'５実績'!F50","v":0},null,{"$f":"'6実績'!H50","v":0},null,{"$f":"CM47","v":0},null,null,null,null,null,null,null,null,null,null,null,null,null,null,null,null,null,{"$f":"SUM(BX50:CU50)","v":0}]
["活動日数",null,null,{"$f":"'４実績'!D51","v":0},null,{"$f":"'５実績'!F51","v":0},null,{"$f":"'6実績'!H51","v":0},null,{"$f":"COUNTIF(S16:U46,\">0\")","v":0},null,null,null,null,null,null,null,null,null,null,null,null,null,null,null,null,null,{"$f":"SUM(D51:AA51)","v":0},null,null,null,null,"活動日数",null,null,null,null,null,null,null,null,null,null,null,null,null,null,null,null,null,null,null,null,null,null,null,null,null,null,null,null,null,null,null,null,null,null,null,null,null,null,null,null,null,null,{"$f":"'４実績'!D51","v":0},null,{"$f":"'５実績'!F51","v":0},null,{"$f":"'6実績'!H51","v":0},null,{"$f":"COUNTIF(CM16:CO46,\">0\")","v":0},null,null,null,null,null,null,null,null,null,null,null,null,null,null,null,null,null,{"$f":"SUM(BX51:CU51)","v":0}]
["休養日数",null,null,{"$f":"'４実績'!D52","v":30},null,{"$f":"'５実績'!F52","v":31},null,{"$f":"'6実績'!H52","v":30},null,{"$f":"COUNTIF(S16:U46,\"0:00\")","v":31},null,null,null,null,null,null,null,null,null,null,null,null,null,null,null,null,null,{"$f":"SUM(D52:AA52)","v":122},null,null,null,null,"休養日数",null,null,null,null,null,null,null,null,null,null,null,null,null,null,null,null,null,null,null,null,null,null,null,null,null,null,null,null,null,null,null,null,null,null,null,null,null,null,null,null,null,null,{"$f":"'４実績'!D52","v":30},null,{"$f":"'５実績'!F52","v":31},null,{"$f":"'6実績'!H52","v":30},null,{"$f":"COUNTIF(CM16:CO46,\"0:00\")","v":31},null,null,null,null,null,null,null,null,null,null,null,null,null,null,null,null,null,{"$f":"SUM(BX52:CU52)","v":122}]
[null,null,null,null,null,null,null,null,null,null,null,null,null,null,null,null,null,null,null,null,null,null,null,null,null,null,null,{"$f":"AB50/AB51","v":{"$error":"#DIV/0!"}},null,null,null,null,"平均時間/日",null,null,null,null,null,null,null,null,null,null,null,null,null,null,null,null,null,null,null,null,null,null,null,null,null,null,null,null,null,null,null,null,null,null,null,null,null,null,null,null,null,null,null,null,null,null,null,null,null,null,null,null,null,null,null,null,null,null,null,null,null,null,null,null,null,null,{"$f":"CV50/CV51","v":{"$error":"#DIV/0!"}}]

{"sheet":"8実績","index":17,"n_rows":53,"n_cols":112,"rows_kept":53,"cut":false,"hidden":false,"merged":[[51,91,51,92],[51,93,51,94],[51,95,51,96],[51,97,51,98],[51,99,51,103],[51,104,51,106],[52,99,52,103],[52,104,52,106],[51,72,51,74],[51,75,51,76],[51,77,51,78],[51,79,51,80],[51,81,51,82],[51,83,51,84],[51,85,51,86],[51,87,51,88],[51,89,51,90],[50,91,50,92],[50,93,50,94],[50,95,50,96],[50,97,50,98],[50,99,50,103],[50,104,50,106],[49,72,49,74],[49,75,49,76],[49,77,49,78],[50,72,50,74],[50,75,50,76],[50,77,50,78],[50,79,50,80],[50,81,50,82],[50,83,50,84],[50,85,50,86],[50,87,50,88],[50,89,50,90],[49,79,49,80],[49,81,49,82],[49,83,49,84],[49,85,49,86],[49,87,49,88],[49,89,49,90],[46,90,46,92],[46,104,48,108],[46,109,46,112],[47,109,48,112],[48,91,48,92],[48,93,48,94],[48,95,48,96],[48,97,48,98],[48,99,48,103],[49,91,49,92],[49,93,49,94],[49,95,49,96],[49,97,49,98],[49,99,49,103],[49,104,49,106],[48,72,48,74],[48,75,48,76],[48,77,48,78],[48,79,48,80],[48,81,48,82],[48,83,48,84],[48,85,48,86],[48,87,48,88],[48,89,48,90],[44,105,44,112],[45,72,45,73],[45,74,45,75],[45,76,45,78],[45,80,45,82],[45,83,45,85],[45,87,45,89],[45,90,45,92],[45,93,45,98],[45,99,45,104],[45,105,45,112],[44,72,44,73],[44,74,44,75],[44,76,44,78],[44,80,44,82],[44,83,44,85],[44,87,44,89],[44,90,44,92],[44,93,44,98],[44,99,44,104],[42,105,42,112],[43,72,43,73],[43,74,43,75],[43,76,43,78],[43,80,43,82],[43,83,43,85],[43,87,43,89],[43,90,43,92],[43,93,43,98],[43,99,43,104],[43,105,43,112],[42,72,42,73],[42,74,42,75],[42,76,42,78],[42,80,42,82],[42,83,42,85],[42,87,42,89],[42,90,42,92],[42,93,42,98],[42,99,42,104],[40,105,40,112],[41,72,41,73],[41,74,41,75],[41,76,41,78],[41,80,41,82],[41,83,41,85],[41,87,41,89],[41,90,41,92],[41,93,41,98],[41,99,41,104],[41,105,41,112],[40,72,40,73],[40,74,40,75],[40,76,40,78],[40,80,40,82],[40,83,40,85],[40,87,40,89],[40,90,40,92],[40,93,40,98],[40,99,40,104],[38,105,38,112],[39,72,39,73],[39,74,39,75],[39,76,39,78],[39,80,39,82],[39,83,39,85],[39,87,39,89],[39,90,39,92],[39,93,39,98],[39,99,39,104],[39,105,39,112],[38,72,38,73],[38,74,38,75],[38,76,38,78],[38,80,38,82],[38,83,38,85],[38,87,38,89],[38,90,38,92],[38,93,38,98],[38,99,38,104],[36,105,36,112],[37,72,37,73],[37,74,37,75],[37,76,37,78],[37,80,37,82],[37,83,37,85],[37,87,37,89],[37,90,37,92],[37,93,37,98],[37,99,37,104],[37,105,37,112],[36,72,36,73],[36,74,36,75],[36,76,36,78],[36,80,36,82],[36,83,36,85],[36,87,36,89],[36,90,36,92],[36,93,36,98],[36,99,36,104],[34,105,34,112],[35,72,35,73],[35,74,35,75],[35,76,35,78],[35,80,35,82],[35,83,35,85],[35,87,35,89],[35,90,35,92],[35,93,35,98],[35,99,35,104],[35,105,35,112],[34,72,34,73],[34,74,34,75],[34,76,34,78],[34,80,34,82],[34,83,34,85],[34,87,34,89],[34,90,34,92],[34,93,34,98],[34,99,34,104],[32,105,32,112],[33,72,33,73],[33,74,33,75],[33,76,33,78],[33,80,33,82],[33,83,33,85],[33,87,33,89],[33,90,33,92],[33,93,33,98],[33,99,33,104],[33,105,33,112],[32,72,32,73],[32,74,32,75],[32,76,32,78],[32,80,32,82],[32,83,32,85],[32,87,32,89],[32,90,32,92],[32,93,32,98],[32,99,32,104],[30,105,30,112],[31,72,31,73],[31,74,31,75],[31,76,31,78],[31,80,31,82],[31,83,31,85],[31,87,31,89],[31,90,31,92],[31,93,31,98],[31,99,31,104],[31,105,31,112],[30,72,30,73],[30,74,30,75],[30,76,30,78],[30,80,30,82],[30,83,30,85],[30,87,30,89],[30,90,30,92],[30,93,30,98],[30,99,30,104],[28,105,28,112],[29,72,29,73],[29,74,29,75],[29,76,29,78],[29,80,29,82],[29,83,29,85],[29,87,29,89],[29,90,29,92],[29,93,29,98],[29,99,29,104],[29,105,29,112],[28,72,28,73],[28,74,28,75],[28,76,28,78],[28,80,28,82],[28,83,28,85],[28,87,28,89],[28,90,28,92],[28,93,28,98],[28,99,28,104],[26,105,26,112],[27,72,27,73],[27,74,27,75],[27,76,27,78],[27,80,27,82],[27,83,27,85],[27,87,27,89],[27,90,27,92],[27,93,27,98],[27,99,27,104],[27,105,27,112],[26,72,26,73],[26,74,26,75],[26,76,26,78],[26,80,26,82],[26,83,26,85],[26,87,26,89],[26,90,26,92],[26,93,26,98],[26,99,26,104],[24,105,24,112],[25,72,25,73],[25,74,25,75],[25,76,25,78],[25,80,25,82],[25,83,25,85],[25,87,25,89],[25,90,25,92],[25,93,25,98],[25,99,25,104],[25,105,25,112],[24,72,24,73],[24,74,24,75],[24,76,24,78],[24,80,24,82],[24,83,24,85],[24,87,24,89],[24,90,24,92],[24,93,24,98],[24,99,24,104],[22,105,22,112],[23,72,23,73],[23,74,23,75],[23,76,23,78],[23,80,23,82],[23,83,23,85],[23,87,23,89],[23,90,23,92],[23,93,23,98],[23,99,23,104],[23,105,23,112],[22,72,22,73],[22,74,22,75],[22,76,22,78],[22,80,22,82],[22,83,22,85],[22,87,22,89],[22,90,22,92],[22,93,22,98],[22,99,22,104],[20,105,20,112],[21,72,21,73],[21,74,21,75],[21,76,21,78],[21,80,21,82],[21,83,21,85],[21,87,21,89],[21,90,21,92],[21,93,21,98],[21,99,21,104],[21,105,21,112],[20,72,20,73],[20,74,20,75],[20,76,20,78],[20,80,20,82],[20,83,20,85],[20,87,20,89],[20,90,20,92],[20,93,20,98],[20,99,20,104],[18,105,18,112],[19,72,19,73],[19,74,19,75],[19,76,19,78],[19,80,19,82],[19,83,19,85],[19,87,19,89],[19,90,19,92],[19,93,19,98],[19,99,19,104],[19,105,19,112],[18,72,18,73],[18,74,18,75],[18,76,18,78],[18,80,18,82],[18,83,18,85],[18,87,18,89],[18,90,18,92],[18,93,18,98],[18,99,18,104],[16,105,16,112],[17,72,17,73],[17,74,17,75],[17,76,17,78],[17,80,17,82],[17,83,17,85],[17,87,17,89],[17,90,17,92],[17,93,17,98],[17,99,17,104],[17,105,17,112],[16,72,16,73],[16,74,16,75],[16,76,16,78],[16,80,16,82],[16,83,16,85],[16,87,16,89],[16,90,16,92],[16,93,16,98],[16,99,16,104],[14,72,14,73],[14,74,14,75],[14,76,14,82],[14,83,14,89],[14,90,14,92],[14,93,14,104],[14,105,14,112],[15,72,15,73],[15,74,15,75],[15,76,15,78],[15,80,15,82],[15,83,15,85],[15,87,15,89],[15,90,15,92],[15,93,15,98],[15,99,15,104],[15,105,15,112],[9,111,10,112],[11,73,12,74],[11,75,12,79],[11,80,12,81],[11,82,12,90],[11,91,12,92],[11,93,12,94],[11,95,12,99],[11,100,12,101],[11,102,12,110],[11,111,12,112],[9,73,10,74],[9,75,10,79],[9,80,10,81],[9,82,10,90],[9,91,10,92],[9,93,10,94],[9,95,10,99],[9,100,10,101],[9,102,10,110],[6,109,6,110],[6,111,6,112],[7,99,7,100],[7,101,7,102],[7,103,7,104],[7,105,7,106],[7,107,7,108],[7,109,7,110],[7,111,7,112],[6,72,7,76],[6,77,7,79],[6,80,7,94],[6,96,7,98],[6,99,6,100],[6,101,6,102],[6,103,6,104],[6,105,6,106],[6,107,6,108],[1,110,2,112],[2,72,4,75],[2,76,4,79],[2,80,4,83],[2,84,4,87],[2,88,4,91],[2,92,4,95],[3,97,4,99],[3,100,4,109],[3,110,4,112],[0,72,0,75],[1,72,1,75],[1,76,1,79],[1,80,1,83],[1,84,1,87],[1,88,1,91],[1,92,1,95],[1,97,2,99],[1,100,2,109],[41,42,41,45],[42,42,42,45],[43,42,43,45],[44,42,44,45],[45,42,45,45],[32,42,32,45],[33,42,33,45],[34,42,34,45],[35,42,35,45],[36,42,36,45],[37,42,37,45],[38,42,38,45],[39,42,39,45],[40,42,40,45],[23,42,23,45],[24,42,24,45],[25,42,25,45],[26,42,26,45],[27,42,27,45],[28,42,28,45],[29,42,29,45],[30,42,30,45],[31,42,31,45],[14,42,14,45],[15,42,15,45],[16,42,16,45],[17,42,17,45],[18,42,18,45],[19,42,19,45],[20,42,20,45],[21,42,21,45],[22,42,22,45],[0,0,0,3],[1,0,1,3],[1,4,1,7],[1,8,1,11],[1,12,1,15],[1,16,1,19],[1,20,1,23],[1,25,2,27],[1,28,2,37],[1,38,2,40],[2,0,4,3],[2,4,4,7],[2,8,4,11],[2,12,4,15],[2,16,4,19],[2,20,4,23],[3,25,4,27],[3,28,4,37],[3,38,4,40],[6,0,7,4],[6,5,7,7],[6,8,7,22],[6,24,7,26],[6,27,6,28],[6,29,6,30],[6,31,6,32],[6,33,6,34],[6,35,6,36],[9,23,10,27],[9,28,10,29],[9,30,10,38],[6,37,6,38],[6,39,6,40],[7,27,7,28],[7,29,7,30],[7,31,7,32],[7,33,7,34],[7,35,7,36],[7,37,7,38],[7,39,7,40],[11,39,12,40],[14,0,14,1],[14,2,14,3],[14,4,14,10],[14,11,14,17],[14,18,14,20],[14,21,14,32],[14,33,14,40],[9,39,10,40],[11,1,12,2],[11,3,12,7],[11,8,12,9],[11,10,12,18],[11,19,12,20],[11,21,12,22],[11,23,12,27],[11,28,12,29],[11,30,12,38],[9,1,10,2],[9,3,10,7],[9,8,10,9],[9,10,10,18],[9,19,10,20],[9,21,10,22],[15,18,15,20],[15,21,15,26],[15,27,15,32],[15,33,15,40],[16,0,16,1],[16,2,16,3],[16,4,16,6],[16,8,16,10],[16,11,16,13],[16,15,16,17],[15,0,15,1],[15,2,15,3],[15,4,15,6],[15,8,15,10],[15,11,15,13],[15,15,15,17],[16,18,16,20],[16,21,16,26],[16,27,16,32],[16,33,16,40],[17,33,17,40],[18,0,18,1],[18,2,18,3],[18,4,18,6],[18,8,18,10],[18,11,18,13],[18,15,18,17],[18,18,18,20],[18,21,18,26],[18,27,18,32],[18,33,18,40],[17,0,17,1],[17,2,17,3],[17,4,17,6],[17,8,17,10],[17,11,17,13],[17,15,17,17],[17,18,17,20],[17,21,17,26],[17,27,17,32],[19,33,19,40],[20,0,20,1],[20,2,20,3],[20,4,20,6],[20,8,20,10],[20,11,20,13],[20,15,20,17],[20,18,20,20],[20,21,20,26],[20,27,20,32],[20,33,20,40],[19,0,19,1],[19,2,19,3],[19,4,19,6],[19,8,19,10],[19,11,19,13],[19,15,19,17],[19,18,19,20],[19,21,19,26],[19,27,19,32],[21,33,21,40],[22,0,22,1],[22,2,22,3],[22,4,22,6],[22,8,22,10],[22,11,22,13],[22,15,22,17],[22,18,22,20],[22,21,22,26],[22,27,22,32],[22,33,22,40],[21,0,21,1],[21,2,21,3],[21,4,21,6],[21,8,21,10],[21,11,21,13],[21,15,21,17],[21,18,21,20],[21,21,21,26],[21,27,21,32],[23,33,23,40],[24,0,24,1],[24,2,24,3],[24,4,24,6],[24,8,24,10],[24,11,24,13],[24,15,24,17],[24,18,24,20],[24,21,24,26],[24,27,24,32],[24,33,24,40],[23,0,23,1],[23,2,23,3],[23,4,23,6],[23,8,23,10],[23,11,23,13],[23,15,23,17],[23,18,23,20],[23,21,23,26],[23,27,23,32],[25,33,25,40],[26,0,26,1],[26,2,26,3],[26,4,26,6],[26,8,26,10],[26,11,26,13],[26,15,26,17],[26,18,26,20],[26,21,26,26],[26,27,26,32],[26,33,26,40],[25,0,25,1],[25,2,25,3],[25,4,25,6],[25,8,25,10],[25,11,25,13],[25,15,25,17],[25,18,25,20],[25,21,25,26],[25,27,25,32],[27,33,27,40],[28,0,28,1],[28,2,28,3],[28,4,28,6],[28,8,28,10],[28,11,28,13],[28,15,28,17],[28,18,28,20],[28,21,28,26],[28,27,28,32],[28,33,28,40],[27,0,27,1],[27,2,27,3],[27,4,27,6],[27,8,27,10],[27,11,27,13],[27,15,27,17],[27,18,27,20],[27,21,27,26],[27,27,27,32],[29,33,29,40],[30,0,30,1],[30,2,30,3],[30,4,30,6],[30,8,30,10],[30,11,30,13],[30,15,30,17],[30,18,30,20],[30,21,30,26],[30,27,30,32],[30,33,30,40],[29,0,29,1],[29,2,29,3],[29,4,29,6],[29,8,29,10],[29,11,29,13],[29,15,29,17],[29,18,29,20],[29,21,29,26],[29,27,29,32],[31,33,31,40],[32,0,32,1],[32,2,32,3],[32,4,32,6],[32,8,32,10],[32,11,32,13],[32,15,32,17],[32,18,32,20],[32,21,32,26],[32,27,32,32],[32,33,32,40],[31,0,31,1],[31,2,31,3],[31,4,31,6],[31,8,31,10],[31,11,31,13],[31,15,31,17],[31,18,31,20],[31,21,31,26],[31,27,31,32],[33,33,33,40],[34,0,34,1],[34,2,34,3],[34,4,34,6],[34,8,34,10],[34,11,34,13],[34,15,34,17],[34,18,34,20],[34,21,34,26],[34,27,34,32],[34,33,34,40],[33,0,33,1],[33,2,33,3],[33,4,33,6],[33,8,33,10],[33,11,33,13],[33,15,33,17],[33,18,33,20],[33,21,33,26],[33,27,33,32],[35,33,35,40],[36,0,36,1],[36,2,36,3],[36,4,36,6],[36,8,36,10],[36,11,36,13],[36,15,36,17],[36,18,36,20],[36,21,36,26],[36,27,36,32],[36,33,36,40],[35,0,35,1],[35,2,35,3],[35,4,35,6],[35,8,35,10],[35,11,35,13],[35,15,35,17],[35,18,35,20],[35,21,35,26],[35,27,35,32],[37,33,37,40],[38,0,38,1],[38,2,38,3],[38,4,38,6],[38,8,38,10],[38,11,38,13],[38,15,38,17],[38,18,38,20],[38,21,38,26],[38,27,38,32],[38,33,38,40],[37,0,37,1],[37,2,37,3],[37,4,37,6],[37,8,37,10],[37,11,37,13],[37,15,37,17],[37,18,37,20],[37,21,37,26],[37,27,37,32],[39,33,39,40],[40,0,40,1],[40,2,40,3],[40,4,40,6],[40,8,40,10],[40,11,40,13],[40,15,40,17],[40,18,40,20],[40,21,40,26],[40,27,40,32],[40,33,40,40],[39,0,39,1],[39,2,39,3],[39,4,39,6],[39,8,39,10],[39,11,39,13],[39,15,39,17],[39,18,39,20],[39,21,39,26],[39,27,39,32],[41,33,41,40],[42,0,42,1],[42,2,42,3],[42,4,42,6],[42,8,42,10],[42,11,42,13],[42,15,42,17],[42,18,42,20],[42,21,42,26],[42,27,42,32],[42,33,42,40],[41,0,41,1],[41,2,41,3],[41,4,41,6],[41,8,41,10],[41,11,41,13],[41,15,41,17],[41,18,41,20],[41,21,41,26],[41,27,41,32],[45,27,45,32],[43,33,43,40],[44,0,44,1],[44,2,44,3],[44,4,44,6],[44,8,44,10],[44,11,44,13],[44,15,44,17],[44,18,44,20],[44,21,44,26],[44,27,44,32],[44,33,44,40],[43,0,43,1],[43,2,43,3],[43,4,43,6],[43,8,43,10],[43,11,43,13],[43,15,43,17],[43,18,43,20],[43,21,43,26],[43,27,43,32],[45,33,45,40],[45,0,45,1],[45,2,45,3],[50,19,50,20],[50,21,50,22],[50,23,50,24],[50,25,50,26],[46,18,46,20],[49,13,49,14],[48,13,48,14],[48,15,48,16],[48,17,48,18],[49,17,49,18],[49,19,49,20],[49,21,49,22],[49,23,49,24],[48,23,48,24],[48,25,48,26],[49,15,49,16],[49,0,49,2],[49,3,49,4],[45,4,45,6],[45,8,45,10],[45,11,45,13],[45,15,45,17],[45,18,45,20],[45,21,45,26],[48,0,48,2],[48,3,48,4],[48,5,48,6],[48,7,48,8],[48,9,48,10],[49,5,49,6],[49,7,49,8],[49,9,49,10],[49,11,49,12],[48,11,48,12],[51,15,51,16],[51,17,51,18],[50,0,50,2],[50,3,50,4],[50,5,50,6],[50,7,50,8],[50,9,50,10],[50,11,50,12],[50,13,50,14],[50,15,50,16],[50,17,50,18],[5,0,5,22],[48,27,48,31],[48,19,48,20],[48,21,48,22],[50,27,50,31],[49,27,49,31],[49,32,49,34],[49,25,49,26],[52,27,52,31],[52,32,52,34],[51,19,51,20],[51,21,51,22],[51,23,51,24],[51,25,51,26],[51,27,51,31],[51,32,51,34],[50,32,50,34],[51,0,51,2],[51,3,51,4],[51,5,51,6],[51,7,51,8],[51,9,51,10],[51,11,51,12],[51,13,51,14]]}
[]
[{"$f":"'8計画'!A2:D2","v":"校長"},null,null,null,{"$f":"'8計画'!E2:H2","v":"教頭"},null,null,null,{"$f":"'8計画'!I2:L2","v":"教頭"},null,null,null,{"$f":"'8計画'!M2:P2","v":"主幹教諭"},null,null,null,{"$f":"'8計画'!Q2:T2","v":0},null,null,null,{"$f":"'8計画'!U2:X2","v":"顧問"},null,null,null,null,"学校名",null,null,{"$f":"'8計画'!AC2:AL3","v":0},null,null,null,null,null,null,null,null,null,"学校",null,null,null,null,null,null,null,null,null,null,null,null,null,null,null,null,null,null,null,null,null,null,null,null,null,null,null,null,null,null,null,null,null,{"$f":"'8計画'!BU2:BX2","v":0},null,null,null,{"$f":"'8計画'!BY2:CB2","v":0},null,null,null,{"$f":"'8計画'!CC2:CF2","v":0},null,null,null,{"$f":"'8計画'!CG2:CJ2","v":0},null,null,null,{"$f":"'8計画'!CK2:CN2","v":0},null,null,null,{"$f":"'8計画'!CO2:CR2","v":0},null,null,null,null,null,null,null,{"$f":"'8計画'!CW2:DF3","v":0}]
["印",null,null,null,"印",null,null,null,"印",null,null,null,"印",null,null,null,"印",null,null,null,"印"]
[null,null,null,null,null,null,null,null,null,null,null,null,null,null,null,null,null,null,null,null,null,null,null,null,null,"部活動名",null,null,{"$f":"'8計画'!AC4:AL5","v":0},null,null,null,null,null,null,null,null,null,"部",null,null,null,null,null,null,null,null,null,null,null,null,null,null,null,null,null,null,null,null,null,null,null,null,null,null,null,null,null,null,null,null,null,null,null,null,null,null,null,null,null,null,null,null,null,null,null,null,null,null,null,null,null,null,null,null,null,null,null,null,null,{"$f":"'8計画'!CW4:DF5","v":0}]
[]
["　※活動計画と違う内容については、校長口頭命令済み"]
[8,null,null,null,null,"月",null,null,"〈月間〉部活動計画・活動実績",null,null,null,null,null,null,null,null,null,null,null,null,null,null,null,"部員数",null,null,"1女",null,"2女",null,"3女",null,"1男",null,"2男",null,"3男",null,"計"]
[null,null,null,null,null,null,null,null,null,null,null,null,null,null,null,null,null,null,null,null,null,null,null,null,null,null,null,{"$f":"'8計画'!AB8:AC8","v":0},null,{"$f":"'8計画'!AD8:AE8","v":0},null,{"$f":"'8計画'!AF8:AG8","v":0},null,{"$f":"'8計画'!AH8:AI8","v":0},null,{"$f":"'8計画'!AJ8:AK8","v":0},null,{"$f":"'8計画'!AL8:AM8","v":0},null,{"$f":"SUM(AB8:AM8)","v":0},null,null,null,null,null,null,null,null,null,null,null,null,null,null,null,null,null,null,null,null,null,null,null,null,null,null,null,null,null,null,null,null,null,null,null,null,null,null,null,null,null,null,null,null,null,null,null,null,null,null,null,null,null,null,null,null,null,null,null,{"$f":"'8計画'!AB8","v":0},null,{"$f":"'8計画'!AD8","v":0},null,{"$f":"'8計画'!AF8","v":0},null,{"$f":"'8計画'!AH8","v":0},null,{"$f":"'8計画'!AJ8","v":0},null,{"$f":"'8計画'!AL8","v":0},null,{"$f":"SUM(CV8:DG8)","v":0}]
[]
[null,"職名",null,{"$f":"'8計画'!D10:H11","v":0},null,null,null,null,"顧問",null,{"$f":"'8計画'!K10:S11","v":0},null,null,null,null,null,null,null,null,null,null,"職名",null,{"$f":"'8計画'!X10:AB11","v":0},null,null,null,null,"副２",null,{"$f":"'8計画'!AE10:AM11","v":0},null,null,null,null,null,null,null,null,null,null,null,null,null,null,null,null,null,null,null,null,null,null,null,null,null,null,null,null,null,null,null,null,null,null,null,null,null,null,null,null,null,null,null,null,{"$f":"'8計画'!D10","v":0},null,null,null,null,null,null,{"$f":"'8計画'!K10","v":0},null,null,null,null,null,null,null,null,null,null,null,null,{"$f":"'8計画'!X10","v":0},null,null,null,null,null,null,{"$f":"'8計画'!AE10","v":0}]
[]
[null,"職名",null,{"$f":"'8計画'!D12:H13","v":0},null,null,null,null,"副顧問",null,{"$f":"'8計画'!K12:S13","v":0},null,null,null,null,null,null,null,null,null,null,"職名",null,{"$f":"'8計画'!X12:AB13","v":0},null,null,null,null,"副３",null,{"$f":"'8計画'!AE12:AM13","v":0},null,null,null,null,null,null,null,null,null,null,null,null,null,null,null,null,null,null,null,null,null,null,null,null,null,null,null,null,null,null,null,null,null,null,null,null,null,null,null,null,null,null,null,null,{"$f":"'8計画'!D12","v":0},null,null,null,null,null,null,{"$f":"'8計画'!K12","v":0},null,null,null,null,null,null,null,null,null,null,null,null,{"$f":"'8計画'!X12","v":0},null,null,null,null,null,null,{"$f":"'8計画'!AE12","v":0}]
[]
[]
["日",null,"曜",null,"ＡＭ",null,null,null,null,null,null,"ＰＭ",null,null,null,null,null,null,"時間",null,null,"内容（練習・大会・OFF等）",null,null,null,null,null,null,null,null,null,null,null,"場所",null,null,null,null,null,null,null,false,"特殊業務"]
[1,null,{"$f":"'8計画'!C16:D16","v":"土"},null,{"$f":"'8計画'!E16:G16","v":"00:00:00"},null,null,"～",{"$f":"'8計画'!I16:K16","v":"00:00:00"},null,null,{"$f":"'8計画'!L16:N16","v":"00:00:00"},null,null,"～",{"$f":"'8計画'!P16:R16","v":"00:00:00"},null,null,{"$f":"(I16-E16)+(P16-L16)","v":"00:00:00"},null,null,{"$f":"'8計画'!V16:AA16","v":0},null,null,null,null,null,{"$f":"'8計画'!AB16:AG16","v":0},null,null,null,null,null,{"$f":"'8計画'!AH16:AO16","v":0},null,null,null,null,null,null,null,false,null,null,null,null,null,null,null,null,null,null,null,null,null,null,null,null,null,null,null,null,{"$f":"RIGHT(V16,2)","v":"0"},null,null,null,null,null,null,null,null,null,null,null,{"$f":"'8計画'!C16","v":"土"},null,{"$f":"'8計画'!E16","v":"00:00:00"},null,null,"～",{"$f":"'8計画'!I16","v":"00:00:00"},null,null,{"$f":"'8計画'!L16","v":"00:00:00"},null,null,"～",{"$f":"'8計画'!P16","v":"00:00:00"},null,null,{"$f":"(CC16-BY16)+(CJ16-CF16)","v":"00:00:00"},null,null,{"$f":"'8計画'!V16","v":0},null,null,null,null,null,{"$f":"'8計画'!AB16","v":0},null,null,null,null,null,{"$f":"'8計画'!AH16","v":0}]
[2,null,{"$f":"'8計画'!C17:D17","v":"日"},null,{"$f":"'8計画'!E17:G17","v":"00:00:00"},null,null,"～",{"$f":"'8計画'!I17:K17","v":"00:00:00"},null,null,{"$f":"'8計画'!L17:N17","v":"00:00:00"},null,null,"～",{"$f":"'8計画'!P17:R17","v":"00:00:00"},null,null,"00:00:00",null,null,{"$f":"'8計画'!V17:AA17","v":0},null,null,null,null,null,{"$f":"'8計画'!AB17:AG17","v":0},null,null,null,null,null,{"$f":"'8計画'!AH17:AO17","v":0},null,null,null,null,null,null,null,false,null,null,null,null,null,null,null,null,null,null,null,null,null,null,null,null,null,null,null,null,{"$f":"RIGHT(V17,2)","v":"0"},null,null,null,null,null,null,null,null,null,null,null,{"$f":"'8計画'!C17","v":"日"},null,{"$f":"'8計画'!E17","v":"00:00:00"},null,null,"～",{"$f":"'8計画'!I17","v":"00:00:00"},null,null,{"$f":"'8計画'!L17","v":"00:00:00"},null,null,"～",{"$f":"'8計画'!P17","v":"00:00:00"},null,null,"00:00:00",null,null,{"$f":"'8計画'!V17","v":0},null,null,null,null,null,{"$f":"'8計画'!AB17","v":0},null,null,null,null,null,{"$f":"'8計画'!AH17","v":0}]
[3,null,{"$f":"'8計画'!C18:D18","v":"月"},null,{"$f":"'8計画'!E18:G18","v":"00:00:00"},null,null,"～",{"$f":"'8計画'!I18:K18","v":"00:00:00"},null,null,{"$f":"'8計画'!L18:N18","v":"00:00:00"},null,null,"～",{"$f":"'8計画'!P18:R18","v":"00:00:00"},null,null,"00:00:00",null,null,{"$f":"'8計画'!V18:AA18","v":0},null,null,null,null,null,{"$f":"'8計画'!AB18:AG18","v":0},null,null,null,null,null,{"$f":"'8計画'!AH18:AO18","v":0},null,null,null,null,null,null,null,false,null,null,null,null,null,null,null,null,null,null,null,null,null,null,null,null,null,null,null,null,"0",null,null,null,null,null,null,null,null,null,null,null,{"$f":"'8計画'!C18","v":"月"},null,{"$f":"'8計画'!E18","v":"00:00:00"},null,null,"～",{"$f":"'8計画'!I18","v":"00:00:00"},null,null,{"$f":"'8計画'!L18","v":"00:00:00"},null,null,"～",{"$f":"'8計画'!P18","v":"00:00:00"},null,null,"00:00:00",null,null,{"$f":"'8計画'!V18","v":0},null,null,null,null,null,{"$f":"'8計画'!AB18","v":0},null,null,null,null,null,{"$f":"'8計画'!AH18","v":0}]
[4,null,{"$f":"'8計画'!C19:D19","v":"火"},null,{"$f":"'8計画'!E19:G19","v":"00:00:00"},null,null,"～",{"$f":"'8計画'!I19:K19","v":"00:00:00"},null,null,{"$f":"'8計画'!L19:N19","v":"00:00:00"},null,null,"～",{"$f":"'8計画'!P19:R19","v":"00:00:00"},null,null,"00:00:00",null,null,{"$f":"'8計画'!V19:AA19","v":0},null,null,null,null,null,{"$f":"'8計画'!AB19:AG19","v":0},null,null,null,null,null,{"$f":"'8計画'!AH19:AO19","v":0},null,null,null,null,null,null,null,false,null,null,null,null,null,null,null,null,null,null,null,null,null,null,null,null,null,null,null,null,"0",null,null,null,null,null,null,null,null,null,null,null,{"$f":"'8計画'!C19","v":"火"},null,{"$f":"'8計画'!E19","v":"00:00:00"},null,null,"～",{"$f":"'8計画'!I19","v":"00:00:00"},null,null,{"$f":"'8計画'!L19","v":"00:00:00"},null,null,"～",{"$f":"'8計画'!P19","v":"00:00:00"},null,null,"00:00:00",null,null,{"$f":"'8計画'!V19","v":0},null,null,null,null,null,{"$f":"'8計画'!AB19","v":0},null,null,null,null,null,{"$f":"'8計画'!AH19","v":0}]
[5,null,{"$f":"'8計画'!C20:D20","v":"水"},null,{"$f":"'8計画'!E20:G20","v":"00:00:00"},null,null,"～",{"$f":"'8計画'!I20:K20","v":"00:00:00"},null,null,{"$f":"'8計画'!L20:N20","v":"00:00:00"},null,null,"～",{"$f":"'8計画'!P20:R20","v":"00:00:00"},null,null,"00:00:00",null,null,{"$f":"'8計画'!V20:AA20","v":0},null,null,null,null,null,{"$f":"'8計画'!AB20:AG20","v":0},null,null,null,null,null,{"$f":"'8計画'!AH20:AO20","v":0},null,null,null,null,null,null,null,false,null,null,null,null,null,null,null,null,null,null,null,null,null,null,null,null,null,null,null,null,"0",null,null,null,null,null,null,null,null,null,null,null,{"$f":"'8計画'!C20","v":"水"},null,{"$f":"'8計画'!E20","v":"00:00:00"},null,null,"～",{"$f":"'8計画'!I20","v":"00:00:00"},null,null,{"$f":"'8計画'!L20","v":"00:00:00"},null,null,"～",{"$f":"'8計画'!P20","v":"00:00:00"},null,null,"00:00:00",null,null,{"$f":"'8計画'!V20","v":0},null,null,null,null,null,{"$f":"'8計画'!AB20","v":0},null,null,null,null,null,{"$f":"'8計画'!AH20","v":0}]
[6,null,{"$f":"'8計画'!C21:D21","v":"木"},null,{"$f":"'8計画'!E21:G21","v":"00:00:00"},null,null,"～",{"$f":"'8計画'!I21:K21","v":"00:00:00"},null,null,{"$f":"'8計画'!L21:N21","v":"00:00:00"},null,null,"～",{"$f":"'8計画'!P21:R21","v":"00:00:00"},null,null,"00:00:00",null,null,{"$f":"'8計画'!V21:AA21","v":0},null,null,null,null,null,{"$f":"'8計画'!AB21:AG21","v":0},null,null,null,null,null,{"$f":"'8計画'!AH21:AO21","v":0},null,null,null,null,null,null,null,false,null,null,null,null,null,null,null,null,null,null,null,null,null,null,null,null,null,null,null,null,"0",null,null,null,null,null,null,null,null,null,null,null,{"$f":"'8計画'!C21","v":"木"},null,{"$f":"'8計画'!E21","v":"00:00:00"},null,null,"～",{"$f":"'8計画'!I21","v":"00:00:00"},null,null,{"$f":"'8計画'!L21","v":"00:00:00"},null,null,"～",{"$f":"'8計画'!P21","v":"00:00:00"},null,null,"00:00:00",null,null,{"$f":"'8計画'!V21","v":0},null,null,null,null,null,{"$f":"'8計画'!AB21","v":0},null,null,null,null,null,{"$f":"'8計画'!AH21","v":0}]
[7,null,{"$f":"'8計画'!C22:D22","v":"金"},null,{"$f":"'8計画'!E22:G22","v":"00:00:00"},null,null,"～",{"$f":"'8計画'!I22:K22","v":"00:00:00"},null,null,{"$f":"'8計画'!L22:N22","v":"00:00:00"},null,null,"～",{"$f":"'8計画'!P22:R22","v":"00:00:00"},null,null,"00:00:00",null,null,{"$f":"'8計画'!V22:AA22","v":0},null,null,null,null,null,{"$f":"'8計画'!AB22:AG22","v":0},null,null,null,null,null,{"$f":"'8計画'!AH22:AO22","v":0},null,null,null,null,null,null,null,false,null,null,null,null,null,null,null,null,null,null,null,null,null,null,null,null,null,null,null,null,"0",null,null,null,null,null,null,null,null,null,null,null,{"$f":"'8計画'!C22","v":"金"},null,{"$f":"'8計画'!E22","v":"00:00:00"},null,null,"～",{"$f":"'8計画'!I22","v":"00:00:00"},null,null,{"$f":"'8計画'!L22","v":"00:00:00"},null,null,"～",{"$f":"'8計画'!P22","v":"00:00:00"},null,null,"00:00:00",null,null,{"$f":"'8計画'!V22","v":0},null,null,null,null,null,{"$f":"'8計画'!AB22","v":0},null,null,null,null,null,{"$f":"'8計画'!AH22","v":0}]
[8,null,{"$f":"'8計画'!C23:D23","v":"土"},null,{"$f":"'8計画'!E23:G23","v":"00:00:00"},null,null,"～",{"$f":"'8計画'!I23:K23","v":"00:00:00"},null,null,{"$f":"'8計画'!L23:N23","v":"00:00:00"},null,null,"～",{"$f":"'8計画'!P23:R23","v":"00:00:00"},null,null,"00:00:00",null,null,{"$f":"'8計画'!V23:AA23","v":0},null,null,null,null,null,{"$f":"'8計画'!AB23:AG23","v":0},null,null,null,null,null,{"$f":"'8計画'!AH23:AO23","v":0},null,null,null,null,null,null,null,false,null,null,null,null,null,null,null,null,null,null,null,null,null,null,null,null,null,null,null,null,"0",null,null,null,null,null,null,null,null,null,null,null,{"$f":"'8計画'!C23","v":"土"},null,{"$f":"'8計画'!E23","v":"00:00:00"},null,null,"～",{"$f":"'8計画'!I23","v":"00:00:00"},null,null,{"$f":"'8計画'!L23","v":"00:00:00"},null,null,"～",{"$f":"'8計画'!P23","v":"00:00:00"},null,null,"00:00:00",null,null,{"$f":"'8計画'!V23","v":0},null,null,null,null,null,{"$f":"'8計画'!AB23","v":0},null,null,null,null,null,{"$f":"'8計画'!AH23","v":0}]
[9,null,{"$f":"'8計画'!C24:D24","v":"日"},null,{"$f":"'8計画'!E24:G24","v":"00:00:00"},null,null,"～",{"$f":"'8計画'!I24:K24","v":"00:00:00"},null,null,{"$f":"'8計画'!L24:N24","v":"00:00:00"},null,null,"～",{"$f":"'8計画'!P24:R24","v":"00:00:00"},null,null,"00:00:00",null,null,{"$f":"'8計画'!V24:AA24","v":0},null,null,null,null,null,{"$f":"'8計画'!AB24:AG24","v":0},null,null,null,null,null,{"$f":"'8計画'!AH24:AO24","v":0},null,null,null,null,null,null,null,false,null,null,null,null,null,null,null,null,null,null,null,null,null,null,null,null,null,null,null,null,"0",null,null,null,null,null,null,null,null,null,null,null,{"$f":"'8計画'!C24","v":"日"},null,{"$f":"'8計画'!E24","v":"00:00:00"},null,null,"～",{"$f":"'8計画'!I24","v":"00:00:00"},null,null,{"$f":"'8計画'!L24","v":"00:00:00"},null,null,"～",{"$f":"'8計画'!P24","v":"00:00:00"},null,null,"00:00:00",null,null,{"$f":"'8計画'!V24","v":0},null,null,null,null,null,{"$f":"'8計画'!AB24","v":0},null,null,null,null,null,{"$f":"'8計画'!AH24","v":0}]
[10,null,{"$f":"'8計画'!C25:D25","v":"月"},null,{"$f":"'8計画'!E25:G25","v":"00:00:00"},null,null,"～",{"$f":"'8計画'!I25:K25","v":"00:00:00"},null,null,{"$f":"'8計画'!L25:N25","v":"00:00:00"},null,null,"～",{"$f":"'8計画'!P25:R25","v":"00:00:00"},null,null,"00:00:00",null,null,{"$f":"'8計画'!V25:AA25","v":0},null,null,null,null,null,{"$f":"'8計画'!AB25:AG25","v":0},null,null,null,null,null,{"$f":"'8計画'!AH25:AO25","v":0},null,null,null,null,null,null,null,false,null,null,null,null,null,null,null,null,null,null,null,null,null,null,null,null,null,null,null,null,"0",null,null,null,null,null,null,null,null,null,null,null,{"$f":"'8計画'!C25","v":"月"},null,{"$f":"'8計画'!E25","v":"00:00:00"},null,null,"～",{"$f":"'8計画'!I25","v":"00:00:00"},null,null,{"$f":"'8計画'!L25","v":"00:00:00"},null,null,"～",{"$f":"'8計画'!P25","v":"00:00:00"},null,null,"00:00:00",null,null,{"$f":"'8計画'!V25","v":0},null,null,null,null,null,{"$f":"'8計画'!AB25","v":0},null,null,null,null,null,{"$f":"'8計画'!AH25","v":0}]
[11,null,{"$f":"'8計画'!C26:D26","v":"火"},null,{"$f":"'8計画'!E26:G26","v":"00:00:00"},null,null,"～",{"$f":"'8計画'!I26:K26","v":"00:00:00"},null,null,{"$f":"'8計画'!L26:N26","v":"00:00:00"},null,null,"～",{"$f":"'8計画'!P26:R26","v":"00:00:00"},null,null,"00:00:00",null,null,{"$f":"'8計画'!V26:AA26","v":0},null,null,null,null,null,{"$f":"'8計画'!AB26:AG26","v":0},null,null,null,null,null,{"$f":"'8計画'!AH26:AO26","v":0},null,null,null,null,null,null,null,false,null,null,null,null,null,null,null,null,null,null,null,null,null,null,null,null,null,null,null,null,"0",null,null,null,null,null,null,null,null,null,null,null,{"$f":"'8計画'!C26","v":"火"},null,{"$f":"'8計画'!E26","v":"00:00:00"},null,null,"～",{"$f":"'8計画'!I26","v":"00:00:00"},null,null,{"$f":"'8計画'!L26","v":"00:00:00"},null,null,"～",{"$f":"'8計画'!P26","v":"00:00:00"},null,null,"00:00:00",null,null,{"$f":"'8計画'!V26","v":0},null,null,null,null,null,{"$f":"'8計画'!AB26","v":0},null,null,null,null,null,{"$f":"'8計画'!AH26","v":0}]
[12,null,{"$f":"'8計画'!C27:D27","v":"水"},null,{"$f":"'8計画'!E27:G27","v":"00:00:00"},null,null,"～",{"$f":"'8計画'!I27:K27","v":"00:00:00"},null,null,{"$f":"'8計画'!L27:N27","v":"00:00:00"},null,null,"～",{"$f":"'8計画'!P27:R27","v":"00:00:00"},null,null,"00:00:00",null,null,{"$f":"'8計画'!V27:AA27","v":0},null,null,null,null,null,{"$f":"'8計画'!AB27:AG27","v":0},null,null,null,null,null,{"$f":"'8計画'!AH27:AO27","v":0},null,null,null,null,null,null,null,false,null,null,null,null,null,null,null,null,null,null,null,null,null,null,null,null,null,null,null,null,"0",null,null,null,null,null,null,null,null,null,null,null,{"$f":"'8計画'!C27","v":"水"},null,{"$f":"'8計画'!E27","v":"00:00:00"},null,null,"～",{"$f":"'8計画'!I27","v":"00:00:00"},null,null,{"$f":"'8計画'!L27","v":"00:00:00"},null,null,"～",{"$f":"'8計画'!P27","v":"00:00:00"},null,null,"00:00:00",null,null,{"$f":"'8計画'!V27","v":0},null,null,null,null,null,{"$f":"'8計画'!AB27","v":0},null,null,null,null,null,{"$f":"'8計画'!AH27","v":0}]
[13,null,{"$f":"'8計画'!C28:D28","v":"木"},null,{"$f":"'8計画'!E28:G28","v":"00:00:00"},null,null,"～",{"$f":"'8計画'!I28:K28","v":"00:00:00"},null,null,{"$f":"'8計画'!L28:N28","v":"00:00:00"},null,null,"～",{"$f":"'8計画'!P28:R28","v":"00:00:00"},null,null,"00:00:00",null,null,{"$f":"'8計画'!V28:AA28","v":0},null,null,null,null,null,{"$f":"'8計画'!AB28:AG28","v":0},null,null,null,null,null,{"$f":"'8計画'!AH28:AO28","v":0},null,null,null,null,null,null,null,false,null,null,null,null,null,null,null,null,null,null,null,null,null,null,null,null,null,null,null,null,"0",null,null,null,null,null,null,null,null,null,null,null,{"$f":"'8計画'!C28","v":"木"},null,{"$f":"'8計画'!E28","v":"00:00:00"},null,null,"～",{"$f":"'8計画'!I28","v":"00:00:00"},null,null,{"$f":"'8計画'!L28","v":"00:00:00"},null,null,"～",{"$f":"'8計画'!P28","v":"00:00:00"},null,null,"00:00:00",null,null,{"$f":"'8計画'!V28","v":0},null,null,null,null,null,{"$f":"'8計画'!AB28","v":0},null,null,null,null,null,{"$f":"'8計画'!AH28","v":0}]
[14,null,{"$f":"'8計画'!C29:D29","v":"金"},null,{"$f":"'8計画'!E29:G29","v":"00:00:00"},null,null,"～",{"$f":"'8計画'!I29:K29","v":"00:00:00"},null,null,{"$f":"'8計画'!L29:N29","v":"00:00:00"},null,null,"～",{"$f":"'8計画'!P29:R29","v":"00:00:00"},null,null,"00:00:00",null,null,{"$f":"'8計画'!V29:AA29","v":0},null,null,null,null,null,{"$f":"'8計画'!AB29:AG29","v":0},null,null,null,null,null,{"$f":"'8計画'!AH29:AO29","v":0},null,null,null,null,null,null,null,false,null,null,null,null,null,null,null,null,null,null,null,null,null,null,null,null,null,null,null,null,"0",null,null,null,null,null,null,null,null,null,null,null,{"$f":"'8計画'!C29","v":"金"},null,{"$f":"'8計画'!E29","v":"00:00:00"},null,null,"～",{"$f":"'8計画'!I29","v":"00:00:00"},null,null,{"$f":"'8計画'!L29","v":"00:00:00"},null,null,"～",{"$f":"'8計画'!P29","v":"00:00:00"},null,null,"00:00:00",null,null,{"$f":"'8計画'!V29","v":0},null,null,null,null,null,{"$f":"'8計画'!AB29","v":0},null,null,null,null,null,{"$f":"'8計画'!AH29","v":0}]
[15,null,{"$f":"'8計画'!C30:D30","v":"土"},null,{"$f":"'8計画'!E30:G30","v":"00:00:00"},null,null,"～",{"$f":"'8計画'!I30:K30","v":"00:00:00"},null,null,{"$f":"'8計画'!L30:N30","v":"00:00:00"},null,null,"～",{"$f":"'8計画'!P30:R30","v":"00:00:00"},null,null,"00:00:00",null,null,{"$f":"'8計画'!V30:AA30","v":0},null,null,null,null,null,{"$f":"'8計画'!AB30:AG30","v":0},null,null,null,null,null,{"$f":"'8計画'!AH30:AO30","v":0},null,null,null,null,null,null,null,false,null,null,null,null,null,null,null,null,null,null,null,null,null,null,null,null,null,null,null,null,"0",null,null,null,null,null,null,null,null,null,null,null,{"$f":"'8計画'!C30","v":"土"},null,{"$f":"'8計画'!E30","v":"00:00:00"},null,null,"～",{"$f":"'8計画'!I30","v":"00:00:00"},null,null,{"$f":"'8計画'!L30","v":"00:00:00"},null,null,"～",{"$f":"'8計画'!P30","v":"00:00:00"},null,null,"00:00:00",null,null,{"$f":"'8計画'!V30","v":0},null,null,null,null,null,{"$f":"'8計画'!AB30","v":0},null,null,null,null,null,{"$f":"'8計画'!AH30","v":0}]
[16,null,{"$f":"'8計画'!C31:D31","v":"日"},null,{"$f":"'8計画'!E31:G31","v":"00:00:00"},null,null,"～",{"$f":"'8計画'!I31:K31","v":"00:00:00"},null,null,{"$f":"'8計画'!L31:N31","v":"00:00:00"},null,null,"～",{"$f":"'8計画'!P31:R31","v":"00:00:00"},null,null,"00:00:00",null,null,{"$f":"'8計画'!V31:AA31","v":0},null,null,null,null,null,{"$f":"'8計画'!AB31:AG31","v":0},null,null,null,null,null,{"$f":"'8計画'!AH31:AO31","v":0},null,null,null,null,null,null,null,false,null,null,null,null,null,null,null,null,null,null,null,null,null,null,null,null,null,null,null,null,"0",null,null,null,null,null,null,null,null,null,null,null,{"$f":"'8計画'!C31","v":"日"},null,{"$f":"'8計画'!E31","v":"00:00:00"},null,null,"～",{"$f":"'8計画'!I31","v":"00:00:00"},null,null,{"$f":"'8計画'!L31","v":"00:00:00"},null,null,"～",{"$f":"'8計画'!P31","v":"00:00:00"},null,null,"00:00:00",null,null,{"$f":"'8計画'!V31","v":0},null,null,null,null,null,{"$f":"'8計画'!AB31","v":0},null,null,null,null,null,{"$f":"'8計画'!AH31","v":0}]
[17,null,{"$f":"'8計画'!C32:D32","v":"月"},null,{"$f":"'8計画'!E32:G32","v":"00:00:00"},null,null,"～",{"$f":"'8計画'!I32:K32","v":"00:00:00"},null,null,{"$f":"'8計画'!L32:N32","v":"00:00:00"},null,null,"～",{"$f":"'8計画'!P32:R32","v":"00:00:00"},null,null,"00:00:00",null,null,{"$f":"'8計画'!V32:AA32","v":0},null,null,null,null,null,{"$f":"'8計画'!AB32:AG32","v":0},null,null,null,null,null,{"$f":"'8計画'!AH32:AO32","v":0},null,null,null,null,null,null,null,false,null,null,null,null,null,null,null,null,null,null,null,null,null,null,null,null,null,null,null,null,"0",null,null,null,null,null,null,null,null,null,null,null,{"$f":"'8計画'!C32","v":"月"},null,{"$f":"'8計画'!E32","v":"00:00:00"},null,null,"～",{"$f":"'8計画'!I32","v":"00:00:00"},null,null,{"$f":"'8計画'!L32","v":"00:00:00"},null,null,"～",{"$f":"'8計画'!P32","v":"00:00:00"},null,null,"00:00:00",null,null,{"$f":"'8計画'!V32","v":0},null,null,null,null,null,{"$f":"'8計画'!AB32","v":0},null,null,null,null,null,{"$f":"'8計画'!AH32","v":0}]
[18,null,{"$f":"'8計画'!C33:D33","v":"火"},null,{"$f":"'8計画'!E33:G33","v":"00:00:00"},null,null,"～",{"$f":"'8計画'!I33:K33","v":"00:00:00"},null,null,{"$f":"'8計画'!L33:N33","v":"00:00:00"},null,null,"～",{"$f":"'8計画'!P33:R33","v":"00:00:00"},null,null,"00:00:00",null,null,{"$f":"'8計画'!V33:AA33","v":0},null,null,null,null,null,{"$f":"'8計画'!AB33:AG33","v":0},null,null,null,null,null,{"$f":"'8計画'!AH33:AO33","v":0},null,null,null,null,null,null,null,false,null,null,null,null,null,null,null,null,null,null,null,null,null,null,null,null,null,null,null,null,"0",null,null,null,null,null,null,null,null,null,null,null,{"$f":"'8計画'!C33","v":"火"},null,{"$f":"'8計画'!E33","v":"00:00:00"},null,null,"～",{"$f":"'8計画'!I33","v":"00:00:00"},null,null,{"$f":"'8計画'!L33","v":"00:00:00"},null,null,"～",{"$f":"'8計画'!P33","v":"00:00:00"},null,null,"00:00:00",null,null,{"$f":"'8計画'!V33","v":0},null,null,null,null,null,{"$f":"'8計画'!AB33","v":0},null,null,null,null,null,{"$f":"'8計画'!AH33","v":0}]
[19,null,{"$f":"'8計画'!C34:D34","v":"水"},null,{"$f":"'8計画'!E34:G34","v":"00:00:00"},null,null,"～",{"$f":"'8計画'!I34:K34","v":"00:00:00"},null,null,{"$f":"'8計画'!L34:N34","v":"00:00:00"},null,null,"～",{"$f":"'8計画'!P34:R34","v":"00:00:00"},null,null,"00:00:00",null,null,{"$f":"'8計画'!V34:AA34","v":0},null,null,null,null,null,{"$f":"'8計画'!AB34:AG34","v":0},null,null,null,null,null,{"$f":"'8計画'!AH34:AO34","v":0},null,null,null,null,null,null,null,false,null,null,null,null,null,null,null,null,null,null,null,null,null,null,null,null,null,null,null,null,"0",null,null,null,null,null,null,null,null,null,null,null,{"$f":"'8計画'!C34","v":"水"},null,{"$f":"'8計画'!E34","v":"00:00:00"},null,null,"～",{"$f":"'8計画'!I34","v":"00:00:00"},null,null,{"$f":"'8計画'!L34","v":"00:00:00"},null,null,"～",{"$f":"'8計画'!P34","v":"00:00:00"},null,null,"00:00:00",null,null,{"$f":"'8計画'!V34","v":0},null,null,null,null,null,{"$f":"'8計画'!AB34","v":0},null,null,null,null,null,{"$f":"'8計画'!AH34","v":0}]
[20,null,{"$f":"'8計画'!C35:D35","v":"木"},null,{"$f":"'8計画'!E35:G35","v":"00:00:00"},null,null,"～",{"$f":"'8計画'!I35:K35","v":"00:00:00"},null,null,{"$f":"'8計画'!L35:N35","v":"00:00:00"},null,null,"～",{"$f":"'8計画'!P35:R35","v":"00:00:00"},null,null,"00:00:00",null,null,{"$f":"'8計画'!V35:AA35","v":0},null,null,null,null,null,{"$f":"'8計画'!AB35:AG35","v":0},null,null,null,null,null,{"$f":"'8計画'!AH35:AO35","v":0},null,null,null,null,null,null,null,false,null,null,null,null,null,null,null,null,null,null,null,null,null,null,null,null,null,null,null,null,"0",null,null,null,null,null,null,null,null,null,null,null,{"$f":"'8計画'!C35","v":"木"},null,{"$f":"'8計画'!E35","v":"00:00:00"},null,null,"～",{"$f":"'8計画'!I35","v":"00:00:00"},null,null,{"$f":"'8計画'!L35","v":"00:00:00"},null,null,"～",{"$f":"'8計画'!P35","v":"00:00:00"},null,null,"00:00:00",null,null,{"$f":"'8計画'!V35","v":0},null,null,null,null,null,{"$f":"'8計画'!AB35","v":0},null,null,null,null,null,{"$f":"'8計画'!AH35","v":0}]
[21,null,{"$f":"'8計画'!C36:D36","v":"金"},null,{"$f":"'8計画'!E36:G36","v":"00:00:00"},null,null,"～",{"$f":"'8計画'!I36:K36","v":"00:00:00"},null,null,{"$f":"'8計画'!L36:N36","v":"00:00:00"},null,null,"～",{"$f":"'8計画'!P36:R36","v":"00:00:00"},null,null,"00:00:00",null,null,{"$f":"'8計画'!V36:AA36","v":0},null,null,null,null,null,{"$f":"'8計画'!AB36:AG36","v":0},null,null,null,null,null,{"$f":"'8計画'!AH36:AO36","v":0},null,null,null,null,null,null,null,false,null,null,null,null,null,null,null,null,null,null,null,null,null,null,null,null,null,null,null,null,"0",null,null,null,null,null,null,null,null,null,null,null,{"$f":"'8計画'!C36","v":"金"},null,{"$f":"'8計画'!E36","v":"00:00:00"},null,null,"～",{"$f":"'8計画'!I36","v":"00:00:00"},null,null,{"$f":"'8計画'!L36","v":"00:00:00"},null,null,"～",{"$f":"'8計画'!P36","v":"00:00:00"},null,null,"00:00:00",null,null,{"$f":"'8計画'!V36","v":0},null,null,null,null,null,{"$f":"'8計画'!AB36","v":0},null,null,null,null,null,{"$f":"'8計画'!AH36","v":0}]
[22,null,{"$f":"'8計画'!C37:D37","v":"土"},null,{"$f":"'8計画'!E37:G37","v":"00:00:00"},null,null,"～",{"$f":"'8計画'!I37:K37","v":"00:00:00"},null,null,{"$f":"'8計画'!L37:N37","v":"00:00:00"},null,null,"～",{"$f":"'8計画'!P37:R37","v":"00:00:00"},null,null,"00:00:00",null,null,{"$f":"'8計画'!V37:AA37","v":0},null,null,null,null,null,{"$f":"'8計画'!AB37:AG37","v":0},null,null,null,null,null,{"$f":"'8計画'!AH37:AO37","v":0},null,null,null,null,null,null,null,false,null,null,null,null,null,null,null,null,null,null,null,null,null,null,null,null,null,null,null,null,"0",null,null,null,null,null,null,null,null,null,null,null,{"$f":"'8計画'!C37","v":"土"},null,{"$f":"'8計画'!E37","v":"00:00:00"},null,null,"～",{"$f":"'8計画'!I37","v":"00:00:00"},null,null,{"$f":"'8計画'!L37","v":"00:00:00"},null,null,"～",{"$f":"'8計画'!P37","v":"00:00:00"},null,null,"00:00:00",null,null,{"$f":"'8計画'!V37","v":0},null,null,null,null,null,{"$f":"'8計画'!AB37","v":0},null,null,null,null,null,{"$f":"'8計画'!AH37","v":0}]
[23,null,{"$f":"'8計画'!C38:D38","v":"日"},null,{"$f":"'8計画'!E38:G38","v":"00:00:00"},null,null,"～",{"$f":"'8計画'!I38:K38","v":"00:00:00"},null,null,{"$f":"'8計画'!L38:N38","v":"00:00:00"},null,null,"～",{"$f":"'8計画'!P38:R38","v":"00:00:00"},null,null,"00:00:00",null,null,{"$f":"'8計画'!V38:AA38","v":0},null,null,null,null,null,{"$f":"'8計画'!AB38:AG38","v":0},null,null,null,null,null,{"$f":"'8計画'!AH38:AO38","v":0},null,null,null,null,null,null,null,false,null,null,null,null,null,null,null,null,null,null,null,null,null,null,null,null,null,null,null,null,"0",null,null,null,null,null,null,null,null,null,null,null,{"$f":"'8計画'!C38","v":"日"},null,{"$f":"'8計画'!E38","v":"00:00:00"},null,null,"～",{"$f":"'8計画'!I38","v":"00:00:00"},null,null,{"$f":"'8計画'!L38","v":"00:00:00"},null,null,"～",{"$f":"'8計画'!P38","v":"00:00:00"},null,null,"00:00:00",null,null,{"$f":"'8計画'!V38","v":0},null,null,null,null,null,{"$f":"'8計画'!AB38","v":0},null,null,null,null,null,{"$f":"'8計画'!AH38","v":0}]
[24,null,{"$f":"'8計画'!C39:D39","v":"月"},null,{"$f":"'8計画'!E39:G39","v":"00:00:00"},null,null,"～",{"$f":"'8計画'!I39:K39","v":"00:00:00"},null,null,{"$f":"'8計画'!L39:N39","v":"00:00:00"},null,null,"～",{"$f":"'8計画'!P39:R39","v":"00:00:00"},null,null,"00:00:00",null,null,{"$f":"'8計画'!V39:AA39","v":0},null,null,null,null,null,{"$f":"'8計画'!AB39:AG39","v":0},null,null,null,null,null,{"$f":"'8計画'!AH39:AO39","v":0},null,null,null,null,null,null,null,false,null,null,null,null,null,null,null,null,null,null,null,null,null,null,null,null,null,null,null,null,"0",null,null,null,null,null,null,null,null,null,null,null,{"$f":"'8計画'!C39","v":"月"},null,{"$f":"'8計画'!E39","v":"00:00:00"},null,null,"～",{"$f":"'8計画'!I39","v":"00:00:00"},null,null,{"$f":"'8計画'!L39","v":"00:00:00"},null,null,"～",{"$f":"'8計画'!P39","v":"00:00:00"},null,null,"00:00:00",null,null,{"$f":"'8計画'!V39","v":0},null,null,null,null,null,{"$f":"'8計画'!AB39","v":0},null,null,null,null,null,{"$f":"'8計画'!AH39","v":0}]
[25,null,{"$f":"'8計画'!C40:D40","v":"火"},null,{"$f":"'8計画'!E40:G40","v":"00:00:00"},null,null,"～",{"$f":"'8計画'!I40:K40","v":"00:00:00"},null,null,{"$f":"'8計画'!L40:N40","v":"00:00:00"},null,null,"～",{"$f":"'8計画'!P40:R40","v":"00:00:00"},null,null,"00:00:00",null,null,{"$f":"'8計画'!V40:AA40","v":0},null,null,null,null,null,{"$f":"'8計画'!AB40:AG40","v":0},null,null,null,null,null,{"$f":"'8計画'!AH40:AO40","v":0},null,null,null,null,null,null,null,false,null,null,null,null,null,null,null,null,null,null,null,null,null,null,null,null,null,null,null,null,"0",null,null,null,null,null,null,null,null,null,null,null,{"$f":"'8計画'!C40","v":"火"},null,{"$f":"'8計画'!E40","v":"00:00:00"},null,null,"～",{"$f":"'8計画'!I40","v":"00:00:00"},null,null,{"$f":"'8計画'!L40","v":"00:00:00"},null,null,"～",{"$f":"'8計画'!P40","v":"00:00:00"},null,null,"00:00:00",null,null,{"$f":"'8計画'!V40","v":0},null,null,null,null,null,{"$f":"'8計画'!AB40","v":0},null,null,null,null,null,{"$f":"'8計画'!AH40","v":0}]
[26,null,{"$f":"'8計画'!C41:D41","v":"水"},null,{"$f":"'8計画'!E41:G41","v":"00:00:00"},null,null,"～",{"$f":"'8計画'!I41:K41","v":"00:00:00"},null,null,{"$f":"'8計画'!L41:N41","v":"00:00:00"},null,null,"～",{"$f":"'8計画'!P41:R41","v":"00:00:00"},null,null,"00:00:00",null,null,{"$f":"'8計画'!V41:AA41","v":0},null,null,null,null,null,{"$f":"'8計画'!AB41:AG41","v":0},null,null,null,null,null,{"$f":"'8計画'!AH41:AO41","v":0},null,null,null,null,null,null,null,false,null,null,null,null,null,null,null,null,null,null,null,null,null,null,null,null,null,null,null,null,"0",null,null,null,null,null,null,null,null,null,null,null,{"$f":"'8計画'!C41","v":"水"},null,{"$f":"'8計画'!E41","v":"00:00:00"},null,null,"～",{"$f":"'8計画'!I41","v":"00:00:00"},null,null,{"$f":"'8計画'!L41","v":"00:00:00"},null,null,"～",{"$f":"'8計画'!P41","v":"00:00:00"},null,null,"00:00:00",null,null,{"$f":"'8計画'!V41","v":0},null,null,null,null,null,{"$f":"'8計画'!AB41","v":0},null,null,null,null,null,{"$f":"'8計画'!AH41","v":0}]
[27,null,{"$f":"'8計画'!C42:D42","v":"木"},null,{"$f":"'8計画'!E42:G42","v":"00:00:00"},null,null,"～",{"$f":"'8計画'!I42:K42","v":"00:00:00"},null,null,{"$f":"'8計画'!L42:N42","v":"00:00:00"},null,null,"～",{"$f":"'8計画'!P42:R42","v":"00:00:00"},null,null,"00:00:00",null,null,{"$f":"'8計画'!V42:AA42","v":0},null,null,null,null,null,{"$f":"'8計画'!AB42:AG42","v":0},null,null,null,null,null,{"$f":"'8計画'!AH42:AO42","v":0},null,null,null,null,null,null,null,false,null,null,null,null,null,null,null,null,null,null,null,null,null,null,null,null,null,null,null,null,"0",null,null,null,null,null,null,null,null,null,null,null,{"$f":"'8計画'!C42","v":"木"},null,{"$f":"'8計画'!E42","v":"00:00:00"},null,null,"～",{"$f":"'8計画'!I42","v":"00:00:00"},null,null,{"$f":"'8計画'!L42","v":"00:00:00"},null,null,"～",{"$f":"'8計画'!P42","v":"00:00:00"},null,null,"00:00:00",null,null,{"$f":"'8計画'!V42","v":0},null,null,null,null,null,{"$f":"'8計画'!AB42","v":0},null,null,null,null,null,{"$f":"'8計画'!AH42","v":0}]
[28,null,{"$f":"'8計画'!C43:D43","v":"金"},null,{"$f":"'8計画'!E43:G43","v":"00:00:00"},null,null,"～",{"$f":"'8計画'!I43:K43","v":"00:00:00"},null,null,{"$f":"'8計画'!L43:N43","v":"00:00:00"},null,null,"～",{"$f":"'8計画'!P43:R43","v":"00:00:00"},null,null,"00:00:00",null,null,{"$f":"'8計画'!V43:AA43","v":0},null,null,null,null,null,{"$f":"'8計画'!AB43:AG43","v":0},null,null,null,null,null,{"$f":"'8計画'!AH43:AO43","v":0},null,null,null,null,null,null,null,false,null,null,null,null,null,null,null,null,null,null,null,null,null,null,null,null,null,null,null,null,"0",null,null,null,null,null,null,null,null,null,null,null,{"$f":"'8計画'!C43","v":"金"},null,{"$f":"'8計画'!E43","v":"00:00:00"},null,null,"～",{"$f":"'8計画'!I43","v":"00:00:00"},null,null,{"$f":"'8計画'!L43","v":"00:00:00"},null,null,"～",{"$f":"'8計画'!P43","v":"00:00:00"},null,null,"00:00:00",null,null,{"$f":"'8計画'!V43","v":0},null,null,null,null,null,{"$f":"'8計画'!AB43","v":0},null,null,null,null,null,{"$f":"'8計画'!AH43","v":0}]
[29,null,{"$f":"'8計画'!C44:D44","v":"土"},null,{"$f":"'8計画'!E44:G44","v":"00:00:00"},null,null,"～",{"$f":"'8計画'!I44:K44","v":"00:00:00"},null,null,{"$f":"'8計画'!L44:N44","v":"00:00:00"},null,null,"～",{"$f":"'8計画'!P44:R44","v":"00:00:00"},null,null,"00:00:00",null,null,{"$f":"'8計画'!V44:AA44","v":0},null,null,null,null,null,{"$f":"'8計画'!AB44:AG44","v":0},null,null,null,null,null,{"$f":"'8計画'!AH44:AO44","v":0},null,null,null,null,null,null,null,false,null,null,null,null,null,null,null,null,null,null,null,null,null,null,null,null,null,null,null,null,"0",null,null,null,null,null,null,null,null,null,null,null,{"$f":"'8計画'!C44","v":"土"},null,{"$f":"'8計画'!E44","v":"00:00:00"},null,null,"～",{"$f":"'8計画'!I44","v":"00:00:00"},null,null,{"$f":"'8計画'!L44","v":"00:00:00"},null,null,"～",{"$f":"'8計画'!P44","v":"00:00:00"},null,null,"00:00:00",null,null,{"$f":"'8計画'!V44","v":0},null,null,null,null,null,{"$f":"'8計画'!AB44","v":0},null,null,null,null,null,{"$f":"'8計画'!AH44","v":0}]
[30,null,{"$f":"'8計画'!C45:D45","v":"日"},null,{"$f":"'8計画'!E45:G45","v":"00:00:00"},null,null,"～",{"$f":"'8計画'!I45:K45","v":"00:00:00"},null,null,{"$f":"'8計画'!L45:N45","v":"00:00:00"},null,null,"～",{"$f":"'8計画'!P45:R45","v":"00:00:00"},null,null,"00:00:00",null,null,{"$f":"'8計画'!V45:AA45","v":0},null,null,null,null,null,{"$f":"'8計画'!AB45:AG45","v":0},null,null,null,null,null,{"$f":"'8計画'!AH45:AO45","v":0},null,null,null,null,null,null,null,false,null,null,null,null,null,null,null,null,null,null,null,null,null,null,null,null,null,null,null,null,"0",null,null,null,null,null,null,null,null,null,null,null,{"$f":"'8計画'!C45","v":"日"},null,{"$f":"'8計画'!E45","v":"00:00:00"},null,null,"～",{"$f":"'8計画'!I45","v":"00:00:00"},null,null,{"$f":"'8計画'!L45","v":"00:00:00"},null,null,"～",{"$f":"'8計画'!P45","v":"00:00:00"},null,null,"00:00:00",null,null,{"$f":"'8計画'!V45","v":0},null,null,null,null,null,{"$f":"'8計画'!AB45","v":0},null,null,null,null,null,{"$f":"'8計画'!AH45","v":0}]
[31,null,{"$f":"'8計画'!C46:D46","v":"月"},null,{"$f":"'8計画'!E46:G46","v":"00:00:00"},null,null,"～",{"$f":"'8計画'!I46:K46","v":"00:00:00"},null,null,{"$f":"'8計画'!L46:N46","v":"00:00:00"},null,null,"～",{"$f":"'8計画'!P46:R46","v":"00:00:00"},null,null,"00:00:00",null,null,{"$f":"'8計画'!V46:AA46","v":0},null,null,null,null,null,{"$f":"'8計画'!AB46:AG46","v":0},null,null,null,null,null,{"$f":"'8計画'!AH46:AO46","v":0},null,null,null,null,null,null,null,false,null,null,null,null,null,null,null,null,null,null,null,null,null,null,null,null,null,null,null,null,"0",null,null,null,null,null,null,null,null,null,null,null,{"$f":"'8計画'!C46","v":"月"},null,{"$f":"'8計画'!E46","v":"00:00:00"},null,null,"～",{"$f":"'8計画'!I46","v":"00:00:00"},null,null,{"$f":"'8計画'!L46","v":"00:00:00"},null,null,"～",{"$f":"'8計画'!P46","v":"00:00:00"},null,null,"00:00:00",null,null,{"$f":"'8計画'!V46","v":0},null,null,null,null,null,{"$f":"'8計画'!AB46","v":0},null,null,null,null,null,{"$f":"'8計画'!AH46","v":0}]
[null,null,null,null,null,null,null,null,null,null,null,null,null,null,null,null,null,null,{"$f":"SUM(S16:U46)","v":0},null,null,null,null,null,null,null,null,null,null,null,null,null,null,null,null,null,null,null,null,null,null,null,null,null,null,null,null,null,null,null,null,null,null,null,null,null,null,null,null,null,null,null,null,null,null,null,null,null,null,null,null,null,null,null,null,null,null,null,null,null,null,null,null,null,null,null,null,null,null,null,{"$f":"SUM(CM16:CO46)","v":0}]
[]
["月",null,null,4,null,5,null,6,null,7,null,8,null,9,null,10,null,11,null,12,null,1,null,2,null,3,null,"計"]
["時間",null,null,{"$f":"'４実績'!D50","v":0},null,{"$f":"'５実績'!F50","v":0},null,{"$f":"'6実績'!H50","v":0},null,{"$f":"'7実績'!J50","v":0},null,{"$f":"S47","v":0},null,null,null,null,null,null,null,null,null,null,null,null,null,null,null,{"$f":"SUM(D50:AA50)","v":0},null,null,null,null,"時間",null,null,null,null,null,null,null,null,null,null,null,null,null,null,null,null,null,null,null,null,null,null,null,null,null,null,null,null,null,null,null,null,null,null,null,null,null,null,null,null,null,null,{"$f":"'４実績'!D50","v":0},null,{"$f":"'５実績'!F50","v":0},null,{"$f":"'6実績'!H50","v":0},null,{"$f":"'7実績'!J50","v":0},null,{"$f":"CM47","v":0},null,null,null,null,null,null,null,null,null,null,null,null,null,null,null,{"$f":"SUM(BX50:CU50)","v":0}]
["活動日数",null,null,{"$f":"'４実績'!D51","v":0},null,{"$f":"'５実績'!F51","v":0},null,{"$f":"'6実績'!H51","v":0},null,{"$f":"'7実績'!J51","v":0},null,{"$f":"COUNTIF(S16:U46,\">0\")","v":0},null,null,null,null,null,null,null,null,null,null,null,null,null,null,null,{"$f":"SUM(D51:AA51)","v":0},null,null,null,null,"活動日数",null,null,null,null,null,null,null,null,null,null,null,null,null,null,null,null,null,null,null,null,null,null,null,null,null,null,null,null,null,null,null,null,null,null,null,null,null,null,null,null,null,null,{"$f":"'４実績'!D51","v":0},null,{"$f":"'５実績'!F51","v":0},null,{"$f":"'6実績'!H51","v":0},null,{"$f":"'7実績'!J51","v":0},null,{"$f":"COUNTIF(CM16:CO46,\">0\")","v":0},null,null,null,null,null,null,null,null,null,null,null,null,null,null,null,{"$f":"SUM(BX51:CU51)","v":0}]
["休養日数",null,null,{"$f":"'４実績'!D52","v":30},null,{"$f":"'５実績'!F52","v":31},null,{"$f":"'6実績'!H52","v":30},null,{"$f":"'7実績'!J52","v":31},null,{"$f":"COUNTIF(S16:U46,\"0:00\")","v":31},null,null,null,null,null,null,null,null,null,null,null,null,null,null,null,{"$f":"SUM(D52:AA52)","v":153},null,null,null,null,"休養日数",null,null,null,null,null,null,null,null,null,null,null,null,null,null,null,null,null,null,null,null,null,null,null,null,null,null,null,null,null,null,null,null,null,null,null,null,null,null,null,null,null,null,{"$f":"'４実績'!D52","v":30},null,{"$f":"'５実績'!F52","v":31},null,{"$f":"'6実績'!H52","v":30},null,{"$f":"'7実績'!J52","v":31},null,{"$f":"COUNTIF(CM16:CO46,\"0:00\")","v":31},null,null,null,null,null,null,null,null,null,null,null,null,null,null,null,{"$f":"SUM(BX52:CU52)","v":153}]
[null,null,null,null,null,null,null,null,null,null,null,null,null,null,null,null,null,null,null,null,null,null,null,null,null,null,null,{"$f":"AB50/AB51","v":{"$error":"#DIV/0!"}},null,null,null,null,"平均時間/日",null,null,null,null,null,null,null,null,null,null,null,null,null,null,null,null,null,null,null,null,null,null,null,null,null,null,null,null,null,null,null,null,null,null,null,null,null,null,null,null,null,null,null,null,null,null,null,null,null,null,null,null,null,null,null,null,null,null,null,null,null,null,null,null,null,null,{"$f":"CV50/CV51","v":{"$error":"#DIV/0!"}}]

{"sheet":"9実績","index":18,"n_rows":53,"n_cols":112,"rows_kept":53,"cut":false,"hidden":false,"merged":[[51,91,51,92],[51,93,51,94],[51,95,51,96],[51,97,51,98],[51,99,51,103],[51,104,51,106],[52,99,52,103],[52,104,52,106],[51,72,51,74],[51,75,51,76],[51,77,51,78],[51,79,51,80],[51,81,51,82],[51,83,51,84],[51,85,51,86],[51,87,51,88],[51,89,51,90],[50,91,50,92],[50,93,50,94],[50,95,50,96],[50,97,50,98],[50,99,50,103],[50,104,50,106],[49,72,49,74],[49,75,49,76],[49,77,49,78],[50,72,50,74],[50,75,50,76],[50,77,50,78],[50,79,50,80],[50,81,50,82],[50,83,50,84],[50,85,50,86],[50,87,50,88],[50,89,50,90],[49,79,49,80],[49,81,49,82],[49,83,49,84],[49,85,49,86],[49,87,49,88],[49,89,49,90],[46,90,46,92],[46,104,48,108],[46,109,46,112],[47,109,48,112],[48,91,48,92],[48,93,48,94],[48,95,48,96],[48,97,48,98],[48,99,48,103],[49,91,49,92],[49,93,49,94],[49,95,49,96],[49,97,49,98],[49,99,49,103],[49,104,49,106],[48,72,48,74],[48,75,48,76],[48,77,48,78],[48,79,48,80],[48,81,48,82],[48,83,48,84],[48,85,48,86],[48,87,48,88],[48,89,48,90],[44,105,44,112],[45,72,45,73],[45,74,45,75],[45,76,45,78],[45,80,45,82],[45,83,45,85],[45,87,45,89],[45,90,45,92],[45,93,45,98],[45,99,45,104],[45,105,45,112],[44,72,44,73],[44,74,44,75],[44,76,44,78],[44,80,44,82],[44,83,44,85],[44,87,44,89],[44,90,44,92],[44,93,44,98],[44,99,44,104],[42,105,42,112],[43,72,43,73],[43,74,43,75],[43,76,43,78],[43,80,43,82],[43,83,43,85],[43,87,43,89],[43,90,43,92],[43,93,43,98],[43,99,43,104],[43,105,43,112],[42,72,42,73],[42,74,42,75],[42,76,42,78],[42,80,42,82],[42,83,42,85],[42,87,42,89],[42,90,42,92],[42,93,42,98],[42,99,42,104],[40,105,40,112],[41,72,41,73],[41,74,41,75],[41,76,41,78],[41,80,41,82],[41,83,41,85],[41,87,41,89],[41,90,41,92],[41,93,41,98],[41,99,41,104],[41,105,41,112],[40,72,40,73],[40,74,40,75],[40,76,40,78],[40,80,40,82],[40,83,40,85],[40,87,40,89],[40,90,40,92],[40,93,40,98],[40,99,40,104],[38,105,38,112],[39,72,39,73],[39,74,39,75],[39,76,39,78],[39,80,39,82],[39,83,39,85],[39,87,39,89],[39,90,39,92],[39,93,39,98],[39,99,39,104],[39,105,39,112],[38,72,38,73],[38,74,38,75],[38,76,38,78],[38,80,38,82],[38,83,38,85],[38,87,38,89],[38,90,38,92],[38,93,38,98],[38,99,38,104],[36,105,36,112],[37,72,37,73],[37,74,37,75],[37,76,37,78],[37,80,37,82],[37,83,37,85],[37,87,37,89],[37,90,37,92],[37,93,37,98],[37,99,37,104],[37,105,37,112],[36,72,36,73],[36,74,36,75],[36,76,36,78],[36,80,36,82],[36,83,36,85],[36,87,36,89],[36,90,36,92],[36,93,36,98],[36,99,36,104],[34,105,34,112],[35,72,35,73],[35,74,35,75],[35,76,35,78],[35,80,35,82],[35,83,35,85],[35,87,35,89],[35,90,35,92],[35,93,35,98],[35,99,35,104],[35,105,35,112],[34,72,34,73],[34,74,34,75],[34,76,34,78],[34,80,34,82],[34,83,34,85],[34,87,34,89],[34,90,34,92],[34,93,34,98],[34,99,34,104],[32,105,32,112],[33,72,33,73],[33,74,33,75],[33,76,33,78],[33,80,33,82],[33,83,33,85],[33,87,33,89],[33,90,33,92],[33,93,33,98],[33,99,33,104],[33,105,33,112],[32,72,32,73],[32,74,32,75],[32,76,32,78],[32,80,32,82],[32,83,32,85],[32,87,32,89],[32,90,32,92],[32,93,32,98],[32,99,32,104],[30,105,30,112],[31,72,31,73],[31,74,31,75],[31,76,31,78],[31,80,31,82],[31,83,31,85],[31,87,31,89],[31,90,31,92],[31,93,31,98],[31,99,31,104],[31,105,31,112],[30,72,30,73],[30,74,30,75],[30,76,30,78],[30,80,30,82],[30,83,30,85],[30,87,30,89],[30,90,30,92],[30,93,30,98],[30,99,30,104],[28,105,28,112],[29,72,29,73],[29,74,29,75],[29,76,29,78],[29,80,29,82],[29,83,29,85],[29,87,29,89],[29,90,29,92],[29,93,29,98],[29,99,29,104],[29,105,29,112],[28,72,28,73],[28,74,28,75],[28,76,28,78],[28,80,28,82],[28,83,28,85],[28,87,28,89],[28,90,28,92],[28,93,28,98],[28,99,28,104],[26,105,26,112],[27,72,27,73],[27,74,27,75],[27,76,27,78],[27,80,27,82],[27,83,27,85],[27,87,27,89],[27,90,27,92],[27,93,27,98],[27,99,27,104],[27,105,27,112],[26,72,26,73],[26,74,26,75],[26,76,26,78],[26,80,26,82],[26,83,26,85],[26,87,26,89],[26,90,26,92],[26,93,26,98],[26,99,26,104],[24,105,24,112],[25,72,25,73],[25,74,25,75],[25,76,25,78],[25,80,25,82],[25,83,25,85],[25,87,25,89],[25,90,25,92],[25,93,25,98],[25,99,25,104],[25,105,25,112],[24,72,24,73],[24,74,24,75],[24,76,24,78],[24,80,24,82],[24,83,24,85],[24,87,24,89],[24,90,24,92],[24,93,24,98],[24,99,24,104],[22,105,22,112],[23,72,23,73],[23,74,23,75],[23,76,23,78],[23,80,23,82],[23,83,23,85],[23,87,23,89],[23,90,23,92],[23,93,23,98],[23,99,23,104],[23,105,23,112],[22,72,22,73],[22,74,22,75],[22,76,22,78],[22,80,22,82],[22,83,22,85],[22,87,22,89],[22,90,22,92],[22,93,22,98],[22,99,22,104],[20,105,20,112],[21,72,21,73],[21,74,21,75],[21,76,21,78],[21,80,21,82],[21,83,21,85],[21,87,21,89],[21,90,21,92],[21,93,21,98],[21,99,21,104],[21,105,21,112],[20,72,20,73],[20,74,20,75],[20,76,20,78],[20,80,20,82],[20,83,20,85],[20,87,20,89],[20,90,20,92],[20,93,20,98],[20,99,20,104],[18,105,18,112],[19,72,19,73],[19,74,19,75],[19,76,19,78],[19,80,19,82],[19,83,19,85],[19,87,19,89],[19,90,19,92],[19,93,19,98],[19,99,19,104],[19,105,19,112],[18,72,18,73],[18,74,18,75],[18,76,18,78],[18,80,18,82],[18,83,18,85],[18,87,18,89],[18,90,18,92],[18,93,18,98],[18,99,18,104],[16,105,16,112],[17,72,17,73],[17,74,17,75],[17,76,17,78],[17,80,17,82],[17,83,17,85],[17,87,17,89],[17,90,17,92],[17,93,17,98],[17,99,17,104],[17,105,17,112],[16,72,16,73],[16,74,16,75],[16,76,16,78],[16,80,16,82],[16,83,16,85],[16,87,16,89],[16,90,16,92],[16,93,16,98],[16,99,16,104],[14,72,14,73],[14,74,14,75],[14,76,14,82],[14,83,14,89],[14,90,14,92],[14,93,14,104],[14,105,14,112],[15,72,15,73],[15,74,15,75],[15,76,15,78],[15,80,15,82],[15,83,15,85],[15,87,15,89],[15,90,15,92],[15,93,15,98],[15,99,15,104],[15,105,15,112],[9,111,10,112],[11,73,12,74],[11,75,12,79],[11,80,12,81],[11,82,12,90],[11,91,12,92],[11,93,12,94],[11,95,12,99],[11,100,12,101],[11,102,12,110],[11,111,12,112],[9,73,10,74],[9,75,10,79],[9,80,10,81],[9,82,10,90],[9,91,10,92],[9,93,10,94],[9,95,10,99],[9,100,10,101],[9,102,10,110],[6,109,6,110],[6,111,6,112],[7,99,7,100],[7,101,7,102],[7,103,7,104],[7,105,7,106],[7,107,7,108],[7,109,7,110],[7,111,7,112],[6,72,7,76],[6,77,7,79],[6,80,7,94],[6,96,7,98],[6,99,6,100],[6,101,6,102],[6,103,6,104],[6,105,6,106],[6,107,6,108],[1,110,2,112],[2,72,4,75],[2,76,4,79],[2,80,4,83],[2,84,4,87],[2,88,4,91],[2,92,4,95],[3,97,4,99],[3,100,4,109],[3,110,4,112],[0,72,0,75],[1,72,1,75],[1,76,1,79],[1,80,1,83],[1,84,1,87],[1,88,1,91],[1,92,1,95],[1,97,2,99],[1,100,2,109],[41,42,41,45],[42,42,42,45],[43,42,43,45],[44,42,44,45],[45,42,45,45],[32,42,32,45],[33,42,33,45],[34,42,34,45],[35,42,35,45],[36,42,36,45],[37,42,37,45],[38,42,38,45],[39,42,39,45],[40,42,40,45],[23,42,23,45],[24,42,24,45],[25,42,25,45],[26,42,26,45],[27,42,27,45],[28,42,28,45],[29,42,29,45],[30,42,30,45],[31,42,31,45],[14,42,14,45],[15,42,15,45],[16,42,16,45],[17,42,17,45],[18,42,18,45],[19,42,19,45],[20,42,20,45],[21,42,21,45],[22,42,22,45],[0,0,0,3],[1,0,1,3],[1,4,1,7],[1,8,1,11],[1,12,1,15],[1,16,1,19],[1,20,1,23],[1,25,2,27],[1,28,2,37],[1,38,2,40],[2,0,4,3],[2,4,4,7],[2,8,4,11],[2,12,4,15],[2,16,4,19],[2,20,4,23],[3,25,4,27],[3,28,4,37],[3,38,4,40],[6,0,7,4],[6,5,7,7],[6,8,7,22],[6,24,7,26],[6,27,6,28],[6,29,6,30],[6,31,6,32],[6,33,6,34],[6,35,6,36],[9,23,10,27],[9,28,10,29],[9,30,10,38],[6,37,6,38],[6,39,6,40],[7,27,7,28],[7,29,7,30],[7,31,7,32],[7,33,7,34],[7,35,7,36],[7,37,7,38],[7,39,7,40],[11,39,12,40],[14,0,14,1],[14,2,14,3],[14,4,14,10],[14,11,14,17],[14,18,14,20],[14,21,14,32],[14,33,14,40],[9,39,10,40],[11,1,12,2],[11,3,12,7],[11,8,12,9],[11,10,12,18],[11,19,12,20],[11,21,12,22],[11,23,12,27],[11,28,12,29],[11,30,12,38],[9,1,10,2],[9,3,10,7],[9,8,10,9],[9,10,10,18],[9,19,10,20],[9,21,10,22],[15,18,15,20],[15,21,15,26],[15,27,15,32],[15,33,15,40],[16,0,16,1],[16,2,16,3],[16,4,16,6],[16,8,16,10],[16,11,16,13],[16,15,16,17],[15,0,15,1],[15,2,15,3],[15,4,15,6],[15,8,15,10],[15,11,15,13],[15,15,15,17],[16,18,16,20],[16,21,16,26],[16,27,16,32],[16,33,16,40],[17,33,17,40],[18,0,18,1],[18,2,18,3],[18,4,18,6],[18,8,18,10],[18,11,18,13],[18,15,18,17],[18,18,18,20],[18,21,18,26],[18,27,18,32],[18,33,18,40],[17,0,17,1],[17,2,17,3],[17,4,17,6],[17,8,17,10],[17,11,17,13],[17,15,17,17],[17,18,17,20],[17,21,17,26],[17,27,17,32],[19,33,19,40],[20,0,20,1],[20,2,20,3],[20,4,20,6],[20,8,20,10],[20,11,20,13],[20,15,20,17],[20,18,20,20],[20,21,20,26],[20,27,20,32],[20,33,20,40],[19,0,19,1],[19,2,19,3],[19,4,19,6],[19,8,19,10],[19,11,19,13],[19,15,19,17],[19,18,19,20],[19,21,19,26],[19,27,19,32],[21,33,21,40],[22,0,22,1],[22,2,22,3],[22,4,22,6],[22,8,22,10],[22,11,22,13],[22,15,22,17],[22,18,22,20],[22,21,22,26],[22,27,22,32],[22,33,22,40],[21,0,21,1],[21,2,21,3],[21,4,21,6],[21,8,21,10],[21,11,21,13],[21,15,21,17],[21,18,21,20],[21,21,21,26],[21,27,21,32],[23,33,23,40],[24,0,24,1],[24,2,24,3],[24,4,24,6],[24,8,24,10],[24,11,24,13],[24,15,24,17],[24,18,24,20],[24,21,24,26],[24,27,24,32],[24,33,24,40],[23,0,23,1],[23,2,23,3],[23,4,23,6],[23,8,23,10],[23,11,23,13],[23,15,23,17],[23,18,23,20],[23,21,23,26],[23,27,23,32],[25,33,25,40],[26,0,26,1],[26,2,26,3],[26,4,26,6],[26,8,26,10],[26,11,26,13],[26,15,26,17],[26,18,26,20],[26,21,26,26],[26,27,26,32],[26,33,26,40],[25,0,25,1],[25,2,25,3],[25,4,25,6],[25,8,25,10],[25,11,25,13],[25,15,25,17],[25,18,25,20],[25,21,25,26],[25,27,25,32],[27,33,27,40],[28,0,28,1],[28,2,28,3],[28,4,28,6],[28,8,28,10],[28,11,28,13],[28,15,28,17],[28,18,28,20],[28,21,28,26],[28,27,28,32],[28,33,28,40],[27,0,27,1],[27,2,27,3],[27,4,27,6],[27,8,27,10],[27,11,27,13],[27,15,27,17],[27,18,27,20],[27,21,27,26],[27,27,27,32],[29,33,29,40],[30,0,30,1],[30,2,30,3],[30,4,30,6],[30,8,30,10],[30,11,30,13],[30,15,30,17],[30,18,30,20],[30,21,30,26],[30,27,30,32],[30,33,30,40],[29,0,29,1],[29,2,29,3],[29,4,29,6],[29,8,29,10],[29,11,29,13],[29,15,29,17],[29,18,29,20],[29,21,29,26],[29,27,29,32],[31,33,31,40],[32,0,32,1],[32,2,32,3],[32,4,32,6],[32,8,32,10],[32,11,32,13],[32,15,32,17],[32,18,32,20],[32,21,32,26],[32,27,32,32],[32,33,32,40],[31,0,31,1],[31,2,31,3],[31,4,31,6],[31,8,31,10],[31,11,31,13],[31,15,31,17],[31,18,31,20],[31,21,31,26],[31,27,31,32],[33,33,33,40],[34,0,34,1],[34,2,34,3],[34,4,34,6],[34,8,34,10],[34,11,34,13],[34,15,34,17],[34,18,34,20],[34,21,34,26],[34,27,34,32],[34,33,34,40],[33,0,33,1],[33,2,33,3],[33,4,33,6],[33,8,33,10],[33,11,33,13],[33,15,33,17],[33,18,33,20],[33,21,33,26],[33,27,33,32],[35,33,35,40],[36,0,36,1],[36,2,36,3],[36,4,36,6],[36,8,36,10],[36,11,36,13],[36,15,36,17],[36,18,36,20],[36,21,36,26],[36,27,36,32],[36,33,36,40],[35,0,35,1],[35,2,35,3],[35,4,35,6],[35,8,35,10],[35,11,35,13],[35,15,35,17],[35,18,35,20],[35,21,35,26],[35,27,35,32],[37,33,37,40],[38,0,38,1],[38,2,38,3],[38,4,38,6],[38,8,38,10],[38,11,38,13],[38,15,38,17],[38,18,38,20],[38,21,38,26],[38,27,38,32],[38,33,38,40],[37,0,37,1],[37,2,37,3],[37,4,37,6],[37,8,37,10],[37,11,37,13],[37,15,37,17],[37,18,37,20],[37,21,37,26],[37,27,37,32],[39,33,39,40],[40,0,40,1],[40,2,40,3],[40,4,40,6],[40,8,40,10],[40,11,40,13],[40,15,40,17],[40,18,40,20],[40,21,40,26],[40,27,40,32],[40,33,40,40],[39,0,39,1],[39,2,39,3],[39,4,39,6],[39,8,39,10],[39,11,39,13],[39,15,39,17],[39,18,39,20],[39,21,39,26],[39,27,39,32],[41,33,41,40],[42,0,42,1],[42,2,42,3],[42,4,42,6],[42,8,42,10],[42,11,42,13],[42,15,42,17],[42,18,42,20],[42,21,42,26],[42,27,42,32],[42,33,42,40],[41,0,41,1],[41,2,41,3],[41,4,41,6],[41,8,41,10],[41,11,41,13],[41,15,41,17],[41,18,41,20],[41,21,41,26],[41,27,41,32],[45,27,45,32],[43,33,43,40],[44,0,44,1],[44,2,44,3],[44,4,44,6],[44,8,44,10],[44,11,44,13],[44,15,44,17],[44,18,44,20],[44,21,44,26],[44,27,44,32],[44,33,44,40],[43,0,43,1],[43,2,43,3],[43,4,43,6],[43,8,43,10],[43,11,43,13],[43,15,43,17],[43,18,43,20],[43,21,43,26],[43,27,43,32],[45,33,45,40],[45,0,45,1],[45,2,45,3],[50,19,50,20],[50,21,50,22],[50,23,50,24],[50,25,50,26],[46,18,46,20],[49,13,49,14],[48,13,48,14],[48,15,48,16],[48,17,48,18],[49,17,49,18],[49,19,49,20],[49,21,49,22],[49,23,49,24],[48,23,48,24],[48,25,48,26],[49,15,49,16],[49,0,49,2],[49,3,49,4],[45,4,45,6],[45,8,45,10],[45,11,45,13],[45,15,45,17],[45,18,45,20],[45,21,45,26],[48,0,48,2],[48,3,48,4],[48,5,48,6],[48,7,48,8],[48,9,48,10],[49,5,49,6],[49,7,49,8],[49,9,49,10],[49,11,49,12],[48,11,48,12],[51,15,51,16],[51,17,51,18],[50,0,50,2],[50,3,50,4],[50,5,50,6],[50,7,50,8],[50,9,50,10],[50,11,50,12],[50,13,50,14],[50,15,50,16],[50,17,50,18],[5,0,5,22],[48,27,48,31],[48,19,48,20],[48,21,48,22],[50,27,50,31],[49,27,49,31],[49,32,49,34],[49,25,49,26],[52,27,52,31],[52,32,52,34],[51,19,51,20],[51,21,51,22],[51,23,51,24],[51,25,51,26],[51,27,51,31],[51,32,51,34],[50,32,50,34],[51,0,51,2],[51,3,51,4],[51,5,51,6],[51,7,51,8],[51,9,51,10],[51,11,51,12],[51,13,51,14]]}
[]
[{"$f":"'9計画'!A2:D2","v":"校長"},null,null,null,{"$f":"'9計画'!E2:H2","v":"教頭"},null,null,null,{"$f":"'9計画'!I2:L2","v":"教頭"},null,null,null,{"$f":"'9計画'!M2:P2","v":"主幹教諭"},null,null,null,{"$f":"'9計画'!Q2:T2","v":0},null,null,null,{"$f":"'9計画'!U2:X2","v":"顧問"},null,null,null,null,"学校名",null,null,{"$f":"'9計画'!AC2:AL3","v":0},null,null,null,null,null,null,null,null,null,"学校",null,null,null,null,null,null,null,null,null,null,null,null,null,null,null,null,null,null,null,null,null,null,null,null,null,null,null,null,null,null,null,null,null,{"$f":"'9計画'!BU2:BX2","v":0},null,null,null,{"$f":"'9計画'!BY2:CB2","v":0},null,null,null,{"$f":"'9計画'!CC2:CF2","v":0},null,null,null,{"$f":"'9計画'!CG2:CJ2","v":0},null,null,null,{"$f":"'9計画'!CK2:CN2","v":0},null,null,null,{"$f":"'9計画'!CO2:CR2","v":0},null,null,null,null,null,null,null,{"$f":"'9計画'!CW2:DF3","v":0}]
["印",null,null,null,"印",null,null,null,"印",null,null,null,"印",null,null,null,"印",null,null,null,"印"]
[null,null,null,null,null,null,null,null,null,null,null,null,null,null,null,null,null,null,null,null,null,null,null,null,null,"部活動名",null,null,{"$f":"'9計画'!AC4:AL5","v":0},null,null,null,null,null,null,null,null,null,"部",null,null,null,null,null,null,null,null,null,null,null,null,null,null,null,null,null,null,null,null,null,null,null,null,null,null,null,null,null,null,null,null,null,null,null,null,null,null,null,null,null,null,null,null,null,null,null,null,null,null,null,null,null,null,null,null,null,null,null,null,null,{"$f":"'9計画'!CW4:DF5","v":0}]
[]
["　※活動計画と違う内容については、校長口頭命令済み"]
[9,null,null,null,null,"月",null,null,"〈月間〉部活動計画・活動実績",null,null,null,null,null,null,null,null,null,null,null,null,null,null,null,"部員数",null,null,"1女",null,"2女",null,"3女",null,"1男",null,"2男",null,"3男",null,"計"]
[null,null,null,null,null,null,null,null,null,null,null,null,null,null,null,null,null,null,null,null,null,null,null,null,null,null,null,{"$f":"'9計画'!AB8:AC8","v":0},null,{"$f":"'9計画'!AD8:AE8","v":0},null,{"$f":"'9計画'!AF8:AG8","v":0},null,{"$f":"'9計画'!AH8:AI8","v":0},null,{"$f":"'9計画'!AJ8:AK8","v":0},null,{"$f":"'9計画'!AL8:AM8","v":0},null,{"$f":"SUM(AB8:AM8)","v":0},null,null,null,null,null,null,null,null,null,null,null,null,null,null,null,null,null,null,null,null,null,null,null,null,null,null,null,null,null,null,null,null,null,null,null,null,null,null,null,null,null,null,null,null,null,null,null,null,null,null,null,null,null,null,null,null,null,null,null,{"$f":"'9計画'!AB8","v":0},null,{"$f":"'9計画'!AD8","v":0},null,{"$f":"'9計画'!AF8","v":0},null,{"$f":"'9計画'!AH8","v":0},null,{"$f":"'9計画'!AJ8","v":0},null,{"$f":"'9計画'!AL8","v":0},null,{"$f":"SUM(CV8:DG8)","v":0}]
[]
[null,"職名",null,{"$f":"'9計画'!D10:H11","v":0},null,null,null,null,"顧問",null,{"$f":"'9計画'!K10:S11","v":0},null,null,null,null,null,null,null,null,null,null,"職名",null,{"$f":"'9計画'!X10:AB11","v":0},null,null,null,null,"副２",null,{"$f":"'9計画'!AE10:AM11","v":0},null,null,null,null,null,null,null,null,null,null,null,null,null,null,null,null,null,null,null,null,null,null,null,null,null,null,null,null,null,null,null,null,null,null,null,null,null,null,null,null,null,null,null,null,{"$f":"'9計画'!D10","v":0},null,null,null,null,null,null,{"$f":"'9計画'!K10","v":0},null,null,null,null,null,null,null,null,null,null,null,null,{"$f":"'9計画'!X10","v":0},null,null,null,null,null,null,{"$f":"'9計画'!AE10","v":0}]
[]
[null,"職名",null,{"$f":"'9計画'!D12:H13","v":0},null,null,null,null,"副顧問",null,{"$f":"'9計画'!K12:S13","v":0},null,null,null,null,null,null,null,null,null,null,"職名",null,{"$f":"'9計画'!X12:AB13","v":0},null,null,null,null,"副３",null,{"$f":"'9計画'!AE12:AM13","v":0},null,null,null,null,null,null,null,null,null,null,null,null,null,null,null,null,null,null,null,null,null,null,null,null,null,null,null,null,null,null,null,null,null,null,null,null,null,null,null,null,null,null,null,null,{"$f":"'9計画'!D12","v":0},null,null,null,null,null,null,{"$f":"'9計画'!K12","v":0},null,null,null,null,null,null,null,null,null,null,null,null,{"$f":"'9計画'!X12","v":0},null,null,null,null,null,null,{"$f":"'9計画'!AE12","v":0}]
[]
[]
["日",null,"曜",null,"ＡＭ",null,null,null,null,null,null,"ＰＭ",null,null,null,null,null,null,"時間",null,null,"内容（練習・大会・OFF等）",null,null,null,null,null,null,null,null,null,null,null,"場所",null,null,null,null,null,null,null,false,"特殊業務"]
[1,null,{"$f":"'9計画'!C16:D16","v":"火"},null,{"$f":"'9計画'!E16:G16","v":"00:00:00"},null,null,"～",{"$f":"'9計画'!I16:K16","v":"00:00:00"},null,null,{"$f":"'9計画'!L16:N16","v":"00:00:00"},null,null,"～",{"$f":"'9計画'!P16:R16","v":"00:00:00"},null,null,{"$f":"(I16-E16)+(P16-L16)","v":"00:00:00"},null,null,{"$f":"'9計画'!V16:AA16","v":0},null,null,null,null,null,{"$f":"'9計画'!AB16:AG16","v":0},null,null,null,null,null,{"$f":"'9計画'!AH16:AO16","v":0},null,null,null,null,null,null,null,false,null,null,null,null,null,null,null,null,null,null,null,null,null,null,null,null,null,null,null,null,{"$f":"RIGHT(V16,2)","v":"0"},null,null,null,null,null,null,null,null,null,null,null,{"$f":"'9計画'!C16","v":"火"},null,{"$f":"'9計画'!E16","v":"00:00:00"},null,null,"～",{"$f":"'9計画'!I16","v":"00:00:00"},null,null,{"$f":"'9計画'!L16","v":"00:00:00"},null,null,"～",{"$f":"'9計画'!P16","v":"00:00:00"},null,null,{"$f":"(CC16-BY16)+(CJ16-CF16)","v":"00:00:00"},null,null,{"$f":"'9計画'!V16","v":"00:00:00"},null,null,null,null,null,{"$f":"'9計画'!AB16","v":0},null,null,null,null,null,{"$f":"'9計画'!AH16","v":0}]
[2,null,{"$f":"'9計画'!C17:D17","v":"水"},null,{"$f":"'9計画'!E17:G17","v":"00:00:00"},null,null,"～",{"$f":"'9計画'!I17:K17","v":"00:00:00"},null,null,{"$f":"'9計画'!L17:N17","v":"00:00:00"},null,null,"～",{"$f":"'9計画'!P17:R17","v":"00:00:00"},null,null,"00:00:00",null,null,{"$f":"'9計画'!V17:AA17","v":0},null,null,null,null,null,{"$f":"'9計画'!AB17:AG17","v":0},null,null,null,null,null,{"$f":"'9計画'!AH17:AO17","v":0},null,null,null,null,null,null,null,false,null,null,null,null,null,null,null,null,null,null,null,null,null,null,null,null,null,null,null,null,{"$f":"RIGHT(V17,2)","v":"0"},null,null,null,null,null,null,null,null,null,null,null,{"$f":"'9計画'!C17","v":"水"},null,{"$f":"'9計画'!E17","v":"00:00:00"},null,null,"～",{"$f":"'9計画'!I17","v":"00:00:00"},null,null,{"$f":"'9計画'!L17","v":"00:00:00"},null,null,"～",{"$f":"'9計画'!P17","v":"00:00:00"},null,null,"00:00:00",null,null,{"$f":"'9計画'!V17","v":"00:00:00"},null,null,null,null,null,{"$f":"'9計画'!AB17","v":0},null,null,null,null,null,{"$f":"'9計画'!AH17","v":0}]
[3,null,{"$f":"'9計画'!C18:D18","v":"木"},null,{"$f":"'9計画'!E18:G18","v":"00:00:00"},null,null,"～",{"$f":"'9計画'!I18:K18","v":"00:00:00"},null,null,{"$f":"'9計画'!L18:N18","v":"00:00:00"},null,null,"～",{"$f":"'9計画'!P18:R18","v":"00:00:00"},null,null,"00:00:00",null,null,{"$f":"'9計画'!V18:AA18","v":0},null,null,null,null,null,{"$f":"'9計画'!AB18:AG18","v":0},null,null,null,null,null,{"$f":"'9計画'!AH18:AO18","v":0},null,null,null,null,null,null,null,false,null,null,null,null,null,null,null,null,null,null,null,null,null,null,null,null,null,null,null,null,"0",null,null,null,null,null,null,null,null,null,null,null,{"$f":"'9計画'!C18","v":"木"},null,{"$f":"'9計画'!E18","v":"00:00:00"},null,null,"～",{"$f":"'9計画'!I18","v":"00:00:00"},null,null,{"$f":"'9計画'!L18","v":"00:00:00"},null,null,"～",{"$f":"'9計画'!P18","v":"00:00:00"},null,null,"00:00:00",null,null,{"$f":"'9計画'!V18","v":"00:00:00"},null,null,null,null,null,{"$f":"'9計画'!AB18","v":0},null,null,null,null,null,{"$f":"'9計画'!AH18","v":0}]
[4,null,{"$f":"'9計画'!C19:D19","v":"金"},null,{"$f":"'9計画'!E19:G19","v":"00:00:00"},null,null,"～",{"$f":"'9計画'!I19:K19","v":"00:00:00"},null,null,{"$f":"'9計画'!L19:N19","v":"00:00:00"},null,null,"～",{"$f":"'9計画'!P19:R19","v":"00:00:00"},null,null,"00:00:00",null,null,{"$f":"'9計画'!V19:AA19","v":0},null,null,null,null,null,{"$f":"'9計画'!AB19:AG19","v":0},null,null,null,null,null,{"$f":"'9計画'!AH19:AO19","v":0},null,null,null,null,null,null,null,false,null,null,null,null,null,null,null,null,null,null,null,null,null,null,null,null,null,null,null,null,"0",null,null,null,null,null,null,null,null,null,null,null,{"$f":"'9計画'!C19","v":"金"},null,{"$f":"'9計画'!E19","v":"00:00:00"},null,null,"～",{"$f":"'9計画'!I19","v":"00:00:00"},null,null,{"$f":"'9計画'!L19","v":"00:00:00"},null,null,"～",{"$f":"'9計画'!P19","v":"00:00:00"},null,null,"00:00:00",null,null,{"$f":"'9計画'!V19","v":"00:00:00"},null,null,null,null,null,{"$f":"'9計画'!AB19","v":0},null,null,null,null,null,{"$f":"'9計画'!AH19","v":0}]
[5,null,{"$f":"'9計画'!C20:D20","v":"土"},null,{"$f":"'9計画'!E20:G20","v":"00:00:00"},null,null,"～",{"$f":"'9計画'!I20:K20","v":"00:00:00"},null,null,{"$f":"'9計画'!L20:N20","v":"00:00:00"},null,null,"～",{"$f":"'9計画'!P20:R20","v":"00:00:00"},null,null,"00:00:00",null,null,{"$f":"'9計画'!V20:AA20","v":0},null,null,null,null,null,{"$f":"'9計画'!AB20:AG20","v":0},null,null,null,null,null,{"$f":"'9計画'!AH20:AO20","v":0},null,null,null,null,null,null,null,false,null,null,null,null,null,null,null,null,null,null,null,null,null,null,null,null,null,null,null,null,"0",null,null,null,null,null,null,null,null,null,null,null,{"$f":"'9計画'!C20","v":"土"},null,{"$f":"'9計画'!E20","v":"00:00:00"},null,null,"～",{"$f":"'9計画'!I20","v":"00:00:00"},null,null,{"$f":"'9計画'!L20","v":"00:00:00"},null,null,"～",{"$f":"'9計画'!P20","v":"00:00:00"},null,null,"00:00:00",null,null,{"$f":"'9計画'!V20","v":"00:00:00"},null,null,null,null,null,{"$f":"'9計画'!AB20","v":0},null,null,null,null,null,{"$f":"'9計画'!AH20","v":0}]
[6,null,{"$f":"'9計画'!C21:D21","v":"日"},null,{"$f":"'9計画'!E21:G21","v":"00:00:00"},null,null,"～",{"$f":"'9計画'!I21:K21","v":"00:00:00"},null,null,{"$f":"'9計画'!L21:N21","v":"00:00:00"},null,null,"～",{"$f":"'9計画'!P21:R21","v":"00:00:00"},null,null,"00:00:00",null,null,{"$f":"'9計画'!V21:AA21","v":0},null,null,null,null,null,{"$f":"'9計画'!AB21:AG21","v":0},null,null,null,null,null,{"$f":"'9計画'!AH21:AO21","v":0},null,null,null,null,null,null,null,false,null,null,null,null,null,null,null,null,null,null,null,null,null,null,null,null,null,null,null,null,"0",null,null,null,null,null,null,null,null,null,null,null,{"$f":"'9計画'!C21","v":"日"},null,{"$f":"'9計画'!E21","v":"00:00:00"},null,null,"～",{"$f":"'9計画'!I21","v":"00:00:00"},null,null,{"$f":"'9計画'!L21","v":"00:00:00"},null,null,"～",{"$f":"'9計画'!P21","v":"00:00:00"},null,null,"00:00:00",null,null,{"$f":"'9計画'!V21","v":"00:00:00"},null,null,null,null,null,{"$f":"'9計画'!AB21","v":0},null,null,null,null,null,{"$f":"'9計画'!AH21","v":0}]
[7,null,{"$f":"'9計画'!C22:D22","v":"月"},null,{"$f":"'9計画'!E22:G22","v":"00:00:00"},null,null,"～",{"$f":"'9計画'!I22:K22","v":"00:00:00"},null,null,{"$f":"'9計画'!L22:N22","v":"00:00:00"},null,null,"～",{"$f":"'9計画'!P22:R22","v":"00:00:00"},null,null,"00:00:00",null,null,{"$f":"'9計画'!V22:AA22","v":0},null,null,null,null,null,{"$f":"'9計画'!AB22:AG22","v":0},null,null,null,null,null,{"$f":"'9計画'!AH22:AO22","v":0},null,null,null,null,null,null,null,false,null,null,null,null,null,null,null,null,null,null,null,null,null,null,null,null,null,null,null,null,"0",null,null,null,null,null,null,null,null,null,null,null,{"$f":"'9計画'!C22","v":"月"},null,{"$f":"'9計画'!E22","v":"00:00:00"},null,null,"～",{"$f":"'9計画'!I22","v":"00:00:00"},null,null,{"$f":"'9計画'!L22","v":"00:00:00"},null,null,"～",{"$f":"'9計画'!P22","v":"00:00:00"},null,null,"00:00:00",null,null,{"$f":"'9計画'!V22","v":"00:00:00"},null,null,null,null,null,{"$f":"'9計画'!AB22","v":0},null,null,null,null,null,{"$f":"'9計画'!AH22","v":0}]
[8,null,{"$f":"'9計画'!C23:D23","v":"火"},null,{"$f":"'9計画'!E23:G23","v":"00:00:00"},null,null,"～",{"$f":"'9計画'!I23:K23","v":"00:00:00"},null,null,{"$f":"'9計画'!L23:N23","v":"00:00:00"},null,null,"～",{"$f":"'9計画'!P23:R23","v":"00:00:00"},null,null,"00:00:00",null,null,{"$f":"'9計画'!V23:AA23","v":0},null,null,null,null,null,{"$f":"'9計画'!AB23:AG23","v":0},null,null,null,null,null,{"$f":"'9計画'!AH23:AO23","v":0},null,null,null,null,null,null,null,false,null,null,null,null,null,null,null,null,null,null,null,null,null,null,null,null,null,null,null,null,"0",null,null,null,null,null,null,null,null,null,null,null,{"$f":"'9計画'!C23","v":"火"},null,{"$f":"'9計画'!E23","v":"00:00:00"},null,null,"～",{"$f":"'9計画'!I23","v":"00:00:00"},null,null,{"$f":"'9計画'!L23","v":"00:00:00"},null,null,"～",{"$f":"'9計画'!P23","v":"00:00:00"},null,null,"00:00:00",null,null,{"$f":"'9計画'!V23","v":"00:00:00"},null,null,null,null,null,{"$f":"'9計画'!AB23","v":0},null,null,null,null,null,{"$f":"'9計画'!AH23","v":0}]
[9,null,{"$f":"'9計画'!C24:D24","v":"水"},null,{"$f":"'9計画'!E24:G24","v":"00:00:00"},null,null,"～",{"$f":"'9計画'!I24:K24","v":"00:00:00"},null,null,{"$f":"'9計画'!L24:N24","v":"00:00:00"},null,null,"～",{"$f":"'9計画'!P24:R24","v":"00:00:00"},null,null,"00:00:00",null,null,{"$f":"'9計画'!V24:AA24","v":0},null,null,null,null,null,{"$f":"'9計画'!AB24:AG24","v":0},null,null,null,null,null,{"$f":"'9計画'!AH24:AO24","v":0},null,null,null,null,null,null,null,false,null,null,null,null,null,null,null,null,null,null,null,null,null,null,null,null,null,null,null,null,"0",null,null,null,null,null,null,null,null,null,null,null,{"$f":"'9計画'!C24","v":"水"},null,{"$f":"'9計画'!E24","v":"00:00:00"},null,null,"～",{"$f":"'9計画'!I24","v":"00:00:00"},null,null,{"$f":"'9計画'!L24","v":"00:00:00"},null,null,"～",{"$f":"'9計画'!P24","v":"00:00:00"},null,null,"00:00:00",null,null,{"$f":"'9計画'!V24","v":"00:00:00"},null,null,null,null,null,{"$f":"'9計画'!AB24","v":0},null,null,null,null,null,{"$f":"'9計画'!AH24","v":0}]
[10,null,{"$f":"'9計画'!C25:D25","v":"木"},null,{"$f":"'9計画'!E25:G25","v":"00:00:00"},null,null,"～",{"$f":"'9計画'!I25:K25","v":"00:00:00"},null,null,{"$f":"'9計画'!L25:N25","v":"00:00:00"},null,null,"～",{"$f":"'9計画'!P25:R25","v":"00:00:00"},null,null,"00:00:00",null,null,{"$f":"'9計画'!V25:AA25","v":0},null,null,null,null,null,{"$f":"'9計画'!AB25:AG25","v":0},null,null,null,null,null,{"$f":"'9計画'!AH25:AO25","v":0},null,null,null,null,null,null,null,false,null,null,null,null,null,null,null,null,null,null,null,null,null,null,null,null,null,null,null,null,"0",null,null,null,null,null,null,null,null,null,null,null,{"$f":"'9計画'!C25","v":"木"},null,{"$f":"'9計画'!E25","v":"00:00:00"},null,null,"～",{"$f":"'9計画'!I25","v":"00:00:00"},null,null,{"$f":"'9計画'!L25","v":"00:00:00"},null,null,"～",{"$f":"'9計画'!P25","v":"00:00:00"},null,null,"00:00:00",null,null,{"$f":"'9計画'!V25","v":"00:00:00"},null,null,null,null,null,{"$f":"'9計画'!AB25","v":0},null,null,null,null,null,{"$f":"'9計画'!AH25","v":0}]
[11,null,{"$f":"'9計画'!C26:D26","v":"金"},null,{"$f":"'9計画'!E26:G26","v":"00:00:00"},null,null,"～",{"$f":"'9計画'!I26:K26","v":"00:00:00"},null,null,{"$f":"'9計画'!L26:N26","v":"00:00:00"},null,null,"～",{"$f":"'9計画'!P26:R26","v":"00:00:00"},null,null,"00:00:00",null,null,{"$f":"'9計画'!V26:AA26","v":0},null,null,null,null,null,{"$f":"'9計画'!AB26:AG26","v":0},null,null,null,null,null,{"$f":"'9計画'!AH26:AO26","v":0},null,null,null,null,null,null,null,false,null,null,null,null,null,null,null,null,null,null,null,null,null,null,null,null,null,null,null,null,"0",null,null,null,null,null,null,null,null,null,null,null,{"$f":"'9計画'!C26","v":"金"},null,{"$f":"'9計画'!E26","v":"00:00:00"},null,null,"～",{"$f":"'9計画'!I26","v":"00:00:00"},null,null,{"$f":"'9計画'!L26","v":"00:00:00"},null,null,"～",{"$f":"'9計画'!P26","v":"00:00:00"},null,null,"00:00:00",null,null,{"$f":"'9計画'!V26","v":"00:00:00"},null,null,null,null,null,{"$f":"'9計画'!AB26","v":0},null,null,null,null,null,{"$f":"'9計画'!AH26","v":0}]
[12,null,{"$f":"'9計画'!C27:D27","v":"土"},null,{"$f":"'9計画'!E27:G27","v":"00:00:00"},null,null,"～",{"$f":"'9計画'!I27:K27","v":"00:00:00"},null,null,{"$f":"'9計画'!L27:N27","v":"00:00:00"},null,null,"～",{"$f":"'9計画'!P27:R27","v":"00:00:00"},null,null,"00:00:00",null,null,{"$f":"'9計画'!V27:AA27","v":0},null,null,null,null,null,{"$f":"'9計画'!AB27:AG27","v":0},null,null,null,null,null,{"$f":"'9計画'!AH27:AO27","v":0},null,null,null,null,null,null,null,false,null,null,null,null,null,null,null,null,null,null,null,null,null,null,null,null,null,null,null,null,"0",null,null,null,null,null,null,null,null,null,null,null,{"$f":"'9計画'!C27","v":"土"},null,{"$f":"'9計画'!E27","v":"00:00:00"},null,null,"～",{"$f":"'9計画'!I27","v":"00:00:00"},null,null,{"$f":"'9計画'!L27","v":"00:00:00"},null,null,"～",{"$f":"'9計画'!P27","v":"00:00:00"},null,null,"00:00:00",null,null,{"$f":"'9計画'!V27","v":"00:00:00"},null,null,null,null,null,{"$f":"'9計画'!AB27","v":0},null,null,null,null,null,{"$f":"'9計画'!AH27","v":0}]
[13,null,{"$f":"'9計画'!C28:D28","v":"日"},null,{"$f":"'9計画'!E28:G28","v":"00:00:00"},null,null,"～",{"$f":"'9計画'!I28:K28","v":"00:00:00"},null,null,{"$f":"'9計画'!L28:N28","v":"00:00:00"},null,null,"～",{"$f":"'9計画'!P28:R28","v":"00:00:00"},null,null,"00:00:00",null,null,{"$f":"'9計画'!V28:AA28","v":0},null,null,null,null,null,{"$f":"'9計画'!AB28:AG28","v":0},null,null,null,null,null,{"$f":"'9計画'!AH28:AO28","v":0},null,null,null,null,null,null,null,false,null,null,null,null,null,null,null,null,null,null,null,null,null,null,null,null,null,null,null,null,"0",null,null,null,null,null,null,null,null,null,null,null,{"$f":"'9計画'!C28","v":"日"},null,{"$f":"'9計画'!E28","v":"00:00:00"},null,null,"～",{"$f":"'9計画'!I28","v":"00:00:00"},null,null,{"$f":"'9計画'!L28","v":"00:00:00"},null,null,"～",{"$f":"'9計画'!P28","v":"00:00:00"},null,null,"00:00:00",null,null,{"$f":"'9計画'!V28","v":"00:00:00"},null,null,null,null,null,{"$f":"'9計画'!AB28","v":0},null,null,null,null,null,{"$f":"'9計画'!AH28","v":0}]
[14,null,{"$f":"'9計画'!C29:D29","v":"月"},null,{"$f":"'9計画'!E29:G29","v":"00:00:00"},null,null,"～",{"$f":"'9計画'!I29:K29","v":"00:00:00"},null,null,{"$f":"'9計画'!L29:N29","v":"00:00:00"},null,null,"～",{"$f":"'9計画'!P29:R29","v":"00:00:00"},null,null,"00:00:00",null,null,{"$f":"'9計画'!V29:AA29","v":0},null,null,null,null,null,{"$f":"'9計画'!AB29:AG29","v":0},null,null,null,null,null,{"$f":"'9計画'!AH29:AO29","v":0},null,null,null,null,null,null,null,false,null,null,null,null,null,null,null,null,null,null,null,null,null,null,null,null,null,null,null,null,"0",null,null,null,null,null,null,null,null,null,null,null,{"$f":"'9計画'!C29","v":"月"},null,{"$f":"'9計画'!E29","v":"00:00:00"},null,null,"～",{"$f":"'9計画'!I29","v":"00:00:00"},null,null,{"$f":"'9計画'!L29","v":"00:00:00"},null,null,"～",{"$f":"'9計画'!P29","v":"00:00:00"},null,null,"00:00:00",null,null,{"$f":"'9計画'!V29","v":"00:00:00"},null,null,null,null,null,{"$f":"'9計画'!AB29","v":0},null,null,null,null,null,{"$f":"'9計画'!AH29","v":0}]
[15,null,{"$f":"'9計画'!C30:D30","v":"火"},null,{"$f":"'9計画'!E30:G30","v":"00:00:00"},null,null,"～",{"$f":"'9計画'!I30:K30","v":"00:00:00"},null,null,{"$f":"'9計画'!L30:N30","v":"00:00:00"},null,null,"～",{"$f":"'9計画'!P30:R30","v":"00:00:00"},null,null,"00:00:00",null,null,{"$f":"'9計画'!V30:AA30","v":0},null,null,null,null,null,{"$f":"'9計画'!AB30:AG30","v":0},null,null,null,null,null,{"$f":"'9計画'!AH30:AO30","v":0},null,null,null,null,null,null,null,false,null,null,null,null,null,null,null,null,null,null,null,null,null,null,null,null,null,null,null,null,"0",null,null,null,null,null,null,null,null,null,null,null,{"$f":"'9計画'!C30","v":"火"},null,{"$f":"'9計画'!E30","v":"00:00:00"},null,null,"～",{"$f":"'9計画'!I30","v":"00:00:00"},null,null,{"$f":"'9計画'!L30","v":"00:00:00"},null,null,"～",{"$f":"'9計画'!P30","v":"00:00:00"},null,null,"00:00:00",null,null,{"$f":"'9計画'!V30","v":"00:00:00"},null,null,null,null,null,{"$f":"'9計画'!AB30","v":0},null,null,null,null,null,{"$f":"'9計画'!AH30","v":0}]
[16,null,{"$f":"'9計画'!C31:D31","v":"水"},null,{"$f":"'9計画'!E31:G31","v":"00:00:00"},null,null,"～",{"$f":"'9計画'!I31:K31","v":"00:00:00"},null,null,{"$f":"'9計画'!L31:N31","v":"00:00:00"},null,null,"～",{"$f":"'9計画'!P31:R31","v":"00:00:00"},null,null,"00:00:00",null,null,{"$f":"'9計画'!V31:AA31","v":0},null,null,null,null,null,{"$f":"'9計画'!AB31:AG31","v":0},null,null,null,null,null,{"$f":"'9計画'!AH31:AO31","v":0},null,null,null,null,null,null,null,false,null,null,null,null,null,null,null,null,null,null,null,null,null,null,null,null,null,null,null,null,"0",null,null,null,null,null,null,null,null,null,null,null,{"$f":"'9計画'!C31","v":"水"},null,{"$f":"'9計画'!E31","v":"00:00:00"},null,null,"～",{"$f":"'9計画'!I31","v":"00:00:00"},null,null,{"$f":"'9計画'!L31","v":"00:00:00"},null,null,"～",{"$f":"'9計画'!P31","v":"00:00:00"},null,null,"00:00:00",null,null,{"$f":"'9計画'!V31","v":"00:00:00"},null,null,null,null,null,{"$f":"'9計画'!AB31","v":0},null,null,null,null,null,{"$f":"'9計画'!AH31","v":0}]
[17,null,{"$f":"'9計画'!C32:D32","v":"木"},null,{"$f":"'9計画'!E32:G32","v":"00:00:00"},null,null,"～",{"$f":"'9計画'!I32:K32","v":"00:00:00"},null,null,{"$f":"'9計画'!L32:N32","v":"00:00:00"},null,null,"～",{"$f":"'9計画'!P32:R32","v":"00:00:00"},null,null,"00:00:00",null,null,{"$f":"'9計画'!V32:AA32","v":0},null,null,null,null,null,{"$f":"'9計画'!AB32:AG32","v":0},null,null,null,null,null,{"$f":"'9計画'!AH32:AO32","v":0},null,null,null,null,null,null,null,false,null,null,null,null,null,null,null,null,null,null,null,null,null,null,null,null,null,null,null,null,"0",null,null,null,null,null,null,null,null,null,null,null,{"$f":"'9計画'!C32","v":"木"},null,{"$f":"'9計画'!E32","v":"00:00:00"},null,null,"～",{"$f":"'9計画'!I32","v":"00:00:00"},null,null,{"$f":"'9計画'!L32","v":"00:00:00"},null,null,"～",{"$f":"'9計画'!P32","v":"00:00:00"},null,null,"00:00:00",null,null,{"$f":"'9計画'!V32","v":"00:00:00"},null,null,null,null,null,{"$f":"'9計画'!AB32","v":0},null,null,null,null,null,{"$f":"'9計画'!AH32","v":0}]
[18,null,{"$f":"'9計画'!C33:D33","v":"金"},null,{"$f":"'9計画'!E33:G33","v":"00:00:00"},null,null,"～",{"$f":"'9計画'!I33:K33","v":"00:00:00"},null,null,{"$f":"'9計画'!L33:N33","v":"00:00:00"},null,null,"～",{"$f":"'9計画'!P33:R33","v":"00:00:00"},null,null,"00:00:00",null,null,{"$f":"'9計画'!V33:AA33","v":0},null,null,null,null,null,{"$f":"'9計画'!AB33:AG33","v":0},null,null,null,null,null,{"$f":"'9計画'!AH33:AO33","v":0},null,null,null,null,null,null,null,false,null,null,null,null,null,null,null,null,null,null,null,null,null,null,null,null,null,null,null,null,"0",null,null,null,null,null,null,null,null,null,null,null,{"$f":"'9計画'!C33","v":"金"},null,{"$f":"'9計画'!E33","v":"00:00:00"},null,null,"～",{"$f":"'9計画'!I33","v":"00:00:00"},null,null,{"$f":"'9計画'!L33","v":"00:00:00"},null,null,"～",{"$f":"'9計画'!P33","v":"00:00:00"},null,null,"00:00:00",null,null,{"$f":"'9計画'!V33","v":"00:00:00"},null,null,null,null,null,{"$f":"'9計画'!AB33","v":0},null,null,null,null,null,{"$f":"'9計画'!AH33","v":0}]
[19,null,{"$f":"'9計画'!C34:D34","v":"土"},null,{"$f":"'9計画'!E34:G34","v":"00:00:00"},null,null,"～",{"$f":"'9計画'!I34:K34","v":"00:00:00"},null,null,{"$f":"'9計画'!L34:N34","v":"00:00:00"},null,null,"～",{"$f":"'9計画'!P34:R34","v":"00:00:00"},null,null,"00:00:00",null,null,{"$f":"'9計画'!V34:AA34","v":0},null,null,null,null,null,{"$f":"'9計画'!AB34:AG34","v":0},null,null,null,null,null,{"$f":"'9計画'!AH34:AO34","v":0},null,null,null,null,null,null,null,false,null,null,null,null,null,null,null,null,null,null,null,null,null,null,null,null,null,null,null,null,"0",null,null,null,null,null,null,null,null,null,null,null,{"$f":"'9計画'!C34","v":"土"},null,{"$f":"'9計画'!E34","v":"00:00:00"},null,null,"～",{"$f":"'9計画'!I34","v":"00:00:00"},null,null,{"$f":"'9計画'!L34","v":"00:00:00"},null,null,"～",{"$f":"'9計画'!P34","v":"00:00:00"},null,null,"00:00:00",null,null,{"$f":"'9計画'!V34","v":"00:00:00"},null,null,null,null,null,{"$f":"'9計画'!AB34","v":0},null,null,null,null,null,{"$f":"'9計画'!AH34","v":0}]
[20,null,{"$f":"'9計画'!C35:D35","v":"日"},null,{"$f":"'9計画'!E35:G35","v":"00:00:00"},null,null,"～",{"$f":"'9計画'!I35:K35","v":"00:00:00"},null,null,{"$f":"'9計画'!L35:N35","v":"00:00:00"},null,null,"～",{"$f":"'9計画'!P35:R35","v":"00:00:00"},null,null,"00:00:00",null,null,{"$f":"'9計画'!V35:AA35","v":0},null,null,null,null,null,{"$f":"'9計画'!AB35:AG35","v":0},null,null,null,null,null,{"$f":"'9計画'!AH35:AO35","v":0},null,null,null,null,null,null,null,false,null,null,null,null,null,null,null,null,null,null,null,null,null,null,null,null,null,null,null,null,"0",null,null,null,null,null,null,null,null,null,null,null,{"$f":"'9計画'!C35","v":"日"},null,{"$f":"'9計画'!E35","v":"00:00:00"},null,null,"～",{"$f":"'9計画'!I35","v":"00:00:00"},null,null,{"$f":"'9計画'!L35","v":"00:00:00"},null,null,"～",{"$f":"'9計画'!P35","v":"00:00:00"},null,null,"00:00:00",null,null,{"$f":"'9計画'!V35","v":"00:00:00"},null,null,null,null,null,{"$f":"'9計画'!AB35","v":0},null,null,null,null,null,{"$f":"'9計画'!AH35","v":0}]
[21,null,{"$f":"'9計画'!C36:D36","v":"月"},null,{"$f":"'9計画'!E36:G36","v":"00:00:00"},null,null,"～",{"$f":"'9計画'!I36:K36","v":"00:00:00"},null,null,{"$f":"'9計画'!L36:N36","v":"00:00:00"},null,null,"～",{"$f":"'9計画'!P36:R36","v":"00:00:00"},null,null,"00:00:00",null,null,{"$f":"'9計画'!V36:AA36","v":0},null,null,null,null,null,{"$f":"'9計画'!AB36:AG36","v":0},null,null,null,null,null,{"$f":"'9計画'!AH36:AO36","v":0},null,null,null,null,null,null,null,false,null,null,null,null,null,null,null,null,null,null,null,null,null,null,null,null,null,null,null,null,"0",null,null,null,null,null,null,null,null,null,null,null,{"$f":"'9計画'!C36","v":"月"},null,{"$f":"'9計画'!E36","v":"00:00:00"},null,null,"～",{"$f":"'9計画'!I36","v":"00:00:00"},null,null,{"$f":"'9計画'!L36","v":"00:00:00"},null,null,"～",{"$f":"'9計画'!P36","v":"00:00:00"},null,null,"00:00:00",null,null,{"$f":"'9計画'!V36","v":"00:00:00"},null,null,null,null,null,{"$f":"'9計画'!AB36","v":0},null,null,null,null,null,{"$f":"'9計画'!AH36","v":0}]
[22,null,{"$f":"'9計画'!C37:D37","v":"火"},null,{"$f":"'9計画'!E37:G37","v":"00:00:00"},null,null,"～",{"$f":"'9計画'!I37:K37","v":"00:00:00"},null,null,{"$f":"'9計画'!L37:N37","v":"00:00:00"},null,null,"～",{"$f":"'9計画'!P37:R37","v":"00:00:00"},null,null,"00:00:00",null,null,{"$f":"'9計画'!V37:AA37","v":0},null,null,null,null,null,{"$f":"'9計画'!AB37:AG37","v":0},null,null,null,null,null,{"$f":"'9計画'!AH37:AO37","v":0},null,null,null,null,null,null,null,false,null,null,null,null,null,null,null,null,null,null,null,null,null,null,null,null,null,null,null,null,"0",null,null,null,null,null,null,null,null,null,null,null,{"$f":"'9計画'!C37","v":"火"},null,{"$f":"'9計画'!E37","v":"00:00:00"},null,null,"～",{"$f":"'9計画'!I37","v":"00:00:00"},null,null,{"$f":"'9計画'!L37","v":"00:00:00"},null,null,"～",{"$f":"'9計画'!P37","v":"00:00:00"},null,null,"00:00:00",null,null,{"$f":"'9計画'!V37","v":"00:00:00"},null,null,null,null,null,{"$f":"'9計画'!AB37","v":0},null,null,null,null,null,{"$f":"'9計画'!AH37","v":0}]
[23,null,{"$f":"'9計画'!C38:D38","v":"水"},null,{"$f":"'9計画'!E38:G38","v":"00:00:00"},null,null,"～",{"$f":"'9計画'!I38:K38","v":"00:00:00"},null,null,{"$f":"'9計画'!L38:N38","v":"00:00:00"},null,null,"～",{"$f":"'9計画'!P38:R38","v":"00:00:00"},null,null,"00:00:00",null,null,{"$f":"'9計画'!V38:AA38","v":0},null,null,null,null,null,{"$f":"'9計画'!AB38:AG38","v":0},null,null,null,null,null,{"$f":"'9計画'!AH38:AO38","v":0},null,null,null,null,null,null,null,false,null,null,null,null,null,null,null,null,null,null,null,null,null,null,null,null,null,null,null,null,"0",null,null,null,null,null,null,null,null,null,null,null,{"$f":"'9計画'!C38","v":"水"},null,{"$f":"'9計画'!E38","v":"00:00:00"},null,null,"～",{"$f":"'9計画'!I38","v":"00:00:00"},null,null,{"$f":"'9計画'!L38","v":"00:00:00"},null,null,"～",{"$f":"'9計画'!P38","v":"00:00:00"},null,null,"00:00:00",null,null,{"$f":"'9計画'!V38","v":"00:00:00"},null,null,null,null,null,{"$f":"'9計画'!AB38","v":0},null,null,null,null,null,{"$f":"'9計画'!AH38","v":0}]
[24,null,{"$f":"'9計画'!C39:D39","v":"木"},null,{"$f":"'9計画'!E39:G39","v":"00:00:00"},null,null,"～",{"$f":"'9計画'!I39:K39","v":"00:00:00"},null,null,{"$f":"'9計画'!L39:N39","v":"00:00:00"},null,null,"～",{"$f":"'9計画'!P39:R39","v":"00:00:00"},null,null,"00:00:00",null,null,{"$f":"'9計画'!V39:AA39","v":0},null,null,null,null,null,{"$f":"'9計画'!AB39:AG39","v":0},null,null,null,null,null,{"$f":"'9計画'!AH39:AO39","v":0},null,null,null,null,null,null,null,false,null,null,null,null,null,null,null,null,null,null,null,null,null,null,null,null,null,null,null,null,"0",null,null,null,null,null,null,null,null,null,null,null,{"$f":"'9計画'!C39","v":"木"},null,{"$f":"'9計画'!E39","v":"00:00:00"},null,null,"～",{"$f":"'9計画'!I39","v":"00:00:00"},null,null,{"$f":"'9計画'!L39","v":"00:00:00"},null,null,"～",{"$f":"'9計画'!P39","v":"00:00:00"},null,null,"00:00:00",null,null,{"$f":"'9計画'!V39","v":"00:00:00"},null,null,null,null,null,{"$f":"'9計画'!AB39","v":0},null,null,null,null,null,{"$f":"'9計画'!AH39","v":0}]
[25,null,{"$f":"'9計画'!C40:D40","v":"金"},null,{"$f":"'9計画'!E40:G40","v":"00:00:00"},null,null,"～",{"$f":"'9計画'!I40:K40","v":"00:00:00"},null,null,{"$f":"'9計画'!L40:N40","v":"00:00:00"},null,null,"～",{"$f":"'9計画'!P40:R40","v":"00:00:00"},null,null,"00:00:00",null,null,{"$f":"'9計画'!V40:AA40","v":0},null,null,null,null,null,{"$f":"'9計画'!AB40:AG40","v":0},null,null,null,null,null,{"$f":"'9計画'!AH40:AO40","v":0},null,null,null,null,null,null,null,false,null,null,null,null,null,null,null,null,null,null,null,null,null,null,null,null,null,null,null,null,"0",null,null,null,null,null,null,null,null,null,null,null,{"$f":"'9計画'!C40","v":"金"},null,{"$f":"'9計画'!E40","v":"00:00:00"},null,null,"～",{"$f":"'9計画'!I40","v":"00:00:00"},null,null,{"$f":"'9計画'!L40","v":"00:00:00"},null,null,"～",{"$f":"'9計画'!P40","v":"00:00:00"},null,null,"00:00:00",null,null,{"$f":"'9計画'!V40","v":"00:00:00"},null,null,null,null,null,{"$f":"'9計画'!AB40","v":0},null,null,null,null,null,{"$f":"'9計画'!AH40","v":0}]
[26,null,{"$f":"'9計画'!C41:D41","v":"土"},null,{"$f":"'9計画'!E41:G41","v":"00:00:00"},null,null,"～",{"$f":"'9計画'!I41:K41","v":"00:00:00"},null,null,{"$f":"'9計画'!L41:N41","v":"00:00:00"},null,null,"～",{"$f":"'9計画'!P41:R41","v":"00:00:00"},null,null,"00:00:00",null,null,{"$f":"'9計画'!V41:AA41","v":0},null,null,null,null,null,{"$f":"'9計画'!AB41:AG41","v":0},null,null,null,null,null,{"$f":"'9計画'!AH41:AO41","v":0},null,null,null,null,null,null,null,false,null,null,null,null,null,null,null,null,null,null,null,null,null,null,null,null,null,null,null,null,"0",null,null,null,null,null,null,null,null,null,null,null,{"$f":"'9計画'!C41","v":"土"},null,{"$f":"'9計画'!E41","v":"00:00:00"},null,null,"～",{"$f":"'9計画'!I41","v":"00:00:00"},null,null,{"$f":"'9計画'!L41","v":"00:00:00"},null,null,"～",{"$f":"'9計画'!P41","v":"00:00:00"},null,null,"00:00:00",null,null,{"$f":"'9計画'!V41","v":"00:00:00"},null,null,null,null,null,{"$f":"'9計画'!AB41","v":0},null,null,null,null,null,{"$f":"'9計画'!AH41","v":0}]
[27,null,{"$f":"'9計画'!C42:D42","v":"日"},null,{"$f":"'9計画'!E42:G42","v":"00:00:00"},null,null,"～",{"$f":"'9計画'!I42:K42","v":"00:00:00"},null,null,{"$f":"'9計画'!L42:N42","v":"00:00:00"},null,null,"～",{"$f":"'9計画'!P42:R42","v":"00:00:00"},null,null,"00:00:00",null,null,{"$f":"'9計画'!V42:AA42","v":0},null,null,null,null,null,{"$f":"'9計画'!AB42:AG42","v":0},null,null,null,null,null,{"$f":"'9計画'!AH42:AO42","v":0},null,null,null,null,null,null,null,false,null,null,null,null,null,null,null,null,null,null,null,null,null,null,null,null,null,null,null,null,"0",null,null,null,null,null,null,null,null,null,null,null,{"$f":"'9計画'!C42","v":"日"},null,{"$f":"'9計画'!E42","v":"00:00:00"},null,null,"～",{"$f":"'9計画'!I42","v":"00:00:00"},null,null,{"$f":"'9計画'!L42","v":"00:00:00"},null,null,"～",{"$f":"'9計画'!P42","v":"00:00:00"},null,null,"00:00:00",null,null,{"$f":"'9計画'!V42","v":"00:00:00"},null,null,null,null,null,{"$f":"'9計画'!AB42","v":0},null,null,null,null,null,{"$f":"'9計画'!AH42","v":0}]
[28,null,{"$f":"'9計画'!C43:D43","v":"月"},null,{"$f":"'9計画'!E43:G43","v":"00:00:00"},null,null,"～",{"$f":"'9計画'!I43:K43","v":"00:00:00"},null,null,{"$f":"'9計画'!L43:N43","v":"00:00:00"},null,null,"～",{"$f":"'9計画'!P43:R43","v":"00:00:00"},null,null,"00:00:00",null,null,{"$f":"'9計画'!V43:AA43","v":0},null,null,null,null,null,{"$f":"'9計画'!AB43:AG43","v":0},null,null,null,null,null,{"$f":"'9計画'!AH43:AO43","v":0},null,null,null,null,null,null,null,false,null,null,null,null,null,null,null,null,null,null,null,null,null,null,null,null,null,null,null,null,"0",null,null,null,null,null,null,null,null,null,null,null,{"$f":"'9計画'!C43","v":"月"},null,{"$f":"'9計画'!E43","v":"00:00:00"},null,null,"～",{"$f":"'9計画'!I43","v":"00:00:00"},null,null,{"$f":"'9計画'!L43","v":"00:00:00"},null,null,"～",{"$f":"'9計画'!P43","v":"00:00:00"},null,null,"00:00:00",null,null,{"$f":"'9計画'!V43","v":"00:00:00"},null,null,null,null,null,{"$f":"'9計画'!AB43","v":0},null,null,null,null,null,{"$f":"'9計画'!AH43","v":0}]
[29,null,{"$f":"'9計画'!C44:D44","v":"火"},null,{"$f":"'9計画'!E44:G44","v":"00:00:00"},null,null,"～",{"$f":"'9計画'!I44:K44","v":"00:00:00"},null,null,{"$f":"'9計画'!L44:N44","v":"00:00:00"},null,null,"～",{"$f":"'9計画'!P44:R44","v":"00:00:00"},null,null,"00:00:00",null,null,{"$f":"'9計画'!V44:AA44","v":0},null,null,null,null,null,{"$f":"'9計画'!AB44:AG44","v":0},null,null,null,null,null,{"$f":"'9計画'!AH44:AO44","v":0},null,null,null,null,null,null,null,false,null,null,null,null,null,null,null,null,null,null,null,null,null,null,null,null,null,null,null,null,"0",null,null,null,null,null,null,null,null,null,null,null,{"$f":"'9計画'!C44","v":"火"},null,{"$f":"'9計画'!E44","v":"00:00:00"},null,null,"～",{"$f":"'9計画'!I44","v":"00:00:00"},null,null,{"$f":"'9計画'!L44","v":"00:00:00"},null,null,"～",{"$f":"'9計画'!P44","v":"00:00:00"},null,null,"00:00:00",null,null,{"$f":"'9計画'!V44","v":"00:00:00"},null,null,null,null,null,{"$f":"'9計画'!AB44","v":0},null,null,null,null,null,{"$f":"'9計画'!AH44","v":0}]
[30,null,{"$f":"'9計画'!C45:D45","v":"水"},null,{"$f":"'9計画'!E45:G45","v":"00:00:00"},null,null,"～",{"$f":"'9計画'!I45:K45","v":"00:00:00"},null,null,{"$f":"'9計画'!L45:N45","v":"00:00:00"},null,null,"～",{"$f":"'9計画'!P45:R45","v":"00:00:00"},null,null,"00:00:00",null,null,{"$f":"'9計画'!V45:AA45","v":0},null,null,null,null,null,{"$f":"'9計画'!AB45:AG45","v":0},null,null,null,null,null,{"$f":"'9計画'!AH45:AO45","v":0},null,null,null,null,null,null,null,false,null,null,null,null,null,null,null,null,null,null,null,null,null,null,null,null,null,null,null,null,"0",null,null,null,null,null,null,null,null,null,null,null,{"$f":"'9計画'!C45","v":"水"},null,{"$f":"'9計画'!E45","v":"00:00:00"},null,null,"～",{"$f":"'9計画'!I45","v":"00:00:00"},null,null,{"$f":"'9計画'!L45","v":"00:00:00"},null,null,"～",{"$f":"'9計画'!P45","v":"00:00:00"},null,null,"00:00:00",null,null,{"$f":"'9計画'!V45","v":"00:00:00"},null,null,null,null,null,{"$f":"'9計画'!AB45","v":0},null,null,null,null,null,{"$f":"'9計画'!AH45","v":0}]
[null,null,{"$f":"'9計画'!C46:D46","v":""},null,{"$f":"'9計画'!E46:G46","v":"00:00:00"},null,null,"～",{"$f":"'9計画'!I46:K46","v":"00:00:00"},null,null,{"$f":"'9計画'!L46:N46","v":"00:00:00"},null,null,"～",{"$f":"'9計画'!P46:R46","v":"00:00:00"},null,null,"00:00:00",null,null,{"$f":"'9計画'!V46:AA46","v":0},null,null,null,null,null,{"$f":"'9計画'!AB46:AG46","v":0},null,null,null,null,null,{"$f":"'9計画'!AH46:AO46","v":0},null,null,null,null,null,null,null,false,null,null,null,null,null,null,null,null,null,null,null,null,null,null,null,null,null,null,null,null,"0",null,null,null,null,null,null,null,null,null,null,null,{"$f":"'9計画'!C46","v":""},null,{"$f":"'9計画'!E46","v":"00:00:00"},null,null,"～",{"$f":"'9計画'!I46","v":"00:00:00"},null,null,{"$f":"'9計画'!L46","v":"00:00:00"},null,null,"～",{"$f":"'9計画'!P46","v":"00:00:00"},null,null,"00:00:00",null,null,{"$f":"'9計画'!V46","v":"00:00:00"},null,null,null,null,null,{"$f":"'9計画'!AB46","v":0},null,null,null,null,null,{"$f":"'9計画'!AH46","v":0}]
[null,null,null,null,null,null,null,null,null,null,null,null,null,null,null,null,null,null,{"$f":"SUM(S16:U46)","v":0},null,null,null,null,null,null,null,null,null,null,null,null,null,null,null,null,null,null,null,null,null,null,null,null,null,null,null,null,null,null,null,null,null,null,null,null,null,null,null,null,null,null,null,null,null,null,null,null,null,null,null,null,null,null,null,null,null,null,null,null,null,null,null,null,null,null,null,null,null,null,null,{"$f":"SUM(CM16:CO46)","v":0}]
[]
["月",null,null,4,null,5,null,6,null,7,null,8,null,9,null,10,null,11,null,12,null,1,null,2,null,3,null,"計"]
["時間",null,null,{"$f":"'４実績'!D50","v":0},null,{"$f":"'５実績'!F50","v":0},null,{"$f":"'6実績'!H50","v":0},null,{"$f":"'7実績'!J50","v":0},null,{"$f":"'8実績'!L50:M50","v":0},null,{"$f":"S47","v":0},null,null,null,null,null,null,null,null,null,null,null,null,null,{"$f":"SUM(D50:AA50)","v":0},null,null,null,null,"時間",null,null,null,null,null,null,null,null,null,null,null,null,null,null,null,null,null,null,null,null,null,null,null,null,null,null,null,null,null,null,null,null,null,null,null,null,null,null,null,null,null,null,{"$f":"'４実績'!D50","v":0},null,{"$f":"'５実績'!F50","v":0},null,{"$f":"'6実績'!H50","v":0},null,{"$f":"'7実績'!J50","v":0},null,{"$f":"'8実績'!L50","v":0},null,{"$f":"CM47","v":0},null,null,null,null,null,null,null,null,null,null,null,null,null,{"$f":"SUM(BX50:CU50)","v":0}]
["活動日数",null,null,{"$f":"'４実績'!D51","v":0},null,{"$f":"'５実績'!F51","v":0},null,{"$f":"'6実績'!H51","v":0},null,{"$f":"'7実績'!J51","v":0},null,{"$f":"'8実績'!L51:M51","v":0},null,{"$f":"COUNTIF(S16:U46,\">0\")","v":0},null,null,null,null,null,null,null,null,null,null,null,null,null,{"$f":"SUM(D51:AA51)","v":0},null,null,null,null,"活動日数",null,null,null,null,null,null,null,null,null,null,null,null,null,null,null,null,null,null,null,null,null,null,null,null,null,null,null,null,null,null,null,null,null,null,null,null,null,null,null,null,null,null,{"$f":"'４実績'!D51","v":0},null,{"$f":"'５実績'!F51","v":0},null,{"$f":"'6実績'!H51","v":0},null,{"$f":"'7実績'!J51","v":0},null,{"$f":"'8実績'!L51","v":0},null,{"$f":"COUNTIF(CM16:CO46,\">0\")","v":0},null,null,null,null,null,null,null,null,null,null,null,null,null,{"$f":"SUM(BX51:CU51)","v":0}]
["休養日数",null,null,{"$f":"'４実績'!D52","v":30},null,{"$f":"'５実績'!F52","v":31},null,{"$f":"'6実績'!H52","v":30},null,{"$f":"'7実績'!J52","v":31},null,{"$f":"'8実績'!L52:M52","v":31},null,{"$f":"COUNTIF(S16:U45,\"0:00\")","v":30},null,null,null,null,null,null,null,null,null,null,null,null,null,{"$f":"SUM(D52:AA52)","v":183},null,null,null,null,"休養日数",null,null,null,null,null,null,null,null,null,null,null,null,null,null,null,null,null,null,null,null,null,null,null,null,null,null,null,null,null,null,null,null,null,null,null,null,null,null,null,null,null,null,{"$f":"'４実績'!D52","v":30},null,{"$f":"'５実績'!F52","v":31},null,{"$f":"'6実績'!H52","v":30},null,{"$f":"'7実績'!J52","v":31},null,{"$f":"'8実績'!L52","v":31},null,{"$f":"COUNTIF(CM16:CO45,\"0:00\")","v":30},null,null,null,null,null,null,null,null,null,null,null,null,null,{"$f":"SUM(BX52:CU52)","v":183}]
[null,null,null,null,null,null,null,null,null,null,null,null,null,null,null,null,null,null,null,null,null,null,null,null,null,null,null,{"$f":"AB50/AB51","v":{"$error":"#DIV/0!"}},null,null,null,null,"平均時間/日",null,null,null,null,null,null,null,null,null,null,null,null,null,null,null,null,null,null,null,null,null,null,null,null,null,null,null,null,null,null,null,null,null,null,null,null,null,null,null,null,null,null,null,null,null,null,null,null,null,null,null,null,null,null,null,null,null,null,null,null,null,null,null,null,null,null,{"$f":"CV50/CV51","v":{"$error":"#DIV/0!"}}]

{"sheet":"10実績","index":19,"n_rows":53,"n_cols":112,"rows_kept":53,"cut":false,"hidden":false,"merged":[[51,91,51,92],[51,93,51,94],[51,95,51,96],[51,97,51,98],[51,99,51,103],[51,104,51,106],[52,99,52,103],[52,104,52,106],[51,72,51,74],[51,75,51,76],[51,77,51,78],[51,79,51,80],[51,81,51,82],[51,83,51,84],[51,85,51,86],[51,87,51,88],[51,89,51,90],[50,91,50,92],[50,93,50,94],[50,95,50,96],[50,97,50,98],[50,99,50,103],[50,104,50,106],[49,72,49,74],[49,75,49,76],[49,77,49,78],[50,72,50,74],[50,75,50,76],[50,77,50,78],[50,79,50,80],[50,81,50,82],[50,83,50,84],[50,85,50,86],[50,87,50,88],[50,89,50,90],[49,79,49,80],[49,81,49,82],[49,83,49,84],[49,85,49,86],[49,87,49,88],[49,89,49,90],[46,90,46,92],[46,104,48,108],[46,109,46,112],[47,109,48,112],[48,91,48,92],[48,93,48,94],[48,95,48,96],[48,97,48,98],[48,99,48,103],[49,91,49,92],[49,93,49,94],[49,95,49,96],[49,97,49,98],[49,99,49,103],[49,104,49,106],[48,72,48,74],[48,75,48,76],[48,77,48,78],[48,79,48,80],[48,81,48,82],[48,83,48,84],[48,85,48,86],[48,87,48,88],[48,89,48,90],[44,105,44,112],[45,72,45,73],[45,74,45,75],[45,76,45,78],[45,80,45,82],[45,83,45,85],[45,87,45,89],[45,90,45,92],[45,93,45,98],[45,99,45,104],[45,105,45,112],[44,72,44,73],[44,74,44,75],[44,76,44,78],[44,80,44,82],[44,83,44,85],[44,87,44,89],[44,90,44,92],[44,93,44,98],[44,99,44,104],[42,105,42,112],[43,72,43,73],[43,74,43,75],[43,76,43,78],[43,80,43,82],[43,83,43,85],[43,87,43,89],[43,90,43,92],[43,93,43,98],[43,99,43,104],[43,105,43,112],[42,72,42,73],[42,74,42,75],[42,76,42,78],[42,80,42,82],[42,83,42,85],[42,87,42,89],[42,90,42,92],[42,93,42,98],[42,99,42,104],[40,105,40,112],[41,72,41,73],[41,74,41,75],[41,76,41,78],[41,80,41,82],[41,83,41,85],[41,87,41,89],[41,90,41,92],[41,93,41,98],[41,99,41,104],[41,105,41,112],[40,72,40,73],[40,74,40,75],[40,76,40,78],[40,80,40,82],[40,83,40,85],[40,87,40,89],[40,90,40,92],[40,93,40,98],[40,99,40,104],[38,105,38,112],[39,72,39,73],[39,74,39,75],[39,76,39,78],[39,80,39,82],[39,83,39,85],[39,87,39,89],[39,90,39,92],[39,93,39,98],[39,99,39,104],[39,105,39,112],[38,72,38,73],[38,74,38,75],[38,76,38,78],[38,80,38,82],[38,83,38,85],[38,87,38,89],[38,90,38,92],[38,93,38,98],[38,99,38,104],[36,105,36,112],[37,72,37,73],[37,74,37,75],[37,76,37,78],[37,80,37,82],[37,83,37,85],[37,87,37,89],[37,90,37,92],[37,93,37,98],[37,99,37,104],[37,105,37,112],[36,72,36,73],[36,74,36,75],[36,76,36,78],[36,80,36,82],[36,83,36,85],[36,87,36,89],[36,90,36,92],[36,93,36,98],[36,99,36,104],[34,105,34,112],[35,72,35,73],[35,74,35,75],[35,76,35,78],[35,80,35,82],[35,83,35,85],[35,87,35,89],[35,90,35,92],[35,93,35,98],[35,99,35,104],[35,105,35,112],[34,72,34,73],[34,74,34,75],[34,76,34,78],[34,80,34,82],[34,83,34,85],[34,87,34,89],[34,90,34,92],[34,93,34,98],[34,99,34,104],[32,105,32,112],[33,72,33,73],[33,74,33,75],[33,76,33,78],[33,80,33,82],[33,83,33,85],[33,87,33,89],[33,90,33,92],[33,93,33,98],[33,99,33,104],[33,105,33,112],[32,72,32,73],[32,74,32,75],[32,76,32,78],[32,80,32,82],[32,83,32,85],[32,87,32,89],[32,90,32,92],[32,93,32,98],[32,99,32,104],[30,105,30,112],[31,72,31,73],[31,74,31,75],[31,76,31,78],[31,80,31,82],[31,83,31,85],[31,87,31,89],[31,90,31,92],[31,93,31,98],[31,99,31,104],[31,105,31,112],[30,72,30,73],[30,74,30,75],[30,76,30,78],[30,80,30,82],[30,83,30,85],[30,87,30,89],[30,90,30,92],[30,93,30,98],[30,99,30,104],[28,105,28,112],[29,72,29,73],[29,74,29,75],[29,76,29,78],[29,80,29,82],[29,83,29,85],[29,87,29,89],[29,90,29,92],[29,93,29,98],[29,99,29,104],[29,105,29,112],[28,72,28,73],[28,74,28,75],[28,76,28,78],[28,80,28,82],[28,83,28,85],[28,87,28,89],[28,90,28,92],[28,93,28,98],[28,99,28,104],[26,105,26,112],[27,72,27,73],[27,74,27,75],[27,76,27,78],[27,80,27,82],[27,83,27,85],[27,87,27,89],[27,90,27,92],[27,93,27,98],[27,99,27,104],[27,105,27,112],[26,72,26,73],[26,74,26,75],[26,76,26,78],[26,80,26,82],[26,83,26,85],[26,87,26,89],[26,90,26,92],[26,93,26,98],[26,99,26,104],[24,105,24,112],[25,72,25,73],[25,74,25,75],[25,76,25,78],[25,80,25,82],[25,83,25,85],[25,87,25,89],[25,90,25,92],[25,93,25,98],[25,99,25,104],[25,105,25,112],[24,72,24,73],[24,74,24,75],[24,76,24,78],[24,80,24,82],[24,83,24,85],[24,87,24,89],[24,90,24,92],[24,93,24,98],[24,99,24,104],[22,105,22,112],[23,72,23,73],[23,74,23,75],[23,76,23,78],[23,80,23,82],[23,83,23,85],[23,87,23,89],[23,90,23,92],[23,93,23,98],[23,99,23,104],[23,105,23,112],[22,72,22,73],[22,74,22,75],[22,76,22,78],[22,80,22,82],[22,83,22,85],[22,87,22,89],[22,90,22,92],[22,93,22,98],[22,99,22,104],[20,105,20,112],[21,72,21,73],[21,74,21,75],[21,76,21,78],[21,80,21,82],[21,83,21,85],[21,87,21,89],[21,90,21,92],[21,93,21,98],[21,99,21,104],[21,105,21,112],[20,72,20,73],[20,74,20,75],[20,76,20,78],[20,80,20,82],[20,83,20,85],[20,87,20,89],[20,90,20,92],[20,93,20,98],[20,99,20,104],[18,105,18,112],[19,72,19,73],[19,74,19,75],[19,76,19,78],[19,80,19,82],[19,83,19,85],[19,87,19,89],[19,90,19,92],[19,93,19,98],[19,99,19,104],[19,105,19,112],[18,72,18,73],[18,74,18,75],[18,76,18,78],[18,80,18,82],[18,83,18,85],[18,87,18,89],[18,90,18,92],[18,93,18,98],[18,99,18,104],[16,105,16,112],[17,72,17,73],[17,74,17,75],[17,76,17,78],[17,80,17,82],[17,83,17,85],[17,87,17,89],[17,90,17,92],[17,93,17,98],[17,99,17,104],[17,105,17,112],[16,72,16,73],[16,74,16,75],[16,76,16,78],[16,80,16,82],[16,83,16,85],[16,87,16,89],[16,90,16,92],[16,93,16,98],[16,99,16,104],[14,72,14,73],[14,74,14,75],[14,76,14,82],[14,83,14,89],[14,90,14,92],[14,93,14,104],[14,105,14,112],[15,72,15,73],[15,74,15,75],[15,76,15,78],[15,80,15,82],[15,83,15,85],[15,87,15,89],[15,90,15,92],[15,93,15,98],[15,99,15,104],[15,105,15,112],[9,111,10,112],[11,73,12,74],[11,75,12,79],[11,80,12,81],[11,82,12,90],[11,91,12,92],[11,93,12,94],[11,95,12,99],[11,100,12,101],[11,102,12,110],[11,111,12,112],[9,73,10,74],[9,75,10,79],[9,80,10,81],[9,82,10,90],[9,91,10,92],[9,93,10,94],[9,95,10,99],[9,100,10,101],[9,102,10,110],[6,109,6,110],[6,111,6,112],[7,99,7,100],[7,101,7,102],[7,103,7,104],[7,105,7,106],[7,107,7,108],[7,109,7,110],[7,111,7,112],[6,72,7,76],[6,77,7,79],[6,80,7,94],[6,96,7,98],[6,99,6,100],[6,101,6,102],[6,103,6,104],[6,105,6,106],[6,107,6,108],[1,110,2,112],[2,72,4,75],[2,76,4,79],[2,80,4,83],[2,84,4,87],[2,88,4,91],[2,92,4,95],[3,97,4,99],[3,100,4,109],[3,110,4,112],[0,72,0,75],[1,72,1,75],[1,76,1,79],[1,80,1,83],[1,84,1,87],[1,88,1,91],[1,92,1,95],[1,97,2,99],[1,100,2,109],[41,42,41,45],[42,42,42,45],[43,42,43,45],[44,42,44,45],[45,42,45,45],[32,42,32,45],[33,42,33,45],[34,42,34,45],[35,42,35,45],[36,42,36,45],[37,42,37,45],[38,42,38,45],[39,42,39,45],[40,42,40,45],[23,42,23,45],[24,42,24,45],[25,42,25,45],[26,42,26,45],[27,42,27,45],[28,42,28,45],[29,42,29,45],[30,42,30,45],[31,42,31,45],[14,42,14,45],[15,42,15,45],[16,42,16,45],[17,42,17,45],[18,42,18,45],[19,42,19,45],[20,42,20,45],[21,42,21,45],[22,42,22,45],[0,0,0,3],[1,0,1,3],[1,4,1,7],[1,8,1,11],[1,12,1,15],[1,16,1,19],[1,20,1,23],[1,25,2,27],[1,28,2,37],[1,38,2,40],[2,0,4,3],[2,4,4,7],[2,8,4,11],[2,12,4,15],[2,16,4,19],[2,20,4,23],[3,25,4,27],[3,28,4,37],[3,38,4,40],[6,0,7,4],[6,5,7,7],[6,8,7,22],[6,24,7,26],[6,27,6,28],[6,29,6,30],[6,31,6,32],[6,33,6,34],[6,35,6,36],[9,23,10,27],[9,28,10,29],[9,30,10,38],[6,37,6,38],[6,39,6,40],[7,27,7,28],[7,29,7,30],[7,31,7,32],[7,33,7,34],[7,35,7,36],[7,37,7,38],[7,39,7,40],[11,39,12,40],[14,0,14,1],[14,2,14,3],[14,4,14,10],[14,11,14,17],[14,18,14,20],[14,21,14,32],[14,33,14,40],[9,39,10,40],[11,1,12,2],[11,3,12,7],[11,8,12,9],[11,10,12,18],[11,19,12,20],[11,21,12,22],[11,23,12,27],[11,28,12,29],[11,30,12,38],[9,1,10,2],[9,3,10,7],[9,8,10,9],[9,10,10,18],[9,19,10,20],[9,21,10,22],[15,18,15,20],[15,21,15,26],[15,27,15,32],[15,33,15,40],[16,0,16,1],[16,2,16,3],[16,4,16,6],[16,8,16,10],[16,11,16,13],[16,15,16,17],[15,0,15,1],[15,2,15,3],[15,4,15,6],[15,8,15,10],[15,11,15,13],[15,15,15,17],[16,18,16,20],[16,21,16,26],[16,27,16,32],[16,33,16,40],[17,33,17,40],[18,0,18,1],[18,2,18,3],[18,4,18,6],[18,8,18,10],[18,11,18,13],[18,15,18,17],[18,18,18,20],[18,21,18,26],[18,27,18,32],[18,33,18,40],[17,0,17,1],[17,2,17,3],[17,4,17,6],[17,8,17,10],[17,11,17,13],[17,15,17,17],[17,18,17,20],[17,21,17,26],[17,27,17,32],[19,33,19,40],[20,0,20,1],[20,2,20,3],[20,4,20,6],[20,8,20,10],[20,11,20,13],[20,15,20,17],[20,18,20,20],[20,21,20,26],[20,27,20,32],[20,33,20,40],[19,0,19,1],[19,2,19,3],[19,4,19,6],[19,8,19,10],[19,11,19,13],[19,15,19,17],[19,18,19,20],[19,21,19,26],[19,27,19,32],[21,33,21,40],[22,0,22,1],[22,2,22,3],[22,4,22,6],[22,8,22,10],[22,11,22,13],[22,15,22,17],[22,18,22,20],[22,21,22,26],[22,27,22,32],[22,33,22,40],[21,0,21,1],[21,2,21,3],[21,4,21,6],[21,8,21,10],[21,11,21,13],[21,15,21,17],[21,18,21,20],[21,21,21,26],[21,27,21,32],[23,33,23,40],[24,0,24,1],[24,2,24,3],[24,4,24,6],[24,8,24,10],[24,11,24,13],[24,15,24,17],[24,18,24,20],[24,21,24,26],[24,27,24,32],[24,33,24,40],[23,0,23,1],[23,2,23,3],[23,4,23,6],[23,8,23,10],[23,11,23,13],[23,15,23,17],[23,18,23,20],[23,21,23,26],[23,27,23,32],[25,33,25,40],[26,0,26,1],[26,2,26,3],[26,4,26,6],[26,8,26,10],[26,11,26,13],[26,15,26,17],[26,18,26,20],[26,21,26,26],[26,27,26,32],[26,33,26,40],[25,0,25,1],[25,2,25,3],[25,4,25,6],[25,8,25,10],[25,11,25,13],[25,15,25,17],[25,18,25,20],[25,21,25,26],[25,27,25,32],[27,33,27,40],[28,0,28,1],[28,2,28,3],[28,4,28,6],[28,8,28,10],[28,11,28,13],[28,15,28,17],[28,18,28,20],[28,21,28,26],[28,27,28,32],[28,33,28,40],[27,0,27,1],[27,2,27,3],[27,4,27,6],[27,8,27,10],[27,11,27,13],[27,15,27,17],[27,18,27,20],[27,21,27,26],[27,27,27,32],[29,33,29,40],[30,0,30,1],[30,2,30,3],[30,4,30,6],[30,8,30,10],[30,11,30,13],[30,15,30,17],[30,18,30,20],[30,21,30,26],[30,27,30,32],[30,33,30,40],[29,0,29,1],[29,2,29,3],[29,4,29,6],[29,8,29,10],[29,11,29,13],[29,15,29,17],[29,18,29,20],[29,21,29,26],[29,27,29,32],[31,33,31,40],[32,0,32,1],[32,2,32,3],[32,4,32,6],[32,8,32,10],[32,11,32,13],[32,15,32,17],[32,18,32,20],[32,21,32,26],[32,27,32,32],[32,33,32,40],[31,0,31,1],[31,2,31,3],[31,4,31,6],[31,8,31,10],[31,11,31,13],[31,15,31,17],[31,18,31,20],[31,21,31,26],[31,27,31,32],[33,33,33,40],[34,0,34,1],[34,2,34,3],[34,4,34,6],[34,8,34,10],[34,11,34,13],[34,15,34,17],[34,18,34,20],[34,21,34,26],[34,27,34,32],[34,33,34,40],[33,0,33,1],[33,2,33,3],[33,4,33,6],[33,8,33,10],[33,11,33,13],[33,15,33,17],[33,18,33,20],[33,21,33,26],[33,27,33,32],[35,33,35,40],[36,0,36,1],[36,2,36,3],[36,4,36,6],[36,8,36,10],[36,11,36,13],[36,15,36,17],[36,18,36,20],[36,21,36,26],[36,27,36,32],[36,33,36,40],[35,0,35,1],[35,2,35,3],[35,4,35,6],[35,8,35,10],[35,11,35,13],[35,15,35,17],[35,18,35,20],[35,21,35,26],[35,27,35,32],[37,33,37,40],[38,0,38,1],[38,2,38,3],[38,4,38,6],[38,8,38,10],[38,11,38,13],[38,15,38,17],[38,18,38,20],[38,21,38,26],[38,27,38,32],[38,33,38,40],[37,0,37,1],[37,2,37,3],[37,4,37,6],[37,8,37,10],[37,11,37,13],[37,15,37,17],[37,18,37,20],[37,21,37,26],[37,27,37,32],[39,33,39,40],[40,0,40,1],[40,2,40,3],[40,4,40,6],[40,8,40,10],[40,11,40,13],[40,15,40,17],[40,18,40,20],[40,21,40,26],[40,27,40,32],[40,33,40,40],[39,0,39,1],[39,2,39,3],[39,4,39,6],[39,8,39,10],[39,11,39,13],[39,15,39,17],[39,18,39,20],[39,21,39,26],[39,27,39,32],[41,33,41,40],[42,0,42,1],[42,2,42,3],[42,4,42,6],[42,8,42,10],[42,11,42,13],[42,15,42,17],[42,18,42,20],[42,21,42,26],[42,27,42,32],[42,33,42,40],[41,0,41,1],[41,2,41,3],[41,4,41,6],[41,8,41,10],[41,11,41,13],[41,15,41,17],[41,18,41,20],[41,21,41,26],[41,27,41,32],[45,27,45,32],[43,33,43,40],[44,0,44,1],[44,2,44,3],[44,4,44,6],[44,8,44,10],[44,11,44,13],[44,15,44,17],[44,18,44,20],[44,21,44,26],[44,27,44,32],[44,33,44,40],[43,0,43,1],[43,2,43,3],[43,4,43,6],[43,8,43,10],[43,11,43,13],[43,15,43,17],[43,18,43,20],[43,21,43,26],[43,27,43,32],[45,33,45,40],[45,0,45,1],[45,2,45,3],[50,19,50,20],[50,21,50,22],[50,23,50,24],[50,25,50,26],[46,18,46,20],[49,13,49,14],[48,13,48,14],[48,15,48,16],[48,17,48,18],[49,17,49,18],[49,19,49,20],[49,21,49,22],[49,23,49,24],[48,23,48,24],[48,25,48,26],[49,15,49,16],[49,0,49,2],[49,3,49,4],[45,4,45,6],[45,8,45,10],[45,11,45,13],[45,15,45,17],[45,18,45,20],[45,21,45,26],[48,0,48,2],[48,3,48,4],[48,5,48,6],[48,7,48,8],[48,9,48,10],[49,5,49,6],[49,7,49,8],[49,9,49,10],[49,11,49,12],[48,11,48,12],[51,15,51,16],[51,17,51,18],[50,0,50,2],[50,3,50,4],[50,5,50,6],[50,7,50,8],[50,9,50,10],[50,11,50,12],[50,13,50,14],[50,15,50,16],[50,17,50,18],[5,0,5,22],[48,27,48,31],[48,19,48,20],[48,21,48,22],[50,27,50,31],[49,27,49,31],[49,32,49,34],[49,25,49,26],[52,27,52,31],[52,32,52,34],[51,19,51,20],[51,21,51,22],[51,23,51,24],[51,25,51,26],[51,27,51,31],[51,32,51,34],[50,32,50,34],[51,0,51,2],[51,3,51,4],[51,5,51,6],[51,7,51,8],[51,9,51,10],[51,11,51,12],[51,13,51,14]]}
[]
[{"$f":"'10計画'!A2:D2","v":"校長"},null,null,null,{"$f":"'10計画'!E2:H2","v":"教頭"},null,null,null,{"$f":"'10計画'!I2:L2","v":"教頭"},null,null,null,{"$f":"'10計画'!M2:P2","v":"主幹教諭"},null,null,null,{"$f":"'10計画'!Q2:T2","v":0},null,null,null,{"$f":"'10計画'!U2:X2","v":"顧問"},null,null,null,null,"学校名",null,null,{"$f":"'10計画'!AC2:AL3","v":0},null,null,null,null,null,null,null,null,null,"学校",null,null,null,null,null,null,null,null,null,null,null,null,null,null,null,null,null,null,null,null,null,null,null,null,null,null,null,null,null,null,null,null,null,{"$f":"'10計画'!BU2:BX2","v":0},null,null,null,{"$f":"'10計画'!BY2:CB2","v":0},null,null,null,{"$f":"'10計画'!CC2:CF2","v":0},null,null,null,{"$f":"'10計画'!CG2:CJ2","v":0},null,null,null,{"$f":"'10計画'!CK2:CN2","v":0},null,null,null,{"$f":"'10計画'!CO2:CR2","v":0},null,null,null,null,null,null,null,{"$f":"'10計画'!CW2:DF3","v":0}]
["印",null,null,null,"印",null,null,null,"印",null,null,null,"印",null,null,null,"印",null,null,null,"印"]
[null,null,null,null,null,null,null,null,null,null,null,null,null,null,null,null,null,null,null,null,null,null,null,null,null,"部活動名",null,null,{"$f":"'10計画'!AC4:AL5","v":0},null,null,null,null,null,null,null,null,null,"部",null,null,null,null,null,null,null,null,null,null,null,null,null,null,null,null,null,null,null,null,null,null,null,null,null,null,null,null,null,null,null,null,null,null,null,null,null,null,null,null,null,null,null,null,null,null,null,null,null,null,null,null,null,null,null,null,null,null,null,null,null,{"$f":"'10計画'!CW4:DF5","v":0}]
[]
["　※活動計画と違う内容については、校長口頭命令済み"]
[10,null,null,null,null,"月",null,null,"〈月間〉部活動計画・活動実績",null,null,null,null,null,null,null,null,null,null,null,null,null,null,null,"部員数",null,null,"1女",null,"2女",null,"3女",null,"1男",null,"2男",null,"3男",null,"計"]
[null,null,null,null,null,null,null,null,null,null,null,null,null,null,null,null,null,null,null,null,null,null,null,null,null,null,null,{"$f":"'10計画'!AB8:AC8","v":0},null,{"$f":"'10計画'!AD8:AE8","v":0},null,{"$f":"'10計画'!AF8:AG8","v":0},null,{"$f":"'10計画'!AH8:AI8","v":0},null,{"$f":"'10計画'!AJ8:AK8","v":0},null,{"$f":"'10計画'!AL8:AM8","v":0},null,{"$f":"SUM(AB8:AM8)","v":0},null,null,null,null,null,null,null,null,null,null,null,null,null,null,null,null,null,null,null,null,null,null,null,null,null,null,null,null,null,null,null,null,null,null,null,null,null,null,null,null,null,null,null,null,null,null,null,null,null,null,null,null,null,null,null,null,null,null,null,{"$f":"'10計画'!AB8","v":0},null,{"$f":"'10計画'!AD8","v":0},null,{"$f":"'10計画'!AF8","v":0},null,{"$f":"'10計画'!AH8","v":0},null,{"$f":"'10計画'!AJ8","v":0},null,{"$f":"'10計画'!AL8","v":0},null,{"$f":"SUM(CV8:DG8)","v":0}]
[]
[null,"職名",null,{"$f":"'10計画'!D10:H11","v":0},null,null,null,null,"顧問",null,{"$f":"'10計画'!K10:S11","v":0},null,null,null,null,null,null,null,null,null,null,"職名",null,{"$f":"'10計画'!X10:AB11","v":0},null,null,null,null,"副２",null,{"$f":"'10計画'!AE10:AM11","v":0},null,null,null,null,null,null,null,null,null,null,null,null,null,null,null,null,null,null,null,null,null,null,null,null,null,null,null,null,null,null,null,null,null,null,null,null,null,null,null,null,null,null,null,null,{"$f":"'10計画'!D10","v":0},null,null,null,null,null,null,{"$f":"'10計画'!K10","v":0},null,null,null,null,null,null,null,null,null,null,null,null,{"$f":"'10計画'!X10","v":0},null,null,null,null,null,null,{"$f":"'10計画'!AE10","v":0}]
[]
[null,"職名",null,{"$f":"'10計画'!D12:H13","v":0},null,null,null,null,"副顧問",null,{"$f":"'10計画'!K12:S13","v":0},null,null,null,null,null,null,null,null,null,null,"職名",null,{"$f":"'10計画'!X12:AB13","v":0},null,null,null,null,"副３",null,{"$f":"'10計画'!AE12:AM13","v":0},null,null,null,null,null,null,null,null,null,null,null,null,null,null,null,null,null,null,null,null,null,null,null,null,null,null,null,null,null,null,null,null,null,null,null,null,null,null,null,null,null,null,null,null,{"$f":"'10計画'!D12","v":0},null,null,null,null,null,null,{"$f":"'10計画'!K12","v":0},null,null,null,null,null,null,null,null,null,null,null,null,{"$f":"'10計画'!X12","v":0},null,null,null,null,null,null,{"$f":"'10計画'!AE12","v":0}]
[]
[]
["日",null,"曜",null,"ＡＭ",null,null,null,null,null,null,"ＰＭ",null,null,null,null,null,null,"時間",null,null,"内容（練習・大会・OFF等）",null,null,null,null,null,null,null,null,null,null,null,"場所",null,null,null,null,null,null,null,false,"特殊業務"]
[1,null,{"$f":"'10計画'!C16:D16","v":"木"},null,{"$f":"'10計画'!E16:G16","v":"00:00:00"},null,null,"～",{"$f":"'10計画'!I16:K16","v":"00:00:00"},null,null,{"$f":"'10計画'!L16:N16","v":"00:00:00"},null,null,"～",{"$f":"'10計画'!P16:R16","v":"00:00:00"},null,null,{"$f":"(I16-E16)+(P16-L16)","v":"00:00:00"},null,null,{"$f":"'10計画'!V16:AA16","v":0},null,null,null,null,null,{"$f":"'10計画'!AB16:AG16","v":0},null,null,null,null,null,{"$f":"'10計画'!AH16:AO16","v":0},null,null,null,null,null,null,null,false,null,null,null,null,null,null,null,null,null,null,null,null,null,null,null,null,null,null,null,null,{"$f":"RIGHT(V16,2)","v":"0"},null,null,null,null,null,null,null,null,null,null,null,{"$f":"'10計画'!C16","v":"木"},null,{"$f":"'10計画'!E16","v":"00:00:00"},null,null,"～",{"$f":"'10計画'!I16","v":"00:00:00"},null,null,{"$f":"'10計画'!L16","v":"00:00:00"},null,null,"～",{"$f":"'10計画'!P16","v":"00:00:00"},null,null,{"$f":"(CC16-BY16)+(CJ16-CF16)","v":"00:00:00"},null,null,{"$f":"'10計画'!V16","v":0},null,null,null,null,null,{"$f":"'10計画'!AB16","v":0},null,null,null,null,null,{"$f":"'10計画'!AH16","v":0}]
[2,null,{"$f":"'10計画'!C17:D17","v":"金"},null,{"$f":"'10計画'!E17:G17","v":"00:00:00"},null,null,"～",{"$f":"'10計画'!I17:K17","v":"00:00:00"},null,null,{"$f":"'10計画'!L17:N17","v":"00:00:00"},null,null,"～",{"$f":"'10計画'!P17:R17","v":"00:00:00"},null,null,"00:00:00",null,null,{"$f":"'10計画'!V17:AA17","v":0},null,null,null,null,null,{"$f":"'10計画'!AB17:AG17","v":0},null,null,null,null,null,{"$f":"'10計画'!AH17:AO17","v":0},null,null,null,null,null,null,null,false,null,null,null,null,null,null,null,null,null,null,null,null,null,null,null,null,null,null,null,null,{"$f":"RIGHT(V17,2)","v":"0"},null,null,null,null,null,null,null,null,null,null,null,{"$f":"'10計画'!C17","v":"金"},null,{"$f":"'10計画'!E17","v":"00:00:00"},null,null,"～",{"$f":"'10計画'!I17","v":"00:00:00"},null,null,{"$f":"'10計画'!L17","v":"00:00:00"},null,null,"～",{"$f":"'10計画'!P17","v":"00:00:00"},null,null,"00:00:00",null,null,{"$f":"'10計画'!V17","v":0},null,null,null,null,null,{"$f":"'10計画'!AB17","v":0},null,null,null,null,null,{"$f":"'10計画'!AH17","v":0}]
[3,null,{"$f":"'10計画'!C18:D18","v":"土"},null,{"$f":"'10計画'!E18:G18","v":"00:00:00"},null,null,"～",{"$f":"'10計画'!I18:K18","v":"00:00:00"},null,null,{"$f":"'10計画'!L18:N18","v":"00:00:00"},null,null,"～",{"$f":"'10計画'!P18:R18","v":"00:00:00"},null,null,"00:00:00",null,null,{"$f":"'10計画'!V18:AA18","v":0},null,null,null,null,null,{"$f":"'10計画'!AB18:AG18","v":0},null,null,null,null,null,{"$f":"'10計画'!AH18:AO18","v":0},null,null,null,null,null,null,null,false,null,null,null,null,null,null,null,null,null,null,null,null,null,null,null,null,null,null,null,null,"0",null,null,null,null,null,null,null,null,null,null,null,{"$f":"'10計画'!C18","v":"土"},null,{"$f":"'10計画'!E18","v":"00:00:00"},null,null,"～",{"$f":"'10計画'!I18","v":"00:00:00"},null,null,{"$f":"'10計画'!L18","v":"00:00:00"},null,null,"～",{"$f":"'10計画'!P18","v":"00:00:00"},null,null,"00:00:00",null,null,{"$f":"'10計画'!V18","v":0},null,null,null,null,null,{"$f":"'10計画'!AB18","v":0},null,null,null,null,null,{"$f":"'10計画'!AH18","v":0}]
[4,null,{"$f":"'10計画'!C19:D19","v":"日"},null,{"$f":"'10計画'!E19:G19","v":"00:00:00"},null,null,"～",{"$f":"'10計画'!I19:K19","v":"00:00:00"},null,null,{"$f":"'10計画'!L19:N19","v":"00:00:00"},null,null,"～",{"$f":"'10計画'!P19:R19","v":"00:00:00"},null,null,"00:00:00",null,null,{"$f":"'10計画'!V19:AA19","v":0},null,null,null,null,null,{"$f":"'10計画'!AB19:AG19","v":0},null,null,null,null,null,{"$f":"'10計画'!AH19:AO19","v":0},null,null,null,null,null,null,null,false,null,null,null,null,null,null,null,null,null,null,null,null,null,null,null,null,null,null,null,null,"0",null,null,null,null,null,null,null,null,null,null,null,{"$f":"'10計画'!C19","v":"日"},null,{"$f":"'10計画'!E19","v":"00:00:00"},null,null,"～",{"$f":"'10計画'!I19","v":"00:00:00"},null,null,{"$f":"'10計画'!L19","v":"00:00:00"},null,null,"～",{"$f":"'10計画'!P19","v":"00:00:00"},null,null,"00:00:00",null,null,{"$f":"'10計画'!V19","v":0},null,null,null,null,null,{"$f":"'10計画'!AB19","v":0},null,null,null,null,null,{"$f":"'10計画'!AH19","v":0}]
[5,null,{"$f":"'10計画'!C20:D20","v":"月"},null,{"$f":"'10計画'!E20:G20","v":"00:00:00"},null,null,"～",{"$f":"'10計画'!I20:K20","v":"00:00:00"},null,null,{"$f":"'10計画'!L20:N20","v":"00:00:00"},null,null,"～",{"$f":"'10計画'!P20:R20","v":"00:00:00"},null,null,"00:00:00",null,null,{"$f":"'10計画'!V20:AA20","v":0},null,null,null,null,null,{"$f":"'10計画'!AB20:AG20","v":0},null,null,null,null,null,{"$f":"'10計画'!AH20:AO20","v":0},null,null,null,null,null,null,null,false,null,null,null,null,null,null,null,null,null,null,null,null,null,null,null,null,null,null,null,null,"0",null,null,null,null,null,null,null,null,null,null,null,{"$f":"'10計画'!C20","v":"月"},null,{"$f":"'10計画'!E20","v":"00:00:00"},null,null,"～",{"$f":"'10計画'!I20","v":"00:00:00"},null,null,{"$f":"'10計画'!L20","v":"00:00:00"},null,null,"～",{"$f":"'10計画'!P20","v":"00:00:00"},null,null,"00:00:00",null,null,{"$f":"'10計画'!V20","v":0},null,null,null,null,null,{"$f":"'10計画'!AB20","v":0},null,null,null,null,null,{"$f":"'10計画'!AH20","v":0}]
[6,null,{"$f":"'10計画'!C21:D21","v":"火"},null,{"$f":"'10計画'!E21:G21","v":"00:00:00"},null,null,"～",{"$f":"'10計画'!I21:K21","v":"00:00:00"},null,null,{"$f":"'10計画'!L21:N21","v":"00:00:00"},null,null,"～",{"$f":"'10計画'!P21:R21","v":"00:00:00"},null,null,"00:00:00",null,null,{"$f":"'10計画'!V21:AA21","v":0},null,null,null,null,null,{"$f":"'10計画'!AB21:AG21","v":0},null,null,null,null,null,{"$f":"'10計画'!AH21:AO21","v":0},null,null,null,null,null,null,null,false,null,null,null,null,null,null,null,null,null,null,null,null,null,null,null,null,null,null,null,null,"0",null,null,null,null,null,null,null,null,null,null,null,{"$f":"'10計画'!C21","v":"火"},null,{"$f":"'10計画'!E21","v":"00:00:00"},null,null,"～",{"$f":"'10計画'!I21","v":"00:00:00"},null,null,{"$f":"'10計画'!L21","v":"00:00:00"},null,null,"～",{"$f":"'10計画'!P21","v":"00:00:00"},null,null,"00:00:00",null,null,{"$f":"'10計画'!V21","v":0},null,null,null,null,null,{"$f":"'10計画'!AB21","v":0},null,null,null,null,null,{"$f":"'10計画'!AH21","v":0}]
[7,null,{"$f":"'10計画'!C22:D22","v":"水"},null,{"$f":"'10計画'!E22:G22","v":"00:00:00"},null,null,"～",{"$f":"'10計画'!I22:K22","v":"00:00:00"},null,null,{"$f":"'10計画'!L22:N22","v":"00:00:00"},null,null,"～",{"$f":"'10計画'!P22:R22","v":"00:00:00"},null,null,"00:00:00",null,null,{"$f":"'10計画'!V22:AA22","v":0},null,null,null,null,null,{"$f":"'10計画'!AB22:AG22","v":0},null,null,null,null,null,{"$f":"'10計画'!AH22:AO22","v":0},null,null,null,null,null,null,null,false,null,null,null,null,null,null,null,null,null,null,null,null,null,null,null,null,null,null,null,null,"0",null,null,null,null,null,null,null,null,null,null,null,{"$f":"'10計画'!C22","v":"水"},null,{"$f":"'10計画'!E22","v":"00:00:00"},null,null,"～",{"$f":"'10計画'!I22","v":"00:00:00"},null,null,{"$f":"'10計画'!L22","v":"00:00:00"},null,null,"～",{"$f":"'10計画'!P22","v":"00:00:00"},null,null,"00:00:00",null,null,{"$f":"'10計画'!V22","v":0},null,null,null,null,null,{"$f":"'10計画'!AB22","v":0},null,null,null,null,null,{"$f":"'10計画'!AH22","v":0}]
[8,null,{"$f":"'10計画'!C23:D23","v":"木"},null,{"$f":"'10計画'!E23:G23","v":"00:00:00"},null,null,"～",{"$f":"'10計画'!I23:K23","v":"00:00:00"},null,null,{"$f":"'10計画'!L23:N23","v":"00:00:00"},null,null,"～",{"$f":"'10計画'!P23:R23","v":"00:00:00"},null,null,"00:00:00",null,null,{"$f":"'10計画'!V23:AA23","v":0},null,null,null,null,null,{"$f":"'10計画'!AB23:AG23","v":0},null,null,null,null,null,{"$f":"'10計画'!AH23:AO23","v":0},null,null,null,null,null,null,null,false,null,null,null,null,null,null,null,null,null,null,null,null,null,null,null,null,null,null,null,null,"0",null,null,null,null,null,null,null,null,null,null,null,{"$f":"'10計画'!C23","v":"木"},null,{"$f":"'10計画'!E23","v":"00:00:00"},null,null,"～",{"$f":"'10計画'!I23","v":"00:00:00"},null,null,{"$f":"'10計画'!L23","v":"00:00:00"},null,null,"～",{"$f":"'10計画'!P23","v":"00:00:00"},null,null,"00:00:00",null,null,{"$f":"'10計画'!V23","v":0},null,null,null,null,null,{"$f":"'10計画'!AB23","v":0},null,null,null,null,null,{"$f":"'10計画'!AH23","v":0}]
[9,null,{"$f":"'10計画'!C24:D24","v":"金"},null,{"$f":"'10計画'!E24:G24","v":"00:00:00"},null,null,"～",{"$f":"'10計画'!I24:K24","v":"00:00:00"},null,null,{"$f":"'10計画'!L24:N24","v":"00:00:00"},null,null,"～",{"$f":"'10計画'!P24:R24","v":"00:00:00"},null,null,"00:00:00",null,null,{"$f":"'10計画'!V24:AA24","v":0},null,null,null,null,null,{"$f":"'10計画'!AB24:AG24","v":0},null,null,null,null,null,{"$f":"'10計画'!AH24:AO24","v":0},null,null,null,null,null,null,null,false,null,null,null,null,null,null,null,null,null,null,null,null,null,null,null,null,null,null,null,null,"0",null,null,null,null,null,null,null,null,null,null,null,{"$f":"'10計画'!C24","v":"金"},null,{"$f":"'10計画'!E24","v":"00:00:00"},null,null,"～",{"$f":"'10計画'!I24","v":"00:00:00"},null,null,{"$f":"'10計画'!L24","v":"00:00:00"},null,null,"～",{"$f":"'10計画'!P24","v":"00:00:00"},null,null,"00:00:00",null,null,{"$f":"'10計画'!V24","v":0},null,null,null,null,null,{"$f":"'10計画'!AB24","v":0},null,null,null,null,null,{"$f":"'10計画'!AH24","v":0}]
[10,null,{"$f":"'10計画'!C25:D25","v":"土"},null,{"$f":"'10計画'!E25:G25","v":"00:00:00"},null,null,"～",{"$f":"'10計画'!I25:K25","v":"00:00:00"},null,null,{"$f":"'10計画'!L25:N25","v":"00:00:00"},null,null,"～",{"$f":"'10計画'!P25:R25","v":"00:00:00"},null,null,"00:00:00",null,null,{"$f":"'10計画'!V25:AA25","v":0},null,null,null,null,null,{"$f":"'10計画'!AB25:AG25","v":0},null,null,null,null,null,{"$f":"'10計画'!AH25:AO25","v":0},null,null,null,null,null,null,null,false,null,null,null,null,null,null,null,null,null,null,null,null,null,null,null,null,null,null,null,null,"0",null,null,null,null,null,null,null,null,null,null,null,{"$f":"'10計画'!C25","v":"土"},null,{"$f":"'10計画'!E25","v":"00:00:00"},null,null,"～",{"$f":"'10計画'!I25","v":"00:00:00"},null,null,{"$f":"'10計画'!L25","v":"00:00:00"},null,null,"～",{"$f":"'10計画'!P25","v":"00:00:00"},null,null,"00:00:00",null,null,{"$f":"'10計画'!V25","v":0},null,null,null,null,null,{"$f":"'10計画'!AB25","v":0},null,null,null,null,null,{"$f":"'10計画'!AH25","v":0}]
[11,null,{"$f":"'10計画'!C26:D26","v":"日"},null,{"$f":"'10計画'!E26:G26","v":"00:00:00"},null,null,"～",{"$f":"'10計画'!I26:K26","v":"00:00:00"},null,null,{"$f":"'10計画'!L26:N26","v":"00:00:00"},null,null,"～",{"$f":"'10計画'!P26:R26","v":"00:00:00"},null,null,"00:00:00",null,null,{"$f":"'10計画'!V26:AA26","v":0},null,null,null,null,null,{"$f":"'10計画'!AB26:AG26","v":0},null,null,null,null,null,{"$f":"'10計画'!AH26:AO26","v":0},null,null,null,null,null,null,null,false,null,null,null,null,null,null,null,null,null,null,null,null,null,null,null,null,null,null,null,null,"0",null,null,null,null,null,null,null,null,null,null,null,{"$f":"'10計画'!C26","v":"日"},null,{"$f":"'10計画'!E26","v":"00:00:00"},null,null,"～",{"$f":"'10計画'!I26","v":"00:00:00"},null,null,{"$f":"'10計画'!L26","v":"00:00:00"},null,null,"～",{"$f":"'10計画'!P26","v":"00:00:00"},null,null,"00:00:00",null,null,{"$f":"'10計画'!V26","v":0},null,null,null,null,null,{"$f":"'10計画'!AB26","v":0},null,null,null,null,null,{"$f":"'10計画'!AH26","v":0}]
[12,null,{"$f":"'10計画'!C27:D27","v":"月"},null,{"$f":"'10計画'!E27:G27","v":"00:00:00"},null,null,"～",{"$f":"'10計画'!I27:K27","v":"00:00:00"},null,null,{"$f":"'10計画'!L27:N27","v":"00:00:00"},null,null,"～",{"$f":"'10計画'!P27:R27","v":"00:00:00"},null,null,"00:00:00",null,null,{"$f":"'10計画'!V27:AA27","v":0},null,null,null,null,null,{"$f":"'10計画'!AB27:AG27","v":0},null,null,null,null,null,{"$f":"'10計画'!AH27:AO27","v":0},null,null,null,null,null,null,null,false,null,null,null,null,null,null,null,null,null,null,null,null,null,null,null,null,null,null,null,null,"0",null,null,null,null,null,null,null,null,null,null,null,{"$f":"'10計画'!C27","v":"月"},null,{"$f":"'10計画'!E27","v":"00:00:00"},null,null,"～",{"$f":"'10計画'!I27","v":"00:00:00"},null,null,{"$f":"'10計画'!L27","v":"00:00:00"},null,null,"～",{"$f":"'10計画'!P27","v":"00:00:00"},null,null,"00:00:00",null,null,{"$f":"'10計画'!V27","v":0},null,null,null,null,null,{"$f":"'10計画'!AB27","v":0},null,null,null,null,null,{"$f":"'10計画'!AH27","v":0}]
[13,null,{"$f":"'10計画'!C28:D28","v":"火"},null,{"$f":"'10計画'!E28:G28","v":"00:00:00"},null,null,"～",{"$f":"'10計画'!I28:K28","v":"00:00:00"},null,null,{"$f":"'10計画'!L28:N28","v":"00:00:00"},null,null,"～",{"$f":"'10計画'!P28:R28","v":"00:00:00"},null,null,"00:00:00",null,null,{"$f":"'10計画'!V28:AA28","v":0},null,null,null,null,null,{"$f":"'10計画'!AB28:AG28","v":0},null,null,null,null,null,{"$f":"'10計画'!AH28:AO28","v":0},null,null,null,null,null,null,null,false,null,null,null,null,null,null,null,null,null,null,null,null,null,null,null,null,null,null,null,null,"0",null,null,null,null,null,null,null,null,null,null,null,{"$f":"'10計画'!C28","v":"火"},null,{"$f":"'10計画'!E28","v":"00:00:00"},null,null,"～",{"$f":"'10計画'!I28","v":"00:00:00"},null,null,{"$f":"'10計画'!L28","v":"00:00:00"},null,null,"～",{"$f":"'10計画'!P28","v":"00:00:00"},null,null,"00:00:00",null,null,{"$f":"'10計画'!V28","v":0},null,null,null,null,null,{"$f":"'10計画'!AB28","v":0},null,null,null,null,null,{"$f":"'10計画'!AH28","v":0}]
[14,null,{"$f":"'10計画'!C29:D29","v":"水"},null,{"$f":"'10計画'!E29:G29","v":"00:00:00"},null,null,"～",{"$f":"'10計画'!I29:K29","v":"00:00:00"},null,null,{"$f":"'10計画'!L29:N29","v":"00:00:00"},null,null,"～",{"$f":"'10計画'!P29:R29","v":"00:00:00"},null,null,"00:00:00",null,null,{"$f":"'10計画'!V29:AA29","v":0},null,null,null,null,null,{"$f":"'10計画'!AB29:AG29","v":0},null,null,null,null,null,{"$f":"'10計画'!AH29:AO29","v":0},null,null,null,null,null,null,null,false,null,null,null,null,null,null,null,null,null,null,null,null,null,null,null,null,null,null,null,null,"0",null,null,null,null,null,null,null,null,null,null,null,{"$f":"'10計画'!C29","v":"水"},null,{"$f":"'10計画'!E29","v":"00:00:00"},null,null,"～",{"$f":"'10計画'!I29","v":"00:00:00"},null,null,{"$f":"'10計画'!L29","v":"00:00:00"},null,null,"～",{"$f":"'10計画'!P29","v":"00:00:00"},null,null,"00:00:00",null,null,{"$f":"'10計画'!V29","v":0},null,null,null,null,null,{"$f":"'10計画'!AB29","v":0},null,null,null,null,null,{"$f":"'10計画'!AH29","v":0}]
[15,null,{"$f":"'10計画'!C30:D30","v":"木"},null,{"$f":"'10計画'!E30:G30","v":"00:00:00"},null,null,"～",{"$f":"'10計画'!I30:K30","v":"00:00:00"},null,null,{"$f":"'10計画'!L30:N30","v":"00:00:00"},null,null,"～",{"$f":"'10計画'!P30:R30","v":"00:00:00"},null,null,"00:00:00",null,null,{"$f":"'10計画'!V30:AA30","v":0},null,null,null,null,null,{"$f":"'10計画'!AB30:AG30","v":0},null,null,null,null,null,{"$f":"'10計画'!AH30:AO30","v":0},null,null,null,null,null,null,null,false,null,null,null,null,null,null,null,null,null,null,null,null,null,null,null,null,null,null,null,null,"0",null,null,null,null,null,null,null,null,null,null,null,{"$f":"'10計画'!C30","v":"木"},null,{"$f":"'10計画'!E30","v":"00:00:00"},null,null,"～",{"$f":"'10計画'!I30","v":"00:00:00"},null,null,{"$f":"'10計画'!L30","v":"00:00:00"},null,null,"～",{"$f":"'10計画'!P30","v":"00:00:00"},null,null,"00:00:00",null,null,{"$f":"'10計画'!V30","v":0},null,null,null,null,null,{"$f":"'10計画'!AB30","v":0},null,null,null,null,null,{"$f":"'10計画'!AH30","v":0}]
[16,null,{"$f":"'10計画'!C31:D31","v":"金"},null,{"$f":"'10計画'!E31:G31","v":"00:00:00"},null,null,"～",{"$f":"'10計画'!I31:K31","v":"00:00:00"},null,null,{"$f":"'10計画'!L31:N31","v":"00:00:00"},null,null,"～",{"$f":"'10計画'!P31:R31","v":"00:00:00"},null,null,"00:00:00",null,null,{"$f":"'10計画'!V31:AA31","v":0},null,null,null,null,null,{"$f":"'10計画'!AB31:AG31","v":0},null,null,null,null,null,{"$f":"'10計画'!AH31:AO31","v":0},null,null,null,null,null,null,null,false,null,null,null,null,null,null,null,null,null,null,null,null,null,null,null,null,null,null,null,null,"0",null,null,null,null,null,null,null,null,null,null,null,{"$f":"'10計画'!C31","v":"金"},null,{"$f":"'10計画'!E31","v":"00:00:00"},null,null,"～",{"$f":"'10計画'!I31","v":"00:00:00"},null,null,{"$f":"'10計画'!L31","v":"00:00:00"},null,null,"～",{"$f":"'10計画'!P31","v":"00:00:00"},null,null,"00:00:00",null,null,{"$f":"'10計画'!V31","v":0},null,null,null,null,null,{"$f":"'10計画'!AB31","v":0},null,null,null,null,null,{"$f":"'10計画'!AH31","v":0}]
[17,null,{"$f":"'10計画'!C32:D32","v":"土"},null,{"$f":"'10計画'!E32:G32","v":"00:00:00"},null,null,"～",{"$f":"'10計画'!I32:K32","v":"00:00:00"},null,null,{"$f":"'10計画'!L32:N32","v":"00:00:00"},null,null,"～",{"$f":"'10計画'!P32:R32","v":"00:00:00"},null,null,"00:00:00",null,null,{"$f":"'10計画'!V32:AA32","v":0},null,null,null,null,null,{"$f":"'10計画'!AB32:AG32","v":0},null,null,null,null,null,{"$f":"'10計画'!AH32:AO32","v":0},null,null,null,null,null,null,null,false,null,null,null,null,null,null,null,null,null,null,null,null,null,null,null,null,null,null,null,null,"0",null,null,null,null,null,null,null,null,null,null,null,{"$f":"'10計画'!C32","v":"土"},null,{"$f":"'10計画'!E32","v":"00:00:00"},null,null,"～",{"$f":"'10計画'!I32","v":"00:00:00"},null,null,{"$f":"'10計画'!L32","v":"00:00:00"},null,null,"～",{"$f":"'10計画'!P32","v":"00:00:00"},null,null,"00:00:00",null,null,{"$f":"'10計画'!V32","v":0},null,null,null,null,null,{"$f":"'10計画'!AB32","v":0},null,null,null,null,null,{"$f":"'10計画'!AH32","v":0}]
[18,null,{"$f":"'10計画'!C33:D33","v":"日"},null,{"$f":"'10計画'!E33:G33","v":"00:00:00"},null,null,"～",{"$f":"'10計画'!I33:K33","v":"00:00:00"},null,null,{"$f":"'10計画'!L33:N33","v":"00:00:00"},null,null,"～",{"$f":"'10計画'!P33:R33","v":"00:00:00"},null,null,"00:00:00",null,null,{"$f":"'10計画'!V33:AA33","v":0},null,null,null,null,null,{"$f":"'10計画'!AB33:AG33","v":0},null,null,null,null,null,{"$f":"'10計画'!AH33:AO33","v":0},null,null,null,null,null,null,null,false,null,null,null,null,null,null,null,null,null,null,null,null,null,null,null,null,null,null,null,null,"0",null,null,null,null,null,null,null,null,null,null,null,{"$f":"'10計画'!C33","v":"日"},null,{"$f":"'10計画'!E33","v":"00:00:00"},null,null,"～",{"$f":"'10計画'!I33","v":"00:00:00"},null,null,{"$f":"'10計画'!L33","v":"00:00:00"},null,null,"～",{"$f":"'10計画'!P33","v":"00:00:00"},null,null,"00:00:00",null,null,{"$f":"'10計画'!V33","v":0},null,null,null,null,null,{"$f":"'10計画'!AB33","v":0},null,null,null,null,null,{"$f":"'10計画'!AH33","v":0}]
[19,null,{"$f":"'10計画'!C34:D34","v":"月"},null,{"$f":"'10計画'!E34:G34","v":"00:00:00"},null,null,"～",{"$f":"'10計画'!I34:K34","v":"00:00:00"},null,null,{"$f":"'10計画'!L34:N34","v":"00:00:00"},null,null,"～",{"$f":"'10計画'!P34:R34","v":"00:00:00"},null,null,"00:00:00",null,null,{"$f":"'10計画'!V34:AA34","v":0},null,null,null,null,null,{"$f":"'10計画'!AB34:AG34","v":0},null,null,null,null,null,{"$f":"'10計画'!AH34:AO34","v":0},null,null,null,null,null,null,null,false,null,null,null,null,null,null,null,null,null,null,null,null,null,null,null,null,null,null,null,null,"0",null,null,null,null,null,null,null,null,null,null,null,{"$f":"'10計画'!C34","v":"月"},null,{"$f":"'10計画'!E34","v":"00:00:00"},null,null,"～",{"$f":"'10計画'!I34","v":"00:00:00"},null,null,{"$f":"'10計画'!L34","v":"00:00:00"},null,null,"～",{"$f":"'10計画'!P34","v":"00:00:00"},null,null,"00:00:00",null,null,{"$f":"'10計画'!V34","v":0},null,null,null,null,null,{"$f":"'10計画'!AB34","v":0},null,null,null,null,null,{"$f":"'10計画'!AH34","v":0}]
[20,null,{"$f":"'10計画'!C35:D35","v":"火"},null,{"$f":"'10計画'!E35:G35","v":"00:00:00"},null,null,"～",{"$f":"'10計画'!I35:K35","v":"00:00:00"},null,null,{"$f":"'10計画'!L35:N35","v":"00:00:00"},null,null,"～",{"$f":"'10計画'!P35:R35","v":"00:00:00"},null,null,"00:00:00",null,null,{"$f":"'10計画'!V35:AA35","v":0},null,null,null,null,null,{"$f":"'10計画'!AB35:AG35","v":0},null,null,null,null,null,{"$f":"'10計画'!AH35:AO35","v":0},null,null,null,null,null,null,null,false,null,null,null,null,null,null,null,null,null,null,null,null,null,null,null,null,null,null,null,null,"0",null,null,null,null,null,null,null,null,null,null,null,{"$f":"'10計画'!C35","v":"火"},null,{"$f":"'10計画'!E35","v":"00:00:00"},null,null,"～",{"$f":"'10計画'!I35","v":"00:00:00"},null,null,{"$f":"'10計画'!L35","v":"00:00:00"},null,null,"～",{"$f":"'10計画'!P35","v":"00:00:00"},null,null,"00:00:00",null,null,{"$f":"'10計画'!V35","v":0},null,null,null,null,null,{"$f":"'10計画'!AB35","v":0},null,null,null,null,null,{"$f":"'10計画'!AH35","v":0}]
[21,null,{"$f":"'10計画'!C36:D36","v":"水"},null,{"$f":"'10計画'!E36:G36","v":"00:00:00"},null,null,"～",{"$f":"'10計画'!I36:K36","v":"00:00:00"},null,null,{"$f":"'10計画'!L36:N36","v":"00:00:00"},null,null,"～",{"$f":"'10計画'!P36:R36","v":"00:00:00"},null,null,"00:00:00",null,null,{"$f":"'10計画'!V36:AA36","v":0},null,null,null,null,null,{"$f":"'10計画'!AB36:AG36","v":0},null,null,null,null,null,{"$f":"'10計画'!AH36:AO36","v":0},null,null,null,null,null,null,null,false,null,null,null,null,null,null,null,null,null,null,null,null,null,null,null,null,null,null,null,null,"0",null,null,null,null,null,null,null,null,null,null,null,{"$f":"'10計画'!C36","v":"水"},null,{"$f":"'10計画'!E36","v":"00:00:00"},null,null,"～",{"$f":"'10計画'!I36","v":"00:00:00"},null,null,{"$f":"'10計画'!L36","v":"00:00:00"},null,null,"～",{"$f":"'10計画'!P36","v":"00:00:00"},null,null,"00:00:00",null,null,{"$f":"'10計画'!V36","v":0},null,null,null,null,null,{"$f":"'10計画'!AB36","v":0},null,null,null,null,null,{"$f":"'10計画'!AH36","v":0}]
[22,null,{"$f":"'10計画'!C37:D37","v":"木"},null,{"$f":"'10計画'!E37:G37","v":"00:00:00"},null,null,"～",{"$f":"'10計画'!I37:K37","v":"00:00:00"},null,null,{"$f":"'10計画'!L37:N37","v":"00:00:00"},null,null,"～",{"$f":"'10計画'!P37:R37","v":"00:00:00"},null,null,"00:00:00",null,null,{"$f":"'10計画'!V37:AA37","v":0},null,null,null,null,null,{"$f":"'10計画'!AB37:AG37","v":0},null,null,null,null,null,{"$f":"'10計画'!AH37:AO37","v":0},null,null,null,null,null,null,null,false,null,null,null,null,null,null,null,null,null,null,null,null,null,null,null,null,null,null,null,null,"0",null,null,null,null,null,null,null,null,null,null,null,{"$f":"'10計画'!C37","v":"木"},null,{"$f":"'10計画'!E37","v":"00:00:00"},null,null,"～",{"$f":"'10計画'!I37","v":"00:00:00"},null,null,{"$f":"'10計画'!L37","v":"00:00:00"},null,null,"～",{"$f":"'10計画'!P37","v":"00:00:00"},null,null,"00:00:00",null,null,{"$f":"'10計画'!V37","v":0},null,null,null,null,null,{"$f":"'10計画'!AB37","v":0},null,null,null,null,null,{"$f":"'10計画'!AH37","v":0}]
[23,null,{"$f":"'10計画'!C38:D38","v":"金"},null,{"$f":"'10計画'!E38:G38","v":"00:00:00"},null,null,"～",{"$f":"'10計画'!I38:K38","v":"00:00:00"},null,null,{"$f":"'10計画'!L38:N38","v":"00:00:00"},null,null,"～",{"$f":"'10計画'!P38:R38","v":"00:00:00"},null,null,"00:00:00",null,null,{"$f":"'10計画'!V38:AA38","v":0},null,null,null,null,null,{"$f":"'10計画'!AB38:AG38","v":0},null,null,null,null,null,{"$f":"'10計画'!AH38:AO38","v":0},null,null,null,null,null,null,null,false,null,null,null,null,null,null,null,null,null,null,null,null,null,null,null,null,null,null,null,null,"0",null,null,null,null,null,null,null,null,null,null,null,{"$f":"'10計画'!C38","v":"金"},null,{"$f":"'10計画'!E38","v":"00:00:00"},null,null,"～",{"$f":"'10計画'!I38","v":"00:00:00"},null,null,{"$f":"'10計画'!L38","v":"00:00:00"},null,null,"～",{"$f":"'10計画'!P38","v":"00:00:00"},null,null,"00:00:00",null,null,{"$f":"'10計画'!V38","v":0},null,null,null,null,null,{"$f":"'10計画'!AB38","v":0},null,null,null,null,null,{"$f":"'10計画'!AH38","v":0}]
[24,null,{"$f":"'10計画'!C39:D39","v":"土"},null,{"$f":"'10計画'!E39:G39","v":"00:00:00"},null,null,"～",{"$f":"'10計画'!I39:K39","v":"00:00:00"},null,null,{"$f":"'10計画'!L39:N39","v":"00:00:00"},null,null,"～",{"$f":"'10計画'!P39:R39","v":"00:00:00"},null,null,"00:00:00",null,null,{"$f":"'10計画'!V39:AA39","v":0},null,null,null,null,null,{"$f":"'10計画'!AB39:AG39","v":0},null,null,null,null,null,{"$f":"'10計画'!AH39:AO39","v":0},null,null,null,null,null,null,null,false,null,null,null,null,null,null,null,null,null,null,null,null,null,null,null,null,null,null,null,null,"0",null,null,null,null,null,null,null,null,null,null,null,{"$f":"'10計画'!C39","v":"土"},null,{"$f":"'10計画'!E39","v":"00:00:00"},null,null,"～",{"$f":"'10計画'!I39","v":"00:00:00"},null,null,{"$f":"'10計画'!L39","v":"00:00:00"},null,null,"～",{"$f":"'10計画'!P39","v":"00:00:00"},null,null,"00:00:00",null,null,{"$f":"'10計画'!V39","v":0},null,null,null,null,null,{"$f":"'10計画'!AB39","v":0},null,null,null,null,null,{"$f":"'10計画'!AH39","v":0}]
[25,null,{"$f":"'10計画'!C40:D40","v":"日"},null,{"$f":"'10計画'!E40:G40","v":"00:00:00"},null,null,"～",{"$f":"'10計画'!I40:K40","v":"00:00:00"},null,null,{"$f":"'10計画'!L40:N40","v":"00:00:00"},null,null,"～",{"$f":"'10計画'!P40:R40","v":"00:00:00"},null,null,"00:00:00",null,null,{"$f":"'10計画'!V40:AA40","v":0},null,null,null,null,null,{"$f":"'10計画'!AB40:AG40","v":0},null,null,null,null,null,{"$f":"'10計画'!AH40:AO40","v":0},null,null,null,null,null,null,null,false,null,null,null,null,null,null,null,null,null,null,null,null,null,null,null,null,null,null,null,null,"0",null,null,null,null,null,null,null,null,null,null,null,{"$f":"'10計画'!C40","v":"日"},null,{"$f":"'10計画'!E40","v":"00:00:00"},null,null,"～",{"$f":"'10計画'!I40","v":"00:00:00"},null,null,{"$f":"'10計画'!L40","v":"00:00:00"},null,null,"～",{"$f":"'10計画'!P40","v":"00:00:00"},null,null,"00:00:00",null,null,{"$f":"'10計画'!V40","v":0},null,null,null,null,null,{"$f":"'10計画'!AB40","v":0},null,null,null,null,null,{"$f":"'10計画'!AH40","v":0}]
[26,null,{"$f":"'10計画'!C41:D41","v":"月"},null,{"$f":"'10計画'!E41:G41","v":"00:00:00"},null,null,"～",{"$f":"'10計画'!I41:K41","v":"00:00:00"},null,null,{"$f":"'10計画'!L41:N41","v":"00:00:00"},null,null,"～",{"$f":"'10計画'!P41:R41","v":"00:00:00"},null,null,"00:00:00",null,null,{"$f":"'10計画'!V41:AA41","v":0},null,null,null,null,null,{"$f":"'10計画'!AB41:AG41","v":0},null,null,null,null,null,{"$f":"'10計画'!AH41:AO41","v":0},null,null,null,null,null,null,null,false,null,null,null,null,null,null,null,null,null,null,null,null,null,null,null,null,null,null,null,null,"0",null,null,null,null,null,null,null,null,null,null,null,{"$f":"'10計画'!C41","v":"月"},null,{"$f":"'10計画'!E41","v":"00:00:00"},null,null,"～",{"$f":"'10計画'!I41","v":"00:00:00"},null,null,{"$f":"'10計画'!L41","v":"00:00:00"},null,null,"～",{"$f":"'10計画'!P41","v":"00:00:00"},null,null,"00:00:00",null,null,{"$f":"'10計画'!V41","v":0},null,null,null,null,null,{"$f":"'10計画'!AB41","v":0},null,null,null,null,null,{"$f":"'10計画'!AH41","v":0}]
[27,null,{"$f":"'10計画'!C42:D42","v":"火"},null,{"$f":"'10計画'!E42:G42","v":"00:00:00"},null,null,"～",{"$f":"'10計画'!I42:K42","v":"00:00:00"},null,null,{"$f":"'10計画'!L42:N42","v":"00:00:00"},null,null,"～",{"$f":"'10計画'!P42:R42","v":"00:00:00"},null,null,"00:00:00",null,null,{"$f":"'10計画'!V42:AA42","v":0},null,null,null,null,null,{"$f":"'10計画'!AB42:AG42","v":0},null,null,null,null,null,{"$f":"'10計画'!AH42:AO42","v":0},null,null,null,null,null,null,null,false,null,null,null,null,null,null,null,null,null,null,null,null,null,null,null,null,null,null,null,null,"0",null,null,null,null,null,null,null,null,null,null,null,{"$f":"'10計画'!C42","v":"火"},null,{"$f":"'10計画'!E42","v":"00:00:00"},null,null,"～",{"$f":"'10計画'!I42","v":"00:00:00"},null,null,{"$f":"'10計画'!L42","v":"00:00:00"},null,null,"～",{"$f":"'10計画'!P42","v":"00:00:00"},null,null,"00:00:00",null,null,{"$f":"'10計画'!V42","v":0},null,null,null,null,null,{"$f":"'10計画'!AB42","v":0},null,null,null,null,null,{"$f":"'10計画'!AH42","v":0}]
[28,null,{"$f":"'10計画'!C43:D43","v":"水"},null,{"$f":"'10計画'!E43:G43","v":"00:00:00"},null,null,"～",{"$f":"'10計画'!I43:K43","v":"00:00:00"},null,null,{"$f":"'10計画'!L43:N43","v":"00:00:00"},null,null,"～",{"$f":"'10計画'!P43:R43","v":"00:00:00"},null,null,"00:00:00",null,null,{"$f":"'10計画'!V43:AA43","v":0},null,null,null,null,null,{"$f":"'10計画'!AB43:AG43","v":0},null,null,null,null,null,{"$f":"'10計画'!AH43:AO43","v":0},null,null,null,null,null,null,null,false,null,null,null,null,null,null,null,null,null,null,null,null,null,null,null,null,null,null,null,null,"0",null,null,null,null,null,null,null,null,null,null,null,{"$f":"'10計画'!C43","v":"水"},null,{"$f":"'10計画'!E43","v":"00:00:00"},null,null,"～",{"$f":"'10計画'!I43","v":"00:00:00"},null,null,{"$f":"'10計画'!L43","v":"00:00:00"},null,null,"～",{"$f":"'10計画'!P43","v":"00:00:00"},null,null,"00:00:00",null,null,{"$f":"'10計画'!V43","v":0},null,null,null,null,null,{"$f":"'10計画'!AB43","v":0},null,null,null,null,null,{"$f":"'10計画'!AH43","v":0}]
[29,null,{"$f":"'10計画'!C44:D44","v":"木"},null,{"$f":"'10計画'!E44:G44","v":"00:00:00"},null,null,"～",{"$f":"'10計画'!I44:K44","v":"00:00:00"},null,null,{"$f":"'10計画'!L44:N44","v":"00:00:00"},null,null,"～",{"$f":"'10計画'!P44:R44","v":"00:00:00"},null,null,"00:00:00",null,null,{"$f":"'10計画'!V44:AA44","v":0},null,null,null,null,null,{"$f":"'10計画'!AB44:AG44","v":0},null,null,null,null,null,{"$f":"'10計画'!AH44:AO44","v":0},null,null,null,null,null,null,null,false,null,null,null,null,null,null,null,null,null,null,null,null,null,null,null,null,null,null,null,null,"0",null,null,null,null,null,null,null,null,null,null,null,{"$f":"'10計画'!C44","v":"木"},null,{"$f":"'10計画'!E44","v":"00:00:00"},null,null,"～",{"$f":"'10計画'!I44","v":"00:00:00"},null,null,{"$f":"'10計画'!L44","v":"00:00:00"},null,null,"～",{"$f":"'10計画'!P44","v":"00:00:00"},null,null,"00:00:00",null,null,{"$f":"'10計画'!V44","v":0},null,null,null,null,null,{"$f":"'10計画'!AB44","v":0},null,null,null,null,null,{"$f":"'10計画'!AH44","v":0}]
[30,null,{"$f":"'10計画'!C45:D45","v":"金"},null,{"$f":"'10計画'!E45:G45","v":"00:00:00"},null,null,"～",{"$f":"'10計画'!I45:K45","v":"00:00:00"},null,null,{"$f":"'10計画'!L45:N45","v":"00:00:00"},null,null,"～",{"$f":"'10計画'!P45:R45","v":"00:00:00"},null,null,"00:00:00",null,null,{"$f":"'10計画'!V45:AA45","v":0},null,null,null,null,null,{"$f":"'10計画'!AB45:AG45","v":0},null,null,null,null,null,{"$f":"'10計画'!AH45:AO45","v":0},null,null,null,null,null,null,null,false,null,null,null,null,null,null,null,null,null,null,null,null,null,null,null,null,null,null,null,null,"0",null,null,null,null,null,null,null,null,null,null,null,{"$f":"'10計画'!C45","v":"金"},null,{"$f":"'10計画'!E45","v":"00:00:00"},null,null,"～",{"$f":"'10計画'!I45","v":"00:00:00"},null,null,{"$f":"'10計画'!L45","v":"00:00:00"},null,null,"～",{"$f":"'10計画'!P45","v":"00:00:00"},null,null,"00:00:00",null,null,{"$f":"'10計画'!V45","v":0},null,null,null,null,null,{"$f":"'10計画'!AB45","v":0},null,null,null,null,null,{"$f":"'10計画'!AH45","v":0}]
[31,null,{"$f":"'10計画'!C46:D46","v":"土"},null,{"$f":"'10計画'!E46:G46","v":"00:00:00"},null,null,"～",{"$f":"'10計画'!I46:K46","v":"00:00:00"},null,null,{"$f":"'10計画'!L46:N46","v":"00:00:00"},null,null,"～",{"$f":"'10計画'!P46:R46","v":"00:00:00"},null,null,"00:00:00",null,null,{"$f":"'10計画'!V46:AA46","v":0},null,null,null,null,null,{"$f":"'10計画'!AB46:AG46","v":0},null,null,null,null,null,{"$f":"'10計画'!AH46:AO46","v":0},null,null,null,null,null,null,null,false,null,null,null,null,null,null,null,null,null,null,null,null,null,null,null,null,null,null,null,null,"0",null,null,null,null,null,null,null,null,null,null,null,{"$f":"'10計画'!C46","v":"土"},null,{"$f":"'10計画'!E46","v":"00:00:00"},null,null,"～",{"$f":"'10計画'!I46","v":"00:00:00"},null,null,{"$f":"'10計画'!L46","v":"00:00:00"},null,null,"～",{"$f":"'10計画'!P46","v":"00:00:00"},null,null,"00:00:00",null,null,{"$f":"'10計画'!V46","v":0},null,null,null,null,null,{"$f":"'10計画'!AB46","v":0},null,null,null,null,null,{"$f":"'10計画'!AH46","v":0}]
[null,null,null,null,null,null,null,null,null,null,null,null,null,null,null,null,null,null,{"$f":"SUM(S16:U46)","v":0},null,null,null,null,null,null,null,null,null,null,null,null,null,null,null,null,null,null,null,null,null,null,null,null,null,null,null,null,null,null,null,null,null,null,null,null,null,null,null,null,null,null,null,null,null,null,null,null,null,null,null,null,null,null,null,null,null,null,null,null,null,null,null,null,null,null,null,null,null,null,null,{"$f":"SUM(CM16:CO46)","v":0}]
[]
["月",null,null,4,null,5,null,6,null,7,null,8,null,9,null,10,null,11,null,12,null,1,null,2,null,3,null,"計"]
["時間",null,null,{"$f":"'４実績'!D50","v":0},null,{"$f":"'５実績'!F50","v":0},null,{"$f":"'6実績'!H50","v":0},null,{"$f":"'7実績'!J50","v":0},null,{"$f":"'8実績'!L50:M50","v":0},null,{"$f":"'9実績'!N50:O50","v":0},null,{"$f":"S47","v":0},null,null,null,null,null,null,null,null,null,null,null,{"$f":"SUM(D50:AA50)","v":0},null,null,null,null,"時間",null,null,null,null,null,null,null,null,null,null,null,null,null,null,null,null,null,null,null,null,null,null,null,null,null,null,null,null,null,null,null,null,null,null,null,null,null,null,null,null,null,null,{"$f":"'４実績'!D50","v":0},null,{"$f":"'５実績'!F50","v":0},null,{"$f":"'6実績'!H50","v":0},null,{"$f":"'7実績'!J50","v":0},null,{"$f":"'8実績'!L50","v":0},null,{"$f":"'9実績'!N50","v":0},null,{"$f":"CM47","v":0},null,null,null,null,null,null,null,null,null,null,null,{"$f":"SUM(BX50:CU50)","v":0}]
["活動日数",null,null,{"$f":"'４実績'!D51","v":0},null,{"$f":"'５実績'!F51","v":0},null,{"$f":"'6実績'!H51","v":0},null,{"$f":"'7実績'!J51","v":0},null,{"$f":"'8実績'!L51:M51","v":0},null,{"$f":"'9実績'!N51:O51","v":0},null,{"$f":"COUNTIF(S16:U46,\">0\")","v":0},null,null,null,null,null,null,null,null,null,null,null,{"$f":"SUM(D51:AA51)","v":0},null,null,null,null,"活動日数",null,null,null,null,null,null,null,null,null,null,null,null,null,null,null,null,null,null,null,null,null,null,null,null,null,null,null,null,null,null,null,null,null,null,null,null,null,null,null,null,null,null,{"$f":"'４実績'!D51","v":0},null,{"$f":"'５実績'!F51","v":0},null,{"$f":"'6実績'!H51","v":0},null,{"$f":"'7実績'!J51","v":0},null,{"$f":"'8実績'!L51","v":0},null,{"$f":"'9実績'!N51","v":0},null,{"$f":"COUNTIF(CM16:CO46,\">0\")","v":0},null,null,null,null,null,null,null,null,null,null,null,{"$f":"SUM(BX51:CU51)","v":0}]
["休養日数",null,null,{"$f":"'４実績'!D52","v":30},null,{"$f":"'５実績'!F52","v":31},null,{"$f":"'6実績'!H52","v":30},null,{"$f":"'7実績'!J52","v":31},null,{"$f":"'8実績'!L52:M52","v":31},null,{"$f":"'9実績'!N52:O52","v":30},null,{"$f":"COUNTIF(S16:U46,\"0:00\")","v":31},null,null,null,null,null,null,null,null,null,null,null,{"$f":"SUM(D52:AA52)","v":214},null,null,null,null,"休養日数",null,null,null,null,null,null,null,null,null,null,null,null,null,null,null,null,null,null,null,null,null,null,null,null,null,null,null,null,null,null,null,null,null,null,null,null,null,null,null,null,null,null,{"$f":"'４実績'!D52","v":30},null,{"$f":"'５実績'!F52","v":31},null,{"$f":"'6実績'!H52","v":30},null,{"$f":"'7実績'!J52","v":31},null,{"$f":"'8実績'!L52","v":31},null,{"$f":"'9実績'!N52","v":30},null,{"$f":"COUNTIF(CM16:CO46,\"0:00\")","v":31},null,null,null,null,null,null,null,null,null,null,null,{"$f":"SUM(BX52:CU52)","v":214}]
[null,null,null,null,null,null,null,null,null,null,null,null,null,null,null,null,null,null,null,null,null,null,null,null,null,null,null,{"$f":"AB50/AB51","v":{"$error":"#DIV/0!"}},null,null,null,null,"平均時間/日",null,null,null,null,null,null,null,null,null,null,null,null,null,null,null,null,null,null,null,null,null,null,null,null,null,null,null,null,null,null,null,null,null,null,null,null,null,null,null,null,null,null,null,null,null,null,null,null,null,null,null,null,null,null,null,null,null,null,null,null,null,null,null,null,null,null,{"$f":"CV50/CV51","v":{"$error":"#DIV/0!"}}]

{"sheet":"11実績","index":20,"n_rows":53,"n_cols":112,"rows_kept":53,"cut":false,"hidden":false,"merged":[[41,42,41,45],[42,42,42,45],[43,42,43,45],[44,42,44,45],[45,42,45,45],[32,42,32,45],[33,42,33,45],[34,42,34,45],[35,42,35,45],[36,42,36,45],[37,42,37,45],[38,42,38,45],[39,42,39,45],[40,42,40,45],[23,42,23,45],[24,42,24,45],[25,42,25,45],[26,42,26,45],[27,42,27,45],[28,42,28,45],[29,42,29,45],[30,42,30,45],[31,42,31,45],[14,42,14,45],[15,42,15,45],[16,42,16,45],[17,42,17,45],[18,42,18,45],[19,42,19,45],[20,42,20,45],[21,42,21,45],[22,42,22,45],[0,0,0,3],[1,0,1,3],[1,4,1,7],[1,8,1,11],[1,12,1,15],[1,16,1,19],[1,20,1,23],[1,25,2,27],[1,28,2,37],[1,38,2,40],[2,0,4,3],[2,4,4,7],[2,8,4,11],[2,12,4,15],[2,16,4,19],[2,20,4,23],[3,25,4,27],[3,28,4,37],[3,38,4,40],[6,0,7,4],[6,5,7,7],[6,8,7,22],[6,24,7,26],[6,27,6,28],[6,29,6,30],[6,31,6,32],[6,33,6,34],[6,35,6,36],[9,23,10,27],[9,28,10,29],[9,30,10,38],[6,37,6,38],[6,39,6,40],[7,27,7,28],[7,29,7,30],[7,31,7,32],[7,33,7,34],[7,35,7,36],[7,37,7,38],[7,39,7,40],[11,39,12,40],[14,0,14,1],[14,2,14,3],[14,4,14,10],[14,11,14,17],[14,18,14,20],[14,21,14,32],[14,33,14,40],[9,39,10,40],[11,1,12,2],[11,3,12,7],[11,8,12,9],[11,10,12,18],[11,19,12,20],[11,21,12,22],[11,23,12,27],[11,28,12,29],[11,30,12,38],[9,1,10,2],[9,3,10,7],[9,8,10,9],[9,10,10,18],[9,19,10,20],[9,21,10,22],[15,18,15,20],[15,21,15,26],[15,27,15,32],[15,33,15,40],[16,0,16,1],[16,2,16,3],[16,4,16,6],[16,8,16,10],[16,11,16,13],[16,15,16,17],[15,0,15,1],[15,2,15,3],[15,4,15,6],[15,8,15,10],[15,11,15,13],[15,15,15,17],[16,18,16,20],[16,21,16,26],[16,27,16,32],[16,33,16,40],[17,33,17,40],[18,0,18,1],[18,2,18,3],[18,4,18,6],[18,8,18,10],[18,11,18,13],[18,15,18,17],[18,18,18,20],[18,21,18,26],[18,27,18,32],[18,33,18,40],[17,0,17,1],[17,2,17,3],[17,4,17,6],[17,8,17,10],[17,11,17,13],[17,15,17,17],[17,18,17,20],[17,21,17,26],[17,27,17,32],[19,33,19,40],[20,0,20,1],[20,2,20,3],[20,4,20,6],[20,8,20,10],[20,11,20,13],[20,15,20,17],[20,18,20,20],[20,21,20,26],[20,27,20,32],[20,33,20,40],[19,0,19,1],[19,2,19,3],[19,4,19,6],[19,8,19,10],[19,11,19,13],[19,15,19,17],[19,18,19,20],[19,21,19,26],[19,27,19,32],[21,33,21,40],[22,0,22,1],[22,2,22,3],[22,4,22,6],[22,8,22,10],[22,11,22,13],[22,15,22,17],[22,18,22,20],[22,21,22,26],[22,27,22,32],[22,33,22,40],[21,0,21,1],[21,2,21,3],[21,4,21,6],[21,8,21,10],[21,11,21,13],[21,15,21,17],[21,18,21,20],[21,21,21,26],[21,27,21,32],[23,33,23,40],[24,0,24,1],[24,2,24,3],[24,4,24,6],[24,8,24,10],[24,11,24,13],[24,15,24,17],[24,18,24,20],[24,21,24,26],[24,27,24,32],[24,33,24,40],[23,0,23,1],[23,2,23,3],[23,4,23,6],[23,8,23,10],[23,11,23,13],[23,15,23,17],[23,18,23,20],[23,21,23,26],[23,27,23,32],[25,33,25,40],[26,0,26,1],[26,2,26,3],[26,4,26,6],[26,8,26,10],[26,11,26,13],[26,15,26,17],[26,18,26,20],[26,21,26,26],[26,27,26,32],[26,33,26,40],[25,0,25,1],[25,2,25,3],[25,4,25,6],[25,8,25,10],[25,11,25,13],[25,15,25,17],[25,18,25,20],[25,21,25,26],[25,27,25,32],[27,33,27,40],[28,0,28,1],[28,2,28,3],[28,4,28,6],[28,8,28,10],[28,11,28,13],[28,15,28,17],[28,18,28,20],[28,21,28,26],[28,27,28,32],[28,33,28,40],[27,0,27,1],[27,2,27,3],[27,4,27,6],[27,8,27,10],[27,11,27,13],[27,15,27,17],[27,18,27,20],[27,21,27,26],[27,27,27,32],[29,33,29,40],[30,0,30,1],[30,2,30,3],[30,4,30,6],[30,8,30,10],[30,11,30,13],[30,15,30,17],[30,18,30,20],[30,21,30,26],[30,27,30,32],[30,33,30,40],[29,0,29,1],[29,2,29,3],[29,4,29,6],[29,8,29,10],[29,11,29,13],[29,15,29,17],[29,18,29,20],[29,21,29,26],[29,27,29,32],[31,33,31,40],[32,0,32,1],[32,2,32,3],[32,4,32,6],[32,8,32,10],[32,11,32,13],[32,15,32,17],[32,18,32,20],[32,21,32,26],[32,27,32,32],[32,33,32,40],[31,0,31,1],[31,2,31,3],[31,4,31,6],[31,8,31,10],[31,11,31,13],[31,15,31,17],[31,18,31,20],[31,21,31,26],[31,27,31,32],[33,33,33,40],[34,0,34,1],[34,2,34,3],[34,4,34,6],[34,8,34,10],[34,11,34,13],[34,15,34,17],[34,18,34,20],[34,21,34,26],[34,27,34,32],[34,33,34,40],[33,0,33,1],[33,2,33,3],[33,4,33,6],[33,8,33,10],[33,11,33,13],[33,15,33,17],[33,18,33,20],[33,21,33,26],[33,27,33,32],[36,33,36,40],[35,0,35,1],[35,2,35,3],[35,4,35,6],[35,8,35,10],[35,11,35,13],[35,15,35,17],[35,18,35,20],[35,21,35,26],[35,27,35,32],[36,0,36,1],[36,2,36,3],[36,4,36,6],[36,8,36,10],[36,11,36,13],[36,15,36,17],[36,18,36,20],[36,21,36,26],[36,27,36,32],[37,0,37,1],[37,2,37,3],[37,4,37,6],[37,8,37,10],[37,11,37,13],[37,15,37,17],[37,18,37,20],[37,21,37,26],[37,27,37,32],[38,0,38,1],[38,2,38,3],[38,4,38,6],[38,8,38,10],[38,11,38,13],[38,15,38,17],[38,18,38,20],[38,21,38,26],[38,27,38,32],[39,0,39,1],[39,2,39,3],[39,4,39,6],[39,8,39,10],[39,11,39,13],[39,15,39,17],[39,18,39,20],[39,21,39,26],[39,27,39,32],[40,0,40,1],[40,2,40,3],[40,4,40,6],[40,8,40,10],[40,11,40,13],[40,15,40,17],[40,18,40,20],[40,21,40,26],[40,27,40,32],[45,0,45,1],[45,2,45,3],[41,33,41,40],[42,0,42,1],[42,2,42,3],[42,4,42,6],[42,8,42,10],[42,11,42,13],[42,15,42,17],[42,18,42,20],[42,21,42,26],[42,27,42,32],[42,33,42,40],[41,0,41,1],[41,2,41,3],[41,4,41,6],[41,8,41,10],[41,11,41,13],[41,15,41,17],[41,18,41,20],[41,21,41,26],[41,27,41,32],[43,0,43,1],[43,2,43,3],[43,4,43,6],[43,8,43,10],[43,11,43,13],[43,15,43,17],[43,18,43,20],[43,21,43,26],[43,27,43,32],[44,0,44,1],[44,2,44,3],[44,4,44,6],[44,8,44,10],[44,11,44,13],[44,15,44,17],[44,18,44,20],[44,21,44,26],[44,27,44,32],[48,0,48,2],[48,3,48,4],[48,5,48,6],[48,7,48,8],[48,9,48,10],[49,5,49,6],[49,7,49,8],[49,9,49,10],[49,11,49,12],[48,11,48,12],[45,4,45,6],[45,8,45,10],[45,11,45,13],[45,15,45,17],[45,18,45,20],[45,21,45,26],[50,17,50,18],[50,19,50,20],[50,21,50,22],[50,23,50,24],[50,25,50,26],[46,18,46,20],[49,13,49,14],[48,13,48,14],[48,15,48,16],[48,17,48,18],[49,17,49,18],[49,19,49,20],[49,21,49,22],[49,23,49,24],[48,23,48,24],[48,25,48,26],[50,0,50,2],[50,3,50,4],[50,5,50,6],[50,7,50,8],[50,9,50,10],[50,11,50,12],[50,13,50,14],[50,15,50,16],[49,15,49,16],[49,0,49,2],[49,3,49,4],[51,0,51,2],[51,3,51,4],[51,5,51,6],[51,7,51,8],[51,9,51,10],[51,11,51,12],[51,13,51,14],[51,15,51,16],[51,17,51,18],[52,27,52,31],[52,32,52,34],[51,19,51,20],[51,21,51,22],[51,23,51,24],[51,25,51,26],[51,27,51,31],[51,32,51,34],[50,32,50,34],[48,27,48,31],[48,19,48,20],[48,21,48,22],[50,27,50,31],[49,27,49,31],[49,32,49,34],[49,25,49,26],[0,72,0,75],[1,72,1,75],[6,72,7,76],[11,73,12,74],[11,75,12,79],[14,72,14,73],[14,74,14,75],[14,76,14,82],[45,27,45,32],[43,33,43,40],[44,33,44,40],[45,33,45,40],[39,33,39,40],[40,33,40,40],[37,33,37,40],[38,33,38,40],[35,33,35,40],[1,76,1,79],[1,80,1,83],[1,84,1,87],[1,88,1,91],[1,92,1,95],[1,97,2,99],[1,100,2,109],[1,110,2,112],[2,72,4,75],[2,76,4,79],[2,80,4,83],[2,84,4,87],[2,88,4,91],[2,92,4,95],[3,97,4,99],[3,100,4,109],[3,110,4,112],[6,77,7,79],[6,80,7,94],[6,96,7,98],[6,99,6,100],[6,101,6,102],[6,103,6,104],[6,105,6,106],[6,107,6,108],[6,109,6,110],[6,111,6,112],[7,99,7,100],[7,101,7,102],[7,103,7,104],[7,105,7,106],[7,107,7,108],[7,109,7,110],[7,111,7,112],[9,111,10,112],[11,80,12,81],[11,82,12,90],[11,91,12,92],[11,93,12,94],[11,95,12,99],[11,100,12,101],[11,102,12,110],[11,111,12,112],[9,73,10,74],[9,75,10,79],[9,80,10,81],[9,82,10,90],[9,91,10,92],[9,93,10,94],[9,95,10,99],[9,100,10,101],[9,102,10,110],[14,83,14,89],[14,90,14,92],[14,93,14,104],[14,105,14,112],[15,72,15,73],[15,74,15,75],[15,76,15,78],[15,80,15,82],[15,83,15,85],[15,87,15,89],[15,90,15,92],[15,93,15,98],[15,99,15,104],[15,105,15,112],[16,105,16,112],[17,72,17,73],[17,74,17,75],[17,76,17,78],[17,80,17,82],[17,83,17,85],[17,87,17,89],[17,90,17,92],[17,93,17,98],[17,99,17,104],[17,105,17,112],[16,72,16,73],[16,74,16,75],[16,76,16,78],[16,80,16,82],[16,83,16,85],[16,87,16,89],[16,90,16,92],[16,93,16,98],[16,99,16,104],[18,105,18,112],[19,72,19,73],[19,74,19,75],[19,76,19,78],[19,80,19,82],[19,83,19,85],[19,87,19,89],[19,90,19,92],[19,93,19,98],[19,99,19,104],[19,105,19,112],[18,72,18,73],[18,74,18,75],[18,76,18,78],[18,80,18,82],[18,83,18,85],[18,87,18,89],[18,90,18,92],[18,93,18,98],[18,99,18,104],[20,105,20,112],[21,72,21,73],[21,74,21,75],[21,76,21,78],[21,80,21,82],[21,83,21,85],[21,87,21,89],[21,90,21,92],[21,93,21,98],[21,99,21,104],[21,105,21,112],[20,72,20,73],[20,74,20,75],[20,76,20,78],[20,80,20,82],[20,83,20,85],[20,87,20,89],[20,90,20,92],[20,93,20,98],[20,99,20,104],[22,105,22,112],[23,72,23,73],[23,74,23,75],[23,76,23,78],[23,80,23,82],[23,83,23,85],[23,87,23,89],[23,90,23,92],[23,93,23,98],[23,99,23,104],[23,105,23,112],[22,72,22,73],[22,74,22,75],[22,76,22,78],[22,80,22,82],[22,83,22,85],[22,87,22,89],[22,90,22,92],[22,93,22,98],[22,99,22,104],[24,105,24,112],[25,72,25,73],[25,74,25,75],[25,76,25,78],[25,80,25,82],[25,83,25,85],[25,87,25,89],[25,90,25,92],[25,93,25,98],[25,99,25,104],[25,105,25,112],[24,72,24,73],[24,74,24,75],[24,76,24,78],[24,80,24,82],[24,83,24,85],[24,87,24,89],[24,90,24,92],[24,93,24,98],[24,99,24,104],[26,105,26,112],[27,72,27,73],[27,74,27,75],[27,76,27,78],[27,80,27,82],[27,83,27,85],[27,87,27,89],[27,90,27,92],[27,93,27,98],[27,99,27,104],[27,105,27,112],[26,72,26,73],[26,74,26,75],[26,76,26,78],[26,80,26,82],[26,83,26,85],[26,87,26,89],[26,90,26,92],[26,93,26,98],[26,99,26,104],[28,105,28,112],[29,72,29,73],[29,74,29,75],[29,76,29,78],[29,80,29,82],[29,83,29,85],[29,87,29,89],[29,90,29,92],[29,93,29,98],[29,99,29,104],[29,105,29,112],[28,72,28,73],[28,74,28,75],[28,76,28,78],[28,80,28,82],[28,83,28,85],[28,87,28,89],[28,90,28,92],[28,93,28,98],[28,99,28,104],[30,105,30,112],[31,72,31,73],[31,74,31,75],[31,76,31,78],[31,80,31,82],[31,83,31,85],[31,87,31,89],[31,90,31,92],[31,93,31,98],[31,99,31,104],[31,105,31,112],[30,72,30,73],[30,74,30,75],[30,76,30,78],[30,80,30,82],[30,83,30,85],[30,87,30,89],[30,90,30,92],[30,93,30,98],[30,99,30,104],[32,105,32,112],[33,72,33,73],[33,74,33,75],[33,76,33,78],[33,80,33,82],[33,83,33,85],[33,87,33,89],[33,90,33,92],[33,93,33,98],[33,99,33,104],[33,105,33,112],[32,72,32,73],[32,74,32,75],[32,76,32,78],[32,80,32,82],[32,83,32,85],[32,87,32,89],[32,90,32,92],[32,93,32,98],[32,99,32,104],[34,105,34,112],[35,72,35,73],[35,74,35,75],[35,76,35,78],[35,80,35,82],[35,83,35,85],[35,87,35,89],[35,90,35,92],[35,93,35,98],[35,99,35,104],[35,105,35,112],[34,72,34,73],[34,74,34,75],[34,76,34,78],[34,80,34,82],[34,83,34,85],[34,87,34,89],[34,90,34,92],[34,93,34,98],[34,99,34,104],[36,105,36,112],[37,72,37,73],[37,74,37,75],[37,76,37,78],[37,80,37,82],[37,83,37,85],[37,87,37,89],[37,90,37,92],[37,93,37,98],[37,99,37,104],[37,105,37,112],[36,72,36,73],[36,74,36,75],[36,76,36,78],[36,80,36,82],[36,83,36,85],[36,87,36,89],[36,90,36,92],[36,93,36,98],[36,99,36,104],[38,105,38,112],[39,72,39,73],[39,74,39,75],[39,76,39,78],[39,80,39,82],[39,83,39,85],[39,87,39,89],[39,90,39,92],[39,93,39,98],[39,99,39,104],[39,105,39,112],[38,72,38,73],[38,74,38,75],[38,76,38,78],[38,80,38,82],[38,83,38,85],[38,87,38,89],[38,90,38,92],[38,93,38,98],[38,99,38,104],[40,105,40,112],[41,72,41,73],[41,74,41,75],[41,76,41,78],[41,80,41,82],[41,83,41,85],[41,87,41,89],[41,90,41,92],[41,93,41,98],[41,99,41,104],[41,105,41,112],[40,72,40,73],[40,74,40,75],[40,76,40,78],[40,80,40,82],[40,83,40,85],[40,87,40,89],[40,90,40,92],[40,93,40,98],[40,99,40,104],[42,105,42,112],[43,72,43,73],[43,74,43,75],[43,76,43,78],[43,80,43,82],[43,83,43,85],[43,87,43,89],[43,90,43,92],[43,93,43,98],[43,99,43,104],[43,105,43,112],[42,72,42,73],[42,74,42,75],[42,76,42,78],[42,80,42,82],[42,83,42,85],[42,87,42,89],[42,90,42,92],[42,93,42,98],[42,99,42,104],[44,105,44,112],[45,72,45,73],[45,74,45,75],[45,76,45,78],[45,80,45,82],[45,83,45,85],[45,87,45,89],[45,90,45,92],[45,93,45,98],[45,99,45,104],[45,105,45,112],[44,72,44,73],[44,74,44,75],[44,76,44,78],[44,80,44,82],[44,83,44,85],[44,87,44,89],[44,90,44,92],[44,93,44,98],[44,99,44,104],[48,79,48,80],[48,81,48,82],[48,83,48,84],[48,85,48,86],[48,87,48,88],[48,89,48,90],[49,72,49,74],[49,75,49,76],[49,77,49,78],[46,104,48,108],[46,109,46,112],[47,109,48,112],[48,91,48,92],[48,93,48,94],[48,95,48,96],[48,97,48,98],[48,99,48,103],[49,91,49,92],[49,93,49,94],[49,95,49,96],[49,97,49,98],[49,99,49,103],[49,104,49,106],[50,72,50,74],[50,75,50,76],[50,77,50,78],[50,79,50,80],[50,81,50,82],[50,83,50,84],[5,0,5,22],[51,91,51,92],[51,93,51,94],[50,91,50,92],[50,93,50,94],[50,85,50,86],[50,87,50,88],[50,89,50,90],[49,79,49,80],[49,81,49,82],[49,83,49,84],[49,85,49,86],[49,87,49,88],[49,89,49,90],[46,90,46,92],[48,72,48,74],[48,75,48,76],[48,77,48,78],[51,72,51,74],[51,75,51,76],[51,77,51,78],[51,79,51,80],[51,81,51,82],[51,83,51,84],[51,85,51,86],[51,87,51,88],[51,89,51,90],[50,95,50,96],[50,97,50,98],[50,99,50,103],[50,104,50,106],[51,95,51,96],[51,97,51,98],[51,99,51,103],[51,104,51,106],[52,99,52,103],[52,104,52,106]]}
[]
[{"$f":"'11計画'!A2:D2","v":"校長"},null,null,null,{"$f":"'11計画'!E2:H2","v":"教頭"},null,null,null,{"$f":"'11計画'!I2:L2","v":"教頭"},null,null,null,{"$f":"'11計画'!M2:P2","v":"主幹教諭"},null,null,null,{"$f":"'11計画'!Q2:T2","v":0},null,null,null,{"$f":"'11計画'!U2:X2","v":"顧問"},null,null,null,null,"学校名",null,null,{"$f":"'11計画'!AC2:AL3","v":0},null,null,null,null,null,null,null,null,null,"学校",null,null,null,null,null,null,null,null,null,null,null,null,null,null,null,null,null,null,null,null,null,null,null,null,null,null,null,null,null,null,null,null,null,{"$f":"'11計画'!BU2:BX2","v":0},null,null,null,{"$f":"'11計画'!BY2:CB2","v":0},null,null,null,{"$f":"'11計画'!CC2:CF2","v":0},null,null,null,{"$f":"'11計画'!CG2:CJ2","v":0},null,null,null,{"$f":"'11計画'!CK2:CN2","v":0},null,null,null,{"$f":"'11計画'!CO2:CR2","v":0},null,null,null,null,null,null,null,{"$f":"'11計画'!CW2:DF3","v":0}]
["印",null,null,null,"印",null,null,null,"印",null,null,null,"印",null,null,null,"印",null,null,null,"印"]
[null,null,null,null,null,null,null,null,null,null,null,null,null,null,null,null,null,null,null,null,null,null,null,null,null,"部活動名",null,null,{"$f":"'11計画'!AC4:AL5","v":0},null,null,null,null,null,null,null,null,null,"部",null,null,null,null,null,null,null,null,null,null,null,null,null,null,null,null,null,null,null,null,null,null,null,null,null,null,null,null,null,null,null,null,null,null,null,null,null,null,null,null,null,null,null,null,null,null,null,null,null,null,null,null,null,null,null,null,null,null,null,null,null,{"$f":"'11計画'!CW4:DF5","v":0}]
[]
["　※活動計画と違う内容については、校長口頭命令済み"]
[11,null,null,null,null,"月",null,null,"〈月間〉部活動計画・活動実績",null,null,null,null,null,null,null,null,null,null,null,null,null,null,null,"部員数",null,null,"1女",null,"2女",null,"3女",null,"1男",null,"2男",null,"3男",null,"計"]
[null,null,null,null,null,null,null,null,null,null,null,null,null,null,null,null,null,null,null,null,null,null,null,null,null,null,null,{"$f":"'11計画'!AB8:AC8","v":0},null,{"$f":"'11計画'!AD8:AE8","v":0},null,{"$f":"'11計画'!AF8:AG8","v":0},null,{"$f":"'11計画'!AH8:AI8","v":0},null,{"$f":"'11計画'!AJ8:AK8","v":0},null,{"$f":"'11計画'!AL8:AM8","v":0},null,{"$f":"SUM(AB8:AM8)","v":0},null,null,null,null,null,null,null,null,null,null,null,null,null,null,null,null,null,null,null,null,null,null,null,null,null,null,null,null,null,null,null,null,null,null,null,null,null,null,null,null,null,null,null,null,null,null,null,null,null,null,null,null,null,null,null,null,null,null,null,{"$f":"'11計画'!AB8","v":0},null,{"$f":"'11計画'!AD8","v":0},null,{"$f":"'11計画'!AF8","v":0},null,{"$f":"'11計画'!AH8","v":0},null,{"$f":"'11計画'!AJ8","v":0},null,{"$f":"'11計画'!AL8","v":0},null,{"$f":"SUM(CV8:DG8)","v":0}]
[]
[null,"職名",null,{"$f":"'11計画'!D10:H11","v":0},null,null,null,null,"顧問",null,{"$f":"'11計画'!K10:S11","v":0},null,null,null,null,null,null,null,null,null,null,"職名",null,{"$f":"'11計画'!X10:AB11","v":0},null,null,null,null,"副２",null,{"$f":"'11計画'!AE10:AM11","v":0},null,null,null,null,null,null,null,null,null,null,null,null,null,null,null,null,null,null,null,null,null,null,null,null,null,null,null,null,null,null,null,null,null,null,null,null,null,null,null,null,null,null,null,null,{"$f":"'11計画'!D10","v":0},null,null,null,null,null,null,{"$f":"'11計画'!K10","v":0},null,null,null,null,null,null,null,null,null,null,null,null,{"$f":"'11計画'!X10","v":0},null,null,null,null,null,null,{"$f":"'11計画'!AE10","v":0}]
[]
[null,"職名",null,{"$f":"'11計画'!D12:H13","v":0},null,null,null,null,"副顧問",null,{"$f":"'11計画'!K12:S13","v":0},null,null,null,null,null,null,null,null,null,null,"職名",null,{"$f":"'11計画'!X12:AB13","v":0},null,null,null,null,"副３",null,{"$f":"'11計画'!AE12:AM13","v":0},null,null,null,null,null,null,null,null,null,null,null,null,null,null,null,null,null,null,null,null,null,null,null,null,null,null,null,null,null,null,null,null,null,null,null,null,null,null,null,null,null,null,null,null,{"$f":"'11計画'!D12","v":0},null,null,null,null,null,null,{"$f":"'11計画'!K12","v":0},null,null,null,null,null,null,null,null,null,null,null,null,{"$f":"'11計画'!X12","v":0},null,null,null,null,null,null,{"$f":"'11計画'!AE12","v":0}]
[]
[]
["日",null,"曜",null,"ＡＭ",null,null,null,null,null,null,"ＰＭ",null,null,null,null,null,null,"時間",null,null,"内容（練習・大会・OFF等）",null,null,null,null,null,null,null,null,null,null,null,"場所",null,null,null,null,null,null,null,false,"特殊業務"]
[1,null,{"$f":"'11計画'!C16:D16","v":"日"},null,{"$f":"'11計画'!E16:G16","v":"00:00:00"},null,null,"～",{"$f":"'11計画'!I16:K16","v":"00:00:00"},null,null,{"$f":"'11計画'!L16:N16","v":"00:00:00"},null,null,"～",{"$f":"'11計画'!P16:R16","v":"00:00:00"},null,null,{"$f":"(I16-E16)+(P16-L16)","v":"00:00:00"},null,null,{"$f":"'11計画'!V16:AA16","v":0},null,null,null,null,null,{"$f":"'11計画'!AB16:AG16","v":0},null,null,null,null,null,{"$f":"'11計画'!AH16:AO16","v":0},null,null,null,null,null,null,null,false,null,null,null,null,null,null,null,null,null,null,null,null,null,null,null,null,null,null,null,null,{"$f":"RIGHT(V16,2)","v":"0"},null,null,null,null,null,null,null,null,null,null,null,{"$f":"'11計画'!C16","v":"日"},null,{"$f":"'11計画'!E16","v":"00:00:00"},null,null,"～",{"$f":"'11計画'!I16","v":"00:00:00"},null,null,{"$f":"'11計画'!L16","v":"00:00:00"},null,null,"～",{"$f":"'11計画'!P16","v":"00:00:00"},null,null,{"$f":"(CC16-BY16)+(CJ16-CF16)","v":"00:00:00"},null,null,{"$f":"'11計画'!V16","v":0},null,null,null,null,null,{"$f":"'11計画'!AB16","v":0},null,null,null,null,null,{"$f":"'11計画'!AH16","v":0}]
[2,null,{"$f":"'11計画'!C17:D17","v":"月"},null,{"$f":"'11計画'!E17:G17","v":"00:00:00"},null,null,"～",{"$f":"'11計画'!I17:K17","v":"00:00:00"},null,null,{"$f":"'11計画'!L17:N17","v":"00:00:00"},null,null,"～",{"$f":"'11計画'!P17:R17","v":"00:00:00"},null,null,"00:00:00",null,null,{"$f":"'11計画'!V17:AA17","v":0},null,null,null,null,null,{"$f":"'11計画'!AB17:AG17","v":0},null,null,null,null,null,{"$f":"'11計画'!AH17:AO17","v":0},null,null,null,null,null,null,null,false,null,null,null,null,null,null,null,null,null,null,null,null,null,null,null,null,null,null,null,null,{"$f":"RIGHT(V17,2)","v":"0"},null,null,null,null,null,null,null,null,null,null,null,{"$f":"'11計画'!C17","v":"月"},null,{"$f":"'11計画'!E17","v":"00:00:00"},null,null,"～",{"$f":"'11計画'!I17","v":"00:00:00"},null,null,{"$f":"'11計画'!L17","v":"00:00:00"},null,null,"～",{"$f":"'11計画'!P17","v":"00:00:00"},null,null,"00:00:00",null,null,{"$f":"'11計画'!V17","v":0},null,null,null,null,null,{"$f":"'11計画'!AB17","v":0},null,null,null,null,null,{"$f":"'11計画'!AH17","v":0}]
[3,null,{"$f":"'11計画'!C18:D18","v":"火"},null,{"$f":"'11計画'!E18:G18","v":"00:00:00"},null,null,"～",{"$f":"'11計画'!I18:K18","v":"00:00:00"},null,null,{"$f":"'11計画'!L18:N18","v":"00:00:00"},null,null,"～",{"$f":"'11計画'!P18:R18","v":"00:00:00"},null,null,"00:00:00",null,null,{"$f":"'11計画'!V18:AA18","v":0},null,null,null,null,null,{"$f":"'11計画'!AB18:AG18","v":0},null,null,null,null,null,{"$f":"'11計画'!AH18:AO18","v":0},null,null,null,null,null,null,null,false,null,null,null,null,null,null,null,null,null,null,null,null,null,null,null,null,null,null,null,null,"0",null,null,null,null,null,null,null,null,null,null,null,{"$f":"'11計画'!C18","v":"火"},null,{"$f":"'11計画'!E18","v":"00:00:00"},null,null,"～",{"$f":"'11計画'!I18","v":"00:00:00"},null,null,{"$f":"'11計画'!L18","v":"00:00:00"},null,null,"～",{"$f":"'11計画'!P18","v":"00:00:00"},null,null,"00:00:00",null,null,{"$f":"'11計画'!V18","v":0},null,null,null,null,null,{"$f":"'11計画'!AB18","v":0},null,null,null,null,null,{"$f":"'11計画'!AH18","v":0}]
[4,null,{"$f":"'11計画'!C19:D19","v":"水"},null,{"$f":"'11計画'!E19:G19","v":"00:00:00"},null,null,"～",{"$f":"'11計画'!I19:K19","v":"00:00:00"},null,null,{"$f":"'11計画'!L19:N19","v":"00:00:00"},null,null,"～",{"$f":"'11計画'!P19:R19","v":"00:00:00"},null,null,"00:00:00",null,null,{"$f":"'11計画'!V19:AA19","v":0},null,null,null,null,null,{"$f":"'11計画'!AB19:AG19","v":0},null,null,null,null,null,{"$f":"'11計画'!AH19:AO19","v":0},null,null,null,null,null,null,null,false,null,null,null,null,null,null,null,null,null,null,null,null,null,null,null,null,null,null,null,null,"0",null,null,null,null,null,null,null,null,null,null,null,{"$f":"'11計画'!C19","v":"水"},null,{"$f":"'11計画'!E19","v":"00:00:00"},null,null,"～",{"$f":"'11計画'!I19","v":"00:00:00"},null,null,{"$f":"'11計画'!L19","v":"00:00:00"},null,null,"～",{"$f":"'11計画'!P19","v":"00:00:00"},null,null,"00:00:00",null,null,{"$f":"'11計画'!V19","v":0},null,null,null,null,null,{"$f":"'11計画'!AB19","v":0},null,null,null,null,null,{"$f":"'11計画'!AH19","v":0}]
[5,null,{"$f":"'11計画'!C20:D20","v":"木"},null,{"$f":"'11計画'!E20:G20","v":"00:00:00"},null,null,"～",{"$f":"'11計画'!I20:K20","v":"00:00:00"},null,null,{"$f":"'11計画'!L20:N20","v":"00:00:00"},null,null,"～",{"$f":"'11計画'!P20:R20","v":"00:00:00"},null,null,"00:00:00",null,null,{"$f":"'11計画'!V20:AA20","v":0},null,null,null,null,null,{"$f":"'11計画'!AB20:AG20","v":0},null,null,null,null,null,{"$f":"'11計画'!AH20:AO20","v":0},null,null,null,null,null,null,null,false,null,null,null,null,null,null,null,null,null,null,null,null,null,null,null,null,null,null,null,null,"0",null,null,null,null,null,null,null,null,null,null,null,{"$f":"'11計画'!C20","v":"木"},null,{"$f":"'11計画'!E20","v":"00:00:00"},null,null,"～",{"$f":"'11計画'!I20","v":"00:00:00"},null,null,{"$f":"'11計画'!L20","v":"00:00:00"},null,null,"～",{"$f":"'11計画'!P20","v":"00:00:00"},null,null,"00:00:00",null,null,{"$f":"'11計画'!V20","v":0},null,null,null,null,null,{"$f":"'11計画'!AB20","v":0},null,null,null,null,null,{"$f":"'11計画'!AH20","v":0}]
[6,null,{"$f":"'11計画'!C21:D21","v":"金"},null,{"$f":"'11計画'!E21:G21","v":"00:00:00"},null,null,"～",{"$f":"'11計画'!I21:K21","v":"00:00:00"},null,null,{"$f":"'11計画'!L21:N21","v":"00:00:00"},null,null,"～",{"$f":"'11計画'!P21:R21","v":"00:00:00"},null,null,"00:00:00",null,null,{"$f":"'11計画'!V21:AA21","v":0},null,null,null,null,null,{"$f":"'11計画'!AB21:AG21","v":0},null,null,null,null,null,{"$f":"'11計画'!AH21:AO21","v":0},null,null,null,null,null,null,null,false,null,null,null,null,null,null,null,null,null,null,null,null,null,null,null,null,null,null,null,null,"0",null,null,null,null,null,null,null,null,null,null,null,{"$f":"'11計画'!C21","v":"金"},null,{"$f":"'11計画'!E21","v":"00:00:00"},null,null,"～",{"$f":"'11計画'!I21","v":"00:00:00"},null,null,{"$f":"'11計画'!L21","v":"00:00:00"},null,null,"～",{"$f":"'11計画'!P21","v":"00:00:00"},null,null,"00:00:00",null,null,{"$f":"'11計画'!V21","v":0},null,null,null,null,null,{"$f":"'11計画'!AB21","v":0},null,null,null,null,null,{"$f":"'11計画'!AH21","v":0}]
[7,null,{"$f":"'11計画'!C22:D22","v":"土"},null,{"$f":"'11計画'!E22:G22","v":"00:00:00"},null,null,"～",{"$f":"'11計画'!I22:K22","v":"00:00:00"},null,null,{"$f":"'11計画'!L22:N22","v":"00:00:00"},null,null,"～",{"$f":"'11計画'!P22:R22","v":"00:00:00"},null,null,"00:00:00",null,null,{"$f":"'11計画'!V22:AA22","v":0},null,null,null,null,null,{"$f":"'11計画'!AB22:AG22","v":0},null,null,null,null,null,{"$f":"'11計画'!AH22:AO22","v":0},null,null,null,null,null,null,null,false,null,null,null,null,null,null,null,null,null,null,null,null,null,null,null,null,null,null,null,null,"0",null,null,null,null,null,null,null,null,null,null,null,{"$f":"'11計画'!C22","v":"土"},null,{"$f":"'11計画'!E22","v":"00:00:00"},null,null,"～",{"$f":"'11計画'!I22","v":"00:00:00"},null,null,{"$f":"'11計画'!L22","v":"00:00:00"},null,null,"～",{"$f":"'11計画'!P22","v":"00:00:00"},null,null,"00:00:00",null,null,{"$f":"'11計画'!V22","v":0},null,null,null,null,null,{"$f":"'11計画'!AB22","v":0},null,null,null,null,null,{"$f":"'11計画'!AH22","v":0}]
[8,null,{"$f":"'11計画'!C23:D23","v":"日"},null,{"$f":"'11計画'!E23:G23","v":"00:00:00"},null,null,"～",{"$f":"'11計画'!I23:K23","v":"00:00:00"},null,null,{"$f":"'11計画'!L23:N23","v":"00:00:00"},null,null,"～",{"$f":"'11計画'!P23:R23","v":"00:00:00"},null,null,"00:00:00",null,null,{"$f":"'11計画'!V23:AA23","v":0},null,null,null,null,null,{"$f":"'11計画'!AB23:AG23","v":0},null,null,null,null,null,{"$f":"'11計画'!AH23:AO23","v":0},null,null,null,null,null,null,null,false,null,null,null,null,null,null,null,null,null,null,null,null,null,null,null,null,null,null,null,null,"0",null,null,null,null,null,null,null,null,null,null,null,{"$f":"'11計画'!C23","v":"日"},null,{"$f":"'11計画'!E23","v":"00:00:00"},null,null,"～",{"$f":"'11計画'!I23","v":"00:00:00"},null,null,{"$f":"'11計画'!L23","v":"00:00:00"},null,null,"～",{"$f":"'11計画'!P23","v":"00:00:00"},null,null,"00:00:00",null,null,{"$f":"'11計画'!V23","v":0},null,null,null,null,null,{"$f":"'11計画'!AB23","v":0},null,null,null,null,null,{"$f":"'11計画'!AH23","v":0}]
[9,null,{"$f":"'11計画'!C24:D24","v":"月"},null,{"$f":"'11計画'!E24:G24","v":"00:00:00"},null,null,"～",{"$f":"'11計画'!I24:K24","v":"00:00:00"},null,null,{"$f":"'11計画'!L24:N24","v":"00:00:00"},null,null,"～",{"$f":"'11計画'!P24:R24","v":"00:00:00"},null,null,"00:00:00",null,null,{"$f":"'11計画'!V24:AA24","v":0},null,null,null,null,null,{"$f":"'11計画'!AB24:AG24","v":0},null,null,null,null,null,{"$f":"'11計画'!AH24:AO24","v":0},null,null,null,null,null,null,null,false,null,null,null,null,null,null,null,null,null,null,null,null,null,null,null,null,null,null,null,null,"0",null,null,null,null,null,null,null,null,null,null,null,{"$f":"'11計画'!C24","v":"月"},null,{"$f":"'11計画'!E24","v":"00:00:00"},null,null,"～",{"$f":"'11計画'!I24","v":"00:00:00"},null,null,{"$f":"'11計画'!L24","v":"00:00:00"},null,null,"～",{"$f":"'11計画'!P24","v":"00:00:00"},null,null,"00:00:00",null,null,{"$f":"'11計画'!V24","v":0},null,null,null,null,null,{"$f":"'11計画'!AB24","v":0},null,null,null,null,null,{"$f":"'11計画'!AH24","v":0}]
[10,null,{"$f":"'11計画'!C25:D25","v":"火"},null,{"$f":"'11計画'!E25:G25","v":"00:00:00"},null,null,"～",{"$f":"'11計画'!I25:K25","v":"00:00:00"},null,null,{"$f":"'11計画'!L25:N25","v":"00:00:00"},null,null,"～",{"$f":"'11計画'!P25:R25","v":"00:00:00"},null,null,"00:00:00",null,null,{"$f":"'11計画'!V25:AA25","v":0},null,null,null,null,null,{"$f":"'11計画'!AB25:AG25","v":0},null,null,null,null,null,{"$f":"'11計画'!AH25:AO25","v":0},null,null,null,null,null,null,null,false,null,null,null,null,null,null,null,null,null,null,null,null,null,null,null,null,null,null,null,null,"0",null,null,null,null,null,null,null,null,null,null,null,{"$f":"'11計画'!C25","v":"火"},null,{"$f":"'11計画'!E25","v":"00:00:00"},null,null,"～",{"$f":"'11計画'!I25","v":"00:00:00"},null,null,{"$f":"'11計画'!L25","v":"00:00:00"},null,null,"～",{"$f":"'11計画'!P25","v":"00:00:00"},null,null,"00:00:00",null,null,{"$f":"'11計画'!V25","v":0},null,null,null,null,null,{"$f":"'11計画'!AB25","v":0},null,null,null,null,null,{"$f":"'11計画'!AH25","v":0}]
[11,null,{"$f":"'11計画'!C26:D26","v":"水"},null,{"$f":"'11計画'!E26:G26","v":"00:00:00"},null,null,"～",{"$f":"'11計画'!I26:K26","v":"00:00:00"},null,null,{"$f":"'11計画'!L26:N26","v":"00:00:00"},null,null,"～",{"$f":"'11計画'!P26:R26","v":"00:00:00"},null,null,"00:00:00",null,null,{"$f":"'11計画'!V26:AA26","v":0},null,null,null,null,null,{"$f":"'11計画'!AB26:AG26","v":0},null,null,null,null,null,{"$f":"'11計画'!AH26:AO26","v":0},null,null,null,null,null,null,null,false,null,null,null,null,null,null,null,null,null,null,null,null,null,null,null,null,null,null,null,null,"0",null,null,null,null,null,null,null,null,null,null,null,{"$f":"'11計画'!C26","v":"水"},null,{"$f":"'11計画'!E26","v":"00:00:00"},null,null,"～",{"$f":"'11計画'!I26","v":"00:00:00"},null,null,{"$f":"'11計画'!L26","v":"00:00:00"},null,null,"～",{"$f":"'11計画'!P26","v":"00:00:00"},null,null,"00:00:00",null,null,{"$f":"'11計画'!V26","v":0},null,null,null,null,null,{"$f":"'11計画'!AB26","v":0},null,null,null,null,null,{"$f":"'11計画'!AH26","v":0}]
[12,null,{"$f":"'11計画'!C27:D27","v":"木"},null,{"$f":"'11計画'!E27:G27","v":"00:00:00"},null,null,"～",{"$f":"'11計画'!I27:K27","v":"00:00:00"},null,null,{"$f":"'11計画'!L27:N27","v":"00:00:00"},null,null,"～",{"$f":"'11計画'!P27:R27","v":"00:00:00"},null,null,"00:00:00",null,null,{"$f":"'11計画'!V27:AA27","v":0},null,null,null,null,null,{"$f":"'11計画'!AB27:AG27","v":0},null,null,null,null,null,{"$f":"'11計画'!AH27:AO27","v":0},null,null,null,null,null,null,null,false,null,null,null,null,null,null,null,null,null,null,null,null,null,null,null,null,null,null,null,null,"0",null,null,null,null,null,null,null,null,null,null,null,{"$f":"'11計画'!C27","v":"木"},null,{"$f":"'11計画'!E27","v":"00:00:00"},null,null,"～",{"$f":"'11計画'!I27","v":"00:00:00"},null,null,{"$f":"'11計画'!L27","v":"00:00:00"},null,null,"～",{"$f":"'11計画'!P27","v":"00:00:00"},null,null,"00:00:00",null,null,{"$f":"'11計画'!V27","v":0},null,null,null,null,null,{"$f":"'11計画'!AB27","v":0},null,null,null,null,null,{"$f":"'11計画'!AH27","v":0}]
[13,null,{"$f":"'11計画'!C28:D28","v":"金"},null,{"$f":"'11計画'!E28:G28","v":"00:00:00"},null,null,"～",{"$f":"'11計画'!I28:K28","v":"00:00:00"},null,null,{"$f":"'11計画'!L28:N28","v":"00:00:00"},null,null,"～",{"$f":"'11計画'!P28:R28","v":"00:00:00"},null,null,"00:00:00",null,null,{"$f":"'11計画'!V28:AA28","v":0},null,null,null,null,null,{"$f":"'11計画'!AB28:AG28","v":0},null,null,null,null,null,{"$f":"'11計画'!AH28:AO28","v":0},null,null,null,null,null,null,null,false,null,null,null,null,null,null,null,null,null,null,null,null,null,null,null,null,null,null,null,null,"0",null,null,null,null,null,null,null,null,null,null,null,{"$f":"'11計画'!C28","v":"金"},null,{"$f":"'11計画'!E28","v":"00:00:00"},null,null,"～",{"$f":"'11計画'!I28","v":"00:00:00"},null,null,{"$f":"'11計画'!L28","v":"00:00:00"},null,null,"～",{"$f":"'11計画'!P28","v":"00:00:00"},null,null,"00:00:00",null,null,{"$f":"'11計画'!V28","v":0},null,null,null,null,null,{"$f":"'11計画'!AB28","v":0},null,null,null,null,null,{"$f":"'11計画'!AH28","v":0}]
[14,null,{"$f":"'11計画'!C29:D29","v":"土"},null,{"$f":"'11計画'!E29:G29","v":"00:00:00"},null,null,"～",{"$f":"'11計画'!I29:K29","v":"00:00:00"},null,null,{"$f":"'11計画'!L29:N29","v":"00:00:00"},null,null,"～",{"$f":"'11計画'!P29:R29","v":"00:00:00"},null,null,"00:00:00",null,null,{"$f":"'11計画'!V29:AA29","v":0},null,null,null,null,null,{"$f":"'11計画'!AB29:AG29","v":0},null,null,null,null,null,{"$f":"'11計画'!AH29:AO29","v":0},null,null,null,null,null,null,null,false,null,null,null,null,null,null,null,null,null,null,null,null,null,null,null,null,null,null,null,null,"0",null,null,null,null,null,null,null,null,null,null,null,{"$f":"'11計画'!C29","v":"土"},null,{"$f":"'11計画'!E29","v":"00:00:00"},null,null,"～",{"$f":"'11計画'!I29","v":"00:00:00"},null,null,{"$f":"'11計画'!L29","v":"00:00:00"},null,null,"～",{"$f":"'11計画'!P29","v":"00:00:00"},null,null,"00:00:00",null,null,{"$f":"'11計画'!V29","v":0},null,null,null,null,null,{"$f":"'11計画'!AB29","v":0},null,null,null,null,null,{"$f":"'11計画'!AH29","v":0}]
[15,null,{"$f":"'11計画'!C30:D30","v":"日"},null,{"$f":"'11計画'!E30:G30","v":"00:00:00"},null,null,"～",{"$f":"'11計画'!I30:K30","v":"00:00:00"},null,null,{"$f":"'11計画'!L30:N30","v":"00:00:00"},null,null,"～",{"$f":"'11計画'!P30:R30","v":"00:00:00"},null,null,"00:00:00",null,null,{"$f":"'11計画'!V30:AA30","v":0},null,null,null,null,null,{"$f":"'11計画'!AB30:AG30","v":0},null,null,null,null,null,{"$f":"'11計画'!AH30:AO30","v":0},null,null,null,null,null,null,null,false,null,null,null,null,null,null,null,null,null,null,null,null,null,null,null,null,null,null,null,null,"0",null,null,null,null,null,null,null,null,null,null,null,{"$f":"'11計画'!C30","v":"日"},null,{"$f":"'11計画'!E30","v":"00:00:00"},null,null,"～",{"$f":"'11計画'!I30","v":"00:00:00"},null,null,{"$f":"'11計画'!L30","v":"00:00:00"},null,null,"～",{"$f":"'11計画'!P30","v":"00:00:00"},null,null,"00:00:00",null,null,{"$f":"'11計画'!V30","v":0},null,null,null,null,null,{"$f":"'11計画'!AB30","v":0},null,null,null,null,null,{"$f":"'11計画'!AH30","v":0}]
[16,null,{"$f":"'11計画'!C31:D31","v":"月"},null,{"$f":"'11計画'!E31:G31","v":"00:00:00"},null,null,"～",{"$f":"'11計画'!I31:K31","v":"00:00:00"},null,null,{"$f":"'11計画'!L31:N31","v":"00:00:00"},null,null,"～",{"$f":"'11計画'!P31:R31","v":"00:00:00"},null,null,"00:00:00",null,null,{"$f":"'11計画'!V31:AA31","v":0},null,null,null,null,null,{"$f":"'11計画'!AB31:AG31","v":0},null,null,null,null,null,{"$f":"'11計画'!AH31:AO31","v":0},null,null,null,null,null,null,null,false,null,null,null,null,null,null,null,null,null,null,null,null,null,null,null,null,null,null,null,null,"0",null,null,null,null,null,null,null,null,null,null,null,{"$f":"'11計画'!C31","v":"月"},null,{"$f":"'11計画'!E31","v":"00:00:00"},null,null,"～",{"$f":"'11計画'!I31","v":"00:00:00"},null,null,{"$f":"'11計画'!L31","v":"00:00:00"},null,null,"～",{"$f":"'11計画'!P31","v":"00:00:00"},null,null,"00:00:00",null,null,{"$f":"'11計画'!V31","v":0},null,null,null,null,null,{"$f":"'11計画'!AB31","v":0},null,null,null,null,null,{"$f":"'11計画'!AH31","v":0}]
[17,null,{"$f":"'11計画'!C32:D32","v":"火"},null,{"$f":"'11計画'!E32:G32","v":"00:00:00"},null,null,"～",{"$f":"'11計画'!I32:K32","v":"00:00:00"},null,null,{"$f":"'11計画'!L32:N32","v":"00:00:00"},null,null,"～",{"$f":"'11計画'!P32:R32","v":"00:00:00"},null,null,"00:00:00",null,null,{"$f":"'11計画'!V32:AA32","v":0},null,null,null,null,null,{"$f":"'11計画'!AB32:AG32","v":0},null,null,null,null,null,{"$f":"'11計画'!AH32:AO32","v":0},null,null,null,null,null,null,null,false,null,null,null,null,null,null,null,null,null,null,null,null,null,null,null,null,null,null,null,null,"0",null,null,null,null,null,null,null,null,null,null,null,{"$f":"'11計画'!C32","v":"火"},null,{"$f":"'11計画'!E32","v":"00:00:00"},null,null,"～",{"$f":"'11計画'!I32","v":"00:00:00"},null,null,{"$f":"'11計画'!L32","v":"00:00:00"},null,null,"～",{"$f":"'11計画'!P32","v":"00:00:00"},null,null,"00:00:00",null,null,{"$f":"'11計画'!V32","v":0},null,null,null,null,null,{"$f":"'11計画'!AB32","v":0},null,null,null,null,null,{"$f":"'11計画'!AH32","v":0}]
[18,null,{"$f":"'11計画'!C33:D33","v":"水"},null,{"$f":"'11計画'!E33:G33","v":"00:00:00"},null,null,"～",{"$f":"'11計画'!I33:K33","v":"00:00:00"},null,null,{"$f":"'11計画'!L33:N33","v":"00:00:00"},null,null,"～",{"$f":"'11計画'!P33:R33","v":"00:00:00"},null,null,"00:00:00",null,null,{"$f":"'11計画'!V33:AA33","v":0},null,null,null,null,null,{"$f":"'11計画'!AB33:AG33","v":0},null,null,null,null,null,{"$f":"'11計画'!AH33:AO33","v":0},null,null,null,null,null,null,null,false,null,null,null,null,null,null,null,null,null,null,null,null,null,null,null,null,null,null,null,null,"0",null,null,null,null,null,null,null,null,null,null,null,{"$f":"'11計画'!C33","v":"水"},null,{"$f":"'11計画'!E33","v":"00:00:00"},null,null,"～",{"$f":"'11計画'!I33","v":"00:00:00"},null,null,{"$f":"'11計画'!L33","v":"00:00:00"},null,null,"～",{"$f":"'11計画'!P33","v":"00:00:00"},null,null,"00:00:00",null,null,{"$f":"'11計画'!V33","v":0},null,null,null,null,null,{"$f":"'11計画'!AB33","v":0},null,null,null,null,null,{"$f":"'11計画'!AH33","v":0}]
[19,null,{"$f":"'11計画'!C34:D34","v":"木"},null,{"$f":"'11計画'!E34:G34","v":"00:00:00"},null,null,"～",{"$f":"'11計画'!I34:K34","v":"00:00:00"},null,null,{"$f":"'11計画'!L34:N34","v":"00:00:00"},null,null,"～",{"$f":"'11計画'!P34:R34","v":"00:00:00"},null,null,"00:00:00",null,null,{"$f":"'11計画'!V34:AA34","v":0},null,null,null,null,null,{"$f":"'11計画'!AB34:AG34","v":0},null,null,null,null,null,{"$f":"'11計画'!AH34:AO34","v":0},null,null,null,null,null,null,null,false,null,null,null,null,null,null,null,null,null,null,null,null,null,null,null,null,null,null,null,null,"0",null,null,null,null,null,null,null,null,null,null,null,{"$f":"'11計画'!C34","v":"木"},null,{"$f":"'11計画'!E34","v":"00:00:00"},null,null,"～",{"$f":"'11計画'!I34","v":"00:00:00"},null,null,{"$f":"'11計画'!L34","v":"00:00:00"},null,null,"～",{"$f":"'11計画'!P34","v":"00:00:00"},null,null,"00:00:00",null,null,{"$f":"'11計画'!V34","v":0},null,null,null,null,null,{"$f":"'11計画'!AB34","v":0},null,null,null,null,null,{"$f":"'11計画'!AH34","v":0}]
[20,null,{"$f":"'11計画'!C35:D35","v":"金"},null,{"$f":"'11計画'!E35:G35","v":"00:00:00"},null,null,"～",{"$f":"'11計画'!I35:K35","v":"00:00:00"},null,null,{"$f":"'11計画'!L35:N35","v":"00:00:00"},null,null,"～",{"$f":"'11計画'!P35:R35","v":"00:00:00"},null,null,"00:00:00",null,null,{"$f":"'11計画'!V35:AA35","v":0},null,null,null,null,null,{"$f":"'11計画'!AB35:AG35","v":0},null,null,null,null,null,{"$f":"'11計画'!AH35:AO35","v":0},null,null,null,null,null,null,null,false,null,null,null,null,null,null,null,null,null,null,null,null,null,null,null,null,null,null,null,null,"0",null,null,null,null,null,null,null,null,null,null,null,{"$f":"'11計画'!C35","v":"金"},null,{"$f":"'11計画'!E35","v":"00:00:00"},null,null,"～",{"$f":"'11計画'!I35","v":"00:00:00"},null,null,{"$f":"'11計画'!L35","v":"00:00:00"},null,null,"～",{"$f":"'11計画'!P35","v":"00:00:00"},null,null,"00:00:00",null,null,{"$f":"'11計画'!V35","v":0},null,null,null,null,null,{"$f":"'11計画'!AB35","v":0},null,null,null,null,null,{"$f":"'11計画'!AH35","v":0}]
[21,null,{"$f":"'11計画'!C36:D36","v":"土"},null,{"$f":"'11計画'!E36:G36","v":"00:00:00"},null,null,"～",{"$f":"'11計画'!I36:K36","v":"00:00:00"},null,null,{"$f":"'11計画'!L36:N36","v":"00:00:00"},null,null,"～",{"$f":"'11計画'!P36:R36","v":"00:00:00"},null,null,"00:00:00",null,null,{"$f":"'11計画'!V36:AA36","v":0},null,null,null,null,null,{"$f":"'11計画'!AB36:AG36","v":0},null,null,null,null,null,{"$f":"'11計画'!AH36:AO36","v":0},null,null,null,null,null,null,null,false,null,null,null,null,null,null,null,null,null,null,null,null,null,null,null,null,null,null,null,null,"0",null,null,null,null,null,null,null,null,null,null,null,{"$f":"'11計画'!C36","v":"土"},null,{"$f":"'11計画'!E36","v":"00:00:00"},null,null,"～",{"$f":"'11計画'!I36","v":"00:00:00"},null,null,{"$f":"'11計画'!L36","v":"00:00:00"},null,null,"～",{"$f":"'11計画'!P36","v":"00:00:00"},null,null,"00:00:00",null,null,{"$f":"'11計画'!V36","v":0},null,null,null,null,null,{"$f":"'11計画'!AB36","v":0},null,null,null,null,null,{"$f":"'11計画'!AH36","v":0}]
[22,null,{"$f":"'11計画'!C37:D37","v":"日"},null,{"$f":"'11計画'!E37:G37","v":"00:00:00"},null,null,"～",{"$f":"'11計画'!I37:K37","v":"00:00:00"},null,null,{"$f":"'11計画'!L37:N37","v":"00:00:00"},null,null,"～",{"$f":"'11計画'!P37:R37","v":"00:00:00"},null,null,"00:00:00",null,null,{"$f":"'11計画'!V37:AA37","v":0},null,null,null,null,null,{"$f":"'11計画'!AB37:AG37","v":0},null,null,null,null,null,{"$f":"'11計画'!AH37:AO37","v":0},null,null,null,null,null,null,null,false,null,null,null,null,null,null,null,null,null,null,null,null,null,null,null,null,null,null,null,null,"0",null,null,null,null,null,null,null,null,null,null,null,{"$f":"'11計画'!C37","v":"日"},null,{"$f":"'11計画'!E37","v":"00:00:00"},null,null,"～",{"$f":"'11計画'!I37","v":"00:00:00"},null,null,{"$f":"'11計画'!L37","v":"00:00:00"},null,null,"～",{"$f":"'11計画'!P37","v":"00:00:00"},null,null,"00:00:00",null,null,{"$f":"'11計画'!V37","v":0},null,null,null,null,null,{"$f":"'11計画'!AB37","v":0},null,null,null,null,null,{"$f":"'11計画'!AH37","v":0}]
[23,null,{"$f":"'11計画'!C38:D38","v":"月"},null,{"$f":"'11計画'!E38:G38","v":"00:00:00"},null,null,"～",{"$f":"'11計画'!I38:K38","v":"00:00:00"},null,null,{"$f":"'11計画'!L38:N38","v":"00:00:00"},null,null,"～",{"$f":"'11計画'!P38:R38","v":"00:00:00"},null,null,"00:00:00",null,null,{"$f":"'11計画'!V38:AA38","v":0},null,null,null,null,null,{"$f":"'11計画'!AB38:AG38","v":0},null,null,null,null,null,{"$f":"'11計画'!AH38:AO38","v":0},null,null,null,null,null,null,null,false,null,null,null,null,null,null,null,null,null,null,null,null,null,null,null,null,null,null,null,null,"0",null,null,null,null,null,null,null,null,null,null,null,{"$f":"'11計画'!C38","v":"月"},null,{"$f":"'11計画'!E38","v":"00:00:00"},null,null,"～",{"$f":"'11計画'!I38","v":"00:00:00"},null,null,{"$f":"'11計画'!L38","v":"00:00:00"},null,null,"～",{"$f":"'11計画'!P38","v":"00:00:00"},null,null,"00:00:00",null,null,{"$f":"'11計画'!V38","v":0},null,null,null,null,null,{"$f":"'11計画'!AB38","v":0},null,null,null,null,null,{"$f":"'11計画'!AH38","v":0}]
[24,null,{"$f":"'11計画'!C39:D39","v":"火"},null,{"$f":"'11計画'!E39:G39","v":"00:00:00"},null,null,"～",{"$f":"'11計画'!I39:K39","v":"00:00:00"},null,null,{"$f":"'11計画'!L39:N39","v":"00:00:00"},null,null,"～",{"$f":"'11計画'!P39:R39","v":"00:00:00"},null,null,"00:00:00",null,null,{"$f":"'11計画'!V39:AA39","v":0},null,null,null,null,null,{"$f":"'11計画'!AB39:AG39","v":0},null,null,null,null,null,{"$f":"'11計画'!AH39:AO39","v":0},null,null,null,null,null,null,null,false,null,null,null,null,null,null,null,null,null,null,null,null,null,null,null,null,null,null,null,null,"0",null,null,null,null,null,null,null,null,null,null,null,{"$f":"'11計画'!C39","v":"火"},null,{"$f":"'11計画'!E39","v":"00:00:00"},null,null,"～",{"$f":"'11計画'!I39","v":"00:00:00"},null,null,{"$f":"'11計画'!L39","v":"00:00:00"},null,null,"～",{"$f":"'11計画'!P39","v":"00:00:00"},null,null,"00:00:00",null,null,{"$f":"'11計画'!V39","v":0},null,null,null,null,null,{"$f":"'11計画'!AB39","v":0},null,null,null,null,null,{"$f":"'11計画'!AH39","v":0}]
[25,null,{"$f":"'11計画'!C40:D40","v":"水"},null,{"$f":"'11計画'!E40:G40","v":"00:00:00"},null,null,"～",{"$f":"'11計画'!I40:K40","v":"00:00:00"},null,null,{"$f":"'11計画'!L40:N40","v":"00:00:00"},null,null,"～",{"$f":"'11計画'!P40:R40","v":"00:00:00"},null,null,"00:00:00",null,null,{"$f":"'11計画'!V40:AA40","v":0},null,null,null,null,null,{"$f":"'11計画'!AB40:AG40","v":0},null,null,null,null,null,{"$f":"'11計画'!AH40:AO40","v":0},null,null,null,null,null,null,null,false,null,null,null,null,null,null,null,null,null,null,null,null,null,null,null,null,null,null,null,null,"0",null,null,null,null,null,null,null,null,null,null,null,{"$f":"'11計画'!C40","v":"水"},null,{"$f":"'11計画'!E40","v":"00:00:00"},null,null,"～",{"$f":"'11計画'!I40","v":"00:00:00"},null,null,{"$f":"'11計画'!L40","v":"00:00:00"},null,null,"～",{"$f":"'11計画'!P40","v":"00:00:00"},null,null,"00:00:00",null,null,{"$f":"'11計画'!V40","v":0},null,null,null,null,null,{"$f":"'11計画'!AB40","v":0},null,null,null,null,null,{"$f":"'11計画'!AH40","v":0}]
[26,null,{"$f":"'11計画'!C41:D41","v":"木"},null,{"$f":"'11計画'!E41:G41","v":"00:00:00"},null,null,"～",{"$f":"'11計画'!I41:K41","v":"00:00:00"},null,null,{"$f":"'11計画'!L41:N41","v":"00:00:00"},null,null,"～",{"$f":"'11計画'!P41:R41","v":"00:00:00"},null,null,"00:00:00",null,null,{"$f":"'11計画'!V41:AA41","v":0},null,null,null,null,null,{"$f":"'11計画'!AB41:AG41","v":0},null,null,null,null,null,{"$f":"'11計画'!AH41:AO41","v":0},null,null,null,null,null,null,null,false,null,null,null,null,null,null,null,null,null,null,null,null,null,null,null,null,null,null,null,null,"0",null,null,null,null,null,null,null,null,null,null,null,{"$f":"'11計画'!C41","v":"木"},null,{"$f":"'11計画'!E41","v":"00:00:00"},null,null,"～",{"$f":"'11計画'!I41","v":"00:00:00"},null,null,{"$f":"'11計画'!L41","v":"00:00:00"},null,null,"～",{"$f":"'11計画'!P41","v":"00:00:00"},null,null,"00:00:00",null,null,{"$f":"'11計画'!V41","v":0},null,null,null,null,null,{"$f":"'11計画'!AB41","v":0},null,null,null,null,null,{"$f":"'11計画'!AH41","v":0}]
[27,null,{"$f":"'11計画'!C42:D42","v":"金"},null,{"$f":"'11計画'!E42:G42","v":"00:00:00"},null,null,"～",{"$f":"'11計画'!I42:K42","v":"00:00:00"},null,null,{"$f":"'11計画'!L42:N42","v":"00:00:00"},null,null,"～",{"$f":"'11計画'!P42:R42","v":"00:00:00"},null,null,"00:00:00",null,null,{"$f":"'11計画'!V42:AA42","v":0},null,null,null,null,null,{"$f":"'11計画'!AB42:AG42","v":0},null,null,null,null,null,{"$f":"'11計画'!AH42:AO42","v":0},null,null,null,null,null,null,null,false,null,null,null,null,null,null,null,null,null,null,null,null,null,null,null,null,null,null,null,null,"0",null,null,null,null,null,null,null,null,null,null,null,{"$f":"'11計画'!C42","v":"金"},null,{"$f":"'11計画'!E42","v":"00:00:00"},null,null,"～",{"$f":"'11計画'!I42","v":"00:00:00"},null,null,{"$f":"'11計画'!L42","v":"00:00:00"},null,null,"～",{"$f":"'11計画'!P42","v":"00:00:00"},null,null,"00:00:00",null,null,{"$f":"'11計画'!V42","v":0},null,null,null,null,null,{"$f":"'11計画'!AB42","v":0},null,null,null,null,null,{"$f":"'11計画'!AH42","v":0}]
[28,null,{"$f":"'11計画'!C43:D43","v":"土"},null,{"$f":"'11計画'!E43:G43","v":"00:00:00"},null,null,"～",{"$f":"'11計画'!I43:K43","v":"00:00:00"},null,null,{"$f":"'11計画'!L43:N43","v":"00:00:00"},null,null,"～",{"$f":"'11計画'!P43:R43","v":"00:00:00"},null,null,"00:00:00",null,null,{"$f":"'11計画'!V43:AA43","v":0},null,null,null,null,null,{"$f":"'11計画'!AB43:AG43","v":0},null,null,null,null,null,{"$f":"'11計画'!AH43:AO43","v":0},null,null,null,null,null,null,null,false,null,null,null,null,null,null,null,null,null,null,null,null,null,null,null,null,null,null,null,null,"0",null,null,null,null,null,null,null,null,null,null,null,{"$f":"'11計画'!C43","v":"土"},null,{"$f":"'11計画'!E43","v":"00:00:00"},null,null,"～",{"$f":"'11計画'!I43","v":"00:00:00"},null,null,{"$f":"'11計画'!L43","v":"00:00:00"},null,null,"～",{"$f":"'11計画'!P43","v":"00:00:00"},null,null,"00:00:00",null,null,{"$f":"'11計画'!V43","v":0},null,null,null,null,null,{"$f":"'11計画'!AB43","v":0},null,null,null,null,null,{"$f":"'11計画'!AH43","v":0}]
[29,null,{"$f":"'11計画'!C44:D44","v":"日"},null,{"$f":"'11計画'!E44:G44","v":"00:00:00"},null,null,"～",{"$f":"'11計画'!I44:K44","v":"00:00:00"},null,null,{"$f":"'11計画'!L44:N44","v":"00:00:00"},null,null,"～",{"$f":"'11計画'!P44:R44","v":"00:00:00"},null,null,"00:00:00",null,null,{"$f":"'11計画'!V44:AA44","v":0},null,null,null,null,null,{"$f":"'11計画'!AB44:AG44","v":0},null,null,null,null,null,{"$f":"'11計画'!AH44:AO44","v":0},null,null,null,null,null,null,null,false,null,null,null,null,null,null,null,null,null,null,null,null,null,null,null,null,null,null,null,null,"0",null,null,null,null,null,null,null,null,null,null,null,{"$f":"'11計画'!C44","v":"日"},null,{"$f":"'11計画'!E44","v":"00:00:00"},null,null,"～",{"$f":"'11計画'!I44","v":"00:00:00"},null,null,{"$f":"'11計画'!L44","v":"00:00:00"},null,null,"～",{"$f":"'11計画'!P44","v":"00:00:00"},null,null,"00:00:00",null,null,{"$f":"'11計画'!V44","v":0},null,null,null,null,null,{"$f":"'11計画'!AB44","v":0},null,null,null,null,null,{"$f":"'11計画'!AH44","v":0}]
[30,null,{"$f":"'11計画'!C45:D45","v":"月"},null,{"$f":"'11計画'!E45:G45","v":"00:00:00"},null,null,"～",{"$f":"'11計画'!I45:K45","v":"00:00:00"},null,null,{"$f":"'11計画'!L45:N45","v":"00:00:00"},null,null,"～",{"$f":"'11計画'!P45:R45","v":"00:00:00"},null,null,"00:00:00",null,null,{"$f":"'11計画'!V45:AA45","v":0},null,null,null,null,null,{"$f":"'11計画'!AB45:AG45","v":0},null,null,null,null,null,{"$f":"'11計画'!AH45:AO45","v":0},null,null,null,null,null,null,null,false,null,null,null,null,null,null,null,null,null,null,null,null,null,null,null,null,null,null,null,null,"0",null,null,null,null,null,null,null,null,null,null,null,{"$f":"'11計画'!C45","v":"月"},null,{"$f":"'11計画'!E45","v":"00:00:00"},null,null,"～",{"$f":"'11計画'!I45","v":"00:00:00"},null,null,{"$f":"'11計画'!L45","v":"00:00:00"},null,null,"～",{"$f":"'11計画'!P45","v":"00:00:00"},null,null,"00:00:00",null,null,{"$f":"'11計画'!V45","v":0},null,null,null,null,null,{"$f":"'11計画'!AB45","v":0},null,null,null,null,null,{"$f":"'11計画'!AH45","v":0}]
[null,null,{"$f":"'11計画'!C46:D46","v":""},null,{"$f":"'11計画'!E46:G46","v":"00:00:00"},null,null,"～",{"$f":"'11計画'!I46:K46","v":"00:00:00"},null,null,{"$f":"'11計画'!L46:N46","v":"00:00:00"},null,null,"～",{"$f":"'11計画'!P46:R46","v":"00:00:00"},null,null,"00:00:00",null,null,{"$f":"'11計画'!V46:AA46","v":0},null,null,null,null,null,{"$f":"'11計画'!AB46:AG46","v":0},null,null,null,null,null,{"$f":"'11計画'!AH46:AO46","v":0},null,null,null,null,null,null,null,false,null,null,null,null,null,null,null,null,null,null,null,null,null,null,null,null,null,null,null,null,"0",null,null,null,null,null,null,null,null,null,null,null,{"$f":"'11計画'!C46","v":""},null,{"$f":"'11計画'!E46","v":"00:00:00"},null,null,"～",{"$f":"'11計画'!I46","v":"00:00:00"},null,null,{"$f":"'11計画'!L46","v":"00:00:00"},null,null,"～",{"$f":"'11計画'!P46","v":"00:00:00"},null,null,"00:00:00",null,null,{"$f":"'11計画'!V46","v":0},null,null,null,null,null,{"$f":"'11計画'!AB46","v":0},null,null,null,null,null,{"$f":"'11計画'!AH46","v":0}]
[null,null,null,null,null,null,null,null,null,null,null,null,null,null,null,null,null,null,{"$f":"SUM(S16:U46)","v":0},null,null,null,null,null,null,null,null,null,null,null,null,null,null,null,null,null,null,null,null,null,null,null,null,null,null,null,null,null,null,null,null,null,null,null,null,null,null,null,null,null,null,null,null,null,null,null,null,null,null,null,null,null,null,null,null,null,null,null,null,null,null,null,null,null,null,null,null,null,null,null,{"$f":"SUM(CM16:CO46)","v":0}]
[]
["月",null,null,4,null,5,null,6,null,7,null,8,null,9,null,10,null,11,null,12,null,1,null,2,null,3,null,"計"]
["時間",null,null,{"$f":"'４実績'!D50","v":0},null,{"$f":"'５実績'!F50","v":0},null,{"$f":"'6実績'!H50","v":0},null,{"$f":"'7実績'!J50","v":0},null,{"$f":"'8実績'!L50:M50","v":0},null,{"$f":"'9実績'!N50:O50","v":0},null,{"$f":"'10実績'!P50:Q50","v":0},null,{"$f":"S47","v":0},null,null,null,null,null,null,null,null,null,{"$f":"SUM(D50:AA50)","v":0},null,null,null,null,"時間",null,null,null,null,null,null,null,null,null,null,null,null,null,null,null,null,null,null,null,null,null,null,null,null,null,null,null,null,null,null,null,null,null,null,null,null,null,null,null,null,null,null,{"$f":"'４実績'!D50","v":0},null,{"$f":"'５実績'!F50","v":0},null,{"$f":"'6実績'!H50","v":0},null,{"$f":"'7実績'!J50","v":0},null,{"$f":"'8実績'!L50","v":0},null,{"$f":"'9実績'!N50","v":0},null,{"$f":"'10実績'!P50","v":0},null,{"$f":"CM47","v":0},null,null,null,null,null,null,null,null,null,{"$f":"SUM(BX50:CU50)","v":0}]
["活動日数",null,null,{"$f":"'４実績'!D51","v":0},null,{"$f":"'５実績'!F51","v":0},null,{"$f":"'6実績'!H51","v":0},null,{"$f":"'7実績'!J51","v":0},null,{"$f":"'8実績'!L51:M51","v":0},null,{"$f":"'9実績'!N51:O51","v":0},null,{"$f":"'10実績'!P51:Q51","v":0},null,{"$f":"COUNTIF(S16:U46,\">0\")","v":0},null,null,null,null,null,null,null,null,null,{"$f":"SUM(D51:AA51)","v":0},null,null,null,null,"活動日数",null,null,null,null,null,null,null,null,null,null,null,null,null,null,null,null,null,null,null,null,null,null,null,null,null,null,null,null,null,null,null,null,null,null,null,null,null,null,null,null,null,null,{"$f":"'４実績'!D51","v":0},null,{"$f":"'５実績'!F51","v":0},null,{"$f":"'6実績'!H51","v":0},null,{"$f":"'7実績'!J51","v":0},null,{"$f":"'8実績'!L51","v":0},null,{"$f":"'9実績'!N51","v":0},null,{"$f":"'10実績'!P51","v":0},null,{"$f":"COUNTIF(CM16:CO46,\">0\")","v":0},null,null,null,null,null,null,null,null,null,{"$f":"SUM(BX51:CU51)","v":0}]
["休養日数",null,null,{"$f":"'４実績'!D52","v":30},null,{"$f":"'５実績'!F52","v":31},null,{"$f":"'6実績'!H52","v":30},null,{"$f":"'7実績'!J52","v":31},null,{"$f":"'8実績'!L52:M52","v":31},null,{"$f":"'9実績'!N52:O52","v":30},null,{"$f":"'10実績'!P52:Q52","v":31},null,{"$f":"COUNTIF(S16:U45,\"0:00\")","v":30},null,null,null,null,null,null,null,null,null,{"$f":"SUM(D52:AA52)","v":244},null,null,null,null,"休養日数",null,null,null,null,null,null,null,null,null,null,null,null,null,null,null,null,null,null,null,null,null,null,null,null,null,null,null,null,null,null,null,null,null,null,null,null,null,null,null,null,null,null,{"$f":"'４実績'!D52","v":30},null,{"$f":"'５実績'!F52","v":31},null,{"$f":"'6実績'!H52","v":30},null,{"$f":"'7実績'!J52","v":31},null,{"$f":"'8実績'!L52","v":31},null,{"$f":"'9実績'!N52","v":30},null,{"$f":"'10実績'!P52","v":31},null,{"$f":"COUNTIF(CM16:CO45,\"0:00\")","v":30},null,null,null,null,null,null,null,null,null,{"$f":"SUM(BX52:CU52)","v":244}]
[null,null,null,null,null,null,null,null,null,null,null,null,null,null,null,null,null,null,null,null,null,null,null,null,null,null,null,{"$f":"AB50/AB51","v":{"$error":"#DIV/0!"}},null,null,null,null,"平均時間/日",null,null,null,null,null,null,null,null,null,null,null,null,null,null,null,null,null,null,null,null,null,null,null,null,null,null,null,null,null,null,null,null,null,null,null,null,null,null,null,null,null,null,null,null,null,null,null,null,null,null,null,null,null,null,null,null,null,null,null,null,null,null,null,null,null,null,{"$f":"CV50/CV51","v":{"$error":"#DIV/0!"}}]

{"sheet":"12実績","index":21,"n_rows":53,"n_cols":112,"rows_kept":53,"cut":false,"hidden":false,"merged":[[51,91,51,92],[51,93,51,94],[51,95,51,96],[51,97,51,98],[51,99,51,103],[51,104,51,106],[52,99,52,103],[52,104,52,106],[51,72,51,74],[51,75,51,76],[51,77,51,78],[51,79,51,80],[51,81,51,82],[51,83,51,84],[51,85,51,86],[51,87,51,88],[51,89,51,90],[50,91,50,92],[50,93,50,94],[50,95,50,96],[50,97,50,98],[50,99,50,103],[50,104,50,106],[49,72,49,74],[49,75,49,76],[49,77,49,78],[50,72,50,74],[50,75,50,76],[50,77,50,78],[50,79,50,80],[50,81,50,82],[50,83,50,84],[50,85,50,86],[50,87,50,88],[50,89,50,90],[49,79,49,80],[49,81,49,82],[49,83,49,84],[49,85,49,86],[49,87,49,88],[49,89,49,90],[46,90,46,92],[46,104,48,108],[46,109,46,112],[47,109,48,112],[48,91,48,92],[48,93,48,94],[48,95,48,96],[48,97,48,98],[48,99,48,103],[49,91,49,92],[49,93,49,94],[49,95,49,96],[49,97,49,98],[49,99,49,103],[49,104,49,106],[48,72,48,74],[48,75,48,76],[48,77,48,78],[48,79,48,80],[48,81,48,82],[48,83,48,84],[48,85,48,86],[48,87,48,88],[48,89,48,90],[44,105,44,112],[45,72,45,73],[45,74,45,75],[45,76,45,78],[45,80,45,82],[45,83,45,85],[45,87,45,89],[45,90,45,92],[45,93,45,98],[45,99,45,104],[45,105,45,112],[44,72,44,73],[44,74,44,75],[44,76,44,78],[44,80,44,82],[44,83,44,85],[44,87,44,89],[44,90,44,92],[44,93,44,98],[44,99,44,104],[42,105,42,112],[43,72,43,73],[43,74,43,75],[43,76,43,78],[43,80,43,82],[43,83,43,85],[43,87,43,89],[43,90,43,92],[43,93,43,98],[43,99,43,104],[43,105,43,112],[42,72,42,73],[42,74,42,75],[42,76,42,78],[42,80,42,82],[42,83,42,85],[42,87,42,89],[42,90,42,92],[42,93,42,98],[42,99,42,104],[40,105,40,112],[41,72,41,73],[41,74,41,75],[41,76,41,78],[41,80,41,82],[41,83,41,85],[41,87,41,89],[41,90,41,92],[41,93,41,98],[41,99,41,104],[41,105,41,112],[40,72,40,73],[40,74,40,75],[40,76,40,78],[40,80,40,82],[40,83,40,85],[40,87,40,89],[40,90,40,92],[40,93,40,98],[40,99,40,104],[38,105,38,112],[39,72,39,73],[39,74,39,75],[39,76,39,78],[39,80,39,82],[39,83,39,85],[39,87,39,89],[39,90,39,92],[39,93,39,98],[39,99,39,104],[39,105,39,112],[38,72,38,73],[38,74,38,75],[38,76,38,78],[38,80,38,82],[38,83,38,85],[38,87,38,89],[38,90,38,92],[38,93,38,98],[38,99,38,104],[36,105,36,112],[37,72,37,73],[37,74,37,75],[37,76,37,78],[37,80,37,82],[37,83,37,85],[37,87,37,89],[37,90,37,92],[37,93,37,98],[37,99,37,104],[37,105,37,112],[36,72,36,73],[36,74,36,75],[36,76,36,78],[36,80,36,82],[36,83,36,85],[36,87,36,89],[36,90,36,92],[36,93,36,98],[36,99,36,104],[34,105,34,112],[35,72,35,73],[35,74,35,75],[35,76,35,78],[35,80,35,82],[35,83,35,85],[35,87,35,89],[35,90,35,92],[35,93,35,98],[35,99,35,104],[35,105,35,112],[34,72,34,73],[34,74,34,75],[34,76,34,78],[34,80,34,82],[34,83,34,85],[34,87,34,89],[34,90,34,92],[34,93,34,98],[34,99,34,104],[32,105,32,112],[33,72,33,73],[33,74,33,75],[33,76,33,78],[33,80,33,82],[33,83,33,85],[33,87,33,89],[33,90,33,92],[33,93,33,98],[33,99,33,104],[33,105,33,112],[32,72,32,73],[32,74,32,75],[32,76,32,78],[32,80,32,82],[32,83,32,85],[32,87,32,89],[32,90,32,92],[32,93,32,98],[32,99,32,104],[30,105,30,112],[31,72,31,73],[31,74,31,75],[31,76,31,78],[31,80,31,82],[31,83,31,85],[31,87,31,89],[31,90,31,92],[31,93,31,98],[31,99,31,104],[31,105,31,112],[30,72,30,73],[30,74,30,75],[30,76,30,78],[30,80,30,82],[30,83,30,85],[30,87,30,89],[30,90,30,92],[30,93,30,98],[30,99,30,104],[28,105,28,112],[29,72,29,73],[29,74,29,75],[29,76,29,78],[29,80,29,82],[29,83,29,85],[29,87,29,89],[29,90,29,92],[29,93,29,98],[29,99,29,104],[29,105,29,112],[28,72,28,73],[28,74,28,75],[28,76,28,78],[28,80,28,82],[28,83,28,85],[28,87,28,89],[28,90,28,92],[28,93,28,98],[28,99,28,104],[26,105,26,112],[27,72,27,73],[27,74,27,75],[27,76,27,78],[27,80,27,82],[27,83,27,85],[27,87,27,89],[27,90,27,92],[27,93,27,98],[27,99,27,104],[27,105,27,112],[26,72,26,73],[26,74,26,75],[26,76,26,78],[26,80,26,82],[26,83,26,85],[26,87,26,89],[26,90,26,92],[26,93,26,98],[26,99,26,104],[24,105,24,112],[25,72,25,73],[25,74,25,75],[25,76,25,78],[25,80,25,82],[25,83,25,85],[25,87,25,89],[25,90,25,92],[25,93,25,98],[25,99,25,104],[25,105,25,112],[24,72,24,73],[24,74,24,75],[24,76,24,78],[24,80,24,82],[24,83,24,85],[24,87,24,89],[24,90,24,92],[24,93,24,98],[24,99,24,104],[22,105,22,112],[23,72,23,73],[23,74,23,75],[23,76,23,78],[23,80,23,82],[23,83,23,85],[23,87,23,89],[23,90,23,92],[23,93,23,98],[23,99,23,104],[23,105,23,112],[22,72,22,73],[22,74,22,75],[22,76,22,78],[22,80,22,82],[22,83,22,85],[22,87,22,89],[22,90,22,92],[22,93,22,98],[22,99,22,104],[20,105,20,112],[21,72,21,73],[21,74,21,75],[21,76,21,78],[21,80,21,82],[21,83,21,85],[21,87,21,89],[21,90,21,92],[21,93,21,98],[21,99,21,104],[21,105,21,112],[20,72,20,73],[20,74,20,75],[20,76,20,78],[20,80,20,82],[20,83,20,85],[20,87,20,89],[20,90,20,92],[20,93,20,98],[20,99,20,104],[18,105,18,112],[19,72,19,73],[19,74,19,75],[19,76,19,78],[19,80,19,82],[19,83,19,85],[19,87,19,89],[19,90,19,92],[19,93,19,98],[19,99,19,104],[19,105,19,112],[18,72,18,73],[18,74,18,75],[18,76,18,78],[18,80,18,82],[18,83,18,85],[18,87,18,89],[18,90,18,92],[18,93,18,98],[18,99,18,104],[16,105,16,112],[17,72,17,73],[17,74,17,75],[17,76,17,78],[17,80,17,82],[17,83,17,85],[17,87,17,89],[17,90,17,92],[17,93,17,98],[17,99,17,104],[17,105,17,112],[16,72,16,73],[16,74,16,75],[16,76,16,78],[16,80,16,82],[16,83,16,85],[16,87,16,89],[16,90,16,92],[16,93,16,98],[16,99,16,104],[14,72,14,73],[14,74,14,75],[14,76,14,82],[14,83,14,89],[14,90,14,92],[14,93,14,104],[14,105,14,112],[15,72,15,73],[15,74,15,75],[15,76,15,78],[15,80,15,82],[15,83,15,85],[15,87,15,89],[15,90,15,92],[15,93,15,98],[15,99,15,104],[15,105,15,112],[9,111,10,112],[11,73,12,74],[11,75,12,79],[11,80,12,81],[11,82,12,90],[11,91,12,92],[11,93,12,94],[11,95,12,99],[11,100,12,101],[11,102,12,110],[11,111,12,112],[9,73,10,74],[9,75,10,79],[9,80,10,81],[9,82,10,90],[9,91,10,92],[9,93,10,94],[9,95,10,99],[9,100,10,101],[9,102,10,110],[6,109,6,110],[6,111,6,112],[7,99,7,100],[7,101,7,102],[7,103,7,104],[7,105,7,106],[7,107,7,108],[7,109,7,110],[7,111,7,112],[6,72,7,76],[6,77,7,79],[6,80,7,94],[6,96,7,98],[6,99,6,100],[6,101,6,102],[6,103,6,104],[6,105,6,106],[6,107,6,108],[1,110,2,112],[2,72,4,75],[2,76,4,79],[2,80,4,83],[2,84,4,87],[2,88,4,91],[2,92,4,95],[3,97,4,99],[3,100,4,109],[3,110,4,112],[0,72,0,75],[1,72,1,75],[1,76,1,79],[1,80,1,83],[1,84,1,87],[1,88,1,91],[1,92,1,95],[1,97,2,99],[1,100,2,109],[41,42,41,45],[42,42,42,45],[43,42,43,45],[44,42,44,45],[45,42,45,45],[32,42,32,45],[33,42,33,45],[34,42,34,45],[35,42,35,45],[36,42,36,45],[37,42,37,45],[38,42,38,45],[39,42,39,45],[40,42,40,45],[23,42,23,45],[24,42,24,45],[25,42,25,45],[26,42,26,45],[27,42,27,45],[28,42,28,45],[29,42,29,45],[30,42,30,45],[31,42,31,45],[14,42,14,45],[15,42,15,45],[16,42,16,45],[17,42,17,45],[18,42,18,45],[19,42,19,45],[20,42,20,45],[21,42,21,45],[22,42,22,45],[0,0,0,3],[1,0,1,3],[1,4,1,7],[1,8,1,11],[1,12,1,15],[1,16,1,19],[1,20,1,23],[1,25,2,27],[1,28,2,37],[1,38,2,40],[2,0,4,3],[2,4,4,7],[2,8,4,11],[2,12,4,15],[2,16,4,19],[2,20,4,23],[3,25,4,27],[3,28,4,37],[3,38,4,40],[6,0,7,4],[6,5,7,7],[6,8,7,22],[6,24,7,26],[6,27,6,28],[6,29,6,30],[6,31,6,32],[6,33,6,34],[6,35,6,36],[9,23,10,27],[9,28,10,29],[9,30,10,38],[6,37,6,38],[6,39,6,40],[7,27,7,28],[7,29,7,30],[7,31,7,32],[7,33,7,34],[7,35,7,36],[7,37,7,38],[7,39,7,40],[11,39,12,40],[14,0,14,1],[14,2,14,3],[14,4,14,10],[14,11,14,17],[14,18,14,20],[14,21,14,32],[14,33,14,40],[9,39,10,40],[11,1,12,2],[11,3,12,7],[11,8,12,9],[11,10,12,18],[11,19,12,20],[11,21,12,22],[11,23,12,27],[11,28,12,29],[11,30,12,38],[9,1,10,2],[9,3,10,7],[9,8,10,9],[9,10,10,18],[9,19,10,20],[9,21,10,22],[15,18,15,20],[15,21,15,26],[15,27,15,32],[15,33,15,40],[16,0,16,1],[16,2,16,3],[16,4,16,6],[16,8,16,10],[16,11,16,13],[16,15,16,17],[15,0,15,1],[15,2,15,3],[15,4,15,6],[15,8,15,10],[15,11,15,13],[15,15,15,17],[16,18,16,20],[16,21,16,26],[16,27,16,32],[16,33,16,40],[17,33,17,40],[18,0,18,1],[18,2,18,3],[18,4,18,6],[18,8,18,10],[18,11,18,13],[18,15,18,17],[18,18,18,20],[18,21,18,26],[18,27,18,32],[18,33,18,40],[17,0,17,1],[17,2,17,3],[17,4,17,6],[17,8,17,10],[17,11,17,13],[17,15,17,17],[17,18,17,20],[17,21,17,26],[17,27,17,32],[19,33,19,40],[20,0,20,1],[20,2,20,3],[20,4,20,6],[20,8,20,10],[20,11,20,13],[20,15,20,17],[20,18,20,20],[20,21,20,26],[20,27,20,32],[20,33,20,40],[19,0,19,1],[19,2,19,3],[19,4,19,6],[19,8,19,10],[19,11,19,13],[19,15,19,17],[19,18,19,20],[19,21,19,26],[19,27,19,32],[21,33,21,40],[22,0,22,1],[22,2,22,3],[22,4,22,6],[22,8,22,10],[22,11,22,13],[22,15,22,17],[22,18,22,20],[22,21,22,26],[22,27,22,32],[22,33,22,40],[21,0,21,1],[21,2,21,3],[21,4,21,6],[21,8,21,10],[21,11,21,13],[21,15,21,17],[21,18,21,20],[21,21,21,26],[21,27,21,32],[23,33,23,40],[24,0,24,1],[24,2,24,3],[24,4,24,6],[24,8,24,10],[24,11,24,13],[24,15,24,17],[24,18,24,20],[24,21,24,26],[24,27,24,32],[24,33,24,40],[23,0,23,1],[23,2,23,3],[23,4,23,6],[23,8,23,10],[23,11,23,13],[23,15,23,17],[23,18,23,20],[23,21,23,26],[23,27,23,32],[25,33,25,40],[26,0,26,1],[26,2,26,3],[26,4,26,6],[26,8,26,10],[26,11,26,13],[26,15,26,17],[26,18,26,20],[26,21,26,26],[26,27,26,32],[26,33,26,40],[25,0,25,1],[25,2,25,3],[25,4,25,6],[25,8,25,10],[25,11,25,13],[25,15,25,17],[25,18,25,20],[25,21,25,26],[25,27,25,32],[27,33,27,40],[28,0,28,1],[28,2,28,3],[28,4,28,6],[28,8,28,10],[28,11,28,13],[28,15,28,17],[28,18,28,20],[28,21,28,26],[28,27,28,32],[28,33,28,40],[27,0,27,1],[27,2,27,3],[27,4,27,6],[27,8,27,10],[27,11,27,13],[27,15,27,17],[27,18,27,20],[27,21,27,26],[27,27,27,32],[29,33,29,40],[30,0,30,1],[30,2,30,3],[30,4,30,6],[30,8,30,10],[30,11,30,13],[30,15,30,17],[30,18,30,20],[30,21,30,26],[30,27,30,32],[30,33,30,40],[29,0,29,1],[29,2,29,3],[29,4,29,6],[29,8,29,10],[29,11,29,13],[29,15,29,17],[29,18,29,20],[29,21,29,26],[29,27,29,32],[31,33,31,40],[32,0,32,1],[32,2,32,3],[32,4,32,6],[32,8,32,10],[32,11,32,13],[32,15,32,17],[32,18,32,20],[32,21,32,26],[32,27,32,32],[32,33,32,40],[31,0,31,1],[31,2,31,3],[31,4,31,6],[31,8,31,10],[31,11,31,13],[31,15,31,17],[31,18,31,20],[31,21,31,26],[31,27,31,32],[33,33,33,40],[34,0,34,1],[34,2,34,3],[34,4,34,6],[34,8,34,10],[34,11,34,13],[34,15,34,17],[34,18,34,20],[34,21,34,26],[34,27,34,32],[34,33,34,40],[33,0,33,1],[33,2,33,3],[33,4,33,6],[33,8,33,10],[33,11,33,13],[33,15,33,17],[33,18,33,20],[33,21,33,26],[33,27,33,32],[35,33,35,40],[36,0,36,1],[36,2,36,3],[36,4,36,6],[36,8,36,10],[36,11,36,13],[36,15,36,17],[36,18,36,20],[36,21,36,26],[36,27,36,32],[36,33,36,40],[35,0,35,1],[35,2,35,3],[35,4,35,6],[35,8,35,10],[35,11,35,13],[35,15,35,17],[35,18,35,20],[35,21,35,26],[35,27,35,32],[37,33,37,40],[38,0,38,1],[38,2,38,3],[38,4,38,6],[38,8,38,10],[38,11,38,13],[38,15,38,17],[38,18,38,20],[38,21,38,26],[38,27,38,32],[38,33,38,40],[37,0,37,1],[37,2,37,3],[37,4,37,6],[37,8,37,10],[37,11,37,13],[37,15,37,17],[37,18,37,20],[37,21,37,26],[37,27,37,32],[39,33,39,40],[40,0,40,1],[40,2,40,3],[40,4,40,6],[40,8,40,10],[40,11,40,13],[40,15,40,17],[40,18,40,20],[40,21,40,26],[40,27,40,32],[40,33,40,40],[39,0,39,1],[39,2,39,3],[39,4,39,6],[39,8,39,10],[39,11,39,13],[39,15,39,17],[39,18,39,20],[39,21,39,26],[39,27,39,32],[41,33,41,40],[42,0,42,1],[42,2,42,3],[42,4,42,6],[42,8,42,10],[42,11,42,13],[42,15,42,17],[42,18,42,20],[42,21,42,26],[42,27,42,32],[42,33,42,40],[41,0,41,1],[41,2,41,3],[41,4,41,6],[41,8,41,10],[41,11,41,13],[41,15,41,17],[41,18,41,20],[41,21,41,26],[41,27,41,32],[45,27,45,32],[43,33,43,40],[44,0,44,1],[44,2,44,3],[44,4,44,6],[44,8,44,10],[44,11,44,13],[44,15,44,17],[44,18,44,20],[44,21,44,26],[44,27,44,32],[44,33,44,40],[43,0,43,1],[43,2,43,3],[43,4,43,6],[43,8,43,10],[43,11,43,13],[43,15,43,17],[43,18,43,20],[43,21,43,26],[43,27,43,32],[45,33,45,40],[45,0,45,1],[45,2,45,3],[50,19,50,20],[50,21,50,22],[50,23,50,24],[50,25,50,26],[46,18,46,20],[49,13,49,14],[48,13,48,14],[48,15,48,16],[48,17,48,18],[49,17,49,18],[49,19,49,20],[49,21,49,22],[49,23,49,24],[48,23,48,24],[48,25,48,26],[49,15,49,16],[49,0,49,2],[49,3,49,4],[45,4,45,6],[45,8,45,10],[45,11,45,13],[45,15,45,17],[45,18,45,20],[45,21,45,26],[48,0,48,2],[48,3,48,4],[48,5,48,6],[48,7,48,8],[48,9,48,10],[49,5,49,6],[49,7,49,8],[49,9,49,10],[49,11,49,12],[48,11,48,12],[51,15,51,16],[51,17,51,18],[50,0,50,2],[50,3,50,4],[50,5,50,6],[50,7,50,8],[50,9,50,10],[50,11,50,12],[50,13,50,14],[50,15,50,16],[50,17,50,18],[5,0,5,22],[48,27,48,31],[48,19,48,20],[48,21,48,22],[50,27,50,31],[49,27,49,31],[49,32,49,34],[49,25,49,26],[52,27,52,31],[52,32,52,34],[51,19,51,20],[51,21,51,22],[51,23,51,24],[51,25,51,26],[51,27,51,31],[51,32,51,34],[50,32,50,34],[51,0,51,2],[51,3,51,4],[51,5,51,6],[51,7,51,8],[51,9,51,10],[51,11,51,12],[51,13,51,14]]}
[]
[{"$f":"'12計画'!A2:D2","v":"校長"},null,null,null,{"$f":"'12計画'!E2:H2","v":"教頭"},null,null,null,{"$f":"'12計画'!I2:L2","v":"教頭"},null,null,null,{"$f":"'12計画'!M2:P2","v":"主幹教諭"},null,null,null,{"$f":"'12計画'!Q2:T2","v":0},null,null,null,{"$f":"'12計画'!U2:X2","v":"顧問"},null,null,null,null,"学校名",null,null,{"$f":"'12計画'!AC2:AL3","v":0},null,null,null,null,null,null,null,null,null,"学校",null,null,null,null,null,null,null,null,null,null,null,null,null,null,null,null,null,null,null,null,null,null,null,null,null,null,null,null,null,null,null,null,null,{"$f":"'12計画'!BU2:BX2","v":0},null,null,null,{"$f":"'12計画'!BY2:CB2","v":0},null,null,null,{"$f":"'12計画'!CC2:CF2","v":0},null,null,null,{"$f":"'12計画'!CG2:CJ2","v":0},null,null,null,{"$f":"'12計画'!CK2:CN2","v":0},null,null,null,{"$f":"'12計画'!CO2:CR2","v":0},null,null,null,null,null,null,null,{"$f":"'12計画'!CW2:DF3","v":0}]
["印",null,null,null,"印",null,null,null,"印",null,null,null,"印",null,null,null,"印",null,null,null,"印"]
[null,null,null,null,null,null,null,null,null,null,null,null,null,null,null,null,null,null,null,null,null,null,null,null,null,"部活動名",null,null,{"$f":"'12計画'!AC4:AL5","v":0},null,null,null,null,null,null,null,null,null,"部",null,null,null,null,null,null,null,null,null,null,null,null,null,null,null,null,null,null,null,null,null,null,null,null,null,null,null,null,null,null,null,null,null,null,null,null,null,null,null,null,null,null,null,null,null,null,null,null,null,null,null,null,null,null,null,null,null,null,null,null,null,{"$f":"'12計画'!CW4:DF5","v":0}]
[]
["　※活動計画と違う内容については、校長口頭命令済み"]
[12,null,null,null,null,"月",null,null,"〈月間〉部活動計画・活動実績",null,null,null,null,null,null,null,null,null,null,null,null,null,null,null,"部員数",null,null,"1女",null,"2女",null,"3女",null,"1男",null,"2男",null,"3男",null,"計"]
[null,null,null,null,null,null,null,null,null,null,null,null,null,null,null,null,null,null,null,null,null,null,null,null,null,null,null,{"$f":"'12計画'!AB8:AC8","v":0},null,{"$f":"'12計画'!AD8:AE8","v":0},null,{"$f":"'12計画'!AF8:AG8","v":0},null,{"$f":"'12計画'!AH8:AI8","v":0},null,{"$f":"'12計画'!AJ8:AK8","v":0},null,{"$f":"'12計画'!AL8:AM8","v":0},null,{"$f":"SUM(AB8:AM8)","v":0},null,null,null,null,null,null,null,null,null,null,null,null,null,null,null,null,null,null,null,null,null,null,null,null,null,null,null,null,null,null,null,null,null,null,null,null,null,null,null,null,null,null,null,null,null,null,null,null,null,null,null,null,null,null,null,null,null,null,null,{"$f":"'12計画'!AB8","v":0},null,{"$f":"'12計画'!AD8","v":0},null,{"$f":"'12計画'!AF8","v":0},null,{"$f":"'12計画'!AH8","v":0},null,{"$f":"'12計画'!AJ8","v":0},null,{"$f":"'12計画'!AL8","v":0},null,{"$f":"SUM(CV8:DG8)","v":0}]
[]
[null,"職名",null,{"$f":"'12計画'!D10:H11","v":0},null,null,null,null,"顧問",null,{"$f":"'12計画'!K10:S11","v":0},null,null,null,null,null,null,null,null,null,null,"職名",null,{"$f":"'12計画'!X10:AB11","v":0},null,null,null,null,"副２",null,{"$f":"'12計画'!AE10:AM11","v":0},null,null,null,null,null,null,null,null,null,null,null,null,null,null,null,null,null,null,null,null,null,null,null,null,null,null,null,null,null,null,null,null,null,null,null,null,null,null,null,null,null,null,null,null,{"$f":"'12計画'!D10","v":0},null,null,null,null,null,null,{"$f":"'12計画'!K10","v":0},null,null,null,null,null,null,null,null,null,null,null,null,{"$f":"'12計画'!X10","v":0},null,null,null,null,null,null,{"$f":"'12計画'!AE10","v":0}]
[]
[null,"職名",null,{"$f":"'12計画'!D12:H13","v":0},null,null,null,null,"副顧問",null,{"$f":"'12計画'!K12:S13","v":0},null,null,null,null,null,null,null,null,null,null,"職名",null,{"$f":"'12計画'!X12:AB13","v":0},null,null,null,null,"副３",null,{"$f":"'12計画'!AE12:AM13","v":0},null,null,null,null,null,null,null,null,null,null,null,null,null,null,null,null,null,null,null,null,null,null,null,null,null,null,null,null,null,null,null,null,null,null,null,null,null,null,null,null,null,null,null,null,{"$f":"'12計画'!D12","v":0},null,null,null,null,null,null,{"$f":"'12計画'!K12","v":0},null,null,null,null,null,null,null,null,null,null,null,null,{"$f":"'12計画'!X12","v":0},null,null,null,null,null,null,{"$f":"'12計画'!AE12","v":0}]
[]
[]
["日",null,"曜",null,"ＡＭ",null,null,null,null,null,null,"ＰＭ",null,null,null,null,null,null,"時間",null,null,"内容（練習・大会・OFF等）",null,null,null,null,null,null,null,null,null,null,null,"場所",null,null,null,null,null,null,null,false,"特殊業務"]
[1,null,{"$f":"'12計画'!C16:D16","v":"火"},null,{"$f":"'12計画'!E16:G16","v":"00:00:00"},null,null,"～",{"$f":"'12計画'!I16:K16","v":"00:00:00"},null,null,{"$f":"'12計画'!L16:N16","v":"00:00:00"},null,null,"～",{"$f":"'12計画'!P16:R16","v":"00:00:00"},null,null,{"$f":"(I16-E16)+(P16-L16)","v":"00:00:00"},null,null,{"$f":"'12計画'!V16:AA16","v":0},null,null,null,null,null,{"$f":"'12計画'!AB16:AG16","v":0},null,null,null,null,null,{"$f":"'12計画'!AH16:AO16","v":0},null,null,null,null,null,null,null,false,null,null,null,null,null,null,null,null,null,null,null,null,null,null,null,null,null,null,null,null,{"$f":"RIGHT(V16,2)","v":"0"},null,null,null,null,null,null,null,null,null,null,null,{"$f":"'12計画'!C16","v":"火"},null,{"$f":"'12計画'!E16","v":"00:00:00"},null,null,"～",{"$f":"'12計画'!I16","v":"00:00:00"},null,null,{"$f":"'12計画'!L16","v":"00:00:00"},null,null,"～",{"$f":"'12計画'!P16","v":"00:00:00"},null,null,{"$f":"(CC16-BY16)+(CJ16-CF16)","v":"00:00:00"},null,null,{"$f":"'12計画'!V16","v":0},null,null,null,null,null,{"$f":"'12計画'!AB16","v":0},null,null,null,null,null,{"$f":"'12計画'!AH16","v":0}]
[2,null,{"$f":"'12計画'!C17:D17","v":"水"},null,{"$f":"'12計画'!E17:G17","v":"00:00:00"},null,null,"～",{"$f":"'12計画'!I17:K17","v":"00:00:00"},null,null,{"$f":"'12計画'!L17:N17","v":"00:00:00"},null,null,"～",{"$f":"'12計画'!P17:R17","v":"00:00:00"},null,null,"00:00:00",null,null,{"$f":"'12計画'!V17:AA17","v":0},null,null,null,null,null,{"$f":"'12計画'!AB17:AG17","v":0},null,null,null,null,null,{"$f":"'12計画'!AH17:AO17","v":0},null,null,null,null,null,null,null,false,null,null,null,null,null,null,null,null,null,null,null,null,null,null,null,null,null,null,null,null,{"$f":"RIGHT(V17,2)","v":"0"},null,null,null,null,null,null,null,null,null,null,null,{"$f":"'12計画'!C17","v":"水"},null,{"$f":"'12計画'!E17","v":"00:00:00"},null,null,"～",{"$f":"'12計画'!I17","v":"00:00:00"},null,null,{"$f":"'12計画'!L17","v":"00:00:00"},null,null,"～",{"$f":"'12計画'!P17","v":"00:00:00"},null,null,"00:00:00",null,null,{"$f":"'12計画'!V17","v":0},null,null,null,null,null,{"$f":"'12計画'!AB17","v":0},null,null,null,null,null,{"$f":"'12計画'!AH17","v":0}]
[3,null,{"$f":"'12計画'!C18:D18","v":"木"},null,{"$f":"'12計画'!E18:G18","v":"00:00:00"},null,null,"～",{"$f":"'12計画'!I18:K18","v":"00:00:00"},null,null,{"$f":"'12計画'!L18:N18","v":"00:00:00"},null,null,"～",{"$f":"'12計画'!P18:R18","v":"00:00:00"},null,null,"00:00:00",null,null,{"$f":"'12計画'!V18:AA18","v":0},null,null,null,null,null,{"$f":"'12計画'!AB18:AG18","v":0},null,null,null,null,null,{"$f":"'12計画'!AH18:AO18","v":0},null,null,null,null,null,null,null,false,null,null,null,null,null,null,null,null,null,null,null,null,null,null,null,null,null,null,null,null,"0",null,null,null,null,null,null,null,null,null,null,null,{"$f":"'12計画'!C18","v":"木"},null,{"$f":"'12計画'!E18","v":"00:00:00"},null,null,"～",{"$f":"'12計画'!I18","v":"00:00:00"},null,null,{"$f":"'12計画'!L18","v":"00:00:00"},null,null,"～",{"$f":"'12計画'!P18","v":"00:00:00"},null,null,"00:00:00",null,null,{"$f":"'12計画'!V18","v":0},null,null,null,null,null,{"$f":"'12計画'!AB18","v":0},null,null,null,null,null,{"$f":"'12計画'!AH18","v":0}]
[4,null,{"$f":"'12計画'!C19:D19","v":"金"},null,{"$f":"'12計画'!E19:G19","v":"00:00:00"},null,null,"～",{"$f":"'12計画'!I19:K19","v":"00:00:00"},null,null,{"$f":"'12計画'!L19:N19","v":"00:00:00"},null,null,"～",{"$f":"'12計画'!P19:R19","v":"00:00:00"},null,null,"00:00:00",null,null,{"$f":"'12計画'!V19:AA19","v":0},null,null,null,null,null,{"$f":"'12計画'!AB19:AG19","v":0},null,null,null,null,null,{"$f":"'12計画'!AH19:AO19","v":0},null,null,null,null,null,null,null,false,null,null,null,null,null,null,null,null,null,null,null,null,null,null,null,null,null,null,null,null,"0",null,null,null,null,null,null,null,null,null,null,null,{"$f":"'12計画'!C19","v":"金"},null,{"$f":"'12計画'!E19","v":"00:00:00"},null,null,"～",{"$f":"'12計画'!I19","v":"00:00:00"},null,null,{"$f":"'12計画'!L19","v":"00:00:00"},null,null,"～",{"$f":"'12計画'!P19","v":"00:00:00"},null,null,"00:00:00",null,null,{"$f":"'12計画'!V19","v":0},null,null,null,null,null,{"$f":"'12計画'!AB19","v":0},null,null,null,null,null,{"$f":"'12計画'!AH19","v":0}]
[5,null,{"$f":"'12計画'!C20:D20","v":"土"},null,{"$f":"'12計画'!E20:G20","v":"00:00:00"},null,null,"～",{"$f":"'12計画'!I20:K20","v":"00:00:00"},null,null,{"$f":"'12計画'!L20:N20","v":"00:00:00"},null,null,"～",{"$f":"'12計画'!P20:R20","v":"00:00:00"},null,null,"00:00:00",null,null,{"$f":"'12計画'!V20:AA20","v":0},null,null,null,null,null,{"$f":"'12計画'!AB20:AG20","v":0},null,null,null,null,null,{"$f":"'12計画'!AH20:AO20","v":0},null,null,null,null,null,null,null,false,null,null,null,null,null,null,null,null,null,null,null,null,null,null,null,null,null,null,null,null,"0",null,null,null,null,null,null,null,null,null,null,null,{"$f":"'12計画'!C20","v":"土"},null,{"$f":"'12計画'!E20","v":"00:00:00"},null,null,"～",{"$f":"'12計画'!I20","v":"00:00:00"},null,null,{"$f":"'12計画'!L20","v":"00:00:00"},null,null,"～",{"$f":"'12計画'!P20","v":"00:00:00"},null,null,"00:00:00",null,null,{"$f":"'12計画'!V20","v":0},null,null,null,null,null,{"$f":"'12計画'!AB20","v":0},null,null,null,null,null,{"$f":"'12計画'!AH20","v":0}]
[6,null,{"$f":"'12計画'!C21:D21","v":"日"},null,{"$f":"'12計画'!E21:G21","v":"00:00:00"},null,null,"～",{"$f":"'12計画'!I21:K21","v":"00:00:00"},null,null,{"$f":"'12計画'!L21:N21","v":"00:00:00"},null,null,"～",{"$f":"'12計画'!P21:R21","v":"00:00:00"},null,null,"00:00:00",null,null,{"$f":"'12計画'!V21:AA21","v":0},null,null,null,null,null,{"$f":"'12計画'!AB21:AG21","v":0},null,null,null,null,null,{"$f":"'12計画'!AH21:AO21","v":0},null,null,null,null,null,null,null,false,null,null,null,null,null,null,null,null,null,null,null,null,null,null,null,null,null,null,null,null,"0",null,null,null,null,null,null,null,null,null,null,null,{"$f":"'12計画'!C21","v":"日"},null,{"$f":"'12計画'!E21","v":"00:00:00"},null,null,"～",{"$f":"'12計画'!I21","v":"00:00:00"},null,null,{"$f":"'12計画'!L21","v":"00:00:00"},null,null,"～",{"$f":"'12計画'!P21","v":"00:00:00"},null,null,"00:00:00",null,null,{"$f":"'12計画'!V21","v":0},null,null,null,null,null,{"$f":"'12計画'!AB21","v":0},null,null,null,null,null,{"$f":"'12計画'!AH21","v":0}]
[7,null,{"$f":"'12計画'!C22:D22","v":"月"},null,{"$f":"'12計画'!E22:G22","v":"00:00:00"},null,null,"～",{"$f":"'12計画'!I22:K22","v":"00:00:00"},null,null,{"$f":"'12計画'!L22:N22","v":"00:00:00"},null,null,"～",{"$f":"'12計画'!P22:R22","v":"00:00:00"},null,null,"00:00:00",null,null,{"$f":"'12計画'!V22:AA22","v":0},null,null,null,null,null,{"$f":"'12計画'!AB22:AG22","v":0},null,null,null,null,null,{"$f":"'12計画'!AH22:AO22","v":0},null,null,null,null,null,null,null,false,null,null,null,null,null,null,null,null,null,null,null,null,null,null,null,null,null,null,null,null,"0",null,null,null,null,null,null,null,null,null,null,null,{"$f":"'12計画'!C22","v":"月"},null,{"$f":"'12計画'!E22","v":"00:00:00"},null,null,"～",{"$f":"'12計画'!I22","v":"00:00:00"},null,null,{"$f":"'12計画'!L22","v":"00:00:00"},null,null,"～",{"$f":"'12計画'!P22","v":"00:00:00"},null,null,"00:00:00",null,null,{"$f":"'12計画'!V22","v":0},null,null,null,null,null,{"$f":"'12計画'!AB22","v":0},null,null,null,null,null,{"$f":"'12計画'!AH22","v":0}]
[8,null,{"$f":"'12計画'!C23:D23","v":"火"},null,{"$f":"'12計画'!E23:G23","v":"00:00:00"},null,null,"～",{"$f":"'12計画'!I23:K23","v":"00:00:00"},null,null,{"$f":"'12計画'!L23:N23","v":"00:00:00"},null,null,"～",{"$f":"'12計画'!P23:R23","v":"00:00:00"},null,null,"00:00:00",null,null,{"$f":"'12計画'!V23:AA23","v":0},null,null,null,null,null,{"$f":"'12計画'!AB23:AG23","v":0},null,null,null,null,null,{"$f":"'12計画'!AH23:AO23","v":0},null,null,null,null,null,null,null,false,null,null,null,null,null,null,null,null,null,null,null,null,null,null,null,null,null,null,null,null,"0",null,null,null,null,null,null,null,null,null,null,null,{"$f":"'12計画'!C23","v":"火"},null,{"$f":"'12計画'!E23","v":"00:00:00"},null,null,"～",{"$f":"'12計画'!I23","v":"00:00:00"},null,null,{"$f":"'12計画'!L23","v":"00:00:00"},null,null,"～",{"$f":"'12計画'!P23","v":"00:00:00"},null,null,"00:00:00",null,null,{"$f":"'12計画'!V23","v":0},null,null,null,null,null,{"$f":"'12計画'!AB23","v":0},null,null,null,null,null,{"$f":"'12計画'!AH23","v":0}]
[9,null,{"$f":"'12計画'!C24:D24","v":"水"},null,{"$f":"'12計画'!E24:G24","v":"00:00:00"},null,null,"～",{"$f":"'12計画'!I24:K24","v":"00:00:00"},null,null,{"$f":"'12計画'!L24:N24","v":"00:00:00"},null,null,"～",{"$f":"'12計画'!P24:R24","v":"00:00:00"},null,null,"00:00:00",null,null,{"$f":"'12計画'!V24:AA24","v":0},null,null,null,null,null,{"$f":"'12計画'!AB24:AG24","v":0},null,null,null,null,null,{"$f":"'12計画'!AH24:AO24","v":0},null,null,null,null,null,null,null,false,null,null,null,null,null,null,null,null,null,null,null,null,null,null,null,null,null,null,null,null,"0",null,null,null,null,null,null,null,null,null,null,null,{"$f":"'12計画'!C24","v":"水"},null,{"$f":"'12計画'!E24","v":"00:00:00"},null,null,"～",{"$f":"'12計画'!I24","v":"00:00:00"},null,null,{"$f":"'12計画'!L24","v":"00:00:00"},null,null,"～",{"$f":"'12計画'!P24","v":"00:00:00"},null,null,"00:00:00",null,null,{"$f":"'12計画'!V24","v":0},null,null,null,null,null,{"$f":"'12計画'!AB24","v":0},null,null,null,null,null,{"$f":"'12計画'!AH24","v":0}]
[10,null,{"$f":"'12計画'!C25:D25","v":"木"},null,{"$f":"'12計画'!E25:G25","v":"00:00:00"},null,null,"～",{"$f":"'12計画'!I25:K25","v":"00:00:00"},null,null,{"$f":"'12計画'!L25:N25","v":"00:00:00"},null,null,"～",{"$f":"'12計画'!P25:R25","v":"00:00:00"},null,null,"00:00:00",null,null,{"$f":"'12計画'!V25:AA25","v":0},null,null,null,null,null,{"$f":"'12計画'!AB25:AG25","v":0},null,null,null,null,null,{"$f":"'12計画'!AH25:AO25","v":0},null,null,null,null,null,null,null,false,null,null,null,null,null,null,null,null,null,null,null,null,null,null,null,null,null,null,null,null,"0",null,null,null,null,null,null,null,null,null,null,null,{"$f":"'12計画'!C25","v":"木"},null,{"$f":"'12計画'!E25","v":"00:00:00"},null,null,"～",{"$f":"'12計画'!I25","v":"00:00:00"},null,null,{"$f":"'12計画'!L25","v":"00:00:00"},null,null,"～",{"$f":"'12計画'!P25","v":"00:00:00"},null,null,"00:00:00",null,null,{"$f":"'12計画'!V25","v":0},null,null,null,null,null,{"$f":"'12計画'!AB25","v":0},null,null,null,null,null,{"$f":"'12計画'!AH25","v":0}]
[11,null,{"$f":"'12計画'!C26:D26","v":"金"},null,{"$f":"'12計画'!E26:G26","v":"00:00:00"},null,null,"～",{"$f":"'12計画'!I26:K26","v":"00:00:00"},null,null,{"$f":"'12計画'!L26:N26","v":"00:00:00"},null,null,"～",{"$f":"'12計画'!P26:R26","v":"00:00:00"},null,null,"00:00:00",null,null,{"$f":"'12計画'!V26:AA26","v":0},null,null,null,null,null,{"$f":"'12計画'!AB26:AG26","v":0},null,null,null,null,null,{"$f":"'12計画'!AH26:AO26","v":0},null,null,null,null,null,null,null,false,null,null,null,null,null,null,null,null,null,null,null,null,null,null,null,null,null,null,null,null,"0",null,null,null,null,null,null,null,null,null,null,null,{"$f":"'12計画'!C26","v":"金"},null,{"$f":"'12計画'!E26","v":"00:00:00"},null,null,"～",{"$f":"'12計画'!I26","v":"00:00:00"},null,null,{"$f":"'12計画'!L26","v":"00:00:00"},null,null,"～",{"$f":"'12計画'!P26","v":"00:00:00"},null,null,"00:00:00",null,null,{"$f":"'12計画'!V26","v":0},null,null,null,null,null,{"$f":"'12計画'!AB26","v":0},null,null,null,null,null,{"$f":"'12計画'!AH26","v":0}]
[12,null,{"$f":"'12計画'!C27:D27","v":"土"},null,{"$f":"'12計画'!E27:G27","v":"00:00:00"},null,null,"～",{"$f":"'12計画'!I27:K27","v":"00:00:00"},null,null,{"$f":"'12計画'!L27:N27","v":"00:00:00"},null,null,"～",{"$f":"'12計画'!P27:R27","v":"00:00:00"},null,null,"00:00:00",null,null,{"$f":"'12計画'!V27:AA27","v":0},null,null,null,null,null,{"$f":"'12計画'!AB27:AG27","v":0},null,null,null,null,null,{"$f":"'12計画'!AH27:AO27","v":0},null,null,null,null,null,null,null,false,null,null,null,null,null,null,null,null,null,null,null,null,null,null,null,null,null,null,null,null,"0",null,null,null,null,null,null,null,null,null,null,null,{"$f":"'12計画'!C27","v":"土"},null,{"$f":"'12計画'!E27","v":"00:00:00"},null,null,"～",{"$f":"'12計画'!I27","v":"00:00:00"},null,null,{"$f":"'12計画'!L27","v":"00:00:00"},null,null,"～",{"$f":"'12計画'!P27","v":"00:00:00"},null,null,"00:00:00",null,null,{"$f":"'12計画'!V27","v":0},null,null,null,null,null,{"$f":"'12計画'!AB27","v":0},null,null,null,null,null,{"$f":"'12計画'!AH27","v":0}]
[13,null,{"$f":"'12計画'!C28:D28","v":"日"},null,{"$f":"'12計画'!E28:G28","v":"00:00:00"},null,null,"～",{"$f":"'12計画'!I28:K28","v":"00:00:00"},null,null,{"$f":"'12計画'!L28:N28","v":"00:00:00"},null,null,"～",{"$f":"'12計画'!P28:R28","v":"00:00:00"},null,null,"00:00:00",null,null,{"$f":"'12計画'!V28:AA28","v":0},null,null,null,null,null,{"$f":"'12計画'!AB28:AG28","v":0},null,null,null,null,null,{"$f":"'12計画'!AH28:AO28","v":0},null,null,null,null,null,null,null,false,null,null,null,null,null,null,null,null,null,null,null,null,null,null,null,null,null,null,null,null,"0",null,null,null,null,null,null,null,null,null,null,null,{"$f":"'12計画'!C28","v":"日"},null,{"$f":"'12計画'!E28","v":"00:00:00"},null,null,"～",{"$f":"'12計画'!I28","v":"00:00:00"},null,null,{"$f":"'12計画'!L28","v":"00:00:00"},null,null,"～",{"$f":"'12計画'!P28","v":"00:00:00"},null,null,"00:00:00",null,null,{"$f":"'12計画'!V28","v":0},null,null,null,null,null,{"$f":"'12計画'!AB28","v":0},null,null,null,null,null,{"$f":"'12計画'!AH28","v":0}]
[14,null,{"$f":"'12計画'!C29:D29","v":"月"},null,{"$f":"'12計画'!E29:G29","v":"00:00:00"},null,null,"～",{"$f":"'12計画'!I29:K29","v":"00:00:00"},null,null,{"$f":"'12計画'!L29:N29","v":"00:00:00"},null,null,"～",{"$f":"'12計画'!P29:R29","v":"00:00:00"},null,null,"00:00:00",null,null,{"$f":"'12計画'!V29:AA29","v":0},null,null,null,null,null,{"$f":"'12計画'!AB29:AG29","v":0},null,null,null,null,null,{"$f":"'12計画'!AH29:AO29","v":0},null,null,null,null,null,null,null,false,null,null,null,null,null,null,null,null,null,null,null,null,null,null,null,null,null,null,null,null,"0",null,null,null,null,null,null,null,null,null,null,null,{"$f":"'12計画'!C29","v":"月"},null,{"$f":"'12計画'!E29","v":"00:00:00"},null,null,"～",{"$f":"'12計画'!I29","v":"00:00:00"},null,null,{"$f":"'12計画'!L29","v":"00:00:00"},null,null,"～",{"$f":"'12計画'!P29","v":"00:00:00"},null,null,"00:00:00",null,null,{"$f":"'12計画'!V29","v":0},null,null,null,null,null,{"$f":"'12計画'!AB29","v":0},null,null,null,null,null,{"$f":"'12計画'!AH29","v":0}]
[15,null,{"$f":"'12計画'!C30:D30","v":"火"},null,{"$f":"'12計画'!E30:G30","v":"00:00:00"},null,null,"～",{"$f":"'12計画'!I30:K30","v":"00:00:00"},null,null,{"$f":"'12計画'!L30:N30","v":"00:00:00"},null,null,"～",{"$f":"'12計画'!P30:R30","v":"00:00:00"},null,null,"00:00:00",null,null,{"$f":"'12計画'!V30:AA30","v":0},null,null,null,null,null,{"$f":"'12計画'!AB30:AG30","v":0},null,null,null,null,null,{"$f":"'12計画'!AH30:AO30","v":0},null,null,null,null,null,null,null,false,null,null,null,null,null,null,null,null,null,null,null,null,null,null,null,null,null,null,null,null,"0",null,null,null,null,null,null,null,null,null,null,null,{"$f":"'12計画'!C30","v":"火"},null,{"$f":"'12計画'!E30","v":"00:00:00"},null,null,"～",{"$f":"'12計画'!I30","v":"00:00:00"},null,null,{"$f":"'12計画'!L30","v":"00:00:00"},null,null,"～",{"$f":"'12計画'!P30","v":"00:00:00"},null,null,"00:00:00",null,null,{"$f":"'12計画'!V30","v":0},null,null,null,null,null,{"$f":"'12計画'!AB30","v":0},null,null,null,null,null,{"$f":"'12計画'!AH30","v":0}]
[16,null,{"$f":"'12計画'!C31:D31","v":"水"},null,{"$f":"'12計画'!E31:G31","v":"00:00:00"},null,null,"～",{"$f":"'12計画'!I31:K31","v":"00:00:00"},null,null,{"$f":"'12計画'!L31:N31","v":"00:00:00"},null,null,"～",{"$f":"'12計画'!P31:R31","v":"00:00:00"},null,null,"00:00:00",null,null,{"$f":"'12計画'!V31:AA31","v":0},null,null,null,null,null,{"$f":"'12計画'!AB31:AG31","v":0},null,null,null,null,null,{"$f":"'12計画'!AH31:AO31","v":0},null,null,null,null,null,null,null,false,null,null,null,null,null,null,null,null,null,null,null,null,null,null,null,null,null,null,null,null,"0",null,null,null,null,null,null,null,null,null,null,null,{"$f":"'12計画'!C31","v":"水"},null,{"$f":"'12計画'!E31","v":"00:00:00"},null,null,"～",{"$f":"'12計画'!I31","v":"00:00:00"},null,null,{"$f":"'12計画'!L31","v":"00:00:00"},null,null,"～",{"$f":"'12計画'!P31","v":"00:00:00"},null,null,"00:00:00",null,null,{"$f":"'12計画'!V31","v":0},null,null,null,null,null,{"$f":"'12計画'!AB31","v":0},null,null,null,null,null,{"$f":"'12計画'!AH31","v":0}]
[17,null,{"$f":"'12計画'!C32:D32","v":"木"},null,{"$f":"'12計画'!E32:G32","v":"00:00:00"},null,null,"～",{"$f":"'12計画'!I32:K32","v":"00:00:00"},null,null,{"$f":"'12計画'!L32:N32","v":"00:00:00"},null,null,"～",{"$f":"'12計画'!P32:R32","v":"00:00:00"},null,null,"00:00:00",null,null,{"$f":"'12計画'!V32:AA32","v":0},null,null,null,null,null,{"$f":"'12計画'!AB32:AG32","v":0},null,null,null,null,null,{"$f":"'12計画'!AH32:AO32","v":0},null,null,null,null,null,null,null,false,null,null,null,null,null,null,null,null,null,null,null,null,null,null,null,null,null,null,null,null,"0",null,null,null,null,null,null,null,null,null,null,null,{"$f":"'12計画'!C32","v":"木"},null,{"$f":"'12計画'!E32","v":"00:00:00"},null,null,"～",{"$f":"'12計画'!I32","v":"00:00:00"},null,null,{"$f":"'12計画'!L32","v":"00:00:00"},null,null,"～",{"$f":"'12計画'!P32","v":"00:00:00"},null,null,"00:00:00",null,null,{"$f":"'12計画'!V32","v":0},null,null,null,null,null,{"$f":"'12計画'!AB32","v":0},null,null,null,null,null,{"$f":"'12計画'!AH32","v":0}]
[18,null,{"$f":"'12計画'!C33:D33","v":"金"},null,{"$f":"'12計画'!E33:G33","v":"00:00:00"},null,null,"～",{"$f":"'12計画'!I33:K33","v":"00:00:00"},null,null,{"$f":"'12計画'!L33:N33","v":"00:00:00"},null,null,"～",{"$f":"'12計画'!P33:R33","v":"00:00:00"},null,null,"00:00:00",null,null,{"$f":"'12計画'!V33:AA33","v":0},null,null,null,null,null,{"$f":"'12計画'!AB33:AG33","v":0},null,null,null,null,null,{"$f":"'12計画'!AH33:AO33","v":0},null,null,null,null,null,null,null,false,null,null,null,null,null,null,null,null,null,null,null,null,null,null,null,null,null,null,null,null,"0",null,null,null,null,null,null,null,null,null,null,null,{"$f":"'12計画'!C33","v":"金"},null,{"$f":"'12計画'!E33","v":"00:00:00"},null,null,"～",{"$f":"'12計画'!I33","v":"00:00:00"},null,null,{"$f":"'12計画'!L33","v":"00:00:00"},null,null,"～",{"$f":"'12計画'!P33","v":"00:00:00"},null,null,"00:00:00",null,null,{"$f":"'12計画'!V33","v":0},null,null,null,null,null,{"$f":"'12計画'!AB33","v":0},null,null,null,null,null,{"$f":"'12計画'!AH33","v":0}]
[19,null,{"$f":"'12計画'!C34:D34","v":"土"},null,{"$f":"'12計画'!E34:G34","v":"00:00:00"},null,null,"～",{"$f":"'12計画'!I34:K34","v":"00:00:00"},null,null,{"$f":"'12計画'!L34:N34","v":"00:00:00"},null,null,"～",{"$f":"'12計画'!P34:R34","v":"00:00:00"},null,null,"00:00:00",null,null,{"$f":"'12計画'!V34:AA34","v":0},null,null,null,null,null,{"$f":"'12計画'!AB34:AG34","v":0},null,null,null,null,null,{"$f":"'12計画'!AH34:AO34","v":0},null,null,null,null,null,null,null,false,null,null,null,null,null,null,null,null,null,null,null,null,null,null,null,null,null,null,null,null,"0",null,null,null,null,null,null,null,null,null,null,null,{"$f":"'12計画'!C34","v":"土"},null,{"$f":"'12計画'!E34","v":"00:00:00"},null,null,"～",{"$f":"'12計画'!I34","v":"00:00:00"},null,null,{"$f":"'12計画'!L34","v":"00:00:00"},null,null,"～",{"$f":"'12計画'!P34","v":"00:00:00"},null,null,"00:00:00",null,null,{"$f":"'12計画'!V34","v":0},null,null,null,null,null,{"$f":"'12計画'!AB34","v":0},null,null,null,null,null,{"$f":"'12計画'!AH34","v":0}]
[20,null,{"$f":"'12計画'!C35:D35","v":"日"},null,{"$f":"'12計画'!E35:G35","v":"00:00:00"},null,null,"～",{"$f":"'12計画'!I35:K35","v":"00:00:00"},null,null,{"$f":"'12計画'!L35:N35","v":"00:00:00"},null,null,"～",{"$f":"'12計画'!P35:R35","v":"00:00:00"},null,null,"00:00:00",null,null,{"$f":"'12計画'!V35:AA35","v":0},null,null,null,null,null,{"$f":"'12計画'!AB35:AG35","v":0},null,null,null,null,null,{"$f":"'12計画'!AH35:AO35","v":0},null,null,null,null,null,null,null,false,null,null,null,null,null,null,null,null,null,null,null,null,null,null,null,null,null,null,null,null,"0",null,null,null,null,null,null,null,null,null,null,null,{"$f":"'12計画'!C35","v":"日"},null,{"$f":"'12計画'!E35","v":"00:00:00"},null,null,"～",{"$f":"'12計画'!I35","v":"00:00:00"},null,null,{"$f":"'12計画'!L35","v":"00:00:00"},null,null,"～",{"$f":"'12計画'!P35","v":"00:00:00"},null,null,"00:00:00",null,null,{"$f":"'12計画'!V35","v":0},null,null,null,null,null,{"$f":"'12計画'!AB35","v":0},null,null,null,null,null,{"$f":"'12計画'!AH35","v":0}]
[21,null,{"$f":"'12計画'!C36:D36","v":"月"},null,{"$f":"'12計画'!E36:G36","v":"00:00:00"},null,null,"～",{"$f":"'12計画'!I36:K36","v":"00:00:00"},null,null,{"$f":"'12計画'!L36:N36","v":"00:00:00"},null,null,"～",{"$f":"'12計画'!P36:R36","v":"00:00:00"},null,null,"00:00:00",null,null,{"$f":"'12計画'!V36:AA36","v":0},null,null,null,null,null,{"$f":"'12計画'!AB36:AG36","v":0},null,null,null,null,null,{"$f":"'12計画'!AH36:AO36","v":0},null,null,null,null,null,null,null,false,null,null,null,null,null,null,null,null,null,null,null,null,null,null,null,null,null,null,null,null,"0",null,null,null,null,null,null,null,null,null,null,null,{"$f":"'12計画'!C36","v":"月"},null,{"$f":"'12計画'!E36","v":"00:00:00"},null,null,"～",{"$f":"'12計画'!I36","v":"00:00:00"},null,null,{"$f":"'12計画'!L36","v":"00:00:00"},null,null,"～",{"$f":"'12計画'!P36","v":"00:00:00"},null,null,"00:00:00",null,null,{"$f":"'12計画'!V36","v":0},null,null,null,null,null,{"$f":"'12計画'!AB36","v":0},null,null,null,null,null,{"$f":"'12計画'!AH36","v":0}]
[22,null,{"$f":"'12計画'!C37:D37","v":"火"},null,{"$f":"'12計画'!E37:G37","v":"00:00:00"},null,null,"～",{"$f":"'12計画'!I37:K37","v":"00:00:00"},null,null,{"$f":"'12計画'!L37:N37","v":"00:00:00"},null,null,"～",{"$f":"'12計画'!P37:R37","v":"00:00:00"},null,null,"00:00:00",null,null,{"$f":"'12計画'!V37:AA37","v":0},null,null,null,null,null,{"$f":"'12計画'!AB37:AG37","v":0},null,null,null,null,null,{"$f":"'12計画'!AH37:AO37","v":0},null,null,null,null,null,null,null,false,null,null,null,null,null,null,null,null,null,null,null,null,null,null,null,null,null,null,null,null,"0",null,null,null,null,null,null,null,null,null,null,null,{"$f":"'12計画'!C37","v":"火"},null,{"$f":"'12計画'!E37","v":"00:00:00"},null,null,"～",{"$f":"'12計画'!I37","v":"00:00:00"},null,null,{"$f":"'12計画'!L37","v":"00:00:00"},null,null,"～",{"$f":"'12計画'!P37","v":"00:00:00"},null,null,"00:00:00",null,null,{"$f":"'12計画'!V37","v":0},null,null,null,null,null,{"$f":"'12計画'!AB37","v":0},null,null,null,null,null,{"$f":"'12計画'!AH37","v":0}]
[23,null,{"$f":"'12計画'!C38:D38","v":"水"},null,{"$f":"'12計画'!E38:G38","v":"00:00:00"},null,null,"～",{"$f":"'12計画'!I38:K38","v":"00:00:00"},null,null,{"$f":"'12計画'!L38:N38","v":"00:00:00"},null,null,"～",{"$f":"'12計画'!P38:R38","v":"00:00:00"},null,null,"00:00:00",null,null,{"$f":"'12計画'!V38:AA38","v":0},null,null,null,null,null,{"$f":"'12計画'!AB38:AG38","v":0},null,null,null,null,null,{"$f":"'12計画'!AH38:AO38","v":0},null,null,null,null,null,null,null,false,null,null,null,null,null,null,null,null,null,null,null,null,null,null,null,null,null,null,null,null,"0",null,null,null,null,null,null,null,null,null,null,null,{"$f":"'12計画'!C38","v":"水"},null,{"$f":"'12計画'!E38","v":"00:00:00"},null,null,"～",{"$f":"'12計画'!I38","v":"00:00:00"},null,null,{"$f":"'12計画'!L38","v":"00:00:00"},null,null,"～",{"$f":"'12計画'!P38","v":"00:00:00"},null,null,"00:00:00",null,null,{"$f":"'12計画'!V38","v":0},null,null,null,null,null,{"$f":"'12計画'!AB38","v":0},null,null,null,null,null,{"$f":"'12計画'!AH38","v":0}]
[24,null,{"$f":"'12計画'!C39:D39","v":"木"},null,{"$f":"'12計画'!E39:G39","v":"00:00:00"},null,null,"～",{"$f":"'12計画'!I39:K39","v":"00:00:00"},null,null,{"$f":"'12計画'!L39:N39","v":"00:00:00"},null,null,"～",{"$f":"'12計画'!P39:R39","v":"00:00:00"},null,null,"00:00:00",null,null,{"$f":"'12計画'!V39:AA39","v":0},null,null,null,null,null,{"$f":"'12計画'!AB39:AG39","v":0},null,null,null,null,null,{"$f":"'12計画'!AH39:AO39","v":0},null,null,null,null,null,null,null,false,null,null,null,null,null,null,null,null,null,null,null,null,null,null,null,null,null,null,null,null,"0",null,null,null,null,null,null,null,null,null,null,null,{"$f":"'12計画'!C39","v":"木"},null,{"$f":"'12計画'!E39","v":"00:00:00"},null,null,"～",{"$f":"'12計画'!I39","v":"00:00:00"},null,null,{"$f":"'12計画'!L39","v":"00:00:00"},null,null,"～",{"$f":"'12計画'!P39","v":"00:00:00"},null,null,"00:00:00",null,null,{"$f":"'12計画'!V39","v":0},null,null,null,null,null,{"$f":"'12計画'!AB39","v":0},null,null,null,null,null,{"$f":"'12計画'!AH39","v":0}]
[25,null,{"$f":"'12計画'!C40:D40","v":"金"},null,{"$f":"'12計画'!E40:G40","v":"00:00:00"},null,null,"～",{"$f":"'12計画'!I40:K40","v":"00:00:00"},null,null,{"$f":"'12計画'!L40:N40","v":"00:00:00"},null,null,"～",{"$f":"'12計画'!P40:R40","v":"00:00:00"},null,null,"00:00:00",null,null,{"$f":"'12計画'!V40:AA40","v":0},null,null,null,null,null,{"$f":"'12計画'!AB40:AG40","v":0},null,null,null,null,null,{"$f":"'12計画'!AH40:AO40","v":0},null,null,null,null,null,null,null,false,null,null,null,null,null,null,null,null,null,null,null,null,null,null,null,null,null,null,null,null,"0",null,null,null,null,null,null,null,null,null,null,null,{"$f":"'12計画'!C40","v":"金"},null,{"$f":"'12計画'!E40","v":"00:00:00"},null,null,"～",{"$f":"'12計画'!I40","v":"00:00:00"},null,null,{"$f":"'12計画'!L40","v":"00:00:00"},null,null,"～",{"$f":"'12計画'!P40","v":"00:00:00"},null,null,"00:00:00",null,null,{"$f":"'12計画'!V40","v":0},null,null,null,null,null,{"$f":"'12計画'!AB40","v":0},null,null,null,null,null,{"$f":"'12計画'!AH40","v":0}]
[26,null,{"$f":"'12計画'!C41:D41","v":"土"},null,{"$f":"'12計画'!E41:G41","v":"00:00:00"},null,null,"～",{"$f":"'12計画'!I41:K41","v":"00:00:00"},null,null,{"$f":"'12計画'!L41:N41","v":"00:00:00"},null,null,"～",{"$f":"'12計画'!P41:R41","v":"00:00:00"},null,null,"00:00:00",null,null,{"$f":"'12計画'!V41:AA41","v":0},null,null,null,null,null,{"$f":"'12計画'!AB41:AG41","v":0},null,null,null,null,null,{"$f":"'12計画'!AH41:AO41","v":0},null,null,null,null,null,null,null,false,null,null,null,null,null,null,null,null,null,null,null,null,null,null,null,null,null,null,null,null,"0",null,null,null,null,null,null,null,null,null,null,null,{"$f":"'12計画'!C41","v":"土"},null,{"$f":"'12計画'!E41","v":"00:00:00"},null,null,"～",{"$f":"'12計画'!I41","v":"00:00:00"},null,null,{"$f":"'12計画'!L41","v":"00:00:00"},null,null,"～",{"$f":"'12計画'!P41","v":"00:00:00"},null,null,"00:00:00",null,null,{"$f":"'12計画'!V41","v":0},null,null,null,null,null,{"$f":"'12計画'!AB41","v":0},null,null,null,null,null,{"$f":"'12計画'!AH41","v":0}]
[27,null,{"$f":"'12計画'!C42:D42","v":"日"},null,{"$f":"'12計画'!E42:G42","v":"00:00:00"},null,null,"～",{"$f":"'12計画'!I42:K42","v":"00:00:00"},null,null,{"$f":"'12計画'!L42:N42","v":"00:00:00"},null,null,"～",{"$f":"'12計画'!P42:R42","v":"00:00:00"},null,null,"00:00:00",null,null,{"$f":"'12計画'!V42:AA42","v":0},null,null,null,null,null,{"$f":"'12計画'!AB42:AG42","v":0},null,null,null,null,null,{"$f":"'12計画'!AH42:AO42","v":0},null,null,null,null,null,null,null,false,null,null,null,null,null,null,null,null,null,null,null,null,null,null,null,null,null,null,null,null,"0",null,null,null,null,null,null,null,null,null,null,null,{"$f":"'12計画'!C42","v":"日"},null,{"$f":"'12計画'!E42","v":"00:00:00"},null,null,"～",{"$f":"'12計画'!I42","v":"00:00:00"},null,null,{"$f":"'12計画'!L42","v":"00:00:00"},null,null,"～",{"$f":"'12計画'!P42","v":"00:00:00"},null,null,"00:00:00",null,null,{"$f":"'12計画'!V42","v":0},null,null,null,null,null,{"$f":"'12計画'!AB42","v":0},null,null,null,null,null,{"$f":"'12計画'!AH42","v":0}]
[28,null,{"$f":"'12計画'!C43:D43","v":"月"},null,{"$f":"'12計画'!E43:G43","v":"00:00:00"},null,null,"～",{"$f":"'12計画'!I43:K43","v":"00:00:00"},null,null,{"$f":"'12計画'!L43:N43","v":"00:00:00"},null,null,"～",{"$f":"'12計画'!P43:R43","v":"00:00:00"},null,null,"00:00:00",null,null,{"$f":"'12計画'!V43:AA43","v":0},null,null,null,null,null,{"$f":"'12計画'!AB43:AG43","v":0},null,null,null,null,null,{"$f":"'12計画'!AH43:AO43","v":0},null,null,null,null,null,null,null,false,null,null,null,null,null,null,null,null,null,null,null,null,null,null,null,null,null,null,null,null,"0",null,null,null,null,null,null,null,null,null,null,null,{"$f":"'12計画'!C43","v":"月"},null,{"$f":"'12計画'!E43","v":"00:00:00"},null,null,"～",{"$f":"'12計画'!I43","v":"00:00:00"},null,null,{"$f":"'12計画'!L43","v":"00:00:00"},null,null,"～",{"$f":"'12計画'!P43","v":"00:00:00"},null,null,"00:00:00",null,null,{"$f":"'12計画'!V43","v":0},null,null,null,null,null,{"$f":"'12計画'!AB43","v":0},null,null,null,null,null,{"$f":"'12計画'!AH43","v":0}]
[29,null,{"$f":"'12計画'!C44:D44","v":"火"},null,{"$f":"'12計画'!E44:G44","v":"00:00:00"},null,null,"～",{"$f":"'12計画'!I44:K44","v":"00:00:00"},null,null,{"$f":"'12計画'!L44:N44","v":"00:00:00"},null,null,"～",{"$f":"'12計画'!P44:R44","v":"00:00:00"},null,null,"00:00:00",null,null,{"$f":"'12計画'!V44:AA44","v":0},null,null,null,null,null,{"$f":"'12計画'!AB44:AG44","v":0},null,null,null,null,null,{"$f":"'12計画'!AH44:AO44","v":0},null,null,null,null,null,null,null,false,null,null,null,null,null,null,null,null,null,null,null,null,null,null,null,null,null,null,null,null,"0",null,null,null,null,null,null,null,null,null,null,null,{"$f":"'12計画'!C44","v":"火"},null,{"$f":"'12計画'!E44","v":"00:00:00"},null,null,"～",{"$f":"'12計画'!I44","v":"00:00:00"},null,null,{"$f":"'12計画'!L44","v":"00:00:00"},null,null,"～",{"$f":"'12計画'!P44","v":"00:00:00"},null,null,"00:00:00",null,null,{"$f":"'12計画'!V44","v":0},null,null,null,null,null,{"$f":"'12計画'!AB44","v":0},null,null,null,null,null,{"$f":"'12計画'!AH44","v":0}]
[30,null,{"$f":"'12計画'!C45:D45","v":"水"},null,{"$f":"'12計画'!E45:G45","v":"00:00:00"},null,null,"～",{"$f":"'12計画'!I45:K45","v":"00:00:00"},null,null,{"$f":"'12計画'!L45:N45","v":"00:00:00"},null,null,"～",{"$f":"'12計画'!P45:R45","v":"00:00:00"},null,null,"00:00:00",null,null,{"$f":"'12計画'!V45:AA45","v":0},null,null,null,null,null,{"$f":"'12計画'!AB45:AG45","v":0},null,null,null,null,null,{"$f":"'12計画'!AH45:AO45","v":0},null,null,null,null,null,null,null,false,null,null,null,null,null,null,null,null,null,null,null,null,null,null,null,null,null,null,null,null,"0",null,null,null,null,null,null,null,null,null,null,null,{"$f":"'12計画'!C45","v":"水"},null,{"$f":"'12計画'!E45","v":"00:00:00"},null,null,"～",{"$f":"'12計画'!I45","v":"00:00:00"},null,null,{"$f":"'12計画'!L45","v":"00:00:00"},null,null,"～",{"$f":"'12計画'!P45","v":"00:00:00"},null,null,"00:00:00",null,null,{"$f":"'12計画'!V45","v":0},null,null,null,null,null,{"$f":"'12計画'!AB45","v":0},null,null,null,null,null,{"$f":"'12計画'!AH45","v":0}]
[31,null,{"$f":"'12計画'!C46:D46","v":"木"},null,{"$f":"'12計画'!E46:G46","v":"00:00:00"},null,null,"～",{"$f":"'12計画'!I46:K46","v":"00:00:00"},null,null,{"$f":"'12計画'!L46:N46","v":"00:00:00"},null,null,"～",{"$f":"'12計画'!P46:R46","v":"00:00:00"},null,null,"00:00:00",null,null,{"$f":"'12計画'!V46:AA46","v":0},null,null,null,null,null,{"$f":"'12計画'!AB46:AG46","v":0},null,null,null,null,null,{"$f":"'12計画'!AH46:AO46","v":0},null,null,null,null,null,null,null,false,null,null,null,null,null,null,null,null,null,null,null,null,null,null,null,null,null,null,null,null,"0",null,null,null,null,null,null,null,null,null,null,null,{"$f":"'12計画'!C46","v":"木"},null,{"$f":"'12計画'!E46","v":"00:00:00"},null,null,"～",{"$f":"'12計画'!I46","v":"00:00:00"},null,null,{"$f":"'12計画'!L46","v":"00:00:00"},null,null,"～",{"$f":"'12計画'!P46","v":"00:00:00"},null,null,"00:00:00",null,null,{"$f":"'12計画'!V46","v":0},null,null,null,null,null,{"$f":"'12計画'!AB46","v":0},null,null,null,null,null,{"$f":"'12計画'!AH46","v":0}]
[null,null,null,null,null,null,null,null,null,null,null,null,null,null,null,null,null,null,{"$f":"SUM(S16:U46)","v":0},null,null,null,null,null,null,null,null,null,null,null,null,null,null,null,null,null,null,null,null,null,null,null,null,null,null,null,null,null,null,null,null,null,null,null,null,null,null,null,null,null,null,null,null,null,null,null,null,null,null,null,null,null,null,null,null,null,null,null,null,null,null,null,null,null,null,null,null,null,null,null,{"$f":"SUM(CM16:CO46)","v":0}]
[]
["月",null,null,4,null,5,null,6,null,7,null,8,null,9,null,10,null,11,null,12,null,1,null,2,null,3,null,"計"]
["時間",null,null,{"$f":"'４実績'!D50","v":0},null,{"$f":"'５実績'!F50","v":0},null,{"$f":"'6実績'!H50","v":0},null,{"$f":"'7実績'!J50","v":0},null,{"$f":"'8実績'!L50:M50","v":0},null,{"$f":"'9実績'!N50:O50","v":0},null,{"$f":"'10実績'!P50:Q50","v":0},null,{"$f":"'11実績'!R50:S50","v":0},null,{"$f":"S47","v":0},null,null,null,null,null,null,null,{"$f":"SUM(D50:AA50)","v":0},null,null,null,null,"時間",null,null,null,null,null,null,null,null,null,null,null,null,null,null,null,null,null,null,null,null,null,null,null,null,null,null,null,null,null,null,null,null,null,null,null,null,null,null,null,null,null,null,{"$f":"'４実績'!D50","v":0},null,{"$f":"'５実績'!F50","v":0},null,{"$f":"'6実績'!H50","v":0},null,{"$f":"'7実績'!J50","v":0},null,{"$f":"'8実績'!L50","v":0},null,{"$f":"'9実績'!N50","v":0},null,{"$f":"'10実績'!P50","v":0},null,{"$f":"'11実績'!R50","v":0},null,{"$f":"CM47","v":0},null,null,null,null,null,null,null,{"$f":"SUM(BX50:CU50)","v":0}]
["活動日数",null,null,{"$f":"'４実績'!D51","v":0},null,{"$f":"'５実績'!F51","v":0},null,{"$f":"'6実績'!H51","v":0},null,{"$f":"'7実績'!J51","v":0},null,{"$f":"'8実績'!L51:M51","v":0},null,{"$f":"'9実績'!N51:O51","v":0},null,{"$f":"'10実績'!P51:Q51","v":0},null,{"$f":"'11実績'!R51:S51","v":0},null,{"$f":"COUNTIF(S16:U46,\">0\")","v":0},null,null,null,null,null,null,null,{"$f":"SUM(D51:AA51)","v":0},null,null,null,null,"活動日数",null,null,null,null,null,null,null,null,null,null,null,null,null,null,null,null,null,null,null,null,null,null,null,null,null,null,null,null,null,null,null,null,null,null,null,null,null,null,null,null,null,null,{"$f":"'４実績'!D51","v":0},null,{"$f":"'５実績'!F51","v":0},null,{"$f":"'6実績'!H51","v":0},null,{"$f":"'7実績'!J51","v":0},null,{"$f":"'8実績'!L51","v":0},null,{"$f":"'9実績'!N51","v":0},null,{"$f":"'10実績'!P51","v":0},null,{"$f":"'11実績'!R51","v":0},null,{"$f":"COUNTIF(CM16:CO46,\">0\")","v":0},null,null,null,null,null,null,null,{"$f":"SUM(BX51:CU51)","v":0}]
["休養日数",null,null,{"$f":"'４実績'!D52","v":30},null,{"$f":"'５実績'!F52","v":31},null,{"$f":"'6実績'!H52","v":30},null,{"$f":"'7実績'!J52","v":31},null,{"$f":"'8実績'!L52:M52","v":31},null,{"$f":"'9実績'!N52:O52","v":30},null,{"$f":"'10実績'!P52:Q52","v":31},null,{"$f":"'11実績'!R52:S52","v":30},null,{"$f":"COUNTIF(S16:U46,\"0:00\")","v":31},null,null,null,null,null,null,null,{"$f":"SUM(D52:AA52)","v":275},null,null,null,null,"休養日数",null,null,null,null,null,null,null,null,null,null,null,null,null,null,null,null,null,null,null,null,null,null,null,null,null,null,null,null,null,null,null,null,null,null,null,null,null,null,null,null,null,null,{"$f":"'４実績'!D52","v":30},null,{"$f":"'５実績'!F52","v":31},null,{"$f":"'6実績'!H52","v":30},null,{"$f":"'7実績'!J52","v":31},null,{"$f":"'8実績'!L52","v":31},null,{"$f":"'9実績'!N52","v":30},null,{"$f":"'10実績'!P52","v":31},null,{"$f":"'11実績'!R52","v":30},null,{"$f":"COUNTIF(CM16:CO46,\"0:00\")","v":31},null,null,null,null,null,null,null,{"$f":"SUM(BX52:CU52)","v":275}]
[null,null,null,null,null,null,null,null,null,null,null,null,null,null,null,null,null,null,null,null,null,null,null,null,null,null,null,{"$f":"AB50/AB51","v":{"$error":"#DIV/0!"}},null,null,null,null,"平均時間/日",null,null,null,null,null,null,null,null,null,null,null,null,null,null,null,null,null,null,null,null,null,null,null,null,null,null,null,null,null,null,null,null,null,null,null,null,null,null,null,null,null,null,null,null,null,null,null,null,null,null,null,null,null,null,null,null,null,null,null,null,null,null,null,null,null,null,{"$f":"CV50/CV51","v":{"$error":"#DIV/0!"}}]

{"sheet":"1実績","index":22,"n_rows":53,"n_cols":112,"rows_kept":53,"cut":false,"hidden":false,"merged":[[41,42,41,45],[42,42,42,45],[43,42,43,45],[44,42,44,45],[45,42,45,45],[32,42,32,45],[33,42,33,45],[34,42,34,45],[35,42,35,45],[36,42,36,45],[37,42,37,45],[38,42,38,45],[39,42,39,45],[40,42,40,45],[23,42,23,45],[24,42,24,45],[25,42,25,45],[26,42,26,45],[27,42,27,45],[28,42,28,45],[29,42,29,45],[30,42,30,45],[31,42,31,45],[14,42,14,45],[15,42,15,45],[16,42,16,45],[17,42,17,45],[18,42,18,45],[19,42,19,45],[20,42,20,45],[21,42,21,45],[22,42,22,45],[0,0,0,3],[1,0,1,3],[1,4,1,7],[1,8,1,11],[1,12,1,15],[1,16,1,19],[1,20,1,23],[1,25,2,27],[1,28,2,37],[1,38,2,40],[2,0,4,3],[2,4,4,7],[2,8,4,11],[2,12,4,15],[2,16,4,19],[2,20,4,23],[3,25,4,27],[3,28,4,37],[3,38,4,40],[6,0,7,4],[6,5,7,7],[6,8,7,22],[6,24,7,26],[6,27,6,28],[6,29,6,30],[6,31,6,32],[6,33,6,34],[6,35,6,36],[9,23,10,27],[9,28,10,29],[9,30,10,38],[6,37,6,38],[6,39,6,40],[7,27,7,28],[7,29,7,30],[7,31,7,32],[7,33,7,34],[7,35,7,36],[7,37,7,38],[7,39,7,40],[11,39,12,40],[14,0,14,1],[14,2,14,3],[14,4,14,10],[14,11,14,17],[14,18,14,20],[14,21,14,32],[14,33,14,40],[9,39,10,40],[11,1,12,2],[11,3,12,7],[11,8,12,9],[11,10,12,18],[11,19,12,20],[11,21,12,22],[11,23,12,27],[11,28,12,29],[11,30,12,38],[9,1,10,2],[9,3,10,7],[9,8,10,9],[9,10,10,18],[9,19,10,20],[9,21,10,22],[15,18,15,20],[15,21,15,26],[15,27,15,32],[15,33,15,40],[16,0,16,1],[16,2,16,3],[16,4,16,6],[16,8,16,10],[16,11,16,13],[16,15,16,17],[15,0,15,1],[15,2,15,3],[15,4,15,6],[15,8,15,10],[15,11,15,13],[15,15,15,17],[16,18,16,20],[16,21,16,26],[16,27,16,32],[16,33,16,40],[17,33,17,40],[18,0,18,1],[18,2,18,3],[18,4,18,6],[18,8,18,10],[18,11,18,13],[18,15,18,17],[18,18,18,20],[18,21,18,26],[18,27,18,32],[18,33,18,40],[17,0,17,1],[17,2,17,3],[17,4,17,6],[17,8,17,10],[17,11,17,13],[17,15,17,17],[17,18,17,20],[17,21,17,26],[17,27,17,32],[19,33,19,40],[20,0,20,1],[20,2,20,3],[20,4,20,6],[20,8,20,10],[20,11,20,13],[20,15,20,17],[20,18,20,20],[20,21,20,26],[20,27,20,32],[20,33,20,40],[19,0,19,1],[19,2,19,3],[19,4,19,6],[19,8,19,10],[19,11,19,13],[19,15,19,17],[19,18,19,20],[19,21,19,26],[19,27,19,32],[21,33,21,40],[22,0,22,1],[22,2,22,3],[22,4,22,6],[22,8,22,10],[22,11,22,13],[22,15,22,17],[22,18,22,20],[22,21,22,26],[22,27,22,32],[22,33,22,40],[21,0,21,1],[21,2,21,3],[21,4,21,6],[21,8,21,10],[21,11,21,13],[21,15,21,17],[21,18,21,20],[21,21,21,26],[21,27,21,32],[23,33,23,40],[24,0,24,1],[24,2,24,3],[24,4,24,6],[24,8,24,10],[24,11,24,13],[24,15,24,17],[24,18,24,20],[24,21,24,26],[24,27,24,32],[24,33,24,40],[23,0,23,1],[23,2,23,3],[23,4,23,6],[23,8,23,10],[23,11,23,13],[23,15,23,17],[23,18,23,20],[23,21,23,26],[23,27,23,32],[25,33,25,40],[26,0,26,1],[26,2,26,3],[26,4,26,6],[26,8,26,10],[26,11,26,13],[26,15,26,17],[26,18,26,20],[26,21,26,26],[26,27,26,32],[26,33,26,40],[25,0,25,1],[25,2,25,3],[25,4,25,6],[25,8,25,10],[25,11,25,13],[25,15,25,17],[25,18,25,20],[25,21,25,26],[25,27,25,32],[27,33,27,40],[28,0,28,1],[28,2,28,3],[28,4,28,6],[28,8,28,10],[28,11,28,13],[28,15,28,17],[28,18,28,20],[28,21,28,26],[28,27,28,32],[28,33,28,40],[27,0,27,1],[27,2,27,3],[27,4,27,6],[27,8,27,10],[27,11,27,13],[27,15,27,17],[27,18,27,20],[27,21,27,26],[27,27,27,32],[29,33,29,40],[30,0,30,1],[30,2,30,3],[30,4,30,6],[30,8,30,10],[30,11,30,13],[30,15,30,17],[30,18,30,20],[30,21,30,26],[30,27,30,32],[30,33,30,40],[29,0,29,1],[29,2,29,3],[29,4,29,6],[29,8,29,10],[29,11,29,13],[29,15,29,17],[29,18,29,20],[29,21,29,26],[29,27,29,32],[31,33,31,40],[32,0,32,1],[32,2,32,3],[32,4,32,6],[32,8,32,10],[32,11,32,13],[32,15,32,17],[32,18,32,20],[32,21,32,26],[32,27,32,32],[32,33,32,40],[31,0,31,1],[31,2,31,3],[31,4,31,6],[31,8,31,10],[31,11,31,13],[31,15,31,17],[31,18,31,20],[31,21,31,26],[31,27,31,32],[33,33,33,40],[34,0,34,1],[34,2,34,3],[34,4,34,6],[34,8,34,10],[34,11,34,13],[34,15,34,17],[34,18,34,20],[34,21,34,26],[34,27,34,32],[34,33,34,40],[33,0,33,1],[33,2,33,3],[33,4,33,6],[33,8,33,10],[33,11,33,13],[33,15,33,17],[33,18,33,20],[33,21,33,26],[33,27,33,32],[36,33,36,40],[35,0,35,1],[35,2,35,3],[35,4,35,6],[35,8,35,10],[35,11,35,13],[35,15,35,17],[35,18,35,20],[35,21,35,26],[35,27,35,32],[36,0,36,1],[36,2,36,3],[36,4,36,6],[36,8,36,10],[36,11,36,13],[36,15,36,17],[36,18,36,20],[36,21,36,26],[36,27,36,32],[37,0,37,1],[37,2,37,3],[37,4,37,6],[37,8,37,10],[37,11,37,13],[37,15,37,17],[37,18,37,20],[37,21,37,26],[37,27,37,32],[38,0,38,1],[38,2,38,3],[38,4,38,6],[38,8,38,10],[38,11,38,13],[38,15,38,17],[38,18,38,20],[38,21,38,26],[38,27,38,32],[39,0,39,1],[39,2,39,3],[39,4,39,6],[39,8,39,10],[39,11,39,13],[39,15,39,17],[39,18,39,20],[39,21,39,26],[39,27,39,32],[40,0,40,1],[40,2,40,3],[40,4,40,6],[40,8,40,10],[40,11,40,13],[40,15,40,17],[40,18,40,20],[40,21,40,26],[40,27,40,32],[45,0,45,1],[45,2,45,3],[41,33,41,40],[42,0,42,1],[42,2,42,3],[42,4,42,6],[42,8,42,10],[42,11,42,13],[42,15,42,17],[42,18,42,20],[42,21,42,26],[42,27,42,32],[42,33,42,40],[41,0,41,1],[41,2,41,3],[41,4,41,6],[41,8,41,10],[41,11,41,13],[41,15,41,17],[41,18,41,20],[41,21,41,26],[41,27,41,32],[43,0,43,1],[43,2,43,3],[43,4,43,6],[43,8,43,10],[43,11,43,13],[43,15,43,17],[43,18,43,20],[43,21,43,26],[43,27,43,32],[44,0,44,1],[44,2,44,3],[44,4,44,6],[44,8,44,10],[44,11,44,13],[44,15,44,17],[44,18,44,20],[44,21,44,26],[44,27,44,32],[48,0,48,2],[48,3,48,4],[48,5,48,6],[48,7,48,8],[48,9,48,10],[49,5,49,6],[49,7,49,8],[49,9,49,10],[49,11,49,12],[48,11,48,12],[45,4,45,6],[45,8,45,10],[45,11,45,13],[45,15,45,17],[45,18,45,20],[45,21,45,26],[50,17,50,18],[50,19,50,20],[50,21,50,22],[50,23,50,24],[50,25,50,26],[46,18,46,20],[49,13,49,14],[48,13,48,14],[48,15,48,16],[48,17,48,18],[49,17,49,18],[49,19,49,20],[49,21,49,22],[49,23,49,24],[48,23,48,24],[48,25,48,26],[50,0,50,2],[50,3,50,4],[50,5,50,6],[50,7,50,8],[50,9,50,10],[50,11,50,12],[50,13,50,14],[50,15,50,16],[49,15,49,16],[49,0,49,2],[49,3,49,4],[51,0,51,2],[51,3,51,4],[51,5,51,6],[51,7,51,8],[51,9,51,10],[51,11,51,12],[51,13,51,14],[51,15,51,16],[51,17,51,18],[52,27,52,31],[52,32,52,34],[51,19,51,20],[51,21,51,22],[51,23,51,24],[51,25,51,26],[51,27,51,31],[51,32,51,34],[50,32,50,34],[48,27,48,31],[48,19,48,20],[48,21,48,22],[50,27,50,31],[49,27,49,31],[49,32,49,34],[49,25,49,26],[0,72,0,75],[1,72,1,75],[6,72,7,76],[11,73,12,74],[11,75,12,79],[14,72,14,73],[14,74,14,75],[14,76,14,82],[45,27,45,32],[43,33,43,40],[44,33,44,40],[45,33,45,40],[39,33,39,40],[40,33,40,40],[37,33,37,40],[38,33,38,40],[35,33,35,40],[1,76,1,79],[1,80,1,83],[1,84,1,87],[1,88,1,91],[1,92,1,95],[1,97,2,99],[1,100,2,109],[1,110,2,112],[2,72,4,75],[2,76,4,79],[2,80,4,83],[2,84,4,87],[2,88,4,91],[2,92,4,95],[3,97,4,99],[3,100,4,109],[3,110,4,112],[6,77,7,79],[6,80,7,94],[6,96,7,98],[6,99,6,100],[6,101,6,102],[6,103,6,104],[6,105,6,106],[6,107,6,108],[6,109,6,110],[6,111,6,112],[7,99,7,100],[7,101,7,102],[7,103,7,104],[7,105,7,106],[7,107,7,108],[7,109,7,110],[7,111,7,112],[9,111,10,112],[11,80,12,81],[11,82,12,90],[11,91,12,92],[11,93,12,94],[11,95,12,99],[11,100,12,101],[11,102,12,110],[11,111,12,112],[9,73,10,74],[9,75,10,79],[9,80,10,81],[9,82,10,90],[9,91,10,92],[9,93,10,94],[9,95,10,99],[9,100,10,101],[9,102,10,110],[14,83,14,89],[14,90,14,92],[14,93,14,104],[14,105,14,112],[15,72,15,73],[15,74,15,75],[15,76,15,78],[15,80,15,82],[15,83,15,85],[15,87,15,89],[15,90,15,92],[15,93,15,98],[15,99,15,104],[15,105,15,112],[16,105,16,112],[17,72,17,73],[17,74,17,75],[17,76,17,78],[17,80,17,82],[17,83,17,85],[17,87,17,89],[17,90,17,92],[17,93,17,98],[17,99,17,104],[17,105,17,112],[16,72,16,73],[16,74,16,75],[16,76,16,78],[16,80,16,82],[16,83,16,85],[16,87,16,89],[16,90,16,92],[16,93,16,98],[16,99,16,104],[18,105,18,112],[19,72,19,73],[19,74,19,75],[19,76,19,78],[19,80,19,82],[19,83,19,85],[19,87,19,89],[19,90,19,92],[19,93,19,98],[19,99,19,104],[19,105,19,112],[18,72,18,73],[18,74,18,75],[18,76,18,78],[18,80,18,82],[18,83,18,85],[18,87,18,89],[18,90,18,92],[18,93,18,98],[18,99,18,104],[20,105,20,112],[21,72,21,73],[21,74,21,75],[21,76,21,78],[21,80,21,82],[21,83,21,85],[21,87,21,89],[21,90,21,92],[21,93,21,98],[21,99,21,104],[21,105,21,112],[20,72,20,73],[20,74,20,75],[20,76,20,78],[20,80,20,82],[20,83,20,85],[20,87,20,89],[20,90,20,92],[20,93,20,98],[20,99,20,104],[22,105,22,112],[23,72,23,73],[23,74,23,75],[23,76,23,78],[23,80,23,82],[23,83,23,85],[23,87,23,89],[23,90,23,92],[23,93,23,98],[23,99,23,104],[23,105,23,112],[22,72,22,73],[22,74,22,75],[22,76,22,78],[22,80,22,82],[22,83,22,85],[22,87,22,89],[22,90,22,92],[22,93,22,98],[22,99,22,104],[24,105,24,112],[25,72,25,73],[25,74,25,75],[25,76,25,78],[25,80,25,82],[25,83,25,85],[25,87,25,89],[25,90,25,92],[25,93,25,98],[25,99,25,104],[25,105,25,112],[24,72,24,73],[24,74,24,75],[24,76,24,78],[24,80,24,82],[24,83,24,85],[24,87,24,89],[24,90,24,92],[24,93,24,98],[24,99,24,104],[26,105,26,112],[27,72,27,73],[27,74,27,75],[27,76,27,78],[27,80,27,82],[27,83,27,85],[27,87,27,89],[27,90,27,92],[27,93,27,98],[27,99,27,104],[27,105,27,112],[26,72,26,73],[26,74,26,75],[26,76,26,78],[26,80,26,82],[26,83,26,85],[26,87,26,89],[26,90,26,92],[26,93,26,98],[26,99,26,104],[28,105,28,112],[29,72,29,73],[29,74,29,75],[29,76,29,78],[29,80,29,82],[29,83,29,85],[29,87,29,89],[29,90,29,92],[29,93,29,98],[29,99,29,104],[29,105,29,112],[28,72,28,73],[28,74,28,75],[28,76,28,78],[28,80,28,82],[28,83,28,85],[28,87,28,89],[28,90,28,92],[28,93,28,98],[28,99,28,104],[30,105,30,112],[31,72,31,73],[31,74,31,75],[31,76,31,78],[31,80,31,82],[31,83,31,85],[31,87,31,89],[31,90,31,92],[31,93,31,98],[31,99,31,104],[31,105,31,112],[30,72,30,73],[30,74,30,75],[30,76,30,78],[30,80,30,82],[30,83,30,85],[30,87,30,89],[30,90,30,92],[30,93,30,98],[30,99,30,104],[32,105,32,112],[33,72,33,73],[33,74,33,75],[33,76,33,78],[33,80,33,82],[33,83,33,85],[33,87,33,89],[33,90,33,92],[33,93,33,98],[33,99,33,104],[33,105,33,112],[32,72,32,73],[32,74,32,75],[32,76,32,78],[32,80,32,82],[32,83,32,85],[32,87,32,89],[32,90,32,92],[32,93,32,98],[32,99,32,104],[34,105,34,112],[35,72,35,73],[35,74,35,75],[35,76,35,78],[35,80,35,82],[35,83,35,85],[35,87,35,89],[35,90,35,92],[35,93,35,98],[35,99,35,104],[35,105,35,112],[34,72,34,73],[34,74,34,75],[34,76,34,78],[34,80,34,82],[34,83,34,85],[34,87,34,89],[34,90,34,92],[34,93,34,98],[34,99,34,104],[36,105,36,112],[37,72,37,73],[37,74,37,75],[37,76,37,78],[37,80,37,82],[37,83,37,85],[37,87,37,89],[37,90,37,92],[37,93,37,98],[37,99,37,104],[37,105,37,112],[36,72,36,73],[36,74,36,75],[36,76,36,78],[36,80,36,82],[36,83,36,85],[36,87,36,89],[36,90,36,92],[36,93,36,98],[36,99,36,104],[38,105,38,112],[39,72,39,73],[39,74,39,75],[39,76,39,78],[39,80,39,82],[39,83,39,85],[39,87,39,89],[39,90,39,92],[39,93,39,98],[39,99,39,104],[39,105,39,112],[38,72,38,73],[38,74,38,75],[38,76,38,78],[38,80,38,82],[38,83,38,85],[38,87,38,89],[38,90,38,92],[38,93,38,98],[38,99,38,104],[40,105,40,112],[41,72,41,73],[41,74,41,75],[41,76,41,78],[41,80,41,82],[41,83,41,85],[41,87,41,89],[41,90,41,92],[41,93,41,98],[41,99,41,104],[41,105,41,112],[40,72,40,73],[40,74,40,75],[40,76,40,78],[40,80,40,82],[40,83,40,85],[40,87,40,89],[40,90,40,92],[40,93,40,98],[40,99,40,104],[42,105,42,112],[43,72,43,73],[43,74,43,75],[43,76,43,78],[43,80,43,82],[43,83,43,85],[43,87,43,89],[43,90,43,92],[43,93,43,98],[43,99,43,104],[43,105,43,112],[42,72,42,73],[42,74,42,75],[42,76,42,78],[42,80,42,82],[42,83,42,85],[42,87,42,89],[42,90,42,92],[42,93,42,98],[42,99,42,104],[44,105,44,112],[45,72,45,73],[45,74,45,75],[45,76,45,78],[45,80,45,82],[45,83,45,85],[45,87,45,89],[45,90,45,92],[45,93,45,98],[45,99,45,104],[45,105,45,112],[44,72,44,73],[44,74,44,75],[44,76,44,78],[44,80,44,82],[44,83,44,85],[44,87,44,89],[44,90,44,92],[44,93,44,98],[44,99,44,104],[48,79,48,80],[48,81,48,82],[48,83,48,84],[48,85,48,86],[48,87,48,88],[48,89,48,90],[49,72,49,74],[49,75,49,76],[49,77,49,78],[46,104,48,108],[46,109,46,112],[47,109,48,112],[48,91,48,92],[48,93,48,94],[48,95,48,96],[48,97,48,98],[48,99,48,103],[49,91,49,92],[49,93,49,94],[49,95,49,96],[49,97,49,98],[49,99,49,103],[49,104,49,106],[50,72,50,74],[50,75,50,76],[50,77,50,78],[50,79,50,80],[50,81,50,82],[50,83,50,84],[5,0,5,22],[51,91,51,92],[51,93,51,94],[50,91,50,92],[50,93,50,94],[50,85,50,86],[50,87,50,88],[50,89,50,90],[49,79,49,80],[49,81,49,82],[49,83,49,84],[49,85,49,86],[49,87,49,88],[49,89,49,90],[46,90,46,92],[48,72,48,74],[48,75,48,76],[48,77,48,78],[51,72,51,74],[51,75,51,76],[51,77,51,78],[51,79,51,80],[51,81,51,82],[51,83,51,84],[51,85,51,86],[51,87,51,88],[51,89,51,90],[50,95,50,96],[50,97,50,98],[50,99,50,103],[50,104,50,106],[51,95,51,96],[51,97,51,98],[51,99,51,103],[51,104,51,106],[52,99,52,103],[52,104,52,106]]}
[]
[{"$f":"'1計画'!A2:D2","v":"校長"},null,null,null,{"$f":"'1計画'!E2:H2","v":"教頭"},null,null,null,{"$f":"'1計画'!I2:L2","v":"教頭"},null,null,null,{"$f":"'1計画'!M2:P2","v":"主幹教諭"},null,null,null,{"$f":"'1計画'!Q2:T2","v":0},null,null,null,{"$f":"'1計画'!U2:X2","v":"顧問"},null,null,null,null,"学校名",null,null,{"$f":"'1計画'!AC2:AL3","v":0},null,null,null,null,null,null,null,null,null,"学校",null,null,null,null,null,null,null,null,null,null,null,null,null,null,null,null,null,null,null,null,null,null,null,null,null,null,null,null,null,null,null,null,null,{"$f":"'1計画'!BU2:BX2","v":0},null,null,null,{"$f":"'1計画'!BY2:CB2","v":0},null,null,null,{"$f":"'1計画'!CC2:CF2","v":0},null,null,null,{"$f":"'1計画'!CG2:CJ2","v":0},null,null,null,{"$f":"'1計画'!CK2:CN2","v":0},null,null,null,{"$f":"'1計画'!CO2:CR2","v":0},null,null,null,null,null,null,null,{"$f":"'1計画'!CW2:DF3","v":0}]
["印",null,null,null,"印",null,null,null,"印",null,null,null,"印",null,null,null,"印",null,null,null,"印"]
[null,null,null,null,null,null,null,null,null,null,null,null,null,null,null,null,null,null,null,null,null,null,null,null,null,"部活動名",null,null,{"$f":"'1計画'!AC4:AL5","v":0},null,null,null,null,null,null,null,null,null,"部",null,null,null,null,null,null,null,null,null,null,null,null,null,null,null,null,null,null,null,null,null,null,null,null,null,null,null,null,null,null,null,null,null,null,null,null,null,null,null,null,null,null,null,null,null,null,null,null,null,null,null,null,null,null,null,null,null,null,null,null,null,{"$f":"'1計画'!CW4:DF5","v":0}]
[]
["　※活動計画と違う内容については、校長口頭命令済み"]
[1,null,null,null,null,"月",null,null,"〈月間〉部活動計画・活動実績",null,null,null,null,null,null,null,null,null,null,null,null,null,null,null,"部員数",null,null,"1女",null,"2女",null,"3女",null,"1男",null,"2男",null,"3男",null,"計"]
[null,null,null,null,null,null,null,null,null,null,null,null,null,null,null,null,null,null,null,null,null,null,null,null,null,null,null,{"$f":"'1計画'!AB8:AC8","v":0},null,{"$f":"'1計画'!AD8:AE8","v":0},null,{"$f":"'1計画'!AF8:AG8","v":0},null,{"$f":"'1計画'!AH8:AI8","v":0},null,{"$f":"'1計画'!AJ8:AK8","v":0},null,{"$f":"'1計画'!AL8:AM8","v":0},null,{"$f":"SUM(AB8:AM8)","v":0},null,null,null,null,null,null,null,null,null,null,null,null,null,null,null,null,null,null,null,null,null,null,null,null,null,null,null,null,null,null,null,null,null,null,null,null,null,null,null,null,null,null,null,null,null,null,null,null,null,null,null,null,null,null,null,null,null,null,null,{"$f":"'1計画'!AB8","v":0},null,{"$f":"'1計画'!AD8","v":0},null,{"$f":"'1計画'!AF8","v":0},null,{"$f":"'1計画'!AH8","v":0},null,{"$f":"'1計画'!AJ8","v":0},null,{"$f":"'1計画'!AL8","v":0},null,{"$f":"SUM(CV8:DG8)","v":0}]
[]
[null,"職名",null,{"$f":"'1計画'!D10:H11","v":0},null,null,null,null,"顧問",null,{"$f":"'1計画'!K10:S11","v":0},null,null,null,null,null,null,null,null,null,null,"職名",null,{"$f":"'1計画'!X10:AB11","v":0},null,null,null,null,"副２",null,{"$f":"'1計画'!AE10:AM11","v":0},null,null,null,null,null,null,null,null,null,null,null,null,null,null,null,null,null,null,null,null,null,null,null,null,null,null,null,null,null,null,null,null,null,null,null,null,null,null,null,null,null,null,null,null,{"$f":"'1計画'!D10","v":0},null,null,null,null,null,null,{"$f":"'1計画'!K10","v":0},null,null,null,null,null,null,null,null,null,null,null,null,{"$f":"'1計画'!X10","v":0},null,null,null,null,null,null,{"$f":"'1計画'!AE10","v":0}]
[]
[null,"職名",null,{"$f":"'1計画'!D12:H13","v":0},null,null,null,null,"副顧問",null,{"$f":"'1計画'!K12:S13","v":0},null,null,null,null,null,null,null,null,null,null,"職名",null,{"$f":"'1計画'!X12:AB13","v":0},null,null,null,null,"副３",null,{"$f":"'1計画'!AE12:AM13","v":0},null,null,null,null,null,null,null,null,null,null,null,null,null,null,null,null,null,null,null,null,null,null,null,null,null,null,null,null,null,null,null,null,null,null,null,null,null,null,null,null,null,null,null,null,{"$f":"'1計画'!D12","v":0},null,null,null,null,null,null,{"$f":"'1計画'!K12","v":0},null,null,null,null,null,null,null,null,null,null,null,null,{"$f":"'1計画'!X12","v":0},null,null,null,null,null,null,{"$f":"'1計画'!AE12","v":0}]
[]
[]
["日",null,"曜",null,"ＡＭ",null,null,null,null,null,null,"ＰＭ",null,null,null,null,null,null,"時間",null,null,"内容（練習・大会・OFF等）",null,null,null,null,null,null,null,null,null,null,null,"場所",null,null,null,null,null,null,null,false,"特殊業務"]
[1,null,{"$f":"'1計画'!C16:D16","v":"金"},null,{"$f":"'1計画'!E16:G16","v":"00:00:00"},null,null,"～",{"$f":"'1計画'!I16:K16","v":"00:00:00"},null,null,{"$f":"'1計画'!L16:N16","v":"00:00:00"},null,null,"～",{"$f":"'1計画'!P16:R16","v":"00:00:00"},null,null,{"$f":"(I16-E16)+(P16-L16)","v":"00:00:00"},null,null,{"$f":"'1計画'!V16:AA16","v":0},null,null,null,null,null,{"$f":"'1計画'!AB16:AG16","v":0},null,null,null,null,null,{"$f":"'1計画'!AH16:AO16","v":0},null,null,null,null,null,null,null,false,null,null,null,null,null,null,null,null,null,null,null,null,null,null,null,null,null,null,null,null,{"$f":"RIGHT(V16,2)","v":"0"},null,null,null,null,null,null,null,null,null,null,null,{"$f":"'1計画'!C16","v":"金"},null,{"$f":"'1計画'!E16","v":"00:00:00"},null,null,"～",{"$f":"'1計画'!I16","v":"00:00:00"},null,null,{"$f":"'1計画'!L16","v":"00:00:00"},null,null,"～",{"$f":"'1計画'!P16","v":"00:00:00"},null,null,{"$f":"(CC16-BY16)+(CJ16-CF16)","v":"00:00:00"},null,null,{"$f":"'1計画'!V16","v":0},null,null,null,null,null,{"$f":"'1計画'!AB16","v":0},null,null,null,null,null,{"$f":"'1計画'!AH16","v":0}]
[2,null,{"$f":"'1計画'!C17:D17","v":"土"},null,{"$f":"'1計画'!E17:G17","v":"00:00:00"},null,null,"～",{"$f":"'1計画'!I17:K17","v":"00:00:00"},null,null,{"$f":"'1計画'!L17:N17","v":"00:00:00"},null,null,"～",{"$f":"'1計画'!P17:R17","v":"00:00:00"},null,null,"00:00:00",null,null,{"$f":"'1計画'!V17:AA17","v":0},null,null,null,null,null,{"$f":"'1計画'!AB17:AG17","v":0},null,null,null,null,null,{"$f":"'1計画'!AH17:AO17","v":0},null,null,null,null,null,null,null,false,null,null,null,null,null,null,null,null,null,null,null,null,null,null,null,null,null,null,null,null,{"$f":"RIGHT(V17,2)","v":"0"},null,null,null,null,null,null,null,null,null,null,null,{"$f":"'1計画'!C17","v":"土"},null,{"$f":"'1計画'!E17","v":"00:00:00"},null,null,"～",{"$f":"'1計画'!I17","v":"00:00:00"},null,null,{"$f":"'1計画'!L17","v":"00:00:00"},null,null,"～",{"$f":"'1計画'!P17","v":"00:00:00"},null,null,"00:00:00",null,null,{"$f":"'1計画'!V17","v":0},null,null,null,null,null,{"$f":"'1計画'!AB17","v":0},null,null,null,null,null,{"$f":"'1計画'!AH17","v":0}]
[3,null,{"$f":"'1計画'!C18:D18","v":"日"},null,{"$f":"'1計画'!E18:G18","v":"00:00:00"},null,null,"～",{"$f":"'1計画'!I18:K18","v":"00:00:00"},null,null,{"$f":"'1計画'!L18:N18","v":"00:00:00"},null,null,"～",{"$f":"'1計画'!P18:R18","v":"00:00:00"},null,null,"00:00:00",null,null,{"$f":"'1計画'!V18:AA18","v":0},null,null,null,null,null,{"$f":"'1計画'!AB18:AG18","v":0},null,null,null,null,null,{"$f":"'1計画'!AH18:AO18","v":0},null,null,null,null,null,null,null,false,null,null,null,null,null,null,null,null,null,null,null,null,null,null,null,null,null,null,null,null,"0",null,null,null,null,null,null,null,null,null,null,null,{"$f":"'1計画'!C18","v":"日"},null,{"$f":"'1計画'!E18","v":"00:00:00"},null,null,"～",{"$f":"'1計画'!I18","v":"00:00:00"},null,null,{"$f":"'1計画'!L18","v":"00:00:00"},null,null,"～",{"$f":"'1計画'!P18","v":"00:00:00"},null,null,"00:00:00",null,null,{"$f":"'1計画'!V18","v":0},null,null,null,null,null,{"$f":"'1計画'!AB18","v":0},null,null,null,null,null,{"$f":"'1計画'!AH18","v":0}]
[4,null,{"$f":"'1計画'!C19:D19","v":"月"},null,{"$f":"'1計画'!E19:G19","v":"00:00:00"},null,null,"～",{"$f":"'1計画'!I19:K19","v":"00:00:00"},null,null,{"$f":"'1計画'!L19:N19","v":"00:00:00"},null,null,"～",{"$f":"'1計画'!P19:R19","v":"00:00:00"},null,null,"00:00:00",null,null,{"$f":"'1計画'!V19:AA19","v":0},null,null,null,null,null,{"$f":"'1計画'!AB19:AG19","v":0},null,null,null,null,null,{"$f":"'1計画'!AH19:AO19","v":0},null,null,null,null,null,null,null,false,null,null,null,null,null,null,null,null,null,null,null,null,null,null,null,null,null,null,null,null,"0",null,null,null,null,null,null,null,null,null,null,null,{"$f":"'1計画'!C19","v":"月"},null,{"$f":"'1計画'!E19","v":"00:00:00"},null,null,"～",{"$f":"'1計画'!I19","v":"00:00:00"},null,null,{"$f":"'1計画'!L19","v":"00:00:00"},null,null,"～",{"$f":"'1計画'!P19","v":"00:00:00"},null,null,"00:00:00",null,null,{"$f":"'1計画'!V19","v":0},null,null,null,null,null,{"$f":"'1計画'!AB19","v":0},null,null,null,null,null,{"$f":"'1計画'!AH19","v":0}]
[5,null,{"$f":"'1計画'!C20:D20","v":"火"},null,{"$f":"'1計画'!E20:G20","v":"00:00:00"},null,null,"～",{"$f":"'1計画'!I20:K20","v":"00:00:00"},null,null,{"$f":"'1計画'!L20:N20","v":"00:00:00"},null,null,"～",{"$f":"'1計画'!P20:R20","v":"00:00:00"},null,null,"00:00:00",null,null,{"$f":"'1計画'!V20:AA20","v":0},null,null,null,null,null,{"$f":"'1計画'!AB20:AG20","v":0},null,null,null,null,null,{"$f":"'1計画'!AH20:AO20","v":0},null,null,null,null,null,null,null,false,null,null,null,null,null,null,null,null,null,null,null,null,null,null,null,null,null,null,null,null,"0",null,null,null,null,null,null,null,null,null,null,null,{"$f":"'1計画'!C20","v":"火"},null,{"$f":"'1計画'!E20","v":"00:00:00"},null,null,"～",{"$f":"'1計画'!I20","v":"00:00:00"},null,null,{"$f":"'1計画'!L20","v":"00:00:00"},null,null,"～",{"$f":"'1計画'!P20","v":"00:00:00"},null,null,"00:00:00",null,null,{"$f":"'1計画'!V20","v":0},null,null,null,null,null,{"$f":"'1計画'!AB20","v":0},null,null,null,null,null,{"$f":"'1計画'!AH20","v":0}]
[6,null,{"$f":"'1計画'!C21:D21","v":"水"},null,{"$f":"'1計画'!E21:G21","v":"00:00:00"},null,null,"～",{"$f":"'1計画'!I21:K21","v":"00:00:00"},null,null,{"$f":"'1計画'!L21:N21","v":"00:00:00"},null,null,"～",{"$f":"'1計画'!P21:R21","v":"00:00:00"},null,null,"00:00:00",null,null,{"$f":"'1計画'!V21:AA21","v":0},null,null,null,null,null,{"$f":"'1計画'!AB21:AG21","v":0},null,null,null,null,null,{"$f":"'1計画'!AH21:AO21","v":0},null,null,null,null,null,null,null,false,null,null,null,null,null,null,null,null,null,null,null,null,null,null,null,null,null,null,null,null,"0",null,null,null,null,null,null,null,null,null,null,null,{"$f":"'1計画'!C21","v":"水"},null,{"$f":"'1計画'!E21","v":"00:00:00"},null,null,"～",{"$f":"'1計画'!I21","v":"00:00:00"},null,null,{"$f":"'1計画'!L21","v":"00:00:00"},null,null,"～",{"$f":"'1計画'!P21","v":"00:00:00"},null,null,"00:00:00",null,null,{"$f":"'1計画'!V21","v":0},null,null,null,null,null,{"$f":"'1計画'!AB21","v":0},null,null,null,null,null,{"$f":"'1計画'!AH21","v":0}]
[7,null,{"$f":"'1計画'!C22:D22","v":"木"},null,{"$f":"'1計画'!E22:G22","v":"00:00:00"},null,null,"～",{"$f":"'1計画'!I22:K22","v":"00:00:00"},null,null,{"$f":"'1計画'!L22:N22","v":"00:00:00"},null,null,"～",{"$f":"'1計画'!P22:R22","v":"00:00:00"},null,null,"00:00:00",null,null,{"$f":"'1計画'!V22:AA22","v":0},null,null,null,null,null,{"$f":"'1計画'!AB22:AG22","v":0},null,null,null,null,null,{"$f":"'1計画'!AH22:AO22","v":0},null,null,null,null,null,null,null,false,null,null,null,null,null,null,null,null,null,null,null,null,null,null,null,null,null,null,null,null,"0",null,null,null,null,null,null,null,null,null,null,null,{"$f":"'1計画'!C22","v":"木"},null,{"$f":"'1計画'!E22","v":"00:00:00"},null,null,"～",{"$f":"'1計画'!I22","v":"00:00:00"},null,null,{"$f":"'1計画'!L22","v":"00:00:00"},null,null,"～",{"$f":"'1計画'!P22","v":"00:00:00"},null,null,"00:00:00",null,null,{"$f":"'1計画'!V22","v":0},null,null,null,null,null,{"$f":"'1計画'!AB22","v":0},null,null,null,null,null,{"$f":"'1計画'!AH22","v":0}]
[8,null,{"$f":"'1計画'!C23:D23","v":"金"},null,{"$f":"'1計画'!E23:G23","v":"00:00:00"},null,null,"～",{"$f":"'1計画'!I23:K23","v":"00:00:00"},null,null,{"$f":"'1計画'!L23:N23","v":"00:00:00"},null,null,"～",{"$f":"'1計画'!P23:R23","v":"00:00:00"},null,null,"00:00:00",null,null,{"$f":"'1計画'!V23:AA23","v":0},null,null,null,null,null,{"$f":"'1計画'!AB23:AG23","v":0},null,null,null,null,null,{"$f":"'1計画'!AH23:AO23","v":0},null,null,null,null,null,null,null,false,null,null,null,null,null,null,null,null,null,null,null,null,null,null,null,null,null,null,null,null,"0",null,null,null,null,null,null,null,null,null,null,null,{"$f":"'1計画'!C23","v":"金"},null,{"$f":"'1計画'!E23","v":"00:00:00"},null,null,"～",{"$f":"'1計画'!I23","v":"00:00:00"},null,null,{"$f":"'1計画'!L23","v":"00:00:00"},null,null,"～",{"$f":"'1計画'!P23","v":"00:00:00"},null,null,"00:00:00",null,null,{"$f":"'1計画'!V23","v":0},null,null,null,null,null,{"$f":"'1計画'!AB23","v":0},null,null,null,null,null,{"$f":"'1計画'!AH23","v":0}]
[9,null,{"$f":"'1計画'!C24:D24","v":"土"},null,{"$f":"'1計画'!E24:G24","v":"00:00:00"},null,null,"～",{"$f":"'1計画'!I24:K24","v":"00:00:00"},null,null,{"$f":"'1計画'!L24:N24","v":"00:00:00"},null,null,"～",{"$f":"'1計画'!P24:R24","v":"00:00:00"},null,null,"00:00:00",null,null,{"$f":"'1計画'!V24:AA24","v":0},null,null,null,null,null,{"$f":"'1計画'!AB24:AG24","v":0},null,null,null,null,null,{"$f":"'1計画'!AH24:AO24","v":0},null,null,null,null,null,null,null,false,null,null,null,null,null,null,null,null,null,null,null,null,null,null,null,null,null,null,null,null,"0",null,null,null,null,null,null,null,null,null,null,null,{"$f":"'1計画'!C24","v":"土"},null,{"$f":"'1計画'!E24","v":"00:00:00"},null,null,"～",{"$f":"'1計画'!I24","v":"00:00:00"},null,null,{"$f":"'1計画'!L24","v":"00:00:00"},null,null,"～",{"$f":"'1計画'!P24","v":"00:00:00"},null,null,"00:00:00",null,null,{"$f":"'1計画'!V24","v":0},null,null,null,null,null,{"$f":"'1計画'!AB24","v":0},null,null,null,null,null,{"$f":"'1計画'!AH24","v":0}]
[10,null,{"$f":"'1計画'!C25:D25","v":"日"},null,{"$f":"'1計画'!E25:G25","v":"00:00:00"},null,null,"～",{"$f":"'1計画'!I25:K25","v":"00:00:00"},null,null,{"$f":"'1計画'!L25:N25","v":"00:00:00"},null,null,"～",{"$f":"'1計画'!P25:R25","v":"00:00:00"},null,null,"00:00:00",null,null,{"$f":"'1計画'!V25:AA25","v":0},null,null,null,null,null,{"$f":"'1計画'!AB25:AG25","v":0},null,null,null,null,null,{"$f":"'1計画'!AH25:AO25","v":0},null,null,null,null,null,null,null,false,null,null,null,null,null,null,null,null,null,null,null,null,null,null,null,null,null,null,null,null,"0",null,null,null,null,null,null,null,null,null,null,null,{"$f":"'1計画'!C25","v":"日"},null,{"$f":"'1計画'!E25","v":"00:00:00"},null,null,"～",{"$f":"'1計画'!I25","v":"00:00:00"},null,null,{"$f":"'1計画'!L25","v":"00:00:00"},null,null,"～",{"$f":"'1計画'!P25","v":"00:00:00"},null,null,"00:00:00",null,null,{"$f":"'1計画'!V25","v":0},null,null,null,null,null,{"$f":"'1計画'!AB25","v":0},null,null,null,null,null,{"$f":"'1計画'!AH25","v":0}]
[11,null,{"$f":"'1計画'!C26:D26","v":"月"},null,{"$f":"'1計画'!E26:G26","v":"00:00:00"},null,null,"～",{"$f":"'1計画'!I26:K26","v":"00:00:00"},null,null,{"$f":"'1計画'!L26:N26","v":"00:00:00"},null,null,"～",{"$f":"'1計画'!P26:R26","v":"00:00:00"},null,null,"00:00:00",null,null,{"$f":"'1計画'!V26:AA26","v":0},null,null,null,null,null,{"$f":"'1計画'!AB26:AG26","v":0},null,null,null,null,null,{"$f":"'1計画'!AH26:AO26","v":0},null,null,null,null,null,null,null,false,null,null,null,null,null,null,null,null,null,null,null,null,null,null,null,null,null,null,null,null,"0",null,null,null,null,null,null,null,null,null,null,null,{"$f":"'1計画'!C26","v":"月"},null,{"$f":"'1計画'!E26","v":"00:00:00"},null,null,"～",{"$f":"'1計画'!I26","v":"00:00:00"},null,null,{"$f":"'1計画'!L26","v":"00:00:00"},null,null,"～",{"$f":"'1計画'!P26","v":"00:00:00"},null,null,"00:00:00",null,null,{"$f":"'1計画'!V26","v":0},null,null,null,null,null,{"$f":"'1計画'!AB26","v":0},null,null,null,null,null,{"$f":"'1計画'!AH26","v":0}]
[12,null,{"$f":"'1計画'!C27:D27","v":"火"},null,{"$f":"'1計画'!E27:G27","v":"00:00:00"},null,null,"～",{"$f":"'1計画'!I27:K27","v":"00:00:00"},null,null,{"$f":"'1計画'!L27:N27","v":"00:00:00"},null,null,"～",{"$f":"'1計画'!P27:R27","v":"00:00:00"},null,null,"00:00:00",null,null,{"$f":"'1計画'!V27:AA27","v":0},null,null,null,null,null,{"$f":"'1計画'!AB27:AG27","v":0},null,null,null,null,null,{"$f":"'1計画'!AH27:AO27","v":0},null,null,null,null,null,null,null,false,null,null,null,null,null,null,null,null,null,null,null,null,null,null,null,null,null,null,null,null,"0",null,null,null,null,null,null,null,null,null,null,null,{"$f":"'1計画'!C27","v":"火"},null,{"$f":"'1計画'!E27","v":"00:00:00"},null,null,"～",{"$f":"'1計画'!I27","v":"00:00:00"},null,null,{"$f":"'1計画'!L27","v":"00:00:00"},null,null,"～",{"$f":"'1計画'!P27","v":"00:00:00"},null,null,"00:00:00",null,null,{"$f":"'1計画'!V27","v":0},null,null,null,null,null,{"$f":"'1計画'!AB27","v":0},null,null,null,null,null,{"$f":"'1計画'!AH27","v":0}]
[13,null,{"$f":"'1計画'!C28:D28","v":"水"},null,{"$f":"'1計画'!E28:G28","v":"00:00:00"},null,null,"～",{"$f":"'1計画'!I28:K28","v":"00:00:00"},null,null,{"$f":"'1計画'!L28:N28","v":"00:00:00"},null,null,"～",{"$f":"'1計画'!P28:R28","v":"00:00:00"},null,null,"00:00:00",null,null,{"$f":"'1計画'!V28:AA28","v":0},null,null,null,null,null,{"$f":"'1計画'!AB28:AG28","v":0},null,null,null,null,null,{"$f":"'1計画'!AH28:AO28","v":0},null,null,null,null,null,null,null,false,null,null,null,null,null,null,null,null,null,null,null,null,null,null,null,null,null,null,null,null,"0",null,null,null,null,null,null,null,null,null,null,null,{"$f":"'1計画'!C28","v":"水"},null,{"$f":"'1計画'!E28","v":"00:00:00"},null,null,"～",{"$f":"'1計画'!I28","v":"00:00:00"},null,null,{"$f":"'1計画'!L28","v":"00:00:00"},null,null,"～",{"$f":"'1計画'!P28","v":"00:00:00"},null,null,"00:00:00",null,null,{"$f":"'1計画'!V28","v":0},null,null,null,null,null,{"$f":"'1計画'!AB28","v":0},null,null,null,null,null,{"$f":"'1計画'!AH28","v":0}]
[14,null,{"$f":"'1計画'!C29:D29","v":"木"},null,{"$f":"'1計画'!E29:G29","v":"00:00:00"},null,null,"～",{"$f":"'1計画'!I29:K29","v":"00:00:00"},null,null,{"$f":"'1計画'!L29:N29","v":"00:00:00"},null,null,"～",{"$f":"'1計画'!P29:R29","v":"00:00:00"},null,null,"00:00:00",null,null,{"$f":"'1計画'!V29:AA29","v":0},null,null,null,null,null,{"$f":"'1計画'!AB29:AG29","v":0},null,null,null,null,null,{"$f":"'1計画'!AH29:AO29","v":0},null,null,null,null,null,null,null,false,null,null,null,null,null,null,null,null,null,null,null,null,null,null,null,null,null,null,null,null,"0",null,null,null,null,null,null,null,null,null,null,null,{"$f":"'1計画'!C29","v":"木"},null,{"$f":"'1計画'!E29","v":"00:00:00"},null,null,"～",{"$f":"'1計画'!I29","v":"00:00:00"},null,null,{"$f":"'1計画'!L29","v":"00:00:00"},null,null,"～",{"$f":"'1計画'!P29","v":"00:00:00"},null,null,"00:00:00",null,null,{"$f":"'1計画'!V29","v":0},null,null,null,null,null,{"$f":"'1計画'!AB29","v":0},null,null,null,null,null,{"$f":"'1計画'!AH29","v":0}]
[15,null,{"$f":"'1計画'!C30:D30","v":"金"},null,{"$f":"'1計画'!E30:G30","v":"00:00:00"},null,null,"～",{"$f":"'1計画'!I30:K30","v":"00:00:00"},null,null,{"$f":"'1計画'!L30:N30","v":"00:00:00"},null,null,"～",{"$f":"'1計画'!P30:R30","v":"00:00:00"},null,null,"00:00:00",null,null,{"$f":"'1計画'!V30:AA30","v":0},null,null,null,null,null,{"$f":"'1計画'!AB30:AG30","v":0},null,null,null,null,null,{"$f":"'1計画'!AH30:AO30","v":0},null,null,null,null,null,null,null,false,null,null,null,null,null,null,null,null,null,null,null,null,null,null,null,null,null,null,null,null,"0",null,null,null,null,null,null,null,null,null,null,null,{"$f":"'1計画'!C30","v":"金"},null,{"$f":"'1計画'!E30","v":"00:00:00"},null,null,"～",{"$f":"'1計画'!I30","v":"00:00:00"},null,null,{"$f":"'1計画'!L30","v":"00:00:00"},null,null,"～",{"$f":"'1計画'!P30","v":"00:00:00"},null,null,"00:00:00",null,null,{"$f":"'1計画'!V30","v":0},null,null,null,null,null,{"$f":"'1計画'!AB30","v":0},null,null,null,null,null,{"$f":"'1計画'!AH30","v":0}]
[16,null,{"$f":"'1計画'!C31:D31","v":"土"},null,{"$f":"'1計画'!E31:G31","v":"00:00:00"},null,null,"～",{"$f":"'1計画'!I31:K31","v":"00:00:00"},null,null,{"$f":"'1計画'!L31:N31","v":"00:00:00"},null,null,"～",{"$f":"'1計画'!P31:R31","v":"00:00:00"},null,null,"00:00:00",null,null,{"$f":"'1計画'!V31:AA31","v":0},null,null,null,null,null,{"$f":"'1計画'!AB31:AG31","v":0},null,null,null,null,null,{"$f":"'1計画'!AH31:AO31","v":0},null,null,null,null,null,null,null,false,null,null,null,null,null,null,null,null,null,null,null,null,null,null,null,null,null,null,null,null,"0",null,null,null,null,null,null,null,null,null,null,null,{"$f":"'1計画'!C31","v":"土"},null,{"$f":"'1計画'!E31","v":"00:00:00"},null,null,"～",{"$f":"'1計画'!I31","v":"00:00:00"},null,null,{"$f":"'1計画'!L31","v":"00:00:00"},null,null,"～",{"$f":"'1計画'!P31","v":"00:00:00"},null,null,"00:00:00",null,null,{"$f":"'1計画'!V31","v":0},null,null,null,null,null,{"$f":"'1計画'!AB31","v":0},null,null,null,null,null,{"$f":"'1計画'!AH31","v":0}]
[17,null,{"$f":"'1計画'!C32:D32","v":"日"},null,{"$f":"'1計画'!E32:G32","v":"00:00:00"},null,null,"～",{"$f":"'1計画'!I32:K32","v":"00:00:00"},null,null,{"$f":"'1計画'!L32:N32","v":"00:00:00"},null,null,"～",{"$f":"'1計画'!P32:R32","v":"00:00:00"},null,null,"00:00:00",null,null,{"$f":"'1計画'!V32:AA32","v":0},null,null,null,null,null,{"$f":"'1計画'!AB32:AG32","v":0},null,null,null,null,null,{"$f":"'1計画'!AH32:AO32","v":0},null,null,null,null,null,null,null,false,null,null,null,null,null,null,null,null,null,null,null,null,null,null,null,null,null,null,null,null,"0",null,null,null,null,null,null,null,null,null,null,null,{"$f":"'1計画'!C32","v":"日"},null,{"$f":"'1計画'!E32","v":"00:00:00"},null,null,"～",{"$f":"'1計画'!I32","v":"00:00:00"},null,null,{"$f":"'1計画'!L32","v":"00:00:00"},null,null,"～",{"$f":"'1計画'!P32","v":"00:00:00"},null,null,"00:00:00",null,null,{"$f":"'1計画'!V32","v":0},null,null,null,null,null,{"$f":"'1計画'!AB32","v":0},null,null,null,null,null,{"$f":"'1計画'!AH32","v":0}]
[18,null,{"$f":"'1計画'!C33:D33","v":"月"},null,{"$f":"'1計画'!E33:G33","v":"00:00:00"},null,null,"～",{"$f":"'1計画'!I33:K33","v":"00:00:00"},null,null,{"$f":"'1計画'!L33:N33","v":"00:00:00"},null,null,"～",{"$f":"'1計画'!P33:R33","v":"00:00:00"},null,null,"00:00:00",null,null,{"$f":"'1計画'!V33:AA33","v":0},null,null,null,null,null,{"$f":"'1計画'!AB33:AG33","v":0},null,null,null,null,null,{"$f":"'1計画'!AH33:AO33","v":0},null,null,null,null,null,null,null,false,null,null,null,null,null,null,null,null,null,null,null,null,null,null,null,null,null,null,null,null,"0",null,null,null,null,null,null,null,null,null,null,null,{"$f":"'1計画'!C33","v":"月"},null,{"$f":"'1計画'!E33","v":"00:00:00"},null,null,"～",{"$f":"'1計画'!I33","v":"00:00:00"},null,null,{"$f":"'1計画'!L33","v":"00:00:00"},null,null,"～",{"$f":"'1計画'!P33","v":"00:00:00"},null,null,"00:00:00",null,null,{"$f":"'1計画'!V33","v":0},null,null,null,null,null,{"$f":"'1計画'!AB33","v":0},null,null,null,null,null,{"$f":"'1計画'!AH33","v":0}]
[19,null,{"$f":"'1計画'!C34:D34","v":"火"},null,{"$f":"'1計画'!E34:G34","v":"00:00:00"},null,null,"～",{"$f":"'1計画'!I34:K34","v":"00:00:00"},null,null,{"$f":"'1計画'!L34:N34","v":"00:00:00"},null,null,"～",{"$f":"'1計画'!P34:R34","v":"00:00:00"},null,null,"00:00:00",null,null,{"$f":"'1計画'!V34:AA34","v":0},null,null,null,null,null,{"$f":"'1計画'!AB34:AG34","v":0},null,null,null,null,null,{"$f":"'1計画'!AH34:AO34","v":0},null,null,null,null,null,null,null,false,null,null,null,null,null,null,null,null,null,null,null,null,null,null,null,null,null,null,null,null,"0",null,null,null,null,null,null,null,null,null,null,null,{"$f":"'1計画'!C34","v":"火"},null,{"$f":"'1計画'!E34","v":"00:00:00"},null,null,"～",{"$f":"'1計画'!I34","v":"00:00:00"},null,null,{"$f":"'1計画'!L34","v":"00:00:00"},null,null,"～",{"$f":"'1計画'!P34","v":"00:00:00"},null,null,"00:00:00",null,null,{"$f":"'1計画'!V34","v":0},null,null,null,null,null,{"$f":"'1計画'!AB34","v":0},null,null,null,null,null,{"$f":"'1計画'!AH34","v":0}]
[20,null,{"$f":"'1計画'!C35:D35","v":"水"},null,{"$f":"'1計画'!E35:G35","v":"00:00:00"},null,null,"～",{"$f":"'1計画'!I35:K35","v":"00:00:00"},null,null,{"$f":"'1計画'!L35:N35","v":"00:00:00"},null,null,"～",{"$f":"'1計画'!P35:R35","v":"00:00:00"},null,null,"00:00:00",null,null,{"$f":"'1計画'!V35:AA35","v":0},null,null,null,null,null,{"$f":"'1計画'!AB35:AG35","v":0},null,null,null,null,null,{"$f":"'1計画'!AH35:AO35","v":0},null,null,null,null,null,null,null,false,null,null,null,null,null,null,null,null,null,null,null,null,null,null,null,null,null,null,null,null,"0",null,null,null,null,null,null,null,null,null,null,null,{"$f":"'1計画'!C35","v":"水"},null,{"$f":"'1計画'!E35","v":"00:00:00"},null,null,"～",{"$f":"'1計画'!I35","v":"00:00:00"},null,null,{"$f":"'1計画'!L35","v":"00:00:00"},null,null,"～",{"$f":"'1計画'!P35","v":"00:00:00"},null,null,"00:00:00",null,null,{"$f":"'1計画'!V35","v":0},null,null,null,null,null,{"$f":"'1計画'!AB35","v":0},null,null,null,null,null,{"$f":"'1計画'!AH35","v":0}]
[21,null,{"$f":"'1計画'!C36:D36","v":"木"},null,{"$f":"'1計画'!E36:G36","v":"00:00:00"},null,null,"～",{"$f":"'1計画'!I36:K36","v":"00:00:00"},null,null,{"$f":"'1計画'!L36:N36","v":"00:00:00"},null,null,"～",{"$f":"'1計画'!P36:R36","v":"00:00:00"},null,null,"00:00:00",null,null,{"$f":"'1計画'!V36:AA36","v":0},null,null,null,null,null,{"$f":"'1計画'!AB36:AG36","v":0},null,null,null,null,null,{"$f":"'1計画'!AH36:AO36","v":0},null,null,null,null,null,null,null,false,null,null,null,null,null,null,null,null,null,null,null,null,null,null,null,null,null,null,null,null,"0",null,null,null,null,null,null,null,null,null,null,null,{"$f":"'1計画'!C36","v":"木"},null,{"$f":"'1計画'!E36","v":"00:00:00"},null,null,"～",{"$f":"'1計画'!I36","v":"00:00:00"},null,null,{"$f":"'1計画'!L36","v":"00:00:00"},null,null,"～",{"$f":"'1計画'!P36","v":"00:00:00"},null,null,"00:00:00",null,null,{"$f":"'1計画'!V36","v":0},null,null,null,null,null,{"$f":"'1計画'!AB36","v":0},null,null,null,null,null,{"$f":"'1計画'!AH36","v":0}]
[22,null,{"$f":"'1計画'!C37:D37","v":"金"},null,{"$f":"'1計画'!E37:G37","v":"00:00:00"},null,null,"～",{"$f":"'1計画'!I37:K37","v":"00:00:00"},null,null,{"$f":"'1計画'!L37:N37","v":"00:00:00"},null,null,"～",{"$f":"'1計画'!P37:R37","v":"00:00:00"},null,null,"00:00:00",null,null,{"$f":"'1計画'!V37:AA37","v":0},null,null,null,null,null,{"$f":"'1計画'!AB37:AG37","v":0},null,null,null,null,null,{"$f":"'1計画'!AH37:AO37","v":0},null,null,null,null,null,null,null,false,null,null,null,null,null,null,null,null,null,null,null,null,null,null,null,null,null,null,null,null,"0",null,null,null,null,null,null,null,null,null,null,null,{"$f":"'1計画'!C37","v":"金"},null,{"$f":"'1計画'!E37","v":"00:00:00"},null,null,"～",{"$f":"'1計画'!I37","v":"00:00:00"},null,null,{"$f":"'1計画'!L37","v":"00:00:00"},null,null,"～",{"$f":"'1計画'!P37","v":"00:00:00"},null,null,"00:00:00",null,null,{"$f":"'1計画'!V37","v":0},null,null,null,null,null,{"$f":"'1計画'!AB37","v":0},null,null,null,null,null,{"$f":"'1計画'!AH37","v":0}]
[23,null,{"$f":"'1計画'!C38:D38","v":"土"},null,{"$f":"'1計画'!E38:G38","v":"00:00:00"},null,null,"～",{"$f":"'1計画'!I38:K38","v":"00:00:00"},null,null,{"$f":"'1計画'!L38:N38","v":"00:00:00"},null,null,"～",{"$f":"'1計画'!P38:R38","v":"00:00:00"},null,null,"00:00:00",null,null,{"$f":"'1計画'!V38:AA38","v":0},null,null,null,null,null,{"$f":"'1計画'!AB38:AG38","v":0},null,null,null,null,null,{"$f":"'1計画'!AH38:AO38","v":0},null,null,null,null,null,null,null,false,null,null,null,null,null,null,null,null,null,null,null,null,null,null,null,null,null,null,null,null,"0",null,null,null,null,null,null,null,null,null,null,null,{"$f":"'1計画'!C38","v":"土"},null,{"$f":"'1計画'!E38","v":"00:00:00"},null,null,"～",{"$f":"'1計画'!I38","v":"00:00:00"},null,null,{"$f":"'1計画'!L38","v":"00:00:00"},null,null,"～",{"$f":"'1計画'!P38","v":"00:00:00"},null,null,"00:00:00",null,null,{"$f":"'1計画'!V38","v":0},null,null,null,null,null,{"$f":"'1計画'!AB38","v":0},null,null,null,null,null,{"$f":"'1計画'!AH38","v":0}]
[24,null,{"$f":"'1計画'!C39:D39","v":"日"},null,{"$f":"'1計画'!E39:G39","v":"00:00:00"},null,null,"～",{"$f":"'1計画'!I39:K39","v":"00:00:00"},null,null,{"$f":"'1計画'!L39:N39","v":"00:00:00"},null,null,"～",{"$f":"'1計画'!P39:R39","v":"00:00:00"},null,null,"00:00:00",null,null,{"$f":"'1計画'!V39:AA39","v":0},null,null,null,null,null,{"$f":"'1計画'!AB39:AG39","v":0},null,null,null,null,null,{"$f":"'1計画'!AH39:AO39","v":0},null,null,null,null,null,null,null,false,null,null,null,null,null,null,null,null,null,null,null,null,null,null,null,null,null,null,null,null,"0",null,null,null,null,null,null,null,null,null,null,null,{"$f":"'1計画'!C39","v":"日"},null,{"$f":"'1計画'!E39","v":"00:00:00"},null,null,"～",{"$f":"'1計画'!I39","v":"00:00:00"},null,null,{"$f":"'1計画'!L39","v":"00:00:00"},null,null,"～",{"$f":"'1計画'!P39","v":"00:00:00"},null,null,"00:00:00",null,null,{"$f":"'1計画'!V39","v":0},null,null,null,null,null,{"$f":"'1計画'!AB39","v":0},null,null,null,null,null,{"$f":"'1計画'!AH39","v":0}]
[25,null,{"$f":"'1計画'!C40:D40","v":"月"},null,{"$f":"'1計画'!E40:G40","v":"00:00:00"},null,null,"～",{"$f":"'1計画'!I40:K40","v":"00:00:00"},null,null,{"$f":"'1計画'!L40:N40","v":"00:00:00"},null,null,"～",{"$f":"'1計画'!P40:R40","v":"00:00:00"},null,null,"00:00:00",null,null,{"$f":"'1計画'!V40:AA40","v":0},null,null,null,null,null,{"$f":"'1計画'!AB40:AG40","v":0},null,null,null,null,null,{"$f":"'1計画'!AH40:AO40","v":0},null,null,null,null,null,null,null,false,null,null,null,null,null,null,null,null,null,null,null,null,null,null,null,null,null,null,null,null,"0",null,null,null,null,null,null,null,null,null,null,null,{"$f":"'1計画'!C40","v":"月"},null,{"$f":"'1計画'!E40","v":"00:00:00"},null,null,"～",{"$f":"'1計画'!I40","v":"00:00:00"},null,null,{"$f":"'1計画'!L40","v":"00:00:00"},null,null,"～",{"$f":"'1計画'!P40","v":"00:00:00"},null,null,"00:00:00",null,null,{"$f":"'1計画'!V40","v":0},null,null,null,null,null,{"$f":"'1計画'!AB40","v":0},null,null,null,null,null,{"$f":"'1計画'!AH40","v":0}]
[26,null,{"$f":"'1計画'!C41:D41","v":"火"},null,{"$f":"'1計画'!E41:G41","v":"00:00:00"},null,null,"～",{"$f":"'1計画'!I41:K41","v":"00:00:00"},null,null,{"$f":"'1計画'!L41:N41","v":"00:00:00"},null,null,"～",{"$f":"'1計画'!P41:R41","v":"00:00:00"},null,null,"00:00:00",null,null,{"$f":"'1計画'!V41:AA41","v":0},null,null,null,null,null,{"$f":"'1計画'!AB41:AG41","v":0},null,null,null,null,null,{"$f":"'1計画'!AH41:AO41","v":0},null,null,null,null,null,null,null,false,null,null,null,null,null,null,null,null,null,null,null,null,null,null,null,null,null,null,null,null,"0",null,null,null,null,null,null,null,null,null,null,null,{"$f":"'1計画'!C41","v":"火"},null,{"$f":"'1計画'!E41","v":"00:00:00"},null,null,"～",{"$f":"'1計画'!I41","v":"00:00:00"},null,null,{"$f":"'1計画'!L41","v":"00:00:00"},null,null,"～",{"$f":"'1計画'!P41","v":"00:00:00"},null,null,"00:00:00",null,null,{"$f":"'1計画'!V41","v":0},null,null,null,null,null,{"$f":"'1計画'!AB41","v":0},null,null,null,null,null,{"$f":"'1計画'!AH41","v":0}]
[27,null,{"$f":"'1計画'!C42:D42","v":"水"},null,{"$f":"'1計画'!E42:G42","v":"00:00:00"},null,null,"～",{"$f":"'1計画'!I42:K42","v":"00:00:00"},null,null,{"$f":"'1計画'!L42:N42","v":"00:00:00"},null,null,"～",{"$f":"'1計画'!P42:R42","v":"00:00:00"},null,null,"00:00:00",null,null,{"$f":"'1計画'!V42:AA42","v":0},null,null,null,null,null,{"$f":"'1計画'!AB42:AG42","v":0},null,null,null,null,null,{"$f":"'1計画'!AH42:AO42","v":0},null,null,null,null,null,null,null,false,null,null,null,null,null,null,null,null,null,null,null,null,null,null,null,null,null,null,null,null,"0",null,null,null,null,null,null,null,null,null,null,null,{"$f":"'1計画'!C42","v":"水"},null,{"$f":"'1計画'!E42","v":"00:00:00"},null,null,"～",{"$f":"'1計画'!I42","v":"00:00:00"},null,null,{"$f":"'1計画'!L42","v":"00:00:00"},null,null,"～",{"$f":"'1計画'!P42","v":"00:00:00"},null,null,"00:00:00",null,null,{"$f":"'1計画'!V42","v":0},null,null,null,null,null,{"$f":"'1計画'!AB42","v":0},null,null,null,null,null,{"$f":"'1計画'!AH42","v":0}]
[28,null,{"$f":"'1計画'!C43:D43","v":"木"},null,{"$f":"'1計画'!E43:G43","v":"00:00:00"},null,null,"～",{"$f":"'1計画'!I43:K43","v":"00:00:00"},null,null,{"$f":"'1計画'!L43:N43","v":"00:00:00"},null,null,"～",{"$f":"'1計画'!P43:R43","v":"00:00:00"},null,null,"00:00:00",null,null,{"$f":"'1計画'!V43:AA43","v":0},null,null,null,null,null,{"$f":"'1計画'!AB43:AG43","v":0},null,null,null,null,null,{"$f":"'1計画'!AH43:AO43","v":0},null,null,null,null,null,null,null,false,null,null,null,null,null,null,null,null,null,null,null,null,null,null,null,null,null,null,null,null,"0",null,null,null,null,null,null,null,null,null,null,null,{"$f":"'1計画'!C43","v":"木"},null,{"$f":"'1計画'!E43","v":"00:00:00"},null,null,"～",{"$f":"'1計画'!I43","v":"00:00:00"},null,null,{"$f":"'1計画'!L43","v":"00:00:00"},null,null,"～",{"$f":"'1計画'!P43","v":"00:00:00"},null,null,"00:00:00",null,null,{"$f":"'1計画'!V43","v":0},null,null,null,null,null,{"$f":"'1計画'!AB43","v":0},null,null,null,null,null,{"$f":"'1計画'!AH43","v":0}]
[29,null,{"$f":"'1計画'!C44:D44","v":"金"},null,{"$f":"'1計画'!E44:G44","v":"00:00:00"},null,null,"～",{"$f":"'1計画'!I44:K44","v":"00:00:00"},null,null,{"$f":"'1計画'!L44:N44","v":"00:00:00"},null,null,"～",{"$f":"'1計画'!P44:R44","v":"00:00:00"},null,null,"00:00:00",null,null,{"$f":"'1計画'!V44:AA44","v":0},null,null,null,null,null,{"$f":"'1計画'!AB44:AG44","v":0},null,null,null,null,null,{"$f":"'1計画'!AH44:AO44","v":0},null,null,null,null,null,null,null,false,null,null,null,null,null,null,null,null,null,null,null,null,null,null,null,null,null,null,null,null,"0",null,null,null,null,null,null,null,null,null,null,null,{"$f":"'1計画'!C44","v":"金"},null,{"$f":"'1計画'!E44","v":"00:00:00"},null,null,"～",{"$f":"'1計画'!I44","v":"00:00:00"},null,null,{"$f":"'1計画'!L44","v":"00:00:00"},null,null,"～",{"$f":"'1計画'!P44","v":"00:00:00"},null,null,"00:00:00",null,null,{"$f":"'1計画'!V44","v":0},null,null,null,null,null,{"$f":"'1計画'!AB44","v":0},null,null,null,null,null,{"$f":"'1計画'!AH44","v":0}]
[30,null,{"$f":"'1計画'!C45:D45","v":"土"},null,{"$f":"'1計画'!E45:G45","v":"00:00:00"},null,null,"～",{"$f":"'1計画'!I45:K45","v":"00:00:00"},null,null,{"$f":"'1計画'!L45:N45","v":"00:00:00"},null,null,"～",{"$f":"'1計画'!P45:R45","v":"00:00:00"},null,null,"00:00:00",null,null,{"$f":"'1計画'!V45:AA45","v":0},null,null,null,null,null,{"$f":"'1計画'!AB45:AG45","v":0},null,null,null,null,null,{"$f":"'1計画'!AH45:AO45","v":0},null,null,null,null,null,null,null,false,null,null,null,null,null,null,null,null,null,null,null,null,null,null,null,null,null,null,null,null,"0",null,null,null,null,null,null,null,null,null,null,null,{"$f":"'1計画'!C45","v":"土"},null,{"$f":"'1計画'!E45","v":"00:00:00"},null,null,"～",{"$f":"'1計画'!I45","v":"00:00:00"},null,null,{"$f":"'1計画'!L45","v":"00:00:00"},null,null,"～",{"$f":"'1計画'!P45","v":"00:00:00"},null,null,"00:00:00",null,null,{"$f":"'1計画'!V45","v":0},null,null,null,null,null,{"$f":"'1計画'!AB45","v":0},null,null,null,null,null,{"$f":"'1計画'!AH45","v":0}]
[31,null,{"$f":"'1計画'!C46:D46","v":"日"},null,{"$f":"'1計画'!E46:G46","v":"00:00:00"},null,null,"～",{"$f":"'1計画'!I46:K46","v":"00:00:00"},null,null,{"$f":"'1計画'!L46:N46","v":"00:00:00"},null,null,"～",{"$f":"'1計画'!P46:R46","v":"00:00:00"},null,null,"00:00:00",null,null,{"$f":"'1計画'!V46:AA46","v":0},null,null,null,null,null,{"$f":"'1計画'!AB46:AG46","v":0},null,null,null,null,null,{"$f":"'1計画'!AH46:AO46","v":0},null,null,null,null,null,null,null,false,null,null,null,null,null,null,null,null,null,null,null,null,null,null,null,null,null,null,null,null,"0",null,null,null,null,null,null,null,null,null,null,null,{"$f":"'1計画'!C46","v":"日"},null,{"$f":"'1計画'!E46","v":"00:00:00"},null,null,"～",{"$f":"'1計画'!I46","v":"00:00:00"},null,null,{"$f":"'1計画'!L46","v":"00:00:00"},null,null,"～",{"$f":"'1計画'!P46","v":"00:00:00"},null,null,"00:00:00",null,null,{"$f":"'1計画'!V46","v":0},null,null,null,null,null,{"$f":"'1計画'!AB46","v":0},null,null,null,null,null,{"$f":"'1計画'!AH46","v":0}]
[null,null,null,null,null,null,null,null,null,null,null,null,null,null,null,null,null,null,{"$f":"SUM(S16:U46)","v":0},null,null,null,null,null,null,null,null,null,null,null,null,null,null,null,null,null,null,null,null,null,null,null,null,null,null,null,null,null,null,null,null,null,null,null,null,null,null,null,null,null,null,null,null,null,null,null,null,null,null,null,null,null,null,null,null,null,null,null,null,null,null,null,null,null,null,null,null,null,null,null,{"$f":"SUM(CM16:CO46)","v":0}]
[]
["月",null,null,4,null,5,null,6,null,7,null,8,null,9,null,10,null,11,null,12,null,1,null,2,null,3,null,"計"]
["時間",null,null,{"$f":"'４実績'!D50","v":0},null,{"$f":"'５実績'!F50","v":0},null,{"$f":"'6実績'!H50","v":0},null,{"$f":"'7実績'!J50","v":0},null,{"$f":"'8実績'!L50:M50","v":0},null,{"$f":"'9実績'!N50:O50","v":0},null,{"$f":"'10実績'!P50:Q50","v":0},null,{"$f":"'11実績'!R50:S50","v":0},null,{"$f":"'12実績'!T50:U50","v":0},null,{"$f":"S47","v":0},null,null,null,null,null,{"$f":"SUM(D50:AA50)","v":0},null,null,null,null,"時間",null,null,null,null,null,null,null,null,null,null,null,null,null,null,null,null,null,null,null,null,null,null,null,null,null,null,null,null,null,null,null,null,null,null,null,null,null,null,null,null,null,null,{"$f":"'４実績'!D50","v":0},null,{"$f":"'５実績'!F50","v":0},null,{"$f":"'6実績'!H50","v":0},null,{"$f":"'7実績'!J50","v":0},null,{"$f":"'8実績'!L50","v":0},null,{"$f":"'9実績'!N50","v":0},null,{"$f":"'10実績'!P50","v":0},null,{"$f":"'11実績'!R50","v":0},null,{"$f":"'12実績'!T50","v":0},null,{"$f":"CM47","v":0},null,null,null,null,null,{"$f":"SUM(BX50:CU50)","v":0}]
["活動日数",null,null,{"$f":"'４実績'!D51","v":0},null,{"$f":"'５実績'!F51","v":0},null,{"$f":"'6実績'!H51","v":0},null,{"$f":"'7実績'!J51","v":0},null,{"$f":"'8実績'!L51:M51","v":0},null,{"$f":"'9実績'!N51:O51","v":0},null,{"$f":"'10実績'!P51:Q51","v":0},null,{"$f":"'11実績'!R51:S51","v":0},null,{"$f":"'12実績'!T51:U51","v":0},null,{"$f":"COUNTIF(S16:U46,\">0\")","v":0},null,null,null,null,null,{"$f":"SUM(D51:AA51)","v":0},null,null,null,null,"活動日数",null,null,null,null,null,null,null,null,null,null,null,null,null,null,null,null,null,null,null,null,null,null,null,null,null,null,null,null,null,null,null,null,null,null,null,null,null,null,null,null,null,null,{"$f":"'４実績'!D51","v":0},null,{"$f":"'５実績'!F51","v":0},null,{"$f":"'6実績'!H51","v":0},null,{"$f":"'7実績'!J51","v":0},null,{"$f":"'8実績'!L51","v":0},null,{"$f":"'9実績'!N51","v":0},null,{"$f":"'10実績'!P51","v":0},null,{"$f":"'11実績'!R51","v":0},null,{"$f":"'12実績'!T51","v":0},null,{"$f":"COUNTIF(CM16:CO46,\">0\")","v":0},null,null,null,null,null,{"$f":"SUM(BX51:CU51)","v":0}]
["休養日数",null,null,{"$f":"'４実績'!D52","v":30},null,{"$f":"'５実績'!F52","v":31},null,{"$f":"'6実績'!H52","v":30},null,{"$f":"'7実績'!J52","v":31},null,{"$f":"'8実績'!L52:M52","v":31},null,{"$f":"'9実績'!N52:O52","v":30},null,{"$f":"'10実績'!P52:Q52","v":31},null,{"$f":"'11実績'!R52:S52","v":30},null,{"$f":"'12実績'!T52:U52","v":31},null,{"$f":"COUNTIF(S16:U46,\"0:00\")","v":31},null,null,null,null,null,{"$f":"SUM(D52:AA52)","v":306},null,null,null,null,"休養日数",null,null,null,null,null,null,null,null,null,null,null,null,null,null,null,null,null,null,null,null,null,null,null,null,null,null,null,null,null,null,null,null,null,null,null,null,null,null,null,null,null,null,{"$f":"'４実績'!D52","v":30},null,{"$f":"'５実績'!F52","v":31},null,{"$f":"'6実績'!H52","v":30},null,{"$f":"'7実績'!J52","v":31},null,{"$f":"'8実績'!L52","v":31},null,{"$f":"'9実績'!N52","v":30},null,{"$f":"'10実績'!P52","v":31},null,{"$f":"'11実績'!R52","v":30},null,{"$f":"'12実績'!T52","v":31},null,{"$f":"COUNTIF(CM16:CO46,\"0:00\")","v":31},null,null,null,null,null,{"$f":"SUM(BX52:CU52)","v":306}]
[null,null,null,null,null,null,null,null,null,null,null,null,null,null,null,null,null,null,null,null,null,null,null,null,null,null,null,{"$f":"AB50/AB51","v":{"$error":"#DIV/0!"}},null,null,null,null,"平均時間/日",null,null,null,null,null,null,null,null,null,null,null,null,null,null,null,null,null,null,null,null,null,null,null,null,null,null,null,null,null,null,null,null,null,null,null,null,null,null,null,null,null,null,null,null,null,null,null,null,null,null,null,null,null,null,null,null,null,null,null,null,null,null,null,null,null,null,{"$f":"CV50/CV51","v":{"$error":"#DIV/0!"}}]

{"sheet":"2実績","index":23,"n_rows":53,"n_cols":112,"rows_kept":53,"cut":false,"hidden":false,"merged":[[41,42,41,45],[42,42,42,45],[43,42,43,45],[44,42,44,45],[45,42,45,45],[32,42,32,45],[33,42,33,45],[34,42,34,45],[35,42,35,45],[36,42,36,45],[37,42,37,45],[38,42,38,45],[39,42,39,45],[40,42,40,45],[23,42,23,45],[24,42,24,45],[25,42,25,45],[26,42,26,45],[27,42,27,45],[28,42,28,45],[29,42,29,45],[30,42,30,45],[31,42,31,45],[14,42,14,45],[15,42,15,45],[16,42,16,45],[17,42,17,45],[18,42,18,45],[19,42,19,45],[20,42,20,45],[21,42,21,45],[22,42,22,45],[0,0,0,3],[1,0,1,3],[1,4,1,7],[1,8,1,11],[1,12,1,15],[1,16,1,19],[1,20,1,23],[1,25,2,27],[1,28,2,37],[1,38,2,40],[2,0,4,3],[2,4,4,7],[2,8,4,11],[2,12,4,15],[2,16,4,19],[2,20,4,23],[3,25,4,27],[3,28,4,37],[3,38,4,40],[6,0,7,4],[6,5,7,7],[6,8,7,22],[6,24,7,26],[6,27,6,28],[6,29,6,30],[6,31,6,32],[6,33,6,34],[6,35,6,36],[9,23,10,27],[9,28,10,29],[9,30,10,38],[6,37,6,38],[6,39,6,40],[7,27,7,28],[7,29,7,30],[7,31,7,32],[7,33,7,34],[7,35,7,36],[7,37,7,38],[7,39,7,40],[11,39,12,40],[14,0,14,1],[14,2,14,3],[14,4,14,10],[14,11,14,17],[14,18,14,20],[14,21,14,32],[14,33,14,40],[9,39,10,40],[11,1,12,2],[11,3,12,7],[11,8,12,9],[11,10,12,18],[11,19,12,20],[11,21,12,22],[11,23,12,27],[11,28,12,29],[11,30,12,38],[9,1,10,2],[9,3,10,7],[9,8,10,9],[9,10,10,18],[9,19,10,20],[9,21,10,22],[15,18,15,20],[15,21,15,26],[15,27,15,32],[15,33,15,40],[16,0,16,1],[16,2,16,3],[16,4,16,6],[16,8,16,10],[16,11,16,13],[16,15,16,17],[15,0,15,1],[15,2,15,3],[15,4,15,6],[15,8,15,10],[15,11,15,13],[15,15,15,17],[16,18,16,20],[16,21,16,26],[16,27,16,32],[16,33,16,40],[17,33,17,40],[18,0,18,1],[18,2,18,3],[18,4,18,6],[18,8,18,10],[18,11,18,13],[18,15,18,17],[18,18,18,20],[18,21,18,26],[18,27,18,32],[18,33,18,40],[17,0,17,1],[17,2,17,3],[17,4,17,6],[17,8,17,10],[17,11,17,13],[17,15,17,17],[17,18,17,20],[17,21,17,26],[17,27,17,32],[19,33,19,40],[20,0,20,1],[20,2,20,3],[20,4,20,6],[20,8,20,10],[20,11,20,13],[20,15,20,17],[20,18,20,20],[20,21,20,26],[20,27,20,32],[20,33,20,40],[19,0,19,1],[19,2,19,3],[19,4,19,6],[19,8,19,10],[19,11,19,13],[19,15,19,17],[19,18,19,20],[19,21,19,26],[19,27,19,32],[21,33,21,40],[22,0,22,1],[22,2,22,3],[22,4,22,6],[22,8,22,10],[22,11,22,13],[22,15,22,17],[22,18,22,20],[22,21,22,26],[22,27,22,32],[22,33,22,40],[21,0,21,1],[21,2,21,3],[21,4,21,6],[21,8,21,10],[21,11,21,13],[21,15,21,17],[21,18,21,20],[21,21,21,26],[21,27,21,32],[23,33,23,40],[24,0,24,1],[24,2,24,3],[24,4,24,6],[24,8,24,10],[24,11,24,13],[24,15,24,17],[24,18,24,20],[24,21,24,26],[24,27,24,32],[24,33,24,40],[23,0,23,1],[23,2,23,3],[23,4,23,6],[23,8,23,10],[23,11,23,13],[23,15,23,17],[23,18,23,20],[23,21,23,26],[23,27,23,32],[25,33,25,40],[26,0,26,1],[26,2,26,3],[26,4,26,6],[26,8,26,10],[26,11,26,13],[26,15,26,17],[26,18,26,20],[26,21,26,26],[26,27,26,32],[26,33,26,40],[25,0,25,1],[25,2,25,3],[25,4,25,6],[25,8,25,10],[25,11,25,13],[25,15,25,17],[25,18,25,20],[25,21,25,26],[25,27,25,32],[27,33,27,40],[28,0,28,1],[28,2,28,3],[28,4,28,6],[28,8,28,10],[28,11,28,13],[28,15,28,17],[28,18,28,20],[28,21,28,26],[28,27,28,32],[28,33,28,40],[27,0,27,1],[27,2,27,3],[27,4,27,6],[27,8,27,10],[27,11,27,13],[27,15,27,17],[27,18,27,20],[27,21,27,26],[27,27,27,32],[29,33,29,40],[30,0,30,1],[30,2,30,3],[30,4,30,6],[30,8,30,10],[30,11,30,13],[30,15,30,17],[30,18,30,20],[30,21,30,26],[30,27,30,32],[30,33,30,40],[29,0,29,1],[29,2,29,3],[29,4,29,6],[29,8,29,10],[29,11,29,13],[29,15,29,17],[29,18,29,20],[29,21,29,26],[29,27,29,32],[31,33,31,40],[32,0,32,1],[32,2,32,3],[32,4,32,6],[32,8,32,10],[32,11,32,13],[32,15,32,17],[32,18,32,20],[32,21,32,26],[32,27,32,32],[32,33,32,40],[31,0,31,1],[31,2,31,3],[31,4,31,6],[31,8,31,10],[31,11,31,13],[31,15,31,17],[31,18,31,20],[31,21,31,26],[31,27,31,32],[33,33,33,40],[34,0,34,1],[34,2,34,3],[34,4,34,6],[34,8,34,10],[34,11,34,13],[34,15,34,17],[34,18,34,20],[34,21,34,26],[34,27,34,32],[34,33,34,40],[33,0,33,1],[33,2,33,3],[33,4,33,6],[33,8,33,10],[33,11,33,13],[33,15,33,17],[33,18,33,20],[33,21,33,26],[33,27,33,32],[36,33,36,40],[35,0,35,1],[35,2,35,3],[35,4,35,6],[35,8,35,10],[35,11,35,13],[35,15,35,17],[35,18,35,20],[35,21,35,26],[35,27,35,32],[36,0,36,1],[36,2,36,3],[36,4,36,6],[36,8,36,10],[36,11,36,13],[36,15,36,17],[36,18,36,20],[36,21,36,26],[36,27,36,32],[37,0,37,1],[37,2,37,3],[37,4,37,6],[37,8,37,10],[37,11,37,13],[37,15,37,17],[37,18,37,20],[37,21,37,26],[37,27,37,32],[38,0,38,1],[38,2,38,3],[38,4,38,6],[38,8,38,10],[38,11,38,13],[38,15,38,17],[38,18,38,20],[38,21,38,26],[38,27,38,32],[39,0,39,1],[39,2,39,3],[39,4,39,6],[39,8,39,10],[39,11,39,13],[39,15,39,17],[39,18,39,20],[39,21,39,26],[39,27,39,32],[40,0,40,1],[40,2,40,3],[40,4,40,6],[40,8,40,10],[40,11,40,13],[40,15,40,17],[40,18,40,20],[40,21,40,26],[40,27,40,32],[45,0,45,1],[45,2,45,3],[41,33,41,40],[42,0,42,1],[42,2,42,3],[42,4,42,6],[42,8,42,10],[42,11,42,13],[42,15,42,17],[42,18,42,20],[42,21,42,26],[42,27,42,32],[42,33,42,40],[41,0,41,1],[41,2,41,3],[41,4,41,6],[41,8,41,10],[41,11,41,13],[41,15,41,17],[41,18,41,20],[41,21,41,26],[41,27,41,32],[43,0,43,1],[43,2,43,3],[43,4,43,6],[43,8,43,10],[43,11,43,13],[43,15,43,17],[43,18,43,20],[43,21,43,26],[43,27,43,32],[44,0,44,1],[44,2,44,3],[44,4,44,6],[44,8,44,10],[44,11,44,13],[44,15,44,17],[44,18,44,20],[44,21,44,26],[44,27,44,32],[48,0,48,2],[48,3,48,4],[48,5,48,6],[48,7,48,8],[48,9,48,10],[49,5,49,6],[49,7,49,8],[49,9,49,10],[49,11,49,12],[48,11,48,12],[45,4,45,6],[45,8,45,10],[45,11,45,13],[45,15,45,17],[45,18,45,20],[45,21,45,26],[50,17,50,18],[50,19,50,20],[50,21,50,22],[50,23,50,24],[50,25,50,26],[46,18,46,20],[49,13,49,14],[48,13,48,14],[48,15,48,16],[48,17,48,18],[49,17,49,18],[49,19,49,20],[49,21,49,22],[49,23,49,24],[48,23,48,24],[48,25,48,26],[50,0,50,2],[50,3,50,4],[50,5,50,6],[50,7,50,8],[50,9,50,10],[50,11,50,12],[50,13,50,14],[50,15,50,16],[49,15,49,16],[49,0,49,2],[49,3,49,4],[51,0,51,2],[51,3,51,4],[51,5,51,6],[51,7,51,8],[51,9,51,10],[51,11,51,12],[51,13,51,14],[51,15,51,16],[51,17,51,18],[52,27,52,31],[52,32,52,34],[51,19,51,20],[51,21,51,22],[51,23,51,24],[51,25,51,26],[51,27,51,31],[51,32,51,34],[50,32,50,34],[48,27,48,31],[48,19,48,20],[48,21,48,22],[50,27,50,31],[49,27,49,31],[49,32,49,34],[49,25,49,26],[0,72,0,75],[1,72,1,75],[6,72,7,76],[11,73,12,74],[11,75,12,79],[14,72,14,73],[14,74,14,75],[14,76,14,82],[45,27,45,32],[43,33,43,40],[44,33,44,40],[45,33,45,40],[39,33,39,40],[40,33,40,40],[37,33,37,40],[38,33,38,40],[35,33,35,40],[1,76,1,79],[1,80,1,83],[1,84,1,87],[1,88,1,91],[1,92,1,95],[1,97,2,99],[1,100,2,109],[1,110,2,112],[2,72,4,75],[2,76,4,79],[2,80,4,83],[2,84,4,87],[2,88,4,91],[2,92,4,95],[3,97,4,99],[3,100,4,109],[3,110,4,112],[6,77,7,79],[6,80,7,94],[6,96,7,98],[6,99,6,100],[6,101,6,102],[6,103,6,104],[6,105,6,106],[6,107,6,108],[6,109,6,110],[6,111,6,112],[7,99,7,100],[7,101,7,102],[7,103,7,104],[7,105,7,106],[7,107,7,108],[7,109,7,110],[7,111,7,112],[9,111,10,112],[11,80,12,81],[11,82,12,90],[11,91,12,92],[11,93,12,94],[11,95,12,99],[11,100,12,101],[11,102,12,110],[11,111,12,112],[9,73,10,74],[9,75,10,79],[9,80,10,81],[9,82,10,90],[9,91,10,92],[9,93,10,94],[9,95,10,99],[9,100,10,101],[9,102,10,110],[14,83,14,89],[14,90,14,92],[14,93,14,104],[14,105,14,112],[15,72,15,73],[15,74,15,75],[15,76,15,78],[15,80,15,82],[15,83,15,85],[15,87,15,89],[15,90,15,92],[15,93,15,98],[15,99,15,104],[15,105,15,112],[16,105,16,112],[17,72,17,73],[17,74,17,75],[17,76,17,78],[17,80,17,82],[17,83,17,85],[17,87,17,89],[17,90,17,92],[17,93,17,98],[17,99,17,104],[17,105,17,112],[16,72,16,73],[16,74,16,75],[16,76,16,78],[16,80,16,82],[16,83,16,85],[16,87,16,89],[16,90,16,92],[16,93,16,98],[16,99,16,104],[18,105,18,112],[19,72,19,73],[19,74,19,75],[19,76,19,78],[19,80,19,82],[19,83,19,85],[19,87,19,89],[19,90,19,92],[19,93,19,98],[19,99,19,104],[19,105,19,112],[18,72,18,73],[18,74,18,75],[18,76,18,78],[18,80,18,82],[18,83,18,85],[18,87,18,89],[18,90,18,92],[18,93,18,98],[18,99,18,104],[20,105,20,112],[21,72,21,73],[21,74,21,75],[21,76,21,78],[21,80,21,82],[21,83,21,85],[21,87,21,89],[21,90,21,92],[21,93,21,98],[21,99,21,104],[21,105,21,112],[20,72,20,73],[20,74,20,75],[20,76,20,78],[20,80,20,82],[20,83,20,85],[20,87,20,89],[20,90,20,92],[20,93,20,98],[20,99,20,104],[22,105,22,112],[23,72,23,73],[23,74,23,75],[23,76,23,78],[23,80,23,82],[23,83,23,85],[23,87,23,89],[23,90,23,92],[23,93,23,98],[23,99,23,104],[23,105,23,112],[22,72,22,73],[22,74,22,75],[22,76,22,78],[22,80,22,82],[22,83,22,85],[22,87,22,89],[22,90,22,92],[22,93,22,98],[22,99,22,104],[24,105,24,112],[25,72,25,73],[25,74,25,75],[25,76,25,78],[25,80,25,82],[25,83,25,85],[25,87,25,89],[25,90,25,92],[25,93,25,98],[25,99,25,104],[25,105,25,112],[24,72,24,73],[24,74,24,75],[24,76,24,78],[24,80,24,82],[24,83,24,85],[24,87,24,89],[24,90,24,92],[24,93,24,98],[24,99,24,104],[26,105,26,112],[27,72,27,73],[27,74,27,75],[27,76,27,78],[27,80,27,82],[27,83,27,85],[27,87,27,89],[27,90,27,92],[27,93,27,98],[27,99,27,104],[27,105,27,112],[26,72,26,73],[26,74,26,75],[26,76,26,78],[26,80,26,82],[26,83,26,85],[26,87,26,89],[26,90,26,92],[26,93,26,98],[26,99,26,104],[28,105,28,112],[29,72,29,73],[29,74,29,75],[29,76,29,78],[29,80,29,82],[29,83,29,85],[29,87,29,89],[29,90,29,92],[29,93,29,98],[29,99,29,104],[29,105,29,112],[28,72,28,73],[28,74,28,75],[28,76,28,78],[28,80,28,82],[28,83,28,85],[28,87,28,89],[28,90,28,92],[28,93,28,98],[28,99,28,104],[30,105,30,112],[31,72,31,73],[31,74,31,75],[31,76,31,78],[31,80,31,82],[31,83,31,85],[31,87,31,89],[31,90,31,92],[31,93,31,98],[31,99,31,104],[31,105,31,112],[30,72,30,73],[30,74,30,75],[30,76,30,78],[30,80,30,82],[30,83,30,85],[30,87,30,89],[30,90,30,92],[30,93,30,98],[30,99,30,104],[32,105,32,112],[33,72,33,73],[33,74,33,75],[33,76,33,78],[33,80,33,82],[33,83,33,85],[33,87,33,89],[33,90,33,92],[33,93,33,98],[33,99,33,104],[33,105,33,112],[32,72,32,73],[32,74,32,75],[32,76,32,78],[32,80,32,82],[32,83,32,85],[32,87,32,89],[32,90,32,92],[32,93,32,98],[32,99,32,104],[34,105,34,112],[35,72,35,73],[35,74,35,75],[35,76,35,78],[35,80,35,82],[35,83,35,85],[35,87,35,89],[35,90,35,92],[35,93,35,98],[35,99,35,104],[35,105,35,112],[34,72,34,73],[34,74,34,75],[34,76,34,78],[34,80,34,82],[34,83,34,85],[34,87,34,89],[34,90,34,92],[34,93,34,98],[34,99,34,104],[36,105,36,112],[37,72,37,73],[37,74,37,75],[37,76,37,78],[37,80,37,82],[37,83,37,85],[37,87,37,89],[37,90,37,92],[37,93,37,98],[37,99,37,104],[37,105,37,112],[36,72,36,73],[36,74,36,75],[36,76,36,78],[36,80,36,82],[36,83,36,85],[36,87,36,89],[36,90,36,92],[36,93,36,98],[36,99,36,104],[38,105,38,112],[39,72,39,73],[39,74,39,75],[39,76,39,78],[39,80,39,82],[39,83,39,85],[39,87,39,89],[39,90,39,92],[39,93,39,98],[39,99,39,104],[39,105,39,112],[38,72,38,73],[38,74,38,75],[38,76,38,78],[38,80,38,82],[38,83,38,85],[38,87,38,89],[38,90,38,92],[38,93,38,98],[38,99,38,104],[40,105,40,112],[41,72,41,73],[41,74,41,75],[41,76,41,78],[41,80,41,82],[41,83,41,85],[41,87,41,89],[41,90,41,92],[41,93,41,98],[41,99,41,104],[41,105,41,112],[40,72,40,73],[40,74,40,75],[40,76,40,78],[40,80,40,82],[40,83,40,85],[40,87,40,89],[40,90,40,92],[40,93,40,98],[40,99,40,104],[42,105,42,112],[43,72,43,73],[43,74,43,75],[43,76,43,78],[43,80,43,82],[43,83,43,85],[43,87,43,89],[43,90,43,92],[43,93,43,98],[43,99,43,104],[43,105,43,112],[42,72,42,73],[42,74,42,75],[42,76,42,78],[42,80,42,82],[42,83,42,85],[42,87,42,89],[42,90,42,92],[42,93,42,98],[42,99,42,104],[44,105,44,112],[45,72,45,73],[45,74,45,75],[45,76,45,78],[45,80,45,82],[45,83,45,85],[45,87,45,89],[45,90,45,92],[45,93,45,98],[45,99,45,104],[45,105,45,112],[44,72,44,73],[44,74,44,75],[44,76,44,78],[44,80,44,82],[44,83,44,85],[44,87,44,89],[44,90,44,92],[44,93,44,98],[44,99,44,104],[48,79,48,80],[48,81,48,82],[48,83,48,84],[48,85,48,86],[48,87,48,88],[48,89,48,90],[49,72,49,74],[49,75,49,76],[49,77,49,78],[46,104,48,108],[46,109,46,112],[47,109,48,112],[48,91,48,92],[48,93,48,94],[48,95,48,96],[48,97,48,98],[48,99,48,103],[49,91,49,92],[49,93,49,94],[49,95,49,96],[49,97,49,98],[49,99,49,103],[49,104,49,106],[50,72,50,74],[50,75,50,76],[50,77,50,78],[50,79,50,80],[50,81,50,82],[50,83,50,84],[5,0,5,22],[51,91,51,92],[51,93,51,94],[50,91,50,92],[50,93,50,94],[50,85,50,86],[50,87,50,88],[50,89,50,90],[49,79,49,80],[49,81,49,82],[49,83,49,84],[49,85,49,86],[49,87,49,88],[49,89,49,90],[46,90,46,92],[48,72,48,74],[48,75,48,76],[48,77,48,78],[51,72,51,74],[51,75,51,76],[51,77,51,78],[51,79,51,80],[51,81,51,82],[51,83,51,84],[51,85,51,86],[51,87,51,88],[51,89,51,90],[50,95,50,96],[50,97,50,98],[50,99,50,103],[50,104,50,106],[51,95,51,96],[51,97,51,98],[51,99,51,103],[51,104,51,106],[52,99,52,103],[52,104,52,106]]}
[]
[{"$f":"'2計画'!A2:D2","v":"校長"},null,null,null,{"$f":"'2計画'!E2:H2","v":"教頭"},null,null,null,{"$f":"'2計画'!I2:L2","v":"教頭"},null,null,null,{"$f":"'2計画'!M2:P2","v":"主幹教諭"},null,null,null,{"$f":"'2計画'!Q2:T2","v":0},null,null,null,{"$f":"'2計画'!U2:X2","v":"顧問"},null,null,null,null,"学校名",null,null,{"$f":"'2計画'!AC2:AL3","v":0},null,null,null,null,null,null,null,null,null,"学校",null,null,null,null,null,null,null,null,null,null,null,null,null,null,null,null,null,null,null,null,null,null,null,null,null,null,null,null,null,null,null,null,null,{"$f":"'2計画'!BU2:BX2","v":0},null,null,null,{"$f":"'2計画'!BY2:CB2","v":0},null,null,null,{"$f":"'2計画'!CC2:CF2","v":0},null,null,null,{"$f":"'2計画'!CG2:CJ2","v":0},null,null,null,{"$f":"'2計画'!CK2:CN2","v":0},null,null,null,{"$f":"'2計画'!CO2:CR2","v":0},null,null,null,null,null,null,null,{"$f":"'2計画'!CW2:DF3","v":0}]
["印",null,null,null,"印",null,null,null,"印",null,null,null,"印",null,null,null,"印",null,null,null,"印"]
[null,null,null,null,null,null,null,null,null,null,null,null,null,null,null,null,null,null,null,null,null,null,null,null,null,"部活動名",null,null,{"$f":"'2計画'!AC4:AL5","v":0},null,null,null,null,null,null,null,null,null,"部",null,null,null,null,null,null,null,null,null,null,null,null,null,null,null,null,null,null,null,null,null,null,null,null,null,null,null,null,null,null,null,null,null,null,null,null,null,null,null,null,null,null,null,null,null,null,null,null,null,null,null,null,null,null,null,null,null,null,null,null,null,{"$f":"'2計画'!CW4:DF5","v":0}]
[]
["　※活動計画と違う内容については、校長口頭命令済み"]
[2,null,null,null,null,"月",null,null,"〈月間〉部活動計画・活動実績",null,null,null,null,null,null,null,null,null,null,null,null,null,null,null,"部員数",null,null,"1女",null,"2女",null,"3女",null,"1男",null,"2男",null,"3男",null,"計"]
[null,null,null,null,null,null,null,null,null,null,null,null,null,null,null,null,null,null,null,null,null,null,null,null,null,null,null,{"$f":"'2計画'!AB8:AC8","v":0},null,{"$f":"'2計画'!AD8:AE8","v":0},null,{"$f":"'2計画'!AF8:AG8","v":0},null,{"$f":"'2計画'!AH8:AI8","v":0},null,{"$f":"'2計画'!AJ8:AK8","v":0},null,{"$f":"'2計画'!AL8:AM8","v":0},null,{"$f":"SUM(AB8:AM8)","v":0},null,null,null,null,null,null,null,null,null,null,null,null,null,null,null,null,null,null,null,null,null,null,null,null,null,null,null,null,null,null,null,null,null,null,null,null,null,null,null,null,null,null,null,null,null,null,null,null,null,null,null,null,null,null,null,null,null,null,null,{"$f":"'2計画'!AB8","v":0},null,{"$f":"'2計画'!AD8","v":0},null,{"$f":"'2計画'!AF8","v":0},null,{"$f":"'2計画'!AH8","v":0},null,{"$f":"'2計画'!AJ8","v":0},null,{"$f":"'2計画'!AL8","v":0},null,{"$f":"SUM(CV8:DG8)","v":0}]
[]
[null,"職名",null,{"$f":"'2計画'!D10:H11","v":0},null,null,null,null,"顧問",null,{"$f":"'2計画'!K10:S11","v":0},null,null,null,null,null,null,null,null,null,null,"職名",null,{"$f":"'2計画'!X10:AB11","v":0},null,null,null,null,"副２",null,{"$f":"'2計画'!AE10:AM11","v":0},null,null,null,null,null,null,null,null,null,null,null,null,null,null,null,null,null,null,null,null,null,null,null,null,null,null,null,null,null,null,null,null,null,null,null,null,null,null,null,null,null,null,null,null,{"$f":"'2計画'!D10","v":0},null,null,null,null,null,null,{"$f":"'2計画'!K10","v":0},null,null,null,null,null,null,null,null,null,null,null,null,{"$f":"'2計画'!X10","v":0},null,null,null,null,null,null,{"$f":"'2計画'!AE10","v":0}]
[]
[null,"職名",null,{"$f":"'2計画'!D12:H13","v":0},null,null,null,null,"副顧問",null,{"$f":"'2計画'!K12:S13","v":0},null,null,null,null,null,null,null,null,null,null,"職名",null,{"$f":"'2計画'!X12:AB13","v":0},null,null,null,null,"副３",null,{"$f":"'2計画'!AE12:AM13","v":0},null,null,null,null,null,null,null,null,null,null,null,null,null,null,null,null,null,null,null,null,null,null,null,null,null,null,null,null,null,null,null,null,null,null,null,null,null,null,null,null,null,null,null,null,{"$f":"'2計画'!D12","v":0},null,null,null,null,null,null,{"$f":"'2計画'!K12","v":0},null,null,null,null,null,null,null,null,null,null,null,null,{"$f":"'2計画'!X12","v":0},null,null,null,null,null,null,{"$f":"'2計画'!AE12","v":0}]
[]
[]
["日",null,"曜",null,"ＡＭ",null,null,null,null,null,null,"ＰＭ",null,null,null,null,null,null,"時間",null,null,"内容（練習・大会・OFF等）",null,null,null,null,null,null,null,null,null,null,null,"場所",null,null,null,null,null,null,null,false,"特殊業務"]
[1,null,{"$f":"'2計画'!C16:D16","v":"月"},null,{"$f":"'2計画'!E16:G16","v":"00:00:00"},null,null,"～",{"$f":"'2計画'!I16:K16","v":"00:00:00"},null,null,{"$f":"'2計画'!L16:N16","v":"00:00:00"},null,null,"～",{"$f":"'2計画'!P16:R16","v":"00:00:00"},null,null,{"$f":"(I16-E16)+(P16-L16)","v":"00:00:00"},null,null,{"$f":"'2計画'!V16:AA16","v":0},null,null,null,null,null,{"$f":"'2計画'!AB16:AG16","v":0},null,null,null,null,null,{"$f":"'2計画'!AH16:AO16","v":0},null,null,null,null,null,null,null,false,null,null,null,null,null,null,null,null,null,null,null,null,null,null,null,null,null,null,null,null,{"$f":"RIGHT(V16,2)","v":"0"},null,null,null,null,null,null,null,null,null,null,null,{"$f":"'2計画'!C16","v":"月"},null,{"$f":"'2計画'!E16","v":"00:00:00"},null,null,"～",{"$f":"'2計画'!I16","v":"00:00:00"},null,null,{"$f":"'2計画'!L16","v":"00:00:00"},null,null,"～",{"$f":"'2計画'!P16","v":"00:00:00"},null,null,{"$f":"(CC16-BY16)+(CJ16-CF16)","v":"00:00:00"},null,null,{"$f":"'2計画'!V16","v":0},null,null,null,null,null,{"$f":"'2計画'!AB16","v":0},null,null,null,null,null,{"$f":"'2計画'!AH16","v":0}]
[2,null,{"$f":"'2計画'!C17:D17","v":"火"},null,{"$f":"'2計画'!E17:G17","v":"00:00:00"},null,null,"～",{"$f":"'2計画'!I17:K17","v":"00:00:00"},null,null,{"$f":"'2計画'!L17:N17","v":"00:00:00"},null,null,"～",{"$f":"'2計画'!P17:R17","v":"00:00:00"},null,null,"00:00:00",null,null,{"$f":"'2計画'!V17:AA17","v":0},null,null,null,null,null,{"$f":"'2計画'!AB17:AG17","v":0},null,null,null,null,null,{"$f":"'2計画'!AH17:AO17","v":0},null,null,null,null,null,null,null,false,null,null,null,null,null,null,null,null,null,null,null,null,null,null,null,null,null,null,null,null,{"$f":"RIGHT(V17,2)","v":"0"},null,null,null,null,null,null,null,null,null,null,null,{"$f":"'2計画'!C17","v":"火"},null,{"$f":"'2計画'!E17","v":"00:00:00"},null,null,"～",{"$f":"'2計画'!I17","v":"00:00:00"},null,null,{"$f":"'2計画'!L17","v":"00:00:00"},null,null,"～",{"$f":"'2計画'!P17","v":"00:00:00"},null,null,"00:00:00",null,null,{"$f":"'2計画'!V17","v":0},null,null,null,null,null,{"$f":"'2計画'!AB17","v":0},null,null,null,null,null,{"$f":"'2計画'!AH17","v":0}]
[3,null,{"$f":"'2計画'!C18:D18","v":"水"},null,{"$f":"'2計画'!E18:G18","v":"00:00:00"},null,null,"～",{"$f":"'2計画'!I18:K18","v":"00:00:00"},null,null,{"$f":"'2計画'!L18:N18","v":"00:00:00"},null,null,"～",{"$f":"'2計画'!P18:R18","v":"00:00:00"},null,null,"00:00:00",null,null,{"$f":"'2計画'!V18:AA18","v":0},null,null,null,null,null,{"$f":"'2計画'!AB18:AG18","v":0},null,null,null,null,null,{"$f":"'2計画'!AH18:AO18","v":0},null,null,null,null,null,null,null,false,null,null,null,null,null,null,null,null,null,null,null,null,null,null,null,null,null,null,null,null,"0",null,null,null,null,null,null,null,null,null,null,null,{"$f":"'2計画'!C18","v":"水"},null,{"$f":"'2計画'!E18","v":"00:00:00"},null,null,"～",{"$f":"'2計画'!I18","v":"00:00:00"},null,null,{"$f":"'2計画'!L18","v":"00:00:00"},null,null,"～",{"$f":"'2計画'!P18","v":"00:00:00"},null,null,"00:00:00",null,null,{"$f":"'2計画'!V18","v":0},null,null,null,null,null,{"$f":"'2計画'!AB18","v":0},null,null,null,null,null,{"$f":"'2計画'!AH18","v":0}]
[4,null,{"$f":"'2計画'!C19:D19","v":"木"},null,{"$f":"'2計画'!E19:G19","v":"00:00:00"},null,null,"～",{"$f":"'2計画'!I19:K19","v":"00:00:00"},null,null,{"$f":"'2計画'!L19:N19","v":"00:00:00"},null,null,"～",{"$f":"'2計画'!P19:R19","v":"00:00:00"},null,null,"00:00:00",null,null,{"$f":"'2計画'!V19:AA19","v":0},null,null,null,null,null,{"$f":"'2計画'!AB19:AG19","v":0},null,null,null,null,null,{"$f":"'2計画'!AH19:AO19","v":0},null,null,null,null,null,null,null,false,null,null,null,null,null,null,null,null,null,null,null,null,null,null,null,null,null,null,null,null,"0",null,null,null,null,null,null,null,null,null,null,null,{"$f":"'2計画'!C19","v":"木"},null,{"$f":"'2計画'!E19","v":"00:00:00"},null,null,"～",{"$f":"'2計画'!I19","v":"00:00:00"},null,null,{"$f":"'2計画'!L19","v":"00:00:00"},null,null,"～",{"$f":"'2計画'!P19","v":"00:00:00"},null,null,"00:00:00",null,null,{"$f":"'2計画'!V19","v":0},null,null,null,null,null,{"$f":"'2計画'!AB19","v":0},null,null,null,null,null,{"$f":"'2計画'!AH19","v":0}]
[5,null,{"$f":"'2計画'!C20:D20","v":"金"},null,{"$f":"'2計画'!E20:G20","v":"00:00:00"},null,null,"～",{"$f":"'2計画'!I20:K20","v":"00:00:00"},null,null,{"$f":"'2計画'!L20:N20","v":"00:00:00"},null,null,"～",{"$f":"'2計画'!P20:R20","v":"00:00:00"},null,null,"00:00:00",null,null,{"$f":"'2計画'!V20:AA20","v":0},null,null,null,null,null,{"$f":"'2計画'!AB20:AG20","v":0},null,null,null,null,null,{"$f":"'2計画'!AH20:AO20","v":0},null,null,null,null,null,null,null,false,null,null,null,null,null,null,null,null,null,null,null,null,null,null,null,null,null,null,null,null,"0",null,null,null,null,null,null,null,null,null,null,null,{"$f":"'2計画'!C20","v":"金"},null,{"$f":"'2計画'!E20","v":"00:00:00"},null,null,"～",{"$f":"'2計画'!I20","v":"00:00:00"},null,null,{"$f":"'2計画'!L20","v":"00:00:00"},null,null,"～",{"$f":"'2計画'!P20","v":"00:00:00"},null,null,"00:00:00",null,null,{"$f":"'2計画'!V20","v":0},null,null,null,null,null,{"$f":"'2計画'!AB20","v":0},null,null,null,null,null,{"$f":"'2計画'!AH20","v":0}]
[6,null,{"$f":"'2計画'!C21:D21","v":"土"},null,{"$f":"'2計画'!E21:G21","v":"00:00:00"},null,null,"～",{"$f":"'2計画'!I21:K21","v":"00:00:00"},null,null,{"$f":"'2計画'!L21:N21","v":"00:00:00"},null,null,"～",{"$f":"'2計画'!P21:R21","v":"00:00:00"},null,null,"00:00:00",null,null,{"$f":"'2計画'!V21:AA21","v":0},null,null,null,null,null,{"$f":"'2計画'!AB21:AG21","v":0},null,null,null,null,null,{"$f":"'2計画'!AH21:AO21","v":0},null,null,null,null,null,null,null,false,null,null,null,null,null,null,null,null,null,null,null,null,null,null,null,null,null,null,null,null,"0",null,null,null,null,null,null,null,null,null,null,null,{"$f":"'2計画'!C21","v":"土"},null,{"$f":"'2計画'!E21","v":"00:00:00"},null,null,"～",{"$f":"'2計画'!I21","v":"00:00:00"},null,null,{"$f":"'2計画'!L21","v":"00:00:00"},null,null,"～",{"$f":"'2計画'!P21","v":"00:00:00"},null,null,"00:00:00",null,null,{"$f":"'2計画'!V21","v":0},null,null,null,null,null,{"$f":"'2計画'!AB21","v":0},null,null,null,null,null,{"$f":"'2計画'!AH21","v":0}]
[7,null,{"$f":"'2計画'!C22:D22","v":"日"},null,{"$f":"'2計画'!E22:G22","v":"00:00:00"},null,null,"～",{"$f":"'2計画'!I22:K22","v":"00:00:00"},null,null,{"$f":"'2計画'!L22:N22","v":"00:00:00"},null,null,"～",{"$f":"'2計画'!P22:R22","v":"00:00:00"},null,null,"00:00:00",null,null,{"$f":"'2計画'!V22:AA22","v":0},null,null,null,null,null,{"$f":"'2計画'!AB22:AG22","v":0},null,null,null,null,null,{"$f":"'2計画'!AH22:AO22","v":0},null,null,null,null,null,null,null,false,null,null,null,null,null,null,null,null,null,null,null,null,null,null,null,null,null,null,null,null,"0",null,null,null,null,null,null,null,null,null,null,null,{"$f":"'2計画'!C22","v":"日"},null,{"$f":"'2計画'!E22","v":"00:00:00"},null,null,"～",{"$f":"'2計画'!I22","v":"00:00:00"},null,null,{"$f":"'2計画'!L22","v":"00:00:00"},null,null,"～",{"$f":"'2計画'!P22","v":"00:00:00"},null,null,"00:00:00",null,null,{"$f":"'2計画'!V22","v":0},null,null,null,null,null,{"$f":"'2計画'!AB22","v":0},null,null,null,null,null,{"$f":"'2計画'!AH22","v":0}]
[8,null,{"$f":"'2計画'!C23:D23","v":"月"},null,{"$f":"'2計画'!E23:G23","v":"00:00:00"},null,null,"～",{"$f":"'2計画'!I23:K23","v":"00:00:00"},null,null,{"$f":"'2計画'!L23:N23","v":"00:00:00"},null,null,"～",{"$f":"'2計画'!P23:R23","v":"00:00:00"},null,null,"00:00:00",null,null,{"$f":"'2計画'!V23:AA23","v":0},null,null,null,null,null,{"$f":"'2計画'!AB23:AG23","v":0},null,null,null,null,null,{"$f":"'2計画'!AH23:AO23","v":0},null,null,null,null,null,null,null,false,null,null,null,null,null,null,null,null,null,null,null,null,null,null,null,null,null,null,null,null,"0",null,null,null,null,null,null,null,null,null,null,null,{"$f":"'2計画'!C23","v":"月"},null,{"$f":"'2計画'!E23","v":"00:00:00"},null,null,"～",{"$f":"'2計画'!I23","v":"00:00:00"},null,null,{"$f":"'2計画'!L23","v":"00:00:00"},null,null,"～",{"$f":"'2計画'!P23","v":"00:00:00"},null,null,"00:00:00",null,null,{"$f":"'2計画'!V23","v":0},null,null,null,null,null,{"$f":"'2計画'!AB23","v":0},null,null,null,null,null,{"$f":"'2計画'!AH23","v":0}]
[9,null,{"$f":"'2計画'!C24:D24","v":"火"},null,{"$f":"'2計画'!E24:G24","v":"00:00:00"},null,null,"～",{"$f":"'2計画'!I24:K24","v":"00:00:00"},null,null,{"$f":"'2計画'!L24:N24","v":"00:00:00"},null,null,"～",{"$f":"'2計画'!P24:R24","v":"00:00:00"},null,null,"00:00:00",null,null,{"$f":"'2計画'!V24:AA24","v":0},null,null,null,null,null,{"$f":"'2計画'!AB24:AG24","v":0},null,null,null,null,null,{"$f":"'2計画'!AH24:AO24","v":0},null,null,null,null,null,null,null,false,null,null,null,null,null,null,null,null,null,null,null,null,null,null,null,null,null,null,null,null,"0",null,null,null,null,null,null,null,null,null,null,null,{"$f":"'2計画'!C24","v":"火"},null,{"$f":"'2計画'!E24","v":"00:00:00"},null,null,"～",{"$f":"'2計画'!I24","v":"00:00:00"},null,null,{"$f":"'2計画'!L24","v":"00:00:00"},null,null,"～",{"$f":"'2計画'!P24","v":"00:00:00"},null,null,"00:00:00",null,null,{"$f":"'2計画'!V24","v":0},null,null,null,null,null,{"$f":"'2計画'!AB24","v":0},null,null,null,null,null,{"$f":"'2計画'!AH24","v":0}]
[10,null,{"$f":"'2計画'!C25:D25","v":"水"},null,{"$f":"'2計画'!E25:G25","v":"00:00:00"},null,null,"～",{"$f":"'2計画'!I25:K25","v":"00:00:00"},null,null,{"$f":"'2計画'!L25:N25","v":"00:00:00"},null,null,"～",{"$f":"'2計画'!P25:R25","v":"00:00:00"},null,null,"00:00:00",null,null,{"$f":"'2計画'!V25:AA25","v":0},null,null,null,null,null,{"$f":"'2計画'!AB25:AG25","v":0},null,null,null,null,null,{"$f":"'2計画'!AH25:AO25","v":0},null,null,null,null,null,null,null,false,null,null,null,null,null,null,null,null,null,null,null,null,null,null,null,null,null,null,null,null,"0",null,null,null,null,null,null,null,null,null,null,null,{"$f":"'2計画'!C25","v":"水"},null,{"$f":"'2計画'!E25","v":"00:00:00"},null,null,"～",{"$f":"'2計画'!I25","v":"00:00:00"},null,null,{"$f":"'2計画'!L25","v":"00:00:00"},null,null,"～",{"$f":"'2計画'!P25","v":"00:00:00"},null,null,"00:00:00",null,null,{"$f":"'2計画'!V25","v":0},null,null,null,null,null,{"$f":"'2計画'!AB25","v":0},null,null,null,null,null,{"$f":"'2計画'!AH25","v":0}]
[11,null,{"$f":"'2計画'!C26:D26","v":"木"},null,{"$f":"'2計画'!E26:G26","v":"00:00:00"},null,null,"～",{"$f":"'2計画'!I26:K26","v":"00:00:00"},null,null,{"$f":"'2計画'!L26:N26","v":"00:00:00"},null,null,"～",{"$f":"'2計画'!P26:R26","v":"00:00:00"},null,null,"00:00:00",null,null,{"$f":"'2計画'!V26:AA26","v":0},null,null,null,null,null,{"$f":"'2計画'!AB26:AG26","v":0},null,null,null,null,null,{"$f":"'2計画'!AH26:AO26","v":0},null,null,null,null,null,null,null,false,null,null,null,null,null,null,null,null,null,null,null,null,null,null,null,null,null,null,null,null,"0",null,null,null,null,null,null,null,null,null,null,null,{"$f":"'2計画'!C26","v":"木"},null,{"$f":"'2計画'!E26","v":"00:00:00"},null,null,"～",{"$f":"'2計画'!I26","v":"00:00:00"},null,null,{"$f":"'2計画'!L26","v":"00:00:00"},null,null,"～",{"$f":"'2計画'!P26","v":"00:00:00"},null,null,"00:00:00",null,null,{"$f":"'2計画'!V26","v":0},null,null,null,null,null,{"$f":"'2計画'!AB26","v":0},null,null,null,null,null,{"$f":"'2計画'!AH26","v":0}]
[12,null,{"$f":"'2計画'!C27:D27","v":"金"},null,{"$f":"'2計画'!E27:G27","v":"00:00:00"},null,null,"～",{"$f":"'2計画'!I27:K27","v":"00:00:00"},null,null,{"$f":"'2計画'!L27:N27","v":"00:00:00"},null,null,"～",{"$f":"'2計画'!P27:R27","v":"00:00:00"},null,null,"00:00:00",null,null,{"$f":"'2計画'!V27:AA27","v":0},null,null,null,null,null,{"$f":"'2計画'!AB27:AG27","v":0},null,null,null,null,null,{"$f":"'2計画'!AH27:AO27","v":0},null,null,null,null,null,null,null,false,null,null,null,null,null,null,null,null,null,null,null,null,null,null,null,null,null,null,null,null,"0",null,null,null,null,null,null,null,null,null,null,null,{"$f":"'2計画'!C27","v":"金"},null,{"$f":"'2計画'!E27","v":"00:00:00"},null,null,"～",{"$f":"'2計画'!I27","v":"00:00:00"},null,null,{"$f":"'2計画'!L27","v":"00:00:00"},null,null,"～",{"$f":"'2計画'!P27","v":"00:00:00"},null,null,"00:00:00",null,null,{"$f":"'2計画'!V27","v":0},null,null,null,null,null,{"$f":"'2計画'!AB27","v":0},null,null,null,null,null,{"$f":"'2計画'!AH27","v":0}]
[13,null,{"$f":"'2計画'!C28:D28","v":"土"},null,{"$f":"'2計画'!E28:G28","v":"00:00:00"},null,null,"～",{"$f":"'2計画'!I28:K28","v":"00:00:00"},null,null,{"$f":"'2計画'!L28:N28","v":"00:00:00"},null,null,"～",{"$f":"'2計画'!P28:R28","v":"00:00:00"},null,null,"00:00:00",null,null,{"$f":"'2計画'!V28:AA28","v":0},null,null,null,null,null,{"$f":"'2計画'!AB28:AG28","v":0},null,null,null,null,null,{"$f":"'2計画'!AH28:AO28","v":0},null,null,null,null,null,null,null,false,null,null,null,null,null,null,null,null,null,null,null,null,null,null,null,null,null,null,null,null,"0",null,null,null,null,null,null,null,null,null,null,null,{"$f":"'2計画'!C28","v":"土"},null,{"$f":"'2計画'!E28","v":"00:00:00"},null,null,"～",{"$f":"'2計画'!I28","v":"00:00:00"},null,null,{"$f":"'2計画'!L28","v":"00:00:00"},null,null,"～",{"$f":"'2計画'!P28","v":"00:00:00"},null,null,"00:00:00",null,null,{"$f":"'2計画'!V28","v":0},null,null,null,null,null,{"$f":"'2計画'!AB28","v":0},null,null,null,null,null,{"$f":"'2計画'!AH28","v":0}]
[14,null,{"$f":"'2計画'!C29:D29","v":"日"},null,{"$f":"'2計画'!E29:G29","v":"00:00:00"},null,null,"～",{"$f":"'2計画'!I29:K29","v":"00:00:00"},null,null,{"$f":"'2計画'!L29:N29","v":"00:00:00"},null,null,"～",{"$f":"'2計画'!P29:R29","v":"00:00:00"},null,null,"00:00:00",null,null,{"$f":"'2計画'!V29:AA29","v":0},null,null,null,null,null,{"$f":"'2計画'!AB29:AG29","v":0},null,null,null,null,null,{"$f":"'2計画'!AH29:AO29","v":0},null,null,null,null,null,null,null,false,null,null,null,null,null,null,null,null,null,null,null,null,null,null,null,null,null,null,null,null,"0",null,null,null,null,null,null,null,null,null,null,null,{"$f":"'2計画'!C29","v":"日"},null,{"$f":"'2計画'!E29","v":"00:00:00"},null,null,"～",{"$f":"'2計画'!I29","v":"00:00:00"},null,null,{"$f":"'2計画'!L29","v":"00:00:00"},null,null,"～",{"$f":"'2計画'!P29","v":"00:00:00"},null,null,"00:00:00",null,null,{"$f":"'2計画'!V29","v":0},null,null,null,null,null,{"$f":"'2計画'!AB29","v":0},null,null,null,null,null,{"$f":"'2計画'!AH29","v":0}]
[15,null,{"$f":"'2計画'!C30:D30","v":"月"},null,{"$f":"'2計画'!E30:G30","v":"00:00:00"},null,null,"～",{"$f":"'2計画'!I30:K30","v":"00:00:00"},null,null,{"$f":"'2計画'!L30:N30","v":"00:00:00"},null,null,"～",{"$f":"'2計画'!P30:R30","v":"00:00:00"},null,null,"00:00:00",null,null,{"$f":"'2計画'!V30:AA30","v":0},null,null,null,null,null,{"$f":"'2計画'!AB30:AG30","v":0},null,null,null,null,null,{"$f":"'2計画'!AH30:AO30","v":0},null,null,null,null,null,null,null,false,null,null,null,null,null,null,null,null,null,null,null,null,null,null,null,null,null,null,null,null,"0",null,null,null,null,null,null,null,null,null,null,null,{"$f":"'2計画'!C30","v":"月"},null,{"$f":"'2計画'!E30","v":"00:00:00"},null,null,"～",{"$f":"'2計画'!I30","v":"00:00:00"},null,null,{"$f":"'2計画'!L30","v":"00:00:00"},null,null,"～",{"$f":"'2計画'!P30","v":"00:00:00"},null,null,"00:00:00",null,null,{"$f":"'2計画'!V30","v":0},null,null,null,null,null,{"$f":"'2計画'!AB30","v":0},null,null,null,null,null,{"$f":"'2計画'!AH30","v":0}]
[16,null,{"$f":"'2計画'!C31:D31","v":"火"},null,{"$f":"'2計画'!E31:G31","v":"00:00:00"},null,null,"～",{"$f":"'2計画'!I31:K31","v":"00:00:00"},null,null,{"$f":"'2計画'!L31:N31","v":"00:00:00"},null,null,"～",{"$f":"'2計画'!P31:R31","v":"00:00:00"},null,null,"00:00:00",null,null,{"$f":"'2計画'!V31:AA31","v":0},null,null,null,null,null,{"$f":"'2計画'!AB31:AG31","v":0},null,null,null,null,null,{"$f":"'2計画'!AH31:AO31","v":0},null,null,null,null,null,null,null,false,null,null,null,null,null,null,null,null,null,null,null,null,null,null,null,null,null,null,null,null,"0",null,null,null,null,null,null,null,null,null,null,null,{"$f":"'2計画'!C31","v":"火"},null,{"$f":"'2計画'!E31","v":"00:00:00"},null,null,"～",{"$f":"'2計画'!I31","v":"00:00:00"},null,null,{"$f":"'2計画'!L31","v":"00:00:00"},null,null,"～",{"$f":"'2計画'!P31","v":"00:00:00"},null,null,"00:00:00",null,null,{"$f":"'2計画'!V31","v":0},null,null,null,null,null,{"$f":"'2計画'!AB31","v":0},null,null,null,null,null,{"$f":"'2計画'!AH31","v":0}]
[17,null,{"$f":"'2計画'!C32:D32","v":"水"},null,{"$f":"'2計画'!E32:G32","v":"00:00:00"},null,null,"～",{"$f":"'2計画'!I32:K32","v":"00:00:00"},null,null,{"$f":"'2計画'!L32:N32","v":"00:00:00"},null,null,"～",{"$f":"'2計画'!P32:R32","v":"00:00:00"},null,null,"00:00:00",null,null,{"$f":"'2計画'!V32:AA32","v":0},null,null,null,null,null,{"$f":"'2計画'!AB32:AG32","v":0},null,null,null,null,null,{"$f":"'2計画'!AH32:AO32","v":0},null,null,null,null,null,null,null,false,null,null,null,null,null,null,null,null,null,null,null,null,null,null,null,null,null,null,null,null,"0",null,null,null,null,null,null,null,null,null,null,null,{"$f":"'2計画'!C32","v":"水"},null,{"$f":"'2計画'!E32","v":"00:00:00"},null,null,"～",{"$f":"'2計画'!I32","v":"00:00:00"},null,null,{"$f":"'2計画'!L32","v":"00:00:00"},null,null,"～",{"$f":"'2計画'!P32","v":"00:00:00"},null,null,"00:00:00",null,null,{"$f":"'2計画'!V32","v":0},null,null,null,null,null,{"$f":"'2計画'!AB32","v":0},null,null,null,null,null,{"$f":"'2計画'!AH32","v":0}]
[18,null,{"$f":"'2計画'!C33:D33","v":"木"},null,{"$f":"'2計画'!E33:G33","v":"00:00:00"},null,null,"～",{"$f":"'2計画'!I33:K33","v":"00:00:00"},null,null,{"$f":"'2計画'!L33:N33","v":"00:00:00"},null,null,"～",{"$f":"'2計画'!P33:R33","v":"00:00:00"},null,null,"00:00:00",null,null,{"$f":"'2計画'!V33:AA33","v":0},null,null,null,null,null,{"$f":"'2計画'!AB33:AG33","v":0},null,null,null,null,null,{"$f":"'2計画'!AH33:AO33","v":0},null,null,null,null,null,null,null,false,null,null,null,null,null,null,null,null,null,null,null,null,null,null,null,null,null,null,null,null,"0",null,null,null,null,null,null,null,null,null,null,null,{"$f":"'2計画'!C33","v":"木"},null,{"$f":"'2計画'!E33","v":"00:00:00"},null,null,"～",{"$f":"'2計画'!I33","v":"00:00:00"},null,null,{"$f":"'2計画'!L33","v":"00:00:00"},null,null,"～",{"$f":"'2計画'!P33","v":"00:00:00"},null,null,"00:00:00",null,null,{"$f":"'2計画'!V33","v":0},null,null,null,null,null,{"$f":"'2計画'!AB33","v":0},null,null,null,null,null,{"$f":"'2計画'!AH33","v":0}]
[19,null,{"$f":"'2計画'!C34:D34","v":"金"},null,{"$f":"'2計画'!E34:G34","v":"00:00:00"},null,null,"～",{"$f":"'2計画'!I34:K34","v":"00:00:00"},null,null,{"$f":"'2計画'!L34:N34","v":"00:00:00"},null,null,"～",{"$f":"'2計画'!P34:R34","v":"00:00:00"},null,null,"00:00:00",null,null,{"$f":"'2計画'!V34:AA34","v":0},null,null,null,null,null,{"$f":"'2計画'!AB34:AG34","v":0},null,null,null,null,null,{"$f":"'2計画'!AH34:AO34","v":0},null,null,null,null,null,null,null,false,null,null,null,null,null,null,null,null,null,null,null,null,null,null,null,null,null,null,null,null,"0",null,null,null,null,null,null,null,null,null,null,null,{"$f":"'2計画'!C34","v":"金"},null,{"$f":"'2計画'!E34","v":"00:00:00"},null,null,"～",{"$f":"'2計画'!I34","v":"00:00:00"},null,null,{"$f":"'2計画'!L34","v":"00:00:00"},null,null,"～",{"$f":"'2計画'!P34","v":"00:00:00"},null,null,"00:00:00",null,null,{"$f":"'2計画'!V34","v":0},null,null,null,null,null,{"$f":"'2計画'!AB34","v":0},null,null,null,null,null,{"$f":"'2計画'!AH34","v":0}]
[20,null,{"$f":"'2計画'!C35:D35","v":"土"},null,{"$f":"'2計画'!E35:G35","v":"00:00:00"},null,null,"～",{"$f":"'2計画'!I35:K35","v":"00:00:00"},null,null,{"$f":"'2計画'!L35:N35","v":"00:00:00"},null,null,"～",{"$f":"'2計画'!P35:R35","v":"00:00:00"},null,null,"00:00:00",null,null,{"$f":"'2計画'!V35:AA35","v":0},null,null,null,null,null,{"$f":"'2計画'!AB35:AG35","v":0},null,null,null,null,null,{"$f":"'2計画'!AH35:AO35","v":0},null,null,null,null,null,null,null,false,null,null,null,null,null,null,null,null,null,null,null,null,null,null,null,null,null,null,null,null,"0",null,null,null,null,null,null,null,null,null,null,null,{"$f":"'2計画'!C35","v":"土"},null,{"$f":"'2計画'!E35","v":"00:00:00"},null,null,"～",{"$f":"'2計画'!I35","v":"00:00:00"},null,null,{"$f":"'2計画'!L35","v":"00:00:00"},null,null,"～",{"$f":"'2計画'!P35","v":"00:00:00"},null,null,"00:00:00",null,null,{"$f":"'2計画'!V35","v":0},null,null,null,null,null,{"$f":"'2計画'!AB35","v":0},null,null,null,null,null,{"$f":"'2計画'!AH35","v":0}]
[21,null,{"$f":"'2計画'!C36:D36","v":"日"},null,{"$f":"'2計画'!E36:G36","v":"00:00:00"},null,null,"～",{"$f":"'2計画'!I36:K36","v":"00:00:00"},null,null,{"$f":"'2計画'!L36:N36","v":"00:00:00"},null,null,"～",{"$f":"'2計画'!P36:R36","v":"00:00:00"},null,null,"00:00:00",null,null,{"$f":"'2計画'!V36:AA36","v":0},null,null,null,null,null,{"$f":"'2計画'!AB36:AG36","v":0},null,null,null,null,null,{"$f":"'2計画'!AH36:AO36","v":0},null,null,null,null,null,null,null,false,null,null,null,null,null,null,null,null,null,null,null,null,null,null,null,null,null,null,null,null,"0",null,null,null,null,null,null,null,null,null,null,null,{"$f":"'2計画'!C36","v":"日"},null,{"$f":"'2計画'!E36","v":"00:00:00"},null,null,"～",{"$f":"'2計画'!I36","v":"00:00:00"},null,null,{"$f":"'2計画'!L36","v":"00:00:00"},null,null,"～",{"$f":"'2計画'!P36","v":"00:00:00"},null,null,"00:00:00",null,null,{"$f":"'2計画'!V36","v":0},null,null,null,null,null,{"$f":"'2計画'!AB36","v":0},null,null,null,null,null,{"$f":"'2計画'!AH36","v":0}]
[22,null,{"$f":"'2計画'!C37:D37","v":"月"},null,{"$f":"'2計画'!E37:G37","v":"00:00:00"},null,null,"～",{"$f":"'2計画'!I37:K37","v":"00:00:00"},null,null,{"$f":"'2計画'!L37:N37","v":"00:00:00"},null,null,"～",{"$f":"'2計画'!P37:R37","v":"00:00:00"},null,null,"00:00:00",null,null,{"$f":"'2計画'!V37:AA37","v":0},null,null,null,null,null,{"$f":"'2計画'!AB37:AG37","v":0},null,null,null,null,null,{"$f":"'2計画'!AH37:AO37","v":0},null,null,null,null,null,null,null,false,null,null,null,null,null,null,null,null,null,null,null,null,null,null,null,null,null,null,null,null,"0",null,null,null,null,null,null,null,null,null,null,null,{"$f":"'2計画'!C37","v":"月"},null,{"$f":"'2計画'!E37","v":"00:00:00"},null,null,"～",{"$f":"'2計画'!I37","v":"00:00:00"},null,null,{"$f":"'2計画'!L37","v":"00:00:00"},null,null,"～",{"$f":"'2計画'!P37","v":"00:00:00"},null,null,"00:00:00",null,null,{"$f":"'2計画'!V37","v":0},null,null,null,null,null,{"$f":"'2計画'!AB37","v":0},null,null,null,null,null,{"$f":"'2計画'!AH37","v":0}]
[23,null,{"$f":"'2計画'!C38:D38","v":"火"},null,{"$f":"'2計画'!E38:G38","v":"00:00:00"},null,null,"～",{"$f":"'2計画'!I38:K38","v":"00:00:00"},null,null,{"$f":"'2計画'!L38:N38","v":"00:00:00"},null,null,"～",{"$f":"'2計画'!P38:R38","v":"00:00:00"},null,null,"00:00:00",null,null,{"$f":"'2計画'!V38:AA38","v":0},null,null,null,null,null,{"$f":"'2計画'!AB38:AG38","v":0},null,null,null,null,null,{"$f":"'2計画'!AH38:AO38","v":0},null,null,null,null,null,null,null,false,null,null,null,null,null,null,null,null,null,null,null,null,null,null,null,null,null,null,null,null,"0",null,null,null,null,null,null,null,null,null,null,null,{"$f":"'2計画'!C38","v":"火"},null,{"$f":"'2計画'!E38","v":"00:00:00"},null,null,"～",{"$f":"'2計画'!I38","v":"00:00:00"},null,null,{"$f":"'2計画'!L38","v":"00:00:00"},null,null,"～",{"$f":"'2計画'!P38","v":"00:00:00"},null,null,"00:00:00",null,null,{"$f":"'2計画'!V38","v":0},null,null,null,null,null,{"$f":"'2計画'!AB38","v":0},null,null,null,null,null,{"$f":"'2計画'!AH38","v":0}]
[24,null,{"$f":"'2計画'!C39:D39","v":"水"},null,{"$f":"'2計画'!E39:G39","v":"00:00:00"},null,null,"～",{"$f":"'2計画'!I39:K39","v":"00:00:00"},null,null,{"$f":"'2計画'!L39:N39","v":"00:00:00"},null,null,"～",{"$f":"'2計画'!P39:R39","v":"00:00:00"},null,null,"00:00:00",null,null,{"$f":"'2計画'!V39:AA39","v":0},null,null,null,null,null,{"$f":"'2計画'!AB39:AG39","v":0},null,null,null,null,null,{"$f":"'2計画'!AH39:AO39","v":0},null,null,null,null,null,null,null,false,null,null,null,null,null,null,null,null,null,null,null,null,null,null,null,null,null,null,null,null,"0",null,null,null,null,null,null,null,null,null,null,null,{"$f":"'2計画'!C39","v":"水"},null,{"$f":"'2計画'!E39","v":"00:00:00"},null,null,"～",{"$f":"'2計画'!I39","v":"00:00:00"},null,null,{"$f":"'2計画'!L39","v":"00:00:00"},null,null,"～",{"$f":"'2計画'!P39","v":"00:00:00"},null,null,"00:00:00",null,null,{"$f":"'2計画'!V39","v":0},null,null,null,null,null,{"$f":"'2計画'!AB39","v":0},null,null,null,null,null,{"$f":"'2計画'!AH39","v":0}]
[25,null,{"$f":"'2計画'!C40:D40","v":"木"},null,{"$f":"'2計画'!E40:G40","v":"00:00:00"},null,null,"～",{"$f":"'2計画'!I40:K40","v":"00:00:00"},null,null,{"$f":"'2計画'!L40:N40","v":"00:00:00"},null,null,"～",{"$f":"'2計画'!P40:R40","v":"00:00:00"},null,null,"00:00:00",null,null,{"$f":"'2計画'!V40:AA40","v":0},null,null,null,null,null,{"$f":"'2計画'!AB40:AG40","v":0},null,null,null,null,null,{"$f":"'2計画'!AH40:AO40","v":0},null,null,null,null,null,null,null,false,null,null,null,null,null,null,null,null,null,null,null,null,null,null,null,null,null,null,null,null,"0",null,null,null,null,null,null,null,null,null,null,null,{"$f":"'2計画'!C40","v":"木"},null,{"$f":"'2計画'!E40","v":"00:00:00"},null,null,"～",{"$f":"'2計画'!I40","v":"00:00:00"},null,null,{"$f":"'2計画'!L40","v":"00:00:00"},null,null,"～",{"$f":"'2計画'!P40","v":"00:00:00"},null,null,"00:00:00",null,null,{"$f":"'2計画'!V40","v":0},null,null,null,null,null,{"$f":"'2計画'!AB40","v":0},null,null,null,null,null,{"$f":"'2計画'!AH40","v":0}]
[26,null,{"$f":"'2計画'!C41:D41","v":"金"},null,{"$f":"'2計画'!E41:G41","v":"00:00:00"},null,null,"～",{"$f":"'2計画'!I41:K41","v":"00:00:00"},null,null,{"$f":"'2計画'!L41:N41","v":"00:00:00"},null,null,"～",{"$f":"'2計画'!P41:R41","v":"00:00:00"},null,null,"00:00:00",null,null,{"$f":"'2計画'!V41:AA41","v":0},null,null,null,null,null,{"$f":"'2計画'!AB41:AG41","v":0},null,null,null,null,null,{"$f":"'2計画'!AH41:AO41","v":0},null,null,null,null,null,null,null,false,null,null,null,null,null,null,null,null,null,null,null,null,null,null,null,null,null,null,null,null,"0",null,null,null,null,null,null,null,null,null,null,null,{"$f":"'2計画'!C41","v":"金"},null,{"$f":"'2計画'!E41","v":"00:00:00"},null,null,"～",{"$f":"'2計画'!I41","v":"00:00:00"},null,null,{"$f":"'2計画'!L41","v":"00:00:00"},null,null,"～",{"$f":"'2計画'!P41","v":"00:00:00"},null,null,"00:00:00",null,null,{"$f":"'2計画'!V41","v":0},null,null,null,null,null,{"$f":"'2計画'!AB41","v":0},null,null,null,null,null,{"$f":"'2計画'!AH41","v":0}]
[27,null,{"$f":"'2計画'!C42:D42","v":"土"},null,{"$f":"'2計画'!E42:G42","v":"00:00:00"},null,null,"～",{"$f":"'2計画'!I42:K42","v":"00:00:00"},null,null,{"$f":"'2計画'!L42:N42","v":"00:00:00"},null,null,"～",{"$f":"'2計画'!P42:R42","v":"00:00:00"},null,null,"00:00:00",null,null,{"$f":"'2計画'!V42:AA42","v":0},null,null,null,null,null,{"$f":"'2計画'!AB42:AG42","v":0},null,null,null,null,null,{"$f":"'2計画'!AH42:AO42","v":0},null,null,null,null,null,null,null,false,null,null,null,null,null,null,null,null,null,null,null,null,null,null,null,null,null,null,null,null,"0",null,null,null,null,null,null,null,null,null,null,null,{"$f":"'2計画'!C42","v":"土"},null,{"$f":"'2計画'!E42","v":"00:00:00"},null,null,"～",{"$f":"'2計画'!I42","v":"00:00:00"},null,null,{"$f":"'2計画'!L42","v":"00:00:00"},null,null,"～",{"$f":"'2計画'!P42","v":"00:00:00"},null,null,"00:00:00",null,null,{"$f":"'2計画'!V42","v":0},null,null,null,null,null,{"$f":"'2計画'!AB42","v":0},null,null,null,null,null,{"$f":"'2計画'!AH42","v":0}]
[28,null,{"$f":"'2計画'!C43:D43","v":"日"},null,{"$f":"'2計画'!E43:G43","v":"00:00:00"},null,null,"～",{"$f":"'2計画'!I43:K43","v":"00:00:00"},null,null,{"$f":"'2計画'!L43:N43","v":"00:00:00"},null,null,"～",{"$f":"'2計画'!P43:R43","v":"00:00:00"},null,null,"00:00:00",null,null,{"$f":"'2計画'!V43:AA43","v":0},null,null,null,null,null,{"$f":"'2計画'!AB43:AG43","v":0},null,null,null,null,null,{"$f":"'2計画'!AH43:AO43","v":0},null,null,null,null,null,null,null,false,null,null,null,null,null,null,null,null,null,null,null,null,null,null,null,null,null,null,null,null,"0",null,null,null,null,null,null,null,null,null,null,null,{"$f":"'2計画'!C43","v":"日"},null,{"$f":"'2計画'!E43","v":"00:00:00"},null,null,"～",{"$f":"'2計画'!I43","v":"00:00:00"},null,null,{"$f":"'2計画'!L43","v":"00:00:00"},null,null,"～",{"$f":"'2計画'!P43","v":"00:00:00"},null,null,"00:00:00",null,null,{"$f":"'2計画'!V43","v":0},null,null,null,null,null,{"$f":"'2計画'!AB43","v":0},null,null,null,null,null,{"$f":"'2計画'!AH43","v":0}]
[null,null,{"$f":"'2計画'!C44:D44","v":"月"},null,{"$f":"'2計画'!E44:G44","v":"00:00:00"},null,null,"～",{"$f":"'2計画'!I44:K44","v":"00:00:00"},null,null,{"$f":"'2計画'!L44:N44","v":"00:00:00"},null,null,"～",{"$f":"'2計画'!P44:R44","v":"00:00:00"},null,null,"00:00:00",null,null,{"$f":"'2計画'!V44:AA44","v":0},null,null,null,null,null,{"$f":"'2計画'!AB44:AG44","v":0},null,null,null,null,null,{"$f":"'2計画'!AH44:AO44","v":0},null,null,null,null,null,null,null,false,null,null,null,null,null,null,null,null,null,null,null,null,null,null,null,null,null,null,null,null,"0",null,null,null,null,null,null,null,null,null,null,null,{"$f":"'2計画'!C44","v":"月"},null,{"$f":"'2計画'!E44","v":"00:00:00"},null,null,"～",{"$f":"'2計画'!I44","v":"00:00:00"},null,null,{"$f":"'2計画'!L44","v":"00:00:00"},null,null,"～",{"$f":"'2計画'!P44","v":"00:00:00"},null,null,"00:00:00",null,null,{"$f":"'2計画'!V44","v":0},null,null,null,null,null,{"$f":"'2計画'!AB44","v":0},null,null,null,null,null,{"$f":"'2計画'!AH44","v":0}]
[null,null,{"$f":"'2計画'!C45:D45","v":""},null,{"$f":"'2計画'!E45:G45","v":"00:00:00"},null,null,"～",{"$f":"'2計画'!I45:K45","v":"00:00:00"},null,null,{"$f":"'2計画'!L45:N45","v":"00:00:00"},null,null,"～",{"$f":"'2計画'!P45:R45","v":"00:00:00"},null,null,"00:00:00",null,null,{"$f":"'2計画'!V45:AA45","v":0},null,null,null,null,null,{"$f":"'2計画'!AB45:AG45","v":0},null,null,null,null,null,{"$f":"'2計画'!AH45:AO45","v":0},null,null,null,null,null,null,null,false,null,null,null,null,null,null,null,null,null,null,null,null,null,null,null,null,null,null,null,null,"0",null,null,null,null,null,null,null,null,null,null,null,{"$f":"'2計画'!C45","v":""},null,{"$f":"'2計画'!E45","v":"00:00:00"},null,null,"～",{"$f":"'2計画'!I45","v":"00:00:00"},null,null,{"$f":"'2計画'!L45","v":"00:00:00"},null,null,"～",{"$f":"'2計画'!P45","v":"00:00:00"},null,null,"00:00:00",null,null,{"$f":"'2計画'!V45","v":0},null,null,null,null,null,{"$f":"'2計画'!AB45","v":0},null,null,null,null,null,{"$f":"'2計画'!AH45","v":0}]
[null,null,{"$f":"'2計画'!C46:D46","v":""},null,{"$f":"'2計画'!E46:G46","v":"00:00:00"},null,null,"～",{"$f":"'2計画'!I46:K46","v":"00:00:00"},null,null,{"$f":"'2計画'!L46:N46","v":"00:00:00"},null,null,"～",{"$f":"'2計画'!P46:R46","v":"00:00:00"},null,null,"00:00:00",null,null,{"$f":"'2計画'!V46:AA46","v":0},null,null,null,null,null,{"$f":"'2計画'!AB46:AG46","v":0},null,null,null,null,null,{"$f":"'2計画'!AH46:AO46","v":0},null,null,null,null,null,null,null,false,null,null,null,null,null,null,null,null,null,null,null,null,null,null,null,null,null,null,null,null,"0",null,null,null,null,null,null,null,null,null,null,null,{"$f":"'2計画'!C46","v":""},null,{"$f":"'2計画'!E46","v":"00:00:00"},null,null,"～",{"$f":"'2計画'!I46","v":"00:00:00"},null,null,{"$f":"'2計画'!L46","v":"00:00:00"},null,null,"～",{"$f":"'2計画'!P46","v":"00:00:00"},null,null,"00:00:00",null,null,{"$f":"'2計画'!V46","v":0},null,null,null,null,null,{"$f":"'2計画'!AB46","v":0},null,null,null,null,null,{"$f":"'2計画'!AH46","v":0}]
[null,null,null,null,null,null,null,null,null,null,null,null,null,null,null,null,null,null,{"$f":"SUM(S16:U46)","v":0},null,null,null,null,null,null,null,null,null,null,null,null,null,null,null,null,null,null,null,null,null,null,null,null,null,null,null,null,null,null,null,null,null,null,null,null,null,null,null,null,null,null,null,null,null,null,null,null,null,null,null,null,null,null,null,null,null,null,null,null,null,null,null,null,null,null,null,null,null,null,null,{"$f":"SUM(CM16:CO46)","v":0}]
[]
["月",null,null,4,null,5,null,6,null,7,null,8,null,9,null,10,null,11,null,12,null,1,null,2,null,3,null,"計"]
["時間",null,null,{"$f":"'４実績'!D50","v":0},null,{"$f":"'５実績'!F50","v":0},null,{"$f":"'6実績'!H50","v":0},null,{"$f":"'7実績'!J50","v":0},null,{"$f":"'8実績'!L50:M50","v":0},null,{"$f":"'9実績'!N50:O50","v":0},null,{"$f":"'10実績'!P50:Q50","v":0},null,{"$f":"'11実績'!R50:S50","v":0},null,{"$f":"'12実績'!T50:U50","v":0},null,{"$f":"'1実績'!V50:W50","v":0},null,{"$f":"S47","v":0},null,null,null,{"$f":"SUM(D50:AA50)","v":0},null,null,null,null,"時間",null,null,null,null,null,null,null,null,null,null,null,null,null,null,null,null,null,null,null,null,null,null,null,null,null,null,null,null,null,null,null,null,null,null,null,null,null,null,null,null,null,null,{"$f":"'４実績'!D50","v":0},null,{"$f":"'５実績'!F50","v":0},null,{"$f":"'6実績'!H50","v":0},null,{"$f":"'7実績'!J50","v":0},null,{"$f":"'8実績'!L50","v":0},null,{"$f":"'9実績'!N50","v":0},null,{"$f":"'10実績'!P50","v":0},null,{"$f":"'11実績'!R50","v":0},null,{"$f":"'12実績'!T50","v":0},null,{"$f":"'1実績'!V50","v":0},null,{"$f":"CM47","v":0},null,null,null,{"$f":"SUM(BX50:CU50)","v":0}]
["活動日数",null,null,{"$f":"'４実績'!D51","v":0},null,{"$f":"'５実績'!F51","v":0},null,{"$f":"'6実績'!H51","v":0},null,{"$f":"'7実績'!J51","v":0},null,{"$f":"'8実績'!L51:M51","v":0},null,{"$f":"'9実績'!N51:O51","v":0},null,{"$f":"'10実績'!P51:Q51","v":0},null,{"$f":"'11実績'!R51:S51","v":0},null,{"$f":"'12実績'!T51:U51","v":0},null,{"$f":"'1実績'!V51:W51","v":0},null,{"$f":"COUNTIF(S16:U46,\">0\")","v":0},null,null,null,{"$f":"SUM(D51:AA51)","v":0},null,null,null,null,"活動日数",null,null,null,null,null,null,null,null,null,null,null,null,null,null,null,null,null,null,null,null,null,null,null,null,null,null,null,null,null,null,null,null,null,null,null,null,null,null,null,null,null,null,{"$f":"'４実績'!D51","v":0},null,{"$f":"'５実績'!F51","v":0},null,{"$f":"'6実績'!H51","v":0},null,{"$f":"'7実績'!J51","v":0},null,{"$f":"'8実績'!L51","v":0},null,{"$f":"'9実績'!N51","v":0},null,{"$f":"'10実績'!P51","v":0},null,{"$f":"'11実績'!R51","v":0},null,{"$f":"'12実績'!T51","v":0},null,{"$f":"'1実績'!V51","v":0},null,{"$f":"COUNTIF(CM16:CO46,\">0\")","v":0},null,null,null,{"$f":"SUM(BX51:CU51)","v":0}]
["休養日数",null,null,{"$f":"'４実績'!D52","v":30},null,{"$f":"'５実績'!F52","v":31},null,{"$f":"'6実績'!H52","v":30},null,{"$f":"'7実績'!J52","v":31},null,{"$f":"'8実績'!L52:M52","v":31},null,{"$f":"'9実績'!N52:O52","v":30},null,{"$f":"'10実績'!P52:Q52","v":31},null,{"$f":"'11実績'!R52:S52","v":30},null,{"$f":"'12実績'!T52:U52","v":31},null,{"$f":"'1実績'!V52:W52","v":31},null,{"$f":"COUNTIF(S16:U43,\"0:00\")","v":28},null,null,null,{"$f":"SUM(D52:AA52)","v":334},null,null,null,null,"休養日数",null,null,null,null,null,null,null,null,null,null,null,null,null,null,null,null,null,null,null,null,null,null,null,null,null,null,null,null,null,null,null,null,null,null,null,null,null,null,null,null,null,null,{"$f":"'４実績'!D52","v":30},null,{"$f":"'５実績'!F52","v":31},null,{"$f":"'6実績'!H52","v":30},null,{"$f":"'7実績'!J52","v":31},null,{"$f":"'8実績'!L52","v":31},null,{"$f":"'9実績'!N52","v":30},null,{"$f":"'10実績'!P52","v":31},null,{"$f":"'11実績'!R52","v":30},null,{"$f":"'12実績'!T52","v":31},null,{"$f":"'1実績'!V52","v":31},null,{"$f":"COUNTIF(CM16:CO43,\"0:00\")","v":28},null,null,null,{"$f":"SUM(BX52:CU52)","v":334}]
[null,null,null,null,null,null,null,null,null,null,null,null,null,null,null,null,null,null,null,null,null,null,null,null,null,null,null,{"$f":"AB50/AB51","v":{"$error":"#DIV/0!"}},null,null,null,null,"平均時間/日",null,null,null,null,null,null,null,null,null,null,null,null,null,null,null,null,null,null,null,null,null,null,null,null,null,null,null,null,null,null,null,null,null,null,null,null,null,null,null,null,null,null,null,null,null,null,null,null,null,null,null,null,null,null,null,null,null,null,null,null,null,null,null,null,null,null,{"$f":"CV50/CV51","v":{"$error":"#DIV/0!"}}]

{"sheet":"3実績","index":24,"n_rows":53,"n_cols":112,"rows_kept":53,"cut":false,"hidden":false,"merged":[[41,42,41,45],[42,42,42,45],[43,42,43,45],[44,42,44,45],[45,42,45,45],[32,42,32,45],[33,42,33,45],[34,42,34,45],[35,42,35,45],[36,42,36,45],[37,42,37,45],[38,42,38,45],[39,42,39,45],[40,42,40,45],[23,42,23,45],[24,42,24,45],[25,42,25,45],[26,42,26,45],[27,42,27,45],[28,42,28,45],[29,42,29,45],[30,42,30,45],[31,42,31,45],[14,42,14,45],[15,42,15,45],[16,42,16,45],[17,42,17,45],[18,42,18,45],[19,42,19,45],[20,42,20,45],[21,42,21,45],[22,42,22,45],[0,0,0,3],[1,0,1,3],[1,4,1,7],[1,8,1,11],[1,12,1,15],[1,16,1,19],[1,20,1,23],[1,25,2,27],[1,28,2,37],[1,38,2,40],[2,0,4,3],[2,4,4,7],[2,8,4,11],[2,12,4,15],[2,16,4,19],[2,20,4,23],[3,25,4,27],[3,28,4,37],[3,38,4,40],[6,0,7,4],[6,5,7,7],[6,8,7,22],[6,24,7,26],[6,27,6,28],[6,29,6,30],[6,31,6,32],[6,33,6,34],[6,35,6,36],[9,23,10,27],[9,28,10,29],[9,30,10,38],[6,37,6,38],[6,39,6,40],[7,27,7,28],[7,29,7,30],[7,31,7,32],[7,33,7,34],[7,35,7,36],[7,37,7,38],[7,39,7,40],[11,39,12,40],[14,0,14,1],[14,2,14,3],[14,4,14,10],[14,11,14,17],[14,18,14,20],[14,21,14,32],[14,33,14,40],[9,39,10,40],[11,1,12,2],[11,3,12,7],[11,8,12,9],[11,10,12,18],[11,19,12,20],[11,21,12,22],[11,23,12,27],[11,28,12,29],[11,30,12,38],[9,1,10,2],[9,3,10,7],[9,8,10,9],[9,10,10,18],[9,19,10,20],[9,21,10,22],[15,18,15,20],[15,21,15,26],[15,27,15,32],[15,33,15,40],[16,0,16,1],[16,2,16,3],[16,4,16,6],[16,8,16,10],[16,11,16,13],[16,15,16,17],[15,0,15,1],[15,2,15,3],[15,4,15,6],[15,8,15,10],[15,11,15,13],[15,15,15,17],[16,18,16,20],[16,21,16,26],[16,27,16,32],[16,33,16,40],[17,33,17,40],[18,0,18,1],[18,2,18,3],[18,4,18,6],[18,8,18,10],[18,11,18,13],[18,15,18,17],[18,18,18,20],[18,21,18,26],[18,27,18,32],[18,33,18,40],[17,0,17,1],[17,2,17,3],[17,4,17,6],[17,8,17,10],[17,11,17,13],[17,15,17,17],[17,18,17,20],[17,21,17,26],[17,27,17,32],[19,33,19,40],[20,0,20,1],[20,2,20,3],[20,4,20,6],[20,8,20,10],[20,11,20,13],[20,15,20,17],[20,18,20,20],[20,21,20,26],[20,27,20,32],[20,33,20,40],[19,0,19,1],[19,2,19,3],[19,4,19,6],[19,8,19,10],[19,11,19,13],[19,15,19,17],[19,18,19,20],[19,21,19,26],[19,27,19,32],[21,33,21,40],[22,0,22,1],[22,2,22,3],[22,4,22,6],[22,8,22,10],[22,11,22,13],[22,15,22,17],[22,18,22,20],[22,21,22,26],[22,27,22,32],[22,33,22,40],[21,0,21,1],[21,2,21,3],[21,4,21,6],[21,8,21,10],[21,11,21,13],[21,15,21,17],[21,18,21,20],[21,21,21,26],[21,27,21,32],[23,33,23,40],[24,0,24,1],[24,2,24,3],[24,4,24,6],[24,8,24,10],[24,11,24,13],[24,15,24,17],[24,18,24,20],[24,21,24,26],[24,27,24,32],[24,33,24,40],[23,0,23,1],[23,2,23,3],[23,4,23,6],[23,8,23,10],[23,11,23,13],[23,15,23,17],[23,18,23,20],[23,21,23,26],[23,27,23,32],[25,33,25,40],[26,0,26,1],[26,2,26,3],[26,4,26,6],[26,8,26,10],[26,11,26,13],[26,15,26,17],[26,18,26,20],[26,21,26,26],[26,27,26,32],[26,33,26,40],[25,0,25,1],[25,2,25,3],[25,4,25,6],[25,8,25,10],[25,11,25,13],[25,15,25,17],[25,18,25,20],[25,21,25,26],[25,27,25,32],[27,33,27,40],[28,0,28,1],[28,2,28,3],[28,4,28,6],[28,8,28,10],[28,11,28,13],[28,15,28,17],[28,18,28,20],[28,21,28,26],[28,27,28,32],[28,33,28,40],[27,0,27,1],[27,2,27,3],[27,4,27,6],[27,8,27,10],[27,11,27,13],[27,15,27,17],[27,18,27,20],[27,21,27,26],[27,27,27,32],[29,33,29,40],[30,0,30,1],[30,2,30,3],[30,4,30,6],[30,8,30,10],[30,11,30,13],[30,15,30,17],[30,18,30,20],[30,21,30,26],[30,27,30,32],[30,33,30,40],[29,0,29,1],[29,2,29,3],[29,4,29,6],[29,8,29,10],[29,11,29,13],[29,15,29,17],[29,18,29,20],[29,21,29,26],[29,27,29,32],[31,33,31,40],[32,0,32,1],[32,2,32,3],[32,4,32,6],[32,8,32,10],[32,11,32,13],[32,15,32,17],[32,18,32,20],[32,21,32,26],[32,27,32,32],[32,33,32,40],[31,0,31,1],[31,2,31,3],[31,4,31,6],[31,8,31,10],[31,11,31,13],[31,15,31,17],[31,18,31,20],[31,21,31,26],[31,27,31,32],[33,33,33,40],[34,0,34,1],[34,2,34,3],[34,4,34,6],[34,8,34,10],[34,11,34,13],[34,15,34,17],[34,18,34,20],[34,21,34,26],[34,27,34,32],[34,33,34,40],[33,0,33,1],[33,2,33,3],[33,4,33,6],[33,8,33,10],[33,11,33,13],[33,15,33,17],[33,18,33,20],[33,21,33,26],[33,27,33,32],[36,33,36,40],[35,0,35,1],[35,2,35,3],[35,4,35,6],[35,8,35,10],[35,11,35,13],[35,15,35,17],[35,18,35,20],[35,21,35,26],[35,27,35,32],[36,0,36,1],[36,2,36,3],[36,4,36,6],[36,8,36,10],[36,11,36,13],[36,15,36,17],[36,18,36,20],[36,21,36,26],[36,27,36,32],[37,0,37,1],[37,2,37,3],[37,4,37,6],[37,8,37,10],[37,11,37,13],[37,15,37,17],[37,18,37,20],[37,21,37,26],[37,27,37,32],[38,0,38,1],[38,2,38,3],[38,4,38,6],[38,8,38,10],[38,11,38,13],[38,15,38,17],[38,18,38,20],[38,21,38,26],[38,27,38,32],[39,0,39,1],[39,2,39,3],[39,4,39,6],[39,8,39,10],[39,11,39,13],[39,15,39,17],[39,18,39,20],[39,21,39,26],[39,27,39,32],[40,0,40,1],[40,2,40,3],[40,4,40,6],[40,8,40,10],[40,11,40,13],[40,15,40,17],[40,18,40,20],[40,21,40,26],[40,27,40,32],[45,0,45,1],[45,2,45,3],[41,33,41,40],[42,0,42,1],[42,2,42,3],[42,4,42,6],[42,8,42,10],[42,11,42,13],[42,15,42,17],[42,18,42,20],[42,21,42,26],[42,27,42,32],[42,33,42,40],[41,0,41,1],[41,2,41,3],[41,4,41,6],[41,8,41,10],[41,11,41,13],[41,15,41,17],[41,18,41,20],[41,21,41,26],[41,27,41,32],[43,0,43,1],[43,2,43,3],[43,4,43,6],[43,8,43,10],[43,11,43,13],[43,15,43,17],[43,18,43,20],[43,21,43,26],[43,27,43,32],[44,0,44,1],[44,2,44,3],[44,4,44,6],[44,8,44,10],[44,11,44,13],[44,15,44,17],[44,18,44,20],[44,21,44,26],[44,27,44,32],[48,0,48,2],[48,3,48,4],[48,5,48,6],[48,7,48,8],[48,9,48,10],[49,5,49,6],[49,7,49,8],[49,9,49,10],[49,11,49,12],[48,11,48,12],[45,4,45,6],[45,8,45,10],[45,11,45,13],[45,15,45,17],[45,18,45,20],[45,21,45,26],[50,17,50,18],[50,19,50,20],[50,21,50,22],[50,23,50,24],[50,25,50,26],[46,18,46,20],[49,13,49,14],[48,13,48,14],[48,15,48,16],[48,17,48,18],[49,17,49,18],[49,19,49,20],[49,21,49,22],[49,23,49,24],[48,23,48,24],[48,25,48,26],[50,0,50,2],[50,3,50,4],[50,5,50,6],[50,7,50,8],[50,9,50,10],[50,11,50,12],[50,13,50,14],[50,15,50,16],[49,15,49,16],[49,0,49,2],[49,3,49,4],[51,0,51,2],[51,3,51,4],[51,5,51,6],[51,7,51,8],[51,9,51,10],[51,11,51,12],[51,13,51,14],[51,15,51,16],[51,17,51,18],[52,27,52,31],[52,32,52,34],[51,19,51,20],[51,21,51,22],[51,23,51,24],[51,25,51,26],[51,27,51,31],[51,32,51,34],[50,32,50,34],[48,27,48,31],[48,19,48,20],[48,21,48,22],[50,27,50,31],[49,27,49,31],[49,32,49,34],[49,25,49,26],[0,72,0,75],[1,72,1,75],[6,72,7,76],[11,73,12,74],[11,75,12,79],[14,72,14,73],[14,74,14,75],[14,76,14,82],[45,27,45,32],[43,33,43,40],[44,33,44,40],[45,33,45,40],[39,33,39,40],[40,33,40,40],[37,33,37,40],[38,33,38,40],[35,33,35,40],[1,76,1,79],[1,80,1,83],[1,84,1,87],[1,88,1,91],[1,92,1,95],[1,97,2,99],[1,100,2,109],[1,110,2,112],[2,72,4,75],[2,76,4,79],[2,80,4,83],[2,84,4,87],[2,88,4,91],[2,92,4,95],[3,97,4,99],[3,100,4,109],[3,110,4,112],[6,77,7,79],[6,80,7,94],[6,96,7,98],[6,99,6,100],[6,101,6,102],[6,103,6,104],[6,105,6,106],[6,107,6,108],[6,109,6,110],[6,111,6,112],[7,99,7,100],[7,101,7,102],[7,103,7,104],[7,105,7,106],[7,107,7,108],[7,109,7,110],[7,111,7,112],[9,111,10,112],[11,80,12,81],[11,82,12,90],[11,91,12,92],[11,93,12,94],[11,95,12,99],[11,100,12,101],[11,102,12,110],[11,111,12,112],[9,73,10,74],[9,75,10,79],[9,80,10,81],[9,82,10,90],[9,91,10,92],[9,93,10,94],[9,95,10,99],[9,100,10,101],[9,102,10,110],[14,83,14,89],[14,90,14,92],[14,93,14,104],[14,105,14,112],[15,72,15,73],[15,74,15,75],[15,76,15,78],[15,80,15,82],[15,83,15,85],[15,87,15,89],[15,90,15,92],[15,93,15,98],[15,99,15,104],[15,105,15,112],[16,105,16,112],[17,72,17,73],[17,74,17,75],[17,76,17,78],[17,80,17,82],[17,83,17,85],[17,87,17,89],[17,90,17,92],[17,93,17,98],[17,99,17,104],[17,105,17,112],[16,72,16,73],[16,74,16,75],[16,76,16,78],[16,80,16,82],[16,83,16,85],[16,87,16,89],[16,90,16,92],[16,93,16,98],[16,99,16,104],[18,105,18,112],[19,72,19,73],[19,74,19,75],[19,76,19,78],[19,80,19,82],[19,83,19,85],[19,87,19,89],[19,90,19,92],[19,93,19,98],[19,99,19,104],[19,105,19,112],[18,72,18,73],[18,74,18,75],[18,76,18,78],[18,80,18,82],[18,83,18,85],[18,87,18,89],[18,90,18,92],[18,93,18,98],[18,99,18,104],[20,105,20,112],[21,72,21,73],[21,74,21,75],[21,76,21,78],[21,80,21,82],[21,83,21,85],[21,87,21,89],[21,90,21,92],[21,93,21,98],[21,99,21,104],[21,105,21,112],[20,72,20,73],[20,74,20,75],[20,76,20,78],[20,80,20,82],[20,83,20,85],[20,87,20,89],[20,90,20,92],[20,93,20,98],[20,99,20,104],[22,105,22,112],[23,72,23,73],[23,74,23,75],[23,76,23,78],[23,80,23,82],[23,83,23,85],[23,87,23,89],[23,90,23,92],[23,93,23,98],[23,99,23,104],[23,105,23,112],[22,72,22,73],[22,74,22,75],[22,76,22,78],[22,80,22,82],[22,83,22,85],[22,87,22,89],[22,90,22,92],[22,93,22,98],[22,99,22,104],[24,105,24,112],[25,72,25,73],[25,74,25,75],[25,76,25,78],[25,80,25,82],[25,83,25,85],[25,87,25,89],[25,90,25,92],[25,93,25,98],[25,99,25,104],[25,105,25,112],[24,72,24,73],[24,74,24,75],[24,76,24,78],[24,80,24,82],[24,83,24,85],[24,87,24,89],[24,90,24,92],[24,93,24,98],[24,99,24,104],[26,105,26,112],[27,72,27,73],[27,74,27,75],[27,76,27,78],[27,80,27,82],[27,83,27,85],[27,87,27,89],[27,90,27,92],[27,93,27,98],[27,99,27,104],[27,105,27,112],[26,72,26,73],[26,74,26,75],[26,76,26,78],[26,80,26,82],[26,83,26,85],[26,87,26,89],[26,90,26,92],[26,93,26,98],[26,99,26,104],[28,105,28,112],[29,72,29,73],[29,74,29,75],[29,76,29,78],[29,80,29,82],[29,83,29,85],[29,87,29,89],[29,90,29,92],[29,93,29,98],[29,99,29,104],[29,105,29,112],[28,72,28,73],[28,74,28,75],[28,76,28,78],[28,80,28,82],[28,83,28,85],[28,87,28,89],[28,90,28,92],[28,93,28,98],[28,99,28,104],[30,105,30,112],[31,72,31,73],[31,74,31,75],[31,76,31,78],[31,80,31,82],[31,83,31,85],[31,87,31,89],[31,90,31,92],[31,93,31,98],[31,99,31,104],[31,105,31,112],[30,72,30,73],[30,74,30,75],[30,76,30,78],[30,80,30,82],[30,83,30,85],[30,87,30,89],[30,90,30,92],[30,93,30,98],[30,99,30,104],[32,105,32,112],[33,72,33,73],[33,74,33,75],[33,76,33,78],[33,80,33,82],[33,83,33,85],[33,87,33,89],[33,90,33,92],[33,93,33,98],[33,99,33,104],[33,105,33,112],[32,72,32,73],[32,74,32,75],[32,76,32,78],[32,80,32,82],[32,83,32,85],[32,87,32,89],[32,90,32,92],[32,93,32,98],[32,99,32,104],[34,105,34,112],[35,72,35,73],[35,74,35,75],[35,76,35,78],[35,80,35,82],[35,83,35,85],[35,87,35,89],[35,90,35,92],[35,93,35,98],[35,99,35,104],[35,105,35,112],[34,72,34,73],[34,74,34,75],[34,76,34,78],[34,80,34,82],[34,83,34,85],[34,87,34,89],[34,90,34,92],[34,93,34,98],[34,99,34,104],[36,105,36,112],[37,72,37,73],[37,74,37,75],[37,76,37,78],[37,80,37,82],[37,83,37,85],[37,87,37,89],[37,90,37,92],[37,93,37,98],[37,99,37,104],[37,105,37,112],[36,72,36,73],[36,74,36,75],[36,76,36,78],[36,80,36,82],[36,83,36,85],[36,87,36,89],[36,90,36,92],[36,93,36,98],[36,99,36,104],[38,105,38,112],[39,72,39,73],[39,74,39,75],[39,76,39,78],[39,80,39,82],[39,83,39,85],[39,87,39,89],[39,90,39,92],[39,93,39,98],[39,99,39,104],[39,105,39,112],[38,72,38,73],[38,74,38,75],[38,76,38,78],[38,80,38,82],[38,83,38,85],[38,87,38,89],[38,90,38,92],[38,93,38,98],[38,99,38,104],[40,105,40,112],[41,72,41,73],[41,74,41,75],[41,76,41,78],[41,80,41,82],[41,83,41,85],[41,87,41,89],[41,90,41,92],[41,93,41,98],[41,99,41,104],[41,105,41,112],[40,72,40,73],[40,74,40,75],[40,76,40,78],[40,80,40,82],[40,83,40,85],[40,87,40,89],[40,90,40,92],[40,93,40,98],[40,99,40,104],[42,105,42,112],[43,72,43,73],[43,74,43,75],[43,76,43,78],[43,80,43,82],[43,83,43,85],[43,87,43,89],[43,90,43,92],[43,93,43,98],[43,99,43,104],[43,105,43,112],[42,72,42,73],[42,74,42,75],[42,76,42,78],[42,80,42,82],[42,83,42,85],[42,87,42,89],[42,90,42,92],[42,93,42,98],[42,99,42,104],[44,105,44,112],[45,72,45,73],[45,74,45,75],[45,76,45,78],[45,80,45,82],[45,83,45,85],[45,87,45,89],[45,90,45,92],[45,93,45,98],[45,99,45,104],[45,105,45,112],[44,72,44,73],[44,74,44,75],[44,76,44,78],[44,80,44,82],[44,83,44,85],[44,87,44,89],[44,90,44,92],[44,93,44,98],[44,99,44,104],[48,79,48,80],[48,81,48,82],[48,83,48,84],[48,85,48,86],[48,87,48,88],[48,89,48,90],[49,72,49,74],[49,75,49,76],[49,77,49,78],[46,104,48,108],[46,109,46,112],[47,109,48,112],[48,91,48,92],[48,93,48,94],[48,95,48,96],[48,97,48,98],[48,99,48,103],[49,91,49,92],[49,93,49,94],[49,95,49,96],[49,97,49,98],[49,99,49,103],[49,104,49,106],[50,72,50,74],[50,75,50,76],[50,77,50,78],[50,79,50,80],[50,81,50,82],[50,83,50,84],[5,0,5,22],[51,91,51,92],[51,93,51,94],[50,91,50,92],[50,93,50,94],[50,85,50,86],[50,87,50,88],[50,89,50,90],[49,79,49,80],[49,81,49,82],[49,83,49,84],[49,85,49,86],[49,87,49,88],[49,89,49,90],[46,90,46,92],[48,72,48,74],[48,75,48,76],[48,77,48,78],[51,72,51,74],[51,75,51,76],[51,77,51,78],[51,79,51,80],[51,81,51,82],[51,83,51,84],[51,85,51,86],[51,87,51,88],[51,89,51,90],[50,95,50,96],[50,97,50,98],[50,99,50,103],[50,104,50,106],[51,95,51,96],[51,97,51,98],[51,99,51,103],[51,104,51,106],[52,99,52,103],[52,104,52,106]]}
[]
[{"$f":"'3計画'!A2:D2","v":"校長"},null,null,null,{"$f":"'3計画'!E2:H2","v":"教頭"},null,null,null,{"$f":"'3計画'!I2:L2","v":"教頭"},null,null,null,{"$f":"'3計画'!M2:P2","v":"主幹教諭"},null,null,null,{"$f":"'3計画'!Q2:T2","v":0},null,null,null,{"$f":"'3計画'!U2:X2","v":"顧問"},null,null,null,null,"学校名",null,null,{"$f":"'3計画'!AC2:AL3","v":0},null,null,null,null,null,null,null,null,null,"学校",null,null,null,null,null,null,null,null,null,null,null,null,null,null,null,null,null,null,null,null,null,null,null,null,null,null,null,null,null,null,null,null,null,{"$f":"'3計画'!BU2:BX2","v":0},null,null,null,{"$f":"'3計画'!BY2:CB2","v":0},null,null,null,{"$f":"'3計画'!CC2:CF2","v":0},null,null,null,{"$f":"'3計画'!CG2:CJ2","v":0},null,null,null,{"$f":"'3計画'!CK2:CN2","v":0},null,null,null,{"$f":"'3計画'!CO2:CR2","v":0},null,null,null,null,null,null,null,{"$f":"'3計画'!CW2:DF3","v":0}]
["印",null,null,null,"印",null,null,null,"印",null,null,null,"印",null,null,null,"印",null,null,null,"印"]
[null,null,null,null,null,null,null,null,null,null,null,null,null,null,null,null,null,null,null,null,null,null,null,null,null,"部活動名",null,null,{"$f":"'3計画'!AC4:AL5","v":0},null,null,null,null,null,null,null,null,null,"部",null,null,null,null,null,null,null,null,null,null,null,null,null,null,null,null,null,null,null,null,null,null,null,null,null,null,null,null,null,null,null,null,null,null,null,null,null,null,null,null,null,null,null,null,null,null,null,null,null,null,null,null,null,null,null,null,null,null,null,null,null,{"$f":"'3計画'!CW4:DF5","v":0}]
[]
["　※活動計画と違う内容については、校長口頭命令済み"]
[3,null,null,null,null,"月",null,null,"〈月間〉部活動計画・活動実績",null,null,null,null,null,null,null,null,null,null,null,null,null,null,null,"部員数",null,null,"1女",null,"2女",null,"3女",null,"1男",null,"2男",null,"3男",null,"計"]
[null,null,null,null,null,null,null,null,null,null,null,null,null,null,null,null,null,null,null,null,null,null,null,null,null,null,null,{"$f":"'3計画'!AB8:AC8","v":0},null,{"$f":"'3計画'!AD8:AE8","v":0},null,{"$f":"'3計画'!AF8:AG8","v":0},null,{"$f":"'3計画'!AH8:AI8","v":0},null,{"$f":"'3計画'!AJ8:AK8","v":0},null,{"$f":"'3計画'!AL8:AM8","v":0},null,{"$f":"SUM(AB8:AM8)","v":0},null,null,null,null,null,null,null,null,null,null,null,null,null,null,null,null,null,null,null,null,null,null,null,null,null,null,null,null,null,null,null,null,null,null,null,null,null,null,null,null,null,null,null,null,null,null,null,null,null,null,null,null,null,null,null,null,null,null,null,{"$f":"'3計画'!AB8","v":0},null,{"$f":"'3計画'!AD8","v":0},null,{"$f":"'3計画'!AF8","v":0},null,{"$f":"'3計画'!AH8","v":0},null,{"$f":"'3計画'!AJ8","v":0},null,{"$f":"'3計画'!AL8","v":0},null,{"$f":"SUM(CV8:DG8)","v":0}]
[]
[null,"職名",null,{"$f":"'3計画'!D10:H11","v":0},null,null,null,null,"顧問",null,{"$f":"'3計画'!K10:S11","v":0},null,null,null,null,null,null,null,null,null,null,"職名",null,{"$f":"'3計画'!X10:AB11","v":0},null,null,null,null,"副２",null,{"$f":"'3計画'!AE10:AM11","v":0},null,null,null,null,null,null,null,null,null,null,null,null,null,null,null,null,null,null,null,null,null,null,null,null,null,null,null,null,null,null,null,null,null,null,null,null,null,null,null,null,null,null,null,null,{"$f":"'3計画'!D10","v":0},null,null,null,null,null,null,{"$f":"'3計画'!K10","v":0},null,null,null,null,null,null,null,null,null,null,null,null,{"$f":"'3計画'!X10","v":0},null,null,null,null,null,null,{"$f":"'3計画'!AE10","v":0}]
[]
[null,"職名",null,{"$f":"'3計画'!D12:H13","v":0},null,null,null,null,"副顧問",null,{"$f":"'3計画'!K12:S13","v":0},null,null,null,null,null,null,null,null,null,null,"職名",null,{"$f":"'3計画'!X12:AB13","v":0},null,null,null,null,"副３",null,{"$f":"'3計画'!AE12:AM13","v":0},null,null,null,null,null,null,null,null,null,null,null,null,null,null,null,null,null,null,null,null,null,null,null,null,null,null,null,null,null,null,null,null,null,null,null,null,null,null,null,null,null,null,null,null,{"$f":"'3計画'!D12","v":0},null,null,null,null,null,null,{"$f":"'3計画'!K12","v":0},null,null,null,null,null,null,null,null,null,null,null,null,{"$f":"'3計画'!X12","v":0},null,null,null,null,null,null,{"$f":"'3計画'!AE12","v":0}]
[]
[]
["日",null,"曜",null,"ＡＭ",null,null,null,null,null,null,"ＰＭ",null,null,null,null,null,null,"時間",null,null,"内容（練習・大会・OFF等）",null,null,null,null,null,null,null,null,null,null,null,"場所",null,null,null,null,null,null,null,false,"特殊業務"]
[1,null,{"$f":"'3計画'!C16:D16","v":"月"},null,{"$f":"'3計画'!E16:G16","v":"00:00:00"},null,null,"～",{"$f":"'3計画'!I16:K16","v":"00:00:00"},null,null,{"$f":"'3計画'!L16:N16","v":"00:00:00"},null,null,"～",{"$f":"'3計画'!P16:R16","v":"00:00:00"},null,null,{"$f":"(I16-E16)+(P16-L16)","v":"00:00:00"},null,null,{"$f":"'3計画'!V16:AA16","v":0},null,null,null,null,null,{"$f":"'3計画'!AB16:AG16","v":0},null,null,null,null,null,{"$f":"'3計画'!AH16:AO16","v":0},null,null,null,null,null,null,null,false,null,null,null,null,null,null,null,null,null,null,null,null,null,null,null,null,null,null,null,null,{"$f":"RIGHT(V16,2)","v":"0"},null,null,null,null,null,null,null,null,null,null,null,{"$f":"'3計画'!C16","v":"月"},null,{"$f":"'3計画'!E16","v":"00:00:00"},null,null,"～",{"$f":"'3計画'!I16","v":"00:00:00"},null,null,{"$f":"'3計画'!L16","v":"00:00:00"},null,null,"～",{"$f":"'3計画'!P16","v":"00:00:00"},null,null,{"$f":"(CC16-BY16)+(CJ16-CF16)","v":"00:00:00"},null,null,{"$f":"'3計画'!V16","v":0},null,null,null,null,null,{"$f":"'3計画'!AB16","v":0},null,null,null,null,null,{"$f":"'3計画'!AH16","v":0}]
[2,null,{"$f":"'3計画'!C17:D17","v":"火"},null,{"$f":"'3計画'!E17:G17","v":"00:00:00"},null,null,"～",{"$f":"'3計画'!I17:K17","v":"00:00:00"},null,null,{"$f":"'3計画'!L17:N17","v":"00:00:00"},null,null,"～",{"$f":"'3計画'!P17:R17","v":"00:00:00"},null,null,"00:00:00",null,null,{"$f":"'3計画'!V17:AA17","v":0},null,null,null,null,null,{"$f":"'3計画'!AB17:AG17","v":0},null,null,null,null,null,{"$f":"'3計画'!AH17:AO17","v":0},null,null,null,null,null,null,null,false,null,null,null,null,null,null,null,null,null,null,null,null,null,null,null,null,null,null,null,null,{"$f":"RIGHT(V17,2)","v":"0"},null,null,null,null,null,null,null,null,null,null,null,{"$f":"'3計画'!C17","v":"火"},null,{"$f":"'3計画'!E17","v":"00:00:00"},null,null,"～",{"$f":"'3計画'!I17","v":"00:00:00"},null,null,{"$f":"'3計画'!L17","v":"00:00:00"},null,null,"～",{"$f":"'3計画'!P17","v":"00:00:00"},null,null,"00:00:00",null,null,{"$f":"'3計画'!V17","v":0},null,null,null,null,null,{"$f":"'3計画'!AB17","v":0},null,null,null,null,null,{"$f":"'3計画'!AH17","v":0}]
[3,null,{"$f":"'3計画'!C18:D18","v":"水"},null,{"$f":"'3計画'!E18:G18","v":"00:00:00"},null,null,"～",{"$f":"'3計画'!I18:K18","v":"00:00:00"},null,null,{"$f":"'3計画'!L18:N18","v":"00:00:00"},null,null,"～",{"$f":"'3計画'!P18:R18","v":"00:00:00"},null,null,"00:00:00",null,null,{"$f":"'3計画'!V18:AA18","v":0},null,null,null,null,null,{"$f":"'3計画'!AB18:AG18","v":0},null,null,null,null,null,{"$f":"'3計画'!AH18:AO18","v":0},null,null,null,null,null,null,null,false,null,null,null,null,null,null,null,null,null,null,null,null,null,null,null,null,null,null,null,null,"0",null,null,null,null,null,null,null,null,null,null,null,{"$f":"'3計画'!C18","v":"水"},null,{"$f":"'3計画'!E18","v":"00:00:00"},null,null,"～",{"$f":"'3計画'!I18","v":"00:00:00"},null,null,{"$f":"'3計画'!L18","v":"00:00:00"},null,null,"～",{"$f":"'3計画'!P18","v":"00:00:00"},null,null,"00:00:00",null,null,{"$f":"'3計画'!V18","v":0},null,null,null,null,null,{"$f":"'3計画'!AB18","v":0},null,null,null,null,null,{"$f":"'3計画'!AH18","v":0}]
[4,null,{"$f":"'3計画'!C19:D19","v":"木"},null,{"$f":"'3計画'!E19:G19","v":"00:00:00"},null,null,"～",{"$f":"'3計画'!I19:K19","v":"00:00:00"},null,null,{"$f":"'3計画'!L19:N19","v":"00:00:00"},null,null,"～",{"$f":"'3計画'!P19:R19","v":"00:00:00"},null,null,"00:00:00",null,null,{"$f":"'3計画'!V19:AA19","v":0},null,null,null,null,null,{"$f":"'3計画'!AB19:AG19","v":0},null,null,null,null,null,{"$f":"'3計画'!AH19:AO19","v":0},null,null,null,null,null,null,null,false,null,null,null,null,null,null,null,null,null,null,null,null,null,null,null,null,null,null,null,null,"0",null,null,null,null,null,null,null,null,null,null,null,{"$f":"'3計画'!C19","v":"木"},null,{"$f":"'3計画'!E19","v":"00:00:00"},null,null,"～",{"$f":"'3計画'!I19","v":"00:00:00"},null,null,{"$f":"'3計画'!L19","v":"00:00:00"},null,null,"～",{"$f":"'3計画'!P19","v":"00:00:00"},null,null,"00:00:00",null,null,{"$f":"'3計画'!V19","v":0},null,null,null,null,null,{"$f":"'3計画'!AB19","v":0},null,null,null,null,null,{"$f":"'3計画'!AH19","v":0}]
[5,null,{"$f":"'3計画'!C20:D20","v":"金"},null,{"$f":"'3計画'!E20:G20","v":"00:00:00"},null,null,"～",{"$f":"'3計画'!I20:K20","v":"00:00:00"},null,null,{"$f":"'3計画'!L20:N20","v":"00:00:00"},null,null,"～",{"$f":"'3計画'!P20:R20","v":"00:00:00"},null,null,"00:00:00",null,null,{"$f":"'3計画'!V20:AA20","v":0},null,null,null,null,null,{"$f":"'3計画'!AB20:AG20","v":0},null,null,null,null,null,{"$f":"'3計画'!AH20:AO20","v":0},null,null,null,null,null,null,null,false,null,null,null,null,null,null,null,null,null,null,null,null,null,null,null,null,null,null,null,null,"0",null,null,null,null,null,null,null,null,null,null,null,{"$f":"'3計画'!C20","v":"金"},null,{"$f":"'3計画'!E20","v":"00:00:00"},null,null,"～",{"$f":"'3計画'!I20","v":"00:00:00"},null,null,{"$f":"'3計画'!L20","v":"00:00:00"},null,null,"～",{"$f":"'3計画'!P20","v":"00:00:00"},null,null,"00:00:00",null,null,{"$f":"'3計画'!V20","v":0},null,null,null,null,null,{"$f":"'3計画'!AB20","v":0},null,null,null,null,null,{"$f":"'3計画'!AH20","v":0}]
[6,null,{"$f":"'3計画'!C21:D21","v":"土"},null,{"$f":"'3計画'!E21:G21","v":"00:00:00"},null,null,"～",{"$f":"'3計画'!I21:K21","v":"00:00:00"},null,null,{"$f":"'3計画'!L21:N21","v":"00:00:00"},null,null,"～",{"$f":"'3計画'!P21:R21","v":"00:00:00"},null,null,"00:00:00",null,null,{"$f":"'3計画'!V21:AA21","v":0},null,null,null,null,null,{"$f":"'3計画'!AB21:AG21","v":0},null,null,null,null,null,{"$f":"'3計画'!AH21:AO21","v":0},null,null,null,null,null,null,null,false,null,null,null,null,null,null,null,null,null,null,null,null,null,null,null,null,null,null,null,null,"0",null,null,null,null,null,null,null,null,null,null,null,{"$f":"'3計画'!C21","v":"土"},null,{"$f":"'3計画'!E21","v":"00:00:00"},null,null,"～",{"$f":"'3計画'!I21","v":"00:00:00"},null,null,{"$f":"'3計画'!L21","v":"00:00:00"},null,null,"～",{"$f":"'3計画'!P21","v":"00:00:00"},null,null,"00:00:00",null,null,{"$f":"'3計画'!V21","v":0},null,null,null,null,null,{"$f":"'3計画'!AB21","v":0},null,null,null,null,null,{"$f":"'3計画'!AH21","v":0}]
[7,null,{"$f":"'3計画'!C22:D22","v":"日"},null,{"$f":"'3計画'!E22:G22","v":"00:00:00"},null,null,"～",{"$f":"'3計画'!I22:K22","v":"00:00:00"},null,null,{"$f":"'3計画'!L22:N22","v":"00:00:00"},null,null,"～",{"$f":"'3計画'!P22:R22","v":"00:00:00"},null,null,"00:00:00",null,null,{"$f":"'3計画'!V22:AA22","v":0},null,null,null,null,null,{"$f":"'3計画'!AB22:AG22","v":0},null,null,null,null,null,{"$f":"'3計画'!AH22:AO22","v":0},null,null,null,null,null,null,null,false,null,null,null,null,null,null,null,null,null,null,null,null,null,null,null,null,null,null,null,null,"0",null,null,null,null,null,null,null,null,null,null,null,{"$f":"'3計画'!C22","v":"日"},null,{"$f":"'3計画'!E22","v":"00:00:00"},null,null,"～",{"$f":"'3計画'!I22","v":"00:00:00"},null,null,{"$f":"'3計画'!L22","v":"00:00:00"},null,null,"～",{"$f":"'3計画'!P22","v":"00:00:00"},null,null,"00:00:00",null,null,{"$f":"'3計画'!V22","v":0},null,null,null,null,null,{"$f":"'3計画'!AB22","v":0},null,null,null,null,null,{"$f":"'3計画'!AH22","v":0}]
[8,null,{"$f":"'3計画'!C23:D23","v":"月"},null,{"$f":"'3計画'!E23:G23","v":"00:00:00"},null,null,"～",{"$f":"'3計画'!I23:K23","v":"00:00:00"},null,null,{"$f":"'3計画'!L23:N23","v":"00:00:00"},null,null,"～",{"$f":"'3計画'!P23:R23","v":"00:00:00"},null,null,"00:00:00",null,null,{"$f":"'3計画'!V23:AA23","v":0},null,null,null,null,null,{"$f":"'3計画'!AB23:AG23","v":0},null,null,null,null,null,{"$f":"'3計画'!AH23:AO23","v":0},null,null,null,null,null,null,null,false,null,null,null,null,null,null,null,null,null,null,null,null,null,null,null,null,null,null,null,null,"0",null,null,null,null,null,null,null,null,null,null,null,{"$f":"'3計画'!C23","v":"月"},null,{"$f":"'3計画'!E23","v":"00:00:00"},null,null,"～",{"$f":"'3計画'!I23","v":"00:00:00"},null,null,{"$f":"'3計画'!L23","v":"00:00:00"},null,null,"～",{"$f":"'3計画'!P23","v":"00:00:00"},null,null,"00:00:00",null,null,{"$f":"'3計画'!V23","v":0},null,null,null,null,null,{"$f":"'3計画'!AB23","v":0},null,null,null,null,null,{"$f":"'3計画'!AH23","v":0}]
[9,null,{"$f":"'3計画'!C24:D24","v":"火"},null,{"$f":"'3計画'!E24:G24","v":"00:00:00"},null,null,"～",{"$f":"'3計画'!I24:K24","v":"00:00:00"},null,null,{"$f":"'3計画'!L24:N24","v":"00:00:00"},null,null,"～",{"$f":"'3計画'!P24:R24","v":"00:00:00"},null,null,"00:00:00",null,null,{"$f":"'3計画'!V24:AA24","v":0},null,null,null,null,null,{"$f":"'3計画'!AB24:AG24","v":0},null,null,null,null,null,{"$f":"'3計画'!AH24:AO24","v":0},null,null,null,null,null,null,null,false,null,null,null,null,null,null,null,null,null,null,null,null,null,null,null,null,null,null,null,null,"0",null,null,null,null,null,null,null,null,null,null,null,{"$f":"'3計画'!C24","v":"火"},null,{"$f":"'3計画'!E24","v":"00:00:00"},null,null,"～",{"$f":"'3計画'!I24","v":"00:00:00"},null,null,{"$f":"'3計画'!L24","v":"00:00:00"},null,null,"～",{"$f":"'3計画'!P24","v":"00:00:00"},null,null,"00:00:00",null,null,{"$f":"'3計画'!V24","v":0},null,null,null,null,null,{"$f":"'3計画'!AB24","v":0},null,null,null,null,null,{"$f":"'3計画'!AH24","v":0}]
[10,null,{"$f":"'3計画'!C25:D25","v":"水"},null,{"$f":"'3計画'!E25:G25","v":"00:00:00"},null,null,"～",{"$f":"'3計画'!I25:K25","v":"00:00:00"},null,null,{"$f":"'3計画'!L25:N25","v":"00:00:00"},null,null,"～",{"$f":"'3計画'!P25:R25","v":"00:00:00"},null,null,"00:00:00",null,null,{"$f":"'3計画'!V25:AA25","v":0},null,null,null,null,null,{"$f":"'3計画'!AB25:AG25","v":0},null,null,null,null,null,{"$f":"'3計画'!AH25:AO25","v":0},null,null,null,null,null,null,null,false,null,null,null,null,null,null,null,null,null,null,null,null,null,null,null,null,null,null,null,null,"0",null,null,null,null,null,null,null,null,null,null,null,{"$f":"'3計画'!C25","v":"水"},null,{"$f":"'3計画'!E25","v":"00:00:00"},null,null,"～",{"$f":"'3計画'!I25","v":"00:00:00"},null,null,{"$f":"'3計画'!L25","v":"00:00:00"},null,null,"～",{"$f":"'3計画'!P25","v":"00:00:00"},null,null,"00:00:00",null,null,{"$f":"'3計画'!V25","v":0},null,null,null,null,null,{"$f":"'3計画'!AB25","v":0},null,null,null,null,null,{"$f":"'3計画'!AH25","v":0}]
[11,null,{"$f":"'3計画'!C26:D26","v":"木"},null,{"$f":"'3計画'!E26:G26","v":"00:00:00"},null,null,"～",{"$f":"'3計画'!I26:K26","v":"00:00:00"},null,null,{"$f":"'3計画'!L26:N26","v":"00:00:00"},null,null,"～",{"$f":"'3計画'!P26:R26","v":"00:00:00"},null,null,"00:00:00",null,null,{"$f":"'3計画'!V26:AA26","v":0},null,null,null,null,null,{"$f":"'3計画'!AB26:AG26","v":0},null,null,null,null,null,{"$f":"'3計画'!AH26:AO26","v":0},null,null,null,null,null,null,null,false,null,null,null,null,null,null,null,null,null,null,null,null,null,null,null,null,null,null,null,null,"0",null,null,null,null,null,null,null,null,null,null,null,{"$f":"'3計画'!C26","v":"木"},null,{"$f":"'3計画'!E26","v":"00:00:00"},null,null,"～",{"$f":"'3計画'!I26","v":"00:00:00"},null,null,{"$f":"'3計画'!L26","v":"00:00:00"},null,null,"～",{"$f":"'3計画'!P26","v":"00:00:00"},null,null,"00:00:00",null,null,{"$f":"'3計画'!V26","v":0},null,null,null,null,null,{"$f":"'3計画'!AB26","v":0},null,null,null,null,null,{"$f":"'3計画'!AH26","v":0}]
[12,null,{"$f":"'3計画'!C27:D27","v":"金"},null,{"$f":"'3計画'!E27:G27","v":"00:00:00"},null,null,"～",{"$f":"'3計画'!I27:K27","v":"00:00:00"},null,null,{"$f":"'3計画'!L27:N27","v":"00:00:00"},null,null,"～",{"$f":"'3計画'!P27:R27","v":"00:00:00"},null,null,"00:00:00",null,null,{"$f":"'3計画'!V27:AA27","v":0},null,null,null,null,null,{"$f":"'3計画'!AB27:AG27","v":0},null,null,null,null,null,{"$f":"'3計画'!AH27:AO27","v":0},null,null,null,null,null,null,null,false,null,null,null,null,null,null,null,null,null,null,null,null,null,null,null,null,null,null,null,null,"0",null,null,null,null,null,null,null,null,null,null,null,{"$f":"'3計画'!C27","v":"金"},null,{"$f":"'3計画'!E27","v":"00:00:00"},null,null,"～",{"$f":"'3計画'!I27","v":"00:00:00"},null,null,{"$f":"'3計画'!L27","v":"00:00:00"},null,null,"～",{"$f":"'3計画'!P27","v":"00:00:00"},null,null,"00:00:00",null,null,{"$f":"'3計画'!V27","v":0},null,null,null,null,null,{"$f":"'3計画'!AB27","v":0},null,null,null,null,null,{"$f":"'3計画'!AH27","v":0}]
[13,null,{"$f":"'3計画'!C28:D28","v":"土"},null,{"$f":"'3計画'!E28:G28","v":"00:00:00"},null,null,"～",{"$f":"'3計画'!I28:K28","v":"00:00:00"},null,null,{"$f":"'3計画'!L28:N28","v":"00:00:00"},null,null,"～",{"$f":"'3計画'!P28:R28","v":"00:00:00"},null,null,"00:00:00",null,null,{"$f":"'3計画'!V28:AA28","v":0},null,null,null,null,null,{"$f":"'3計画'!AB28:AG28","v":0},null,null,null,null,null,{"$f":"'3計画'!AH28:AO28","v":0},null,null,null,null,null,null,null,false,null,null,null,null,null,null,null,null,null,null,null,null,null,null,null,null,null,null,null,null,"0",null,null,null,null,null,null,null,null,null,null,null,{"$f":"'3計画'!C28","v":"土"},null,{"$f":"'3計画'!E28","v":"00:00:00"},null,null,"～",{"$f":"'3計画'!I28","v":"00:00:00"},null,null,{"$f":"'3計画'!L28","v":"00:00:00"},null,null,"～",{"$f":"'3計画'!P28","v":"00:00:00"},null,null,"00:00:00",null,null,{"$f":"'3計画'!V28","v":0},null,null,null,null,null,{"$f":"'3計画'!AB28","v":0},null,null,null,null,null,{"$f":"'3計画'!AH28","v":0}]
[14,null,{"$f":"'3計画'!C29:D29","v":"日"},null,{"$f":"'3計画'!E29:G29","v":"00:00:00"},null,null,"～",{"$f":"'3計画'!I29:K29","v":"00:00:00"},null,null,{"$f":"'3計画'!L29:N29","v":"00:00:00"},null,null,"～",{"$f":"'3計画'!P29:R29","v":"00:00:00"},null,null,"00:00:00",null,null,{"$f":"'3計画'!V29:AA29","v":0},null,null,null,null,null,{"$f":"'3計画'!AB29:AG29","v":0},null,null,null,null,null,{"$f":"'3計画'!AH29:AO29","v":0},null,null,null,null,null,null,null,false,null,null,null,null,null,null,null,null,null,null,null,null,null,null,null,null,null,null,null,null,"0",null,null,null,null,null,null,null,null,null,null,null,{"$f":"'3計画'!C29","v":"日"},null,{"$f":"'3計画'!E29","v":"00:00:00"},null,null,"～",{"$f":"'3計画'!I29","v":"00:00:00"},null,null,{"$f":"'3計画'!L29","v":"00:00:00"},null,null,"～",{"$f":"'3計画'!P29","v":"00:00:00"},null,null,"00:00:00",null,null,{"$f":"'3計画'!V29","v":0},null,null,null,null,null,{"$f":"'3計画'!AB29","v":0},null,null,null,null,null,{"$f":"'3計画'!AH29","v":0}]
[15,null,{"$f":"'3計画'!C30:D30","v":"月"},null,{"$f":"'3計画'!E30:G30","v":"00:00:00"},null,null,"～",{"$f":"'3計画'!I30:K30","v":"00:00:00"},null,null,{"$f":"'3計画'!L30:N30","v":"00:00:00"},null,null,"～",{"$f":"'3計画'!P30:R30","v":"00:00:00"},null,null,"00:00:00",null,null,{"$f":"'3計画'!V30:AA30","v":0},null,null,null,null,null,{"$f":"'3計画'!AB30:AG30","v":0},null,null,null,null,null,{"$f":"'3計画'!AH30:AO30","v":0},null,null,null,null,null,null,null,false,null,null,null,null,null,null,null,null,null,null,null,null,null,null,null,null,null,null,null,null,"0",null,null,null,null,null,null,null,null,null,null,null,{"$f":"'3計画'!C30","v":"月"},null,{"$f":"'3計画'!E30","v":"00:00:00"},null,null,"～",{"$f":"'3計画'!I30","v":"00:00:00"},null,null,{"$f":"'3計画'!L30","v":"00:00:00"},null,null,"～",{"$f":"'3計画'!P30","v":"00:00:00"},null,null,"00:00:00",null,null,{"$f":"'3計画'!V30","v":0},null,null,null,null,null,{"$f":"'3計画'!AB30","v":0},null,null,null,null,null,{"$f":"'3計画'!AH30","v":0}]
[16,null,{"$f":"'3計画'!C31:D31","v":"火"},null,{"$f":"'3計画'!E31:G31","v":"00:00:00"},null,null,"～",{"$f":"'3計画'!I31:K31","v":"00:00:00"},null,null,{"$f":"'3計画'!L31:N31","v":"00:00:00"},null,null,"～",{"$f":"'3計画'!P31:R31","v":"00:00:00"},null,null,"00:00:00",null,null,{"$f":"'3計画'!V31:AA31","v":0},null,null,null,null,null,{"$f":"'3計画'!AB31:AG31","v":0},null,null,null,null,null,{"$f":"'3計画'!AH31:AO31","v":0},null,null,null,null,null,null,null,false,null,null,null,null,null,null,null,null,null,null,null,null,null,null,null,null,null,null,null,null,"0",null,null,null,null,null,null,null,null,null,null,null,{"$f":"'3計画'!C31","v":"火"},null,{"$f":"'3計画'!E31","v":"00:00:00"},null,null,"～",{"$f":"'3計画'!I31","v":"00:00:00"},null,null,{"$f":"'3計画'!L31","v":"00:00:00"},null,null,"～",{"$f":"'3計画'!P31","v":"00:00:00"},null,null,"00:00:00",null,null,{"$f":"'3計画'!V31","v":0},null,null,null,null,null,{"$f":"'3計画'!AB31","v":0},null,null,null,null,null,{"$f":"'3計画'!AH31","v":0}]
[17,null,{"$f":"'3計画'!C32:D32","v":"水"},null,{"$f":"'3計画'!E32:G32","v":"00:00:00"},null,null,"～",{"$f":"'3計画'!I32:K32","v":"00:00:00"},null,null,{"$f":"'3計画'!L32:N32","v":"00:00:00"},null,null,"～",{"$f":"'3計画'!P32:R32","v":"00:00:00"},null,null,"00:00:00",null,null,{"$f":"'3計画'!V32:AA32","v":0},null,null,null,null,null,{"$f":"'3計画'!AB32:AG32","v":0},null,null,null,null,null,{"$f":"'3計画'!AH32:AO32","v":0},null,null,null,null,null,null,null,false,null,null,null,null,null,null,null,null,null,null,null,null,null,null,null,null,null,null,null,null,"0",null,null,null,null,null,null,null,null,null,null,null,{"$f":"'3計画'!C32","v":"水"},null,{"$f":"'3計画'!E32","v":"00:00:00"},null,null,"～",{"$f":"'3計画'!I32","v":"00:00:00"},null,null,{"$f":"'3計画'!L32","v":"00:00:00"},null,null,"～",{"$f":"'3計画'!P32","v":"00:00:00"},null,null,"00:00:00",null,null,{"$f":"'3計画'!V32","v":0},null,null,null,null,null,{"$f":"'3計画'!AB32","v":0},null,null,null,null,null,{"$f":"'3計画'!AH32","v":0}]
[18,null,{"$f":"'3計画'!C33:D33","v":"木"},null,{"$f":"'3計画'!E33:G33","v":"00:00:00"},null,null,"～",{"$f":"'3計画'!I33:K33","v":"00:00:00"},null,null,{"$f":"'3計画'!L33:N33","v":"00:00:00"},null,null,"～",{"$f":"'3計画'!P33:R33","v":"00:00:00"},null,null,"00:00:00",null,null,{"$f":"'3計画'!V33:AA33","v":0},null,null,null,null,null,{"$f":"'3計画'!AB33:AG33","v":0},null,null,null,null,null,{"$f":"'3計画'!AH33:AO33","v":0},null,null,null,null,null,null,null,false,null,null,null,null,null,null,null,null,null,null,null,null,null,null,null,null,null,null,null,null,"0",null,null,null,null,null,null,null,null,null,null,null,{"$f":"'3計画'!C33","v":"木"},null,{"$f":"'3計画'!E33","v":"00:00:00"},null,null,"～",{"$f":"'3計画'!I33","v":"00:00:00"},null,null,{"$f":"'3計画'!L33","v":"00:00:00"},null,null,"～",{"$f":"'3計画'!P33","v":"00:00:00"},null,null,"00:00:00",null,null,{"$f":"'3計画'!V33","v":0},null,null,null,null,null,{"$f":"'3計画'!AB33","v":0},null,null,null,null,null,{"$f":"'3計画'!AH33","v":0}]
[19,null,{"$f":"'3計画'!C34:D34","v":"金"},null,{"$f":"'3計画'!E34:G34","v":"00:00:00"},null,null,"～",{"$f":"'3計画'!I34:K34","v":"00:00:00"},null,null,{"$f":"'3計画'!L34:N34","v":"00:00:00"},null,null,"～",{"$f":"'3計画'!P34:R34","v":"00:00:00"},null,null,"00:00:00",null,null,{"$f":"'3計画'!V34:AA34","v":0},null,null,null,null,null,{"$f":"'3計画'!AB34:AG34","v":0},null,null,null,null,null,{"$f":"'3計画'!AH34:AO34","v":0},null,null,null,null,null,null,null,false,null,null,null,null,null,null,null,null,null,null,null,null,null,null,null,null,null,null,null,null,"0",null,null,null,null,null,null,null,null,null,null,null,{"$f":"'3計画'!C34","v":"金"},null,{"$f":"'3計画'!E34","v":"00:00:00"},null,null,"～",{"$f":"'3計画'!I34","v":"00:00:00"},null,null,{"$f":"'3計画'!L34","v":"00:00:00"},null,null,"～",{"$f":"'3計画'!P34","v":"00:00:00"},null,null,"00:00:00",null,null,{"$f":"'3計画'!V34","v":0},null,null,null,null,null,{"$f":"'3計画'!AB34","v":0},null,null,null,null,null,{"$f":"'3計画'!AH34","v":0}]
[20,null,{"$f":"'3計画'!C35:D35","v":"土"},null,{"$f":"'3計画'!E35:G35","v":"00:00:00"},null,null,"～",{"$f":"'3計画'!I35:K35","v":"00:00:00"},null,null,{"$f":"'3計画'!L35:N35","v":"00:00:00"},null,null,"～",{"$f":"'3計画'!P35:R35","v":"00:00:00"},null,null,"00:00:00",null,null,{"$f":"'3計画'!V35:AA35","v":0},null,null,null,null,null,{"$f":"'3計画'!AB35:AG35","v":0},null,null,null,null,null,{"$f":"'3計画'!AH35:AO35","v":0},null,null,null,null,null,null,null,false,null,null,null,null,null,null,null,null,null,null,null,null,null,null,null,null,null,null,null,null,"0",null,null,null,null,null,null,null,null,null,null,null,{"$f":"'3計画'!C35","v":"土"},null,{"$f":"'3計画'!E35","v":"00:00:00"},null,null,"～",{"$f":"'3計画'!I35","v":"00:00:00"},null,null,{"$f":"'3計画'!L35","v":"00:00:00"},null,null,"～",{"$f":"'3計画'!P35","v":"00:00:00"},null,null,"00:00:00",null,null,{"$f":"'3計画'!V35","v":0},null,null,null,null,null,{"$f":"'3計画'!AB35","v":0},null,null,null,null,null,{"$f":"'3計画'!AH35","v":0}]
[21,null,{"$f":"'3計画'!C36:D36","v":"日"},null,{"$f":"'3計画'!E36:G36","v":"00:00:00"},null,null,"～",{"$f":"'3計画'!I36:K36","v":"00:00:00"},null,null,{"$f":"'3計画'!L36:N36","v":"00:00:00"},null,null,"～",{"$f":"'3計画'!P36:R36","v":"00:00:00"},null,null,"00:00:00",null,null,{"$f":"'3計画'!V36:AA36","v":0},null,null,null,null,null,{"$f":"'3計画'!AB36:AG36","v":0},null,null,null,null,null,{"$f":"'3計画'!AH36:AO36","v":0},null,null,null,null,null,null,null,false,null,null,null,null,null,null,null,null,null,null,null,null,null,null,null,null,null,null,null,null,"0",null,null,null,null,null,null,null,null,null,null,null,{"$f":"'3計画'!C36","v":"日"},null,{"$f":"'3計画'!E36","v":"00:00:00"},null,null,"～",{"$f":"'3計画'!I36","v":"00:00:00"},null,null,{"$f":"'3計画'!L36","v":"00:00:00"},null,null,"～",{"$f":"'3計画'!P36","v":"00:00:00"},null,null,"00:00:00",null,null,{"$f":"'3計画'!V36","v":0},null,null,null,null,null,{"$f":"'3計画'!AB36","v":0},null,null,null,null,null,{"$f":"'3計画'!AH36","v":0}]
[22,null,{"$f":"'3計画'!C37:D37","v":"月"},null,{"$f":"'3計画'!E37:G37","v":"00:00:00"},null,null,"～",{"$f":"'3計画'!I37:K37","v":"00:00:00"},null,null,{"$f":"'3計画'!L37:N37","v":"00:00:00"},null,null,"～",{"$f":"'3計画'!P37:R37","v":"00:00:00"},null,null,"00:00:00",null,null,{"$f":"'3計画'!V37:AA37","v":0},null,null,null,null,null,{"$f":"'3計画'!AB37:AG37","v":0},null,null,null,null,null,{"$f":"'3計画'!AH37:AO37","v":0},null,null,null,null,null,null,null,false,null,null,null,null,null,null,null,null,null,null,null,null,null,null,null,null,null,null,null,null,"0",null,null,null,null,null,null,null,null,null,null,null,{"$f":"'3計画'!C37","v":"月"},null,{"$f":"'3計画'!E37","v":"00:00:00"},null,null,"～",{"$f":"'3計画'!I37","v":"00:00:00"},null,null,{"$f":"'3計画'!L37","v":"00:00:00"},null,null,"～",{"$f":"'3計画'!P37","v":"00:00:00"},null,null,"00:00:00",null,null,{"$f":"'3計画'!V37","v":0},null,null,null,null,null,{"$f":"'3計画'!AB37","v":0},null,null,null,null,null,{"$f":"'3計画'!AH37","v":0}]
[23,null,{"$f":"'3計画'!C38:D38","v":"火"},null,{"$f":"'3計画'!E38:G38","v":"00:00:00"},null,null,"～",{"$f":"'3計画'!I38:K38","v":"00:00:00"},null,null,{"$f":"'3計画'!L38:N38","v":"00:00:00"},null,null,"～",{"$f":"'3計画'!P38:R38","v":"00:00:00"},null,null,"00:00:00",null,null,{"$f":"'3計画'!V38:AA38","v":0},null,null,null,null,null,{"$f":"'3計画'!AB38:AG38","v":0},null,null,null,null,null,{"$f":"'3計画'!AH38:AO38","v":0},null,null,null,null,null,null,null,false,null,null,null,null,null,null,null,null,null,null,null,null,null,null,null,null,null,null,null,null,"0",null,null,null,null,null,null,null,null,null,null,null,{"$f":"'3計画'!C38","v":"火"},null,{"$f":"'3計画'!E38","v":"00:00:00"},null,null,"～",{"$f":"'3計画'!I38","v":"00:00:00"},null,null,{"$f":"'3計画'!L38","v":"00:00:00"},null,null,"～",{"$f":"'3計画'!P38","v":"00:00:00"},null,null,"00:00:00",null,null,{"$f":"'3計画'!V38","v":0},null,null,null,null,null,{"$f":"'3計画'!AB38","v":0},null,null,null,null,null,{"$f":"'3計画'!AH38","v":0}]
[24,null,{"$f":"'3計画'!C39:D39","v":"水"},null,{"$f":"'3計画'!E39:G39","v":"00:00:00"},null,null,"～",{"$f":"'3計画'!I39:K39","v":"00:00:00"},null,null,{"$f":"'3計画'!L39:N39","v":"00:00:00"},null,null,"～",{"$f":"'3計画'!P39:R39","v":"00:00:00"},null,null,"00:00:00",null,null,{"$f":"'3計画'!V39:AA39","v":0},null,null,null,null,null,{"$f":"'3計画'!AB39:AG39","v":0},null,null,null,null,null,{"$f":"'3計画'!AH39:AO39","v":0},null,null,null,null,null,null,null,false,null,null,null,null,null,null,null,null,null,null,null,null,null,null,null,null,null,null,null,null,"0",null,null,null,null,null,null,null,null,null,null,null,{"$f":"'3計画'!C39","v":"水"},null,{"$f":"'3計画'!E39","v":"00:00:00"},null,null,"～",{"$f":"'3計画'!I39","v":"00:00:00"},null,null,{"$f":"'3計画'!L39","v":"00:00:00"},null,null,"～",{"$f":"'3計画'!P39","v":"00:00:00"},null,null,"00:00:00",null,null,{"$f":"'3計画'!V39","v":0},null,null,null,null,null,{"$f":"'3計画'!AB39","v":0},null,null,null,null,null,{"$f":"'3計画'!AH39","v":0}]
[25,null,{"$f":"'3計画'!C40:D40","v":"木"},null,{"$f":"'3計画'!E40:G40","v":"00:00:00"},null,null,"～",{"$f":"'3計画'!I40:K40","v":"00:00:00"},null,null,{"$f":"'3計画'!L40:N40","v":"00:00:00"},null,null,"～",{"$f":"'3計画'!P40:R40","v":"00:00:00"},null,null,"00:00:00",null,null,{"$f":"'3計画'!V40:AA40","v":0},null,null,null,null,null,{"$f":"'3計画'!AB40:AG40","v":0},null,null,null,null,null,{"$f":"'3計画'!AH40:AO40","v":0},null,null,null,null,null,null,null,false,null,null,null,null,null,null,null,null,null,null,null,null,null,null,null,null,null,null,null,null,"0",null,null,null,null,null,null,null,null,null,null,null,{"$f":"'3計画'!C40","v":"木"},null,{"$f":"'3計画'!E40","v":"00:00:00"},null,null,"～",{"$f":"'3計画'!I40","v":"00:00:00"},null,null,{"$f":"'3計画'!L40","v":"00:00:00"},null,null,"～",{"$f":"'3計画'!P40","v":"00:00:00"},null,null,"00:00:00",null,null,{"$f":"'3計画'!V40","v":0},null,null,null,null,null,{"$f":"'3計画'!AB40","v":0},null,null,null,null,null,{"$f":"'3計画'!AH40","v":0}]
[26,null,{"$f":"'3計画'!C41:D41","v":"金"},null,{"$f":"'3計画'!E41:G41","v":"00:00:00"},null,null,"～",{"$f":"'3計画'!I41:K41","v":"00:00:00"},null,null,{"$f":"'3計画'!L41:N41","v":"00:00:00"},null,null,"～",{"$f":"'3計画'!P41:R41","v":"00:00:00"},null,null,"00:00:00",null,null,{"$f":"'3計画'!V41:AA41","v":0},null,null,null,null,null,{"$f":"'3計画'!AB41:AG41","v":0},null,null,null,null,null,{"$f":"'3計画'!AH41:AO41","v":0},null,null,null,null,null,null,null,false,null,null,null,null,null,null,null,null,null,null,null,null,null,null,null,null,null,null,null,null,"0",null,null,null,null,null,null,null,null,null,null,null,{"$f":"'3計画'!C41","v":"金"},null,{"$f":"'3計画'!E41","v":"00:00:00"},null,null,"～",{"$f":"'3計画'!I41","v":"00:00:00"},null,null,{"$f":"'3計画'!L41","v":"00:00:00"},null,null,"～",{"$f":"'3計画'!P41","v":"00:00:00"},null,null,"00:00:00",null,null,{"$f":"'3計画'!V41","v":0},null,null,null,null,null,{"$f":"'3計画'!AB41","v":0},null,null,null,null,null,{"$f":"'3計画'!AH41","v":0}]
[27,null,{"$f":"'3計画'!C42:D42","v":"土"},null,{"$f":"'3計画'!E42:G42","v":"00:00:00"},null,null,"～",{"$f":"'3計画'!I42:K42","v":"00:00:00"},null,null,{"$f":"'3計画'!L42:N42","v":"00:00:00"},null,null,"～",{"$f":"'3計画'!P42:R42","v":"00:00:00"},null,null,"00:00:00",null,null,{"$f":"'3計画'!V42:AA42","v":0},null,null,null,null,null,{"$f":"'3計画'!AB42:AG42","v":0},null,null,null,null,null,{"$f":"'3計画'!AH42:AO42","v":0},null,null,null,null,null,null,null,false,null,null,null,null,null,null,null,null,null,null,null,null,null,null,null,null,null,null,null,null,"0",null,null,null,null,null,null,null,null,null,null,null,{"$f":"'3計画'!C42","v":"土"},null,{"$f":"'3計画'!E42","v":"00:00:00"},null,null,"～",{"$f":"'3計画'!I42","v":"00:00:00"},null,null,{"$f":"'3計画'!L42","v":"00:00:00"},null,null,"～",{"$f":"'3計画'!P42","v":"00:00:00"},null,null,"00:00:00",null,null,{"$f":"'3計画'!V42","v":0},null,null,null,null,null,{"$f":"'3計画'!AB42","v":0},null,null,null,null,null,{"$f":"'3計画'!AH42","v":0}]
[28,null,{"$f":"'3計画'!C43:D43","v":"日"},null,{"$f":"'3計画'!E43:G43","v":"00:00:00"},null,null,"～",{"$f":"'3計画'!I43:K43","v":"00:00:00"},null,null,{"$f":"'3計画'!L43:N43","v":"00:00:00"},null,null,"～",{"$f":"'3計画'!P43:R43","v":"00:00:00"},null,null,"00:00:00",null,null,{"$f":"'3計画'!V43:AA43","v":0},null,null,null,null,null,{"$f":"'3計画'!AB43:AG43","v":0},null,null,null,null,null,{"$f":"'3計画'!AH43:AO43","v":0},null,null,null,null,null,null,null,false,null,null,null,null,null,null,null,null,null,null,null,null,null,null,null,null,null,null,null,null,"0",null,null,null,null,null,null,null,null,null,null,null,{"$f":"'3計画'!C43","v":"日"},null,{"$f":"'3計画'!E43","v":"00:00:00"},null,null,"～",{"$f":"'3計画'!I43","v":"00:00:00"},null,null,{"$f":"'3計画'!L43","v":"00:00:00"},null,null,"～",{"$f":"'3計画'!P43","v":"00:00:00"},null,null,"00:00:00",null,null,{"$f":"'3計画'!V43","v":0},null,null,null,null,null,{"$f":"'3計画'!AB43","v":0},null,null,null,null,null,{"$f":"'3計画'!AH43","v":0}]
[29,null,{"$f":"'3計画'!C44:D44","v":"月"},null,{"$f":"'3計画'!E44:G44","v":"00:00:00"},null,null,"～",{"$f":"'3計画'!I44:K44","v":"00:00:00"},null,null,{"$f":"'3計画'!L44:N44","v":"00:00:00"},null,null,"～",{"$f":"'3計画'!P44:R44","v":"00:00:00"},null,null,"00:00:00",null,null,{"$f":"'3計画'!V44:AA44","v":0},null,null,null,null,null,{"$f":"'3計画'!AB44:AG44","v":0},null,null,null,null,null,{"$f":"'3計画'!AH44:AO44","v":0},null,null,null,null,null,null,null,false,null,null,null,null,null,null,null,null,null,null,null,null,null,null,null,null,null,null,null,null,"0",null,null,null,null,null,null,null,null,null,null,null,{"$f":"'3計画'!C44","v":"月"},null,{"$f":"'3計画'!E44","v":"00:00:00"},null,null,"～",{"$f":"'3計画'!I44","v":"00:00:00"},null,null,{"$f":"'3計画'!L44","v":"00:00:00"},null,null,"～",{"$f":"'3計画'!P44","v":"00:00:00"},null,null,"00:00:00",null,null,{"$f":"'3計画'!V44","v":0},null,null,null,null,null,{"$f":"'3計画'!AB44","v":0},null,null,null,null,null,{"$f":"'3計画'!AH44","v":0}]
[30,null,{"$f":"'3計画'!C45:D45","v":"火"},null,{"$f":"'3計画'!E45:G45","v":"00:00:00"},null,null,"～",{"$f":"'3計画'!I45:K45","v":"00:00:00"},null,null,{"$f":"'3計画'!L45:N45","v":"00:00:00"},null,null,"～",{"$f":"'3計画'!P45:R45","v":"00:00:00"},null,null,"00:00:00",null,null,{"$f":"'3計画'!V45:AA45","v":0},null,null,null,null,null,{"$f":"'3計画'!AB45:AG45","v":0},null,null,null,null,null,{"$f":"'3計画'!AH45:AO45","v":0},null,null,null,null,null,null,null,false,null,null,null,null,null,null,null,null,null,null,null,null,null,null,null,null,null,null,null,null,"0",null,null,null,null,null,null,null,null,null,null,null,{"$f":"'3計画'!C45","v":"火"},null,{"$f":"'3計画'!E45","v":"00:00:00"},null,null,"～",{"$f":"'3計画'!I45","v":"00:00:00"},null,null,{"$f":"'3計画'!L45","v":"00:00:00"},null,null,"～",{"$f":"'3計画'!P45","v":"00:00:00"},null,null,"00:00:00",null,null,{"$f":"'3計画'!V45","v":0},null,null,null,null,null,{"$f":"'3計画'!AB45","v":0},null,null,null,null,null,{"$f":"'3計画'!AH45","v":0}]
[31,null,{"$f":"'3計画'!C46:D46","v":"水"},null,{"$f":"'3計画'!E46:G46","v":"00:00:00"},null,null,"～",{"$f":"'3計画'!I46:K46","v":"00:00:00"},null,null,{"$f":"'3計画'!L46:N46","v":"00:00:00"},null,null,"～",{"$f":"'3計画'!P46:R46","v":"00:00:00"},null,null,"00:00:00",null,null,{"$f":"'3計画'!V46:AA46","v":0},null,null,null,null,null,{"$f":"'3計画'!AB46:AG46","v":0},null,null,null,null,null,{"$f":"'3計画'!AH46:AO46","v":0},null,null,null,null,null,null,null,false,null,null,null,null,null,null,null,null,null,null,null,null,null,null,null,null,null,null,null,null,"0",null,null,null,null,null,null,null,null,null,null,null,{"$f":"'3計画'!C46","v":"水"},null,{"$f":"'3計画'!E46","v":"00:00:00"},null,null,"～",{"$f":"'3計画'!I46","v":"00:00:00"},null,null,{"$f":"'3計画'!L46","v":"00:00:00"},null,null,"～",{"$f":"'3計画'!P46","v":"00:00:00"},null,null,"00:00:00",null,null,{"$f":"'3計画'!V46","v":0},null,null,null,null,null,{"$f":"'3計画'!AB46","v":0},null,null,null,null,null,{"$f":"'3計画'!AH46","v":0}]
[null,null,null,null,null,null,null,null,null,null,null,null,null,null,null,null,null,null,{"$f":"SUM(S16:U46)","v":0},null,null,null,null,null,null,null,null,null,null,null,null,null,null,null,null,null,null,null,null,null,null,null,null,null,null,null,null,null,null,null,null,null,null,null,null,null,null,null,null,null,null,null,null,null,null,null,null,null,null,null,null,null,null,null,null,null,null,null,null,null,null,null,null,null,null,null,null,null,null,null,{"$f":"SUM(CM16:CO46)","v":0}]
[]
["月",null,null,4,null,5,null,6,null,7,null,8,null,9,null,10,null,11,null,12,null,1,null,2,null,3,null,"計"]
["時間",null,null,{"$f":"'４実績'!D50","v":0},null,{"$f":"'５実績'!F50","v":0},null,{"$f":"'6実績'!H50","v":0},null,{"$f":"'7実績'!J50","v":0},null,{"$f":"'8実績'!L50:M50","v":0},null,{"$f":"'9実績'!N50:O50","v":0},null,{"$f":"'10実績'!P50:Q50","v":0},null,{"$f":"'11実績'!R50:S50","v":0},null,{"$f":"'12実績'!T50:U50","v":0},null,{"$f":"'1実績'!V50:W50","v":0},null,{"$f":"'2実績'!X50:Y50","v":0},null,{"$f":"S47","v":0},null,{"$f":"SUM(D50:AA50)","v":0},null,null,null,null,"時間",null,null,null,null,null,null,null,null,null,null,null,null,null,null,null,null,null,null,null,null,null,null,null,null,null,null,null,null,null,null,null,null,null,null,null,null,null,null,null,null,null,null,{"$f":"'４実績'!D50","v":0},null,{"$f":"'５実績'!F50","v":0},null,{"$f":"'6実績'!H50","v":0},null,{"$f":"'7実績'!J50","v":0},null,{"$f":"'8実績'!L50","v":0},null,{"$f":"'9実績'!N50","v":0},null,{"$f":"'10実績'!P50","v":0},null,{"$f":"'11実績'!R50","v":0},null,{"$f":"'12実績'!T50","v":0},null,{"$f":"'1実績'!V50","v":0},null,{"$f":"'2実績'!X50","v":0},null,{"$f":"CM47","v":0},null,{"$f":"SUM(BX50:CU50)","v":0}]
["活動日数",null,null,{"$f":"'４実績'!D51","v":0},null,{"$f":"'５実績'!F51","v":0},null,{"$f":"'6実績'!H51","v":0},null,{"$f":"'7実績'!J51","v":0},null,{"$f":"'8実績'!L51:M51","v":0},null,{"$f":"'9実績'!N51:O51","v":0},null,{"$f":"'10実績'!P51:Q51","v":0},null,{"$f":"'11実績'!R51:S51","v":0},null,{"$f":"'12実績'!T51:U51","v":0},null,{"$f":"'1実績'!V51:W51","v":0},null,{"$f":"'2実績'!X51:Y51","v":0},null,{"$f":"COUNTIF(S16:U46,\">0\")","v":0},null,{"$f":"SUM(D51:AA51)","v":0},null,null,null,null,"活動日数",null,null,null,null,null,null,null,null,null,null,null,null,null,null,null,null,null,null,null,null,null,null,null,null,null,null,null,null,null,null,null,null,null,null,null,null,null,null,null,null,null,null,{"$f":"'４実績'!D51","v":0},null,{"$f":"'５実績'!F51","v":0},null,{"$f":"'6実績'!H51","v":0},null,{"$f":"'7実績'!J51","v":0},null,{"$f":"'8実績'!L51","v":0},null,{"$f":"'9実績'!N51","v":0},null,{"$f":"'10実績'!P51","v":0},null,{"$f":"'11実績'!R51","v":0},null,{"$f":"'12実績'!T51","v":0},null,{"$f":"'1実績'!V51","v":0},null,{"$f":"'2実績'!X51","v":0},null,{"$f":"COUNTIF(CM16:CO46,\">0\")","v":0},null,{"$f":"SUM(BX51:CU51)","v":0}]
["休養日数",null,null,{"$f":"'４実績'!D52","v":30},null,{"$f":"'５実績'!F52","v":31},null,{"$f":"'6実績'!H52","v":30},null,{"$f":"'7実績'!J52","v":31},null,{"$f":"'8実績'!L52:M52","v":31},null,{"$f":"'9実績'!N52:O52","v":30},null,{"$f":"'10実績'!P52:Q52","v":31},null,{"$f":"'11実績'!R52:S52","v":30},null,{"$f":"'12実績'!T52:U52","v":31},null,{"$f":"'1実績'!V52:W52","v":31},null,{"$f":"'2実績'!X52:Y52","v":28},null,{"$f":"COUNTIF(S16:U46,\"0:00\")","v":31},null,{"$f":"SUM(D52:AA52)","v":365},null,null,null,null,"休養日数",null,null,null,null,null,null,null,null,null,null,null,null,null,null,null,null,null,null,null,null,null,null,null,null,null,null,null,null,null,null,null,null,null,null,null,null,null,null,null,null,null,null,{"$f":"'４実績'!D52","v":30},null,{"$f":"'５実績'!F52","v":31},null,{"$f":"'6実績'!H52","v":30},null,{"$f":"'7実績'!J52","v":31},null,{"$f":"'8実績'!L52","v":31},null,{"$f":"'9実績'!N52","v":30},null,{"$f":"'10実績'!P52","v":31},null,{"$f":"'11実績'!R52","v":30},null,{"$f":"'12実績'!T52","v":31},null,{"$f":"'1実績'!V52","v":31},null,{"$f":"'2実績'!X52","v":28},null,{"$f":"COUNTIF(CM16:CO46,\"0:00\")","v":31},null,{"$f":"SUM(BX52:CU52)","v":365}]
[null,null,null,null,null,null,null,null,null,null,null,null,null,null,null,null,null,null,null,null,null,null,null,null,null,null,null,{"$f":"AB50/AB51","v":{"$error":"#DIV/0!"}},null,null,null,null,"平均時間/日",null,null,null,null,null,null,null,null,null,null,null,null,null,null,null,null,null,null,null,null,null,null,null,null,null,null,null,null,null,null,null,null,null,null,null,null,null,null,null,null,null,null,null,null,null,null,null,null,null,null,null,null,null,null,null,null,null,null,null,null,null,null,null,null,null,null,{"$f":"CV50/CV51","v":{"$error":"#DIV/0!"}}]

{"sheet":"（整理簿入力例)","index":25,"n_rows":52,"n_cols":18,"rows_kept":52,"cut":false,"hidden":false,"merged":[[43,1,43,3],[7,14,10,14],[11,14,14,14],[15,14,18,14],[19,14,22,14],[39,11,42,11],[39,12,42,12],[39,13,42,13],[35,11,38,11],[35,12,38,12],[35,13,38,13],[31,11,34,11],[31,12,34,12],[31,13,34,13],[27,11,30,11],[27,12,30,12],[27,13,30,13],[23,11,26,11],[23,12,26,12],[23,13,26,13],[19,11,22,11],[19,12,22,12],[19,13,22,13],[11,11,14,11],[39,15,42,15],[39,16,42,16],[39,17,41,17],[39,1,42,1],[39,2,42,2],[39,3,42,3],[39,4,42,4],[39,5,39,9],[39,10,42,10],[40,5,40,9],[41,5,41,9],[42,5,42,9],[35,15,38,15],[35,16,38,16],[35,17,38,17],[35,1,38,1],[35,2,38,2],[35,3,38,3],[35,4,38,4],[35,5,35,9],[35,10,38,10],[36,5,36,9],[37,5,37,9],[38,5,38,9],[31,15,34,15],[31,16,34,16],[32,5,32,9],[33,5,33,9],[34,5,34,9],[31,1,34,1],[31,2,34,2],[31,3,34,3],[31,4,34,4],[31,5,31,9],[31,10,34,10],[27,17,29,17],[23,15,26,15],[23,16,26,16],[23,17,26,17],[23,1,26,1],[23,2,26,2],[23,3,26,3],[23,4,26,4],[23,10,26,10],[23,5,24,9],[25,5,26,9],[23,14,26,14],[27,14,30,14],[27,15,30,15],[27,16,30,16],[27,1,30,1],[27,2,30,2],[27,3,30,3],[27,4,30,4],[27,10,30,10],[29,5,29,9],[30,5,30,9],[27,5,28,9],[19,15,22,15],[19,16,22,16],[19,17,21,17],[19,1,22,1],[19,2,22,2],[19,3,22,3],[19,4,22,4],[19,10,22,10],[15,11,18,11],[15,12,18,12],[15,13,18,13],[15,15,18,15],[15,16,18,16],[15,17,17,17],[15,1,18,1],[15,2,18,2],[15,3,18,3],[15,4,18,4],[15,10,18,10],[15,5,16,9],[17,5,18,9],[19,5,20,9],[21,5,22,9],[11,12,14,12],[11,13,14,13],[11,15,14,15],[11,16,14,16],[11,17,13,17],[11,1,14,1],[11,2,14,2],[11,3,14,3],[11,4,14,4],[11,10,14,10],[11,5,12,9],[13,5,14,9],[4,1,4,2],[4,3,4,4],[4,6,4,8],[4,9,4,10],[4,14,4,17],[6,5,6,9],[6,10,6,13],[7,11,10,11],[7,12,10,12],[7,13,10,13],[7,15,10,15],[7,16,10,16],[7,17,9,17],[7,1,10,1],[7,2,10,2],[7,3,10,3],[7,4,10,4],[7,10,10,10],[7,5,8,9],[9,5,10,9]]}
[]
[]
[null,null,null,"          　　　　　　","令和",2,"年",4,"月分","　 教  員  特  殊  業  務  整  理  簿",null,null,null,null,null,null,null,"様式3"]
[]
[null,"氏　名",null,"中村　太郎",null,"職員\n番号",123789,null,null,null,null,null,null,null,"四万十市立四万十中学校"]
[]
[null,"日","曜","要　件","区　分","業　　務　　内　　容",null,null,null,null,"従　事　時　間",null,null,null,"従事場所","所属長\n確認印","従事者印","備　　考"]
[null,4,{"$f":"IF(B8=\"\",\"\",TEXT(DATE(2018+$F$3,$H$3,B8),\"aaa\"))","v":"土"},"週休日等","部活動３",{"$f":"IF(IF(B8=\"\",\"\",VLOOKUP(B8,記入例!$A$16:$BK$46,63))=\"大会\",IF(B8=\"\",\"\",VLOOKUP(B8,記入例!$A$16:$AO$46,22,FALSE)),IF(B8=\"\",\"\",記入例!$AC$4)&IF(B8=\"\",\"\",VLOOKUP(B8,記入例!$A$16:$AO$46,22,FALSE)))","v":"サッカー練習試合（○○中）"},null,null,null,null,{"$f":"IF(IF(B8=\"\",\"\",VLOOKUP(B8,記入例!$A$16:$AO$46,5,FALSE))=\"\",IF(B8=\"\",\"\",VLOOKUP(B8,記入例!$A$16:$AO$46,12,FALSE)),IF(B8=\"\",\"\",VLOOKUP(B8,記入例!$A$16:$AO$46,5,FALSE)))","v":"09:00:00"},"～",{"$f":"IF(IF(B8=\"\",\"\",VLOOKUP(B8,記入例!$A$16:$AO$46,16,FALSE))=\"\",IF(B8=\"\",\"\",VLOOKUP(B8,記入例!$A$16:$AO$46,9,FALSE)),IF(B8=\"\",\"\",VLOOKUP(B8,記入例!$A$16:$AO$46,16,FALSE)))","v":"12:00:00"},{"$f":"IF(K8=\"\",\"\",M8-K8)","v":"03:00:00"},{"$f":"IF(B8=\"\",\"\",VLOOKUP(B8,記入例!$A$16:$AO$46,34,FALSE))","v":"○○中学校"},"轟","南"]
[]
[null,null,null,null,null,"学校出発９：００、▲▲▲学校で練習試合\n解散１２：００"]
[null,null,null,null,null,null,null,null,null,null,null,null,null,null,null,null,null,"　　　"]
[null,11,{"$f":"IF(B12=\"\",\"\",TEXT(DATE(2018+$F$3,$H$3,B12),\"aaa\"))","v":"土"},"週休日等","対外運動等",{"$f":"IF(IF(B12=\"\",\"\",VLOOKUP(B12,記入例!$A$16:$BK$46,63))=\"大会\",IF(B12=\"\",\"\",VLOOKUP(B12,記入例!$A$16:$AO$46,22,FALSE)),IF(B12=\"\",\"\",記入例!$AC$4)&IF(B12=\"\",\"\",VLOOKUP(B12,記入例!$A$16:$AO$46,22,FALSE)))","v":"サッカー練習"},null,null,null,null,{"$f":"IF(IF(B12=\"\",\"\",VLOOKUP(B12,記入例!$A$16:$AO$46,5,FALSE))=\"\",IF(B12=\"\",\"\",VLOOKUP(B12,記入例!$A$16:$AO$46,12,FALSE)),IF(B12=\"\",\"\",VLOOKUP(B12,記入例!$A$16:$AO$46,5,FALSE)))","v":"09:00:00"},"～",{"$f":"IF(IF(B12=\"\",\"\",VLOOKUP(B12,記入例!$A$16:$AO$46,16,FALSE))=\"\",IF(B12=\"\",\"\",VLOOKUP(B12,記入例!$A$16:$AO$46,9,FALSE)),IF(B12=\"\",\"\",VLOOKUP(B12,記入例!$A$16:$AO$46,16,FALSE)))","v":"12:00:00"},{"$f":"IF(K12=\"\",\"\",M12-K12)","v":"03:00:00"},{"$f":"IF(B12=\"\",\"\",VLOOKUP(B12,記入例!$A$16:$AO$46,34,FALSE))","v":0},"轟","南"]
[]
[]
[null,null,null,null,null,null,null,null,null,null,null,null,null,null,null,null,null,"　　　"]
[null,18,{"$f":"IF(B16=\"\",\"\",TEXT(DATE(2018+$F$3,$H$3,B16),\"aaa\"))","v":"土"},"週休日等","対外運動等",{"$f":"IF(IF(B16=\"\",\"\",VLOOKUP(B16,記入例!$A$16:$BK$46,63))=\"大会\",IF(B16=\"\",\"\",VLOOKUP(B16,記入例!$A$16:$AO$46,22,FALSE)),IF(B16=\"\",\"\",記入例!$AC$4)&IF(B16=\"\",\"\",VLOOKUP(B16,記入例!$A$16:$AO$46,22,FALSE)))","v":"サッカー高知県○○大会"},null,null,null,null,{"$f":"IF(IF(B16=\"\",\"\",VLOOKUP(B16,記入例!$A$16:$AO$46,5,FALSE))=\"\",IF(B16=\"\",\"\",VLOOKUP(B16,記入例!$A$16:$AO$46,12,FALSE)),IF(B16=\"\",\"\",VLOOKUP(B16,記入例!$A$16:$AO$46,5,FALSE)))","v":"08:30:00"},"～",{"$f":"IF(IF(B16=\"\",\"\",VLOOKUP(B16,記入例!$A$16:$AO$46,16,FALSE))=\"\",IF(B16=\"\",\"\",VLOOKUP(B16,記入例!$A$16:$AO$46,9,FALSE)),IF(B16=\"\",\"\",VLOOKUP(B16,記入例!$A$16:$AO$46,16,FALSE)))","v":"17:00:00"},{"$f":"IF(K16=\"\",\"\",M16-K16)","v":"08:30:00"},{"$f":"IF(B16=\"\",\"\",VLOOKUP(B16,記入例!$A$16:$AO$46,34,FALSE))","v":"○○運動公園"},"轟","南"]
[]
[]
[null,null,null,null,null,null,null,null,null,null,null,null,null,null,null,null,null,"　　　"]
[null,19,{"$f":"IF(B20=\"\",\"\",TEXT(DATE(2018+$F$3,$H$3,B20),\"aaa\"))","v":"日"},"週休日等","部活動３",{"$f":"IF(IF(B20=\"\",\"\",VLOOKUP(B20,記入例!$A$16:$BK$46,63))=\"大会\",IF(B20=\"\",\"\",VLOOKUP(B20,記入例!$A$16:$AO$46,22,FALSE)),IF(B20=\"\",\"\",記入例!$AC$4)&IF(B20=\"\",\"\",VLOOKUP(B20,記入例!$A$16:$AO$46,22,FALSE)))","v":"サッカー高知県○○大会"},null,null,null,null,{"$f":"IF(IF(B20=\"\",\"\",VLOOKUP(B20,記入例!$A$16:$AO$46,5,FALSE))=\"\",IF(B20=\"\",\"\",VLOOKUP(B20,記入例!$A$16:$AO$46,12,FALSE)),IF(B20=\"\",\"\",VLOOKUP(B20,記入例!$A$16:$AO$46,5,FALSE)))","v":"06:30:00"},"～",{"$f":"IF(IF(B20=\"\",\"\",VLOOKUP(B20,記入例!$A$16:$AO$46,16,FALSE))=\"\",IF(B20=\"\",\"\",VLOOKUP(B20,記入例!$A$16:$AO$46,9,FALSE)),IF(B20=\"\",\"\",VLOOKUP(B20,記入例!$A$16:$AO$46,16,FALSE)))","v":"15:00:00"},{"$f":"IF(K20=\"\",\"\",M20-K20)","v":"08:30:00"},{"$f":"IF(B20=\"\",\"\",VLOOKUP(B20,記入例!$A$16:$AO$46,34,FALSE))","v":"○○運動公園"},"轟","南"]
[]
[]
[]
[null,25,{"$f":"IF(B24=\"\",\"\",TEXT(DATE(2018+$F$3,$H$3,B24),\"aaa\"))","v":"土"},null,null,{"$f":"IF(IF(B24=\"\",\"\",VLOOKUP(B24,記入例!$A$16:$BK$46,63))=\"大会\",IF(B24=\"\",\"\",VLOOKUP(B24,記入例!$A$16:$AO$46,22,FALSE)),IF(B24=\"\",\"\",記入例!$AC$4)&IF(B24=\"\",\"\",VLOOKUP(B24,記入例!$A$16:$AO$46,22,FALSE)))","v":"サッカー練習"},null,null,null,null,{"$f":"IF(IF(B24=\"\",\"\",VLOOKUP(B24,記入例!$A$16:$AO$46,5,FALSE))=\"\",IF(B24=\"\",\"\",VLOOKUP(B24,記入例!$A$16:$AO$46,12,FALSE)),IF(B24=\"\",\"\",VLOOKUP(B24,記入例!$A$16:$AO$46,5,FALSE)))","v":"09:00:00"},"～",{"$f":"IF(IF(B24=\"\",\"\",VLOOKUP(B24,記入例!$A$16:$AO$46,16,FALSE))=\"\",IF(B24=\"\",\"\",VLOOKUP(B24,記入例!$A$16:$AO$46,9,FALSE)),IF(B24=\"\",\"\",VLOOKUP(B24,記入例!$A$16:$AO$46,16,FALSE)))","v":"12:00:00"},{"$f":"IF(K24=\"\",\"\",M24-K24)","v":"03:00:00"},{"$f":"IF(B24=\"\",\"\",VLOOKUP(B24,記入例!$A$16:$AO$46,34,FALSE))","v":"学校"},"轟","南"]
[]
[]
[]
[null,27,{"$f":"IF(B28=\"\",\"\",TEXT(DATE(2018+$F$3,$H$3,B28),\"aaa\"))","v":"月"},null,null,{"$f":"IF(IF(B28=\"\",\"\",VLOOKUP(B28,記入例!$A$16:$BK$46,63))=\"大会\",IF(B28=\"\",\"\",VLOOKUP(B28,記入例!$A$16:$AO$46,22,FALSE)),IF(B28=\"\",\"\",記入例!$AC$4)&IF(B28=\"\",\"\",VLOOKUP(B28,記入例!$A$16:$AO$46,22,FALSE)))","v":"サッカー練習"},null,null,null,null,{"$f":"IF(IF(B28=\"\",\"\",VLOOKUP(B28,記入例!$A$16:$AO$46,5,FALSE))=\"\",IF(B28=\"\",\"\",VLOOKUP(B28,記入例!$A$16:$AO$46,12,FALSE)),IF(B28=\"\",\"\",VLOOKUP(B28,記入例!$A$16:$AO$46,5,FALSE)))","v":"09:00:00"},"～",{"$f":"IF(IF(B28=\"\",\"\",VLOOKUP(B28,記入例!$A$16:$AO$46,16,FALSE))=\"\",IF(B28=\"\",\"\",VLOOKUP(B28,記入例!$A$16:$AO$46,9,FALSE)),IF(B28=\"\",\"\",VLOOKUP(B28,記入例!$A$16:$AO$46,16,FALSE)))","v":"12:00:00"},{"$f":"IF(K28=\"\",\"\",M28-K28)","v":"03:00:00"},{"$f":"IF(B28=\"\",\"\",VLOOKUP(B28,記入例!$A$16:$AO$46,34,FALSE))","v":"学校"}]
[]
[]
[null,null,null,null,null,null,null,null,null,null,null,null,null,null,null,null,null,"（4/26の振休）"]
[null,null,{"$f":"IF(B32=\"\",\"\",TEXT(DATE(2018+$F$3,$H$3,B32),\"aaa\"))","v":""},null,null,null,null,null,null,null,{"$f":"IF(IF(B32=\"\",\"\",VLOOKUP(B32,記入例!$A$16:$AO$46,5,FALSE))=\"\",IF(B32=\"\",\"\",VLOOKUP(B32,記入例!$A$16:$AO$46,12,FALSE)),IF(B32=\"\",\"\",VLOOKUP(B32,記入例!$A$16:$AO$46,5,FALSE)))","v":""},"～",{"$f":"IF(IF(B32=\"\",\"\",VLOOKUP(B32,記入例!$A$16:$AO$46,16,FALSE))=\"\",IF(B32=\"\",\"\",VLOOKUP(B32,記入例!$A$16:$AO$46,9,FALSE)),IF(B32=\"\",\"\",VLOOKUP(B32,記入例!$A$16:$AO$46,16,FALSE)))","v":""},{"$f":"IF(K32=\"\",\"\",M32-K32)","v":""}]
[]
[]
[]
[null,null,{"$f":"IF(B36=\"\",\"\",TEXT(DATE(2018+$F$3,$H$3,B36),\"aaa\"))","v":""},null,null,null,null,null,null,null,{"$f":"IF(IF(B36=\"\",\"\",VLOOKUP(B36,記入例!$A$16:$AO$46,5,FALSE))=\"\",IF(B36=\"\",\"\",VLOOKUP(B36,記入例!$A$16:$AO$46,12,FALSE)),IF(B36=\"\",\"\",VLOOKUP(B36,記入例!$A$16:$AO$46,5,FALSE)))","v":""},"～",{"$f":"IF(IF(B36=\"\",\"\",VLOOKUP(B36,記入例!$A$16:$AO$46,16,FALSE))=\"\",IF(B36=\"\",\"\",VLOOKUP(B36,記入例!$A$16:$AO$46,9,FALSE)),IF(B36=\"\",\"\",VLOOKUP(B36,記入例!$A$16:$AO$46,16,FALSE)))","v":""},{"$f":"IF(K36=\"\",\"\",M36-K36)","v":""}]
[]
[]
[]
[null,null,{"$f":"IF(B40=\"\",\"\",TEXT(DATE(2018+$F$1,$H$1,B40),\"aaa\"))","v":""},null,null,null,null,null,null,null,{"$f":"IF(IF(B40=\"\",\"\",VLOOKUP(B40,記入例!$A$16:$AO$46,5,FALSE))=\"\",IF(B40=\"\",\"\",VLOOKUP(B40,記入例!$A$16:$AO$46,12,FALSE)),IF(B40=\"\",\"\",VLOOKUP(B40,記入例!$A$16:$AO$46,5,FALSE)))","v":""},"～",{"$f":"IF(IF(B40=\"\",\"\",VLOOKUP(B40,記入例!$A$16:$AO$46,16,FALSE))=\"\",IF(B40=\"\",\"\",VLOOKUP(B40,記入例!$A$16:$AO$46,9,FALSE)),IF(B40=\"\",\"\",VLOOKUP(B40,記入例!$A$16:$AO$46,16,FALSE)))","v":""},{"$f":"IF(K40=\"\",\"\",M40-K40)","v":""}]
[]
[]
[null,null,null,null,null,null,null,null,null,null,null,null,null,null,null,null,null,"　　　"]
[null,"( 記入要領等 )"]
[null,"　         　１　この整理簿は、教員特殊業務手当及び面接指導手当の支給対象となるものについて、当該手当の支給に必要な事の整理をするものであること。"]
[null,"　　         ２　記入にあたっては、次のように記入すること。"]
[null,"　　　         　「要件」欄：週休日等　　　半日振替日　　　　その他"]
[null,"　　　　         「区分」欄：非常災害　　救急業務　　補導業務　　修学旅行等　　対外運動等　　入学試験業務　　　部活動４　　　　部活動３　　　部活動２　　　面接指導　　　　　"]
[null,"　　　　　　　　　　         ※部活動４は4時間以上、部活動３は３時間以上４時間未満、部活動２は2時間以上３時間未満をいう。"]
[null,"　　　　         「業務内容」欄：職員が従事した業務について、その内容を簡潔に記入すること。"]
[null,"　　　         　「従事時間」欄：左欄に手当の支給対象となる業務の終始の時刻を、右欄には時間を記入すること。"]
[null,"　　　         　「備考」欄：この整理簿を補足する事項を記入すること。"]

{"sheet":"４","index":26,"n_rows":52,"n_cols":20,"rows_kept":52,"cut":false,"hidden":false,"merged":[[43,1,43,3],[39,11,42,11],[39,12,42,12],[39,13,42,13],[39,15,42,15],[39,16,42,16],[39,17,41,17],[39,1,42,1],[39,2,42,2],[39,3,42,3],[39,4,42,4],[39,10,42,10],[41,5,42,9],[39,14,42,14],[39,5,40,9],[35,11,38,11],[35,12,38,12],[35,13,38,13],[35,15,38,15],[35,16,38,16],[35,17,37,17],[35,1,38,1],[35,2,38,2],[35,3,38,3],[35,4,38,4],[35,10,38,10],[37,5,38,9],[35,14,38,14],[35,5,36,9],[31,11,34,11],[31,12,34,12],[31,13,34,13],[31,15,34,15],[31,16,34,16],[31,17,33,17],[31,1,34,1],[31,2,34,2],[31,3,34,3],[31,4,34,4],[31,10,34,10],[33,5,34,9],[31,14,34,14],[31,5,32,9],[27,11,30,11],[27,12,30,12],[27,13,30,13],[27,15,30,15],[27,16,30,16],[27,17,29,17],[27,1,30,1],[27,2,30,2],[27,3,30,3],[27,4,30,4],[27,10,30,10],[29,5,30,9],[27,14,30,14],[27,5,28,9],[23,11,26,11],[23,12,26,12],[23,13,26,13],[23,15,26,15],[23,16,26,16],[23,17,25,17],[23,1,26,1],[23,2,26,2],[23,3,26,3],[23,4,26,4],[23,10,26,10],[25,5,26,9],[23,14,26,14],[23,5,24,9],[19,11,22,11],[19,12,22,12],[19,13,22,13],[19,15,22,15],[19,16,22,16],[19,17,21,17],[19,1,22,1],[19,2,22,2],[19,3,22,3],[19,4,22,4],[19,10,22,10],[21,5,22,9],[19,14,22,14],[19,5,20,9],[15,11,18,11],[15,12,18,12],[15,13,18,13],[15,15,18,15],[15,16,18,16],[15,17,17,17],[15,1,18,1],[15,2,18,2],[15,3,18,3],[15,4,18,4],[15,10,18,10],[15,14,18,14],[17,5,18,9],[15,5,16,9],[11,11,14,11],[11,12,14,12],[11,13,14,13],[11,15,14,15],[11,16,14,16],[11,17,13,17],[11,1,14,1],[11,2,14,2],[11,3,14,3],[11,4,14,4],[11,10,14,10],[11,14,14,14],[13,5,14,9],[11,5,12,9],[4,1,4,2],[4,3,4,4],[4,6,4,8],[4,9,4,10],[7,1,10,1],[7,2,10,2],[7,3,10,3],[7,4,10,4],[4,14,4,17],[6,5,6,9],[6,10,6,13],[7,11,10,11],[7,12,10,12],[7,13,10,13],[7,15,10,15],[7,16,10,16],[7,17,9,17],[7,10,10,10],[7,14,10,14],[9,5,10,9],[7,5,8,9]]}
[]
[]
[null,null,null,"          　　　　　　","令和",{"$f":"'4計画'!AQ1-2018","v":2},"年",{"$f":"'4計画'!A7","v":4},"月分","　 教  員  特  殊  業  務  整  理  簿",null,null,null,null,null,null,null,"様式3"]
[]
[null,"氏　名",null,{"$f":"IF('４実績'!K10=\"\",\"\",'４実績'!K10)","v":0},null,"職員\n番号",null,null,null,null,null,null,null,null,{"$f":"'４実績'!AC2&\"学校\"","v":"0学校"}]
[]
[null,"日","曜","要　件","区　分","業　　務　　内　　容",null,null,null,null,"従　事　時　間",null,null,null,"従事場所","所属長\n確認印","従事者印","備　　考"]
[null,{"$f":"IF(T8=\"\",\"\",T8)","v":""},{"$f":"IF(B8=\"\",\"\",TEXT(DATE(2018+$F$3,$H$3,B8),\"aaa\"))","v":""},"　　　",null,{"$f":"IF(IF(B8=\"\",\"\",VLOOKUP(B8,'４実績'!$A$16:$BK$46,63))=\"大会\",IF(B8=\"\",\"\",VLOOKUP(B8,'４実績'!$A$16:$AO$46,22,FALSE)),IF(B8=\"\",\"\",'４実績'!$AC$4)&IF(B8=\"\",\"\",VLOOKUP(B8,'４実績'!$A$16:$AO$46,22,FALSE)))","v":""},null,null,null,null,{"$f":"IF(IF(B8=\"\",\"\",VLOOKUP(B8,'４実績'!$A$16:$AO$46,5,FALSE))=0,IF(B8=\"\",\"\",VLOOKUP(B8,'４実績'!$A$16:$AO$46,12,FALSE)),IF(B8=\"\",\"\",VLOOKUP(B8,'４実績'!$A$16:$AO$46,5,FALSE)))","v":""},"～",{"$f":"IF(IF(B8=\"\",\"\",VLOOKUP(B8,'４実績'!$A$16:$AO$46,16,FALSE))=0,IF(B8=\"\",\"\",VLOOKUP(B8,'４実績'!$A$16:$AO$46,9,FALSE)),IF(B8=\"\",\"\",VLOOKUP(B8,'４実績'!$A$16:$AO$46,16,FALSE)))","v":""},{"$f":"IF(K8=\"\",\"\",M8-K8)","v":""},{"$f":"IF(B8=\"\",\"\",VLOOKUP(B8,'４実績'!$A$16:$AO$46,34,FALSE))","v":""}]
[]
[]
[null,null,null,null,null,null,null,null,null,null,null,null,null,null,null,null,null,"　　　"]
[null,{"$f":"IF(T9=\"\",\"\",T9)","v":""},{"$f":"IF(B12=\"\",\"\",TEXT(DATE(2018+$F$3,$H$3,B12),\"aaa\"))","v":""},"　　　","　　　",{"$f":"IF(IF(B12=\"\",\"\",VLOOKUP(B12,'４実績'!$A$16:$BK$46,63))=\"大会\",IF(B12=\"\",\"\",VLOOKUP(B12,'４実績'!$A$16:$AO$46,22,FALSE)),IF(B12=\"\",\"\",'４実績'!$AC$4)&IF(B12=\"\",\"\",VLOOKUP(B12,'４実績'!$A$16:$AO$46,22,FALSE)))","v":""},null,null,null,null,{"$f":"IF(IF(B12=\"\",\"\",VLOOKUP(B12,'４実績'!$A$16:$AO$46,5,FALSE))=0,IF(B12=\"\",\"\",VLOOKUP(B12,'４実績'!$A$16:$AO$46,12,FALSE)),IF(B12=\"\",\"\",VLOOKUP(B12,'４実績'!$A$16:$AO$46,5,FALSE)))","v":""},"～",{"$f":"IF(IF(B12=\"\",\"\",VLOOKUP(B12,'４実績'!$A$16:$AO$46,16,FALSE))=0,IF(B12=\"\",\"\",VLOOKUP(B12,'４実績'!$A$16:$AO$46,9,FALSE)),IF(B12=\"\",\"\",VLOOKUP(B12,'４実績'!$A$16:$AO$46,16,FALSE)))","v":""},{"$f":"IF(K12=\"\",\"\",M12-K12)","v":""},{"$f":"IF(B12=\"\",\"\",VLOOKUP(B12,'４実績'!$A$16:$AO$46,34,FALSE))","v":""}]
[]
[]
[null,null,null,null,null,null,null,null,null,null,null,null,null,null,null,null,null,"　　　"]
[null,{"$f":"IF(T10=\"\",\"\",T10)","v":""},{"$f":"IF(B16=\"\",\"\",TEXT(DATE(2018+$F$3,$H$3,B16),\"aaa\"))","v":""},"　　　","　　　",{"$f":"IF(IF(B16=\"\",\"\",VLOOKUP(B16,'４実績'!$A$16:$BK$46,63))=\"大会\",IF(B16=\"\",\"\",VLOOKUP(B16,'４実績'!$A$16:$AO$46,22,FALSE)),IF(B16=\"\",\"\",'４実績'!$AC$4)&IF(B16=\"\",\"\",VLOOKUP(B16,'４実績'!$A$16:$AO$46,22,FALSE)))","v":""},null,null,null,null,{"$f":"IF(IF(B16=\"\",\"\",VLOOKUP(B16,'４実績'!$A$16:$AO$46,5,FALSE))=0,IF(B16=\"\",\"\",VLOOKUP(B16,'４実績'!$A$16:$AO$46,12,FALSE)),IF(B16=\"\",\"\",VLOOKUP(B16,'４実績'!$A$16:$AO$46,5,FALSE)))","v":""},"～",{"$f":"IF(IF(B16=\"\",\"\",VLOOKUP(B16,'４実績'!$A$16:$AO$46,16,FALSE))=0,IF(B16=\"\",\"\",VLOOKUP(B16,'４実績'!$A$16:$AO$46,9,FALSE)),IF(B16=\"\",\"\",VLOOKUP(B16,'４実績'!$A$16:$AO$46,16,FALSE)))","v":""},{"$f":"IF(K16=\"\",\"\",M16-K16)","v":""},{"$f":"IF(B16=\"\",\"\",VLOOKUP(B16,'４実績'!$A$16:$AO$46,34,FALSE))","v":""}]
[null,null,null,null,null,null,null,null,null,null,null,null,null,null,null,null,null,null,null,10]
[null,null,null,null,null,null,null,null,null,null,null,null,null,null,null,null,null,null,null,11]
[null,null,null,null,null,null,null,null,null,null,null,null,null,null,null,null,null,"　　　",null,12]
[null,{"$f":"IF(T11=\"\",\"\",T11)","v":""},{"$f":"IF(B20=\"\",\"\",TEXT(DATE(2018+$F$3,$H$3,B20),\"aaa\"))","v":""},"　　　","　　　",{"$f":"IF(IF(B20=\"\",\"\",VLOOKUP(B20,'４実績'!$A$16:$BK$46,63))=\"大会\",IF(B20=\"\",\"\",VLOOKUP(B20,'４実績'!$A$16:$AO$46,22,FALSE)),IF(B20=\"\",\"\",'４実績'!$AC$4)&IF(B20=\"\",\"\",VLOOKUP(B20,'４実績'!$A$16:$AO$46,22,FALSE)))","v":""},null,null,null,null,{"$f":"IF(IF(B20=\"\",\"\",VLOOKUP(B20,'４実績'!$A$16:$AO$46,5,FALSE))=0,IF(B20=\"\",\"\",VLOOKUP(B20,'４実績'!$A$16:$AO$46,12,FALSE)),IF(B20=\"\",\"\",VLOOKUP(B20,'４実績'!$A$16:$AO$46,5,FALSE)))","v":""},"～",{"$f":"IF(IF(B20=\"\",\"\",VLOOKUP(B20,'４実績'!$A$16:$AO$46,16,FALSE))=0,IF(B20=\"\",\"\",VLOOKUP(B20,'４実績'!$A$16:$AO$46,9,FALSE)),IF(B20=\"\",\"\",VLOOKUP(B20,'４実績'!$A$16:$AO$46,16,FALSE)))","v":""},{"$f":"IF(K20=\"\",\"\",M20-K20)","v":""},{"$f":"IF(B20=\"\",\"\",VLOOKUP(B20,'４実績'!$A$16:$AO$46,34,FALSE))","v":""},null,null,null,null,13]
[null,null,null,null,null,null,null,null,null,null,null,null,null,null,null,null,null,null,null,14]
[null,null,null,null,null,null,null,null,null,null,null,null,null,null,null,null,null,null,null,15]
[null,null,null,null,null,null,null,null,null,null,null,null,null,null,null,null,null,"　　　",null,16]
[null,{"$f":"IF(T12=\"\",\"\",T12)","v":""},{"$f":"IF(B24=\"\",\"\",TEXT(DATE(2018+$F$3,$H$3,B24),\"aaa\"))","v":""},"　　　","　　　",{"$f":"IF(IF(B24=\"\",\"\",VLOOKUP(B24,'４実績'!$A$16:$BK$46,63))=\"大会\",IF(B24=\"\",\"\",VLOOKUP(B24,'４実績'!$A$16:$AO$46,22,FALSE)),IF(B24=\"\",\"\",'４実績'!$AC$4)&IF(B24=\"\",\"\",VLOOKUP(B24,'４実績'!$A$16:$AO$46,22,FALSE)))","v":""},null,null,null,null,{"$f":"IF(IF(B24=\"\",\"\",VLOOKUP(B24,'４実績'!$A$16:$AO$46,5,FALSE))=0,IF(B24=\"\",\"\",VLOOKUP(B24,'４実績'!$A$16:$AO$46,12,FALSE)),IF(B24=\"\",\"\",VLOOKUP(B24,'４実績'!$A$16:$AO$46,5,FALSE)))","v":""},"～",{"$f":"IF(IF(B24=\"\",\"\",VLOOKUP(B24,'４実績'!$A$16:$AO$46,16,FALSE))=0,IF(B24=\"\",\"\",VLOOKUP(B24,'４実績'!$A$16:$AO$46,9,FALSE)),IF(B24=\"\",\"\",VLOOKUP(B24,'４実績'!$A$16:$AO$46,16,FALSE)))","v":""},{"$f":"IF(K24=\"\",\"\",M24-K24)","v":""},{"$f":"IF(B24=\"\",\"\",VLOOKUP(B24,'４実績'!$A$16:$AO$46,34,FALSE))","v":""},null,null,null,null,17]
[null,null,null,null,null,null,null,null,null,null,null,null,null,null,null,null,null,null,null,18]
[null,null,null,null,null,null,null,null,null,null,null,null,null,null,null,null,null,null,null,19]
[null,null,null,null,null,null,null,null,null,null,null,null,null,null,null,null,null,"　　　",null,20]
[null,{"$f":"IF(T13=\"\",\"\",T13)","v":""},{"$f":"IF(B28=\"\",\"\",TEXT(DATE(2018+$F$3,$H$3,B28),\"aaa\"))","v":""},"　　　","　　　",{"$f":"IF(IF(B28=\"\",\"\",VLOOKUP(B28,'４実績'!$A$16:$BK$46,63))=\"大会\",IF(B28=\"\",\"\",VLOOKUP(B28,'４実績'!$A$16:$AO$46,22,FALSE)),IF(B28=\"\",\"\",'４実績'!$AC$4)&IF(B28=\"\",\"\",VLOOKUP(B28,'４実績'!$A$16:$AO$46,22,FALSE)))","v":""},null,null,null,null,{"$f":"IF(IF(B28=\"\",\"\",VLOOKUP(B28,'４実績'!$A$16:$AO$46,5,FALSE))=0,IF(B28=\"\",\"\",VLOOKUP(B28,'４実績'!$A$16:$AO$46,12,FALSE)),IF(B28=\"\",\"\",VLOOKUP(B28,'４実績'!$A$16:$AO$46,5,FALSE)))","v":""},"～",{"$f":"IF(IF(B28=\"\",\"\",VLOOKUP(B28,'４実績'!$A$16:$AO$46,16,FALSE))=0,IF(B28=\"\",\"\",VLOOKUP(B28,'４実績'!$A$16:$AO$46,9,FALSE)),IF(B28=\"\",\"\",VLOOKUP(B28,'４実績'!$A$16:$AO$46,16,FALSE)))","v":""},{"$f":"IF(K28=\"\",\"\",M28-K28)","v":""},{"$f":"IF(B28=\"\",\"\",VLOOKUP(B28,'４実績'!$A$16:$AO$46,34,FALSE))","v":""},null,null,null,null,21]
[null,null,null,null,null,null,null,null,null,null,null,null,null,null,null,null,null,null,null,22]
[null,null,null,null,null,null,null,null,null,null,null,null,null,null,null,null,null,null,null,23]
[null,null,null,null,null,null,null,null,null,null,null,null,null,null,null,null,null,"　　　",null,24]
[null,{"$f":"IF(T14=\"\",\"\",T14)","v":""},{"$f":"IF(B32=\"\",\"\",TEXT(DATE(2018+$F$3,$H$3,B32),\"aaa\"))","v":""},"　　　","　　　",{"$f":"IF(IF(B32=\"\",\"\",VLOOKUP(B32,'４実績'!$A$16:$BK$46,63))=\"大会\",IF(B32=\"\",\"\",VLOOKUP(B32,'４実績'!$A$16:$AO$46,22,FALSE)),IF(B32=\"\",\"\",'４実績'!$AC$4)&IF(B32=\"\",\"\",VLOOKUP(B32,'４実績'!$A$16:$AO$46,22,FALSE)))","v":""},null,null,null,null,{"$f":"IF(IF(B32=\"\",\"\",VLOOKUP(B32,'４実績'!$A$16:$AO$46,5,FALSE))=0,IF(B32=\"\",\"\",VLOOKUP(B32,'４実績'!$A$16:$AO$46,12,FALSE)),IF(B32=\"\",\"\",VLOOKUP(B32,'４実績'!$A$16:$AO$46,5,FALSE)))","v":""},"～",{"$f":"IF(IF(B32=\"\",\"\",VLOOKUP(B32,'４実績'!$A$16:$AO$46,16,FALSE))=0,IF(B32=\"\",\"\",VLOOKUP(B32,'４実績'!$A$16:$AO$46,9,FALSE)),IF(B32=\"\",\"\",VLOOKUP(B32,'４実績'!$A$16:$AO$46,16,FALSE)))","v":""},{"$f":"IF(K32=\"\",\"\",M32-K32)","v":""},{"$f":"IF(B32=\"\",\"\",VLOOKUP(B32,'４実績'!$A$16:$AO$46,34,FALSE))","v":""},null,null,null,null,25]
[null,null,null,null,null,null,null,null,null,null,null,null,null,null,null,null,null,null,null,26]
[null,null,null,null,null,null,null,null,null,null,null,null,null,null,null,null,null,null,null,27]
[null,null,null,null,null,null,null,null,null,null,null,null,null,null,null,null,null,"　　　",null,28]
[null,{"$f":"IF(T15=\"\",\"\",T15)","v":""},{"$f":"IF(B36=\"\",\"\",TEXT(DATE(2018+$F$3,$H$3,B36),\"aaa\"))","v":""},"　　　","　　　",{"$f":"IF(IF(B36=\"\",\"\",VLOOKUP(B36,'４実績'!$A$16:$BK$46,63))=\"大会\",IF(B36=\"\",\"\",VLOOKUP(B36,'４実績'!$A$16:$AO$46,22,FALSE)),IF(B36=\"\",\"\",'４実績'!$AC$4)&IF(B36=\"\",\"\",VLOOKUP(B36,'４実績'!$A$16:$AO$46,22,FALSE)))","v":""},null,null,null,null,{"$f":"IF(IF(B36=\"\",\"\",VLOOKUP(B36,'４実績'!$A$16:$AO$46,5,FALSE))=0,IF(B36=\"\",\"\",VLOOKUP(B36,'４実績'!$A$16:$AO$46,12,FALSE)),IF(B36=\"\",\"\",VLOOKUP(B36,'４実績'!$A$16:$AO$46,5,FALSE)))","v":""},"～",{"$f":"IF(IF(B36=\"\",\"\",VLOOKUP(B36,'４実績'!$A$16:$AO$46,16,FALSE))=0,IF(B36=\"\",\"\",VLOOKUP(B36,'４実績'!$A$16:$AO$46,9,FALSE)),IF(B36=\"\",\"\",VLOOKUP(B36,'４実績'!$A$16:$AO$46,16,FALSE)))","v":""},{"$f":"IF(K36=\"\",\"\",M36-K36)","v":""},{"$f":"IF(B36=\"\",\"\",VLOOKUP(B36,'４実績'!$A$16:$AO$46,34,FALSE))","v":""},null,null,null,null,29]
[null,null,null,null,null,null,null,null,null,null,null,null,null,null,null,null,null,null,null,30]
[]
[null,null,null,null,null,null,null,null,null,null,null,null,null,null,null,null,null,"　　　"]
[null,{"$f":"IF(T16=\"\",\"\",T16)","v":""},{"$f":"IF(B40=\"\",\"\",TEXT(DATE(2018+$F$3,$H$3,B40),\"aaa\"))","v":""},"　　　","　　　",{"$f":"IF(IF(B40=\"\",\"\",VLOOKUP(B40,'４実績'!$A$16:$BK$46,63))=\"大会\",IF(B40=\"\",\"\",VLOOKUP(B40,'４実績'!$A$16:$AO$46,22,FALSE)),IF(B40=\"\",\"\",'４実績'!$AC$4)&IF(B40=\"\",\"\",VLOOKUP(B40,'４実績'!$A$16:$AO$46,22,FALSE)))","v":""},null,null,null,null,{"$f":"IF(IF(B40=\"\",\"\",VLOOKUP(B40,'４実績'!$A$16:$AO$46,5,FALSE))=0,IF(B40=\"\",\"\",VLOOKUP(B40,'４実績'!$A$16:$AO$46,12,FALSE)),IF(B40=\"\",\"\",VLOOKUP(B40,'４実績'!$A$16:$AO$46,5,FALSE)))","v":""},"～",{"$f":"IF(IF(B40=\"\",\"\",VLOOKUP(B40,'４実績'!$A$16:$AO$46,16,FALSE))=0,IF(B40=\"\",\"\",VLOOKUP(B40,'４実績'!$A$16:$AO$46,9,FALSE)),IF(B40=\"\",\"\",VLOOKUP(B40,'４実績'!$A$16:$AO$46,16,FALSE)))","v":""},{"$f":"IF(K40=\"\",\"\",M40-K40)","v":""},{"$f":"IF(B40=\"\",\"\",VLOOKUP(B40,'４実績'!$A$16:$AO$46,34,FALSE))","v":""}]
[]
[]
[null,null,null,null,null,null,null,null,null,null,null,null,null,null,null,null,null,"　　　"]
[null,"( 記入要領等 )"]
[null,"　         　１　この整理簿は、教員特殊業務手当及び面接指導手当の支給対象となるものについて、当該手当の支給に必要な事の整理をするものであること。"]
[null,"　　         ２　記入にあたっては、次のように記入すること。"]
[null,"　　　         　「要件」欄：週休日等　　　半日振替日　　　　その他"]
[null,"　　　　         「区分」欄：非常災害　　救急業務　　補導業務　　修学旅行等　　対外運動等　　入学試験業務　　　部活動４　　　　部活動３　　　部活動２　　　面接指導　　　　　"]
[null,"　　　　　　　　　　         ※部活動４は4時間以上、部活動３は３時間以上４時間未満、部活動２は2時間以上３時間未満をいう。"]
[null,"　　　　         「業務内容」欄：職員が従事した業務について、その内容を簡潔に記入すること。"]
[null,"　　　         　「従事時間」欄：左欄に手当の支給対象となる業務の終始の時刻を、右欄には時間を記入すること。"]
[null,"　　　         　「備考」欄：この整理簿を補足する事項を記入すること。"]

{"sheet":"５","index":27,"n_rows":52,"n_cols":20,"rows_kept":52,"cut":false,"hidden":false,"merged":[[39,17,41,17],[41,5,42,9],[43,1,43,3],[39,11,42,11],[39,12,42,12],[39,13,42,13],[39,14,42,14],[39,15,42,15],[39,16,42,16],[39,1,42,1],[39,2,42,2],[39,3,42,3],[39,4,42,4],[39,10,42,10],[39,5,40,9],[35,13,38,13],[35,14,38,14],[35,15,38,15],[35,16,38,16],[35,17,37,17],[37,5,38,9],[31,17,33,17],[33,5,34,9],[35,1,38,1],[35,2,38,2],[35,3,38,3],[35,4,38,4],[35,10,38,10],[35,11,38,11],[35,12,38,12],[31,11,34,11],[31,12,34,12],[31,13,34,13],[31,14,34,14],[31,15,34,15],[31,16,34,16],[31,1,34,1],[31,2,34,2],[31,3,34,3],[31,4,34,4],[31,10,34,10],[27,13,30,13],[27,14,30,14],[27,15,30,15],[27,16,30,16],[27,17,29,17],[29,5,30,9],[23,17,25,17],[25,5,26,9],[23,13,26,13],[23,14,26,14],[23,15,26,15],[23,16,26,16],[23,5,24,9],[27,5,28,9],[31,5,32,9],[27,1,30,1],[27,2,30,2],[27,3,30,3],[27,4,30,4],[27,10,30,10],[27,11,30,11],[27,12,30,12],[23,11,26,11],[23,12,26,12],[23,1,26,1],[23,2,26,2],[23,3,26,3],[23,4,26,4],[23,10,26,10],[19,1,22,1],[19,2,22,2],[19,3,22,3],[19,4,22,4],[19,10,22,10],[19,11,22,11],[19,12,22,12],[15,11,18,11],[15,12,18,12],[15,1,18,1],[15,2,18,2],[15,3,18,3],[11,15,14,15],[11,16,14,16],[11,17,13,17],[13,5,14,9],[11,5,12,9],[15,5,16,9],[19,13,22,13],[19,14,22,14],[19,15,22,15],[19,16,22,16],[19,17,21,17],[21,5,22,9],[15,17,17,17],[17,5,18,9],[15,13,18,13],[15,14,18,14],[15,15,18,15],[15,16,18,16],[19,5,20,9],[7,2,10,2],[7,3,10,3],[7,4,10,4],[7,10,10,10],[7,5,8,9],[15,4,18,4],[15,10,18,10],[11,13,14,13],[11,14,14,14],[35,5,36,9],[4,1,4,2],[4,3,4,4],[4,6,4,8],[4,9,4,10],[4,14,4,17],[6,5,6,9],[6,10,6,13],[7,17,9,17],[9,5,10,9],[7,13,10,13],[7,14,10,14],[7,15,10,15],[7,16,10,16],[11,1,14,1],[11,2,14,2],[11,3,14,3],[11,4,14,4],[11,10,14,10],[11,11,14,11],[11,12,14,12],[7,11,10,11],[7,12,10,12],[7,1,10,1]]}
[]
[]
[null,null,null,"          　　　　　　","令和",{"$f":"'5計画'!AS1-2018","v":2},"年",{"$f":"'5計画'!A7","v":5},"月分","　 教  員  特  殊  業  務  整  理  簿",null,null,null,null,null,null,null,"様式3"]
[]
[null,"氏　名",null,{"$f":"IF('５実績'!K10=\"\",\"\",'５実績'!K10)","v":0},null,"職員\n番号",{"$f":"IF('４'!G5=\"\",\"\",'４'!G5)","v":""},null,null,null,null,null,null,null,{"$f":"'４'!O5:R5","v":"0学校"}]
[]
[null,"日","曜","要　件","区　分","業　　務　　内　　容",null,null,null,null,"従　事　時　間",null,null,null,"従事場所","所属長\n確認印","従事者印","備　　考"]
[null,{"$f":"IF(T8=\"\",\"\",T8)","v":""},{"$f":"IF(B8=\"\",\"\",TEXT(DATE(2018+$F$3,$H$3,B8),\"aaa\"))","v":""},"　　　",null,{"$f":"IF(IF(B8=\"\",\"\",VLOOKUP(B8,'５実績'!$A$16:$BK$46,63))=\"大会\",IF(B8=\"\",\"\",VLOOKUP(B8,'５実績'!$A$16:$AO$46,22,FALSE)),IF(B8=\"\",\"\",'５実績'!$AC$4)&IF(B8=\"\",\"\",VLOOKUP(B8,'５実績'!$A$16:$AO$46,22,FALSE)))","v":""},null,null,null,null,{"$f":"IF(IF(B8=\"\",\"\",VLOOKUP(B8,'５実績'!$A$16:$AO$46,5,FALSE))=0,IF(B8=\"\",\"\",VLOOKUP(B8,'５実績'!$A$16:$AO$46,12,FALSE)),IF(B8=\"\",\"\",VLOOKUP(B8,'５実績'!$A$16:$AO$46,5,FALSE)))","v":""},"～",{"$f":"IF(IF(B8=\"\",\"\",VLOOKUP(B8,'５実績'!$A$16:$AO$46,16,FALSE))=0,IF(B8=\"\",\"\",VLOOKUP(B8,'５実績'!$A$16:$AO$46,9,FALSE)),IF(B8=\"\",\"\",VLOOKUP(B8,'５実績'!$A$16:$AO$46,16,FALSE)))","v":""},{"$f":"IF(K8=\"\",\"\",M8-K8)","v":""},{"$f":"IF(B8=\"\",\"\",VLOOKUP(B8,'５実績'!$A$16:$AO$46,34,FALSE))","v":""}]
[]
[]
[null,null,null,null,null,null,null,null,null,null,null,null,null,null,null,null,null,"　　　"]
[null,{"$f":"IF(T9=\"\",\"\",T9)","v":""},{"$f":"IF(B12=\"\",\"\",TEXT(DATE(2018+$F$3,$H$3,B12),\"aaa\"))","v":""},"　　　",null,{"$f":"IF(IF(B12=\"\",\"\",VLOOKUP(B12,'５実績'!$A$16:$BK$46,63))=\"大会\",IF(B12=\"\",\"\",VLOOKUP(B12,'５実績'!$A$16:$AO$46,22,FALSE)),IF(B12=\"\",\"\",'５実績'!$AC$4)&IF(B12=\"\",\"\",VLOOKUP(B12,'５実績'!$A$16:$AO$46,22,FALSE)))","v":""},null,null,null,null,{"$f":"IF(IF(B12=\"\",\"\",VLOOKUP(B12,'５実績'!$A$16:$AO$46,5,FALSE))=0,IF(B12=\"\",\"\",VLOOKUP(B12,'５実績'!$A$16:$AO$46,12,FALSE)),IF(B12=\"\",\"\",VLOOKUP(B12,'５実績'!$A$16:$AO$46,5,FALSE)))","v":""},"～",{"$f":"IF(IF(B12=\"\",\"\",VLOOKUP(B12,'５実績'!$A$16:$AO$46,16,FALSE))=0,IF(B12=\"\",\"\",VLOOKUP(B12,'５実績'!$A$16:$AO$46,9,FALSE)),IF(B12=\"\",\"\",VLOOKUP(B12,'５実績'!$A$16:$AO$46,16,FALSE)))","v":""},{"$f":"IF(K12=\"\",\"\",M12-K12)","v":""},{"$f":"IF(B12=\"\",\"\",VLOOKUP(B12,'５実績'!$A$16:$AO$46,34,FALSE))","v":""}]
[]
[]
[null,null,null,null,null,null,null,null,null,null,null,null,null,null,null,null,null,"　　　"]
[null,{"$f":"IF(T10=\"\",\"\",T10)","v":""},{"$f":"IF(B16=\"\",\"\",TEXT(DATE(2018+$F$3,$H$3,B16),\"aaa\"))","v":""},"　　　","　　　",{"$f":"IF(IF(B16=\"\",\"\",VLOOKUP(B16,'５実績'!$A$16:$BK$46,63))=\"大会\",IF(B16=\"\",\"\",VLOOKUP(B16,'５実績'!$A$16:$AO$46,22,FALSE)),IF(B16=\"\",\"\",'５実績'!$AC$4)&IF(B16=\"\",\"\",VLOOKUP(B16,'５実績'!$A$16:$AO$46,22,FALSE)))","v":""},null,null,null,null,{"$f":"IF(IF(B16=\"\",\"\",VLOOKUP(B16,'５実績'!$A$16:$AO$46,5,FALSE))=0,IF(B16=\"\",\"\",VLOOKUP(B16,'５実績'!$A$16:$AO$46,12,FALSE)),IF(B16=\"\",\"\",VLOOKUP(B16,'５実績'!$A$16:$AO$46,5,FALSE)))","v":""},"～",{"$f":"IF(IF(B16=\"\",\"\",VLOOKUP(B16,'５実績'!$A$16:$AO$46,16,FALSE))=0,IF(B16=\"\",\"\",VLOOKUP(B16,'５実績'!$A$16:$AO$46,9,FALSE)),IF(B16=\"\",\"\",VLOOKUP(B16,'５実績'!$A$16:$AO$46,16,FALSE)))","v":""},{"$f":"IF(K16=\"\",\"\",M16-K16)","v":""},{"$f":"IF(B16=\"\",\"\",VLOOKUP(B16,'５実績'!$A$16:$AO$46,34,FALSE))","v":""}]
[null,null,null,null,null,null,null,null,null,null,null,null,null,null,null,null,null,null,null,10]
[null,null,null,null,null,null,null,null,null,null,null,null,null,null,null,null,null,null,null,11]
[null,null,null,null,null,null,null,null,null,null,null,null,null,null,null,null,null,"　　　",null,12]
[null,{"$f":"IF(T11=\"\",\"\",T11)","v":""},{"$f":"IF(B20=\"\",\"\",TEXT(DATE(2018+$F$3,$H$3,B20),\"aaa\"))","v":""},"　　　","　　　",{"$f":"IF(IF(B20=\"\",\"\",VLOOKUP(B20,'５実績'!$A$16:$BK$46,63))=\"大会\",IF(B20=\"\",\"\",VLOOKUP(B20,'５実績'!$A$16:$AO$46,22,FALSE)),IF(B20=\"\",\"\",'５実績'!$AC$4)&IF(B20=\"\",\"\",VLOOKUP(B20,'５実績'!$A$16:$AO$46,22,FALSE)))","v":""},null,null,null,null,{"$f":"IF(IF(B20=\"\",\"\",VLOOKUP(B20,'５実績'!$A$16:$AO$46,5,FALSE))=0,IF(B20=\"\",\"\",VLOOKUP(B20,'５実績'!$A$16:$AO$46,12,FALSE)),IF(B20=\"\",\"\",VLOOKUP(B20,'５実績'!$A$16:$AO$46,5,FALSE)))","v":""},"～",{"$f":"IF(IF(B20=\"\",\"\",VLOOKUP(B20,'５実績'!$A$16:$AO$46,16,FALSE))=0,IF(B20=\"\",\"\",VLOOKUP(B20,'５実績'!$A$16:$AO$46,9,FALSE)),IF(B20=\"\",\"\",VLOOKUP(B20,'５実績'!$A$16:$AO$46,16,FALSE)))","v":""},{"$f":"IF(K20=\"\",\"\",M20-K20)","v":""},{"$f":"IF(B20=\"\",\"\",VLOOKUP(B20,'５実績'!$A$16:$AO$46,34,FALSE))","v":""},null,null,null,null,13]
[null,null,null,null,null,null,null,null,null,null,null,null,null,null,null,null,null,null,null,14]
[null,null,null,null,null,null,null,null,null,null,null,null,null,null,null,null,null,null,null,15]
[null,null,null,null,null,null,null,null,null,null,null,null,null,null,null,null,null,"　　　",null,16]
[null,{"$f":"IF(T12=\"\",\"\",T12)","v":""},{"$f":"IF(B24=\"\",\"\",TEXT(DATE(2018+$F$3,$H$3,B24),\"aaa\"))","v":""},"　　　","　　　",{"$f":"IF(IF(B24=\"\",\"\",VLOOKUP(B24,'５実績'!$A$16:$BK$46,63))=\"大会\",IF(B24=\"\",\"\",VLOOKUP(B24,'５実績'!$A$16:$AO$46,22,FALSE)),IF(B24=\"\",\"\",'５実績'!$AC$4)&IF(B24=\"\",\"\",VLOOKUP(B24,'５実績'!$A$16:$AO$46,22,FALSE)))","v":""},null,null,null,null,{"$f":"IF(IF(B24=\"\",\"\",VLOOKUP(B24,'５実績'!$A$16:$AO$46,5,FALSE))=0,IF(B24=\"\",\"\",VLOOKUP(B24,'５実績'!$A$16:$AO$46,12,FALSE)),IF(B24=\"\",\"\",VLOOKUP(B24,'５実績'!$A$16:$AO$46,5,FALSE)))","v":""},"～",{"$f":"IF(IF(B24=\"\",\"\",VLOOKUP(B24,'５実績'!$A$16:$AO$46,16,FALSE))=0,IF(B24=\"\",\"\",VLOOKUP(B24,'５実績'!$A$16:$AO$46,9,FALSE)),IF(B24=\"\",\"\",VLOOKUP(B24,'５実績'!$A$16:$AO$46,16,FALSE)))","v":""},{"$f":"IF(K24=\"\",\"\",M24-K24)","v":""},{"$f":"IF(B24=\"\",\"\",VLOOKUP(B24,'５実績'!$A$16:$AO$46,34,FALSE))","v":""},null,null,null,null,17]
[null,null,null,null,null,null,null,null,null,null,null,null,null,null,null,null,null,null,null,18]
[null,null,null,null,null,null,null,null,null,null,null,null,null,null,null,null,null,null,null,19]
[null,null,null,null,null,null,null,null,null,null,null,null,null,null,null,null,null,"　　　",null,20]
[null,{"$f":"IF(T13=\"\",\"\",T13)","v":""},{"$f":"IF(B28=\"\",\"\",TEXT(DATE(2018+$F$3,$H$3,B28),\"aaa\"))","v":""},"　　　","　　　",{"$f":"IF(IF(B28=\"\",\"\",VLOOKUP(B28,'５実績'!$A$16:$BK$46,63))=\"大会\",IF(B28=\"\",\"\",VLOOKUP(B28,'５実績'!$A$16:$AO$46,22,FALSE)),IF(B28=\"\",\"\",'５実績'!$AC$4)&IF(B28=\"\",\"\",VLOOKUP(B28,'５実績'!$A$16:$AO$46,22,FALSE)))","v":""},null,null,null,null,{"$f":"IF(IF(B28=\"\",\"\",VLOOKUP(B28,'５実績'!$A$16:$AO$46,5,FALSE))=0,IF(B28=\"\",\"\",VLOOKUP(B28,'５実績'!$A$16:$AO$46,12,FALSE)),IF(B28=\"\",\"\",VLOOKUP(B28,'５実績'!$A$16:$AO$46,5,FALSE)))","v":""},"～",{"$f":"IF(IF(B28=\"\",\"\",VLOOKUP(B28,'５実績'!$A$16:$AO$46,16,FALSE))=0,IF(B28=\"\",\"\",VLOOKUP(B28,'５実績'!$A$16:$AO$46,9,FALSE)),IF(B28=\"\",\"\",VLOOKUP(B28,'５実績'!$A$16:$AO$46,16,FALSE)))","v":""},{"$f":"IF(K28=\"\",\"\",M28-K28)","v":""},{"$f":"IF(B28=\"\",\"\",VLOOKUP(B28,'５実績'!$A$16:$AO$46,34,FALSE))","v":""},null,null,null,null,21]
[null,null,null,null,null,null,null,null,null,null,null,null,null,null,null,null,null,null,null,22]
[null,null,null,null,null,null,null,null,null,null,null,null,null,null,null,null,null,null,null,23]
[null,null,null,null,null,null,null,null,null,null,null,null,null,null,null,null,null,"　　　",null,24]
[null,{"$f":"IF(T14=\"\",\"\",T14)","v":""},{"$f":"IF(B32=\"\",\"\",TEXT(DATE(2018+$F$3,$H$3,B32),\"aaa\"))","v":""},"　　　","　　　",{"$f":"IF(IF(B32=\"\",\"\",VLOOKUP(B32,'５実績'!$A$16:$BK$46,63))=\"大会\",IF(B32=\"\",\"\",VLOOKUP(B32,'５実績'!$A$16:$AO$46,22,FALSE)),IF(B32=\"\",\"\",'５実績'!$AC$4)&IF(B32=\"\",\"\",VLOOKUP(B32,'５実績'!$A$16:$AO$46,22,FALSE)))","v":""},null,null,null,null,{"$f":"IF(IF(B32=\"\",\"\",VLOOKUP(B32,'５実績'!$A$16:$AO$46,5,FALSE))=0,IF(B32=\"\",\"\",VLOOKUP(B32,'５実績'!$A$16:$AO$46,12,FALSE)),IF(B32=\"\",\"\",VLOOKUP(B32,'５実績'!$A$16:$AO$46,5,FALSE)))","v":""},"～",{"$f":"IF(IF(B32=\"\",\"\",VLOOKUP(B32,'５実績'!$A$16:$AO$46,16,FALSE))=0,IF(B32=\"\",\"\",VLOOKUP(B32,'５実績'!$A$16:$AO$46,9,FALSE)),IF(B32=\"\",\"\",VLOOKUP(B32,'５実績'!$A$16:$AO$46,16,FALSE)))","v":""},{"$f":"IF(K32=\"\",\"\",M32-K32)","v":""},{"$f":"IF(B32=\"\",\"\",VLOOKUP(B32,'５実績'!$A$16:$AO$46,34,FALSE))","v":""},null,null,null,null,25]
[null,null,null,null,null,null,null,null,null,null,null,null,null,null,null,null,null,null,null,26]
[null,null,null,null,null,null,null,null,null,null,null,null,null,null,null,null,null,null,null,27]
[null,null,null,null,null,null,null,null,null,null,null,null,null,null,null,null,null,"　　　",null,28]
[null,{"$f":"IF(T15=\"\",\"\",T15)","v":""},{"$f":"IF(B36=\"\",\"\",TEXT(DATE(2018+$F$3,$H$3,B36),\"aaa\"))","v":""},"　　　","　　　",{"$f":"IF(IF(B36=\"\",\"\",VLOOKUP(B36,'５実績'!$A$16:$BK$46,63))=\"大会\",IF(B36=\"\",\"\",VLOOKUP(B36,'５実績'!$A$16:$AO$46,22,FALSE)),IF(B36=\"\",\"\",'５実績'!$AC$4)&IF(B36=\"\",\"\",VLOOKUP(B36,'５実績'!$A$16:$AO$46,22,FALSE)))","v":""},null,null,null,null,{"$f":"IF(IF(B36=\"\",\"\",VLOOKUP(B36,'５実績'!$A$16:$AO$46,5,FALSE))=0,IF(B36=\"\",\"\",VLOOKUP(B36,'５実績'!$A$16:$AO$46,12,FALSE)),IF(B36=\"\",\"\",VLOOKUP(B36,'５実績'!$A$16:$AO$46,5,FALSE)))","v":""},"～",{"$f":"IF(IF(B36=\"\",\"\",VLOOKUP(B36,'５実績'!$A$16:$AO$46,16,FALSE))=0,IF(B36=\"\",\"\",VLOOKUP(B36,'５実績'!$A$16:$AO$46,9,FALSE)),IF(B36=\"\",\"\",VLOOKUP(B36,'５実績'!$A$16:$AO$46,16,FALSE)))","v":""},{"$f":"IF(K36=\"\",\"\",M36-K36)","v":""},{"$f":"IF(B36=\"\",\"\",VLOOKUP(B36,'５実績'!$A$16:$AO$46,34,FALSE))","v":""},null,null,null,null,29]
[null,null,null,null,null,null,null,null,null,null,null,null,null,null,null,null,null,null,null,30]
[null,null,null,null,null,null,null,null,null,null,null,null,null,null,null,null,null,null,null,31]
[null,null,null,null,null,null,null,null,null,null,null,null,null,null,null,null,null,"　　　"]
[null,{"$f":"IF(T16=\"\",\"\",T16)","v":""},{"$f":"IF(B40=\"\",\"\",TEXT(DATE(2018+$F$3,$H$3,B40),\"aaa\"))","v":""},"　　　","　　　",{"$f":"IF(IF(B40=\"\",\"\",VLOOKUP(B40,'５実績'!$A$16:$BK$46,63))=\"大会\",IF(B40=\"\",\"\",VLOOKUP(B40,'５実績'!$A$16:$AO$46,22,FALSE)),IF(B40=\"\",\"\",'５実績'!$AC$4)&IF(B40=\"\",\"\",VLOOKUP(B40,'５実績'!$A$16:$AO$46,22,FALSE)))","v":""},null,null,null,null,{"$f":"IF(IF(B40=\"\",\"\",VLOOKUP(B40,'５実績'!$A$16:$AO$46,5,FALSE))=0,IF(B40=\"\",\"\",VLOOKUP(B40,'５実績'!$A$16:$AO$46,12,FALSE)),IF(B40=\"\",\"\",VLOOKUP(B40,'５実績'!$A$16:$AO$46,5,FALSE)))","v":""},"～",{"$f":"IF(IF(B40=\"\",\"\",VLOOKUP(B40,'５実績'!$A$16:$AO$46,16,FALSE))=0,IF(B40=\"\",\"\",VLOOKUP(B40,'５実績'!$A$16:$AO$46,9,FALSE)),IF(B40=\"\",\"\",VLOOKUP(B40,'５実績'!$A$16:$AO$46,16,FALSE)))","v":""},{"$f":"IF(K40=\"\",\"\",M40-K40)","v":""},{"$f":"IF(B40=\"\",\"\",VLOOKUP(B40,'５実績'!$A$16:$AO$46,34,FALSE))","v":""}]
[]
[]
[null,null,null,null,null,null,null,null,null,null,null,null,null,null,null,null,null,"　　　"]
[null,"( 記入要領等 )"]
[null,"　         　１　この整理簿は、教員特殊業務手当及び面接指導手当の支給対象となるものについて、当該手当の支給に必要な事の整理をするものであること。"]
[null,"　　         ２　記入にあたっては、次のように記入すること。"]
[null,"　　　         　「要件」欄：週休日等　　　半日振替日　　　　その他"]
[null,"　　　　         「区分」欄：非常災害　　救急業務　　補導業務　　修学旅行等　　対外運動等　　入学試験業務　　　部活動４　　　　部活動３　　　部活動２　　　面接指導　　　　　"]
[null,"　　　　　　　　　　         ※部活動４は4時間以上、部活動３は３時間以上４時間未満、部活動２は2時間以上３時間未満をいう。"]
[null,"　　　　         「業務内容」欄：職員が従事した業務について、その内容を簡潔に記入すること。"]
[null,"　　　         　「従事時間」欄：左欄に手当の支給対象となる業務の終始の時刻を、右欄には時間を記入すること。"]
[null,"　　　         　「備考」欄：この整理簿を補足する事項を記入すること。"]

{"sheet":"６","index":28,"n_rows":52,"n_cols":20,"rows_kept":52,"cut":false,"hidden":false,"merged":[[39,17,41,17],[41,5,42,9],[43,1,43,3],[39,11,42,11],[39,12,42,12],[39,13,42,13],[39,14,42,14],[39,15,42,15],[39,16,42,16],[39,1,42,1],[39,2,42,2],[39,3,42,3],[39,4,42,4],[39,10,42,10],[39,5,40,9],[35,13,38,13],[35,14,38,14],[35,15,38,15],[35,16,38,16],[35,17,37,17],[37,5,38,9],[31,17,33,17],[33,5,34,9],[35,1,38,1],[35,2,38,2],[35,3,38,3],[35,4,38,4],[35,10,38,10],[35,11,38,11],[35,12,38,12],[31,11,34,11],[31,12,34,12],[31,13,34,13],[31,14,34,14],[31,15,34,15],[31,16,34,16],[31,1,34,1],[31,2,34,2],[31,3,34,3],[31,4,34,4],[31,10,34,10],[27,13,30,13],[27,14,30,14],[27,15,30,15],[27,16,30,16],[27,17,29,17],[29,5,30,9],[23,17,25,17],[25,5,26,9],[23,13,26,13],[23,14,26,14],[23,15,26,15],[23,16,26,16],[23,5,24,9],[27,5,28,9],[31,5,32,9],[27,1,30,1],[27,2,30,2],[27,3,30,3],[27,4,30,4],[27,10,30,10],[27,11,30,11],[27,12,30,12],[23,11,26,11],[23,12,26,12],[23,1,26,1],[23,2,26,2],[23,3,26,3],[23,4,26,4],[23,10,26,10],[19,1,22,1],[19,2,22,2],[19,3,22,3],[19,4,22,4],[19,10,22,10],[19,11,22,11],[19,12,22,12],[15,11,18,11],[15,12,18,12],[15,1,18,1],[15,2,18,2],[15,3,18,3],[11,15,14,15],[11,16,14,16],[11,17,13,17],[13,5,14,9],[11,5,12,9],[15,5,16,9],[19,13,22,13],[19,14,22,14],[19,15,22,15],[19,16,22,16],[19,17,21,17],[21,5,22,9],[15,17,17,17],[17,5,18,9],[15,13,18,13],[15,14,18,14],[15,15,18,15],[15,16,18,16],[19,5,20,9],[7,2,10,2],[7,3,10,3],[7,4,10,4],[7,10,10,10],[7,5,8,9],[15,4,18,4],[15,10,18,10],[11,13,14,13],[11,14,14,14],[35,5,36,9],[4,1,4,2],[4,3,4,4],[4,6,4,8],[4,9,4,10],[4,14,4,17],[6,5,6,9],[6,10,6,13],[7,17,9,17],[9,5,10,9],[7,13,10,13],[7,14,10,14],[7,15,10,15],[7,16,10,16],[11,1,14,1],[11,2,14,2],[11,3,14,3],[11,4,14,4],[11,10,14,10],[11,11,14,11],[11,12,14,12],[7,11,10,11],[7,12,10,12],[7,1,10,1]]}
[]
[]
[null,null,null,"          　　　　　　","令和",{"$f":"'６計画'!AT1-2018","v":2},"年",{"$f":"'６計画'!A7","v":6},"月分","　 教  員  特  殊  業  務  整  理  簿",null,null,null,null,null,null,null,"様式3"]
[]
[null,"氏　名",null,{"$f":"IF('6実績'!K10=\"\",\"\",'6実績'!K10)","v":0},null,"職員\n番号",{"$f":"IF('４'!G5=\"\",\"\",'４'!G5)","v":""},null,null,null,null,null,null,null,{"$f":"'４'!O5:R5","v":"0学校"}]
[]
[null,"日","曜","要　件","区　分","業　　務　　内　　容",null,null,null,null,"従　事　時　間",null,null,null,"従事場所","所属長\n確認印","従事者印","備　　考"]
[null,{"$f":"IF(T8=\"\",\"\",T8)","v":""},{"$f":"IF(B8=\"\",\"\",TEXT(DATE(2018+$F$3,$H$3,B8),\"aaa\"))","v":""},"　　　","　　　",{"$f":"IF(IF(B8=\"\",\"\",VLOOKUP(B8,'6実績'!$A$16:$BK$46,63))=\"大会\",IF(B8=\"\",\"\",VLOOKUP(B8,'6実績'!$A$16:$AO$46,22,FALSE)),IF(B8=\"\",\"\",'6実績'!$AC$4)&IF(B8=\"\",\"\",VLOOKUP(B8,'6実績'!$A$16:$AO$46,22,FALSE)))","v":""},null,null,null,null,{"$f":"IF(IF(B8=\"\",\"\",VLOOKUP(B8,'6実績'!$A$16:$AO$46,5,FALSE))=0,IF(B8=\"\",\"\",VLOOKUP(B8,'6実績'!$A$16:$AO$46,12,FALSE)),IF(B8=\"\",\"\",VLOOKUP(B8,'6実績'!$A$16:$AO$46,5,FALSE)))","v":""},"～",{"$f":"IF(IF(B8=\"\",\"\",VLOOKUP(B8,'6実績'!$A$16:$AO$46,16,FALSE))=0,IF(B8=\"\",\"\",VLOOKUP(B8,'6実績'!$A$16:$AO$46,9,FALSE)),IF(B8=\"\",\"\",VLOOKUP(B8,'6実績'!$A$16:$AO$46,16,FALSE)))","v":""},{"$f":"IF(K8=\"\",\"\",M8-K8)","v":""},{"$f":"IF(B8=\"\",\"\",VLOOKUP(B8,'6実績'!$A$16:$AO$46,34,FALSE))","v":""}]
[]
[]
[null,null,null,null,null,null,null,null,null,null,null,null,null,null,null,null,null,"　　　"]
[null,{"$f":"IF(T9=\"\",\"\",T9)","v":""},{"$f":"IF(B12=\"\",\"\",TEXT(DATE(2018+$F$3,$H$3,B12),\"aaa\"))","v":""},"　　　","　　　",{"$f":"IF(IF(B12=\"\",\"\",VLOOKUP(B12,'6実績'!$A$16:$BK$46,63))=\"大会\",IF(B12=\"\",\"\",VLOOKUP(B12,'6実績'!$A$16:$AO$46,22,FALSE)),IF(B12=\"\",\"\",'6実績'!$AC$4)&IF(B12=\"\",\"\",VLOOKUP(B12,'6実績'!$A$16:$AO$46,22,FALSE)))","v":""},null,null,null,null,{"$f":"IF(IF(B12=\"\",\"\",VLOOKUP(B12,'6実績'!$A$16:$AO$46,5,FALSE))=0,IF(B12=\"\",\"\",VLOOKUP(B12,'6実績'!$A$16:$AO$46,12,FALSE)),IF(B12=\"\",\"\",VLOOKUP(B12,'6実績'!$A$16:$AO$46,5,FALSE)))","v":""},"～",{"$f":"IF(IF(B12=\"\",\"\",VLOOKUP(B12,'6実績'!$A$16:$AO$46,16,FALSE))=0,IF(B12=\"\",\"\",VLOOKUP(B12,'6実績'!$A$16:$AO$46,9,FALSE)),IF(B12=\"\",\"\",VLOOKUP(B12,'6実績'!$A$16:$AO$46,16,FALSE)))","v":""},{"$f":"IF(K12=\"\",\"\",M12-K12)","v":""},{"$f":"IF(B12=\"\",\"\",VLOOKUP(B12,'6実績'!$A$16:$AO$46,34,FALSE))","v":""}]
[]
[]
[null,null,null,null,null,null,null,null,null,null,null,null,null,null,null,null,null,"　　　"]
[null,{"$f":"IF(T10=\"\",\"\",T10)","v":""},{"$f":"IF(B16=\"\",\"\",TEXT(DATE(2018+$F$3,$H$3,B16),\"aaa\"))","v":""},"　　　","　　　",{"$f":"IF(IF(B16=\"\",\"\",VLOOKUP(B16,'6実績'!$A$16:$BK$46,63))=\"大会\",IF(B16=\"\",\"\",VLOOKUP(B16,'6実績'!$A$16:$AO$46,22,FALSE)),IF(B16=\"\",\"\",'6実績'!$AC$4)&IF(B16=\"\",\"\",VLOOKUP(B16,'6実績'!$A$16:$AO$46,22,FALSE)))","v":""},null,null,null,null,{"$f":"IF(IF(B16=\"\",\"\",VLOOKUP(B16,'6実績'!$A$16:$AO$46,5,FALSE))=0,IF(B16=\"\",\"\",VLOOKUP(B16,'6実績'!$A$16:$AO$46,12,FALSE)),IF(B16=\"\",\"\",VLOOKUP(B16,'6実績'!$A$16:$AO$46,5,FALSE)))","v":""},"～",{"$f":"IF(IF(B16=\"\",\"\",VLOOKUP(B16,'6実績'!$A$16:$AO$46,16,FALSE))=0,IF(B16=\"\",\"\",VLOOKUP(B16,'6実績'!$A$16:$AO$46,9,FALSE)),IF(B16=\"\",\"\",VLOOKUP(B16,'6実績'!$A$16:$AO$46,16,FALSE)))","v":""},{"$f":"IF(K16=\"\",\"\",M16-K16)","v":""},{"$f":"IF(B16=\"\",\"\",VLOOKUP(B16,'6実績'!$A$16:$AO$46,34,FALSE))","v":""}]
[null,null,null,null,null,null,null,null,null,null,null,null,null,null,null,null,null,null,null,10]
[null,null,null,null,null,null,null,null,null,null,null,null,null,null,null,null,null,null,null,11]
[null,null,null,null,null,null,null,null,null,null,null,null,null,null,null,null,null,"　　　",null,12]
[null,{"$f":"IF(T11=\"\",\"\",T11)","v":""},{"$f":"IF(B20=\"\",\"\",TEXT(DATE(2018+$F$3,$H$3,B20),\"aaa\"))","v":""},"　　　","　　　",{"$f":"IF(IF(B20=\"\",\"\",VLOOKUP(B20,'6実績'!$A$16:$BK$46,63))=\"大会\",IF(B20=\"\",\"\",VLOOKUP(B20,'6実績'!$A$16:$AO$46,22,FALSE)),IF(B20=\"\",\"\",'6実績'!$AC$4)&IF(B20=\"\",\"\",VLOOKUP(B20,'6実績'!$A$16:$AO$46,22,FALSE)))","v":""},null,null,null,null,{"$f":"IF(IF(B20=\"\",\"\",VLOOKUP(B20,'6実績'!$A$16:$AO$46,5,FALSE))=0,IF(B20=\"\",\"\",VLOOKUP(B20,'6実績'!$A$16:$AO$46,12,FALSE)),IF(B20=\"\",\"\",VLOOKUP(B20,'6実績'!$A$16:$AO$46,5,FALSE)))","v":""},"～",{"$f":"IF(IF(B20=\"\",\"\",VLOOKUP(B20,'6実績'!$A$16:$AO$46,16,FALSE))=0,IF(B20=\"\",\"\",VLOOKUP(B20,'6実績'!$A$16:$AO$46,9,FALSE)),IF(B20=\"\",\"\",VLOOKUP(B20,'6実績'!$A$16:$AO$46,16,FALSE)))","v":""},{"$f":"IF(K20=\"\",\"\",M20-K20)","v":""},{"$f":"IF(B20=\"\",\"\",VLOOKUP(B20,'6実績'!$A$16:$AO$46,34,FALSE))","v":""},null,null,null,null,13]
[null,null,null,null,null,null,null,null,null,null,null,null,null,null,null,null,null,null,null,14]
[null,null,null,null,null,null,null,null,null,null,null,null,null,null,null,null,null,null,null,15]
[null,null,null,null,null,null,null,null,null,null,null,null,null,null,null,null,null,"　　　",null,16]
[null,{"$f":"IF(T12=\"\",\"\",T12)","v":""},{"$f":"IF(B24=\"\",\"\",TEXT(DATE(2018+$F$3,$H$3,B24),\"aaa\"))","v":""},"　　　","　　　",{"$f":"IF(IF(B24=\"\",\"\",VLOOKUP(B24,'6実績'!$A$16:$BK$46,63))=\"大会\",IF(B24=\"\",\"\",VLOOKUP(B24,'6実績'!$A$16:$AO$46,22,FALSE)),IF(B24=\"\",\"\",'6実績'!$AC$4)&IF(B24=\"\",\"\",VLOOKUP(B24,'6実績'!$A$16:$AO$46,22,FALSE)))","v":""},null,null,null,null,{"$f":"IF(IF(B24=\"\",\"\",VLOOKUP(B24,'6実績'!$A$16:$AO$46,5,FALSE))=0,IF(B24=\"\",\"\",VLOOKUP(B24,'6実績'!$A$16:$AO$46,12,FALSE)),IF(B24=\"\",\"\",VLOOKUP(B24,'6実績'!$A$16:$AO$46,5,FALSE)))","v":""},"～",{"$f":"IF(IF(B24=\"\",\"\",VLOOKUP(B24,'6実績'!$A$16:$AO$46,16,FALSE))=0,IF(B24=\"\",\"\",VLOOKUP(B24,'6実績'!$A$16:$AO$46,9,FALSE)),IF(B24=\"\",\"\",VLOOKUP(B24,'6実績'!$A$16:$AO$46,16,FALSE)))","v":""},{"$f":"IF(K24=\"\",\"\",M24-K24)","v":""},{"$f":"IF(B24=\"\",\"\",VLOOKUP(B24,'6実績'!$A$16:$AO$46,34,FALSE))","v":""},null,null,null,null,17]
[null,null,null,null,null,null,null,null,null,null,null,null,null,null,null,null,null,null,null,18]
[null,null,null,null,null,null,null,null,null,null,null,null,null,null,null,null,null,null,null,19]
[null,null,null,null,null,null,null,null,null,null,null,null,null,null,null,null,null,"　　　",null,20]
[null,{"$f":"IF(T13=\"\",\"\",T13)","v":""},{"$f":"IF(B28=\"\",\"\",TEXT(DATE(2018+$F$3,$H$3,B28),\"aaa\"))","v":""},"　　　","　　　",{"$f":"IF(IF(B28=\"\",\"\",VLOOKUP(B28,'6実績'!$A$16:$BK$46,63))=\"大会\",IF(B28=\"\",\"\",VLOOKUP(B28,'6実績'!$A$16:$AO$46,22,FALSE)),IF(B28=\"\",\"\",'6実績'!$AC$4)&IF(B28=\"\",\"\",VLOOKUP(B28,'6実績'!$A$16:$AO$46,22,FALSE)))","v":""},null,null,null,null,{"$f":"IF(IF(B28=\"\",\"\",VLOOKUP(B28,'6実績'!$A$16:$AO$46,5,FALSE))=0,IF(B28=\"\",\"\",VLOOKUP(B28,'6実績'!$A$16:$AO$46,12,FALSE)),IF(B28=\"\",\"\",VLOOKUP(B28,'6実績'!$A$16:$AO$46,5,FALSE)))","v":""},"～",{"$f":"IF(IF(B28=\"\",\"\",VLOOKUP(B28,'6実績'!$A$16:$AO$46,16,FALSE))=0,IF(B28=\"\",\"\",VLOOKUP(B28,'6実績'!$A$16:$AO$46,9,FALSE)),IF(B28=\"\",\"\",VLOOKUP(B28,'6実績'!$A$16:$AO$46,16,FALSE)))","v":""},{"$f":"IF(K28=\"\",\"\",M28-K28)","v":""},{"$f":"IF(B28=\"\",\"\",VLOOKUP(B28,'6実績'!$A$16:$AO$46,34,FALSE))","v":""},null,null,null,null,21]
[null,null,null,null,null,null,null,null,null,null,null,null,null,null,null,null,null,null,null,22]
[null,null,null,null,null,null,null,null,null,null,null,null,null,null,null,null,null,null,null,23]
[null,null,null,null,null,null,null,null,null,null,null,null,null,null,null,null,null,"　　　",null,24]
[null,{"$f":"IF(T14=\"\",\"\",T14)","v":""},{"$f":"IF(B32=\"\",\"\",TEXT(DATE(2018+$F$3,$H$3,B32),\"aaa\"))","v":""},"　　　","　　　",{"$f":"IF(IF(B32=\"\",\"\",VLOOKUP(B32,'6実績'!$A$16:$BK$46,63))=\"大会\",IF(B32=\"\",\"\",VLOOKUP(B32,'6実績'!$A$16:$AO$46,22,FALSE)),IF(B32=\"\",\"\",'6実績'!$AC$4)&IF(B32=\"\",\"\",VLOOKUP(B32,'6実績'!$A$16:$AO$46,22,FALSE)))","v":""},null,null,null,null,{"$f":"IF(IF(B32=\"\",\"\",VLOOKUP(B32,'6実績'!$A$16:$AO$46,5,FALSE))=0,IF(B32=\"\",\"\",VLOOKUP(B32,'6実績'!$A$16:$AO$46,12,FALSE)),IF(B32=\"\",\"\",VLOOKUP(B32,'6実績'!$A$16:$AO$46,5,FALSE)))","v":""},"～",{"$f":"IF(IF(B32=\"\",\"\",VLOOKUP(B32,'6実績'!$A$16:$AO$46,16,FALSE))=0,IF(B32=\"\",\"\",VLOOKUP(B32,'6実績'!$A$16:$AO$46,9,FALSE)),IF(B32=\"\",\"\",VLOOKUP(B32,'6実績'!$A$16:$AO$46,16,FALSE)))","v":""},{"$f":"IF(K32=\"\",\"\",M32-K32)","v":""},{"$f":"IF(B32=\"\",\"\",VLOOKUP(B32,'6実績'!$A$16:$AO$46,34,FALSE))","v":""},null,null,null,null,25]
[null,null,null,null,null,null,null,null,null,null,null,null,null,null,null,null,null,null,null,26]
[null,null,null,null,null,null,null,null,null,null,null,null,null,null,null,null,null,null,null,27]
[null,null,null,null,null,null,null,null,null,null,null,null,null,null,null,null,null,"　　　",null,28]
[null,{"$f":"IF(T15=\"\",\"\",T15)","v":""},{"$f":"IF(B36=\"\",\"\",TEXT(DATE(2018+$F$3,$H$3,B36),\"aaa\"))","v":""},"　　　","　　　",{"$f":"IF(IF(B36=\"\",\"\",VLOOKUP(B36,'6実績'!$A$16:$BK$46,63))=\"大会\",IF(B36=\"\",\"\",VLOOKUP(B36,'6実績'!$A$16:$AO$46,22,FALSE)),IF(B36=\"\",\"\",'6実績'!$AC$4)&IF(B36=\"\",\"\",VLOOKUP(B36,'6実績'!$A$16:$AO$46,22,FALSE)))","v":""},null,null,null,null,{"$f":"IF(IF(B36=\"\",\"\",VLOOKUP(B36,'6実績'!$A$16:$AO$46,5,FALSE))=0,IF(B36=\"\",\"\",VLOOKUP(B36,'6実績'!$A$16:$AO$46,12,FALSE)),IF(B36=\"\",\"\",VLOOKUP(B36,'6実績'!$A$16:$AO$46,5,FALSE)))","v":""},"～",{"$f":"IF(IF(B36=\"\",\"\",VLOOKUP(B36,'6実績'!$A$16:$AO$46,16,FALSE))=0,IF(B36=\"\",\"\",VLOOKUP(B36,'6実績'!$A$16:$AO$46,9,FALSE)),IF(B36=\"\",\"\",VLOOKUP(B36,'6実績'!$A$16:$AO$46,16,FALSE)))","v":""},{"$f":"IF(K36=\"\",\"\",M36-K36)","v":""},{"$f":"IF(B36=\"\",\"\",VLOOKUP(B36,'6実績'!$A$16:$AO$46,34,FALSE))","v":""},null,null,null,null,29]
[null,null,null,null,null,null,null,null,null,null,null,null,null,null,null,null,null,null,null,30]
[]
[null,null,null,null,null,null,null,null,null,null,null,null,null,null,null,null,null,"　　　"]
[null,{"$f":"IF(T16=\"\",\"\",T16)","v":""},{"$f":"IF(B40=\"\",\"\",TEXT(DATE(2018+$F$3,$H$3,B40),\"aaa\"))","v":""},"　　　","　　　",{"$f":"IF(IF(B40=\"\",\"\",VLOOKUP(B40,'6実績'!$A$16:$BK$46,63))=\"大会\",IF(B40=\"\",\"\",VLOOKUP(B40,'6実績'!$A$16:$AO$46,22,FALSE)),IF(B40=\"\",\"\",'6実績'!$AC$4)&IF(B40=\"\",\"\",VLOOKUP(B40,'6実績'!$A$16:$AO$46,22,FALSE)))","v":""},null,null,null,null,{"$f":"IF(IF(B40=\"\",\"\",VLOOKUP(B40,'6実績'!$A$16:$AO$46,5,FALSE))=0,IF(B40=\"\",\"\",VLOOKUP(B40,'6実績'!$A$16:$AO$46,12,FALSE)),IF(B40=\"\",\"\",VLOOKUP(B40,'6実績'!$A$16:$AO$46,5,FALSE)))","v":""},"～",{"$f":"IF(IF(B40=\"\",\"\",VLOOKUP(B40,'6実績'!$A$16:$AO$46,16,FALSE))=0,IF(B40=\"\",\"\",VLOOKUP(B40,'6実績'!$A$16:$AO$46,9,FALSE)),IF(B40=\"\",\"\",VLOOKUP(B40,'6実績'!$A$16:$AO$46,16,FALSE)))","v":""},{"$f":"IF(K40=\"\",\"\",M40-K40)","v":""},{"$f":"IF(B40=\"\",\"\",VLOOKUP(B40,'6実績'!$A$16:$AO$46,34,FALSE))","v":""}]
[]
[]
[null,null,null,null,null,null,null,null,null,null,null,null,null,null,null,null,null,"　　　"]
[null,"( 記入要領等 )"]
[null,"　         　１　この整理簿は、教員特殊業務手当及び面接指導手当の支給対象となるものについて、当該手当の支給に必要な事の整理をするものであること。"]
[null,"　　         ２　記入にあたっては、次のように記入すること。"]
[null,"　　　         　「要件」欄：週休日等　　　半日振替日　　　　その他"]
[null,"　　　　         「区分」欄：非常災害　　救急業務　　補導業務　　修学旅行等　　対外運動等　　入学試験業務　　　部活動４　　　　部活動３　　　部活動２　　　面接指導　　　　　"]
[null,"　　　　　　　　　　         ※部活動４は4時間以上、部活動３は３時間以上４時間未満、部活動２は2時間以上３時間未満をいう。"]
[null,"　　　　         「業務内容」欄：職員が従事した業務について、その内容を簡潔に記入すること。"]
[null,"　　　         　「従事時間」欄：左欄に手当の支給対象となる業務の終始の時刻を、右欄には時間を記入すること。"]
[null,"　　　         　「備考」欄：この整理簿を補足する事項を記入すること。"]

{"sheet":"７","index":29,"n_rows":52,"n_cols":20,"rows_kept":52,"cut":false,"hidden":false,"merged":[[39,17,41,17],[41,5,42,9],[43,1,43,3],[39,11,42,11],[39,12,42,12],[39,13,42,13],[39,14,42,14],[39,15,42,15],[39,16,42,16],[39,1,42,1],[39,2,42,2],[39,3,42,3],[39,4,42,4],[39,10,42,10],[39,5,40,9],[35,13,38,13],[35,14,38,14],[35,15,38,15],[35,16,38,16],[35,17,37,17],[37,5,38,9],[31,17,33,17],[33,5,34,9],[35,1,38,1],[35,2,38,2],[35,3,38,3],[35,4,38,4],[35,10,38,10],[35,11,38,11],[35,12,38,12],[31,11,34,11],[31,12,34,12],[31,13,34,13],[31,14,34,14],[31,15,34,15],[31,16,34,16],[31,1,34,1],[31,2,34,2],[31,3,34,3],[31,4,34,4],[31,10,34,10],[27,13,30,13],[27,14,30,14],[27,15,30,15],[27,16,30,16],[27,17,29,17],[29,5,30,9],[23,17,25,17],[25,5,26,9],[23,13,26,13],[23,14,26,14],[23,15,26,15],[23,16,26,16],[31,5,32,9],[27,5,28,9],[23,5,24,9],[27,1,30,1],[27,2,30,2],[27,3,30,3],[27,4,30,4],[27,10,30,10],[27,11,30,11],[27,12,30,12],[23,11,26,11],[23,12,26,12],[23,1,26,1],[23,2,26,2],[23,3,26,3],[23,4,26,4],[23,10,26,10],[19,1,22,1],[19,2,22,2],[19,3,22,3],[19,4,22,4],[19,10,22,10],[19,11,22,11],[19,12,22,12],[15,11,18,11],[15,12,18,12],[15,1,18,1],[15,2,18,2],[15,3,18,3],[11,14,14,14],[11,15,14,15],[11,16,14,16],[11,17,13,17],[13,5,14,9],[15,5,16,9],[11,5,12,9],[19,13,22,13],[19,14,22,14],[19,15,22,15],[19,16,22,16],[19,17,21,17],[21,5,22,9],[15,17,17,17],[17,5,18,9],[15,13,18,13],[15,14,18,14],[15,15,18,15],[15,16,18,16],[7,1,10,1],[7,2,10,2],[7,3,10,3],[7,4,10,4],[7,10,10,10],[7,5,8,9],[15,4,18,4],[15,10,18,10],[11,13,14,13],[35,5,36,9],[19,5,20,9],[4,1,4,2],[4,3,4,4],[4,6,4,8],[4,9,4,10],[4,14,4,17],[6,5,6,9],[6,10,6,13],[7,17,9,17],[9,5,10,9],[7,13,10,13],[7,14,10,14],[7,15,10,15],[7,16,10,16],[11,1,14,1],[11,2,14,2],[11,3,14,3],[11,4,14,4],[11,10,14,10],[11,11,14,11],[11,12,14,12],[7,11,10,11],[7,12,10,12]]}
[]
[]
[null,null,null,"          　　　　　　","令和",{"$f":"'7計画'!AS1-2018","v":2},"年",{"$f":"'7計画'!A7","v":7},"月分","　 教  員  特  殊  業  務  整  理  簿",null,null,null,null,null,null,null,"様式3"]
[]
[null,"氏　名",null,{"$f":"IF('7実績'!K10=\"\",\"\",'7実績'!K10)","v":0},null,"職員\n番号",{"$f":"IF('４'!G5=\"\",\"\",'４'!G5)","v":""},null,null,null,null,null,null,null,{"$f":"'４'!O5:R5","v":"0学校"}]
[]
[null,"日","曜","要　件","区　分","業　　務　　内　　容",null,null,null,null,"従　事　時　間",null,null,null,"従事場所","所属長\n確認印","従事者印","備　　考"]
[null,{"$f":"IF(T8=\"\",\"\",T8)","v":""},{"$f":"IF(B8=\"\",\"\",TEXT(DATE(2018+$F$3,$H$3,B8),\"aaa\"))","v":""},"　　　","　　　",{"$f":"IF(IF(B8=\"\",\"\",VLOOKUP(B8,'7実績'!$A$16:$BK$46,63))=\"大会\",IF(B8=\"\",\"\",VLOOKUP(B8,'7実績'!$A$16:$AO$46,22,FALSE)),IF(B8=\"\",\"\",'7実績'!$AC$4)&IF(B8=\"\",\"\",VLOOKUP(B8,'7実績'!$A$16:$AO$46,22,FALSE)))","v":""},null,null,null,null,{"$f":"IF(IF(B8=\"\",\"\",VLOOKUP(B8,'7実績'!$A$16:$AO$46,5,FALSE))=0,IF(B8=\"\",\"\",VLOOKUP(B8,'7実績'!$A$16:$AO$46,12,FALSE)),IF(B8=\"\",\"\",VLOOKUP(B8,'7実績'!$A$16:$AO$46,5,FALSE)))","v":""},"～",{"$f":"IF(IF(B8=\"\",\"\",VLOOKUP(B8,'7実績'!$A$16:$AO$46,16,FALSE))=0,IF(B8=\"\",\"\",VLOOKUP(B8,'7実績'!$A$16:$AO$46,9,FALSE)),IF(B8=\"\",\"\",VLOOKUP(B8,'7実績'!$A$16:$AO$46,16,FALSE)))","v":""},{"$f":"IF(K8=\"\",\"\",M8-K8)","v":""},{"$f":"IF(B8=\"\",\"\",VLOOKUP(B8,'7実績'!$A$16:$AO$46,34,FALSE))","v":""}]
[]
[]
[null,null,null,null,null,null,null,null,null,null,null,null,null,null,null,null,null,"　　　"]
[null,{"$f":"IF(T9=\"\",\"\",T9)","v":""},{"$f":"IF(B12=\"\",\"\",TEXT(DATE(2018+$F$3,$H$3,B12),\"aaa\"))","v":""},"　　　","　　　",{"$f":"IF(IF(B12=\"\",\"\",VLOOKUP(B12,'7実績'!$A$16:$BK$46,63))=\"大会\",IF(B12=\"\",\"\",VLOOKUP(B12,'7実績'!$A$16:$AO$46,22,FALSE)),IF(B12=\"\",\"\",'7実績'!$AC$4)&IF(B12=\"\",\"\",VLOOKUP(B12,'7実績'!$A$16:$AO$46,22,FALSE)))","v":""},null,null,null,null,{"$f":"IF(IF(B12=\"\",\"\",VLOOKUP(B12,'7実績'!$A$16:$AO$46,5,FALSE))=0,IF(B12=\"\",\"\",VLOOKUP(B12,'7実績'!$A$16:$AO$46,12,FALSE)),IF(B12=\"\",\"\",VLOOKUP(B12,'7実績'!$A$16:$AO$46,5,FALSE)))","v":""},"～",{"$f":"IF(IF(B12=\"\",\"\",VLOOKUP(B12,'7実績'!$A$16:$AO$46,16,FALSE))=0,IF(B12=\"\",\"\",VLOOKUP(B12,'7実績'!$A$16:$AO$46,9,FALSE)),IF(B12=\"\",\"\",VLOOKUP(B12,'7実績'!$A$16:$AO$46,16,FALSE)))","v":""},{"$f":"IF(K12=\"\",\"\",M12-K12)","v":""},{"$f":"IF(B12=\"\",\"\",VLOOKUP(B12,'7実績'!$A$16:$AO$46,34,FALSE))","v":""}]
[]
[]
[null,null,null,null,null,null,null,null,null,null,null,null,null,null,null,null,null,"　　　"]
[null,{"$f":"IF(T10=\"\",\"\",T10)","v":""},{"$f":"IF(B16=\"\",\"\",TEXT(DATE(2018+$F$3,$H$3,B16),\"aaa\"))","v":""},"　　　","　　　",{"$f":"IF(IF(B16=\"\",\"\",VLOOKUP(B16,'7実績'!$A$16:$BK$46,63))=\"大会\",IF(B16=\"\",\"\",VLOOKUP(B16,'7実績'!$A$16:$AO$46,22,FALSE)),IF(B16=\"\",\"\",'7実績'!$AC$4)&IF(B16=\"\",\"\",VLOOKUP(B16,'7実績'!$A$16:$AO$46,22,FALSE)))","v":""},null,null,null,null,{"$f":"IF(IF(B16=\"\",\"\",VLOOKUP(B16,'7実績'!$A$16:$AO$46,5,FALSE))=0,IF(B16=\"\",\"\",VLOOKUP(B16,'7実績'!$A$16:$AO$46,12,FALSE)),IF(B16=\"\",\"\",VLOOKUP(B16,'7実績'!$A$16:$AO$46,5,FALSE)))","v":""},"～",{"$f":"IF(IF(B16=\"\",\"\",VLOOKUP(B16,'7実績'!$A$16:$AO$46,16,FALSE))=0,IF(B16=\"\",\"\",VLOOKUP(B16,'7実績'!$A$16:$AO$46,9,FALSE)),IF(B16=\"\",\"\",VLOOKUP(B16,'7実績'!$A$16:$AO$46,16,FALSE)))","v":""},{"$f":"IF(K16=\"\",\"\",M16-K16)","v":""},{"$f":"IF(B16=\"\",\"\",VLOOKUP(B16,'7実績'!$A$16:$AO$46,34,FALSE))","v":""}]
[null,null,null,null,null,null,null,null,null,null,null,null,null,null,null,null,null,null,null,10]
[null,null,null,null,null,null,null,null,null,null,null,null,null,null,null,null,null,null,null,11]
[null,null,null,null,null,null,null,null,null,null,null,null,null,null,null,null,null,"　　　",null,12]
[null,{"$f":"IF(T11=\"\",\"\",T11)","v":""},{"$f":"IF(B20=\"\",\"\",TEXT(DATE(2018+$F$3,$H$3,B20),\"aaa\"))","v":""},"　　　","　　　",{"$f":"IF(IF(B20=\"\",\"\",VLOOKUP(B20,'7実績'!$A$16:$BK$46,63))=\"大会\",IF(B20=\"\",\"\",VLOOKUP(B20,'7実績'!$A$16:$AO$46,22,FALSE)),IF(B20=\"\",\"\",'7実績'!$AC$4)&IF(B20=\"\",\"\",VLOOKUP(B20,'7実績'!$A$16:$AO$46,22,FALSE)))","v":""},null,null,null,null,{"$f":"IF(IF(B20=\"\",\"\",VLOOKUP(B20,'7実績'!$A$16:$AO$46,5,FALSE))=0,IF(B20=\"\",\"\",VLOOKUP(B20,'7実績'!$A$16:$AO$46,12,FALSE)),IF(B20=\"\",\"\",VLOOKUP(B20,'7実績'!$A$16:$AO$46,5,FALSE)))","v":""},"～",{"$f":"IF(IF(B20=\"\",\"\",VLOOKUP(B20,'7実績'!$A$16:$AO$46,16,FALSE))=0,IF(B20=\"\",\"\",VLOOKUP(B20,'7実績'!$A$16:$AO$46,9,FALSE)),IF(B20=\"\",\"\",VLOOKUP(B20,'7実績'!$A$16:$AO$46,16,FALSE)))","v":""},{"$f":"IF(K20=\"\",\"\",M20-K20)","v":""},{"$f":"IF(B20=\"\",\"\",VLOOKUP(B20,'7実績'!$A$16:$AO$46,34,FALSE))","v":""},null,null,null,null,13]
[null,null,null,null,null,null,null,null,null,null,null,null,null,null,null,null,null,null,null,14]
[null,null,null,null,null,null,null,null,null,null,null,null,null,null,null,null,null,null,null,15]
[null,null,null,null,null,null,null,null,null,null,null,null,null,null,null,null,null,"　　　",null,16]
[null,{"$f":"IF(T12=\"\",\"\",T12)","v":""},{"$f":"IF(B24=\"\",\"\",TEXT(DATE(2018+$F$3,$H$3,B24),\"aaa\"))","v":""},"　　　","　　　",{"$f":"IF(IF(B24=\"\",\"\",VLOOKUP(B24,'7実績'!$A$16:$BK$46,63))=\"大会\",IF(B24=\"\",\"\",VLOOKUP(B24,'7実績'!$A$16:$AO$46,22,FALSE)),IF(B24=\"\",\"\",'7実績'!$AC$4)&IF(B24=\"\",\"\",VLOOKUP(B24,'7実績'!$A$16:$AO$46,22,FALSE)))","v":""},null,null,null,null,{"$f":"IF(IF(B24=\"\",\"\",VLOOKUP(B24,'7実績'!$A$16:$AO$46,5,FALSE))=0,IF(B24=\"\",\"\",VLOOKUP(B24,'7実績'!$A$16:$AO$46,12,FALSE)),IF(B24=\"\",\"\",VLOOKUP(B24,'7実績'!$A$16:$AO$46,5,FALSE)))","v":""},"～",{"$f":"IF(IF(B24=\"\",\"\",VLOOKUP(B24,'7実績'!$A$16:$AO$46,16,FALSE))=0,IF(B24=\"\",\"\",VLOOKUP(B24,'7実績'!$A$16:$AO$46,9,FALSE)),IF(B24=\"\",\"\",VLOOKUP(B24,'7実績'!$A$16:$AO$46,16,FALSE)))","v":""},{"$f":"IF(K24=\"\",\"\",M24-K24)","v":""},{"$f":"IF(B24=\"\",\"\",VLOOKUP(B24,'7実績'!$A$16:$AO$46,34,FALSE))","v":""},null,null,null,null,17]
[null,null,null,null,null,null,null,null,null,null,null,null,null,null,null,null,null,null,null,18]
[null,null,null,null,null,null,null,null,null,null,null,null,null,null,null,null,null,null,null,19]
[null,null,null,null,null,null,null,null,null,null,null,null,null,null,null,null,null,"　　　",null,20]
[null,{"$f":"IF(T13=\"\",\"\",T13)","v":""},{"$f":"IF(B28=\"\",\"\",TEXT(DATE(2018+$F$3,$H$3,B28),\"aaa\"))","v":""},"　　　","　　　",{"$f":"IF(IF(B28=\"\",\"\",VLOOKUP(B28,'7実績'!$A$16:$BK$46,63))=\"大会\",IF(B28=\"\",\"\",VLOOKUP(B28,'7実績'!$A$16:$AO$46,22,FALSE)),IF(B28=\"\",\"\",'7実績'!$AC$4)&IF(B28=\"\",\"\",VLOOKUP(B28,'7実績'!$A$16:$AO$46,22,FALSE)))","v":""},null,null,null,null,{"$f":"IF(IF(B28=\"\",\"\",VLOOKUP(B28,'7実績'!$A$16:$AO$46,5,FALSE))=0,IF(B28=\"\",\"\",VLOOKUP(B28,'7実績'!$A$16:$AO$46,12,FALSE)),IF(B28=\"\",\"\",VLOOKUP(B28,'7実績'!$A$16:$AO$46,5,FALSE)))","v":""},"～",{"$f":"IF(IF(B28=\"\",\"\",VLOOKUP(B28,'7実績'!$A$16:$AO$46,16,FALSE))=0,IF(B28=\"\",\"\",VLOOKUP(B28,'7実績'!$A$16:$AO$46,9,FALSE)),IF(B28=\"\",\"\",VLOOKUP(B28,'7実績'!$A$16:$AO$46,16,FALSE)))","v":""},{"$f":"IF(K28=\"\",\"\",M28-K28)","v":""},{"$f":"IF(B28=\"\",\"\",VLOOKUP(B28,'7実績'!$A$16:$AO$46,34,FALSE))","v":""},null,null,null,null,21]
[null,null,null,null,null,null,null,null,null,null,null,null,null,null,null,null,null,null,null,22]
[null,null,null,null,null,null,null,null,null,null,null,null,null,null,null,null,null,null,null,23]
[null,null,null,null,null,null,null,null,null,null,null,null,null,null,null,null,null,"　　　",null,24]
[null,{"$f":"IF(T14=\"\",\"\",T14)","v":""},{"$f":"IF(B32=\"\",\"\",TEXT(DATE(2018+$F$3,$H$3,B32),\"aaa\"))","v":""},"　　　","　　　",{"$f":"IF(IF(B32=\"\",\"\",VLOOKUP(B32,'7実績'!$A$16:$BK$46,63))=\"大会\",IF(B32=\"\",\"\",VLOOKUP(B32,'7実績'!$A$16:$AO$46,22,FALSE)),IF(B32=\"\",\"\",'7実績'!$AC$4)&IF(B32=\"\",\"\",VLOOKUP(B32,'7実績'!$A$16:$AO$46,22,FALSE)))","v":""},null,null,null,null,{"$f":"IF(IF(B32=\"\",\"\",VLOOKUP(B32,'7実績'!$A$16:$AO$46,5,FALSE))=0,IF(B32=\"\",\"\",VLOOKUP(B32,'7実績'!$A$16:$AO$46,12,FALSE)),IF(B32=\"\",\"\",VLOOKUP(B32,'7実績'!$A$16:$AO$46,5,FALSE)))","v":""},"～",{"$f":"IF(IF(B32=\"\",\"\",VLOOKUP(B32,'7実績'!$A$16:$AO$46,16,FALSE))=0,IF(B32=\"\",\"\",VLOOKUP(B32,'7実績'!$A$16:$AO$46,9,FALSE)),IF(B32=\"\",\"\",VLOOKUP(B32,'7実績'!$A$16:$AO$46,16,FALSE)))","v":""},{"$f":"IF(K32=\"\",\"\",M32-K32)","v":""},{"$f":"IF(B32=\"\",\"\",VLOOKUP(B32,'7実績'!$A$16:$AO$46,34,FALSE))","v":""},null,null,null,null,25]
[null,null,null,null,null,null,null,null,null,null,null,null,null,null,null,null,null,null,null,26]
[null,null,null,null,null,null,null,null,null,null,null,null,null,null,null,null,null,null,null,27]
[null,null,null,null,null,null,null,null,null,null,null,null,null,null,null,null,null,"　　　",null,28]
[null,{"$f":"IF(T15=\"\",\"\",T15)","v":""},{"$f":"IF(B36=\"\",\"\",TEXT(DATE(2018+$F$3,$H$3,B36),\"aaa\"))","v":""},"　　　","　　　",{"$f":"IF(IF(B36=\"\",\"\",VLOOKUP(B36,'7実績'!$A$16:$BK$46,63))=\"大会\",IF(B36=\"\",\"\",VLOOKUP(B36,'7実績'!$A$16:$AO$46,22,FALSE)),IF(B36=\"\",\"\",'7実績'!$AC$4)&IF(B36=\"\",\"\",VLOOKUP(B36,'7実績'!$A$16:$AO$46,22,FALSE)))","v":""},null,null,null,null,{"$f":"IF(IF(B36=\"\",\"\",VLOOKUP(B36,'7実績'!$A$16:$AO$46,5,FALSE))=0,IF(B36=\"\",\"\",VLOOKUP(B36,'7実績'!$A$16:$AO$46,12,FALSE)),IF(B36=\"\",\"\",VLOOKUP(B36,'7実績'!$A$16:$AO$46,5,FALSE)))","v":""},"～",{"$f":"IF(IF(B36=\"\",\"\",VLOOKUP(B36,'7実績'!$A$16:$AO$46,16,FALSE))=0,IF(B36=\"\",\"\",VLOOKUP(B36,'7実績'!$A$16:$AO$46,9,FALSE)),IF(B36=\"\",\"\",VLOOKUP(B36,'7実績'!$A$16:$AO$46,16,FALSE)))","v":""},{"$f":"IF(K36=\"\",\"\",M36-K36)","v":""},{"$f":"IF(B36=\"\",\"\",VLOOKUP(B36,'7実績'!$A$16:$AO$46,34,FALSE))","v":""},null,null,null,null,29]
[null,null,null,null,null,null,null,null,null,null,null,null,null,null,null,null,null,null,null,30]
[null,null,null,null,null,null,null,null,null,null,null,null,null,null,null,null,null,null,null,31]
[null,null,null,null,null,null,null,null,null,null,null,null,null,null,null,null,null,"　　　"]
[null,{"$f":"IF(T16=\"\",\"\",T16)","v":""},{"$f":"IF(B40=\"\",\"\",TEXT(DATE(2018+$F$3,$H$3,B40),\"aaa\"))","v":""},"　　　","　　　",{"$f":"IF(IF(B40=\"\",\"\",VLOOKUP(B40,'7実績'!$A$16:$BK$46,63))=\"大会\",IF(B40=\"\",\"\",VLOOKUP(B40,'7実績'!$A$16:$AO$46,22,FALSE)),IF(B40=\"\",\"\",'7実績'!$AC$4)&IF(B40=\"\",\"\",VLOOKUP(B40,'7実績'!$A$16:$AO$46,22,FALSE)))","v":""},null,null,null,null,{"$f":"IF(IF(B40=\"\",\"\",VLOOKUP(B40,'7実績'!$A$16:$AO$46,5,FALSE))=0,IF(B40=\"\",\"\",VLOOKUP(B40,'7実績'!$A$16:$AO$46,12,FALSE)),IF(B40=\"\",\"\",VLOOKUP(B40,'7実績'!$A$16:$AO$46,5,FALSE)))","v":""},"～",{"$f":"IF(IF(B40=\"\",\"\",VLOOKUP(B40,'7実績'!$A$16:$AO$46,16,FALSE))=0,IF(B40=\"\",\"\",VLOOKUP(B40,'7実績'!$A$16:$AO$46,9,FALSE)),IF(B40=\"\",\"\",VLOOKUP(B40,'7実績'!$A$16:$AO$46,16,FALSE)))","v":""},{"$f":"IF(K40=\"\",\"\",M40-K40)","v":""},{"$f":"IF(B40=\"\",\"\",VLOOKUP(B40,'7実績'!$A$16:$AO$46,34,FALSE))","v":""}]
[]
[]
[null,null,null,null,null,null,null,null,null,null,null,null,null,null,null,null,null,"　　　"]
[null,"( 記入要領等 )"]
[null,"　         　１　この整理簿は、教員特殊業務手当及び面接指導手当の支給対象となるものについて、当該手当の支給に必要な事の整理をするものであること。"]
[null,"　　         ２　記入にあたっては、次のように記入すること。"]
[null,"　　　         　「要件」欄：週休日等　　　半日振替日　　　　その他"]
[null,"　　　　         「区分」欄：非常災害　　救急業務　　補導業務　　修学旅行等　　対外運動等　　入学試験業務　　　部活動４　　　　部活動３　　　部活動２　　　面接指導　　　　　"]
[null,"　　　　　　　　　　         ※部活動４は4時間以上、部活動３は３時間以上４時間未満、部活動２は2時間以上３時間未満をいう。"]
[null,"　　　　         「業務内容」欄：職員が従事した業務について、その内容を簡潔に記入すること。"]
[null,"　　　         　「従事時間」欄：左欄に手当の支給対象となる業務の終始の時刻を、右欄には時間を記入すること。"]
[null,"　　　         　「備考」欄：この整理簿を補足する事項を記入すること。"]

{"sheet":"８","index":30,"n_rows":52,"n_cols":20,"rows_kept":52,"cut":false,"hidden":false,"merged":[[39,17,41,17],[41,5,42,9],[43,1,43,3],[39,11,42,11],[39,12,42,12],[39,13,42,13],[39,14,42,14],[39,15,42,15],[39,16,42,16],[39,1,42,1],[39,2,42,2],[39,3,42,3],[39,4,42,4],[39,10,42,10],[39,5,40,9],[35,13,38,13],[35,14,38,14],[35,15,38,15],[35,16,38,16],[35,17,37,17],[37,5,38,9],[31,17,33,17],[33,5,34,9],[35,1,38,1],[35,2,38,2],[35,3,38,3],[35,4,38,4],[35,10,38,10],[35,11,38,11],[35,12,38,12],[31,11,34,11],[31,12,34,12],[31,13,34,13],[31,14,34,14],[31,15,34,15],[31,16,34,16],[31,1,34,1],[31,2,34,2],[31,3,34,3],[31,4,34,4],[31,10,34,10],[27,13,30,13],[27,14,30,14],[27,15,30,15],[27,16,30,16],[27,17,29,17],[29,5,30,9],[23,17,25,17],[25,5,26,9],[23,13,26,13],[23,14,26,14],[23,15,26,15],[23,16,26,16],[31,5,32,9],[27,5,28,9],[23,5,24,9],[27,1,30,1],[27,2,30,2],[27,3,30,3],[27,4,30,4],[27,10,30,10],[27,11,30,11],[27,12,30,12],[23,11,26,11],[23,12,26,12],[23,1,26,1],[23,2,26,2],[23,3,26,3],[23,4,26,4],[23,10,26,10],[19,1,22,1],[19,2,22,2],[19,3,22,3],[19,4,22,4],[19,10,22,10],[19,11,22,11],[19,12,22,12],[15,11,18,11],[15,12,18,12],[15,1,18,1],[15,2,18,2],[15,3,18,3],[11,14,14,14],[11,15,14,15],[11,16,14,16],[11,17,13,17],[13,5,14,9],[15,5,16,9],[11,5,12,9],[19,13,22,13],[19,14,22,14],[19,15,22,15],[19,16,22,16],[19,17,21,17],[21,5,22,9],[15,17,17,17],[17,5,18,9],[15,13,18,13],[15,14,18,14],[15,15,18,15],[15,16,18,16],[7,1,10,1],[7,2,10,2],[7,3,10,3],[7,4,10,4],[7,10,10,10],[7,5,8,9],[15,4,18,4],[15,10,18,10],[11,13,14,13],[35,5,36,9],[19,5,20,9],[4,1,4,2],[4,3,4,4],[4,6,4,8],[4,9,4,10],[4,14,4,17],[6,5,6,9],[6,10,6,13],[7,17,9,17],[9,5,10,9],[7,13,10,13],[7,14,10,14],[7,15,10,15],[7,16,10,16],[11,1,14,1],[11,2,14,2],[11,3,14,3],[11,4,14,4],[11,10,14,10],[11,11,14,11],[11,12,14,12],[7,11,10,11],[7,12,10,12]]}
[]
[]
[null,null,null,"          　　　　　　","令和",{"$f":"'8計画'!AS1-2018","v":2},"年",{"$f":"'8計画'!A7","v":8},"月分","　 教  員  特  殊  業  務  整  理  簿",null,null,null,null,null,null,null,"様式3"]
[]
[null,"氏　名",null,{"$f":"IF('8実績'!K10=\"\",\"\",'8実績'!K10)","v":0},null,"職員\n番号",{"$f":"IF('４'!G5=\"\",\"\",'４'!G5)","v":""},null,null,null,null,null,null,null,{"$f":"'４'!O5:R5","v":"0学校"}]
[]
[null,"日","曜","要　件","区　分","業　　務　　内　　容",null,null,null,null,"従　事　時　間",null,null,null,"従事場所","所属長\n確認印","従事者印","備　　考"]
[null,{"$f":"IF(T8=\"\",\"\",T8)","v":""},{"$f":"IF(B8=\"\",\"\",TEXT(DATE(2018+$F$3,$H$3,B8),\"aaa\"))","v":""},"　　　","　　　",{"$f":"IF(IF(B8=\"\",\"\",VLOOKUP(B8,'8実績'!$A$16:$BK$46,63))=\"大会\",IF(B8=\"\",\"\",VLOOKUP(B8,'8実績'!$A$16:$AO$46,22,FALSE)),IF(B8=\"\",\"\",'8実績'!$AC$4)&IF(B8=\"\",\"\",VLOOKUP(B8,'8実績'!$A$16:$AO$46,22,FALSE)))","v":""},null,null,null,null,{"$f":"IF(IF(B8=\"\",\"\",VLOOKUP(B8,'8実績'!$A$16:$AO$46,5,FALSE))=0,IF(B8=\"\",\"\",VLOOKUP(B8,'8実績'!$A$16:$AO$46,12,FALSE)),IF(B8=\"\",\"\",VLOOKUP(B8,'8実績'!$A$16:$AO$46,5,FALSE)))","v":""},"～",{"$f":"IF(IF(B8=\"\",\"\",VLOOKUP(B8,'8実績'!$A$16:$AO$46,16,FALSE))=0,IF(B8=\"\",\"\",VLOOKUP(B8,'8実績'!$A$16:$AO$46,9,FALSE)),IF(B8=\"\",\"\",VLOOKUP(B8,'8実績'!$A$16:$AO$46,16,FALSE)))","v":""},{"$f":"IF(K8=\"\",\"\",M8-K8)","v":""},{"$f":"IF(B8=\"\",\"\",VLOOKUP(B8,'8実績'!$A$16:$AO$46,34,FALSE))","v":""}]
[]
[]
[null,null,null,null,null,null,null,null,null,null,null,null,null,null,null,null,null,"　　　"]
[null,{"$f":"IF(T9=\"\",\"\",T9)","v":""},{"$f":"IF(B12=\"\",\"\",TEXT(DATE(2018+$F$3,$H$3,B12),\"aaa\"))","v":""},"　　　","　　　",{"$f":"IF(IF(B12=\"\",\"\",VLOOKUP(B12,'8実績'!$A$16:$BK$46,63))=\"大会\",IF(B12=\"\",\"\",VLOOKUP(B12,'8実績'!$A$16:$AO$46,22,FALSE)),IF(B12=\"\",\"\",'8実績'!$AC$4)&IF(B12=\"\",\"\",VLOOKUP(B12,'8実績'!$A$16:$AO$46,22,FALSE)))","v":""},null,null,null,null,{"$f":"IF(IF(B12=\"\",\"\",VLOOKUP(B12,'8実績'!$A$16:$AO$46,5,FALSE))=0,IF(B12=\"\",\"\",VLOOKUP(B12,'8実績'!$A$16:$AO$46,12,FALSE)),IF(B12=\"\",\"\",VLOOKUP(B12,'8実績'!$A$16:$AO$46,5,FALSE)))","v":""},"～",{"$f":"IF(IF(B12=\"\",\"\",VLOOKUP(B12,'8実績'!$A$16:$AO$46,16,FALSE))=0,IF(B12=\"\",\"\",VLOOKUP(B12,'8実績'!$A$16:$AO$46,9,FALSE)),IF(B12=\"\",\"\",VLOOKUP(B12,'8実績'!$A$16:$AO$46,16,FALSE)))","v":""},{"$f":"IF(K12=\"\",\"\",M12-K12)","v":""},{"$f":"IF(B12=\"\",\"\",VLOOKUP(B12,'8実績'!$A$16:$AO$46,34,FALSE))","v":""}]
[]
[]
[null,null,null,null,null,null,null,null,null,null,null,null,null,null,null,null,null,"　　　"]
[null,{"$f":"IF(T10=\"\",\"\",T10)","v":""},{"$f":"IF(B16=\"\",\"\",TEXT(DATE(2018+$F$3,$H$3,B16),\"aaa\"))","v":""},"　　　","　　　",{"$f":"IF(IF(B16=\"\",\"\",VLOOKUP(B16,'8実績'!$A$16:$BK$46,63))=\"大会\",IF(B16=\"\",\"\",VLOOKUP(B16,'8実績'!$A$16:$AO$46,22,FALSE)),IF(B16=\"\",\"\",'8実績'!$AC$4)&IF(B16=\"\",\"\",VLOOKUP(B16,'8実績'!$A$16:$AO$46,22,FALSE)))","v":""},null,null,null,null,{"$f":"IF(IF(B16=\"\",\"\",VLOOKUP(B16,'8実績'!$A$16:$AO$46,5,FALSE))=0,IF(B16=\"\",\"\",VLOOKUP(B16,'8実績'!$A$16:$AO$46,12,FALSE)),IF(B16=\"\",\"\",VLOOKUP(B16,'8実績'!$A$16:$AO$46,5,FALSE)))","v":""},"～",{"$f":"IF(IF(B16=\"\",\"\",VLOOKUP(B16,'8実績'!$A$16:$AO$46,16,FALSE))=0,IF(B16=\"\",\"\",VLOOKUP(B16,'8実績'!$A$16:$AO$46,9,FALSE)),IF(B16=\"\",\"\",VLOOKUP(B16,'8実績'!$A$16:$AO$46,16,FALSE)))","v":""},{"$f":"IF(K16=\"\",\"\",M16-K16)","v":""},{"$f":"IF(B16=\"\",\"\",VLOOKUP(B16,'8実績'!$A$16:$AO$46,34,FALSE))","v":""}]
[null,null,null,null,null,null,null,null,null,null,null,null,null,null,null,null,null,null,null,10]
[null,null,null,null,null,null,null,null,null,null,null,null,null,null,null,null,null,null,null,11]
[null,null,null,null,null,null,null,null,null,null,null,null,null,null,null,null,null,"　　　",null,12]
[null,{"$f":"IF(T11=\"\",\"\",T11)","v":""},{"$f":"IF(B20=\"\",\"\",TEXT(DATE(2018+$F$3,$H$3,B20),\"aaa\"))","v":""},"　　　","　　　",{"$f":"IF(IF(B20=\"\",\"\",VLOOKUP(B20,'8実績'!$A$16:$BK$46,63))=\"大会\",IF(B20=\"\",\"\",VLOOKUP(B20,'8実績'!$A$16:$AO$46,22,FALSE)),IF(B20=\"\",\"\",'8実績'!$AC$4)&IF(B20=\"\",\"\",VLOOKUP(B20,'8実績'!$A$16:$AO$46,22,FALSE)))","v":""},null,null,null,null,{"$f":"IF(IF(B20=\"\",\"\",VLOOKUP(B20,'8実績'!$A$16:$AO$46,5,FALSE))=0,IF(B20=\"\",\"\",VLOOKUP(B20,'8実績'!$A$16:$AO$46,12,FALSE)),IF(B20=\"\",\"\",VLOOKUP(B20,'8実績'!$A$16:$AO$46,5,FALSE)))","v":""},"～",{"$f":"IF(IF(B20=\"\",\"\",VLOOKUP(B20,'8実績'!$A$16:$AO$46,16,FALSE))=0,IF(B20=\"\",\"\",VLOOKUP(B20,'8実績'!$A$16:$AO$46,9,FALSE)),IF(B20=\"\",\"\",VLOOKUP(B20,'8実績'!$A$16:$AO$46,16,FALSE)))","v":""},{"$f":"IF(K20=\"\",\"\",M20-K20)","v":""},{"$f":"IF(B20=\"\",\"\",VLOOKUP(B20,'8実績'!$A$16:$AO$46,34,FALSE))","v":""},null,null,null,null,13]
[null,null,null,null,null,null,null,null,null,null,null,null,null,null,null,null,null,null,null,14]
[null,null,null,null,null,null,null,null,null,null,null,null,null,null,null,null,null,null,null,15]
[null,null,null,null,null,null,null,null,null,null,null,null,null,null,null,null,null,"　　　",null,16]
[null,{"$f":"IF(T12=\"\",\"\",T12)","v":""},{"$f":"IF(B24=\"\",\"\",TEXT(DATE(2018+$F$3,$H$3,B24),\"aaa\"))","v":""},"　　　","　　　",{"$f":"IF(IF(B24=\"\",\"\",VLOOKUP(B24,'8実績'!$A$16:$BK$46,63))=\"大会\",IF(B24=\"\",\"\",VLOOKUP(B24,'8実績'!$A$16:$AO$46,22,FALSE)),IF(B24=\"\",\"\",'8実績'!$AC$4)&IF(B24=\"\",\"\",VLOOKUP(B24,'8実績'!$A$16:$AO$46,22,FALSE)))","v":""},null,null,null,null,{"$f":"IF(IF(B24=\"\",\"\",VLOOKUP(B24,'8実績'!$A$16:$AO$46,5,FALSE))=0,IF(B24=\"\",\"\",VLOOKUP(B24,'8実績'!$A$16:$AO$46,12,FALSE)),IF(B24=\"\",\"\",VLOOKUP(B24,'8実績'!$A$16:$AO$46,5,FALSE)))","v":""},"～",{"$f":"IF(IF(B24=\"\",\"\",VLOOKUP(B24,'8実績'!$A$16:$AO$46,16,FALSE))=0,IF(B24=\"\",\"\",VLOOKUP(B24,'8実績'!$A$16:$AO$46,9,FALSE)),IF(B24=\"\",\"\",VLOOKUP(B24,'8実績'!$A$16:$AO$46,16,FALSE)))","v":""},{"$f":"IF(K24=\"\",\"\",M24-K24)","v":""},{"$f":"IF(B24=\"\",\"\",VLOOKUP(B24,'8実績'!$A$16:$AO$46,34,FALSE))","v":""},null,null,null,null,17]
[null,null,null,null,null,null,null,null,null,null,null,null,null,null,null,null,null,null,null,18]
[null,null,null,null,null,null,null,null,null,null,null,null,null,null,null,null,null,null,null,19]
[null,null,null,null,null,null,null,null,null,null,null,null,null,null,null,null,null,"　　　",null,20]
[null,{"$f":"IF(T13=\"\",\"\",T13)","v":""},{"$f":"IF(B28=\"\",\"\",TEXT(DATE(2018+$F$3,$H$3,B28),\"aaa\"))","v":""},"　　　","　　　",{"$f":"IF(IF(B28=\"\",\"\",VLOOKUP(B28,'8実績'!$A$16:$BK$46,63))=\"大会\",IF(B28=\"\",\"\",VLOOKUP(B28,'8実績'!$A$16:$AO$46,22,FALSE)),IF(B28=\"\",\"\",'8実績'!$AC$4)&IF(B28=\"\",\"\",VLOOKUP(B28,'8実績'!$A$16:$AO$46,22,FALSE)))","v":""},null,null,null,null,{"$f":"IF(IF(B28=\"\",\"\",VLOOKUP(B28,'8実績'!$A$16:$AO$46,5,FALSE))=0,IF(B28=\"\",\"\",VLOOKUP(B28,'8実績'!$A$16:$AO$46,12,FALSE)),IF(B28=\"\",\"\",VLOOKUP(B28,'8実績'!$A$16:$AO$46,5,FALSE)))","v":""},"～",{"$f":"IF(IF(B28=\"\",\"\",VLOOKUP(B28,'8実績'!$A$16:$AO$46,16,FALSE))=0,IF(B28=\"\",\"\",VLOOKUP(B28,'8実績'!$A$16:$AO$46,9,FALSE)),IF(B28=\"\",\"\",VLOOKUP(B28,'8実績'!$A$16:$AO$46,16,FALSE)))","v":""},{"$f":"IF(K28=\"\",\"\",M28-K28)","v":""},{"$f":"IF(B28=\"\",\"\",VLOOKUP(B28,'8実績'!$A$16:$AO$46,34,FALSE))","v":""},null,null,null,null,21]
[null,null,null,null,null,null,null,null,null,null,null,null,null,null,null,null,null,null,null,22]
[null,null,null,null,null,null,null,null,null,null,null,null,null,null,null,null,null,null,null,23]
[null,null,null,null,null,null,null,null,null,null,null,null,null,null,null,null,null,"　　　",null,24]
[null,{"$f":"IF(T14=\"\",\"\",T14)","v":""},{"$f":"IF(B32=\"\",\"\",TEXT(DATE(2018+$F$3,$H$3,B32),\"aaa\"))","v":""},"　　　","　　　",{"$f":"IF(IF(B32=\"\",\"\",VLOOKUP(B32,'8実績'!$A$16:$BK$46,63))=\"大会\",IF(B32=\"\",\"\",VLOOKUP(B32,'8実績'!$A$16:$AO$46,22,FALSE)),IF(B32=\"\",\"\",'8実績'!$AC$4)&IF(B32=\"\",\"\",VLOOKUP(B32,'8実績'!$A$16:$AO$46,22,FALSE)))","v":""},null,null,null,null,{"$f":"IF(IF(B32=\"\",\"\",VLOOKUP(B32,'8実績'!$A$16:$AO$46,5,FALSE))=0,IF(B32=\"\",\"\",VLOOKUP(B32,'8実績'!$A$16:$AO$46,12,FALSE)),IF(B32=\"\",\"\",VLOOKUP(B32,'8実績'!$A$16:$AO$46,5,FALSE)))","v":""},"～",{"$f":"IF(IF(B32=\"\",\"\",VLOOKUP(B32,'8実績'!$A$16:$AO$46,16,FALSE))=0,IF(B32=\"\",\"\",VLOOKUP(B32,'8実績'!$A$16:$AO$46,9,FALSE)),IF(B32=\"\",\"\",VLOOKUP(B32,'8実績'!$A$16:$AO$46,16,FALSE)))","v":""},{"$f":"IF(K32=\"\",\"\",M32-K32)","v":""},{"$f":"IF(B32=\"\",\"\",VLOOKUP(B32,'8実績'!$A$16:$AO$46,34,FALSE))","v":""},null,null,null,null,25]
[null,null,null,null,null,null,null,null,null,null,null,null,null,null,null,null,null,null,null,26]
[null,null,null,null,null,null,null,null,null,null,null,null,null,null,null,null,null,null,null,27]
[null,null,null,null,null,null,null,null,null,null,null,null,null,null,null,null,null,"　　　",null,28]
[null,{"$f":"IF(T15=\"\",\"\",T15)","v":""},{"$f":"IF(B36=\"\",\"\",TEXT(DATE(2018+$F$3,$H$3,B36),\"aaa\"))","v":""},"　　　","　　　",{"$f":"IF(IF(B36=\"\",\"\",VLOOKUP(B36,'8実績'!$A$16:$BK$46,63))=\"大会\",IF(B36=\"\",\"\",VLOOKUP(B36,'8実績'!$A$16:$AO$46,22,FALSE)),IF(B36=\"\",\"\",'8実績'!$AC$4)&IF(B36=\"\",\"\",VLOOKUP(B36,'8実績'!$A$16:$AO$46,22,FALSE)))","v":""},null,null,null,null,{"$f":"IF(IF(B36=\"\",\"\",VLOOKUP(B36,'8実績'!$A$16:$AO$46,5,FALSE))=0,IF(B36=\"\",\"\",VLOOKUP(B36,'8実績'!$A$16:$AO$46,12,FALSE)),IF(B36=\"\",\"\",VLOOKUP(B36,'8実績'!$A$16:$AO$46,5,FALSE)))","v":""},"～",{"$f":"IF(IF(B36=\"\",\"\",VLOOKUP(B36,'8実績'!$A$16:$AO$46,16,FALSE))=0,IF(B36=\"\",\"\",VLOOKUP(B36,'8実績'!$A$16:$AO$46,9,FALSE)),IF(B36=\"\",\"\",VLOOKUP(B36,'8実績'!$A$16:$AO$46,16,FALSE)))","v":""},{"$f":"IF(K36=\"\",\"\",M36-K36)","v":""},{"$f":"IF(B36=\"\",\"\",VLOOKUP(B36,'8実績'!$A$16:$AO$46,34,FALSE))","v":""},null,null,null,null,29]
[null,null,null,null,null,null,null,null,null,null,null,null,null,null,null,null,null,null,null,30]
[null,null,null,null,null,null,null,null,null,null,null,null,null,null,null,null,null,null,null,31]
[null,null,null,null,null,null,null,null,null,null,null,null,null,null,null,null,null,"　　　"]
[null,{"$f":"IF(T16=\"\",\"\",T16)","v":""},{"$f":"IF(B40=\"\",\"\",TEXT(DATE(2018+$F$3,$H$3,B40),\"aaa\"))","v":""},"　　　","　　　",{"$f":"IF(IF(B40=\"\",\"\",VLOOKUP(B40,'8実績'!$A$16:$BK$46,63))=\"大会\",IF(B40=\"\",\"\",VLOOKUP(B40,'8実績'!$A$16:$AO$46,22,FALSE)),IF(B40=\"\",\"\",'8実績'!$AC$4)&IF(B40=\"\",\"\",VLOOKUP(B40,'8実績'!$A$16:$AO$46,22,FALSE)))","v":""},null,null,null,null,{"$f":"IF(IF(B40=\"\",\"\",VLOOKUP(B40,'8実績'!$A$16:$AO$46,5,FALSE))=0,IF(B40=\"\",\"\",VLOOKUP(B40,'8実績'!$A$16:$AO$46,12,FALSE)),IF(B40=\"\",\"\",VLOOKUP(B40,'8実績'!$A$16:$AO$46,5,FALSE)))","v":""},"～",{"$f":"IF(IF(B40=\"\",\"\",VLOOKUP(B40,'8実績'!$A$16:$AO$46,16,FALSE))=0,IF(B40=\"\",\"\",VLOOKUP(B40,'8実績'!$A$16:$AO$46,9,FALSE)),IF(B40=\"\",\"\",VLOOKUP(B40,'8実績'!$A$16:$AO$46,16,FALSE)))","v":""},{"$f":"IF(K40=\"\",\"\",M40-K40)","v":""},{"$f":"IF(B40=\"\",\"\",VLOOKUP(B40,'8実績'!$A$16:$AO$46,34,FALSE))","v":""}]
[]
[]
[null,null,null,null,null,null,null,null,null,null,null,null,null,null,null,null,null,"　　　"]
[null,"( 記入要領等 )"]
[null,"　         　１　この整理簿は、教員特殊業務手当及び面接指導手当の支給対象となるものについて、当該手当の支給に必要な事の整理をするものであること。"]
[null,"　　         ２　記入にあたっては、次のように記入すること。"]
[null,"　　　         　「要件」欄：週休日等　　　半日振替日　　　　その他"]
[null,"　　　　         「区分」欄：非常災害　　救急業務　　補導業務　　修学旅行等　　対外運動等　　入学試験業務　　　部活動４　　　　部活動３　　　部活動２　　　面接指導　　　　　"]
[null,"　　　　　　　　　　         ※部活動４は4時間以上、部活動３は３時間以上４時間未満、部活動２は2時間以上３時間未満をいう。"]
[null,"　　　　         「業務内容」欄：職員が従事した業務について、その内容を簡潔に記入すること。"]
[null,"　　　         　「従事時間」欄：左欄に手当の支給対象となる業務の終始の時刻を、右欄には時間を記入すること。"]
[null,"　　　         　「備考」欄：この整理簿を補足する事項を記入すること。"]

{"sheet":"９","index":31,"n_rows":52,"n_cols":20,"rows_kept":52,"cut":false,"hidden":false,"merged":[[39,17,41,17],[41,5,42,9],[43,1,43,3],[39,11,42,11],[39,12,42,12],[39,13,42,13],[39,14,42,14],[39,15,42,15],[39,16,42,16],[39,1,42,1],[39,2,42,2],[39,3,42,3],[39,4,42,4],[39,10,42,10],[39,5,40,9],[35,13,38,13],[35,14,38,14],[35,15,38,15],[35,16,38,16],[35,17,37,17],[37,5,38,9],[31,17,33,17],[33,5,34,9],[35,1,38,1],[35,2,38,2],[35,3,38,3],[35,4,38,4],[35,10,38,10],[35,11,38,11],[35,12,38,12],[31,11,34,11],[31,12,34,12],[31,13,34,13],[31,14,34,14],[31,15,34,15],[31,16,34,16],[31,1,34,1],[31,2,34,2],[31,3,34,3],[31,4,34,4],[31,10,34,10],[27,13,30,13],[27,14,30,14],[27,15,30,15],[27,16,30,16],[27,17,29,17],[29,5,30,9],[23,17,25,17],[25,5,26,9],[23,13,26,13],[23,14,26,14],[23,15,26,15],[23,16,26,16],[31,5,32,9],[27,5,28,9],[23,5,24,9],[27,1,30,1],[27,2,30,2],[27,3,30,3],[27,4,30,4],[27,10,30,10],[27,11,30,11],[27,12,30,12],[23,11,26,11],[23,12,26,12],[23,1,26,1],[23,2,26,2],[23,3,26,3],[23,4,26,4],[23,10,26,10],[19,1,22,1],[19,2,22,2],[19,3,22,3],[19,4,22,4],[19,10,22,10],[19,11,22,11],[19,12,22,12],[15,11,18,11],[15,12,18,12],[15,1,18,1],[15,2,18,2],[15,3,18,3],[11,14,14,14],[11,15,14,15],[11,16,14,16],[11,17,13,17],[13,5,14,9],[15,5,16,9],[11,5,12,9],[19,13,22,13],[19,14,22,14],[19,15,22,15],[19,16,22,16],[19,17,21,17],[21,5,22,9],[15,17,17,17],[17,5,18,9],[15,13,18,13],[15,14,18,14],[15,15,18,15],[15,16,18,16],[7,1,10,1],[7,2,10,2],[7,3,10,3],[7,4,10,4],[7,10,10,10],[7,5,8,9],[15,4,18,4],[15,10,18,10],[11,13,14,13],[35,5,36,9],[19,5,20,9],[4,1,4,2],[4,3,4,4],[4,6,4,8],[4,9,4,10],[4,14,4,17],[6,5,6,9],[6,10,6,13],[7,17,9,17],[9,5,10,9],[7,13,10,13],[7,14,10,14],[7,15,10,15],[7,16,10,16],[11,1,14,1],[11,2,14,2],[11,3,14,3],[11,4,14,4],[11,10,14,10],[11,11,14,11],[11,12,14,12],[7,11,10,11],[7,12,10,12]]}
[]
[]
[null,null,null,"          　　　　　　","令和",{"$f":"'9計画'!AS1-2018","v":2},"年",{"$f":"'9計画'!A7","v":9},"月分","　 教  員  特  殊  業  務  整  理  簿",null,null,null,null,null,null,null,"様式3"]
[]
[null,"氏　名",null,{"$f":"IF('9実績'!K10=\"\",\"\",'9実績'!K10)","v":0},null,"職員\n番号",{"$f":"IF('４'!G5=\"\",\"\",'４'!G5)","v":""},null,null,null,null,null,null,null,{"$f":"'４'!O5:R5","v":"0学校"}]
[]
[null,"日","曜","要　件","区　分","業　　務　　内　　容",null,null,null,null,"従　事　時　間",null,null,null,"従事場所","所属長\n確認印","従事者印","備　　考"]
[null,{"$f":"IF(T8=\"\",\"\",T8)","v":""},{"$f":"IF(B8=\"\",\"\",TEXT(DATE(2018+$F$3,$H$3,B8),\"aaa\"))","v":""},"　　　","　　　",{"$f":"IF(IF(B8=\"\",\"\",VLOOKUP(B8,'9実績'!$A$16:$BK$46,63))=\"大会\",IF(B8=\"\",\"\",VLOOKUP(B8,'9実績'!$A$16:$AO$46,22,FALSE)),IF(B8=\"\",\"\",'9実績'!$AC$4)&IF(B8=\"\",\"\",VLOOKUP(B8,'9実績'!$A$16:$AO$46,22,FALSE)))","v":""},null,null,null,null,{"$f":"IF(IF(B8=\"\",\"\",VLOOKUP(B8,'9実績'!$A$16:$AO$46,5,FALSE))=0,IF(B8=\"\",\"\",VLOOKUP(B8,'9実績'!$A$16:$AO$46,12,FALSE)),IF(B8=\"\",\"\",VLOOKUP(B8,'9実績'!$A$16:$AO$46,5,FALSE)))","v":""},"～",{"$f":"IF(IF(B8=\"\",\"\",VLOOKUP(B8,'9実績'!$A$16:$AO$46,16,FALSE))=0,IF(B8=\"\",\"\",VLOOKUP(B8,'9実績'!$A$16:$AO$46,9,FALSE)),IF(B8=\"\",\"\",VLOOKUP(B8,'9実績'!$A$16:$AO$46,16,FALSE)))","v":""},{"$f":"IF(K8=\"\",\"\",M8-K8)","v":""},{"$f":"IF(B8=\"\",\"\",VLOOKUP(B8,'9実績'!$A$16:$AO$46,34,FALSE))","v":""}]
[]
[]
[null,null,null,null,null,null,null,null,null,null,null,null,null,null,null,null,null,"　　　"]
[null,{"$f":"IF(T9=\"\",\"\",T9)","v":""},{"$f":"IF(B12=\"\",\"\",TEXT(DATE(2018+$F$3,$H$3,B12),\"aaa\"))","v":""},"　　　","　　　",{"$f":"IF(IF(B12=\"\",\"\",VLOOKUP(B12,'9実績'!$A$16:$BK$46,63))=\"大会\",IF(B12=\"\",\"\",VLOOKUP(B12,'9実績'!$A$16:$AO$46,22,FALSE)),IF(B12=\"\",\"\",'9実績'!$AC$4)&IF(B12=\"\",\"\",VLOOKUP(B12,'9実績'!$A$16:$AO$46,22,FALSE)))","v":""},null,null,null,null,{"$f":"IF(IF(B12=\"\",\"\",VLOOKUP(B12,'9実績'!$A$16:$AO$46,5,FALSE))=0,IF(B12=\"\",\"\",VLOOKUP(B12,'9実績'!$A$16:$AO$46,12,FALSE)),IF(B12=\"\",\"\",VLOOKUP(B12,'9実績'!$A$16:$AO$46,5,FALSE)))","v":""},"～",{"$f":"IF(IF(B12=\"\",\"\",VLOOKUP(B12,'9実績'!$A$16:$AO$46,16,FALSE))=0,IF(B12=\"\",\"\",VLOOKUP(B12,'9実績'!$A$16:$AO$46,9,FALSE)),IF(B12=\"\",\"\",VLOOKUP(B12,'9実績'!$A$16:$AO$46,16,FALSE)))","v":""},{"$f":"IF(K12=\"\",\"\",M12-K12)","v":""},{"$f":"IF(B12=\"\",\"\",VLOOKUP(B12,'9実績'!$A$16:$AO$46,34,FALSE))","v":""}]
[]
[]
[null,null,null,null,null,null,null,null,null,null,null,null,null,null,null,null,null,"　　　"]
[null,{"$f":"IF(T10=\"\",\"\",T10)","v":""},{"$f":"IF(B16=\"\",\"\",TEXT(DATE(2018+$F$3,$H$3,B16),\"aaa\"))","v":""},"　　　","　　　",{"$f":"IF(IF(B16=\"\",\"\",VLOOKUP(B16,'9実績'!$A$16:$BK$46,63))=\"大会\",IF(B16=\"\",\"\",VLOOKUP(B16,'9実績'!$A$16:$AO$46,22,FALSE)),IF(B16=\"\",\"\",'9実績'!$AC$4)&IF(B16=\"\",\"\",VLOOKUP(B16,'9実績'!$A$16:$AO$46,22,FALSE)))","v":""},null,null,null,null,{"$f":"IF(IF(B16=\"\",\"\",VLOOKUP(B16,'9実績'!$A$16:$AO$46,5,FALSE))=0,IF(B16=\"\",\"\",VLOOKUP(B16,'9実績'!$A$16:$AO$46,12,FALSE)),IF(B16=\"\",\"\",VLOOKUP(B16,'9実績'!$A$16:$AO$46,5,FALSE)))","v":""},"～",{"$f":"IF(IF(B16=\"\",\"\",VLOOKUP(B16,'9実績'!$A$16:$AO$46,16,FALSE))=0,IF(B16=\"\",\"\",VLOOKUP(B16,'9実績'!$A$16:$AO$46,9,FALSE)),IF(B16=\"\",\"\",VLOOKUP(B16,'9実績'!$A$16:$AO$46,16,FALSE)))","v":""},{"$f":"IF(K16=\"\",\"\",M16-K16)","v":""},{"$f":"IF(B16=\"\",\"\",VLOOKUP(B16,'9実績'!$A$16:$AO$46,34,FALSE))","v":""}]
[null,null,null,null,null,null,null,null,null,null,null,null,null,null,null,null,null,null,null,10]
[null,null,null,null,null,null,null,null,null,null,null,null,null,null,null,null,null,null,null,11]
[null,null,null,null,null,null,null,null,null,null,null,null,null,null,null,null,null,"　　　",null,12]
[null,{"$f":"IF(T11=\"\",\"\",T11)","v":""},{"$f":"IF(B20=\"\",\"\",TEXT(DATE(2018+$F$3,$H$3,B20),\"aaa\"))","v":""},"　　　","　　　",{"$f":"IF(IF(B20=\"\",\"\",VLOOKUP(B20,'9実績'!$A$16:$BK$46,63))=\"大会\",IF(B20=\"\",\"\",VLOOKUP(B20,'9実績'!$A$16:$AO$46,22,FALSE)),IF(B20=\"\",\"\",'9実績'!$AC$4)&IF(B20=\"\",\"\",VLOOKUP(B20,'9実績'!$A$16:$AO$46,22,FALSE)))","v":""},null,null,null,null,{"$f":"IF(IF(B20=\"\",\"\",VLOOKUP(B20,'9実績'!$A$16:$AO$46,5,FALSE))=0,IF(B20=\"\",\"\",VLOOKUP(B20,'9実績'!$A$16:$AO$46,12,FALSE)),IF(B20=\"\",\"\",VLOOKUP(B20,'9実績'!$A$16:$AO$46,5,FALSE)))","v":""},"～",{"$f":"IF(IF(B20=\"\",\"\",VLOOKUP(B20,'9実績'!$A$16:$AO$46,16,FALSE))=0,IF(B20=\"\",\"\",VLOOKUP(B20,'9実績'!$A$16:$AO$46,9,FALSE)),IF(B20=\"\",\"\",VLOOKUP(B20,'9実績'!$A$16:$AO$46,16,FALSE)))","v":""},{"$f":"IF(K20=\"\",\"\",M20-K20)","v":""},{"$f":"IF(B20=\"\",\"\",VLOOKUP(B20,'9実績'!$A$16:$AO$46,34,FALSE))","v":""},null,null,null,null,13]
[null,null,null,null,null,null,null,null,null,null,null,null,null,null,null,null,null,null,null,14]
[null,null,null,null,null,null,null,null,null,null,null,null,null,null,null,null,null,null,null,15]
[null,null,null,null,null,null,null,null,null,null,null,null,null,null,null,null,null,"　　　",null,16]
[null,{"$f":"IF(T12=\"\",\"\",T12)","v":""},{"$f":"IF(B24=\"\",\"\",TEXT(DATE(2018+$F$3,$H$3,B24),\"aaa\"))","v":""},"　　　","　　　",{"$f":"IF(IF(B24=\"\",\"\",VLOOKUP(B24,'9実績'!$A$16:$BK$46,63))=\"大会\",IF(B24=\"\",\"\",VLOOKUP(B24,'9実績'!$A$16:$AO$46,22,FALSE)),IF(B24=\"\",\"\",'9実績'!$AC$4)&IF(B24=\"\",\"\",VLOOKUP(B24,'9実績'!$A$16:$AO$46,22,FALSE)))","v":""},null,null,null,null,{"$f":"IF(IF(B24=\"\",\"\",VLOOKUP(B24,'9実績'!$A$16:$AO$46,5,FALSE))=0,IF(B24=\"\",\"\",VLOOKUP(B24,'9実績'!$A$16:$AO$46,12,FALSE)),IF(B24=\"\",\"\",VLOOKUP(B24,'9実績'!$A$16:$AO$46,5,FALSE)))","v":""},"～",{"$f":"IF(IF(B24=\"\",\"\",VLOOKUP(B24,'9実績'!$A$16:$AO$46,16,FALSE))=0,IF(B24=\"\",\"\",VLOOKUP(B24,'9実績'!$A$16:$AO$46,9,FALSE)),IF(B24=\"\",\"\",VLOOKUP(B24,'9実績'!$A$16:$AO$46,16,FALSE)))","v":""},{"$f":"IF(K24=\"\",\"\",M24-K24)","v":""},{"$f":"IF(B24=\"\",\"\",VLOOKUP(B24,'9実績'!$A$16:$AO$46,34,FALSE))","v":""},null,null,null,null,17]
[null,null,null,null,null,null,null,null,null,null,null,null,null,null,null,null,null,null,null,18]
[null,null,null,null,null,null,null,null,null,null,null,null,null,null,null,null,null,null,null,19]
[null,null,null,null,null,null,null,null,null,null,null,null,null,null,null,null,null,"　　　",null,20]
[null,{"$f":"IF(T13=\"\",\"\",T13)","v":""},{"$f":"IF(B28=\"\",\"\",TEXT(DATE(2018+$F$3,$H$3,B28),\"aaa\"))","v":""},"　　　","　　　",{"$f":"IF(IF(B28=\"\",\"\",VLOOKUP(B28,'9実績'!$A$16:$BK$46,63))=\"大会\",IF(B28=\"\",\"\",VLOOKUP(B28,'9実績'!$A$16:$AO$46,22,FALSE)),IF(B28=\"\",\"\",'9実績'!$AC$4)&IF(B28=\"\",\"\",VLOOKUP(B28,'9実績'!$A$16:$AO$46,22,FALSE)))","v":""},null,null,null,null,{"$f":"IF(IF(B28=\"\",\"\",VLOOKUP(B28,'9実績'!$A$16:$AO$46,5,FALSE))=0,IF(B28=\"\",\"\",VLOOKUP(B28,'9実績'!$A$16:$AO$46,12,FALSE)),IF(B28=\"\",\"\",VLOOKUP(B28,'9実績'!$A$16:$AO$46,5,FALSE)))","v":""},"～",{"$f":"IF(IF(B28=\"\",\"\",VLOOKUP(B28,'9実績'!$A$16:$AO$46,16,FALSE))=0,IF(B28=\"\",\"\",VLOOKUP(B28,'9実績'!$A$16:$AO$46,9,FALSE)),IF(B28=\"\",\"\",VLOOKUP(B28,'9実績'!$A$16:$AO$46,16,FALSE)))","v":""},{"$f":"IF(K28=\"\",\"\",M28-K28)","v":""},{"$f":"IF(B28=\"\",\"\",VLOOKUP(B28,'9実績'!$A$16:$AO$46,34,FALSE))","v":""},null,null,null,null,21]
[null,null,null,null,null,null,null,null,null,null,null,null,null,null,null,null,null,null,null,22]
[null,null,null,null,null,null,null,null,null,null,null,null,null,null,null,null,null,null,null,23]
[null,null,null,null,null,null,null,null,null,null,null,null,null,null,null,null,null,"　　　",null,24]
[null,{"$f":"IF(T14=\"\",\"\",T14)","v":""},{"$f":"IF(B32=\"\",\"\",TEXT(DATE(2018+$F$3,$H$3,B32),\"aaa\"))","v":""},"　　　","　　　",{"$f":"IF(IF(B32=\"\",\"\",VLOOKUP(B32,'9実績'!$A$16:$BK$46,63))=\"大会\",IF(B32=\"\",\"\",VLOOKUP(B32,'9実績'!$A$16:$AO$46,22,FALSE)),IF(B32=\"\",\"\",'9実績'!$AC$4)&IF(B32=\"\",\"\",VLOOKUP(B32,'9実績'!$A$16:$AO$46,22,FALSE)))","v":""},null,null,null,null,{"$f":"IF(IF(B32=\"\",\"\",VLOOKUP(B32,'9実績'!$A$16:$AO$46,5,FALSE))=0,IF(B32=\"\",\"\",VLOOKUP(B32,'9実績'!$A$16:$AO$46,12,FALSE)),IF(B32=\"\",\"\",VLOOKUP(B32,'9実績'!$A$16:$AO$46,5,FALSE)))","v":""},"～",{"$f":"IF(IF(B32=\"\",\"\",VLOOKUP(B32,'9実績'!$A$16:$AO$46,16,FALSE))=0,IF(B32=\"\",\"\",VLOOKUP(B32,'9実績'!$A$16:$AO$46,9,FALSE)),IF(B32=\"\",\"\",VLOOKUP(B32,'9実績'!$A$16:$AO$46,16,FALSE)))","v":""},{"$f":"IF(K32=\"\",\"\",M32-K32)","v":""},{"$f":"IF(B32=\"\",\"\",VLOOKUP(B32,'9実績'!$A$16:$AO$46,34,FALSE))","v":""},null,null,null,null,25]
[null,null,null,null,null,null,null,null,null,null,null,null,null,null,null,null,null,null,null,26]
[null,null,null,null,null,null,null,null,null,null,null,null,null,null,null,null,null,null,null,27]
[null,null,null,null,null,null,null,null,null,null,null,null,null,null,null,null,null,"　　　",null,28]
[null,{"$f":"IF(T15=\"\",\"\",T15)","v":""},{"$f":"IF(B36=\"\",\"\",TEXT(DATE(2018+$F$3,$H$3,B36),\"aaa\"))","v":""},"　　　","　　　",{"$f":"IF(IF(B36=\"\",\"\",VLOOKUP(B36,'9実績'!$A$16:$BK$46,63))=\"大会\",IF(B36=\"\",\"\",VLOOKUP(B36,'9実績'!$A$16:$AO$46,22,FALSE)),IF(B36=\"\",\"\",'9実績'!$AC$4)&IF(B36=\"\",\"\",VLOOKUP(B36,'9実績'!$A$16:$AO$46,22,FALSE)))","v":""},null,null,null,null,{"$f":"IF(IF(B36=\"\",\"\",VLOOKUP(B36,'9実績'!$A$16:$AO$46,5,FALSE))=0,IF(B36=\"\",\"\",VLOOKUP(B36,'9実績'!$A$16:$AO$46,12,FALSE)),IF(B36=\"\",\"\",VLOOKUP(B36,'9実績'!$A$16:$AO$46,5,FALSE)))","v":""},"～",{"$f":"IF(IF(B36=\"\",\"\",VLOOKUP(B36,'9実績'!$A$16:$AO$46,16,FALSE))=0,IF(B36=\"\",\"\",VLOOKUP(B36,'9実績'!$A$16:$AO$46,9,FALSE)),IF(B36=\"\",\"\",VLOOKUP(B36,'9実績'!$A$16:$AO$46,16,FALSE)))","v":""},{"$f":"IF(K36=\"\",\"\",M36-K36)","v":""},{"$f":"IF(B36=\"\",\"\",VLOOKUP(B36,'9実績'!$A$16:$AO$46,34,FALSE))","v":""},null,null,null,null,29]
[null,null,null,null,null,null,null,null,null,null,null,null,null,null,null,null,null,null,null,30]
[]
[null,null,null,null,null,null,null,null,null,null,null,null,null,null,null,null,null,"　　　"]
[null,{"$f":"IF(T16=\"\",\"\",T16)","v":""},{"$f":"IF(B40=\"\",\"\",TEXT(DATE(2018+$F$3,$H$3,B40),\"aaa\"))","v":""},"　　　","　　　",{"$f":"IF(IF(B40=\"\",\"\",VLOOKUP(B40,'9実績'!$A$16:$BK$46,63))=\"大会\",IF(B40=\"\",\"\",VLOOKUP(B40,'9実績'!$A$16:$AO$46,22,FALSE)),IF(B40=\"\",\"\",'9実績'!$AC$4)&IF(B40=\"\",\"\",VLOOKUP(B40,'9実績'!$A$16:$AO$46,22,FALSE)))","v":""},null,null,null,null,{"$f":"IF(IF(B40=\"\",\"\",VLOOKUP(B40,'9実績'!$A$16:$AO$46,5,FALSE))=0,IF(B40=\"\",\"\",VLOOKUP(B40,'9実績'!$A$16:$AO$46,12,FALSE)),IF(B40=\"\",\"\",VLOOKUP(B40,'9実績'!$A$16:$AO$46,5,FALSE)))","v":""},"～",{"$f":"IF(IF(B40=\"\",\"\",VLOOKUP(B40,'9実績'!$A$16:$AO$46,16,FALSE))=0,IF(B40=\"\",\"\",VLOOKUP(B40,'9実績'!$A$16:$AO$46,9,FALSE)),IF(B40=\"\",\"\",VLOOKUP(B40,'9実績'!$A$16:$AO$46,16,FALSE)))","v":""},{"$f":"IF(K40=\"\",\"\",M40-K40)","v":""},{"$f":"IF(B40=\"\",\"\",VLOOKUP(B40,'9実績'!$A$16:$AO$46,34,FALSE))","v":""}]
[]
[]
[null,null,null,null,null,null,null,null,null,null,null,null,null,null,null,null,null,"　　　"]
[null,"( 記入要領等 )"]
[null,"　         　１　この整理簿は、教員特殊業務手当及び面接指導手当の支給対象となるものについて、当該手当の支給に必要な事の整理をするものであること。"]
[null,"　　         ２　記入にあたっては、次のように記入すること。"]
[null,"　　　         　「要件」欄：週休日等　　　半日振替日　　　　その他"]
[null,"　　　　         「区分」欄：非常災害　　救急業務　　補導業務　　修学旅行等　　対外運動等　　入学試験業務　　　部活動４　　　　部活動３　　　部活動２　　　面接指導　　　　　"]
[null,"　　　　　　　　　　         ※部活動４は4時間以上、部活動３は３時間以上４時間未満、部活動２は2時間以上３時間未満をいう。"]
[null,"　　　　         「業務内容」欄：職員が従事した業務について、その内容を簡潔に記入すること。"]
[null,"　　　         　「従事時間」欄：左欄に手当の支給対象となる業務の終始の時刻を、右欄には時間を記入すること。"]
[null,"　　　         　「備考」欄：この整理簿を補足する事項を記入すること。"]

{"sheet":"１０","index":32,"n_rows":52,"n_cols":20,"rows_kept":52,"cut":false,"hidden":false,"merged":[[39,17,41,17],[41,5,42,9],[43,1,43,3],[39,11,42,11],[39,12,42,12],[39,13,42,13],[39,14,42,14],[39,15,42,15],[39,16,42,16],[39,1,42,1],[39,2,42,2],[39,3,42,3],[39,4,42,4],[39,10,42,10],[39,5,40,9],[35,13,38,13],[35,14,38,14],[35,15,38,15],[35,16,38,16],[35,17,37,17],[37,5,38,9],[31,17,33,17],[33,5,34,9],[35,1,38,1],[35,2,38,2],[35,3,38,3],[35,4,38,4],[35,10,38,10],[35,11,38,11],[35,12,38,12],[31,11,34,11],[31,12,34,12],[31,13,34,13],[31,14,34,14],[31,15,34,15],[31,16,34,16],[31,1,34,1],[31,2,34,2],[31,3,34,3],[31,4,34,4],[31,10,34,10],[27,13,30,13],[27,14,30,14],[27,15,30,15],[27,16,30,16],[27,17,29,17],[29,5,30,9],[23,17,25,17],[25,5,26,9],[23,13,26,13],[23,14,26,14],[23,15,26,15],[23,16,26,16],[31,5,32,9],[27,5,28,9],[23,5,24,9],[27,1,30,1],[27,2,30,2],[27,3,30,3],[27,4,30,4],[27,10,30,10],[27,11,30,11],[27,12,30,12],[23,11,26,11],[23,12,26,12],[23,1,26,1],[23,2,26,2],[23,3,26,3],[23,4,26,4],[23,10,26,10],[19,1,22,1],[19,2,22,2],[19,3,22,3],[19,4,22,4],[19,10,22,10],[19,11,22,11],[19,12,22,12],[15,11,18,11],[15,12,18,12],[15,1,18,1],[15,2,18,2],[15,3,18,3],[11,14,14,14],[11,15,14,15],[11,16,14,16],[11,17,13,17],[13,5,14,9],[15,5,16,9],[11,5,12,9],[19,13,22,13],[19,14,22,14],[19,15,22,15],[19,16,22,16],[19,17,21,17],[21,5,22,9],[15,17,17,17],[17,5,18,9],[15,13,18,13],[15,14,18,14],[15,15,18,15],[15,16,18,16],[7,1,10,1],[7,2,10,2],[7,3,10,3],[7,4,10,4],[7,10,10,10],[7,5,8,9],[15,4,18,4],[15,10,18,10],[11,13,14,13],[35,5,36,9],[19,5,20,9],[4,1,4,2],[4,3,4,4],[4,6,4,8],[4,9,4,10],[4,14,4,17],[6,5,6,9],[6,10,6,13],[7,17,9,17],[9,5,10,9],[7,13,10,13],[7,14,10,14],[7,15,10,15],[7,16,10,16],[11,1,14,1],[11,2,14,2],[11,3,14,3],[11,4,14,4],[11,10,14,10],[11,11,14,11],[11,12,14,12],[7,11,10,11],[7,12,10,12]]}
[]
[]
[null,null,null,"          　　　　　　","令和",{"$f":"'10計画'!AS1-2018","v":2},"年",{"$f":"'10計画'!A7","v":10},"月分","　 教  員  特  殊  業  務  整  理  簿",null,null,null,null,null,null,null,"様式3"]
[]
[null,"氏　名",null,{"$f":"IF('10実績'!K10=\"\",\"\",'10実績'!K10)","v":0},null,"職員\n番号",{"$f":"IF('４'!G5=\"\",\"\",'４'!G5)","v":""},null,null,null,null,null,null,null,{"$f":"'４'!O5:R5","v":"0学校"}]
[]
[null,"日","曜","要　件","区　分","業　　務　　内　　容",null,null,null,null,"従　事　時　間",null,null,null,"従事場所","所属長\n確認印","従事者印","備　　考"]
[null,{"$f":"IF(T8=\"\",\"\",T8)","v":""},{"$f":"IF(B8=\"\",\"\",TEXT(DATE(2018+$F$3,$H$3,B8),\"aaa\"))","v":""},"　　　","　　　",{"$f":"IF(IF(B8=\"\",\"\",VLOOKUP(B8,'10実績'!$A$16:$BK$46,63))=\"大会\",IF(B8=\"\",\"\",VLOOKUP(B8,'10実績'!$A$16:$AO$46,22,FALSE)),IF(B8=\"\",\"\",'10実績'!$AC$4)&IF(B8=\"\",\"\",VLOOKUP(B8,'10実績'!$A$16:$AO$46,22,FALSE)))","v":""},null,null,null,null,{"$f":"IF(IF(B8=\"\",\"\",VLOOKUP(B8,'10実績'!$A$16:$AO$46,5,FALSE))=0,IF(B8=\"\",\"\",VLOOKUP(B8,'10実績'!$A$16:$AO$46,12,FALSE)),IF(B8=\"\",\"\",VLOOKUP(B8,'10実績'!$A$16:$AO$46,5,FALSE)))","v":""},"～",{"$f":"IF(IF(B8=\"\",\"\",VLOOKUP(B8,'10実績'!$A$16:$AO$46,16,FALSE))=0,IF(B8=\"\",\"\",VLOOKUP(B8,'10実績'!$A$16:$AO$46,9,FALSE)),IF(B8=\"\",\"\",VLOOKUP(B8,'10実績'!$A$16:$AO$46,16,FALSE)))","v":""},{"$f":"IF(K8=\"\",\"\",M8-K8)","v":""},{"$f":"IF(B8=\"\",\"\",VLOOKUP(B8,'10実績'!$A$16:$AO$46,34,FALSE))","v":""}]
[]
[]
[null,null,null,null,null,null,null,null,null,null,null,null,null,null,null,null,null,"　　　"]
[null,{"$f":"IF(T9=\"\",\"\",T9)","v":""},{"$f":"IF(B12=\"\",\"\",TEXT(DATE(2018+$F$3,$H$3,B12),\"aaa\"))","v":""},"　　　","　　　",{"$f":"IF(IF(B12=\"\",\"\",VLOOKUP(B12,'10実績'!$A$16:$BK$46,63))=\"大会\",IF(B12=\"\",\"\",VLOOKUP(B12,'10実績'!$A$16:$AO$46,22,FALSE)),IF(B12=\"\",\"\",'10実績'!$AC$4)&IF(B12=\"\",\"\",VLOOKUP(B12,'10実績'!$A$16:$AO$46,22,FALSE)))","v":""},null,null,null,null,{"$f":"IF(IF(B12=\"\",\"\",VLOOKUP(B12,'10実績'!$A$16:$AO$46,5,FALSE))=0,IF(B12=\"\",\"\",VLOOKUP(B12,'10実績'!$A$16:$AO$46,12,FALSE)),IF(B12=\"\",\"\",VLOOKUP(B12,'10実績'!$A$16:$AO$46,5,FALSE)))","v":""},"～",{"$f":"IF(IF(B12=\"\",\"\",VLOOKUP(B12,'10実績'!$A$16:$AO$46,16,FALSE))=0,IF(B12=\"\",\"\",VLOOKUP(B12,'10実績'!$A$16:$AO$46,9,FALSE)),IF(B12=\"\",\"\",VLOOKUP(B12,'10実績'!$A$16:$AO$46,16,FALSE)))","v":""},{"$f":"IF(K12=\"\",\"\",M12-K12)","v":""},{"$f":"IF(B12=\"\",\"\",VLOOKUP(B12,'10実績'!$A$16:$AO$46,34,FALSE))","v":""}]
[]
[]
[null,null,null,null,null,null,null,null,null,null,null,null,null,null,null,null,null,"　　　"]
[null,{"$f":"IF(T10=\"\",\"\",T10)","v":""},{"$f":"IF(B16=\"\",\"\",TEXT(DATE(2018+$F$3,$H$3,B16),\"aaa\"))","v":""},"　　　","　　　",{"$f":"IF(IF(B16=\"\",\"\",VLOOKUP(B16,'10実績'!$A$16:$BK$46,63))=\"大会\",IF(B16=\"\",\"\",VLOOKUP(B16,'10実績'!$A$16:$AO$46,22,FALSE)),IF(B16=\"\",\"\",'10実績'!$AC$4)&IF(B16=\"\",\"\",VLOOKUP(B16,'10実績'!$A$16:$AO$46,22,FALSE)))","v":""},null,null,null,null,{"$f":"IF(IF(B16=\"\",\"\",VLOOKUP(B16,'10実績'!$A$16:$AO$46,5,FALSE))=0,IF(B16=\"\",\"\",VLOOKUP(B16,'10実績'!$A$16:$AO$46,12,FALSE)),IF(B16=\"\",\"\",VLOOKUP(B16,'10実績'!$A$16:$AO$46,5,FALSE)))","v":""},"～",{"$f":"IF(IF(B16=\"\",\"\",VLOOKUP(B16,'10実績'!$A$16:$AO$46,16,FALSE))=0,IF(B16=\"\",\"\",VLOOKUP(B16,'10実績'!$A$16:$AO$46,9,FALSE)),IF(B16=\"\",\"\",VLOOKUP(B16,'10実績'!$A$16:$AO$46,16,FALSE)))","v":""},{"$f":"IF(K16=\"\",\"\",M16-K16)","v":""},{"$f":"IF(B16=\"\",\"\",VLOOKUP(B16,'10実績'!$A$16:$AO$46,34,FALSE))","v":""}]
[null,null,null,null,null,null,null,null,null,null,null,null,null,null,null,null,null,null,null,10]
[null,null,null,null,null,null,null,null,null,null,null,null,null,null,null,null,null,null,null,11]
[null,null,null,null,null,null,null,null,null,null,null,null,null,null,null,null,null,"　　　",null,12]
[null,{"$f":"IF(T11=\"\",\"\",T11)","v":""},{"$f":"IF(B20=\"\",\"\",TEXT(DATE(2018+$F$3,$H$3,B20),\"aaa\"))","v":""},"　　　","　　　",{"$f":"IF(IF(B20=\"\",\"\",VLOOKUP(B20,'10実績'!$A$16:$BK$46,63))=\"大会\",IF(B20=\"\",\"\",VLOOKUP(B20,'10実績'!$A$16:$AO$46,22,FALSE)),IF(B20=\"\",\"\",'10実績'!$AC$4)&IF(B20=\"\",\"\",VLOOKUP(B20,'10実績'!$A$16:$AO$46,22,FALSE)))","v":""},null,null,null,null,{"$f":"IF(IF(B20=\"\",\"\",VLOOKUP(B20,'10実績'!$A$16:$AO$46,5,FALSE))=0,IF(B20=\"\",\"\",VLOOKUP(B20,'10実績'!$A$16:$AO$46,12,FALSE)),IF(B20=\"\",\"\",VLOOKUP(B20,'10実績'!$A$16:$AO$46,5,FALSE)))","v":""},"～",{"$f":"IF(IF(B20=\"\",\"\",VLOOKUP(B20,'10実績'!$A$16:$AO$46,16,FALSE))=0,IF(B20=\"\",\"\",VLOOKUP(B20,'10実績'!$A$16:$AO$46,9,FALSE)),IF(B20=\"\",\"\",VLOOKUP(B20,'10実績'!$A$16:$AO$46,16,FALSE)))","v":""},{"$f":"IF(K20=\"\",\"\",M20-K20)","v":""},{"$f":"IF(B20=\"\",\"\",VLOOKUP(B20,'10実績'!$A$16:$AO$46,34,FALSE))","v":""},null,null,null,null,13]
[null,null,null,null,null,null,null,null,null,null,null,null,null,null,null,null,null,null,null,14]
[null,null,null,null,null,null,null,null,null,null,null,null,null,null,null,null,null,null,null,15]
[null,null,null,null,null,null,null,null,null,null,null,null,null,null,null,null,null,"　　　",null,16]
[null,{"$f":"IF(T12=\"\",\"\",T12)","v":""},{"$f":"IF(B24=\"\",\"\",TEXT(DATE(2018+$F$3,$H$3,B24),\"aaa\"))","v":""},"　　　","　　　",{"$f":"IF(IF(B24=\"\",\"\",VLOOKUP(B24,'10実績'!$A$16:$BK$46,63))=\"大会\",IF(B24=\"\",\"\",VLOOKUP(B24,'10実績'!$A$16:$AO$46,22,FALSE)),IF(B24=\"\",\"\",'10実績'!$AC$4)&IF(B24=\"\",\"\",VLOOKUP(B24,'10実績'!$A$16:$AO$46,22,FALSE)))","v":""},null,null,null,null,{"$f":"IF(IF(B24=\"\",\"\",VLOOKUP(B24,'10実績'!$A$16:$AO$46,5,FALSE))=0,IF(B24=\"\",\"\",VLOOKUP(B24,'10実績'!$A$16:$AO$46,12,FALSE)),IF(B24=\"\",\"\",VLOOKUP(B24,'10実績'!$A$16:$AO$46,5,FALSE)))","v":""},"～",{"$f":"IF(IF(B24=\"\",\"\",VLOOKUP(B24,'10実績'!$A$16:$AO$46,16,FALSE))=0,IF(B24=\"\",\"\",VLOOKUP(B24,'10実績'!$A$16:$AO$46,9,FALSE)),IF(B24=\"\",\"\",VLOOKUP(B24,'10実績'!$A$16:$AO$46,16,FALSE)))","v":""},{"$f":"IF(K24=\"\",\"\",M24-K24)","v":""},{"$f":"IF(B24=\"\",\"\",VLOOKUP(B24,'10実績'!$A$16:$AO$46,34,FALSE))","v":""},null,null,null,null,17]
[null,null,null,null,null,null,null,null,null,null,null,null,null,null,null,null,null,null,null,18]
[null,null,null,null,null,null,null,null,null,null,null,null,null,null,null,null,null,null,null,19]
[null,null,null,null,null,null,null,null,null,null,null,null,null,null,null,null,null,"　　　",null,20]
[null,{"$f":"IF(T13=\"\",\"\",T13)","v":""},{"$f":"IF(B28=\"\",\"\",TEXT(DATE(2018+$F$3,$H$3,B28),\"aaa\"))","v":""},"　　　","　　　",{"$f":"IF(IF(B28=\"\",\"\",VLOOKUP(B28,'10実績'!$A$16:$BK$46,63))=\"大会\",IF(B28=\"\",\"\",VLOOKUP(B28,'10実績'!$A$16:$AO$46,22,FALSE)),IF(B28=\"\",\"\",'10実績'!$AC$4)&IF(B28=\"\",\"\",VLOOKUP(B28,'10実績'!$A$16:$AO$46,22,FALSE)))","v":""},null,null,null,null,{"$f":"IF(IF(B28=\"\",\"\",VLOOKUP(B28,'10実績'!$A$16:$AO$46,5,FALSE))=0,IF(B28=\"\",\"\",VLOOKUP(B28,'10実績'!$A$16:$AO$46,12,FALSE)),IF(B28=\"\",\"\",VLOOKUP(B28,'10実績'!$A$16:$AO$46,5,FALSE)))","v":""},"～",{"$f":"IF(IF(B28=\"\",\"\",VLOOKUP(B28,'10実績'!$A$16:$AO$46,16,FALSE))=0,IF(B28=\"\",\"\",VLOOKUP(B28,'10実績'!$A$16:$AO$46,9,FALSE)),IF(B28=\"\",\"\",VLOOKUP(B28,'10実績'!$A$16:$AO$46,16,FALSE)))","v":""},{"$f":"IF(K28=\"\",\"\",M28-K28)","v":""},{"$f":"IF(B28=\"\",\"\",VLOOKUP(B28,'10実績'!$A$16:$AO$46,34,FALSE))","v":""},null,null,null,null,21]
[null,null,null,null,null,null,null,null,null,null,null,null,null,null,null,null,null,null,null,22]
[null,null,null,null,null,null,null,null,null,null,null,null,null,null,null,null,null,null,null,23]
[null,null,null,null,null,null,null,null,null,null,null,null,null,null,null,null,null,"　　　",null,24]
[null,{"$f":"IF(T14=\"\",\"\",T14)","v":""},{"$f":"IF(B32=\"\",\"\",TEXT(DATE(2018+$F$3,$H$3,B32),\"aaa\"))","v":""},"　　　","　　　",{"$f":"IF(IF(B32=\"\",\"\",VLOOKUP(B32,'10実績'!$A$16:$BK$46,63))=\"大会\",IF(B32=\"\",\"\",VLOOKUP(B32,'10実績'!$A$16:$AO$46,22,FALSE)),IF(B32=\"\",\"\",'10実績'!$AC$4)&IF(B32=\"\",\"\",VLOOKUP(B32,'10実績'!$A$16:$AO$46,22,FALSE)))","v":""},null,null,null,null,{"$f":"IF(IF(B32=\"\",\"\",VLOOKUP(B32,'10実績'!$A$16:$AO$46,5,FALSE))=0,IF(B32=\"\",\"\",VLOOKUP(B32,'10実績'!$A$16:$AO$46,12,FALSE)),IF(B32=\"\",\"\",VLOOKUP(B32,'10実績'!$A$16:$AO$46,5,FALSE)))","v":""},"～",{"$f":"IF(IF(B32=\"\",\"\",VLOOKUP(B32,'10実績'!$A$16:$AO$46,16,FALSE))=0,IF(B32=\"\",\"\",VLOOKUP(B32,'10実績'!$A$16:$AO$46,9,FALSE)),IF(B32=\"\",\"\",VLOOKUP(B32,'10実績'!$A$16:$AO$46,16,FALSE)))","v":""},{"$f":"IF(K32=\"\",\"\",M32-K32)","v":""},{"$f":"IF(B32=\"\",\"\",VLOOKUP(B32,'10実績'!$A$16:$AO$46,34,FALSE))","v":""},null,null,null,null,25]
[null,null,null,null,null,null,null,null,null,null,null,null,null,null,null,null,null,null,null,26]
[null,null,null,null,null,null,null,null,null,null,null,null,null,null,null,null,null,null,null,27]
[null,null,null,null,null,null,null,null,null,null,null,null,null,null,null,null,null,"　　　",null,28]
[null,{"$f":"IF(T15=\"\",\"\",T15)","v":""},{"$f":"IF(B36=\"\",\"\",TEXT(DATE(2018+$F$3,$H$3,B36),\"aaa\"))","v":""},"　　　","　　　",{"$f":"IF(IF(B36=\"\",\"\",VLOOKUP(B36,'10実績'!$A$16:$BK$46,63))=\"大会\",IF(B36=\"\",\"\",VLOOKUP(B36,'10実績'!$A$16:$AO$46,22,FALSE)),IF(B36=\"\",\"\",'10実績'!$AC$4)&IF(B36=\"\",\"\",VLOOKUP(B36,'10実績'!$A$16:$AO$46,22,FALSE)))","v":""},null,null,null,null,{"$f":"IF(IF(B36=\"\",\"\",VLOOKUP(B36,'10実績'!$A$16:$AO$46,5,FALSE))=0,IF(B36=\"\",\"\",VLOOKUP(B36,'10実績'!$A$16:$AO$46,12,FALSE)),IF(B36=\"\",\"\",VLOOKUP(B36,'10実績'!$A$16:$AO$46,5,FALSE)))","v":""},"～",{"$f":"IF(IF(B36=\"\",\"\",VLOOKUP(B36,'10実績'!$A$16:$AO$46,16,FALSE))=0,IF(B36=\"\",\"\",VLOOKUP(B36,'10実績'!$A$16:$AO$46,9,FALSE)),IF(B36=\"\",\"\",VLOOKUP(B36,'10実績'!$A$16:$AO$46,16,FALSE)))","v":""},{"$f":"IF(K36=\"\",\"\",M36-K36)","v":""},{"$f":"IF(B36=\"\",\"\",VLOOKUP(B36,'10実績'!$A$16:$AO$46,34,FALSE))","v":""},null,null,null,null,29]
[null,null,null,null,null,null,null,null,null,null,null,null,null,null,null,null,null,null,null,30]
[null,null,null,null,null,null,null,null,null,null,null,null,null,null,null,null,null,null,null,31]
[null,null,null,null,null,null,null,null,null,null,null,null,null,null,null,null,null,"　　　"]
[null,{"$f":"IF(T16=\"\",\"\",T16)","v":""},{"$f":"IF(B40=\"\",\"\",TEXT(DATE(2018+$F$3,$H$3,B40),\"aaa\"))","v":""},"　　　","　　　",{"$f":"IF(IF(B40=\"\",\"\",VLOOKUP(B40,'10実績'!$A$16:$BK$46,63))=\"大会\",IF(B40=\"\",\"\",VLOOKUP(B40,'10実績'!$A$16:$AO$46,22,FALSE)),IF(B40=\"\",\"\",'10実績'!$AC$4)&IF(B40=\"\",\"\",VLOOKUP(B40,'10実績'!$A$16:$AO$46,22,FALSE)))","v":""},null,null,null,null,{"$f":"IF(IF(B40=\"\",\"\",VLOOKUP(B40,'10実績'!$A$16:$AO$46,5,FALSE))=0,IF(B40=\"\",\"\",VLOOKUP(B40,'10実績'!$A$16:$AO$46,12,FALSE)),IF(B40=\"\",\"\",VLOOKUP(B40,'10実績'!$A$16:$AO$46,5,FALSE)))","v":""},"～",{"$f":"IF(IF(B40=\"\",\"\",VLOOKUP(B40,'10実績'!$A$16:$AO$46,16,FALSE))=0,IF(B40=\"\",\"\",VLOOKUP(B40,'10実績'!$A$16:$AO$46,9,FALSE)),IF(B40=\"\",\"\",VLOOKUP(B40,'10実績'!$A$16:$AO$46,16,FALSE)))","v":""},{"$f":"IF(K40=\"\",\"\",M40-K40)","v":""},{"$f":"IF(B40=\"\",\"\",VLOOKUP(B40,'10実績'!$A$16:$AO$46,34,FALSE))","v":""}]
[]
[]
[null,null,null,null,null,null,null,null,null,null,null,null,null,null,null,null,null,"　　　"]
[null,"( 記入要領等 )"]
[null,"　         　１　この整理簿は、教員特殊業務手当及び面接指導手当の支給対象となるものについて、当該手当の支給に必要な事の整理をするものであること。"]
[null,"　　         ２　記入にあたっては、次のように記入すること。"]
[null,"　　　         　「要件」欄：週休日等　　　半日振替日　　　　その他"]
[null,"　　　　         「区分」欄：非常災害　　救急業務　　補導業務　　修学旅行等　　対外運動等　　入学試験業務　　　部活動４　　　　部活動３　　　部活動２　　　面接指導　　　　　"]
[null,"　　　　　　　　　　         ※部活動４は4時間以上、部活動３は３時間以上４時間未満、部活動２は2時間以上３時間未満をいう。"]
[null,"　　　　         「業務内容」欄：職員が従事した業務について、その内容を簡潔に記入すること。"]
[null,"　　　         　「従事時間」欄：左欄に手当の支給対象となる業務の終始の時刻を、右欄には時間を記入すること。"]
[null,"　　　         　「備考」欄：この整理簿を補足する事項を記入すること。"]

{"sheet":"１１","index":33,"n_rows":52,"n_cols":20,"rows_kept":52,"cut":false,"hidden":false,"merged":[[39,17,41,17],[41,5,42,9],[43,1,43,3],[39,11,42,11],[39,12,42,12],[39,13,42,13],[39,14,42,14],[39,15,42,15],[39,16,42,16],[39,1,42,1],[39,2,42,2],[39,3,42,3],[39,4,42,4],[39,10,42,10],[39,5,40,9],[35,13,38,13],[35,14,38,14],[35,15,38,15],[35,16,38,16],[35,17,37,17],[37,5,38,9],[31,17,33,17],[33,5,34,9],[35,1,38,1],[35,2,38,2],[35,3,38,3],[35,4,38,4],[35,10,38,10],[35,11,38,11],[35,12,38,12],[31,11,34,11],[31,12,34,12],[31,13,34,13],[31,14,34,14],[31,15,34,15],[31,16,34,16],[31,1,34,1],[31,2,34,2],[31,3,34,3],[31,4,34,4],[31,10,34,10],[27,13,30,13],[27,14,30,14],[27,15,30,15],[27,16,30,16],[27,17,29,17],[29,5,30,9],[23,17,25,17],[25,5,26,9],[23,13,26,13],[23,14,26,14],[23,15,26,15],[23,16,26,16],[31,5,32,9],[27,5,28,9],[23,5,24,9],[27,1,30,1],[27,2,30,2],[27,3,30,3],[27,4,30,4],[27,10,30,10],[27,11,30,11],[27,12,30,12],[23,11,26,11],[23,12,26,12],[23,1,26,1],[23,2,26,2],[23,3,26,3],[23,4,26,4],[23,10,26,10],[19,1,22,1],[19,2,22,2],[19,3,22,3],[19,4,22,4],[19,10,22,10],[19,11,22,11],[19,12,22,12],[15,11,18,11],[15,12,18,12],[15,1,18,1],[15,2,18,2],[15,3,18,3],[11,14,14,14],[11,15,14,15],[11,16,14,16],[11,17,13,17],[13,5,14,9],[15,5,16,9],[11,5,12,9],[19,13,22,13],[19,14,22,14],[19,15,22,15],[19,16,22,16],[19,17,21,17],[21,5,22,9],[15,17,17,17],[17,5,18,9],[15,13,18,13],[15,14,18,14],[15,15,18,15],[15,16,18,16],[7,1,10,1],[7,2,10,2],[7,3,10,3],[7,4,10,4],[7,10,10,10],[7,5,8,9],[15,4,18,4],[15,10,18,10],[11,13,14,13],[35,5,36,9],[19,5,20,9],[4,1,4,2],[4,3,4,4],[4,6,4,8],[4,9,4,10],[4,14,4,17],[6,5,6,9],[6,10,6,13],[7,17,9,17],[9,5,10,9],[7,13,10,13],[7,14,10,14],[7,15,10,15],[7,16,10,16],[11,1,14,1],[11,2,14,2],[11,3,14,3],[11,4,14,4],[11,10,14,10],[11,11,14,11],[11,12,14,12],[7,11,10,11],[7,12,10,12]]}
[]
[]
[null,null,null,"          　　　　　　","令和",{"$f":"'11計画'!AS1-2018","v":2},"年",{"$f":"'11計画'!A7","v":11},"月分","　 教  員  特  殊  業  務  整  理  簿",null,null,null,null,null,null,null,"様式3"]
[]
[null,"氏　名",null,{"$f":"IF('11実績'!K10=\"\",\"\",'11実績'!K10)","v":0},null,"職員\n番号",{"$f":"IF('４'!G5=\"\",\"\",'４'!G5)","v":""},null,null,null,null,null,null,null,{"$f":"'４'!O5:R5","v":"0学校"}]
[]
[null,"日","曜","要　件","区　分","業　　務　　内　　容",null,null,null,null,"従　事　時　間",null,null,null,"従事場所","所属長\n確認印","従事者印","備　　考"]
[null,{"$f":"IF(T8=\"\",\"\",T8)","v":""},{"$f":"IF(B8=\"\",\"\",TEXT(DATE(2018+$F$3,$H$3,B8),\"aaa\"))","v":""},"　　　","　　　",{"$f":"IF(IF(B8=\"\",\"\",VLOOKUP(B8,'11実績'!$A$16:$BK$46,63))=\"大会\",IF(B8=\"\",\"\",VLOOKUP(B8,'11実績'!$A$16:$AO$46,22,FALSE)),IF(B8=\"\",\"\",'11実績'!$AC$4)&IF(B8=\"\",\"\",VLOOKUP(B8,'11実績'!$A$16:$AO$46,22,FALSE)))","v":""},null,null,null,null,{"$f":"IF(IF(B8=\"\",\"\",VLOOKUP(B8,'11実績'!$A$16:$AO$46,5,FALSE))=0,IF(B8=\"\",\"\",VLOOKUP(B8,'11実績'!$A$16:$AO$46,12,FALSE)),IF(B8=\"\",\"\",VLOOKUP(B8,'11実績'!$A$16:$AO$46,5,FALSE)))","v":""},"～",{"$f":"IF(IF(B8=\"\",\"\",VLOOKUP(B8,'11実績'!$A$16:$AO$46,16,FALSE))=0,IF(B8=\"\",\"\",VLOOKUP(B8,'11実績'!$A$16:$AO$46,9,FALSE)),IF(B8=\"\",\"\",VLOOKUP(B8,'11実績'!$A$16:$AO$46,16,FALSE)))","v":""},{"$f":"IF(K8=\"\",\"\",M8-K8)","v":""},{"$f":"IF(B8=\"\",\"\",VLOOKUP(B8,'11実績'!$A$16:$AO$46,34,FALSE))","v":""}]
[]
[]
[null,null,null,null,null,null,null,null,null,null,null,null,null,null,null,null,null,"　　　"]
[null,{"$f":"IF(T9=\"\",\"\",T9)","v":""},{"$f":"IF(B12=\"\",\"\",TEXT(DATE(2018+$F$3,$H$3,B12),\"aaa\"))","v":""},"　　　","　　　",{"$f":"IF(IF(B12=\"\",\"\",VLOOKUP(B12,'11実績'!$A$16:$BK$46,63))=\"大会\",IF(B12=\"\",\"\",VLOOKUP(B12,'11実績'!$A$16:$AO$46,22,FALSE)),IF(B12=\"\",\"\",'11実績'!$AC$4)&IF(B12=\"\",\"\",VLOOKUP(B12,'11実績'!$A$16:$AO$46,22,FALSE)))","v":""},null,null,null,null,{"$f":"IF(IF(B12=\"\",\"\",VLOOKUP(B12,'11実績'!$A$16:$AO$46,5,FALSE))=0,IF(B12=\"\",\"\",VLOOKUP(B12,'11実績'!$A$16:$AO$46,12,FALSE)),IF(B12=\"\",\"\",VLOOKUP(B12,'11実績'!$A$16:$AO$46,5,FALSE)))","v":""},"～",{"$f":"IF(IF(B12=\"\",\"\",VLOOKUP(B12,'11実績'!$A$16:$AO$46,16,FALSE))=0,IF(B12=\"\",\"\",VLOOKUP(B12,'11実績'!$A$16:$AO$46,9,FALSE)),IF(B12=\"\",\"\",VLOOKUP(B12,'11実績'!$A$16:$AO$46,16,FALSE)))","v":""},{"$f":"IF(K12=\"\",\"\",M12-K12)","v":""},{"$f":"IF(B12=\"\",\"\",VLOOKUP(B12,'11実績'!$A$16:$AO$46,34,FALSE))","v":""}]
[]
[]
[null,null,null,null,null,null,null,null,null,null,null,null,null,null,null,null,null,"　　　"]
[null,{"$f":"IF(T10=\"\",\"\",T10)","v":""},{"$f":"IF(B16=\"\",\"\",TEXT(DATE(2018+$F$3,$H$3,B16),\"aaa\"))","v":""},"　　　","　　　",{"$f":"IF(IF(B16=\"\",\"\",VLOOKUP(B16,'11実績'!$A$16:$BK$46,63))=\"大会\",IF(B16=\"\",\"\",VLOOKUP(B16,'11実績'!$A$16:$AO$46,22,FALSE)),IF(B16=\"\",\"\",'11実績'!$AC$4)&IF(B16=\"\",\"\",VLOOKUP(B16,'11実績'!$A$16:$AO$46,22,FALSE)))","v":""},null,null,null,null,{"$f":"IF(IF(B16=\"\",\"\",VLOOKUP(B16,'11実績'!$A$16:$AO$46,5,FALSE))=0,IF(B16=\"\",\"\",VLOOKUP(B16,'11実績'!$A$16:$AO$46,12,FALSE)),IF(B16=\"\",\"\",VLOOKUP(B16,'11実績'!$A$16:$AO$46,5,FALSE)))","v":""},"～",{"$f":"IF(IF(B16=\"\",\"\",VLOOKUP(B16,'11実績'!$A$16:$AO$46,16,FALSE))=0,IF(B16=\"\",\"\",VLOOKUP(B16,'11実績'!$A$16:$AO$46,9,FALSE)),IF(B16=\"\",\"\",VLOOKUP(B16,'11実績'!$A$16:$AO$46,16,FALSE)))","v":""},{"$f":"IF(K16=\"\",\"\",M16-K16)","v":""},{"$f":"IF(B16=\"\",\"\",VLOOKUP(B16,'11実績'!$A$16:$AO$46,34,FALSE))","v":""}]
[null,null,null,null,null,null,null,null,null,null,null,null,null,null,null,null,null,null,null,10]
[null,null,null,null,null,null,null,null,null,null,null,null,null,null,null,null,null,null,null,11]
[null,null,null,null,null,null,null,null,null,null,null,null,null,null,null,null,null,"　　　",null,12]
[null,{"$f":"IF(T11=\"\",\"\",T11)","v":""},{"$f":"IF(B20=\"\",\"\",TEXT(DATE(2018+$F$3,$H$3,B20),\"aaa\"))","v":""},"　　　","　　　",{"$f":"IF(IF(B20=\"\",\"\",VLOOKUP(B20,'11実績'!$A$16:$BK$46,63))=\"大会\",IF(B20=\"\",\"\",VLOOKUP(B20,'11実績'!$A$16:$AO$46,22,FALSE)),IF(B20=\"\",\"\",'11実績'!$AC$4)&IF(B20=\"\",\"\",VLOOKUP(B20,'11実績'!$A$16:$AO$46,22,FALSE)))","v":""},null,null,null,null,{"$f":"IF(IF(B20=\"\",\"\",VLOOKUP(B20,'11実績'!$A$16:$AO$46,5,FALSE))=0,IF(B20=\"\",\"\",VLOOKUP(B20,'11実績'!$A$16:$AO$46,12,FALSE)),IF(B20=\"\",\"\",VLOOKUP(B20,'11実績'!$A$16:$AO$46,5,FALSE)))","v":""},"～",{"$f":"IF(IF(B20=\"\",\"\",VLOOKUP(B20,'11実績'!$A$16:$AO$46,16,FALSE))=0,IF(B20=\"\",\"\",VLOOKUP(B20,'11実績'!$A$16:$AO$46,9,FALSE)),IF(B20=\"\",\"\",VLOOKUP(B20,'11実績'!$A$16:$AO$46,16,FALSE)))","v":""},{"$f":"IF(K20=\"\",\"\",M20-K20)","v":""},{"$f":"IF(B20=\"\",\"\",VLOOKUP(B20,'11実績'!$A$16:$AO$46,34,FALSE))","v":""},null,null,null,null,13]
[null,null,null,null,null,null,null,null,null,null,null,null,null,null,null,null,null,null,null,14]
[null,null,null,null,null,null,null,null,null,null,null,null,null,null,null,null,null,null,null,15]
[null,null,null,null,null,null,null,null,null,null,null,null,null,null,null,null,null,"　　　",null,16]
[null,{"$f":"IF(T12=\"\",\"\",T12)","v":""},{"$f":"IF(B24=\"\",\"\",TEXT(DATE(2018+$F$3,$H$3,B24),\"aaa\"))","v":""},"　　　","　　　",{"$f":"IF(IF(B24=\"\",\"\",VLOOKUP(B24,'11実績'!$A$16:$BK$46,63))=\"大会\",IF(B24=\"\",\"\",VLOOKUP(B24,'11実績'!$A$16:$AO$46,22,FALSE)),IF(B24=\"\",\"\",'11実績'!$AC$4)&IF(B24=\"\",\"\",VLOOKUP(B24,'11実績'!$A$16:$AO$46,22,FALSE)))","v":""},null,null,null,null,{"$f":"IF(IF(B24=\"\",\"\",VLOOKUP(B24,'11実績'!$A$16:$AO$46,5,FALSE))=0,IF(B24=\"\",\"\",VLOOKUP(B24,'11実績'!$A$16:$AO$46,12,FALSE)),IF(B24=\"\",\"\",VLOOKUP(B24,'11実績'!$A$16:$AO$46,5,FALSE)))","v":""},"～",{"$f":"IF(IF(B24=\"\",\"\",VLOOKUP(B24,'11実績'!$A$16:$AO$46,16,FALSE))=0,IF(B24=\"\",\"\",VLOOKUP(B24,'11実績'!$A$16:$AO$46,9,FALSE)),IF(B24=\"\",\"\",VLOOKUP(B24,'11実績'!$A$16:$AO$46,16,FALSE)))","v":""},{"$f":"IF(K24=\"\",\"\",M24-K24)","v":""},{"$f":"IF(B24=\"\",\"\",VLOOKUP(B24,'11実績'!$A$16:$AO$46,34,FALSE))","v":""},null,null,null,null,17]
[null,null,null,null,null,null,null,null,null,null,null,null,null,null,null,null,null,null,null,18]
[null,null,null,null,null,null,null,null,null,null,null,null,null,null,null,null,null,null,null,19]
[null,null,null,null,null,null,null,null,null,null,null,null,null,null,null,null,null,"　　　",null,20]
[null,{"$f":"IF(T13=\"\",\"\",T13)","v":""},{"$f":"IF(B28=\"\",\"\",TEXT(DATE(2018+$F$3,$H$3,B28),\"aaa\"))","v":""},"　　　","　　　",{"$f":"IF(IF(B28=\"\",\"\",VLOOKUP(B28,'11実績'!$A$16:$BK$46,63))=\"大会\",IF(B28=\"\",\"\",VLOOKUP(B28,'11実績'!$A$16:$AO$46,22,FALSE)),IF(B28=\"\",\"\",'11実績'!$AC$4)&IF(B28=\"\",\"\",VLOOKUP(B28,'11実績'!$A$16:$AO$46,22,FALSE)))","v":""},null,null,null,null,{"$f":"IF(IF(B28=\"\",\"\",VLOOKUP(B28,'11実績'!$A$16:$AO$46,5,FALSE))=0,IF(B28=\"\",\"\",VLOOKUP(B28,'11実績'!$A$16:$AO$46,12,FALSE)),IF(B28=\"\",\"\",VLOOKUP(B28,'11実績'!$A$16:$AO$46,5,FALSE)))","v":""},"～",{"$f":"IF(IF(B28=\"\",\"\",VLOOKUP(B28,'11実績'!$A$16:$AO$46,16,FALSE))=0,IF(B28=\"\",\"\",VLOOKUP(B28,'11実績'!$A$16:$AO$46,9,FALSE)),IF(B28=\"\",\"\",VLOOKUP(B28,'11実績'!$A$16:$AO$46,16,FALSE)))","v":""},{"$f":"IF(K28=\"\",\"\",M28-K28)","v":""},{"$f":"IF(B28=\"\",\"\",VLOOKUP(B28,'11実績'!$A$16:$AO$46,34,FALSE))","v":""},null,null,null,null,21]
[null,null,null,null,null,null,null,null,null,null,null,null,null,null,null,null,null,null,null,22]
[null,null,null,null,null,null,null,null,null,null,null,null,null,null,null,null,null,null,null,23]
[null,null,null,null,null,null,null,null,null,null,null,null,null,null,null,null,null,"　　　",null,24]
[null,{"$f":"IF(T14=\"\",\"\",T14)","v":""},{"$f":"IF(B32=\"\",\"\",TEXT(DATE(2018+$F$3,$H$3,B32),\"aaa\"))","v":""},"　　　","　　　",{"$f":"IF(IF(B32=\"\",\"\",VLOOKUP(B32,'11実績'!$A$16:$BK$46,63))=\"大会\",IF(B32=\"\",\"\",VLOOKUP(B32,'11実績'!$A$16:$AO$46,22,FALSE)),IF(B32=\"\",\"\",'11実績'!$AC$4)&IF(B32=\"\",\"\",VLOOKUP(B32,'11実績'!$A$16:$AO$46,22,FALSE)))","v":""},null,null,null,null,{"$f":"IF(IF(B32=\"\",\"\",VLOOKUP(B32,'11実績'!$A$16:$AO$46,5,FALSE))=0,IF(B32=\"\",\"\",VLOOKUP(B32,'11実績'!$A$16:$AO$46,12,FALSE)),IF(B32=\"\",\"\",VLOOKUP(B32,'11実績'!$A$16:$AO$46,5,FALSE)))","v":""},"～",{"$f":"IF(IF(B32=\"\",\"\",VLOOKUP(B32,'11実績'!$A$16:$AO$46,16,FALSE))=0,IF(B32=\"\",\"\",VLOOKUP(B32,'11実績'!$A$16:$AO$46,9,FALSE)),IF(B32=\"\",\"\",VLOOKUP(B32,'11実績'!$A$16:$AO$46,16,FALSE)))","v":""},{"$f":"IF(K32=\"\",\"\",M32-K32)","v":""},{"$f":"IF(B32=\"\",\"\",VLOOKUP(B32,'11実績'!$A$16:$AO$46,34,FALSE))","v":""},null,null,null,null,25]
[null,null,null,null,null,null,null,null,null,null,null,null,null,null,null,null,null,null,null,26]
[null,null,null,null,null,null,null,null,null,null,null,null,null,null,null,null,null,null,null,27]
[null,null,null,null,null,null,null,null,null,null,null,null,null,null,null,null,null,"　　　",null,28]
[null,{"$f":"IF(T15=\"\",\"\",T15)","v":""},{"$f":"IF(B36=\"\",\"\",TEXT(DATE(2018+$F$3,$H$3,B36),\"aaa\"))","v":""},"　　　","　　　",{"$f":"IF(IF(B36=\"\",\"\",VLOOKUP(B36,'11実績'!$A$16:$BK$46,63))=\"大会\",IF(B36=\"\",\"\",VLOOKUP(B36,'11実績'!$A$16:$AO$46,22,FALSE)),IF(B36=\"\",\"\",'11実績'!$AC$4)&IF(B36=\"\",\"\",VLOOKUP(B36,'11実績'!$A$16:$AO$46,22,FALSE)))","v":""},null,null,null,null,{"$f":"IF(IF(B36=\"\",\"\",VLOOKUP(B36,'11実績'!$A$16:$AO$46,5,FALSE))=0,IF(B36=\"\",\"\",VLOOKUP(B36,'11実績'!$A$16:$AO$46,12,FALSE)),IF(B36=\"\",\"\",VLOOKUP(B36,'11実績'!$A$16:$AO$46,5,FALSE)))","v":""},"～",{"$f":"IF(IF(B36=\"\",\"\",VLOOKUP(B36,'11実績'!$A$16:$AO$46,16,FALSE))=0,IF(B36=\"\",\"\",VLOOKUP(B36,'11実績'!$A$16:$AO$46,9,FALSE)),IF(B36=\"\",\"\",VLOOKUP(B36,'11実績'!$A$16:$AO$46,16,FALSE)))","v":""},{"$f":"IF(K36=\"\",\"\",M36-K36)","v":""},{"$f":"IF(B36=\"\",\"\",VLOOKUP(B36,'11実績'!$A$16:$AO$46,34,FALSE))","v":""},null,null,null,null,29]
[null,null,null,null,null,null,null,null,null,null,null,null,null,null,null,null,null,null,null,30]
[]
[null,null,null,null,null,null,null,null,null,null,null,null,null,null,null,null,null,"　　　"]
[null,{"$f":"IF(T16=\"\",\"\",T16)","v":""},{"$f":"IF(B40=\"\",\"\",TEXT(DATE(2018+$F$3,$H$3,B40),\"aaa\"))","v":""},"　　　","　　　",{"$f":"IF(IF(B40=\"\",\"\",VLOOKUP(B40,'11実績'!$A$16:$BK$46,63))=\"大会\",IF(B40=\"\",\"\",VLOOKUP(B40,'11実績'!$A$16:$AO$46,22,FALSE)),IF(B40=\"\",\"\",'11実績'!$AC$4)&IF(B40=\"\",\"\",VLOOKUP(B40,'11実績'!$A$16:$AO$46,22,FALSE)))","v":""},null,null,null,null,{"$f":"IF(IF(B40=\"\",\"\",VLOOKUP(B40,'11実績'!$A$16:$AO$46,5,FALSE))=0,IF(B40=\"\",\"\",VLOOKUP(B40,'11実績'!$A$16:$AO$46,12,FALSE)),IF(B40=\"\",\"\",VLOOKUP(B40,'11実績'!$A$16:$AO$46,5,FALSE)))","v":""},"～",{"$f":"IF(IF(B40=\"\",\"\",VLOOKUP(B40,'11実績'!$A$16:$AO$46,16,FALSE))=0,IF(B40=\"\",\"\",VLOOKUP(B40,'11実績'!$A$16:$AO$46,9,FALSE)),IF(B40=\"\",\"\",VLOOKUP(B40,'11実績'!$A$16:$AO$46,16,FALSE)))","v":""},{"$f":"IF(K40=\"\",\"\",M40-K40)","v":""},{"$f":"IF(B40=\"\",\"\",VLOOKUP(B40,'11実績'!$A$16:$AO$46,34,FALSE))","v":""}]
[]
[]
[null,null,null,null,null,null,null,null,null,null,null,null,null,null,null,null,null,"　　　"]
[null,"( 記入要領等 )"]
[null,"　         　１　この整理簿は、教員特殊業務手当及び面接指導手当の支給対象となるものについて、当該手当の支給に必要な事の整理をするものであること。"]
[null,"　　         ２　記入にあたっては、次のように記入すること。"]
[null,"　　　         　「要件」欄：週休日等　　　半日振替日　　　　その他"]
[null,"　　　　         「区分」欄：非常災害　　救急業務　　補導業務　　修学旅行等　　対外運動等　　入学試験業務　　　部活動４　　　　部活動３　　　部活動２　　　面接指導　　　　　"]
[null,"　　　　　　　　　　         ※部活動４は4時間以上、部活動３は３時間以上４時間未満、部活動２は2時間以上３時間未満をいう。"]
[null,"　　　　         「業務内容」欄：職員が従事した業務について、その内容を簡潔に記入すること。"]
[null,"　　　         　「従事時間」欄：左欄に手当の支給対象となる業務の終始の時刻を、右欄には時間を記入すること。"]
[null,"　　　         　「備考」欄：この整理簿を補足する事項を記入すること。"]

{"sheet":"１２","index":34,"n_rows":52,"n_cols":20,"rows_kept":52,"cut":false,"hidden":false,"merged":[[39,17,41,17],[41,5,42,9],[43,1,43,3],[39,11,42,11],[39,12,42,12],[39,13,42,13],[39,14,42,14],[39,15,42,15],[39,16,42,16],[39,1,42,1],[39,2,42,2],[39,3,42,3],[39,4,42,4],[39,10,42,10],[39,5,40,9],[35,13,38,13],[35,14,38,14],[35,15,38,15],[35,16,38,16],[35,17,37,17],[37,5,38,9],[31,17,33,17],[33,5,34,9],[35,1,38,1],[35,2,38,2],[35,3,38,3],[35,4,38,4],[35,10,38,10],[35,11,38,11],[35,12,38,12],[31,11,34,11],[31,12,34,12],[31,13,34,13],[31,14,34,14],[31,15,34,15],[31,16,34,16],[31,1,34,1],[31,2,34,2],[31,3,34,3],[31,4,34,4],[31,10,34,10],[27,13,30,13],[27,14,30,14],[27,15,30,15],[27,16,30,16],[27,17,29,17],[29,5,30,9],[23,17,25,17],[25,5,26,9],[23,13,26,13],[23,14,26,14],[23,15,26,15],[23,16,26,16],[31,5,32,9],[27,5,28,9],[23,5,24,9],[27,1,30,1],[27,2,30,2],[27,3,30,3],[27,4,30,4],[27,10,30,10],[27,11,30,11],[27,12,30,12],[23,11,26,11],[23,12,26,12],[23,1,26,1],[23,2,26,2],[23,3,26,3],[23,4,26,4],[23,10,26,10],[19,1,22,1],[19,2,22,2],[19,3,22,3],[19,4,22,4],[19,10,22,10],[19,11,22,11],[19,12,22,12],[15,11,18,11],[15,12,18,12],[15,1,18,1],[15,2,18,2],[15,3,18,3],[11,14,14,14],[11,15,14,15],[11,16,14,16],[11,17,13,17],[13,5,14,9],[15,5,16,9],[11,5,12,9],[19,13,22,13],[19,14,22,14],[19,15,22,15],[19,16,22,16],[19,17,21,17],[21,5,22,9],[15,17,17,17],[17,5,18,9],[15,13,18,13],[15,14,18,14],[15,15,18,15],[15,16,18,16],[7,1,10,1],[7,2,10,2],[7,3,10,3],[7,4,10,4],[7,10,10,10],[7,5,8,9],[15,4,18,4],[15,10,18,10],[11,13,14,13],[35,5,36,9],[19,5,20,9],[4,1,4,2],[4,3,4,4],[4,6,4,8],[4,9,4,10],[4,14,4,17],[6,5,6,9],[6,10,6,13],[7,17,9,17],[9,5,10,9],[7,13,10,13],[7,14,10,14],[7,15,10,15],[7,16,10,16],[11,1,14,1],[11,2,14,2],[11,3,14,3],[11,4,14,4],[11,10,14,10],[11,11,14,11],[11,12,14,12],[7,11,10,11],[7,12,10,12]]}
[]
[]
[null,null,null,"          　　　　　　","令和",{"$f":"'12計画'!AS1-2018","v":2},"年",{"$f":"'12計画'!A7","v":12},"月分","　 教  員  特  殊  業  務  整  理  簿",null,null,null,null,null,null,null,"様式3"]
[]
[null,"氏　名",null,{"$f":"IF('12実績'!K10=\"\",\"\",'12実績'!K10)","v":0},null,"職員\n番号",{"$f":"IF('４'!G5=\"\",\"\",'４'!G5)","v":""},null,null,null,null,null,null,null,{"$f":"'４'!O5:R5","v":"0学校"}]
[]
[null,"日","曜","要　件","区　分","業　　務　　内　　容",null,null,null,null,"従　事　時　間",null,null,null,"従事場所","所属長\n確認印","従事者印","備　　考"]
[null,{"$f":"IF(T8=\"\",\"\",T8)","v":""},{"$f":"IF(B8=\"\",\"\",TEXT(DATE(2018+$F$3,$H$3,B8),\"aaa\"))","v":""},"　　　","　　　",{"$f":"IF(IF(B8=\"\",\"\",VLOOKUP(B8,'12実績'!$A$16:$BK$46,63))=\"大会\",IF(B8=\"\",\"\",VLOOKUP(B8,'12実績'!$A$16:$AO$46,22,FALSE)),IF(B8=\"\",\"\",'12実績'!$AC$4)&IF(B8=\"\",\"\",VLOOKUP(B8,'12実績'!$A$16:$AO$46,22,FALSE)))","v":""},null,null,null,null,{"$f":"IF(IF(B8=\"\",\"\",VLOOKUP(B8,'12実績'!$A$16:$AO$46,5,FALSE))=0,IF(B8=\"\",\"\",VLOOKUP(B8,'12実績'!$A$16:$AO$46,12,FALSE)),IF(B8=\"\",\"\",VLOOKUP(B8,'12実績'!$A$16:$AO$46,5,FALSE)))","v":""},"～",{"$f":"IF(IF(B8=\"\",\"\",VLOOKUP(B8,'12実績'!$A$16:$AO$46,16,FALSE))=0,IF(B8=\"\",\"\",VLOOKUP(B8,'12実績'!$A$16:$AO$46,9,FALSE)),IF(B8=\"\",\"\",VLOOKUP(B8,'12実績'!$A$16:$AO$46,16,FALSE)))","v":""},{"$f":"IF(K8=\"\",\"\",M8-K8)","v":""},{"$f":"IF(B8=\"\",\"\",VLOOKUP(B8,'12実績'!$A$16:$AO$46,34,FALSE))","v":""}]
[]
[]
[null,null,null,null,null,null,null,null,null,null,null,null,null,null,null,null,null,"　　　"]
[null,{"$f":"IF(T9=\"\",\"\",T9)","v":""},{"$f":"IF(B12=\"\",\"\",TEXT(DATE(2018+$F$3,$H$3,B12),\"aaa\"))","v":""},"　　　","　　　",{"$f":"IF(IF(B12=\"\",\"\",VLOOKUP(B12,'12実績'!$A$16:$BK$46,63))=\"大会\",IF(B12=\"\",\"\",VLOOKUP(B12,'12実績'!$A$16:$AO$46,22,FALSE)),IF(B12=\"\",\"\",'12実績'!$AC$4)&IF(B12=\"\",\"\",VLOOKUP(B12,'12実績'!$A$16:$AO$46,22,FALSE)))","v":""},null,null,null,null,{"$f":"IF(IF(B12=\"\",\"\",VLOOKUP(B12,'12実績'!$A$16:$AO$46,5,FALSE))=0,IF(B12=\"\",\"\",VLOOKUP(B12,'12実績'!$A$16:$AO$46,12,FALSE)),IF(B12=\"\",\"\",VLOOKUP(B12,'12実績'!$A$16:$AO$46,5,FALSE)))","v":""},"～",{"$f":"IF(IF(B12=\"\",\"\",VLOOKUP(B12,'12実績'!$A$16:$AO$46,16,FALSE))=0,IF(B12=\"\",\"\",VLOOKUP(B12,'12実績'!$A$16:$AO$46,9,FALSE)),IF(B12=\"\",\"\",VLOOKUP(B12,'12実績'!$A$16:$AO$46,16,FALSE)))","v":""},{"$f":"IF(K12=\"\",\"\",M12-K12)","v":""},{"$f":"IF(B12=\"\",\"\",VLOOKUP(B12,'12実績'!$A$16:$AO$46,34,FALSE))","v":""}]
[]
[]
[null,null,null,null,null,null,null,null,null,null,null,null,null,null,null,null,null,"　　　"]
[null,{"$f":"IF(T10=\"\",\"\",T10)","v":""},{"$f":"IF(B16=\"\",\"\",TEXT(DATE(2018+$F$3,$H$3,B16),\"aaa\"))","v":""},"　　　","　　　",{"$f":"IF(IF(B16=\"\",\"\",VLOOKUP(B16,'12実績'!$A$16:$BK$46,63))=\"大会\",IF(B16=\"\",\"\",VLOOKUP(B16,'12実績'!$A$16:$AO$46,22,FALSE)),IF(B16=\"\",\"\",'12実績'!$AC$4)&IF(B16=\"\",\"\",VLOOKUP(B16,'12実績'!$A$16:$AO$46,22,FALSE)))","v":""},null,null,null,null,{"$f":"IF(IF(B16=\"\",\"\",VLOOKUP(B16,'12実績'!$A$16:$AO$46,5,FALSE))=0,IF(B16=\"\",\"\",VLOOKUP(B16,'12実績'!$A$16:$AO$46,12,FALSE)),IF(B16=\"\",\"\",VLOOKUP(B16,'12実績'!$A$16:$AO$46,5,FALSE)))","v":""},"～",{"$f":"IF(IF(B16=\"\",\"\",VLOOKUP(B16,'12実績'!$A$16:$AO$46,16,FALSE))=0,IF(B16=\"\",\"\",VLOOKUP(B16,'12実績'!$A$16:$AO$46,9,FALSE)),IF(B16=\"\",\"\",VLOOKUP(B16,'12実績'!$A$16:$AO$46,16,FALSE)))","v":""},{"$f":"IF(K16=\"\",\"\",M16-K16)","v":""},{"$f":"IF(B16=\"\",\"\",VLOOKUP(B16,'12実績'!$A$16:$AO$46,34,FALSE))","v":""}]
[null,null,null,null,null,null,null,null,null,null,null,null,null,null,null,null,null,null,null,10]
[null,null,null,null,null,null,null,null,null,null,null,null,null,null,null,null,null,null,null,11]
[null,null,null,null,null,null,null,null,null,null,null,null,null,null,null,null,null,"　　　",null,12]
[null,{"$f":"IF(T11=\"\",\"\",T11)","v":""},{"$f":"IF(B20=\"\",\"\",TEXT(DATE(2018+$F$3,$H$3,B20),\"aaa\"))","v":""},"　　　","　　　",{"$f":"IF(IF(B20=\"\",\"\",VLOOKUP(B20,'12実績'!$A$16:$BK$46,63))=\"大会\",IF(B20=\"\",\"\",VLOOKUP(B20,'12実績'!$A$16:$AO$46,22,FALSE)),IF(B20=\"\",\"\",'12実績'!$AC$4)&IF(B20=\"\",\"\",VLOOKUP(B20,'12実績'!$A$16:$AO$46,22,FALSE)))","v":""},null,null,null,null,{"$f":"IF(IF(B20=\"\",\"\",VLOOKUP(B20,'12実績'!$A$16:$AO$46,5,FALSE))=0,IF(B20=\"\",\"\",VLOOKUP(B20,'12実績'!$A$16:$AO$46,12,FALSE)),IF(B20=\"\",\"\",VLOOKUP(B20,'12実績'!$A$16:$AO$46,5,FALSE)))","v":""},"～",{"$f":"IF(IF(B20=\"\",\"\",VLOOKUP(B20,'12実績'!$A$16:$AO$46,16,FALSE))=0,IF(B20=\"\",\"\",VLOOKUP(B20,'12実績'!$A$16:$AO$46,9,FALSE)),IF(B20=\"\",\"\",VLOOKUP(B20,'12実績'!$A$16:$AO$46,16,FALSE)))","v":""},{"$f":"IF(K20=\"\",\"\",M20-K20)","v":""},{"$f":"IF(B20=\"\",\"\",VLOOKUP(B20,'12実績'!$A$16:$AO$46,34,FALSE))","v":""},null,null,null,null,13]
[null,null,null,null,null,null,null,null,null,null,null,null,null,null,null,null,null,null,null,14]
[null,null,null,null,null,null,null,null,null,null,null,null,null,null,null,null,null,null,null,15]
[null,null,null,null,null,null,null,null,null,null,null,null,null,null,null,null,null,"　　　",null,16]
[null,{"$f":"IF(T12=\"\",\"\",T12)","v":""},{"$f":"IF(B24=\"\",\"\",TEXT(DATE(2018+$F$3,$H$3,B24),\"aaa\"))","v":""},"　　　","　　　",{"$f":"IF(IF(B24=\"\",\"\",VLOOKUP(B24,'12実績'!$A$16:$BK$46,63))=\"大会\",IF(B24=\"\",\"\",VLOOKUP(B24,'12実績'!$A$16:$AO$46,22,FALSE)),IF(B24=\"\",\"\",'12実績'!$AC$4)&IF(B24=\"\",\"\",VLOOKUP(B24,'12実績'!$A$16:$AO$46,22,FALSE)))","v":""},null,null,null,null,{"$f":"IF(IF(B24=\"\",\"\",VLOOKUP(B24,'12実績'!$A$16:$AO$46,5,FALSE))=0,IF(B24=\"\",\"\",VLOOKUP(B24,'12実績'!$A$16:$AO$46,12,FALSE)),IF(B24=\"\",\"\",VLOOKUP(B24,'12実績'!$A$16:$AO$46,5,FALSE)))","v":""},"～",{"$f":"IF(IF(B24=\"\",\"\",VLOOKUP(B24,'12実績'!$A$16:$AO$46,16,FALSE))=0,IF(B24=\"\",\"\",VLOOKUP(B24,'12実績'!$A$16:$AO$46,9,FALSE)),IF(B24=\"\",\"\",VLOOKUP(B24,'12実績'!$A$16:$AO$46,16,FALSE)))","v":""},{"$f":"IF(K24=\"\",\"\",M24-K24)","v":""},{"$f":"IF(B24=\"\",\"\",VLOOKUP(B24,'12実績'!$A$16:$AO$46,34,FALSE))","v":""},null,null,null,null,17]
[null,null,null,null,null,null,null,null,null,null,null,null,null,null,null,null,null,null,null,18]
[null,null,null,null,null,null,null,null,null,null,null,null,null,null,null,null,null,null,null,19]
[null,null,null,null,null,null,null,null,null,null,null,null,null,null,null,null,null,"　　　",null,20]
[null,{"$f":"IF(T13=\"\",\"\",T13)","v":""},{"$f":"IF(B28=\"\",\"\",TEXT(DATE(2018+$F$3,$H$3,B28),\"aaa\"))","v":""},"　　　","　　　",{"$f":"IF(IF(B28=\"\",\"\",VLOOKUP(B28,'12実績'!$A$16:$BK$46,63))=\"大会\",IF(B28=\"\",\"\",VLOOKUP(B28,'12実績'!$A$16:$AO$46,22,FALSE)),IF(B28=\"\",\"\",'12実績'!$AC$4)&IF(B28=\"\",\"\",VLOOKUP(B28,'12実績'!$A$16:$AO$46,22,FALSE)))","v":""},null,null,null,null,{"$f":"IF(IF(B28=\"\",\"\",VLOOKUP(B28,'12実績'!$A$16:$AO$46,5,FALSE))=0,IF(B28=\"\",\"\",VLOOKUP(B28,'12実績'!$A$16:$AO$46,12,FALSE)),IF(B28=\"\",\"\",VLOOKUP(B28,'12実績'!$A$16:$AO$46,5,FALSE)))","v":""},"～",{"$f":"IF(IF(B28=\"\",\"\",VLOOKUP(B28,'12実績'!$A$16:$AO$46,16,FALSE))=0,IF(B28=\"\",\"\",VLOOKUP(B28,'12実績'!$A$16:$AO$46,9,FALSE)),IF(B28=\"\",\"\",VLOOKUP(B28,'12実績'!$A$16:$AO$46,16,FALSE)))","v":""},{"$f":"IF(K28=\"\",\"\",M28-K28)","v":""},{"$f":"IF(B28=\"\",\"\",VLOOKUP(B28,'12実績'!$A$16:$AO$46,34,FALSE))","v":""},null,null,null,null,21]
[null,null,null,null,null,null,null,null,null,null,null,null,null,null,null,null,null,null,null,22]
[null,null,null,null,null,null,null,null,null,null,null,null,null,null,null,null,null,null,null,23]
[null,null,null,null,null,null,null,null,null,null,null,null,null,null,null,null,null,"　　　",null,24]
[null,{"$f":"IF(T14=\"\",\"\",T14)","v":""},{"$f":"IF(B32=\"\",\"\",TEXT(DATE(2018+$F$3,$H$3,B32),\"aaa\"))","v":""},"　　　","　　　",{"$f":"IF(IF(B32=\"\",\"\",VLOOKUP(B32,'12実績'!$A$16:$BK$46,63))=\"大会\",IF(B32=\"\",\"\",VLOOKUP(B32,'12実績'!$A$16:$AO$46,22,FALSE)),IF(B32=\"\",\"\",'12実績'!$AC$4)&IF(B32=\"\",\"\",VLOOKUP(B32,'12実績'!$A$16:$AO$46,22,FALSE)))","v":""},null,null,null,null,{"$f":"IF(IF(B32=\"\",\"\",VLOOKUP(B32,'12実績'!$A$16:$AO$46,5,FALSE))=0,IF(B32=\"\",\"\",VLOOKUP(B32,'12実績'!$A$16:$AO$46,12,FALSE)),IF(B32=\"\",\"\",VLOOKUP(B32,'12実績'!$A$16:$AO$46,5,FALSE)))","v":""},"～",{"$f":"IF(IF(B32=\"\",\"\",VLOOKUP(B32,'12実績'!$A$16:$AO$46,16,FALSE))=0,IF(B32=\"\",\"\",VLOOKUP(B32,'12実績'!$A$16:$AO$46,9,FALSE)),IF(B32=\"\",\"\",VLOOKUP(B32,'12実績'!$A$16:$AO$46,16,FALSE)))","v":""},{"$f":"IF(K32=\"\",\"\",M32-K32)","v":""},{"$f":"IF(B32=\"\",\"\",VLOOKUP(B32,'12実績'!$A$16:$AO$46,34,FALSE))","v":""},null,null,null,null,25]
[null,null,null,null,null,null,null,null,null,null,null,null,null,null,null,null,null,null,null,26]
[null,null,null,null,null,null,null,null,null,null,null,null,null,null,null,null,null,null,null,27]
[null,null,null,null,null,null,null,null,null,null,null,null,null,null,null,null,null,"　　　",null,28]
[null,{"$f":"IF(T15=\"\",\"\",T15)","v":""},{"$f":"IF(B36=\"\",\"\",TEXT(DATE(2018+$F$3,$H$3,B36),\"aaa\"))","v":""},"　　　","　　　",{"$f":"IF(IF(B36=\"\",\"\",VLOOKUP(B36,'12実績'!$A$16:$BK$46,63))=\"大会\",IF(B36=\"\",\"\",VLOOKUP(B36,'12実績'!$A$16:$AO$46,22,FALSE)),IF(B36=\"\",\"\",'12実績'!$AC$4)&IF(B36=\"\",\"\",VLOOKUP(B36,'12実績'!$A$16:$AO$46,22,FALSE)))","v":""},null,null,null,null,{"$f":"IF(IF(B36=\"\",\"\",VLOOKUP(B36,'12実績'!$A$16:$AO$46,5,FALSE))=0,IF(B36=\"\",\"\",VLOOKUP(B36,'12実績'!$A$16:$AO$46,12,FALSE)),IF(B36=\"\",\"\",VLOOKUP(B36,'12実績'!$A$16:$AO$46,5,FALSE)))","v":""},"～",{"$f":"IF(IF(B36=\"\",\"\",VLOOKUP(B36,'12実績'!$A$16:$AO$46,16,FALSE))=0,IF(B36=\"\",\"\",VLOOKUP(B36,'12実績'!$A$16:$AO$46,9,FALSE)),IF(B36=\"\",\"\",VLOOKUP(B36,'12実績'!$A$16:$AO$46,16,FALSE)))","v":""},{"$f":"IF(K36=\"\",\"\",M36-K36)","v":""},{"$f":"IF(B36=\"\",\"\",VLOOKUP(B36,'12実績'!$A$16:$AO$46,34,FALSE))","v":""},null,null,null,null,29]
[null,null,null,null,null,null,null,null,null,null,null,null,null,null,null,null,null,null,null,30]
[null,null,null,null,null,null,null,null,null,null,null,null,null,null,null,null,null,null,null,31]
[null,null,null,null,null,null,null,null,null,null,null,null,null,null,null,null,null,"　　　"]
[null,{"$f":"IF(T16=\"\",\"\",T16)","v":""},{"$f":"IF(B40=\"\",\"\",TEXT(DATE(2018+$F$3,$H$3,B40),\"aaa\"))","v":""},"　　　","　　　",{"$f":"IF(IF(B40=\"\",\"\",VLOOKUP(B40,'12実績'!$A$16:$BK$46,63))=\"大会\",IF(B40=\"\",\"\",VLOOKUP(B40,'12実績'!$A$16:$AO$46,22,FALSE)),IF(B40=\"\",\"\",'12実績'!$AC$4)&IF(B40=\"\",\"\",VLOOKUP(B40,'12実績'!$A$16:$AO$46,22,FALSE)))","v":""},null,null,null,null,{"$f":"IF(IF(B40=\"\",\"\",VLOOKUP(B40,'12実績'!$A$16:$AO$46,5,FALSE))=0,IF(B40=\"\",\"\",VLOOKUP(B40,'12実績'!$A$16:$AO$46,12,FALSE)),IF(B40=\"\",\"\",VLOOKUP(B40,'12実績'!$A$16:$AO$46,5,FALSE)))","v":""},"～",{"$f":"IF(IF(B40=\"\",\"\",VLOOKUP(B40,'12実績'!$A$16:$AO$46,16,FALSE))=0,IF(B40=\"\",\"\",VLOOKUP(B40,'12実績'!$A$16:$AO$46,9,FALSE)),IF(B40=\"\",\"\",VLOOKUP(B40,'12実績'!$A$16:$AO$46,16,FALSE)))","v":""},{"$f":"IF(K40=\"\",\"\",M40-K40)","v":""},{"$f":"IF(B40=\"\",\"\",VLOOKUP(B40,'12実績'!$A$16:$AO$46,34,FALSE))","v":""}]
[]
[]
[null,null,null,null,null,null,null,null,null,null,null,null,null,null,null,null,null,"　　　"]
[null,"( 記入要領等 )"]
[null,"　         　１　この整理簿は、教員特殊業務手当及び面接指導手当の支給対象となるものについて、当該手当の支給に必要な事の整理をするものであること。"]
[null,"　　         ２　記入にあたっては、次のように記入すること。"]
[null,"　　　         　「要件」欄：週休日等　　　半日振替日　　　　その他"]
[null,"　　　　         「区分」欄：非常災害　　救急業務　　補導業務　　修学旅行等　　対外運動等　　入学試験業務　　　部活動４　　　　部活動３　　　部活動２　　　面接指導　　　　　"]
[null,"　　　　　　　　　　         ※部活動４は4時間以上、部活動３は３時間以上４時間未満、部活動２は2時間以上３時間未満をいう。"]
[null,"　　　　         「業務内容」欄：職員が従事した業務について、その内容を簡潔に記入すること。"]
[null,"　　　         　「従事時間」欄：左欄に手当の支給対象となる業務の終始の時刻を、右欄には時間を記入すること。"]
[null,"　　　         　「備考」欄：この整理簿を補足する事項を記入すること。"]

{"sheet":"１","index":35,"n_rows":52,"n_cols":20,"rows_kept":52,"cut":false,"hidden":false,"merged":[[39,17,41,17],[41,5,42,9],[43,1,43,3],[39,11,42,11],[39,12,42,12],[39,13,42,13],[39,14,42,14],[39,15,42,15],[39,16,42,16],[39,1,42,1],[39,2,42,2],[39,3,42,3],[39,4,42,4],[39,10,42,10],[39,5,40,9],[35,13,38,13],[35,14,38,14],[35,15,38,15],[35,16,38,16],[35,17,37,17],[37,5,38,9],[31,17,33,17],[33,5,34,9],[35,1,38,1],[35,2,38,2],[35,3,38,3],[35,4,38,4],[35,10,38,10],[35,11,38,11],[35,12,38,12],[31,11,34,11],[31,12,34,12],[31,13,34,13],[31,14,34,14],[31,15,34,15],[31,16,34,16],[31,1,34,1],[31,2,34,2],[31,3,34,3],[31,4,34,4],[31,10,34,10],[27,13,30,13],[27,14,30,14],[27,15,30,15],[27,16,30,16],[27,17,29,17],[29,5,30,9],[23,17,25,17],[25,5,26,9],[23,13,26,13],[23,14,26,14],[23,15,26,15],[23,16,26,16],[31,5,32,9],[27,5,28,9],[23,5,24,9],[27,1,30,1],[27,2,30,2],[27,3,30,3],[27,4,30,4],[27,10,30,10],[27,11,30,11],[27,12,30,12],[23,11,26,11],[23,12,26,12],[23,1,26,1],[23,2,26,2],[23,3,26,3],[23,4,26,4],[23,10,26,10],[19,1,22,1],[19,2,22,2],[19,3,22,3],[19,4,22,4],[19,10,22,10],[19,11,22,11],[19,12,22,12],[15,11,18,11],[15,12,18,12],[15,1,18,1],[15,2,18,2],[15,3,18,3],[11,14,14,14],[11,15,14,15],[11,16,14,16],[11,17,13,17],[13,5,14,9],[15,5,16,9],[11,5,12,9],[19,13,22,13],[19,14,22,14],[19,15,22,15],[19,16,22,16],[19,17,21,17],[21,5,22,9],[15,17,17,17],[17,5,18,9],[15,13,18,13],[15,14,18,14],[15,15,18,15],[15,16,18,16],[7,1,10,1],[7,2,10,2],[7,3,10,3],[7,4,10,4],[7,10,10,10],[7,5,8,9],[15,4,18,4],[15,10,18,10],[11,13,14,13],[35,5,36,9],[19,5,20,9],[4,1,4,2],[4,3,4,4],[4,6,4,8],[4,9,4,10],[4,14,4,17],[6,5,6,9],[6,10,6,13],[7,17,9,17],[9,5,10,9],[7,13,10,13],[7,14,10,14],[7,15,10,15],[7,16,10,16],[11,1,14,1],[11,2,14,2],[11,3,14,3],[11,4,14,4],[11,10,14,10],[11,11,14,11],[11,12,14,12],[7,11,10,11],[7,12,10,12]]}
[]
[]
[null,null,null,"          　　　　　　","令和",{"$f":"'1計画'!AS1-2018","v":3},"年",{"$f":"'1計画'!A7","v":1},"月分","　 教  員  特  殊  業  務  整  理  簿",null,null,null,null,null,null,null,"様式3"]
[]
[null,"氏　名",null,{"$f":"IF('1実績'!K10=\"\",\"\",'1実績'!K10)","v":0},null,"職員\n番号",{"$f":"IF('４'!G5=\"\",\"\",'４'!G5)","v":""},null,null,null,null,null,null,null,{"$f":"'４'!O5:R5","v":"0学校"}]
[]
[null,"日","曜","要　件","区　分","業　　務　　内　　容",null,null,null,null,"従　事　時　間",null,null,null,"従事場所","所属長\n確認印","従事者印","備　　考"]
[null,{"$f":"IF(T8=\"\",\"\",T8)","v":""},{"$f":"IF(B8=\"\",\"\",TEXT(DATE(2018+$F$3,$H$3,B8),\"aaa\"))","v":""},"　　　","　　　",{"$f":"IF(IF(B8=\"\",\"\",VLOOKUP(B8,'1実績'!$A$16:$BK$46,63))=\"大会\",IF(B8=\"\",\"\",VLOOKUP(B8,'1実績'!$A$16:$AO$46,22,FALSE)),IF(B8=\"\",\"\",'1実績'!$AC$4)&IF(B8=\"\",\"\",VLOOKUP(B8,'1実績'!$A$16:$AO$46,22,FALSE)))","v":""},null,null,null,null,{"$f":"IF(IF(B8=\"\",\"\",VLOOKUP(B8,'1実績'!$A$16:$AO$46,5,FALSE))=0,IF(B8=\"\",\"\",VLOOKUP(B8,'1実績'!$A$16:$AO$46,12,FALSE)),IF(B8=\"\",\"\",VLOOKUP(B8,'1実績'!$A$16:$AO$46,5,FALSE)))","v":""},"～",{"$f":"IF(IF(B8=\"\",\"\",VLOOKUP(B8,'1実績'!$A$16:$AO$46,16,FALSE))=0,IF(B8=\"\",\"\",VLOOKUP(B8,'1実績'!$A$16:$AO$46,9,FALSE)),IF(B8=\"\",\"\",VLOOKUP(B8,'1実績'!$A$16:$AO$46,16,FALSE)))","v":""},{"$f":"IF(K8=\"\",\"\",M8-K8)","v":""},{"$f":"IF(B8=\"\",\"\",VLOOKUP(B8,'1実績'!$A$16:$AO$46,34,FALSE))","v":""}]
[]
[]
[null,null,null,null,null,null,null,null,null,null,null,null,null,null,null,null,null,"　　　"]
[null,{"$f":"IF(T9=\"\",\"\",T9)","v":""},{"$f":"IF(B12=\"\",\"\",TEXT(DATE(2018+$F$3,$H$3,B12),\"aaa\"))","v":""},"　　　","　　　",{"$f":"IF(IF(B12=\"\",\"\",VLOOKUP(B12,'1実績'!$A$16:$BK$46,63))=\"大会\",IF(B12=\"\",\"\",VLOOKUP(B12,'1実績'!$A$16:$AO$46,22,FALSE)),IF(B12=\"\",\"\",'1実績'!$AC$4)&IF(B12=\"\",\"\",VLOOKUP(B12,'1実績'!$A$16:$AO$46,22,FALSE)))","v":""},null,null,null,null,{"$f":"IF(IF(B12=\"\",\"\",VLOOKUP(B12,'1実績'!$A$16:$AO$46,5,FALSE))=0,IF(B12=\"\",\"\",VLOOKUP(B12,'1実績'!$A$16:$AO$46,12,FALSE)),IF(B12=\"\",\"\",VLOOKUP(B12,'1実績'!$A$16:$AO$46,5,FALSE)))","v":""},"～",{"$f":"IF(IF(B12=\"\",\"\",VLOOKUP(B12,'1実績'!$A$16:$AO$46,16,FALSE))=0,IF(B12=\"\",\"\",VLOOKUP(B12,'1実績'!$A$16:$AO$46,9,FALSE)),IF(B12=\"\",\"\",VLOOKUP(B12,'1実績'!$A$16:$AO$46,16,FALSE)))","v":""},{"$f":"IF(K12=\"\",\"\",M12-K12)","v":""},{"$f":"IF(B12=\"\",\"\",VLOOKUP(B12,'1実績'!$A$16:$AO$46,34,FALSE))","v":""}]
[]
[]
[null,null,null,null,null,null,null,null,null,null,null,null,null,null,null,null,null,"　　　"]
[null,{"$f":"IF(T10=\"\",\"\",T10)","v":""},{"$f":"IF(B16=\"\",\"\",TEXT(DATE(2018+$F$3,$H$3,B16),\"aaa\"))","v":""},"　　　","　　　",{"$f":"IF(IF(B16=\"\",\"\",VLOOKUP(B16,'1実績'!$A$16:$BK$46,63))=\"大会\",IF(B16=\"\",\"\",VLOOKUP(B16,'1実績'!$A$16:$AO$46,22,FALSE)),IF(B16=\"\",\"\",'1実績'!$AC$4)&IF(B16=\"\",\"\",VLOOKUP(B16,'1実績'!$A$16:$AO$46,22,FALSE)))","v":""},null,null,null,null,{"$f":"IF(IF(B16=\"\",\"\",VLOOKUP(B16,'1実績'!$A$16:$AO$46,5,FALSE))=0,IF(B16=\"\",\"\",VLOOKUP(B16,'1実績'!$A$16:$AO$46,12,FALSE)),IF(B16=\"\",\"\",VLOOKUP(B16,'1実績'!$A$16:$AO$46,5,FALSE)))","v":""},"～",{"$f":"IF(IF(B16=\"\",\"\",VLOOKUP(B16,'1実績'!$A$16:$AO$46,16,FALSE))=0,IF(B16=\"\",\"\",VLOOKUP(B16,'1実績'!$A$16:$AO$46,9,FALSE)),IF(B16=\"\",\"\",VLOOKUP(B16,'1実績'!$A$16:$AO$46,16,FALSE)))","v":""},{"$f":"IF(K16=\"\",\"\",M16-K16)","v":""},{"$f":"IF(B16=\"\",\"\",VLOOKUP(B16,'1実績'!$A$16:$AO$46,34,FALSE))","v":""}]
[null,null,null,null,null,null,null,null,null,null,null,null,null,null,null,null,null,null,null,10]
[null,null,null,null,null,null,null,null,null,null,null,null,null,null,null,null,null,null,null,11]
[null,null,null,null,null,null,null,null,null,null,null,null,null,null,null,null,null,"　　　",null,12]
[null,{"$f":"IF(T11=\"\",\"\",T11)","v":""},{"$f":"IF(B20=\"\",\"\",TEXT(DATE(2018+$F$3,$H$3,B20),\"aaa\"))","v":""},"　　　","　　　",{"$f":"IF(IF(B20=\"\",\"\",VLOOKUP(B20,'1実績'!$A$16:$BK$46,63))=\"大会\",IF(B20=\"\",\"\",VLOOKUP(B20,'1実績'!$A$16:$AO$46,22,FALSE)),IF(B20=\"\",\"\",'1実績'!$AC$4)&IF(B20=\"\",\"\",VLOOKUP(B20,'1実績'!$A$16:$AO$46,22,FALSE)))","v":""},null,null,null,null,{"$f":"IF(IF(B20=\"\",\"\",VLOOKUP(B20,'1実績'!$A$16:$AO$46,5,FALSE))=0,IF(B20=\"\",\"\",VLOOKUP(B20,'1実績'!$A$16:$AO$46,12,FALSE)),IF(B20=\"\",\"\",VLOOKUP(B20,'1実績'!$A$16:$AO$46,5,FALSE)))","v":""},"～",{"$f":"IF(IF(B20=\"\",\"\",VLOOKUP(B20,'1実績'!$A$16:$AO$46,16,FALSE))=0,IF(B20=\"\",\"\",VLOOKUP(B20,'1実績'!$A$16:$AO$46,9,FALSE)),IF(B20=\"\",\"\",VLOOKUP(B20,'1実績'!$A$16:$AO$46,16,FALSE)))","v":""},{"$f":"IF(K20=\"\",\"\",M20-K20)","v":""},{"$f":"IF(B20=\"\",\"\",VLOOKUP(B20,'1実績'!$A$16:$AO$46,34,FALSE))","v":""},null,null,null,null,13]
[null,null,null,null,null,null,null,null,null,null,null,null,null,null,null,null,null,null,null,14]
[null,null,null,null,null,null,null,null,null,null,null,null,null,null,null,null,null,null,null,15]
[null,null,null,null,null,null,null,null,null,null,null,null,null,null,null,null,null,"　　　",null,16]
[null,{"$f":"IF(T12=\"\",\"\",T12)","v":""},{"$f":"IF(B24=\"\",\"\",TEXT(DATE(2018+$F$3,$H$3,B24),\"aaa\"))","v":""},"　　　","　　　",{"$f":"IF(IF(B24=\"\",\"\",VLOOKUP(B24,'1実績'!$A$16:$BK$46,63))=\"大会\",IF(B24=\"\",\"\",VLOOKUP(B24,'1実績'!$A$16:$AO$46,22,FALSE)),IF(B24=\"\",\"\",'1実績'!$AC$4)&IF(B24=\"\",\"\",VLOOKUP(B24,'1実績'!$A$16:$AO$46,22,FALSE)))","v":""},null,null,null,null,{"$f":"IF(IF(B24=\"\",\"\",VLOOKUP(B24,'1実績'!$A$16:$AO$46,5,FALSE))=0,IF(B24=\"\",\"\",VLOOKUP(B24,'1実績'!$A$16:$AO$46,12,FALSE)),IF(B24=\"\",\"\",VLOOKUP(B24,'1実績'!$A$16:$AO$46,5,FALSE)))","v":""},"～",{"$f":"IF(IF(B24=\"\",\"\",VLOOKUP(B24,'1実績'!$A$16:$AO$46,16,FALSE))=0,IF(B24=\"\",\"\",VLOOKUP(B24,'1実績'!$A$16:$AO$46,9,FALSE)),IF(B24=\"\",\"\",VLOOKUP(B24,'1実績'!$A$16:$AO$46,16,FALSE)))","v":""},{"$f":"IF(K24=\"\",\"\",M24-K24)","v":""},{"$f":"IF(B24=\"\",\"\",VLOOKUP(B24,'1実績'!$A$16:$AO$46,34,FALSE))","v":""},null,null,null,null,17]
[null,null,null,null,null,null,null,null,null,null,null,null,null,null,null,null,null,null,null,18]
[null,null,null,null,null,null,null,null,null,null,null,null,null,null,null,null,null,null,null,19]
[null,null,null,null,null,null,null,null,null,null,null,null,null,null,null,null,null,"　　　",null,20]
[null,{"$f":"IF(T13=\"\",\"\",T13)","v":""},{"$f":"IF(B28=\"\",\"\",TEXT(DATE(2018+$F$3,$H$3,B28),\"aaa\"))","v":""},"　　　","　　　",{"$f":"IF(IF(B28=\"\",\"\",VLOOKUP(B28,'1実績'!$A$16:$BK$46,63))=\"大会\",IF(B28=\"\",\"\",VLOOKUP(B28,'1実績'!$A$16:$AO$46,22,FALSE)),IF(B28=\"\",\"\",'1実績'!$AC$4)&IF(B28=\"\",\"\",VLOOKUP(B28,'1実績'!$A$16:$AO$46,22,FALSE)))","v":""},null,null,null,null,{"$f":"IF(IF(B28=\"\",\"\",VLOOKUP(B28,'1実績'!$A$16:$AO$46,5,FALSE))=0,IF(B28=\"\",\"\",VLOOKUP(B28,'1実績'!$A$16:$AO$46,12,FALSE)),IF(B28=\"\",\"\",VLOOKUP(B28,'1実績'!$A$16:$AO$46,5,FALSE)))","v":""},"～",{"$f":"IF(IF(B28=\"\",\"\",VLOOKUP(B28,'1実績'!$A$16:$AO$46,16,FALSE))=0,IF(B28=\"\",\"\",VLOOKUP(B28,'1実績'!$A$16:$AO$46,9,FALSE)),IF(B28=\"\",\"\",VLOOKUP(B28,'1実績'!$A$16:$AO$46,16,FALSE)))","v":""},{"$f":"IF(K28=\"\",\"\",M28-K28)","v":""},{"$f":"IF(B28=\"\",\"\",VLOOKUP(B28,'1実績'!$A$16:$AO$46,34,FALSE))","v":""},null,null,null,null,21]
[null,null,null,null,null,null,null,null,null,null,null,null,null,null,null,null,null,null,null,22]
[null,null,null,null,null,null,null,null,null,null,null,null,null,null,null,null,null,null,null,23]
[null,null,null,null,null,null,null,null,null,null,null,null,null,null,null,null,null,"　　　",null,24]
[null,{"$f":"IF(T14=\"\",\"\",T14)","v":""},{"$f":"IF(B32=\"\",\"\",TEXT(DATE(2018+$F$3,$H$3,B32),\"aaa\"))","v":""},"　　　","　　　",{"$f":"IF(IF(B32=\"\",\"\",VLOOKUP(B32,'1実績'!$A$16:$BK$46,63))=\"大会\",IF(B32=\"\",\"\",VLOOKUP(B32,'1実績'!$A$16:$AO$46,22,FALSE)),IF(B32=\"\",\"\",'1実績'!$AC$4)&IF(B32=\"\",\"\",VLOOKUP(B32,'1実績'!$A$16:$AO$46,22,FALSE)))","v":""},null,null,null,null,{"$f":"IF(IF(B32=\"\",\"\",VLOOKUP(B32,'1実績'!$A$16:$AO$46,5,FALSE))=0,IF(B32=\"\",\"\",VLOOKUP(B32,'1実績'!$A$16:$AO$46,12,FALSE)),IF(B32=\"\",\"\",VLOOKUP(B32,'1実績'!$A$16:$AO$46,5,FALSE)))","v":""},"～",{"$f":"IF(IF(B32=\"\",\"\",VLOOKUP(B32,'1実績'!$A$16:$AO$46,16,FALSE))=0,IF(B32=\"\",\"\",VLOOKUP(B32,'1実績'!$A$16:$AO$46,9,FALSE)),IF(B32=\"\",\"\",VLOOKUP(B32,'1実績'!$A$16:$AO$46,16,FALSE)))","v":""},{"$f":"IF(K32=\"\",\"\",M32-K32)","v":""},{"$f":"IF(B32=\"\",\"\",VLOOKUP(B32,'1実績'!$A$16:$AO$46,34,FALSE))","v":""},null,null,null,null,25]
[null,null,null,null,null,null,null,null,null,null,null,null,null,null,null,null,null,null,null,26]
[null,null,null,null,null,null,null,null,null,null,null,null,null,null,null,null,null,null,null,27]
[null,null,null,null,null,null,null,null,null,null,null,null,null,null,null,null,null,"　　　",null,28]
[null,{"$f":"IF(T15=\"\",\"\",T15)","v":""},{"$f":"IF(B36=\"\",\"\",TEXT(DATE(2018+$F$3,$H$3,B36),\"aaa\"))","v":""},"　　　","　　　",{"$f":"IF(IF(B36=\"\",\"\",VLOOKUP(B36,'1実績'!$A$16:$BK$46,63))=\"大会\",IF(B36=\"\",\"\",VLOOKUP(B36,'1実績'!$A$16:$AO$46,22,FALSE)),IF(B36=\"\",\"\",'1実績'!$AC$4)&IF(B36=\"\",\"\",VLOOKUP(B36,'1実績'!$A$16:$AO$46,22,FALSE)))","v":""},null,null,null,null,{"$f":"IF(IF(B36=\"\",\"\",VLOOKUP(B36,'1実績'!$A$16:$AO$46,5,FALSE))=0,IF(B36=\"\",\"\",VLOOKUP(B36,'1実績'!$A$16:$AO$46,12,FALSE)),IF(B36=\"\",\"\",VLOOKUP(B36,'1実績'!$A$16:$AO$46,5,FALSE)))","v":""},"～",{"$f":"IF(IF(B36=\"\",\"\",VLOOKUP(B36,'1実績'!$A$16:$AO$46,16,FALSE))=0,IF(B36=\"\",\"\",VLOOKUP(B36,'1実績'!$A$16:$AO$46,9,FALSE)),IF(B36=\"\",\"\",VLOOKUP(B36,'1実績'!$A$16:$AO$46,16,FALSE)))","v":""},{"$f":"IF(K36=\"\",\"\",M36-K36)","v":""},{"$f":"IF(B36=\"\",\"\",VLOOKUP(B36,'1実績'!$A$16:$AO$46,34,FALSE))","v":""},null,null,null,null,29]
[null,null,null,null,null,null,null,null,null,null,null,null,null,null,null,null,null,null,null,30]
[null,null,null,null,null,null,null,null,null,null,null,null,null,null,null,null,null,null,null,31]
[null,null,null,null,null,null,null,null,null,null,null,null,null,null,null,null,null,"　　　"]
[null,{"$f":"IF(T16=\"\",\"\",T16)","v":""},{"$f":"IF(B40=\"\",\"\",TEXT(DATE(2018+$F$3,$H$3,B40),\"aaa\"))","v":""},"　　　","　　　",{"$f":"IF(IF(B40=\"\",\"\",VLOOKUP(B40,'1実績'!$A$16:$BK$46,63))=\"大会\",IF(B40=\"\",\"\",VLOOKUP(B40,'1実績'!$A$16:$AO$46,22,FALSE)),IF(B40=\"\",\"\",'1実績'!$AC$4)&IF(B40=\"\",\"\",VLOOKUP(B40,'1実績'!$A$16:$AO$46,22,FALSE)))","v":""},null,null,null,null,{"$f":"IF(IF(B40=\"\",\"\",VLOOKUP(B40,'1実績'!$A$16:$AO$46,5,FALSE))=0,IF(B40=\"\",\"\",VLOOKUP(B40,'1実績'!$A$16:$AO$46,12,FALSE)),IF(B40=\"\",\"\",VLOOKUP(B40,'1実績'!$A$16:$AO$46,5,FALSE)))","v":""},"～",{"$f":"IF(IF(B40=\"\",\"\",VLOOKUP(B40,'1実績'!$A$16:$AO$46,16,FALSE))=0,IF(B40=\"\",\"\",VLOOKUP(B40,'1実績'!$A$16:$AO$46,9,FALSE)),IF(B40=\"\",\"\",VLOOKUP(B40,'1実績'!$A$16:$AO$46,16,FALSE)))","v":""},{"$f":"IF(K40=\"\",\"\",M40-K40)","v":""},{"$f":"IF(B40=\"\",\"\",VLOOKUP(B40,'1実績'!$A$16:$AO$46,34,FALSE))","v":""}]
[]
[]
[null,null,null,null,null,null,null,null,null,null,null,null,null,null,null,null,null,"　　　"]
[null,"( 記入要領等 )"]
[null,"　         　１　この整理簿は、教員特殊業務手当及び面接指導手当の支給対象となるものについて、当該手当の支給に必要な事の整理をするものであること。"]
[null,"　　         ２　記入にあたっては、次のように記入すること。"]
[null,"　　　         　「要件」欄：週休日等　　　半日振替日　　　　その他"]
[null,"　　　　         「区分」欄：非常災害　　救急業務　　補導業務　　修学旅行等　　対外運動等　　入学試験業務　　　部活動４　　　　部活動３　　　部活動２　　　面接指導　　　　　"]
[null,"　　　　　　　　　　         ※部活動４は4時間以上、部活動３は３時間以上４時間未満、部活動２は2時間以上３時間未満をいう。"]
[null,"　　　　         「業務内容」欄：職員が従事した業務について、その内容を簡潔に記入すること。"]
[null,"　　　         　「従事時間」欄：左欄に手当の支給対象となる業務の終始の時刻を、右欄には時間を記入すること。"]
[null,"　　　         　「備考」欄：この整理簿を補足する事項を記入すること。"]

{"sheet":"２","index":36,"n_rows":52,"n_cols":20,"rows_kept":52,"cut":false,"hidden":false,"merged":[[39,17,41,17],[41,5,42,9],[43,1,43,3],[39,11,42,11],[39,12,42,12],[39,13,42,13],[39,14,42,14],[39,15,42,15],[39,16,42,16],[39,1,42,1],[39,2,42,2],[39,3,42,3],[39,4,42,4],[39,10,42,10],[39,5,40,9],[35,13,38,13],[35,14,38,14],[35,15,38,15],[35,16,38,16],[35,17,37,17],[37,5,38,9],[31,17,33,17],[33,5,34,9],[35,1,38,1],[35,2,38,2],[35,3,38,3],[35,4,38,4],[35,10,38,10],[35,11,38,11],[35,12,38,12],[31,11,34,11],[31,12,34,12],[31,13,34,13],[31,14,34,14],[31,15,34,15],[31,16,34,16],[31,1,34,1],[31,2,34,2],[31,3,34,3],[31,4,34,4],[31,10,34,10],[27,13,30,13],[27,14,30,14],[27,15,30,15],[27,16,30,16],[27,17,29,17],[29,5,30,9],[23,17,25,17],[25,5,26,9],[23,13,26,13],[23,14,26,14],[23,15,26,15],[23,16,26,16],[31,5,32,9],[27,5,28,9],[23,5,24,9],[27,1,30,1],[27,2,30,2],[27,3,30,3],[27,4,30,4],[27,10,30,10],[27,11,30,11],[27,12,30,12],[23,11,26,11],[23,12,26,12],[23,1,26,1],[23,2,26,2],[23,3,26,3],[23,4,26,4],[23,10,26,10],[19,1,22,1],[19,2,22,2],[19,3,22,3],[19,4,22,4],[19,10,22,10],[19,11,22,11],[19,12,22,12],[15,11,18,11],[15,12,18,12],[15,1,18,1],[15,2,18,2],[15,3,18,3],[11,14,14,14],[11,15,14,15],[11,16,14,16],[11,17,13,17],[13,5,14,9],[15,5,16,9],[11,5,12,9],[19,13,22,13],[19,14,22,14],[19,15,22,15],[19,16,22,16],[19,17,21,17],[21,5,22,9],[15,17,17,17],[17,5,18,9],[15,13,18,13],[15,14,18,14],[15,15,18,15],[15,16,18,16],[7,1,10,1],[7,2,10,2],[7,3,10,3],[7,4,10,4],[7,10,10,10],[7,5,8,9],[15,4,18,4],[15,10,18,10],[11,13,14,13],[35,5,36,9],[19,5,20,9],[4,1,4,2],[4,3,4,4],[4,6,4,8],[4,9,4,10],[4,14,4,17],[6,5,6,9],[6,10,6,13],[7,17,9,17],[9,5,10,9],[7,13,10,13],[7,14,10,14],[7,15,10,15],[7,16,10,16],[11,1,14,1],[11,2,14,2],[11,3,14,3],[11,4,14,4],[11,10,14,10],[11,11,14,11],[11,12,14,12],[7,11,10,11],[7,12,10,12]]}
[]
[]
[null,null,null,"          　　　　　　","令和",{"$f":"'2計画'!AS1-2018","v":3},"年",{"$f":"'2計画'!A7","v":2},"月分","　 教  員  特  殊  業  務  整  理  簿",null,null,null,null,null,null,null,"様式3"]
[]
[null,"氏　名",null,{"$f":"IF('2実績'!K10=\"\",\"\",'2実績'!K10)","v":0},null,"職員\n番号",{"$f":"IF('４'!G5=\"\",\"\",'４'!G5)","v":""},null,null,null,null,null,null,null,{"$f":"'４'!O5:R5","v":"0学校"}]
[]
[null,"日","曜","要　件","区　分","業　　務　　内　　容",null,null,null,null,"従　事　時　間",null,null,null,"従事場所","所属長\n確認印","従事者印","備　　考"]
[null,{"$f":"IF(T8=\"\",\"\",T8)","v":""},{"$f":"IF(B8=\"\",\"\",TEXT(DATE(2018+$F$3,$H$3,B8),\"aaa\"))","v":""},"　　　","　　　",{"$f":"IF(IF(B8=\"\",\"\",VLOOKUP(B8,'2実績'!$A$16:$BK$46,63))=\"大会\",IF(B8=\"\",\"\",VLOOKUP(B8,'2実績'!$A$16:$AO$46,22,FALSE)),IF(B8=\"\",\"\",'2実績'!$AC$4)&IF(B8=\"\",\"\",VLOOKUP(B8,'2実績'!$A$16:$AO$46,22,FALSE)))","v":""},null,null,null,null,{"$f":"IF(IF(B8=\"\",\"\",VLOOKUP(B8,'2実績'!$A$16:$AO$46,5,FALSE))=0,IF(B8=\"\",\"\",VLOOKUP(B8,'2実績'!$A$16:$AO$46,12,FALSE)),IF(B8=\"\",\"\",VLOOKUP(B8,'2実績'!$A$16:$AO$46,5,FALSE)))","v":""},"～",{"$f":"IF(IF(B8=\"\",\"\",VLOOKUP(B8,'2実績'!$A$16:$AO$46,16,FALSE))=0,IF(B8=\"\",\"\",VLOOKUP(B8,'2実績'!$A$16:$AO$46,9,FALSE)),IF(B8=\"\",\"\",VLOOKUP(B8,'2実績'!$A$16:$AO$46,16,FALSE)))","v":""},{"$f":"IF(K8=\"\",\"\",M8-K8)","v":""},{"$f":"IF(B8=\"\",\"\",VLOOKUP(B8,'2実績'!$A$16:$AO$46,34,FALSE))","v":""}]
[]
[]
[null,null,null,null,null,null,null,null,null,null,null,null,null,null,null,null,null,"　　　"]
[null,{"$f":"IF(T9=\"\",\"\",T9)","v":""},{"$f":"IF(B12=\"\",\"\",TEXT(DATE(2018+$F$3,$H$3,B12),\"aaa\"))","v":""},"　　　","　　　",{"$f":"IF(IF(B12=\"\",\"\",VLOOKUP(B12,'2実績'!$A$16:$BK$46,63))=\"大会\",IF(B12=\"\",\"\",VLOOKUP(B12,'2実績'!$A$16:$AO$46,22,FALSE)),IF(B12=\"\",\"\",'2実績'!$AC$4)&IF(B12=\"\",\"\",VLOOKUP(B12,'2実績'!$A$16:$AO$46,22,FALSE)))","v":""},null,null,null,null,{"$f":"IF(IF(B12=\"\",\"\",VLOOKUP(B12,'2実績'!$A$16:$AO$46,5,FALSE))=0,IF(B12=\"\",\"\",VLOOKUP(B12,'2実績'!$A$16:$AO$46,12,FALSE)),IF(B12=\"\",\"\",VLOOKUP(B12,'2実績'!$A$16:$AO$46,5,FALSE)))","v":""},"～",{"$f":"IF(IF(B12=\"\",\"\",VLOOKUP(B12,'2実績'!$A$16:$AO$46,16,FALSE))=0,IF(B12=\"\",\"\",VLOOKUP(B12,'2実績'!$A$16:$AO$46,9,FALSE)),IF(B12=\"\",\"\",VLOOKUP(B12,'2実績'!$A$16:$AO$46,16,FALSE)))","v":""},{"$f":"IF(K12=\"\",\"\",M12-K12)","v":""},{"$f":"IF(B12=\"\",\"\",VLOOKUP(B12,'2実績'!$A$16:$AO$46,34,FALSE))","v":""}]
[]
[]
[null,null,null,null,null,null,null,null,null,null,null,null,null,null,null,null,null,"　　　"]
[null,{"$f":"IF(T10=\"\",\"\",T10)","v":""},{"$f":"IF(B16=\"\",\"\",TEXT(DATE(2018+$F$3,$H$3,B16),\"aaa\"))","v":""},"　　　","　　　",{"$f":"IF(IF(B16=\"\",\"\",VLOOKUP(B16,'2実績'!$A$16:$BK$46,63))=\"大会\",IF(B16=\"\",\"\",VLOOKUP(B16,'2実績'!$A$16:$AO$46,22,FALSE)),IF(B16=\"\",\"\",'2実績'!$AC$4)&IF(B16=\"\",\"\",VLOOKUP(B16,'2実績'!$A$16:$AO$46,22,FALSE)))","v":""},null,null,null,null,{"$f":"IF(IF(B16=\"\",\"\",VLOOKUP(B16,'2実績'!$A$16:$AO$46,5,FALSE))=0,IF(B16=\"\",\"\",VLOOKUP(B16,'2実績'!$A$16:$AO$46,12,FALSE)),IF(B16=\"\",\"\",VLOOKUP(B16,'2実績'!$A$16:$AO$46,5,FALSE)))","v":""},"～",{"$f":"IF(IF(B16=\"\",\"\",VLOOKUP(B16,'2実績'!$A$16:$AO$46,16,FALSE))=0,IF(B16=\"\",\"\",VLOOKUP(B16,'2実績'!$A$16:$AO$46,9,FALSE)),IF(B16=\"\",\"\",VLOOKUP(B16,'2実績'!$A$16:$AO$46,16,FALSE)))","v":""},{"$f":"IF(K16=\"\",\"\",M16-K16)","v":""},{"$f":"IF(B16=\"\",\"\",VLOOKUP(B16,'2実績'!$A$16:$AO$46,34,FALSE))","v":""}]
[null,null,null,null,null,null,null,null,null,null,null,null,null,null,null,null,null,null,null,10]
[null,null,null,null,null,null,null,null,null,null,null,null,null,null,null,null,null,null,null,11]
[null,null,null,null,null,null,null,null,null,null,null,null,null,null,null,null,null,"　　　",null,12]
[null,{"$f":"IF(T11=\"\",\"\",T11)","v":""},{"$f":"IF(B20=\"\",\"\",TEXT(DATE(2018+$F$3,$H$3,B20),\"aaa\"))","v":""},"　　　","　　　",{"$f":"IF(IF(B20=\"\",\"\",VLOOKUP(B20,'2実績'!$A$16:$BK$46,63))=\"大会\",IF(B20=\"\",\"\",VLOOKUP(B20,'2実績'!$A$16:$AO$46,22,FALSE)),IF(B20=\"\",\"\",'2実績'!$AC$4)&IF(B20=\"\",\"\",VLOOKUP(B20,'2実績'!$A$16:$AO$46,22,FALSE)))","v":""},null,null,null,null,{"$f":"IF(IF(B20=\"\",\"\",VLOOKUP(B20,'2実績'!$A$16:$AO$46,5,FALSE))=0,IF(B20=\"\",\"\",VLOOKUP(B20,'2実績'!$A$16:$AO$46,12,FALSE)),IF(B20=\"\",\"\",VLOOKUP(B20,'2実績'!$A$16:$AO$46,5,FALSE)))","v":""},"～",{"$f":"IF(IF(B20=\"\",\"\",VLOOKUP(B20,'2実績'!$A$16:$AO$46,16,FALSE))=0,IF(B20=\"\",\"\",VLOOKUP(B20,'2実績'!$A$16:$AO$46,9,FALSE)),IF(B20=\"\",\"\",VLOOKUP(B20,'2実績'!$A$16:$AO$46,16,FALSE)))","v":""},{"$f":"IF(K20=\"\",\"\",M20-K20)","v":""},{"$f":"IF(B20=\"\",\"\",VLOOKUP(B20,'2実績'!$A$16:$AO$46,34,FALSE))","v":""},null,null,null,null,13]
[null,null,null,null,null,null,null,null,null,null,null,null,null,null,null,null,null,null,null,14]
[null,null,null,null,null,null,null,null,null,null,null,null,null,null,null,null,null,null,null,15]
[null,null,null,null,null,null,null,null,null,null,null,null,null,null,null,null,null,"　　　",null,16]
[null,{"$f":"IF(T12=\"\",\"\",T12)","v":""},{"$f":"IF(B24=\"\",\"\",TEXT(DATE(2018+$F$3,$H$3,B24),\"aaa\"))","v":""},"　　　","　　　",{"$f":"IF(IF(B24=\"\",\"\",VLOOKUP(B24,'2実績'!$A$16:$BK$46,63))=\"大会\",IF(B24=\"\",\"\",VLOOKUP(B24,'2実績'!$A$16:$AO$46,22,FALSE)),IF(B24=\"\",\"\",'2実績'!$AC$4)&IF(B24=\"\",\"\",VLOOKUP(B24,'2実績'!$A$16:$AO$46,22,FALSE)))","v":""},null,null,null,null,{"$f":"IF(IF(B24=\"\",\"\",VLOOKUP(B24,'2実績'!$A$16:$AO$46,5,FALSE))=0,IF(B24=\"\",\"\",VLOOKUP(B24,'2実績'!$A$16:$AO$46,12,FALSE)),IF(B24=\"\",\"\",VLOOKUP(B24,'2実績'!$A$16:$AO$46,5,FALSE)))","v":""},"～",{"$f":"IF(IF(B24=\"\",\"\",VLOOKUP(B24,'2実績'!$A$16:$AO$46,16,FALSE))=0,IF(B24=\"\",\"\",VLOOKUP(B24,'2実績'!$A$16:$AO$46,9,FALSE)),IF(B24=\"\",\"\",VLOOKUP(B24,'2実績'!$A$16:$AO$46,16,FALSE)))","v":""},{"$f":"IF(K24=\"\",\"\",M24-K24)","v":""},{"$f":"IF(B24=\"\",\"\",VLOOKUP(B24,'2実績'!$A$16:$AO$46,34,FALSE))","v":""},null,null,null,null,17]
[null,null,null,null,null,null,null,null,null,null,null,null,null,null,null,null,null,null,null,18]
[null,null,null,null,null,null,null,null,null,null,null,null,null,null,null,null,null,null,null,19]
[null,null,null,null,null,null,null,null,null,null,null,null,null,null,null,null,null,"　　　",null,20]
[null,{"$f":"IF(T13=\"\",\"\",T13)","v":""},{"$f":"IF(B28=\"\",\"\",TEXT(DATE(2018+$F$3,$H$3,B28),\"aaa\"))","v":""},"　　　","　　　",{"$f":"IF(IF(B28=\"\",\"\",VLOOKUP(B28,'2実績'!$A$16:$BK$46,63))=\"大会\",IF(B28=\"\",\"\",VLOOKUP(B28,'2実績'!$A$16:$AO$46,22,FALSE)),IF(B28=\"\",\"\",'2実績'!$AC$4)&IF(B28=\"\",\"\",VLOOKUP(B28,'2実績'!$A$16:$AO$46,22,FALSE)))","v":""},null,null,null,null,{"$f":"IF(IF(B28=\"\",\"\",VLOOKUP(B28,'2実績'!$A$16:$AO$46,5,FALSE))=0,IF(B28=\"\",\"\",VLOOKUP(B28,'2実績'!$A$16:$AO$46,12,FALSE)),IF(B28=\"\",\"\",VLOOKUP(B28,'2実績'!$A$16:$AO$46,5,FALSE)))","v":""},"～",{"$f":"IF(IF(B28=\"\",\"\",VLOOKUP(B28,'2実績'!$A$16:$AO$46,16,FALSE))=0,IF(B28=\"\",\"\",VLOOKUP(B28,'2実績'!$A$16:$AO$46,9,FALSE)),IF(B28=\"\",\"\",VLOOKUP(B28,'2実績'!$A$16:$AO$46,16,FALSE)))","v":""},{"$f":"IF(K28=\"\",\"\",M28-K28)","v":""},{"$f":"IF(B28=\"\",\"\",VLOOKUP(B28,'2実績'!$A$16:$AO$46,34,FALSE))","v":""},null,null,null,null,21]
[null,null,null,null,null,null,null,null,null,null,null,null,null,null,null,null,null,null,null,22]
[null,null,null,null,null,null,null,null,null,null,null,null,null,null,null,null,null,null,null,23]
[null,null,null,null,null,null,null,null,null,null,null,null,null,null,null,null,null,"　　　",null,24]
[null,{"$f":"IF(T14=\"\",\"\",T14)","v":""},{"$f":"IF(B32=\"\",\"\",TEXT(DATE(2018+$F$3,$H$3,B32),\"aaa\"))","v":""},"　　　","　　　",{"$f":"IF(IF(B32=\"\",\"\",VLOOKUP(B32,'2実績'!$A$16:$BK$46,63))=\"大会\",IF(B32=\"\",\"\",VLOOKUP(B32,'2実績'!$A$16:$AO$46,22,FALSE)),IF(B32=\"\",\"\",'2実績'!$AC$4)&IF(B32=\"\",\"\",VLOOKUP(B32,'2実績'!$A$16:$AO$46,22,FALSE)))","v":""},null,null,null,null,{"$f":"IF(IF(B32=\"\",\"\",VLOOKUP(B32,'2実績'!$A$16:$AO$46,5,FALSE))=0,IF(B32=\"\",\"\",VLOOKUP(B32,'2実績'!$A$16:$AO$46,12,FALSE)),IF(B32=\"\",\"\",VLOOKUP(B32,'2実績'!$A$16:$AO$46,5,FALSE)))","v":""},"～",{"$f":"IF(IF(B32=\"\",\"\",VLOOKUP(B32,'2実績'!$A$16:$AO$46,16,FALSE))=0,IF(B32=\"\",\"\",VLOOKUP(B32,'2実績'!$A$16:$AO$46,9,FALSE)),IF(B32=\"\",\"\",VLOOKUP(B32,'2実績'!$A$16:$AO$46,16,FALSE)))","v":""},{"$f":"IF(K32=\"\",\"\",M32-K32)","v":""},{"$f":"IF(B32=\"\",\"\",VLOOKUP(B32,'2実績'!$A$16:$AO$46,34,FALSE))","v":""},null,null,null,null,25]
[null,null,null,null,null,null,null,null,null,null,null,null,null,null,null,null,null,null,null,26]
[null,null,null,null,null,null,null,null,null,null,null,null,null,null,null,null,null,null,null,27]
[null,null,null,null,null,null,null,null,null,null,null,null,null,null,null,null,null,"　　　",null,28]
[null,{"$f":"IF(T15=\"\",\"\",T15)","v":""},{"$f":"IF(B36=\"\",\"\",TEXT(DATE(2018+$F$3,$H$3,B36),\"aaa\"))","v":""},"　　　","　　　",{"$f":"IF(IF(B36=\"\",\"\",VLOOKUP(B36,'2実績'!$A$16:$BK$46,63))=\"大会\",IF(B36=\"\",\"\",VLOOKUP(B36,'2実績'!$A$16:$AO$46,22,FALSE)),IF(B36=\"\",\"\",'2実績'!$AC$4)&IF(B36=\"\",\"\",VLOOKUP(B36,'2実績'!$A$16:$AO$46,22,FALSE)))","v":""},null,null,null,null,{"$f":"IF(IF(B36=\"\",\"\",VLOOKUP(B36,'2実績'!$A$16:$AO$46,5,FALSE))=0,IF(B36=\"\",\"\",VLOOKUP(B36,'2実績'!$A$16:$AO$46,12,FALSE)),IF(B36=\"\",\"\",VLOOKUP(B36,'2実績'!$A$16:$AO$46,5,FALSE)))","v":""},"～",{"$f":"IF(IF(B36=\"\",\"\",VLOOKUP(B36,'2実績'!$A$16:$AO$46,16,FALSE))=0,IF(B36=\"\",\"\",VLOOKUP(B36,'2実績'!$A$16:$AO$46,9,FALSE)),IF(B36=\"\",\"\",VLOOKUP(B36,'2実績'!$A$16:$AO$46,16,FALSE)))","v":""},{"$f":"IF(K36=\"\",\"\",M36-K36)","v":""},{"$f":"IF(B36=\"\",\"\",VLOOKUP(B36,'2実績'!$A$16:$AO$46,34,FALSE))","v":""}]
[]
[]
[null,null,null,null,null,null,null,null,null,null,null,null,null,null,null,null,null,"　　　"]
[null,{"$f":"IF(T16=\"\",\"\",T16)","v":""},{"$f":"IF(B40=\"\",\"\",TEXT(DATE(2018+$F$3,$H$3,B40),\"aaa\"))","v":""},"　　　","　　　",{"$f":"IF(IF(B40=\"\",\"\",VLOOKUP(B40,'2実績'!$A$16:$BK$46,63))=\"大会\",IF(B40=\"\",\"\",VLOOKUP(B40,'2実績'!$A$16:$AO$46,22,FALSE)),IF(B40=\"\",\"\",'2実績'!$AC$4)&IF(B40=\"\",\"\",VLOOKUP(B40,'2実績'!$A$16:$AO$46,22,FALSE)))","v":""},null,null,null,null,{"$f":"IF(IF(B40=\"\",\"\",VLOOKUP(B40,'2実績'!$A$16:$AO$46,5,FALSE))=0,IF(B40=\"\",\"\",VLOOKUP(B40,'2実績'!$A$16:$AO$46,12,FALSE)),IF(B40=\"\",\"\",VLOOKUP(B40,'2実績'!$A$16:$AO$46,5,FALSE)))","v":""},"～",{"$f":"IF(IF(B40=\"\",\"\",VLOOKUP(B40,'2実績'!$A$16:$AO$46,16,FALSE))=0,IF(B40=\"\",\"\",VLOOKUP(B40,'2実績'!$A$16:$AO$46,9,FALSE)),IF(B40=\"\",\"\",VLOOKUP(B40,'2実績'!$A$16:$AO$46,16,FALSE)))","v":""},{"$f":"IF(K40=\"\",\"\",M40-K40)","v":""},{"$f":"IF(B40=\"\",\"\",VLOOKUP(B40,'2実績'!$A$16:$AO$46,34,FALSE))","v":""}]
[]
[]
[null,null,null,null,null,null,null,null,null,null,null,null,null,null,null,null,null,"　　　"]
[null,"( 記入要領等 )"]
[null,"　         　１　この整理簿は、教員特殊業務手当及び面接指導手当の支給対象となるものについて、当該手当の支給に必要な事の整理をするものであること。"]
[null,"　　         ２　記入にあたっては、次のように記入すること。"]
[null,"　　　         　「要件」欄：週休日等　　　半日振替日　　　　その他"]
[null,"　　　　         「区分」欄：非常災害　　救急業務　　補導業務　　修学旅行等　　対外運動等　　入学試験業務　　　部活動４　　　　部活動３　　　部活動２　　　面接指導　　　　　"]
[null,"　　　　　　　　　　         ※部活動４は4時間以上、部活動３は３時間以上４時間未満、部活動２は2時間以上３時間未満をいう。"]
[null,"　　　　         「業務内容」欄：職員が従事した業務について、その内容を簡潔に記入すること。"]
[null,"　　　         　「従事時間」欄：左欄に手当の支給対象となる業務の終始の時刻を、右欄には時間を記入すること。"]
[null,"　　　         　「備考」欄：この整理簿を補足する事項を記入すること。"]

{"sheet":"３","index":37,"n_rows":52,"n_cols":20,"rows_kept":52,"cut":false,"hidden":false,"merged":[[39,17,41,17],[41,5,42,9],[43,1,43,3],[39,11,42,11],[39,12,42,12],[39,13,42,13],[39,14,42,14],[39,15,42,15],[39,16,42,16],[39,1,42,1],[39,2,42,2],[39,3,42,3],[39,4,42,4],[39,10,42,10],[39,5,40,9],[35,13,38,13],[35,14,38,14],[35,15,38,15],[35,16,38,16],[35,17,37,17],[37,5,38,9],[31,17,33,17],[33,5,34,9],[35,1,38,1],[35,2,38,2],[35,3,38,3],[35,4,38,4],[35,10,38,10],[35,11,38,11],[35,12,38,12],[31,11,34,11],[31,12,34,12],[31,13,34,13],[31,14,34,14],[31,15,34,15],[31,16,34,16],[31,1,34,1],[31,2,34,2],[31,3,34,3],[31,4,34,4],[31,10,34,10],[27,13,30,13],[27,14,30,14],[27,15,30,15],[27,16,30,16],[27,17,29,17],[29,5,30,9],[23,17,25,17],[25,5,26,9],[23,13,26,13],[23,14,26,14],[23,15,26,15],[23,16,26,16],[31,5,32,9],[27,5,28,9],[23,5,24,9],[27,1,30,1],[27,2,30,2],[27,3,30,3],[27,4,30,4],[27,10,30,10],[27,11,30,11],[27,12,30,12],[23,11,26,11],[23,12,26,12],[23,1,26,1],[23,2,26,2],[23,3,26,3],[23,4,26,4],[23,10,26,10],[19,1,22,1],[19,2,22,2],[19,3,22,3],[19,4,22,4],[19,10,22,10],[19,11,22,11],[19,12,22,12],[15,11,18,11],[15,12,18,12],[15,1,18,1],[15,2,18,2],[15,3,18,3],[11,14,14,14],[11,15,14,15],[11,16,14,16],[11,17,13,17],[13,5,14,9],[15,5,16,9],[11,5,12,9],[19,13,22,13],[19,14,22,14],[19,15,22,15],[19,16,22,16],[19,17,21,17],[21,5,22,9],[15,17,17,17],[17,5,18,9],[15,13,18,13],[15,14,18,14],[15,15,18,15],[15,16,18,16],[7,1,10,1],[7,2,10,2],[7,3,10,3],[7,4,10,4],[7,10,10,10],[7,5,8,9],[15,4,18,4],[15,10,18,10],[11,13,14,13],[35,5,36,9],[19,5,20,9],[4,1,4,2],[4,3,4,4],[4,6,4,8],[4,9,4,10],[4,14,4,17],[6,5,6,9],[6,10,6,13],[7,17,9,17],[9,5,10,9],[7,13,10,13],[7,14,10,14],[7,15,10,15],[7,16,10,16],[11,1,14,1],[11,2,14,2],[11,3,14,3],[11,4,14,4],[11,10,14,10],[11,11,14,11],[11,12,14,12],[7,11,10,11],[7,12,10,12]]}
[]
[]
[null,null,null,"          　　　　　　","令和",{"$f":"'3計画'!AS1-2018","v":3},"年",{"$f":"'3計画'!A7","v":3},"月分","　 教  員  特  殊  業  務  整  理  簿",null,null,null,null,null,null,null,"様式3"]
[]
[null,"氏　名",null,{"$f":"IF('3実績'!K10=\"\",\"\",'3実績'!K10)","v":0},null,"職員\n番号",{"$f":"IF('４'!G5=\"\",\"\",'４'!G5)","v":""},null,null,null,null,null,null,null,{"$f":"'４'!O5:R5","v":"0学校"}]
[]
[null,"日","曜","要　件","区　分","業　　務　　内　　容",null,null,null,null,"従　事　時　間",null,null,null,"従事場所","所属長\n確認印","従事者印","備　　考"]
[null,{"$f":"IF(T8=\"\",\"\",T8)","v":""},{"$f":"IF(B8=\"\",\"\",TEXT(DATE(2018+$F$3,$H$3,B8),\"aaa\"))","v":""},"　　　","　　　",{"$f":"IF(IF(B8=\"\",\"\",VLOOKUP(B8,'3実績'!$A$16:$BK$46,63))=\"大会\",IF(B8=\"\",\"\",VLOOKUP(B8,'3実績'!$A$16:$AO$46,22,FALSE)),IF(B8=\"\",\"\",'3実績'!$AC$4)&IF(B8=\"\",\"\",VLOOKUP(B8,'3実績'!$A$16:$AO$46,22,FALSE)))","v":""},null,null,null,null,{"$f":"IF(IF(B8=\"\",\"\",VLOOKUP(B8,'3実績'!$A$16:$AO$46,5,FALSE))=0,IF(B8=\"\",\"\",VLOOKUP(B8,'3実績'!$A$16:$AO$46,12,FALSE)),IF(B8=\"\",\"\",VLOOKUP(B8,'3実績'!$A$16:$AO$46,5,FALSE)))","v":""},"～",{"$f":"IF(IF(B8=\"\",\"\",VLOOKUP(B8,'3実績'!$A$16:$AO$46,16,FALSE))=0,IF(B8=\"\",\"\",VLOOKUP(B8,'3実績'!$A$16:$AO$46,9,FALSE)),IF(B8=\"\",\"\",VLOOKUP(B8,'3実績'!$A$16:$AO$46,16,FALSE)))","v":""},{"$f":"IF(K8=\"\",\"\",M8-K8)","v":""},{"$f":"IF(B8=\"\",\"\",VLOOKUP(B8,'3実績'!$A$16:$AO$46,34,FALSE))","v":""}]
[]
[]
[null,null,null,null,null,null,null,null,null,null,null,null,null,null,null,null,null,"　　　"]
[null,{"$f":"IF(T9=\"\",\"\",T9)","v":""},{"$f":"IF(B12=\"\",\"\",TEXT(DATE(2018+$F$3,$H$3,B12),\"aaa\"))","v":""},"　　　","　　　",{"$f":"IF(IF(B12=\"\",\"\",VLOOKUP(B12,'3実績'!$A$16:$BK$46,63))=\"大会\",IF(B12=\"\",\"\",VLOOKUP(B12,'3実績'!$A$16:$AO$46,22,FALSE)),IF(B12=\"\",\"\",'3実績'!$AC$4)&IF(B12=\"\",\"\",VLOOKUP(B12,'3実績'!$A$16:$AO$46,22,FALSE)))","v":""},null,null,null,null,{"$f":"IF(IF(B12=\"\",\"\",VLOOKUP(B12,'3実績'!$A$16:$AO$46,5,FALSE))=0,IF(B12=\"\",\"\",VLOOKUP(B12,'3実績'!$A$16:$AO$46,12,FALSE)),IF(B12=\"\",\"\",VLOOKUP(B12,'3実績'!$A$16:$AO$46,5,FALSE)))","v":""},"～",{"$f":"IF(IF(B12=\"\",\"\",VLOOKUP(B12,'3実績'!$A$16:$AO$46,16,FALSE))=0,IF(B12=\"\",\"\",VLOOKUP(B12,'3実績'!$A$16:$AO$46,9,FALSE)),IF(B12=\"\",\"\",VLOOKUP(B12,'3実績'!$A$16:$AO$46,16,FALSE)))","v":""},{"$f":"IF(K12=\"\",\"\",M12-K12)","v":""},{"$f":"IF(B12=\"\",\"\",VLOOKUP(B12,'3実績'!$A$16:$AO$46,34,FALSE))","v":""}]
[]
[]
[null,null,null,null,null,null,null,null,null,null,null,null,null,null,null,null,null,"　　　"]
[null,{"$f":"IF(T10=\"\",\"\",T10)","v":""},{"$f":"IF(B16=\"\",\"\",TEXT(DATE(2018+$F$3,$H$3,B16),\"aaa\"))","v":""},"　　　","　　　",{"$f":"IF(IF(B16=\"\",\"\",VLOOKUP(B16,'3実績'!$A$16:$BK$46,63))=\"大会\",IF(B16=\"\",\"\",VLOOKUP(B16,'3実績'!$A$16:$AO$46,22,FALSE)),IF(B16=\"\",\"\",'3実績'!$AC$4)&IF(B16=\"\",\"\",VLOOKUP(B16,'3実績'!$A$16:$AO$46,22,FALSE)))","v":""},null,null,null,null,{"$f":"IF(IF(B16=\"\",\"\",VLOOKUP(B16,'3実績'!$A$16:$AO$46,5,FALSE))=0,IF(B16=\"\",\"\",VLOOKUP(B16,'3実績'!$A$16:$AO$46,12,FALSE)),IF(B16=\"\",\"\",VLOOKUP(B16,'3実績'!$A$16:$AO$46,5,FALSE)))","v":""},"～",{"$f":"IF(IF(B16=\"\",\"\",VLOOKUP(B16,'3実績'!$A$16:$AO$46,16,FALSE))=0,IF(B16=\"\",\"\",VLOOKUP(B16,'3実績'!$A$16:$AO$46,9,FALSE)),IF(B16=\"\",\"\",VLOOKUP(B16,'3実績'!$A$16:$AO$46,16,FALSE)))","v":""},{"$f":"IF(K16=\"\",\"\",M16-K16)","v":""},{"$f":"IF(B16=\"\",\"\",VLOOKUP(B16,'3実績'!$A$16:$AO$46,34,FALSE))","v":""}]
[null,null,null,null,null,null,null,null,null,null,null,null,null,null,null,null,null,null,null,10]
[null,null,null,null,null,null,null,null,null,null,null,null,null,null,null,null,null,null,null,11]
[null,null,null,null,null,null,null,null,null,null,null,null,null,null,null,null,null,"　　　",null,12]
[null,{"$f":"IF(T11=\"\",\"\",T11)","v":""},{"$f":"IF(B20=\"\",\"\",TEXT(DATE(2018+$F$3,$H$3,B20),\"aaa\"))","v":""},"　　　","　　　",{"$f":"IF(IF(B20=\"\",\"\",VLOOKUP(B20,'3実績'!$A$16:$BK$46,63))=\"大会\",IF(B20=\"\",\"\",VLOOKUP(B20,'3実績'!$A$16:$AO$46,22,FALSE)),IF(B20=\"\",\"\",'3実績'!$AC$4)&IF(B20=\"\",\"\",VLOOKUP(B20,'3実績'!$A$16:$AO$46,22,FALSE)))","v":""},null,null,null,null,{"$f":"IF(IF(B20=\"\",\"\",VLOOKUP(B20,'3実績'!$A$16:$AO$46,5,FALSE))=0,IF(B20=\"\",\"\",VLOOKUP(B20,'3実績'!$A$16:$AO$46,12,FALSE)),IF(B20=\"\",\"\",VLOOKUP(B20,'3実績'!$A$16:$AO$46,5,FALSE)))","v":""},"～",{"$f":"IF(IF(B20=\"\",\"\",VLOOKUP(B20,'3実績'!$A$16:$AO$46,16,FALSE))=0,IF(B20=\"\",\"\",VLOOKUP(B20,'3実績'!$A$16:$AO$46,9,FALSE)),IF(B20=\"\",\"\",VLOOKUP(B20,'3実績'!$A$16:$AO$46,16,FALSE)))","v":""},{"$f":"IF(K20=\"\",\"\",M20-K20)","v":""},{"$f":"IF(B20=\"\",\"\",VLOOKUP(B20,'3実績'!$A$16:$AO$46,34,FALSE))","v":""},null,null,null,null,13]
[null,null,null,null,null,null,null,null,null,null,null,null,null,null,null,null,null,null,null,14]
[null,null,null,null,null,null,null,null,null,null,null,null,null,null,null,null,null,null,null,15]
[null,null,null,null,null,null,null,null,null,null,null,null,null,null,null,null,null,"　　　",null,16]
[null,{"$f":"IF(T12=\"\",\"\",T12)","v":""},{"$f":"IF(B24=\"\",\"\",TEXT(DATE(2018+$F$3,$H$3,B24),\"aaa\"))","v":""},"　　　","　　　",{"$f":"IF(IF(B24=\"\",\"\",VLOOKUP(B24,'3実績'!$A$16:$BK$46,63))=\"大会\",IF(B24=\"\",\"\",VLOOKUP(B24,'3実績'!$A$16:$AO$46,22,FALSE)),IF(B24=\"\",\"\",'3実績'!$AC$4)&IF(B24=\"\",\"\",VLOOKUP(B24,'3実績'!$A$16:$AO$46,22,FALSE)))","v":""},null,null,null,null,{"$f":"IF(IF(B24=\"\",\"\",VLOOKUP(B24,'3実績'!$A$16:$AO$46,5,FALSE))=0,IF(B24=\"\",\"\",VLOOKUP(B24,'3実績'!$A$16:$AO$46,12,FALSE)),IF(B24=\"\",\"\",VLOOKUP(B24,'3実績'!$A$16:$AO$46,5,FALSE)))","v":""},"～",{"$f":"IF(IF(B24=\"\",\"\",VLOOKUP(B24,'3実績'!$A$16:$AO$46,16,FALSE))=0,IF(B24=\"\",\"\",VLOOKUP(B24,'3実績'!$A$16:$AO$46,9,FALSE)),IF(B24=\"\",\"\",VLOOKUP(B24,'3実績'!$A$16:$AO$46,16,FALSE)))","v":""},{"$f":"IF(K24=\"\",\"\",M24-K24)","v":""},{"$f":"IF(B24=\"\",\"\",VLOOKUP(B24,'3実績'!$A$16:$AO$46,34,FALSE))","v":""},null,null,null,null,17]
[null,null,null,null,null,null,null,null,null,null,null,null,null,null,null,null,null,null,null,18]
[null,null,null,null,null,null,null,null,null,null,null,null,null,null,null,null,null,null,null,19]
[null,null,null,null,null,null,null,null,null,null,null,null,null,null,null,null,null,"　　　",null,20]
[null,{"$f":"IF(T13=\"\",\"\",T13)","v":""},{"$f":"IF(B28=\"\",\"\",TEXT(DATE(2018+$F$3,$H$3,B28),\"aaa\"))","v":""},"　　　","　　　",{"$f":"IF(IF(B28=\"\",\"\",VLOOKUP(B28,'3実績'!$A$16:$BK$46,63))=\"大会\",IF(B28=\"\",\"\",VLOOKUP(B28,'3実績'!$A$16:$AO$46,22,FALSE)),IF(B28=\"\",\"\",'3実績'!$AC$4)&IF(B28=\"\",\"\",VLOOKUP(B28,'3実績'!$A$16:$AO$46,22,FALSE)))","v":""},null,null,null,null,{"$f":"IF(IF(B28=\"\",\"\",VLOOKUP(B28,'3実績'!$A$16:$AO$46,5,FALSE))=0,IF(B28=\"\",\"\",VLOOKUP(B28,'3実績'!$A$16:$AO$46,12,FALSE)),IF(B28=\"\",\"\",VLOOKUP(B28,'3実績'!$A$16:$AO$46,5,FALSE)))","v":""},"～",{"$f":"IF(IF(B28=\"\",\"\",VLOOKUP(B28,'3実績'!$A$16:$AO$46,16,FALSE))=0,IF(B28=\"\",\"\",VLOOKUP(B28,'3実績'!$A$16:$AO$46,9,FALSE)),IF(B28=\"\",\"\",VLOOKUP(B28,'3実績'!$A$16:$AO$46,16,FALSE)))","v":""},{"$f":"IF(K28=\"\",\"\",M28-K28)","v":""},{"$f":"IF(B28=\"\",\"\",VLOOKUP(B28,'3実績'!$A$16:$AO$46,34,FALSE))","v":""},null,null,null,null,21]
[null,null,null,null,null,null,null,null,null,null,null,null,null,null,null,null,null,null,null,22]
[null,null,null,null,null,null,null,null,null,null,null,null,null,null,null,null,null,null,null,23]
[null,null,null,null,null,null,null,null,null,null,null,null,null,null,null,null,null,"　　　",null,24]
[null,{"$f":"IF(T14=\"\",\"\",T14)","v":""},{"$f":"IF(B32=\"\",\"\",TEXT(DATE(2018+$F$3,$H$3,B32),\"aaa\"))","v":""},"　　　","　　　",{"$f":"IF(IF(B32=\"\",\"\",VLOOKUP(B32,'3実績'!$A$16:$BK$46,63))=\"大会\",IF(B32=\"\",\"\",VLOOKUP(B32,'3実績'!$A$16:$AO$46,22,FALSE)),IF(B32=\"\",\"\",'3実績'!$AC$4)&IF(B32=\"\",\"\",VLOOKUP(B32,'3実績'!$A$16:$AO$46,22,FALSE)))","v":""},null,null,null,null,{"$f":"IF(IF(B32=\"\",\"\",VLOOKUP(B32,'3実績'!$A$16:$AO$46,5,FALSE))=0,IF(B32=\"\",\"\",VLOOKUP(B32,'3実績'!$A$16:$AO$46,12,FALSE)),IF(B32=\"\",\"\",VLOOKUP(B32,'3実績'!$A$16:$AO$46,5,FALSE)))","v":""},"～",{"$f":"IF(IF(B32=\"\",\"\",VLOOKUP(B32,'3実績'!$A$16:$AO$46,16,FALSE))=0,IF(B32=\"\",\"\",VLOOKUP(B32,'3実績'!$A$16:$AO$46,9,FALSE)),IF(B32=\"\",\"\",VLOOKUP(B32,'3実績'!$A$16:$AO$46,16,FALSE)))","v":""},{"$f":"IF(K32=\"\",\"\",M32-K32)","v":""},{"$f":"IF(B32=\"\",\"\",VLOOKUP(B32,'3実績'!$A$16:$AO$46,34,FALSE))","v":""},null,null,null,null,25]
[null,null,null,null,null,null,null,null,null,null,null,null,null,null,null,null,null,null,null,26]
[null,null,null,null,null,null,null,null,null,null,null,null,null,null,null,null,null,null,null,27]
[null,null,null,null,null,null,null,null,null,null,null,null,null,null,null,null,null,"　　　",null,28]
[null,{"$f":"IF(T15=\"\",\"\",T15)","v":""},{"$f":"IF(B36=\"\",\"\",TEXT(DATE(2018+$F$3,$H$3,B36),\"aaa\"))","v":""},"　　　","　　　",{"$f":"IF(IF(B36=\"\",\"\",VLOOKUP(B36,'3実績'!$A$16:$BK$46,63))=\"大会\",IF(B36=\"\",\"\",VLOOKUP(B36,'3実績'!$A$16:$AO$46,22,FALSE)),IF(B36=\"\",\"\",'3実績'!$AC$4)&IF(B36=\"\",\"\",VLOOKUP(B36,'3実績'!$A$16:$AO$46,22,FALSE)))","v":""},null,null,null,null,{"$f":"IF(IF(B36=\"\",\"\",VLOOKUP(B36,'3実績'!$A$16:$AO$46,5,FALSE))=0,IF(B36=\"\",\"\",VLOOKUP(B36,'3実績'!$A$16:$AO$46,12,FALSE)),IF(B36=\"\",\"\",VLOOKUP(B36,'3実績'!$A$16:$AO$46,5,FALSE)))","v":""},"～",{"$f":"IF(IF(B36=\"\",\"\",VLOOKUP(B36,'3実績'!$A$16:$AO$46,16,FALSE))=0,IF(B36=\"\",\"\",VLOOKUP(B36,'3実績'!$A$16:$AO$46,9,FALSE)),IF(B36=\"\",\"\",VLOOKUP(B36,'3実績'!$A$16:$AO$46,16,FALSE)))","v":""},{"$f":"IF(K36=\"\",\"\",M36-K36)","v":""},{"$f":"IF(B36=\"\",\"\",VLOOKUP(B36,'3実績'!$A$16:$AO$46,34,FALSE))","v":""},null,null,null,null,29]
[null,null,null,null,null,null,null,null,null,null,null,null,null,null,null,null,null,null,null,30]
[null,null,null,null,null,null,null,null,null,null,null,null,null,null,null,null,null,null,null,31]
[null,null,null,null,null,null,null,null,null,null,null,null,null,null,null,null,null,"　　　"]
[null,{"$f":"IF(T16=\"\",\"\",T16)","v":""},{"$f":"IF(B40=\"\",\"\",TEXT(DATE(2018+$F$3,$H$3,B40),\"aaa\"))","v":""},"　　　","　　　",{"$f":"IF(IF(B40=\"\",\"\",VLOOKUP(B40,'3実績'!$A$16:$BK$46,63))=\"大会\",IF(B40=\"\",\"\",VLOOKUP(B40,'3実績'!$A$16:$AO$46,22,FALSE)),IF(B40=\"\",\"\",'3実績'!$AC$4)&IF(B40=\"\",\"\",VLOOKUP(B40,'3実績'!$A$16:$AO$46,22,FALSE)))","v":""},null,null,null,null,{"$f":"IF(IF(B40=\"\",\"\",VLOOKUP(B40,'3実績'!$A$16:$AO$46,5,FALSE))=0,IF(B40=\"\",\"\",VLOOKUP(B40,'3実績'!$A$16:$AO$46,12,FALSE)),IF(B40=\"\",\"\",VLOOKUP(B40,'3実績'!$A$16:$AO$46,5,FALSE)))","v":""},"～",{"$f":"IF(IF(B40=\"\",\"\",VLOOKUP(B40,'3実績'!$A$16:$AO$46,16,FALSE))=0,IF(B40=\"\",\"\",VLOOKUP(B40,'3実績'!$A$16:$AO$46,9,FALSE)),IF(B40=\"\",\"\",VLOOKUP(B40,'3実績'!$A$16:$AO$46,16,FALSE)))","v":""},{"$f":"IF(K40=\"\",\"\",M40-K40)","v":""},{"$f":"IF(B40=\"\",\"\",VLOOKUP(B40,'3実績'!$A$16:$AO$46,34,FALSE))","v":""}]
[]
[]
[null,null,null,null,null,null,null,null,null,null,null,null,null,null,null,null,null,"　　　"]
[null,"( 記入要領等 )"]
[null,"　         　１　この整理簿は、教員特殊業務手当及び面接指導手当の支給対象となるものについて、当該手当の支給に必要な事の整理をするものであること。"]
[null,"　　         ２　記入にあたっては、次のように記入すること。"]
[null,"　　　         　「要件」欄：週休日等　　　半日振替日　　　　その他"]
[null,"　　　　         「区分」欄：非常災害　　救急業務　　補導業務　　修学旅行等　　対外運動等　　入学試験業務　　　部活動４　　　　部活動３　　　部活動２　　　面接指導　　　　　"]
[null,"　　　　　　　　　　         ※部活動４は4時間以上、部活動３は３時間以上４時間未満、部活動２は2時間以上３時間未満をいう。"]
[null,"　　　　         「業務内容」欄：職員が従事した業務について、その内容を簡潔に記入すること。"]
[null,"　　　         　「従事時間」欄：左欄に手当の支給対象となる業務の終始の時刻を、右欄には時間を記入すること。"]
[null,"　　　         　「備考」欄：この整理簿を補足する事項を記入すること。"]

{"sheet":"４(副顧問)","index":38,"n_rows":52,"n_cols":18,"rows_kept":52,"cut":false,"hidden":false,"merged":[[37,5,38,9],[39,5,40,9],[35,5,36,9],[31,5,32,9],[27,5,28,9],[23,5,24,9],[19,5,20,9],[41,5,42,9],[4,1,4,2],[4,3,4,4],[4,6,4,8],[4,9,4,10],[19,1,22,1],[19,2,22,2],[19,3,22,3],[19,4,22,4],[19,10,22,10],[15,5,16,9],[11,5,12,9],[7,5,8,9],[17,5,18,9],[21,5,22,9],[25,5,26,9],[29,5,30,9],[33,5,34,9],[4,14,4,17],[6,5,6,9],[6,10,6,13],[7,17,9,17],[11,1,14,1],[11,2,14,2],[11,3,14,3],[11,4,14,4],[11,10,14,10],[11,11,14,11],[11,12,14,12],[11,13,14,13],[7,11,10,11],[7,12,10,12],[7,13,10,13],[7,14,10,14],[7,15,10,15],[7,16,10,16],[7,1,10,1],[7,2,10,2],[7,3,10,3],[7,4,10,4],[7,10,10,10],[9,5,10,9],[13,5,14,9],[15,1,18,1],[15,2,18,2],[15,3,18,3],[15,4,18,4],[15,10,18,10],[15,17,17,17],[15,11,18,11],[15,12,18,12],[15,13,18,13],[15,14,18,14],[15,15,18,15],[15,16,18,16],[19,14,22,14],[19,15,22,15],[11,15,14,15],[11,16,14,16],[27,13,30,13],[19,16,22,16],[19,17,21,17],[23,1,26,1],[23,2,26,2],[23,3,26,3],[23,4,26,4],[23,10,26,10],[23,17,25,17],[23,11,26,11],[23,12,26,12],[23,13,26,13],[23,14,26,14],[23,15,26,15],[23,16,26,16],[19,11,22,11],[19,12,22,12],[19,13,22,13],[11,14,14,14],[11,17,13,17],[35,13,38,13],[27,14,30,14],[27,15,30,15],[27,16,30,16],[27,17,29,17],[31,1,34,1],[31,2,34,2],[31,3,34,3],[31,4,34,4],[31,10,34,10],[31,17,33,17],[31,11,34,11],[31,12,34,12],[31,13,34,13],[31,14,34,14],[31,15,34,15],[31,16,34,16],[27,1,30,1],[27,2,30,2],[27,3,30,3],[27,4,30,4],[27,10,30,10],[27,11,30,11],[27,12,30,12],[39,17,41,17],[43,1,43,3],[39,11,42,11],[39,12,42,12],[39,13,42,13],[39,14,42,14],[39,15,42,15],[39,16,42,16],[35,14,38,14],[35,15,38,15],[35,16,38,16],[35,17,37,17],[39,1,42,1],[39,2,42,2],[39,3,42,3],[39,4,42,4],[39,10,42,10],[35,1,38,1],[35,2,38,2],[35,3,38,3],[35,4,38,4],[35,10,38,10],[35,11,38,11],[35,12,38,12]]}
[]
[]
[null,null,null,"          　　　　　　","令和",{"$f":"'4計画'!AQ1-2018","v":2},"年",{"$f":"'4計画'!A7","v":4},"月分","　 教  員  特  殊  業  務  整  理  簿",null,null,null,null,null,null,null,"様式3"]
[]
[null,"氏　名",null,{"$f":"IF('４実績'!K12=\"\",\"\",'４実績'!K12)","v":0},null,"職員\n番号",null,null,null,null,null,null,null,null,{"$f":"'４'!O5:R5","v":"0学校"}]
[]
[null,"日","曜","要　件","区　分","業　　務　　内　　容",null,null,null,null,"従　事　時　間",null,null,null,"従事場所","所属長\n確認印","従事者印","備　　考"]
[null,{"$f":"'４'!B8:B11","v":""},{"$f":"IF(B8=\"\",\"\",TEXT(DATE(2018+$F$3,$H$3,B8),\"aaa\"))","v":""},"　　　","　　　",{"$f":"IF(IF(B8=\"\",\"\",VLOOKUP(B8,'４実績'!$A$16:$BK$46,63))=\"大会\",IF(B8=\"\",\"\",VLOOKUP(B8,'４実績'!$A$16:$AO$46,22,FALSE)),IF(B8=\"\",\"\",'４実績'!$AC$4)&IF(B8=\"\",\"\",VLOOKUP(B8,'４実績'!$A$16:$AO$46,22,FALSE)))","v":""},null,null,null,null,{"$f":"IF(IF(B8=\"\",\"\",VLOOKUP(B8,'４実績'!$A$16:$AO$46,5,FALSE))=0,IF(B8=\"\",\"\",VLOOKUP(B8,'４実績'!$A$16:$AO$46,12,FALSE)),IF(B8=\"\",\"\",VLOOKUP(B8,'４実績'!$A$16:$AO$46,5,FALSE)))","v":""},"～",{"$f":"IF(IF(B8=\"\",\"\",VLOOKUP(B8,'４実績'!$A$16:$AO$46,16,FALSE))=0,IF(B8=\"\",\"\",VLOOKUP(B8,'４実績'!$A$16:$AO$46,9,FALSE)),IF(B8=\"\",\"\",VLOOKUP(B8,'４実績'!$A$16:$AO$46,16,FALSE)))","v":""},{"$f":"IF(K8=\"\",\"\",M8-K8)","v":""},{"$f":"IF(B8=\"\",\"\",VLOOKUP(B8,'４実績'!$A$16:$AO$46,34,FALSE))","v":""}]
[]
[]
[]
[null,{"$f":"'４'!B12:B15","v":""},{"$f":"IF(B12=\"\",\"\",TEXT(DATE(2018+$F$3,$H$3,B12),\"aaa\"))","v":""},"　　　","　　　",{"$f":"IF(IF(B12=\"\",\"\",VLOOKUP(B12,'４実績'!$A$16:$BK$46,63))=\"大会\",IF(B12=\"\",\"\",VLOOKUP(B12,'４実績'!$A$16:$AO$46,22,FALSE)),IF(B12=\"\",\"\",'４実績'!$AC$4)&IF(B12=\"\",\"\",VLOOKUP(B12,'４実績'!$A$16:$AO$46,22,FALSE)))","v":""},null,null,null,null,{"$f":"IF(IF(B12=\"\",\"\",VLOOKUP(B12,'４実績'!$A$16:$AO$46,5,FALSE))=0,IF(B12=\"\",\"\",VLOOKUP(B12,'４実績'!$A$16:$AO$46,12,FALSE)),IF(B12=\"\",\"\",VLOOKUP(B12,'４実績'!$A$16:$AO$46,5,FALSE)))","v":""},"～",{"$f":"IF(IF(B12=\"\",\"\",VLOOKUP(B12,'４実績'!$A$16:$AO$46,16,FALSE))=0,IF(B12=\"\",\"\",VLOOKUP(B12,'４実績'!$A$16:$AO$46,9,FALSE)),IF(B12=\"\",\"\",VLOOKUP(B12,'４実績'!$A$16:$AO$46,16,FALSE)))","v":""},{"$f":"IF(K12=\"\",\"\",M12-K12)","v":""},{"$f":"IF(B12=\"\",\"\",VLOOKUP(B12,'４実績'!$A$16:$AO$46,34,FALSE))","v":""}]
[]
[]
[null,null,null,null,null,null,null,null,null,null,null,null,null,null,null,null,null,"　　　"]
[null,{"$f":"'４'!B16:B19","v":""},{"$f":"IF(B16=\"\",\"\",TEXT(DATE(2018+$F$3,$H$3,B16),\"aaa\"))","v":""},"　　　","　　　",{"$f":"IF(IF(B16=\"\",\"\",VLOOKUP(B16,'４実績'!$A$16:$BK$46,63))=\"大会\",IF(B16=\"\",\"\",VLOOKUP(B16,'４実績'!$A$16:$AO$46,22,FALSE)),IF(B16=\"\",\"\",'４実績'!$AC$4)&IF(B16=\"\",\"\",VLOOKUP(B16,'４実績'!$A$16:$AO$46,22,FALSE)))","v":""},null,null,null,null,{"$f":"IF(IF(B16=\"\",\"\",VLOOKUP(B16,'４実績'!$A$16:$AO$46,5,FALSE))=0,IF(B16=\"\",\"\",VLOOKUP(B16,'４実績'!$A$16:$AO$46,12,FALSE)),IF(B16=\"\",\"\",VLOOKUP(B16,'４実績'!$A$16:$AO$46,5,FALSE)))","v":""},"～",{"$f":"IF(IF(B16=\"\",\"\",VLOOKUP(B16,'４実績'!$A$16:$AO$46,16,FALSE))=0,IF(B16=\"\",\"\",VLOOKUP(B16,'４実績'!$A$16:$AO$46,9,FALSE)),IF(B16=\"\",\"\",VLOOKUP(B16,'４実績'!$A$16:$AO$46,16,FALSE)))","v":""},{"$f":"IF(K16=\"\",\"\",M16-K16)","v":""},{"$f":"IF(B16=\"\",\"\",VLOOKUP(B16,'４実績'!$A$16:$AO$46,34,FALSE))","v":""}]
[]
[]
[null,null,null,null,null,null,null,null,null,null,null,null,null,null,null,null,null,"　　　"]
[null,{"$f":"'４'!B20:B23","v":""},{"$f":"IF(B20=\"\",\"\",TEXT(DATE(2018+$F$3,$H$3,B20),\"aaa\"))","v":""},"　　　","　　　",{"$f":"IF(IF(B20=\"\",\"\",VLOOKUP(B20,'４実績'!$A$16:$BK$46,63))=\"大会\",IF(B20=\"\",\"\",VLOOKUP(B20,'４実績'!$A$16:$AO$46,22,FALSE)),IF(B20=\"\",\"\",'４実績'!$AC$4)&IF(B20=\"\",\"\",VLOOKUP(B20,'４実績'!$A$16:$AO$46,22,FALSE)))","v":""},null,null,null,null,{"$f":"IF(IF(B20=\"\",\"\",VLOOKUP(B20,'４実績'!$A$16:$AO$46,5,FALSE))=0,IF(B20=\"\",\"\",VLOOKUP(B20,'４実績'!$A$16:$AO$46,12,FALSE)),IF(B20=\"\",\"\",VLOOKUP(B20,'４実績'!$A$16:$AO$46,5,FALSE)))","v":""},"～",{"$f":"IF(IF(B20=\"\",\"\",VLOOKUP(B20,'４実績'!$A$16:$AO$46,16,FALSE))=0,IF(B20=\"\",\"\",VLOOKUP(B20,'４実績'!$A$16:$AO$46,9,FALSE)),IF(B20=\"\",\"\",VLOOKUP(B20,'４実績'!$A$16:$AO$46,16,FALSE)))","v":""},{"$f":"IF(K20=\"\",\"\",M20-K20)","v":""},{"$f":"IF(B20=\"\",\"\",VLOOKUP(B20,'４実績'!$A$16:$AO$46,34,FALSE))","v":""}]
[]
[]
[null,null,null,null,null,null,null,null,null,null,null,null,null,null,null,null,null,"　　　"]
[null,{"$f":"'４'!B24:B27","v":""},{"$f":"IF(B24=\"\",\"\",TEXT(DATE(2018+$F$3,$H$3,B24),\"aaa\"))","v":""},"　　　","　　　",{"$f":"IF(IF(B24=\"\",\"\",VLOOKUP(B24,'４実績'!$A$16:$BK$46,63))=\"大会\",IF(B24=\"\",\"\",VLOOKUP(B24,'４実績'!$A$16:$AO$46,22,FALSE)),IF(B24=\"\",\"\",'４実績'!$AC$4)&IF(B24=\"\",\"\",VLOOKUP(B24,'４実績'!$A$16:$AO$46,22,FALSE)))","v":""},null,null,null,null,{"$f":"IF(IF(B24=\"\",\"\",VLOOKUP(B24,'４実績'!$A$16:$AO$46,5,FALSE))=0,IF(B24=\"\",\"\",VLOOKUP(B24,'４実績'!$A$16:$AO$46,12,FALSE)),IF(B24=\"\",\"\",VLOOKUP(B24,'４実績'!$A$16:$AO$46,5,FALSE)))","v":""},"～",{"$f":"IF(IF(B24=\"\",\"\",VLOOKUP(B24,'４実績'!$A$16:$AO$46,16,FALSE))=0,IF(B24=\"\",\"\",VLOOKUP(B24,'４実績'!$A$16:$AO$46,9,FALSE)),IF(B24=\"\",\"\",VLOOKUP(B24,'４実績'!$A$16:$AO$46,16,FALSE)))","v":""},{"$f":"IF(K24=\"\",\"\",M24-K24)","v":""},{"$f":"IF(B24=\"\",\"\",VLOOKUP(B24,'４実績'!$A$16:$AO$46,34,FALSE))","v":""}]
[]
[]
[null,null,null,null,null,null,null,null,null,null,null,null,null,null,null,null,null,"　　　"]
[null,{"$f":"'４'!B28:B31","v":""},{"$f":"IF(B28=\"\",\"\",TEXT(DATE(2018+$F$3,$H$3,B28),\"aaa\"))","v":""},"　　　","　　　",{"$f":"IF(IF(B28=\"\",\"\",VLOOKUP(B28,'４実績'!$A$16:$BK$46,63))=\"大会\",IF(B28=\"\",\"\",VLOOKUP(B28,'４実績'!$A$16:$AO$46,22,FALSE)),IF(B28=\"\",\"\",'４実績'!$AC$4)&IF(B28=\"\",\"\",VLOOKUP(B28,'４実績'!$A$16:$AO$46,22,FALSE)))","v":""},null,null,null,null,{"$f":"IF(IF(B28=\"\",\"\",VLOOKUP(B28,'４実績'!$A$16:$AO$46,5,FALSE))=0,IF(B28=\"\",\"\",VLOOKUP(B28,'４実績'!$A$16:$AO$46,12,FALSE)),IF(B28=\"\",\"\",VLOOKUP(B28,'４実績'!$A$16:$AO$46,5,FALSE)))","v":""},"～",{"$f":"IF(IF(B28=\"\",\"\",VLOOKUP(B28,'４実績'!$A$16:$AO$46,16,FALSE))=0,IF(B28=\"\",\"\",VLOOKUP(B28,'４実績'!$A$16:$AO$46,9,FALSE)),IF(B28=\"\",\"\",VLOOKUP(B28,'４実績'!$A$16:$AO$46,16,FALSE)))","v":""},{"$f":"IF(K28=\"\",\"\",M28-K28)","v":""},{"$f":"IF(B28=\"\",\"\",VLOOKUP(B28,'４実績'!$A$16:$AO$46,34,FALSE))","v":""}]
[]
[]
[null,null,null,null,null,null,null,null,null,null,null,null,null,null,null,null,null,"　　　"]
[null,{"$f":"'４'!B32:B35","v":""},{"$f":"IF(B32=\"\",\"\",TEXT(DATE(2018+$F$3,$H$3,B32),\"aaa\"))","v":""},"　　　","　　　",{"$f":"IF(IF(B32=\"\",\"\",VLOOKUP(B32,'４実績'!$A$16:$BK$46,63))=\"大会\",IF(B32=\"\",\"\",VLOOKUP(B32,'４実績'!$A$16:$AO$46,22,FALSE)),IF(B32=\"\",\"\",'４実績'!$AC$4)&IF(B32=\"\",\"\",VLOOKUP(B32,'４実績'!$A$16:$AO$46,22,FALSE)))","v":""},null,null,null,null,{"$f":"IF(IF(B32=\"\",\"\",VLOOKUP(B32,'４実績'!$A$16:$AO$46,5,FALSE))=0,IF(B32=\"\",\"\",VLOOKUP(B32,'４実績'!$A$16:$AO$46,12,FALSE)),IF(B32=\"\",\"\",VLOOKUP(B32,'４実績'!$A$16:$AO$46,5,FALSE)))","v":""},"～",{"$f":"IF(IF(B32=\"\",\"\",VLOOKUP(B32,'４実績'!$A$16:$AO$46,16,FALSE))=0,IF(B32=\"\",\"\",VLOOKUP(B32,'４実績'!$A$16:$AO$46,9,FALSE)),IF(B32=\"\",\"\",VLOOKUP(B32,'４実績'!$A$16:$AO$46,16,FALSE)))","v":""},{"$f":"IF(K32=\"\",\"\",M32-K32)","v":""},{"$f":"IF(B32=\"\",\"\",VLOOKUP(B32,'４実績'!$A$16:$AO$46,34,FALSE))","v":""}]
[]
[]
[null,null,null,null,null,null,null,null,null,null,null,null,null,null,null,null,null,"　　　"]
[null,{"$f":"'４'!B36:B39","v":""},{"$f":"IF(B36=\"\",\"\",TEXT(DATE(2018+$F$3,$H$3,B36),\"aaa\"))","v":""},"　　　","　　　",{"$f":"IF(IF(B36=\"\",\"\",VLOOKUP(B36,'４実績'!$A$16:$BK$46,63))=\"大会\",IF(B36=\"\",\"\",VLOOKUP(B36,'４実績'!$A$16:$AO$46,22,FALSE)),IF(B36=\"\",\"\",'４実績'!$AC$4)&IF(B36=\"\",\"\",VLOOKUP(B36,'４実績'!$A$16:$AO$46,22,FALSE)))","v":""},null,null,null,null,{"$f":"IF(IF(B36=\"\",\"\",VLOOKUP(B36,'４実績'!$A$16:$AO$46,5,FALSE))=0,IF(B36=\"\",\"\",VLOOKUP(B36,'４実績'!$A$16:$AO$46,12,FALSE)),IF(B36=\"\",\"\",VLOOKUP(B36,'４実績'!$A$16:$AO$46,5,FALSE)))","v":""},"～",{"$f":"IF(IF(B36=\"\",\"\",VLOOKUP(B36,'４実績'!$A$16:$AO$46,16,FALSE))=0,IF(B36=\"\",\"\",VLOOKUP(B36,'４実績'!$A$16:$AO$46,9,FALSE)),IF(B36=\"\",\"\",VLOOKUP(B36,'４実績'!$A$16:$AO$46,16,FALSE)))","v":""},{"$f":"IF(K36=\"\",\"\",M36-K36)","v":""},{"$f":"IF(B36=\"\",\"\",VLOOKUP(B36,'４実績'!$A$16:$AO$46,34,FALSE))","v":""}]
[]
[]
[null,null,null,null,null,null,null,null,null,null,null,null,null,null,null,null,null,"　　　"]
[null,{"$f":"'４'!B40:B43","v":""},{"$f":"IF(B40=\"\",\"\",TEXT(DATE(2018+$F$3,$H$3,B40),\"aaa\"))","v":""},"　　　","　　　",{"$f":"IF(IF(B40=\"\",\"\",VLOOKUP(B40,'４実績'!$A$16:$BK$46,63))=\"大会\",IF(B40=\"\",\"\",VLOOKUP(B40,'４実績'!$A$16:$AO$46,22,FALSE)),IF(B40=\"\",\"\",'４実績'!$AC$4)&IF(B40=\"\",\"\",VLOOKUP(B40,'４実績'!$A$16:$AO$46,22,FALSE)))","v":""},null,null,null,null,{"$f":"IF(IF(B40=\"\",\"\",VLOOKUP(B40,'４実績'!$A$16:$AO$46,5,FALSE))=0,IF(B40=\"\",\"\",VLOOKUP(B40,'４実績'!$A$16:$AO$46,12,FALSE)),IF(B40=\"\",\"\",VLOOKUP(B40,'４実績'!$A$16:$AO$46,5,FALSE)))","v":""},"～",{"$f":"IF(IF(B40=\"\",\"\",VLOOKUP(B40,'４実績'!$A$16:$AO$46,16,FALSE))=0,IF(B40=\"\",\"\",VLOOKUP(B40,'４実績'!$A$16:$AO$46,9,FALSE)),IF(B40=\"\",\"\",VLOOKUP(B40,'４実績'!$A$16:$AO$46,16,FALSE)))","v":""},{"$f":"IF(K40=\"\",\"\",M40-K40)","v":""},{"$f":"IF(B40=\"\",\"\",VLOOKUP(B40,'４実績'!$A$16:$AO$46,34,FALSE))","v":""}]
[]
[]
[null,null,null,null,null,null,null,null,null,null,null,null,null,null,null,null,null,"　　　"]
[null,"( 記入要領等 )"]
[null,"　         　１　この整理簿は、教員特殊業務手当及び面接指導手当の支給対象となるものについて、当該手当の支給に必要な事の整理をするものであること。"]
[null,"　　         ２　記入にあたっては、次のように記入すること。"]
[null,"　　　         　「要件」欄：週休日等　　　半日振替日　　　　その他"]
[null,"　　　　         「区分」欄：非常災害　　救急業務　　補導業務　　修学旅行等　　対外運動等　　入学試験業務　　　部活動４　　　　部活動３　　　部活動２　　　面接指導　　　　　"]
[null,"　　　　　　　　　　         ※部活動４は4時間以上、部活動３は３時間以上４時間未満、部活動２は2時間以上３時間未満をいう。"]
[null,"　　　　         「業務内容」欄：職員が従事した業務について、その内容を簡潔に記入すること。"]
[null,"　　　         　「従事時間」欄：左欄に手当の支給対象となる業務の終始の時刻を、右欄には時間を記入すること。"]
[null,"　　　         　「備考」欄：この整理簿を補足する事項を記入すること。"]

{"sheet":"５(副顧問)","index":39,"n_rows":52,"n_cols":18,"rows_kept":52,"cut":false,"hidden":false,"merged":[[15,5,16,9],[11,5,12,9],[7,5,8,9],[31,13,34,13],[27,14,30,14],[27,15,30,15],[35,16,38,16],[31,5,32,9],[27,11,30,11],[27,12,30,12],[27,13,30,13],[31,10,34,10],[27,16,30,16],[15,13,18,13],[35,17,37,17],[39,1,42,1],[39,2,42,2],[39,3,42,3],[39,4,42,4],[37,5,38,9],[41,5,42,9],[39,10,42,10],[39,17,41,17],[39,11,42,11],[39,12,42,12],[39,13,42,13],[39,14,42,14],[39,15,42,15],[39,16,42,16],[35,14,38,14],[35,10,38,10],[39,5,40,9],[35,5,36,9],[31,17,33,17],[31,14,34,14],[31,15,34,15],[31,16,34,16],[43,1,43,3],[9,5,10,9],[13,5,14,9],[17,5,18,9],[21,5,22,9],[25,5,26,9],[29,5,30,9],[33,5,34,9],[35,1,38,1],[35,2,38,2],[35,3,38,3],[35,4,38,4],[7,3,10,3],[7,4,10,4],[35,15,38,15],[31,11,34,11],[31,12,34,12],[31,2,34,2],[31,3,34,3],[31,4,34,4],[27,1,30,1],[27,2,30,2],[27,3,30,3],[27,4,30,4],[27,10,30,10],[27,5,28,9],[35,11,38,11],[35,12,38,12],[35,13,38,13],[19,17,21,17],[23,1,26,1],[23,2,26,2],[23,3,26,3],[23,4,26,4],[23,10,26,10],[23,17,25,17],[23,14,26,14],[23,15,26,15],[23,16,26,16],[19,1,22,1],[19,2,22,2],[19,3,22,3],[19,4,22,4],[19,10,22,10],[19,11,22,11],[19,12,22,12],[19,13,22,13],[23,5,24,9],[19,5,20,9],[27,17,29,17],[31,1,34,1],[7,10,10,10],[11,14,14,14],[11,15,14,15],[11,16,14,16],[23,11,26,11],[23,12,26,12],[23,13,26,13],[19,14,22,14],[19,15,22,15],[19,16,22,16],[11,17,13,17],[15,1,18,1],[15,2,18,2],[15,3,18,3],[15,4,18,4],[15,10,18,10],[15,17,17,17],[15,14,18,14],[15,15,18,15],[15,16,18,16],[15,11,18,11],[15,12,18,12],[4,1,4,2],[4,3,4,4],[4,6,4,8],[4,9,4,10],[4,14,4,17],[6,5,6,9],[6,10,6,13],[7,17,9,17],[11,1,14,1],[11,2,14,2],[11,3,14,3],[11,4,14,4],[11,10,14,10],[11,11,14,11],[11,12,14,12],[11,13,14,13],[7,11,10,11],[7,12,10,12],[7,13,10,13],[7,14,10,14],[7,15,10,15],[7,16,10,16],[7,1,10,1],[7,2,10,2]]}
[]
[]
[null,null,null,"          　　　　　　","令和",{"$f":"'5計画'!AS1-2018","v":2},"年",{"$f":"'5計画'!A7","v":5},"月分","　 教  員  特  殊  業  務  整  理  簿",null,null,null,null,null,null,null,"様式3"]
[]
[null,"氏　名",null,{"$f":"IF('５実績'!K12=\"\",\"\",'５実績'!K12)","v":0},null,"職員\n番号",{"$f":"IF('４(副顧問)'!G5=\"\",\"\",'４(副顧問)'!G5)","v":""},null,null,null,null,null,null,null,{"$f":"'４(副顧問)'!$O$5:$R$5","v":"0学校"}]
[]
[null,"日","曜","要　件","区　分","業　　務　　内　　容",null,null,null,null,"従　事　時　間",null,null,null,"従事場所","所属長\n確認印","従事者印","備　　考"]
[null,{"$f":"'５'!B8:B11","v":""},{"$f":"IF(B8=\"\",\"\",TEXT(DATE(2018+$F$3,$H$3,B8),\"aaa\"))","v":""},"　　　",null,{"$f":"IF(IF(B8=\"\",\"\",VLOOKUP(B8,'５実績'!$A$16:$BK$46,63))=\"大会\",IF(B8=\"\",\"\",VLOOKUP(B8,'５実績'!$A$16:$AO$46,22,FALSE)),IF(B8=\"\",\"\",'５実績'!$AC$4)&IF(B8=\"\",\"\",VLOOKUP(B8,'５実績'!$A$16:$AO$46,22,FALSE)))","v":""},null,null,null,null,{"$f":"IF(IF(B8=\"\",\"\",VLOOKUP(B8,'５実績'!$A$16:$AO$46,5,FALSE))=0,IF(B8=\"\",\"\",VLOOKUP(B8,'５実績'!$A$16:$AO$46,12,FALSE)),IF(B8=\"\",\"\",VLOOKUP(B8,'５実績'!$A$16:$AO$46,5,FALSE)))","v":""},"～",{"$f":"IF(IF(B8=\"\",\"\",VLOOKUP(B8,'５実績'!$A$16:$AO$46,16,FALSE))=0,IF(B8=\"\",\"\",VLOOKUP(B8,'５実績'!$A$16:$AO$46,9,FALSE)),IF(B8=\"\",\"\",VLOOKUP(B8,'５実績'!$A$16:$AO$46,16,FALSE)))","v":""},{"$f":"IF(K8=\"\",\"\",M8-K8)","v":""},{"$f":"IF(B8=\"\",\"\",VLOOKUP(B8,'５実績'!$A$16:$AO$46,34,FALSE))","v":""}]
[]
[]
[null,null,null,null,null,null,null,null,null,null,null,null,null,null,null,null,null,"　　　"]
[null,{"$f":"'５'!B12:B15","v":""},{"$f":"IF(B12=\"\",\"\",TEXT(DATE(2018+$F$3,$H$3,B12),\"aaa\"))","v":""},"　　　","　　　",{"$f":"IF(IF(B12=\"\",\"\",VLOOKUP(B12,'５実績'!$A$16:$BK$46,63))=\"大会\",IF(B12=\"\",\"\",VLOOKUP(B12,'５実績'!$A$16:$AO$46,22,FALSE)),IF(B12=\"\",\"\",'５実績'!$AC$4)&IF(B12=\"\",\"\",VLOOKUP(B12,'５実績'!$A$16:$AO$46,22,FALSE)))","v":""},null,null,null,null,{"$f":"IF(IF(B12=\"\",\"\",VLOOKUP(B12,'５実績'!$A$16:$AO$46,5,FALSE))=0,IF(B12=\"\",\"\",VLOOKUP(B12,'５実績'!$A$16:$AO$46,12,FALSE)),IF(B12=\"\",\"\",VLOOKUP(B12,'５実績'!$A$16:$AO$46,5,FALSE)))","v":""},"～",{"$f":"IF(IF(B12=\"\",\"\",VLOOKUP(B12,'５実績'!$A$16:$AO$46,16,FALSE))=0,IF(B12=\"\",\"\",VLOOKUP(B12,'５実績'!$A$16:$AO$46,9,FALSE)),IF(B12=\"\",\"\",VLOOKUP(B12,'５実績'!$A$16:$AO$46,16,FALSE)))","v":""},{"$f":"IF(K12=\"\",\"\",M12-K12)","v":""},{"$f":"IF(B12=\"\",\"\",VLOOKUP(B12,'５実績'!$A$16:$AO$46,34,FALSE))","v":""}]
[]
[]
[null,null,null,null,null,null,null,null,null,null,null,null,null,null,null,null,null,"　　　"]
[null,{"$f":"'５'!B16:B19","v":""},{"$f":"IF(B16=\"\",\"\",TEXT(DATE(2018+$F$3,$H$3,B16),\"aaa\"))","v":""},"　　　","　　　",{"$f":"IF(IF(B16=\"\",\"\",VLOOKUP(B16,'５実績'!$A$16:$BK$46,63))=\"大会\",IF(B16=\"\",\"\",VLOOKUP(B16,'５実績'!$A$16:$AO$46,22,FALSE)),IF(B16=\"\",\"\",'５実績'!$AC$4)&IF(B16=\"\",\"\",VLOOKUP(B16,'５実績'!$A$16:$AO$46,22,FALSE)))","v":""},null,null,null,null,{"$f":"IF(IF(B16=\"\",\"\",VLOOKUP(B16,'５実績'!$A$16:$AO$46,5,FALSE))=0,IF(B16=\"\",\"\",VLOOKUP(B16,'５実績'!$A$16:$AO$46,12,FALSE)),IF(B16=\"\",\"\",VLOOKUP(B16,'５実績'!$A$16:$AO$46,5,FALSE)))","v":""},"～",{"$f":"IF(IF(B16=\"\",\"\",VLOOKUP(B16,'５実績'!$A$16:$AO$46,16,FALSE))=0,IF(B16=\"\",\"\",VLOOKUP(B16,'５実績'!$A$16:$AO$46,9,FALSE)),IF(B16=\"\",\"\",VLOOKUP(B16,'５実績'!$A$16:$AO$46,16,FALSE)))","v":""},{"$f":"IF(K16=\"\",\"\",M16-K16)","v":""},{"$f":"IF(B16=\"\",\"\",VLOOKUP(B16,'５実績'!$A$16:$AO$46,34,FALSE))","v":""}]
[]
[]
[null,null,null,null,null,null,null,null,null,null,null,null,null,null,null,null,null,"　　　"]
[null,{"$f":"'５'!B20:B23","v":""},{"$f":"IF(B20=\"\",\"\",TEXT(DATE(2018+$F$3,$H$3,B20),\"aaa\"))","v":""},"　　　","　　　",{"$f":"IF(IF(B20=\"\",\"\",VLOOKUP(B20,'５実績'!$A$16:$BK$46,63))=\"大会\",IF(B20=\"\",\"\",VLOOKUP(B20,'５実績'!$A$16:$AO$46,22,FALSE)),IF(B20=\"\",\"\",'５実績'!$AC$4)&IF(B20=\"\",\"\",VLOOKUP(B20,'５実績'!$A$16:$AO$46,22,FALSE)))","v":""},null,null,null,null,{"$f":"IF(IF(B20=\"\",\"\",VLOOKUP(B20,'５実績'!$A$16:$AO$46,5,FALSE))=0,IF(B20=\"\",\"\",VLOOKUP(B20,'５実績'!$A$16:$AO$46,12,FALSE)),IF(B20=\"\",\"\",VLOOKUP(B20,'５実績'!$A$16:$AO$46,5,FALSE)))","v":""},"～",{"$f":"IF(IF(B20=\"\",\"\",VLOOKUP(B20,'５実績'!$A$16:$AO$46,16,FALSE))=0,IF(B20=\"\",\"\",VLOOKUP(B20,'５実績'!$A$16:$AO$46,9,FALSE)),IF(B20=\"\",\"\",VLOOKUP(B20,'５実績'!$A$16:$AO$46,16,FALSE)))","v":""},{"$f":"IF(K20=\"\",\"\",M20-K20)","v":""},{"$f":"IF(B20=\"\",\"\",VLOOKUP(B20,'５実績'!$A$16:$AO$46,34,FALSE))","v":""}]
[]
[]
[null,null,null,null,null,null,null,null,null,null,null,null,null,null,null,null,null,"　　　"]
[null,{"$f":"'５'!B24:B27","v":""},{"$f":"IF(B24=\"\",\"\",TEXT(DATE(2018+$F$3,$H$3,B24),\"aaa\"))","v":""},"　　　","　　　",{"$f":"IF(IF(B24=\"\",\"\",VLOOKUP(B24,'５実績'!$A$16:$BK$46,63))=\"大会\",IF(B24=\"\",\"\",VLOOKUP(B24,'５実績'!$A$16:$AO$46,22,FALSE)),IF(B24=\"\",\"\",'５実績'!$AC$4)&IF(B24=\"\",\"\",VLOOKUP(B24,'５実績'!$A$16:$AO$46,22,FALSE)))","v":""},null,null,null,null,{"$f":"IF(IF(B24=\"\",\"\",VLOOKUP(B24,'５実績'!$A$16:$AO$46,5,FALSE))=0,IF(B24=\"\",\"\",VLOOKUP(B24,'５実績'!$A$16:$AO$46,12,FALSE)),IF(B24=\"\",\"\",VLOOKUP(B24,'５実績'!$A$16:$AO$46,5,FALSE)))","v":""},"～",{"$f":"IF(IF(B24=\"\",\"\",VLOOKUP(B24,'５実績'!$A$16:$AO$46,16,FALSE))=0,IF(B24=\"\",\"\",VLOOKUP(B24,'５実績'!$A$16:$AO$46,9,FALSE)),IF(B24=\"\",\"\",VLOOKUP(B24,'５実績'!$A$16:$AO$46,16,FALSE)))","v":""},{"$f":"IF(K24=\"\",\"\",M24-K24)","v":""},{"$f":"IF(B24=\"\",\"\",VLOOKUP(B24,'５実績'!$A$16:$AO$46,34,FALSE))","v":""}]
[]
[]
[null,null,null,null,null,null,null,null,null,null,null,null,null,null,null,null,null,"　　　"]
[null,{"$f":"'５'!B28:B31","v":""},{"$f":"IF(B28=\"\",\"\",TEXT(DATE(2018+$F$3,$H$3,B28),\"aaa\"))","v":""},"　　　","　　　",{"$f":"IF(IF(B28=\"\",\"\",VLOOKUP(B28,'５実績'!$A$16:$BK$46,63))=\"大会\",IF(B28=\"\",\"\",VLOOKUP(B28,'５実績'!$A$16:$AO$46,22,FALSE)),IF(B28=\"\",\"\",'５実績'!$AC$4)&IF(B28=\"\",\"\",VLOOKUP(B28,'５実績'!$A$16:$AO$46,22,FALSE)))","v":""},null,null,null,null,{"$f":"IF(IF(B28=\"\",\"\",VLOOKUP(B28,'５実績'!$A$16:$AO$46,5,FALSE))=0,IF(B28=\"\",\"\",VLOOKUP(B28,'５実績'!$A$16:$AO$46,12,FALSE)),IF(B28=\"\",\"\",VLOOKUP(B28,'５実績'!$A$16:$AO$46,5,FALSE)))","v":""},"～",{"$f":"IF(IF(B28=\"\",\"\",VLOOKUP(B28,'５実績'!$A$16:$AO$46,16,FALSE))=0,IF(B28=\"\",\"\",VLOOKUP(B28,'５実績'!$A$16:$AO$46,9,FALSE)),IF(B28=\"\",\"\",VLOOKUP(B28,'５実績'!$A$16:$AO$46,16,FALSE)))","v":""},{"$f":"IF(K28=\"\",\"\",M28-K28)","v":""},{"$f":"IF(B28=\"\",\"\",VLOOKUP(B28,'５実績'!$A$16:$AO$46,34,FALSE))","v":""}]
[]
[]
[null,null,null,null,null,null,null,null,null,null,null,null,null,null,null,null,null,"　　　"]
[null,{"$f":"'５'!B32:B35","v":""},{"$f":"IF(B32=\"\",\"\",TEXT(DATE(2018+$F$3,$H$3,B32),\"aaa\"))","v":""},"　　　","　　　",{"$f":"IF(IF(B32=\"\",\"\",VLOOKUP(B32,'５実績'!$A$16:$BK$46,63))=\"大会\",IF(B32=\"\",\"\",VLOOKUP(B32,'５実績'!$A$16:$AO$46,22,FALSE)),IF(B32=\"\",\"\",'５実績'!$AC$4)&IF(B32=\"\",\"\",VLOOKUP(B32,'５実績'!$A$16:$AO$46,22,FALSE)))","v":""},null,null,null,null,{"$f":"IF(IF(B32=\"\",\"\",VLOOKUP(B32,'５実績'!$A$16:$AO$46,5,FALSE))=0,IF(B32=\"\",\"\",VLOOKUP(B32,'５実績'!$A$16:$AO$46,12,FALSE)),IF(B32=\"\",\"\",VLOOKUP(B32,'５実績'!$A$16:$AO$46,5,FALSE)))","v":""},"～",{"$f":"IF(IF(B32=\"\",\"\",VLOOKUP(B32,'５実績'!$A$16:$AO$46,16,FALSE))=0,IF(B32=\"\",\"\",VLOOKUP(B32,'５実績'!$A$16:$AO$46,9,FALSE)),IF(B32=\"\",\"\",VLOOKUP(B32,'５実績'!$A$16:$AO$46,16,FALSE)))","v":""},{"$f":"IF(K32=\"\",\"\",M32-K32)","v":""},{"$f":"IF(B32=\"\",\"\",VLOOKUP(B32,'５実績'!$A$16:$AO$46,34,FALSE))","v":""}]
[]
[]
[null,null,null,null,null,null,null,null,null,null,null,null,null,null,null,null,null,"　　　"]
[null,{"$f":"'５'!B36:B39","v":""},{"$f":"IF(B36=\"\",\"\",TEXT(DATE(2018+$F$3,$H$3,B36),\"aaa\"))","v":""},"　　　","　　　",{"$f":"IF(IF(B36=\"\",\"\",VLOOKUP(B36,'５実績'!$A$16:$BK$46,63))=\"大会\",IF(B36=\"\",\"\",VLOOKUP(B36,'５実績'!$A$16:$AO$46,22,FALSE)),IF(B36=\"\",\"\",'５実績'!$AC$4)&IF(B36=\"\",\"\",VLOOKUP(B36,'５実績'!$A$16:$AO$46,22,FALSE)))","v":""},null,null,null,null,{"$f":"IF(IF(B36=\"\",\"\",VLOOKUP(B36,'５実績'!$A$16:$AO$46,5,FALSE))=0,IF(B36=\"\",\"\",VLOOKUP(B36,'５実績'!$A$16:$AO$46,12,FALSE)),IF(B36=\"\",\"\",VLOOKUP(B36,'５実績'!$A$16:$AO$46,5,FALSE)))","v":""},"～",{"$f":"IF(IF(B36=\"\",\"\",VLOOKUP(B36,'５実績'!$A$16:$AO$46,16,FALSE))=0,IF(B36=\"\",\"\",VLOOKUP(B36,'５実績'!$A$16:$AO$46,9,FALSE)),IF(B36=\"\",\"\",VLOOKUP(B36,'５実績'!$A$16:$AO$46,16,FALSE)))","v":""},{"$f":"IF(K36=\"\",\"\",M36-K36)","v":""},{"$f":"IF(B36=\"\",\"\",VLOOKUP(B36,'５実績'!$A$16:$AO$46,34,FALSE))","v":""}]
[]
[]
[null,null,null,null,null,null,null,null,null,null,null,null,null,null,null,null,null,"　　　"]
[null,{"$f":"'５'!B40:B43","v":""},{"$f":"IF(B40=\"\",\"\",TEXT(DATE(2018+$F$3,$H$3,B40),\"aaa\"))","v":""},"　　　","　　　",{"$f":"IF(IF(B40=\"\",\"\",VLOOKUP(B40,'５実績'!$A$16:$BK$46,63))=\"大会\",IF(B40=\"\",\"\",VLOOKUP(B40,'５実績'!$A$16:$AO$46,22,FALSE)),IF(B40=\"\",\"\",'５実績'!$AC$4)&IF(B40=\"\",\"\",VLOOKUP(B40,'５実績'!$A$16:$AO$46,22,FALSE)))","v":""},null,null,null,null,{"$f":"IF(IF(B40=\"\",\"\",VLOOKUP(B40,'５実績'!$A$16:$AO$46,5,FALSE))=0,IF(B40=\"\",\"\",VLOOKUP(B40,'５実績'!$A$16:$AO$46,12,FALSE)),IF(B40=\"\",\"\",VLOOKUP(B40,'５実績'!$A$16:$AO$46,5,FALSE)))","v":""},"～",{"$f":"IF(IF(B40=\"\",\"\",VLOOKUP(B40,'５実績'!$A$16:$AO$46,16,FALSE))=0,IF(B40=\"\",\"\",VLOOKUP(B40,'５実績'!$A$16:$AO$46,9,FALSE)),IF(B40=\"\",\"\",VLOOKUP(B40,'５実績'!$A$16:$AO$46,16,FALSE)))","v":""},{"$f":"IF(K40=\"\",\"\",M40-K40)","v":""},{"$f":"IF(B40=\"\",\"\",VLOOKUP(B40,'５実績'!$A$16:$AO$46,34,FALSE))","v":""}]
[]
[]
[null,null,null,null,null,null,null,null,null,null,null,null,null,null,null,null,null,"　　　"]
[null,"( 記入要領等 )"]
[null,"　         　１　この整理簿は、教員特殊業務手当及び面接指導手当の支給対象となるものについて、当該手当の支給に必要な事の整理をするものであること。"]
[null,"　　         ２　記入にあたっては、次のように記入すること。"]
[null,"　　　         　「要件」欄：週休日等　　　半日振替日　　　　その他"]
[null,"　　　　         「区分」欄：非常災害　　救急業務　　補導業務　　修学旅行等　　対外運動等　　入学試験業務　　　部活動４　　　　部活動３　　　部活動２　　　面接指導　　　　　"]
[null,"　　　　　　　　　　         ※部活動４は4時間以上、部活動３は３時間以上４時間未満、部活動２は2時間以上３時間未満をいう。"]
[null,"　　　　         「業務内容」欄：職員が従事した業務について、その内容を簡潔に記入すること。"]
[null,"　　　         　「従事時間」欄：左欄に手当の支給対象となる業務の終始の時刻を、右欄には時間を記入すること。"]
[null,"　　　         　「備考」欄：この整理簿を補足する事項を記入すること。"]

{"sheet":"６(副顧問)","index":40,"n_rows":52,"n_cols":18,"rows_kept":52,"cut":false,"hidden":false,"merged":[[15,5,16,9],[11,5,12,9],[7,5,8,9],[19,5,20,9],[31,13,34,13],[27,14,30,14],[27,15,30,15],[35,16,38,16],[31,5,32,9],[27,11,30,11],[27,12,30,12],[27,13,30,13],[31,10,34,10],[27,16,30,16],[15,13,18,13],[35,17,37,17],[39,1,42,1],[39,2,42,2],[39,3,42,3],[39,4,42,4],[37,5,38,9],[41,5,42,9],[39,10,42,10],[39,17,41,17],[39,11,42,11],[39,12,42,12],[39,13,42,13],[39,14,42,14],[39,15,42,15],[39,16,42,16],[35,14,38,14],[35,10,38,10],[39,5,40,9],[35,5,36,9],[31,17,33,17],[31,14,34,14],[31,15,34,15],[31,16,34,16],[43,1,43,3],[9,5,10,9],[13,5,14,9],[17,5,18,9],[25,5,26,9],[21,5,22,9],[29,5,30,9],[33,5,34,9],[35,1,38,1],[35,2,38,2],[35,3,38,3],[35,4,38,4],[7,3,10,3],[7,4,10,4],[35,15,38,15],[31,11,34,11],[31,12,34,12],[31,2,34,2],[31,3,34,3],[31,4,34,4],[27,1,30,1],[27,2,30,2],[27,3,30,3],[27,4,30,4],[27,10,30,10],[27,5,28,9],[35,11,38,11],[35,12,38,12],[35,13,38,13],[19,17,21,17],[23,1,26,1],[23,2,26,2],[23,3,26,3],[23,4,26,4],[23,10,26,10],[23,17,25,17],[23,14,26,14],[23,15,26,15],[23,16,26,16],[19,1,22,1],[19,2,22,2],[19,3,22,3],[19,4,22,4],[19,10,22,10],[19,11,22,11],[19,12,22,12],[19,13,22,13],[23,5,24,9],[27,17,29,17],[31,1,34,1],[7,10,10,10],[11,14,14,14],[11,15,14,15],[11,16,14,16],[23,11,26,11],[23,12,26,12],[23,13,26,13],[19,14,22,14],[19,15,22,15],[19,16,22,16],[11,17,13,17],[15,1,18,1],[15,2,18,2],[15,3,18,3],[15,4,18,4],[15,10,18,10],[15,17,17,17],[15,14,18,14],[15,15,18,15],[15,16,18,16],[15,11,18,11],[15,12,18,12],[4,1,4,2],[4,3,4,4],[4,6,4,8],[4,9,4,10],[4,14,4,17],[6,5,6,9],[6,10,6,13],[7,17,9,17],[11,1,14,1],[11,2,14,2],[11,3,14,3],[11,4,14,4],[11,10,14,10],[11,11,14,11],[11,12,14,12],[11,13,14,13],[7,11,10,11],[7,12,10,12],[7,13,10,13],[7,14,10,14],[7,15,10,15],[7,16,10,16],[7,1,10,1],[7,2,10,2]]}
[]
[]
[null,null,null,"          　　　　　　","令和",{"$f":"'６計画'!AT1-2018","v":2},"年",{"$f":"'６計画'!A7","v":6},"月分","　 教  員  特  殊  業  務  整  理  簿",null,null,null,null,null,null,null,"様式3"]
[]
[null,"氏　名",null,{"$f":"IF('6実績'!K12=\"\",\"\",'6実績'!K12)","v":0},null,"職員\n番号",{"$f":"IF('４(副顧問)'!G5=\"\",\"\",'４(副顧問)'!G5)","v":""},null,null,null,null,null,null,null,{"$f":"'４(副顧問)'!$O$5:$R$5","v":"0学校"}]
[]
[null,"日","曜","要　件","区　分","業　　務　　内　　容",null,null,null,null,"従　事　時　間",null,null,null,"従事場所","所属長\n確認印","従事者印","備　　考"]
[null,{"$f":"'６'!B8:B11","v":""},{"$f":"IF(B8=\"\",\"\",TEXT(DATE(2018+$F$3,$H$3,B8),\"aaa\"))","v":""},"　　　","　　　",{"$f":"IF(IF(B8=\"\",\"\",VLOOKUP(B8,'6実績'!$A$16:$BK$46,63))=\"大会\",IF(B8=\"\",\"\",VLOOKUP(B8,'6実績'!$A$16:$AO$46,22,FALSE)),IF(B8=\"\",\"\",'6実績'!$AC$4)&IF(B8=\"\",\"\",VLOOKUP(B8,'6実績'!$A$16:$AO$46,22,FALSE)))","v":""},null,null,null,null,{"$f":"IF(IF(B8=\"\",\"\",VLOOKUP(B8,'6実績'!$A$16:$AO$46,5,FALSE))=0,IF(B8=\"\",\"\",VLOOKUP(B8,'6実績'!$A$16:$AO$46,12,FALSE)),IF(B8=\"\",\"\",VLOOKUP(B8,'6実績'!$A$16:$AO$46,5,FALSE)))","v":""},"～",{"$f":"IF(IF(B8=\"\",\"\",VLOOKUP(B8,'6実績'!$A$16:$AO$46,16,FALSE))=0,IF(B8=\"\",\"\",VLOOKUP(B8,'6実績'!$A$16:$AO$46,9,FALSE)),IF(B8=\"\",\"\",VLOOKUP(B8,'6実績'!$A$16:$AO$46,16,FALSE)))","v":""},{"$f":"IF(K8=\"\",\"\",M8-K8)","v":""},{"$f":"IF(B8=\"\",\"\",VLOOKUP(B8,'6実績'!$A$16:$AO$46,34,FALSE))","v":""}]
[]
[]
[null,null,null,null,null,null,null,null,null,null,null,null,null,null,null,null,null,"　　　"]
[null,{"$f":"'６'!B12:B15","v":""},{"$f":"IF(B12=\"\",\"\",TEXT(DATE(2018+$F$3,$H$3,B12),\"aaa\"))","v":""},"　　　","　　　",{"$f":"IF(IF(B12=\"\",\"\",VLOOKUP(B12,'6実績'!$A$16:$BK$46,63))=\"大会\",IF(B12=\"\",\"\",VLOOKUP(B12,'6実績'!$A$16:$AO$46,22,FALSE)),IF(B12=\"\",\"\",'6実績'!$AC$4)&IF(B12=\"\",\"\",VLOOKUP(B12,'6実績'!$A$16:$AO$46,22,FALSE)))","v":""},null,null,null,null,{"$f":"IF(IF(B12=\"\",\"\",VLOOKUP(B12,'6実績'!$A$16:$AO$46,5,FALSE))=0,IF(B12=\"\",\"\",VLOOKUP(B12,'6実績'!$A$16:$AO$46,12,FALSE)),IF(B12=\"\",\"\",VLOOKUP(B12,'6実績'!$A$16:$AO$46,5,FALSE)))","v":""},"～",{"$f":"IF(IF(B12=\"\",\"\",VLOOKUP(B12,'6実績'!$A$16:$AO$46,16,FALSE))=0,IF(B12=\"\",\"\",VLOOKUP(B12,'6実績'!$A$16:$AO$46,9,FALSE)),IF(B12=\"\",\"\",VLOOKUP(B12,'6実績'!$A$16:$AO$46,16,FALSE)))","v":""},{"$f":"IF(K12=\"\",\"\",M12-K12)","v":""},{"$f":"IF(B12=\"\",\"\",VLOOKUP(B12,'6実績'!$A$16:$AO$46,34,FALSE))","v":""}]
[]
[]
[null,null,null,null,null,null,null,null,null,null,null,null,null,null,null,null,null,"　　　"]
[null,{"$f":"'６'!B16:B19","v":""},{"$f":"IF(B16=\"\",\"\",TEXT(DATE(2018+$F$3,$H$3,B16),\"aaa\"))","v":""},"　　　","　　　",{"$f":"IF(IF(B16=\"\",\"\",VLOOKUP(B16,'6実績'!$A$16:$BK$46,63))=\"大会\",IF(B16=\"\",\"\",VLOOKUP(B16,'6実績'!$A$16:$AO$46,22,FALSE)),IF(B16=\"\",\"\",'6実績'!$AC$4)&IF(B16=\"\",\"\",VLOOKUP(B16,'6実績'!$A$16:$AO$46,22,FALSE)))","v":""},null,null,null,null,{"$f":"IF(IF(B16=\"\",\"\",VLOOKUP(B16,'6実績'!$A$16:$AO$46,5,FALSE))=0,IF(B16=\"\",\"\",VLOOKUP(B16,'6実績'!$A$16:$AO$46,12,FALSE)),IF(B16=\"\",\"\",VLOOKUP(B16,'6実績'!$A$16:$AO$46,5,FALSE)))","v":""},"～",{"$f":"IF(IF(B16=\"\",\"\",VLOOKUP(B16,'6実績'!$A$16:$AO$46,16,FALSE))=0,IF(B16=\"\",\"\",VLOOKUP(B16,'6実績'!$A$16:$AO$46,9,FALSE)),IF(B16=\"\",\"\",VLOOKUP(B16,'6実績'!$A$16:$AO$46,16,FALSE)))","v":""},{"$f":"IF(K16=\"\",\"\",M16-K16)","v":""},{"$f":"IF(B16=\"\",\"\",VLOOKUP(B16,'6実績'!$A$16:$AO$46,34,FALSE))","v":""}]
[]
[]
[null,null,null,null,null,null,null,null,null,null,null,null,null,null,null,null,null,"　　　"]
[null,{"$f":"'６'!B20:B23","v":""},{"$f":"IF(B20=\"\",\"\",TEXT(DATE(2018+$F$3,$H$3,B20),\"aaa\"))","v":""},"　　　","　　　",{"$f":"IF(IF(B20=\"\",\"\",VLOOKUP(B20,'6実績'!$A$16:$BK$46,63))=\"大会\",IF(B20=\"\",\"\",VLOOKUP(B20,'6実績'!$A$16:$AO$46,22,FALSE)),IF(B20=\"\",\"\",'6実績'!$AC$4)&IF(B20=\"\",\"\",VLOOKUP(B20,'6実績'!$A$16:$AO$46,22,FALSE)))","v":""},null,null,null,null,{"$f":"IF(IF(B20=\"\",\"\",VLOOKUP(B20,'6実績'!$A$16:$AO$46,5,FALSE))=0,IF(B20=\"\",\"\",VLOOKUP(B20,'6実績'!$A$16:$AO$46,12,FALSE)),IF(B20=\"\",\"\",VLOOKUP(B20,'6実績'!$A$16:$AO$46,5,FALSE)))","v":""},"～",{"$f":"IF(IF(B20=\"\",\"\",VLOOKUP(B20,'6実績'!$A$16:$AO$46,16,FALSE))=0,IF(B20=\"\",\"\",VLOOKUP(B20,'6実績'!$A$16:$AO$46,9,FALSE)),IF(B20=\"\",\"\",VLOOKUP(B20,'6実績'!$A$16:$AO$46,16,FALSE)))","v":""},{"$f":"IF(K20=\"\",\"\",M20-K20)","v":""},{"$f":"IF(B20=\"\",\"\",VLOOKUP(B20,'6実績'!$A$16:$AO$46,34,FALSE))","v":""}]
[]
[]
[null,null,null,null,null,null,null,null,null,null,null,null,null,null,null,null,null,"　　　"]
[null,{"$f":"'６'!B24:B27","v":""},{"$f":"IF(B24=\"\",\"\",TEXT(DATE(2018+$F$3,$H$3,B24),\"aaa\"))","v":""},"　　　","　　　",{"$f":"IF(IF(B24=\"\",\"\",VLOOKUP(B24,'6実績'!$A$16:$BK$46,63))=\"大会\",IF(B24=\"\",\"\",VLOOKUP(B24,'6実績'!$A$16:$AO$46,22,FALSE)),IF(B24=\"\",\"\",'6実績'!$AC$4)&IF(B24=\"\",\"\",VLOOKUP(B24,'6実績'!$A$16:$AO$46,22,FALSE)))","v":""},null,null,null,null,{"$f":"IF(IF(B24=\"\",\"\",VLOOKUP(B24,'6実績'!$A$16:$AO$46,5,FALSE))=0,IF(B24=\"\",\"\",VLOOKUP(B24,'6実績'!$A$16:$AO$46,12,FALSE)),IF(B24=\"\",\"\",VLOOKUP(B24,'6実績'!$A$16:$AO$46,5,FALSE)))","v":""},"～",{"$f":"IF(IF(B24=\"\",\"\",VLOOKUP(B24,'6実績'!$A$16:$AO$46,16,FALSE))=0,IF(B24=\"\",\"\",VLOOKUP(B24,'6実績'!$A$16:$AO$46,9,FALSE)),IF(B24=\"\",\"\",VLOOKUP(B24,'6実績'!$A$16:$AO$46,16,FALSE)))","v":""},{"$f":"IF(K24=\"\",\"\",M24-K24)","v":""},{"$f":"IF(B24=\"\",\"\",VLOOKUP(B24,'6実績'!$A$16:$AO$46,34,FALSE))","v":""}]
[]
[]
[null,null,null,null,null,null,null,null,null,null,null,null,null,null,null,null,null,"　　　"]
[null,{"$f":"'６'!B28:B31","v":""},{"$f":"IF(B28=\"\",\"\",TEXT(DATE(2018+$F$3,$H$3,B28),\"aaa\"))","v":""},"　　　","　　　",{"$f":"IF(IF(B28=\"\",\"\",VLOOKUP(B28,'6実績'!$A$16:$BK$46,63))=\"大会\",IF(B28=\"\",\"\",VLOOKUP(B28,'6実績'!$A$16:$AO$46,22,FALSE)),IF(B28=\"\",\"\",'6実績'!$AC$4)&IF(B28=\"\",\"\",VLOOKUP(B28,'6実績'!$A$16:$AO$46,22,FALSE)))","v":""},null,null,null,null,{"$f":"IF(IF(B28=\"\",\"\",VLOOKUP(B28,'6実績'!$A$16:$AO$46,5,FALSE))=0,IF(B28=\"\",\"\",VLOOKUP(B28,'6実績'!$A$16:$AO$46,12,FALSE)),IF(B28=\"\",\"\",VLOOKUP(B28,'6実績'!$A$16:$AO$46,5,FALSE)))","v":""},"～",{"$f":"IF(IF(B28=\"\",\"\",VLOOKUP(B28,'6実績'!$A$16:$AO$46,16,FALSE))=0,IF(B28=\"\",\"\",VLOOKUP(B28,'6実績'!$A$16:$AO$46,9,FALSE)),IF(B28=\"\",\"\",VLOOKUP(B28,'6実績'!$A$16:$AO$46,16,FALSE)))","v":""},{"$f":"IF(K28=\"\",\"\",M28-K28)","v":""},{"$f":"IF(B28=\"\",\"\",VLOOKUP(B28,'6実績'!$A$16:$AO$46,34,FALSE))","v":""}]
[]
[]
[null,null,null,null,null,null,null,null,null,null,null,null,null,null,null,null,null,"　　　"]
[null,{"$f":"'６'!B32:B35","v":""},{"$f":"IF(B32=\"\",\"\",TEXT(DATE(2018+$F$3,$H$3,B32),\"aaa\"))","v":""},"　　　","　　　",{"$f":"IF(IF(B32=\"\",\"\",VLOOKUP(B32,'6実績'!$A$16:$BK$46,63))=\"大会\",IF(B32=\"\",\"\",VLOOKUP(B32,'6実績'!$A$16:$AO$46,22,FALSE)),IF(B32=\"\",\"\",'6実績'!$AC$4)&IF(B32=\"\",\"\",VLOOKUP(B32,'6実績'!$A$16:$AO$46,22,FALSE)))","v":""},null,null,null,null,{"$f":"IF(IF(B32=\"\",\"\",VLOOKUP(B32,'6実績'!$A$16:$AO$46,5,FALSE))=0,IF(B32=\"\",\"\",VLOOKUP(B32,'6実績'!$A$16:$AO$46,12,FALSE)),IF(B32=\"\",\"\",VLOOKUP(B32,'6実績'!$A$16:$AO$46,5,FALSE)))","v":""},"～",{"$f":"IF(IF(B32=\"\",\"\",VLOOKUP(B32,'6実績'!$A$16:$AO$46,16,FALSE))=0,IF(B32=\"\",\"\",VLOOKUP(B32,'6実績'!$A$16:$AO$46,9,FALSE)),IF(B32=\"\",\"\",VLOOKUP(B32,'6実績'!$A$16:$AO$46,16,FALSE)))","v":""},{"$f":"IF(K32=\"\",\"\",M32-K32)","v":""},{"$f":"IF(B32=\"\",\"\",VLOOKUP(B32,'6実績'!$A$16:$AO$46,34,FALSE))","v":""}]
[]
[]
[null,null,null,null,null,null,null,null,null,null,null,null,null,null,null,null,null,"　　　"]
[null,{"$f":"'６'!B36:B39","v":""},{"$f":"IF(B36=\"\",\"\",TEXT(DATE(2018+$F$3,$H$3,B36),\"aaa\"))","v":""},"　　　","　　　",{"$f":"IF(IF(B36=\"\",\"\",VLOOKUP(B36,'6実績'!$A$16:$BK$46,63))=\"大会\",IF(B36=\"\",\"\",VLOOKUP(B36,'6実績'!$A$16:$AO$46,22,FALSE)),IF(B36=\"\",\"\",'6実績'!$AC$4)&IF(B36=\"\",\"\",VLOOKUP(B36,'6実績'!$A$16:$AO$46,22,FALSE)))","v":""},null,null,null,null,{"$f":"IF(IF(B36=\"\",\"\",VLOOKUP(B36,'6実績'!$A$16:$AO$46,5,FALSE))=0,IF(B36=\"\",\"\",VLOOKUP(B36,'6実績'!$A$16:$AO$46,12,FALSE)),IF(B36=\"\",\"\",VLOOKUP(B36,'6実績'!$A$16:$AO$46,5,FALSE)))","v":""},"～",{"$f":"IF(IF(B36=\"\",\"\",VLOOKUP(B36,'6実績'!$A$16:$AO$46,16,FALSE))=0,IF(B36=\"\",\"\",VLOOKUP(B36,'6実績'!$A$16:$AO$46,9,FALSE)),IF(B36=\"\",\"\",VLOOKUP(B36,'6実績'!$A$16:$AO$46,16,FALSE)))","v":""},{"$f":"IF(K36=\"\",\"\",M36-K36)","v":""},{"$f":"IF(B36=\"\",\"\",VLOOKUP(B36,'6実績'!$A$16:$AO$46,34,FALSE))","v":""}]
[]
[]
[null,null,null,null,null,null,null,null,null,null,null,null,null,null,null,null,null,"　　　"]
[null,{"$f":"'６'!B40:B43","v":""},{"$f":"IF(B40=\"\",\"\",TEXT(DATE(2018+$F$3,$H$3,B40),\"aaa\"))","v":""},"　　　","　　　",{"$f":"IF(IF(B40=\"\",\"\",VLOOKUP(B40,'6実績'!$A$16:$BK$46,63))=\"大会\",IF(B40=\"\",\"\",VLOOKUP(B40,'6実績'!$A$16:$AO$46,22,FALSE)),IF(B40=\"\",\"\",'6実績'!$AC$4)&IF(B40=\"\",\"\",VLOOKUP(B40,'6実績'!$A$16:$AO$46,22,FALSE)))","v":""},null,null,null,null,{"$f":"IF(IF(B40=\"\",\"\",VLOOKUP(B40,'6実績'!$A$16:$AO$46,5,FALSE))=0,IF(B40=\"\",\"\",VLOOKUP(B40,'6実績'!$A$16:$AO$46,12,FALSE)),IF(B40=\"\",\"\",VLOOKUP(B40,'6実績'!$A$16:$AO$46,5,FALSE)))","v":""},"～",{"$f":"IF(IF(B40=\"\",\"\",VLOOKUP(B40,'6実績'!$A$16:$AO$46,16,FALSE))=0,IF(B40=\"\",\"\",VLOOKUP(B40,'6実績'!$A$16:$AO$46,9,FALSE)),IF(B40=\"\",\"\",VLOOKUP(B40,'6実績'!$A$16:$AO$46,16,FALSE)))","v":""},{"$f":"IF(K40=\"\",\"\",M40-K40)","v":""},{"$f":"IF(B40=\"\",\"\",VLOOKUP(B40,'6実績'!$A$16:$AO$46,34,FALSE))","v":""}]
[]
[]
[null,null,null,null,null,null,null,null,null,null,null,null,null,null,null,null,null,"　　　"]
[]
[null,"　         　１　この整理簿は、教員特殊業務手当及び面接指導手当の支給対象となるものについて、当該手当の支給に必要な事の整理をするものであること。"]
[null,"　　         ２　記入にあたっては、次のように記入すること。"]
[null,"　　　         　「要件」欄：週休日等　　　半日振替日　　　　その他"]
[null,"　　　　         「区分」欄：非常災害　　救急業務　　補導業務　　修学旅行等　　対外運動等　　入学試験業務　　　部活動４　　　　部活動３　　　部活動２　　　面接指導　　　　　"]
[null,"　　　　　　　　　　         ※部活動４は4時間以上、部活動３は３時間以上４時間未満、部活動２は2時間以上３時間未満をいう。"]
[null,"　　　　         「業務内容」欄：職員が従事した業務について、その内容を簡潔に記入すること。"]
[null,"　　　         　「従事時間」欄：左欄に手当の支給対象となる業務の終始の時刻を、右欄には時間を記入すること。"]
[null,"　　　         　「備考」欄：この整理簿を補足する事項を記入すること。"]

{"sheet":"７(副顧問)","index":41,"n_rows":52,"n_cols":18,"rows_kept":52,"cut":false,"hidden":false,"merged":[[15,5,16,9],[11,5,12,9],[7,5,8,9],[31,13,34,13],[27,14,30,14],[27,15,30,15],[35,16,38,16],[31,5,32,9],[27,11,30,11],[27,12,30,12],[27,13,30,13],[31,10,34,10],[27,16,30,16],[15,13,18,13],[35,17,37,17],[39,1,42,1],[39,2,42,2],[39,3,42,3],[39,4,42,4],[37,5,38,9],[41,5,42,9],[39,10,42,10],[39,17,41,17],[39,11,42,11],[39,12,42,12],[39,13,42,13],[39,14,42,14],[39,15,42,15],[39,16,42,16],[35,14,38,14],[35,10,38,10],[39,5,40,9],[35,5,36,9],[31,17,33,17],[31,14,34,14],[31,15,34,15],[31,16,34,16],[43,1,43,3],[9,5,10,9],[13,5,14,9],[17,5,18,9],[21,5,22,9],[25,5,26,9],[29,5,30,9],[33,5,34,9],[35,1,38,1],[35,2,38,2],[35,3,38,3],[35,4,38,4],[7,3,10,3],[7,4,10,4],[35,15,38,15],[31,11,34,11],[31,12,34,12],[31,2,34,2],[31,3,34,3],[31,4,34,4],[27,1,30,1],[27,2,30,2],[27,3,30,3],[27,4,30,4],[27,10,30,10],[27,5,28,9],[35,11,38,11],[35,12,38,12],[35,13,38,13],[19,17,21,17],[23,1,26,1],[23,2,26,2],[23,3,26,3],[23,4,26,4],[23,10,26,10],[23,17,25,17],[23,14,26,14],[23,15,26,15],[23,16,26,16],[19,1,22,1],[19,2,22,2],[19,3,22,3],[19,4,22,4],[19,10,22,10],[19,11,22,11],[19,12,22,12],[19,13,22,13],[23,5,24,9],[19,5,20,9],[27,17,29,17],[31,1,34,1],[7,10,10,10],[11,14,14,14],[11,15,14,15],[11,16,14,16],[23,11,26,11],[23,12,26,12],[23,13,26,13],[19,14,22,14],[19,15,22,15],[19,16,22,16],[11,17,13,17],[15,1,18,1],[15,2,18,2],[15,3,18,3],[15,4,18,4],[15,10,18,10],[15,17,17,17],[15,14,18,14],[15,15,18,15],[15,16,18,16],[15,11,18,11],[15,12,18,12],[4,1,4,2],[4,3,4,4],[4,6,4,8],[4,9,4,10],[4,14,4,17],[6,5,6,9],[6,10,6,13],[7,17,9,17],[11,1,14,1],[11,2,14,2],[11,3,14,3],[11,4,14,4],[11,10,14,10],[11,11,14,11],[11,12,14,12],[11,13,14,13],[7,11,10,11],[7,12,10,12],[7,13,10,13],[7,14,10,14],[7,15,10,15],[7,16,10,16],[7,1,10,1],[7,2,10,2]]}
[]
[]
[null,null,null,"          　　　　　　","令和",{"$f":"'7計画'!AS1-2018","v":2},"年",{"$f":"'7計画'!A7","v":7},"月分","　 教  員  特  殊  業  務  整  理  簿",null,null,null,null,null,null,null,"様式3"]
[]
[null,"氏　名",null,{"$f":"IF('7実績'!K12=\"\",\"\",'7実績'!K12)","v":0},null,"職員\n番号",{"$f":"IF('４(副顧問)'!G5=\"\",\"\",'４(副顧問)'!G5)","v":""},null,null,null,null,null,null,null,{"$f":"'４(副顧問)'!$O$5:$R$5","v":"0学校"}]
[]
[null,"日","曜","要　件","区　分","業　　務　　内　　容",null,null,null,null,"従　事　時　間",null,null,null,"従事場所","所属長\n確認印","従事者印","備　　考"]
[null,{"$f":"'７'!B8:B11","v":""},{"$f":"IF(B8=\"\",\"\",TEXT(DATE(2018+$F$3,$H$3,B8),\"aaa\"))","v":""},"　　　","　　　",{"$f":"IF(IF(B8=\"\",\"\",VLOOKUP(B8,'7実績'!$A$16:$BK$46,63))=\"大会\",IF(B8=\"\",\"\",VLOOKUP(B8,'7実績'!$A$16:$AO$46,22,FALSE)),IF(B8=\"\",\"\",'7実績'!$AC$4)&IF(B8=\"\",\"\",VLOOKUP(B8,'7実績'!$A$16:$AO$46,22,FALSE)))","v":""},null,null,null,null,{"$f":"IF(IF(B8=\"\",\"\",VLOOKUP(B8,'7実績'!$A$16:$AO$46,5,FALSE))=0,IF(B8=\"\",\"\",VLOOKUP(B8,'7実績'!$A$16:$AO$46,12,FALSE)),IF(B8=\"\",\"\",VLOOKUP(B8,'7実績'!$A$16:$AO$46,5,FALSE)))","v":""},"～",{"$f":"IF(IF(B8=\"\",\"\",VLOOKUP(B8,'7実績'!$A$16:$AO$46,16,FALSE))=0,IF(B8=\"\",\"\",VLOOKUP(B8,'7実績'!$A$16:$AO$46,9,FALSE)),IF(B8=\"\",\"\",VLOOKUP(B8,'7実績'!$A$16:$AO$46,16,FALSE)))","v":""},{"$f":"IF(K8=\"\",\"\",M8-K8)","v":""},{"$f":"IF(B8=\"\",\"\",VLOOKUP(B8,'7実績'!$A$16:$AO$46,34,FALSE))","v":""}]
[]
[]
[null,null,null,null,null,null,null,null,null,null,null,null,null,null,null,null,null,"　　　"]
[null,{"$f":"'７'!B12:B15","v":""},{"$f":"IF(B12=\"\",\"\",TEXT(DATE(2018+$F$3,$H$3,B12),\"aaa\"))","v":""},"　　　","　　　",{"$f":"IF(IF(B12=\"\",\"\",VLOOKUP(B12,'7実績'!$A$16:$BK$46,63))=\"大会\",IF(B12=\"\",\"\",VLOOKUP(B12,'7実績'!$A$16:$AO$46,22,FALSE)),IF(B12=\"\",\"\",'7実績'!$AC$4)&IF(B12=\"\",\"\",VLOOKUP(B12,'7実績'!$A$16:$AO$46,22,FALSE)))","v":""},null,null,null,null,{"$f":"IF(IF(B12=\"\",\"\",VLOOKUP(B12,'7実績'!$A$16:$AO$46,5,FALSE))=0,IF(B12=\"\",\"\",VLOOKUP(B12,'7実績'!$A$16:$AO$46,12,FALSE)),IF(B12=\"\",\"\",VLOOKUP(B12,'7実績'!$A$16:$AO$46,5,FALSE)))","v":""},"～",{"$f":"IF(IF(B12=\"\",\"\",VLOOKUP(B12,'7実績'!$A$16:$AO$46,16,FALSE))=0,IF(B12=\"\",\"\",VLOOKUP(B12,'7実績'!$A$16:$AO$46,9,FALSE)),IF(B12=\"\",\"\",VLOOKUP(B12,'7実績'!$A$16:$AO$46,16,FALSE)))","v":""},{"$f":"IF(K12=\"\",\"\",M12-K12)","v":""},{"$f":"IF(B12=\"\",\"\",VLOOKUP(B12,'7実績'!$A$16:$AO$46,34,FALSE))","v":""}]
[]
[]
[null,null,null,null,null,null,null,null,null,null,null,null,null,null,null,null,null,"　　　"]
[null,{"$f":"'７'!B16:B19","v":""},{"$f":"IF(B16=\"\",\"\",TEXT(DATE(2018+$F$3,$H$3,B16),\"aaa\"))","v":""},"　　　","　　　",{"$f":"IF(IF(B16=\"\",\"\",VLOOKUP(B16,'7実績'!$A$16:$BK$46,63))=\"大会\",IF(B16=\"\",\"\",VLOOKUP(B16,'7実績'!$A$16:$AO$46,22,FALSE)),IF(B16=\"\",\"\",'7実績'!$AC$4)&IF(B16=\"\",\"\",VLOOKUP(B16,'7実績'!$A$16:$AO$46,22,FALSE)))","v":""},null,null,null,null,{"$f":"IF(IF(B16=\"\",\"\",VLOOKUP(B16,'7実績'!$A$16:$AO$46,5,FALSE))=0,IF(B16=\"\",\"\",VLOOKUP(B16,'7実績'!$A$16:$AO$46,12,FALSE)),IF(B16=\"\",\"\",VLOOKUP(B16,'7実績'!$A$16:$AO$46,5,FALSE)))","v":""},"～",{"$f":"IF(IF(B16=\"\",\"\",VLOOKUP(B16,'7実績'!$A$16:$AO$46,16,FALSE))=0,IF(B16=\"\",\"\",VLOOKUP(B16,'7実績'!$A$16:$AO$46,9,FALSE)),IF(B16=\"\",\"\",VLOOKUP(B16,'7実績'!$A$16:$AO$46,16,FALSE)))","v":""},{"$f":"IF(K16=\"\",\"\",M16-K16)","v":""},{"$f":"IF(B16=\"\",\"\",VLOOKUP(B16,'7実績'!$A$16:$AO$46,34,FALSE))","v":""}]
[]
[]
[null,null,null,null,null,null,null,null,null,null,null,null,null,null,null,null,null,"　　　"]
[null,{"$f":"'７'!B20:B23","v":""},{"$f":"IF(B20=\"\",\"\",TEXT(DATE(2018+$F$3,$H$3,B20),\"aaa\"))","v":""},"　　　","　　　",{"$f":"IF(IF(B20=\"\",\"\",VLOOKUP(B20,'7実績'!$A$16:$BK$46,63))=\"大会\",IF(B20=\"\",\"\",VLOOKUP(B20,'7実績'!$A$16:$AO$46,22,FALSE)),IF(B20=\"\",\"\",'7実績'!$AC$4)&IF(B20=\"\",\"\",VLOOKUP(B20,'7実績'!$A$16:$AO$46,22,FALSE)))","v":""},null,null,null,null,{"$f":"IF(IF(B20=\"\",\"\",VLOOKUP(B20,'7実績'!$A$16:$AO$46,5,FALSE))=0,IF(B20=\"\",\"\",VLOOKUP(B20,'7実績'!$A$16:$AO$46,12,FALSE)),IF(B20=\"\",\"\",VLOOKUP(B20,'7実績'!$A$16:$AO$46,5,FALSE)))","v":""},"～",{"$f":"IF(IF(B20=\"\",\"\",VLOOKUP(B20,'7実績'!$A$16:$AO$46,16,FALSE))=0,IF(B20=\"\",\"\",VLOOKUP(B20,'7実績'!$A$16:$AO$46,9,FALSE)),IF(B20=\"\",\"\",VLOOKUP(B20,'7実績'!$A$16:$AO$46,16,FALSE)))","v":""},{"$f":"IF(K20=\"\",\"\",M20-K20)","v":""},{"$f":"IF(B20=\"\",\"\",VLOOKUP(B20,'7実績'!$A$16:$AO$46,34,FALSE))","v":""}]
[]
[]
[null,null,null,null,null,null,null,null,null,null,null,null,null,null,null,null,null,"　　　"]
[null,{"$f":"'７'!B24:B27","v":""},{"$f":"IF(B24=\"\",\"\",TEXT(DATE(2018+$F$3,$H$3,B24),\"aaa\"))","v":""},"　　　","　　　",{"$f":"IF(IF(B24=\"\",\"\",VLOOKUP(B24,'7実績'!$A$16:$BK$46,63))=\"大会\",IF(B24=\"\",\"\",VLOOKUP(B24,'7実績'!$A$16:$AO$46,22,FALSE)),IF(B24=\"\",\"\",'7実績'!$AC$4)&IF(B24=\"\",\"\",VLOOKUP(B24,'7実績'!$A$16:$AO$46,22,FALSE)))","v":""},null,null,null,null,{"$f":"IF(IF(B24=\"\",\"\",VLOOKUP(B24,'7実績'!$A$16:$AO$46,5,FALSE))=0,IF(B24=\"\",\"\",VLOOKUP(B24,'7実績'!$A$16:$AO$46,12,FALSE)),IF(B24=\"\",\"\",VLOOKUP(B24,'7実績'!$A$16:$AO$46,5,FALSE)))","v":""},"～",{"$f":"IF(IF(B24=\"\",\"\",VLOOKUP(B24,'7実績'!$A$16:$AO$46,16,FALSE))=0,IF(B24=\"\",\"\",VLOOKUP(B24,'7実績'!$A$16:$AO$46,9,FALSE)),IF(B24=\"\",\"\",VLOOKUP(B24,'7実績'!$A$16:$AO$46,16,FALSE)))","v":""},{"$f":"IF(K24=\"\",\"\",M24-K24)","v":""},{"$f":"IF(B24=\"\",\"\",VLOOKUP(B24,'7実績'!$A$16:$AO$46,34,FALSE))","v":""}]
[]
[]
[null,null,null,null,null,null,null,null,null,null,null,null,null,null,null,null,null,"　　　"]
[null,{"$f":"'７'!B28:B31","v":""},{"$f":"IF(B28=\"\",\"\",TEXT(DATE(2018+$F$3,$H$3,B28),\"aaa\"))","v":""},"　　　","　　　",{"$f":"IF(IF(B28=\"\",\"\",VLOOKUP(B28,'7実績'!$A$16:$BK$46,63))=\"大会\",IF(B28=\"\",\"\",VLOOKUP(B28,'7実績'!$A$16:$AO$46,22,FALSE)),IF(B28=\"\",\"\",'7実績'!$AC$4)&IF(B28=\"\",\"\",VLOOKUP(B28,'7実績'!$A$16:$AO$46,22,FALSE)))","v":""},null,null,null,null,{"$f":"IF(IF(B28=\"\",\"\",VLOOKUP(B28,'7実績'!$A$16:$AO$46,5,FALSE))=0,IF(B28=\"\",\"\",VLOOKUP(B28,'7実績'!$A$16:$AO$46,12,FALSE)),IF(B28=\"\",\"\",VLOOKUP(B28,'7実績'!$A$16:$AO$46,5,FALSE)))","v":""},"～",{"$f":"IF(IF(B28=\"\",\"\",VLOOKUP(B28,'7実績'!$A$16:$AO$46,16,FALSE))=0,IF(B28=\"\",\"\",VLOOKUP(B28,'7実績'!$A$16:$AO$46,9,FALSE)),IF(B28=\"\",\"\",VLOOKUP(B28,'7実績'!$A$16:$AO$46,16,FALSE)))","v":""},{"$f":"IF(K28=\"\",\"\",M28-K28)","v":""},{"$f":"IF(B28=\"\",\"\",VLOOKUP(B28,'7実績'!$A$16:$AO$46,34,FALSE))","v":""}]
[]
[]
[null,null,null,null,null,null,null,null,null,null,null,null,null,null,null,null,null,"　　　"]
[null,{"$f":"'７'!B32:B35","v":""},{"$f":"IF(B32=\"\",\"\",TEXT(DATE(2018+$F$3,$H$3,B32),\"aaa\"))","v":""},"　　　","　　　",{"$f":"IF(IF(B32=\"\",\"\",VLOOKUP(B32,'7実績'!$A$16:$BK$46,63))=\"大会\",IF(B32=\"\",\"\",VLOOKUP(B32,'7実績'!$A$16:$AO$46,22,FALSE)),IF(B32=\"\",\"\",'7実績'!$AC$4)&IF(B32=\"\",\"\",VLOOKUP(B32,'7実績'!$A$16:$AO$46,22,FALSE)))","v":""},null,null,null,null,{"$f":"IF(IF(B32=\"\",\"\",VLOOKUP(B32,'7実績'!$A$16:$AO$46,5,FALSE))=0,IF(B32=\"\",\"\",VLOOKUP(B32,'7実績'!$A$16:$AO$46,12,FALSE)),IF(B32=\"\",\"\",VLOOKUP(B32,'7実績'!$A$16:$AO$46,5,FALSE)))","v":""},"～",{"$f":"IF(IF(B32=\"\",\"\",VLOOKUP(B32,'7実績'!$A$16:$AO$46,16,FALSE))=0,IF(B32=\"\",\"\",VLOOKUP(B32,'7実績'!$A$16:$AO$46,9,FALSE)),IF(B32=\"\",\"\",VLOOKUP(B32,'7実績'!$A$16:$AO$46,16,FALSE)))","v":""},{"$f":"IF(K32=\"\",\"\",M32-K32)","v":""},{"$f":"IF(B32=\"\",\"\",VLOOKUP(B32,'7実績'!$A$16:$AO$46,34,FALSE))","v":""}]
[]
[]
[null,null,null,null,null,null,null,null,null,null,null,null,null,null,null,null,null,"　　　"]
[null,{"$f":"'７'!B36:B39","v":""},{"$f":"IF(B36=\"\",\"\",TEXT(DATE(2018+$F$3,$H$3,B36),\"aaa\"))","v":""},"　　　","　　　",{"$f":"IF(IF(B36=\"\",\"\",VLOOKUP(B36,'7実績'!$A$16:$BK$46,63))=\"大会\",IF(B36=\"\",\"\",VLOOKUP(B36,'7実績'!$A$16:$AO$46,22,FALSE)),IF(B36=\"\",\"\",'7実績'!$AC$4)&IF(B36=\"\",\"\",VLOOKUP(B36,'7実績'!$A$16:$AO$46,22,FALSE)))","v":""},null,null,null,null,{"$f":"IF(IF(B36=\"\",\"\",VLOOKUP(B36,'7実績'!$A$16:$AO$46,5,FALSE))=0,IF(B36=\"\",\"\",VLOOKUP(B36,'7実績'!$A$16:$AO$46,12,FALSE)),IF(B36=\"\",\"\",VLOOKUP(B36,'7実績'!$A$16:$AO$46,5,FALSE)))","v":""},"～",{"$f":"IF(IF(B36=\"\",\"\",VLOOKUP(B36,'7実績'!$A$16:$AO$46,16,FALSE))=0,IF(B36=\"\",\"\",VLOOKUP(B36,'7実績'!$A$16:$AO$46,9,FALSE)),IF(B36=\"\",\"\",VLOOKUP(B36,'7実績'!$A$16:$AO$46,16,FALSE)))","v":""},{"$f":"IF(K36=\"\",\"\",M36-K36)","v":""},{"$f":"IF(B36=\"\",\"\",VLOOKUP(B36,'7実績'!$A$16:$AO$46,34,FALSE))","v":""}]
[]
[]
[null,null,null,null,null,null,null,null,null,null,null,null,null,null,null,null,null,"　　　"]
[null,{"$f":"'７'!B40:B43","v":""},{"$f":"IF(B40=\"\",\"\",TEXT(DATE(2018+$F$3,$H$3,B40),\"aaa\"))","v":""},"　　　","　　　",{"$f":"IF(IF(B40=\"\",\"\",VLOOKUP(B40,'7実績'!$A$16:$BK$46,63))=\"大会\",IF(B40=\"\",\"\",VLOOKUP(B40,'7実績'!$A$16:$AO$46,22,FALSE)),IF(B40=\"\",\"\",'7実績'!$AC$4)&IF(B40=\"\",\"\",VLOOKUP(B40,'7実績'!$A$16:$AO$46,22,FALSE)))","v":""},null,null,null,null,{"$f":"IF(IF(B40=\"\",\"\",VLOOKUP(B40,'7実績'!$A$16:$AO$46,5,FALSE))=0,IF(B40=\"\",\"\",VLOOKUP(B40,'7実績'!$A$16:$AO$46,12,FALSE)),IF(B40=\"\",\"\",VLOOKUP(B40,'7実績'!$A$16:$AO$46,5,FALSE)))","v":""},"～",{"$f":"IF(IF(B40=\"\",\"\",VLOOKUP(B40,'7実績'!$A$16:$AO$46,16,FALSE))=0,IF(B40=\"\",\"\",VLOOKUP(B40,'7実績'!$A$16:$AO$46,9,FALSE)),IF(B40=\"\",\"\",VLOOKUP(B40,'7実績'!$A$16:$AO$46,16,FALSE)))","v":""},{"$f":"IF(K40=\"\",\"\",M40-K40)","v":""},{"$f":"IF(B40=\"\",\"\",VLOOKUP(B40,'7実績'!$A$16:$AO$46,34,FALSE))","v":""}]
[]
[]
[null,null,null,null,null,null,null,null,null,null,null,null,null,null,null,null,null,"　　　"]
[null,"( 記入要領等 )"]
[null,"　         　１　この整理簿は、教員特殊業務手当及び面接指導手当の支給対象となるものについて、当該手当の支給に必要な事の整理をするものであること。"]
[null,"　　         ２　記入にあたっては、次のように記入すること。"]
[null,"　　　         　「要件」欄：週休日等　　　半日振替日　　　　その他"]
[null,"　　　　         「区分」欄：非常災害　　救急業務　　補導業務　　修学旅行等　　対外運動等　　入学試験業務　　　部活動４　　　　部活動３　　　部活動２　　　面接指導　　　　　"]
[null,"　　　　　　　　　　         ※部活動４は4時間以上、部活動３は３時間以上４時間未満、部活動２は2時間以上３時間未満をいう。"]
[null,"　　　　         「業務内容」欄：職員が従事した業務について、その内容を簡潔に記入すること。"]
[null,"　　　         　「従事時間」欄：左欄に手当の支給対象となる業務の終始の時刻を、右欄には時間を記入すること。"]
[null,"　　　         　「備考」欄：この整理簿を補足する事項を記入すること。"]

{"sheet":"８(副顧問)","index":42,"n_rows":52,"n_cols":18,"rows_kept":52,"cut":false,"hidden":false,"merged":[[15,5,16,9],[11,5,12,9],[7,5,8,9],[31,13,34,13],[27,14,30,14],[27,15,30,15],[35,16,38,16],[31,5,32,9],[27,11,30,11],[27,12,30,12],[27,13,30,13],[31,10,34,10],[27,16,30,16],[15,13,18,13],[35,17,37,17],[39,1,42,1],[39,2,42,2],[39,3,42,3],[39,4,42,4],[37,5,38,9],[41,5,42,9],[39,10,42,10],[39,17,41,17],[39,11,42,11],[39,12,42,12],[39,13,42,13],[39,14,42,14],[39,15,42,15],[39,16,42,16],[35,14,38,14],[35,10,38,10],[39,5,40,9],[35,5,36,9],[31,17,33,17],[31,14,34,14],[31,15,34,15],[31,16,34,16],[43,1,43,3],[9,5,10,9],[13,5,14,9],[17,5,18,9],[21,5,22,9],[25,5,26,9],[29,5,30,9],[33,5,34,9],[35,1,38,1],[35,2,38,2],[35,3,38,3],[35,4,38,4],[7,3,10,3],[7,4,10,4],[35,15,38,15],[31,11,34,11],[31,12,34,12],[31,2,34,2],[31,3,34,3],[31,4,34,4],[27,1,30,1],[27,2,30,2],[27,3,30,3],[27,4,30,4],[27,10,30,10],[27,5,28,9],[35,11,38,11],[35,12,38,12],[35,13,38,13],[19,17,21,17],[23,1,26,1],[23,2,26,2],[23,3,26,3],[23,4,26,4],[23,10,26,10],[23,17,25,17],[23,14,26,14],[23,15,26,15],[23,16,26,16],[19,1,22,1],[19,2,22,2],[19,3,22,3],[19,4,22,4],[19,10,22,10],[19,11,22,11],[19,12,22,12],[19,13,22,13],[23,5,24,9],[19,5,20,9],[27,17,29,17],[31,1,34,1],[7,10,10,10],[11,14,14,14],[11,15,14,15],[11,16,14,16],[23,11,26,11],[23,12,26,12],[23,13,26,13],[19,14,22,14],[19,15,22,15],[19,16,22,16],[11,17,13,17],[15,1,18,1],[15,2,18,2],[15,3,18,3],[15,4,18,4],[15,10,18,10],[15,17,17,17],[15,14,18,14],[15,15,18,15],[15,16,18,16],[15,11,18,11],[15,12,18,12],[4,1,4,2],[4,3,4,4],[4,6,4,8],[4,9,4,10],[4,14,4,17],[6,5,6,9],[6,10,6,13],[7,17,9,17],[11,1,14,1],[11,2,14,2],[11,3,14,3],[11,4,14,4],[11,10,14,10],[11,11,14,11],[11,12,14,12],[11,13,14,13],[7,11,10,11],[7,12,10,12],[7,13,10,13],[7,14,10,14],[7,15,10,15],[7,16,10,16],[7,1,10,1],[7,2,10,2]]}
[]
[]
[null,null,null,"          　　　　　　","令和",{"$f":"'8計画'!AS1-2018","v":2},"年",{"$f":"'8計画'!A7","v":8},"月分","　 教  員  特  殊  業  務  整  理  簿",null,null,null,null,null,null,null,"様式3"]
[]
[null,"氏　名",null,{"$f":"IF('8実績'!K12=\"\",\"\",'8実績'!K12)","v":0},null,"職員\n番号",{"$f":"IF('４(副顧問)'!G5=\"\",\"\",'４(副顧問)'!G5)","v":""},null,null,null,null,null,null,null,{"$f":"'４(副顧問)'!$O$5:$R$5","v":"0学校"}]
[]
[null,"日","曜","要　件","区　分","業　　務　　内　　容",null,null,null,null,"従　事　時　間",null,null,null,"従事場所","所属長\n確認印","従事者印","備　　考"]
[null,{"$f":"'８'!B8:B11","v":""},{"$f":"IF(B8=\"\",\"\",TEXT(DATE(2018+$F$3,$H$3,B8),\"aaa\"))","v":""},"　　　","　　　",{"$f":"IF(IF(B8=\"\",\"\",VLOOKUP(B8,'8実績'!$A$16:$BK$46,63))=\"大会\",IF(B8=\"\",\"\",VLOOKUP(B8,'8実績'!$A$16:$AO$46,22,FALSE)),IF(B8=\"\",\"\",'8実績'!$AC$4)&IF(B8=\"\",\"\",VLOOKUP(B8,'8実績'!$A$16:$AO$46,22,FALSE)))","v":""},null,null,null,null,{"$f":"IF(IF(B8=\"\",\"\",VLOOKUP(B8,'8実績'!$A$16:$AO$46,5,FALSE))=0,IF(B8=\"\",\"\",VLOOKUP(B8,'8実績'!$A$16:$AO$46,12,FALSE)),IF(B8=\"\",\"\",VLOOKUP(B8,'8実績'!$A$16:$AO$46,5,FALSE)))","v":""},"～",{"$f":"IF(IF(B8=\"\",\"\",VLOOKUP(B8,'8実績'!$A$16:$AO$46,16,FALSE))=0,IF(B8=\"\",\"\",VLOOKUP(B8,'8実績'!$A$16:$AO$46,9,FALSE)),IF(B8=\"\",\"\",VLOOKUP(B8,'8実績'!$A$16:$AO$46,16,FALSE)))","v":""},{"$f":"IF(K8=\"\",\"\",M8-K8)","v":""},{"$f":"IF(B8=\"\",\"\",VLOOKUP(B8,'8実績'!$A$16:$AO$46,34,FALSE))","v":""}]
[]
[]
[null,null,null,null,null,null,null,null,null,null,null,null,null,null,null,null,null,"　　　"]
[null,{"$f":"'８'!B12:B15","v":""},{"$f":"IF(B12=\"\",\"\",TEXT(DATE(2018+$F$3,$H$3,B12),\"aaa\"))","v":""},"　　　","　　　",{"$f":"IF(IF(B12=\"\",\"\",VLOOKUP(B12,'8実績'!$A$16:$BK$46,63))=\"大会\",IF(B12=\"\",\"\",VLOOKUP(B12,'8実績'!$A$16:$AO$46,22,FALSE)),IF(B12=\"\",\"\",'8実績'!$AC$4)&IF(B12=\"\",\"\",VLOOKUP(B12,'8実績'!$A$16:$AO$46,22,FALSE)))","v":""},null,null,null,null,{"$f":"IF(IF(B12=\"\",\"\",VLOOKUP(B12,'8実績'!$A$16:$AO$46,5,FALSE))=0,IF(B12=\"\",\"\",VLOOKUP(B12,'8実績'!$A$16:$AO$46,12,FALSE)),IF(B12=\"\",\"\",VLOOKUP(B12,'8実績'!$A$16:$AO$46,5,FALSE)))","v":""},"～",{"$f":"IF(IF(B12=\"\",\"\",VLOOKUP(B12,'8実績'!$A$16:$AO$46,16,FALSE))=0,IF(B12=\"\",\"\",VLOOKUP(B12,'8実績'!$A$16:$AO$46,9,FALSE)),IF(B12=\"\",\"\",VLOOKUP(B12,'8実績'!$A$16:$AO$46,16,FALSE)))","v":""},{"$f":"IF(K12=\"\",\"\",M12-K12)","v":""},{"$f":"IF(B12=\"\",\"\",VLOOKUP(B12,'8実績'!$A$16:$AO$46,34,FALSE))","v":""}]
[]
[]
[null,null,null,null,null,null,null,null,null,null,null,null,null,null,null,null,null,"　　　"]
[null,{"$f":"'８'!B16:B19","v":""},{"$f":"IF(B16=\"\",\"\",TEXT(DATE(2018+$F$3,$H$3,B16),\"aaa\"))","v":""},"　　　","　　　",{"$f":"IF(IF(B16=\"\",\"\",VLOOKUP(B16,'8実績'!$A$16:$BK$46,63))=\"大会\",IF(B16=\"\",\"\",VLOOKUP(B16,'8実績'!$A$16:$AO$46,22,FALSE)),IF(B16=\"\",\"\",'8実績'!$AC$4)&IF(B16=\"\",\"\",VLOOKUP(B16,'8実績'!$A$16:$AO$46,22,FALSE)))","v":""},null,null,null,null,{"$f":"IF(IF(B16=\"\",\"\",VLOOKUP(B16,'8実績'!$A$16:$AO$46,5,FALSE))=0,IF(B16=\"\",\"\",VLOOKUP(B16,'8実績'!$A$16:$AO$46,12,FALSE)),IF(B16=\"\",\"\",VLOOKUP(B16,'8実績'!$A$16:$AO$46,5,FALSE)))","v":""},"～",{"$f":"IF(IF(B16=\"\",\"\",VLOOKUP(B16,'8実績'!$A$16:$AO$46,16,FALSE))=0,IF(B16=\"\",\"\",VLOOKUP(B16,'8実績'!$A$16:$AO$46,9,FALSE)),IF(B16=\"\",\"\",VLOOKUP(B16,'8実績'!$A$16:$AO$46,16,FALSE)))","v":""},{"$f":"IF(K16=\"\",\"\",M16-K16)","v":""},{"$f":"IF(B16=\"\",\"\",VLOOKUP(B16,'8実績'!$A$16:$AO$46,34,FALSE))","v":""}]
[]
[]
[null,null,null,null,null,null,null,null,null,null,null,null,null,null,null,null,null,"　　　"]
[null,{"$f":"'８'!B20:B23","v":""},{"$f":"IF(B20=\"\",\"\",TEXT(DATE(2018+$F$3,$H$3,B20),\"aaa\"))","v":""},"　　　","　　　",{"$f":"IF(IF(B20=\"\",\"\",VLOOKUP(B20,'8実績'!$A$16:$BK$46,63))=\"大会\",IF(B20=\"\",\"\",VLOOKUP(B20,'8実績'!$A$16:$AO$46,22,FALSE)),IF(B20=\"\",\"\",'8実績'!$AC$4)&IF(B20=\"\",\"\",VLOOKUP(B20,'8実績'!$A$16:$AO$46,22,FALSE)))","v":""},null,null,null,null,{"$f":"IF(IF(B20=\"\",\"\",VLOOKUP(B20,'8実績'!$A$16:$AO$46,5,FALSE))=0,IF(B20=\"\",\"\",VLOOKUP(B20,'8実績'!$A$16:$AO$46,12,FALSE)),IF(B20=\"\",\"\",VLOOKUP(B20,'8実績'!$A$16:$AO$46,5,FALSE)))","v":""},"～",{"$f":"IF(IF(B20=\"\",\"\",VLOOKUP(B20,'8実績'!$A$16:$AO$46,16,FALSE))=0,IF(B20=\"\",\"\",VLOOKUP(B20,'8実績'!$A$16:$AO$46,9,FALSE)),IF(B20=\"\",\"\",VLOOKUP(B20,'8実績'!$A$16:$AO$46,16,FALSE)))","v":""},{"$f":"IF(K20=\"\",\"\",M20-K20)","v":""},{"$f":"IF(B20=\"\",\"\",VLOOKUP(B20,'8実績'!$A$16:$AO$46,34,FALSE))","v":""}]
[]
[]
[null,null,null,null,null,null,null,null,null,null,null,null,null,null,null,null,null,"　　　"]
[null,{"$f":"'８'!B24:B27","v":""},{"$f":"IF(B24=\"\",\"\",TEXT(DATE(2018+$F$3,$H$3,B24),\"aaa\"))","v":""},"　　　","　　　",{"$f":"IF(IF(B24=\"\",\"\",VLOOKUP(B24,'8実績'!$A$16:$BK$46,63))=\"大会\",IF(B24=\"\",\"\",VLOOKUP(B24,'8実績'!$A$16:$AO$46,22,FALSE)),IF(B24=\"\",\"\",'8実績'!$AC$4)&IF(B24=\"\",\"\",VLOOKUP(B24,'8実績'!$A$16:$AO$46,22,FALSE)))","v":""},null,null,null,null,{"$f":"IF(IF(B24=\"\",\"\",VLOOKUP(B24,'8実績'!$A$16:$AO$46,5,FALSE))=0,IF(B24=\"\",\"\",VLOOKUP(B24,'8実績'!$A$16:$AO$46,12,FALSE)),IF(B24=\"\",\"\",VLOOKUP(B24,'8実績'!$A$16:$AO$46,5,FALSE)))","v":""},"～",{"$f":"IF(IF(B24=\"\",\"\",VLOOKUP(B24,'8実績'!$A$16:$AO$46,16,FALSE))=0,IF(B24=\"\",\"\",VLOOKUP(B24,'8実績'!$A$16:$AO$46,9,FALSE)),IF(B24=\"\",\"\",VLOOKUP(B24,'8実績'!$A$16:$AO$46,16,FALSE)))","v":""},{"$f":"IF(K24=\"\",\"\",M24-K24)","v":""},{"$f":"IF(B24=\"\",\"\",VLOOKUP(B24,'8実績'!$A$16:$AO$46,34,FALSE))","v":""}]
[]
[]
[null,null,null,null,null,null,null,null,null,null,null,null,null,null,null,null,null,"　　　"]
[null,{"$f":"'８'!B28:B31","v":""},{"$f":"IF(B28=\"\",\"\",TEXT(DATE(2018+$F$3,$H$3,B28),\"aaa\"))","v":""},"　　　","　　　",{"$f":"IF(IF(B28=\"\",\"\",VLOOKUP(B28,'8実績'!$A$16:$BK$46,63))=\"大会\",IF(B28=\"\",\"\",VLOOKUP(B28,'8実績'!$A$16:$AO$46,22,FALSE)),IF(B28=\"\",\"\",'8実績'!$AC$4)&IF(B28=\"\",\"\",VLOOKUP(B28,'8実績'!$A$16:$AO$46,22,FALSE)))","v":""},null,null,null,null,{"$f":"IF(IF(B28=\"\",\"\",VLOOKUP(B28,'8実績'!$A$16:$AO$46,5,FALSE))=0,IF(B28=\"\",\"\",VLOOKUP(B28,'8実績'!$A$16:$AO$46,12,FALSE)),IF(B28=\"\",\"\",VLOOKUP(B28,'8実績'!$A$16:$AO$46,5,FALSE)))","v":""},"～",{"$f":"IF(IF(B28=\"\",\"\",VLOOKUP(B28,'8実績'!$A$16:$AO$46,16,FALSE))=0,IF(B28=\"\",\"\",VLOOKUP(B28,'8実績'!$A$16:$AO$46,9,FALSE)),IF(B28=\"\",\"\",VLOOKUP(B28,'8実績'!$A$16:$AO$46,16,FALSE)))","v":""},{"$f":"IF(K28=\"\",\"\",M28-K28)","v":""},{"$f":"IF(B28=\"\",\"\",VLOOKUP(B28,'8実績'!$A$16:$AO$46,34,FALSE))","v":""}]
[]
[]
[null,null,null,null,null,null,null,null,null,null,null,null,null,null,null,null,null,"　　　"]
[null,{"$f":"'８'!B32:B35","v":""},{"$f":"IF(B32=\"\",\"\",TEXT(DATE(2018+$F$3,$H$3,B32),\"aaa\"))","v":""},"　　　","　　　",{"$f":"IF(IF(B32=\"\",\"\",VLOOKUP(B32,'8実績'!$A$16:$BK$46,63))=\"大会\",IF(B32=\"\",\"\",VLOOKUP(B32,'8実績'!$A$16:$AO$46,22,FALSE)),IF(B32=\"\",\"\",'8実績'!$AC$4)&IF(B32=\"\",\"\",VLOOKUP(B32,'8実績'!$A$16:$AO$46,22,FALSE)))","v":""},null,null,null,null,{"$f":"IF(IF(B32=\"\",\"\",VLOOKUP(B32,'8実績'!$A$16:$AO$46,5,FALSE))=0,IF(B32=\"\",\"\",VLOOKUP(B32,'8実績'!$A$16:$AO$46,12,FALSE)),IF(B32=\"\",\"\",VLOOKUP(B32,'8実績'!$A$16:$AO$46,5,FALSE)))","v":""},"～",{"$f":"IF(IF(B32=\"\",\"\",VLOOKUP(B32,'8実績'!$A$16:$AO$46,16,FALSE))=0,IF(B32=\"\",\"\",VLOOKUP(B32,'8実績'!$A$16:$AO$46,9,FALSE)),IF(B32=\"\",\"\",VLOOKUP(B32,'8実績'!$A$16:$AO$46,16,FALSE)))","v":""},{"$f":"IF(K32=\"\",\"\",M32-K32)","v":""},{"$f":"IF(B32=\"\",\"\",VLOOKUP(B32,'8実績'!$A$16:$AO$46,34,FALSE))","v":""}]
[]
[]
[null,null,null,null,null,null,null,null,null,null,null,null,null,null,null,null,null,"　　　"]
[null,{"$f":"'８'!B36:B39","v":""},{"$f":"IF(B36=\"\",\"\",TEXT(DATE(2018+$F$3,$H$3,B36),\"aaa\"))","v":""},"　　　","　　　",{"$f":"IF(IF(B36=\"\",\"\",VLOOKUP(B36,'8実績'!$A$16:$BK$46,63))=\"大会\",IF(B36=\"\",\"\",VLOOKUP(B36,'8実績'!$A$16:$AO$46,22,FALSE)),IF(B36=\"\",\"\",'8実績'!$AC$4)&IF(B36=\"\",\"\",VLOOKUP(B36,'8実績'!$A$16:$AO$46,22,FALSE)))","v":""},null,null,null,null,{"$f":"IF(IF(B36=\"\",\"\",VLOOKUP(B36,'8実績'!$A$16:$AO$46,5,FALSE))=0,IF(B36=\"\",\"\",VLOOKUP(B36,'8実績'!$A$16:$AO$46,12,FALSE)),IF(B36=\"\",\"\",VLOOKUP(B36,'8実績'!$A$16:$AO$46,5,FALSE)))","v":""},"～",{"$f":"IF(IF(B36=\"\",\"\",VLOOKUP(B36,'8実績'!$A$16:$AO$46,16,FALSE))=0,IF(B36=\"\",\"\",VLOOKUP(B36,'8実績'!$A$16:$AO$46,9,FALSE)),IF(B36=\"\",\"\",VLOOKUP(B36,'8実績'!$A$16:$AO$46,16,FALSE)))","v":""},{"$f":"IF(K36=\"\",\"\",M36-K36)","v":""},{"$f":"IF(B36=\"\",\"\",VLOOKUP(B36,'8実績'!$A$16:$AO$46,34,FALSE))","v":""}]
[]
[]
[null,null,null,null,null,null,null,null,null,null,null,null,null,null,null,null,null,"　　　"]
[null,{"$f":"'８'!B40:B43","v":""},{"$f":"IF(B40=\"\",\"\",TEXT(DATE(1988+$F$3,$H$3,B40),\"aaa\"))","v":""},"　　　","　　　",{"$f":"IF(IF(B40=\"\",\"\",VLOOKUP(B40,'8実績'!$A$16:$BK$46,63))=\"大会\",IF(B40=\"\",\"\",VLOOKUP(B40,'8実績'!$A$16:$AO$46,22,FALSE)),IF(B40=\"\",\"\",'8実績'!$AC$4)&IF(B40=\"\",\"\",VLOOKUP(B40,'8実績'!$A$16:$AO$46,22,FALSE)))","v":""},null,null,null,null,{"$f":"IF(IF(B40=\"\",\"\",VLOOKUP(B40,'8実績'!$A$16:$AO$46,5,FALSE))=0,IF(B40=\"\",\"\",VLOOKUP(B40,'8実績'!$A$16:$AO$46,12,FALSE)),IF(B40=\"\",\"\",VLOOKUP(B40,'8実績'!$A$16:$AO$46,5,FALSE)))","v":""},"～",{"$f":"IF(IF(B40=\"\",\"\",VLOOKUP(B40,'8実績'!$A$16:$AO$46,16,FALSE))=0,IF(B40=\"\",\"\",VLOOKUP(B40,'8実績'!$A$16:$AO$46,9,FALSE)),IF(B40=\"\",\"\",VLOOKUP(B40,'8実績'!$A$16:$AO$46,16,FALSE)))","v":""},{"$f":"IF(K40=\"\",\"\",M40-K40)","v":""},{"$f":"IF(B40=\"\",\"\",VLOOKUP(B40,'8実績'!$A$16:$AO$46,34,FALSE))","v":""}]
[]
[]
[null,null,null,null,null,null,null,null,null,null,null,null,null,null,null,null,null,"　　　"]
[null,"( 記入要領等 )"]
[null,"　         　１　この整理簿は、教員特殊業務手当及び面接指導手当の支給対象となるものについて、当該手当の支給に必要な事の整理をするものであること。"]
[null,"　　         ２　記入にあたっては、次のように記入すること。"]
[null,"　　　         　「要件」欄：週休日等　　　半日振替日　　　　その他"]
[null,"　　　　         「区分」欄：非常災害　　救急業務　　補導業務　　修学旅行等　　対外運動等　　入学試験業務　　　部活動４　　　　部活動３　　　部活動２　　　面接指導　　　　　"]
[null,"　　　　　　　　　　         ※部活動４は4時間以上、部活動３は３時間以上４時間未満、部活動２は2時間以上３時間未満をいう。"]
[null,"　　　　         「業務内容」欄：職員が従事した業務について、その内容を簡潔に記入すること。"]
[null,"　　　         　「従事時間」欄：左欄に手当の支給対象となる業務の終始の時刻を、右欄には時間を記入すること。"]
[null,"　　　         　「備考」欄：この整理簿を補足する事項を記入すること。"]

{"sheet":"９(副顧問)","index":43,"n_rows":52,"n_cols":18,"rows_kept":52,"cut":false,"hidden":false,"merged":[[15,5,16,9],[11,5,12,9],[7,5,8,9],[31,13,34,13],[27,14,30,14],[27,15,30,15],[35,16,38,16],[31,5,32,9],[27,11,30,11],[27,12,30,12],[27,13,30,13],[31,10,34,10],[27,16,30,16],[15,13,18,13],[35,17,37,17],[39,1,42,1],[39,2,42,2],[39,3,42,3],[39,4,42,4],[37,5,38,9],[41,5,42,9],[39,10,42,10],[39,17,41,17],[39,11,42,11],[39,12,42,12],[39,13,42,13],[39,14,42,14],[39,15,42,15],[39,16,42,16],[35,14,38,14],[35,10,38,10],[39,5,40,9],[35,5,36,9],[31,17,33,17],[31,14,34,14],[31,15,34,15],[31,16,34,16],[43,1,43,3],[9,5,10,9],[13,5,14,9],[17,5,18,9],[21,5,22,9],[25,5,26,9],[29,5,30,9],[33,5,34,9],[35,1,38,1],[35,2,38,2],[35,3,38,3],[35,4,38,4],[7,3,10,3],[7,4,10,4],[35,15,38,15],[31,11,34,11],[31,12,34,12],[31,2,34,2],[31,3,34,3],[31,4,34,4],[27,1,30,1],[27,2,30,2],[27,3,30,3],[27,4,30,4],[27,10,30,10],[27,5,28,9],[35,11,38,11],[35,12,38,12],[35,13,38,13],[19,17,21,17],[23,1,26,1],[23,2,26,2],[23,3,26,3],[23,4,26,4],[23,10,26,10],[23,17,25,17],[23,14,26,14],[23,15,26,15],[23,16,26,16],[19,1,22,1],[19,2,22,2],[19,3,22,3],[19,4,22,4],[19,10,22,10],[19,11,22,11],[19,12,22,12],[19,13,22,13],[23,5,24,9],[19,5,20,9],[27,17,29,17],[31,1,34,1],[7,10,10,10],[11,14,14,14],[11,15,14,15],[11,16,14,16],[23,11,26,11],[23,12,26,12],[23,13,26,13],[19,14,22,14],[19,15,22,15],[19,16,22,16],[11,17,13,17],[15,1,18,1],[15,2,18,2],[15,3,18,3],[15,4,18,4],[15,10,18,10],[15,17,17,17],[15,14,18,14],[15,15,18,15],[15,16,18,16],[15,11,18,11],[15,12,18,12],[4,1,4,2],[4,3,4,4],[4,6,4,8],[4,9,4,10],[4,14,4,17],[6,5,6,9],[6,10,6,13],[7,17,9,17],[11,1,14,1],[11,2,14,2],[11,3,14,3],[11,4,14,4],[11,10,14,10],[11,11,14,11],[11,12,14,12],[11,13,14,13],[7,11,10,11],[7,12,10,12],[7,13,10,13],[7,14,10,14],[7,15,10,15],[7,16,10,16],[7,1,10,1],[7,2,10,2]]}
[]
[]
[null,null,null,"          　　　　　　","令和",{"$f":"'9計画'!AS1-2018","v":2},"年",{"$f":"'9計画'!A7","v":9},"月分","　 教  員  特  殊  業  務  整  理  簿",null,null,null,null,null,null,null,"様式3"]
[]
[null,"氏　名",null,{"$f":"IF('9実績'!K12=\"\",\"\",'9実績'!K12)","v":0},null,"職員\n番号",{"$f":"IF('４(副顧問)'!G5=\"\",\"\",'４(副顧問)'!G5)","v":""},null,null,null,null,null,null,null,{"$f":"'４(副顧問)'!$O$5:$R$5","v":"0学校"}]
[]
[null,"日","曜","要　件","区　分","業　　務　　内　　容",null,null,null,null,"従　事　時　間",null,null,null,"従事場所","所属長\n確認印","従事者印","備　　考"]
[null,{"$f":"'９'!B8:B11","v":""},{"$f":"IF(B8=\"\",\"\",TEXT(DATE(2018+$F$3,$H$3,B8),\"aaa\"))","v":""},"　　　","　　　",{"$f":"IF(IF(B8=\"\",\"\",VLOOKUP(B8,'9実績'!$A$16:$BK$46,63))=\"大会\",IF(B8=\"\",\"\",VLOOKUP(B8,'9実績'!$A$16:$AO$46,22,FALSE)),IF(B8=\"\",\"\",'9実績'!$AC$4)&IF(B8=\"\",\"\",VLOOKUP(B8,'9実績'!$A$16:$AO$46,22,FALSE)))","v":""},null,null,null,null,{"$f":"IF(IF(B8=\"\",\"\",VLOOKUP(B8,'9実績'!$A$16:$AO$46,5,FALSE))=0,IF(B8=\"\",\"\",VLOOKUP(B8,'9実績'!$A$16:$AO$46,12,FALSE)),IF(B8=\"\",\"\",VLOOKUP(B8,'9実績'!$A$16:$AO$46,5,FALSE)))","v":""},"～",{"$f":"IF(IF(B8=\"\",\"\",VLOOKUP(B8,'9実績'!$A$16:$AO$46,16,FALSE))=0,IF(B8=\"\",\"\",VLOOKUP(B8,'9実績'!$A$16:$AO$46,9,FALSE)),IF(B8=\"\",\"\",VLOOKUP(B8,'9実績'!$A$16:$AO$46,16,FALSE)))","v":""},{"$f":"IF(K8=\"\",\"\",M8-K8)","v":""},{"$f":"IF(B8=\"\",\"\",VLOOKUP(B8,'9実績'!$A$16:$AO$46,34,FALSE))","v":""}]
[]
[]
[null,null,null,null,null,null,null,null,null,null,null,null,null,null,null,null,null,"　　　"]
[null,{"$f":"'９'!B12:B15","v":""},{"$f":"IF(B12=\"\",\"\",TEXT(DATE(2018+$F$3,$H$3,B12),\"aaa\"))","v":""},"　　　","　　　",{"$f":"IF(IF(B12=\"\",\"\",VLOOKUP(B12,'9実績'!$A$16:$BK$46,63))=\"大会\",IF(B12=\"\",\"\",VLOOKUP(B12,'9実績'!$A$16:$AO$46,22,FALSE)),IF(B12=\"\",\"\",'9実績'!$AC$4)&IF(B12=\"\",\"\",VLOOKUP(B12,'9実績'!$A$16:$AO$46,22,FALSE)))","v":""},null,null,null,null,{"$f":"IF(IF(B12=\"\",\"\",VLOOKUP(B12,'9実績'!$A$16:$AO$46,5,FALSE))=0,IF(B12=\"\",\"\",VLOOKUP(B12,'9実績'!$A$16:$AO$46,12,FALSE)),IF(B12=\"\",\"\",VLOOKUP(B12,'9実績'!$A$16:$AO$46,5,FALSE)))","v":""},"～",{"$f":"IF(IF(B12=\"\",\"\",VLOOKUP(B12,'9実績'!$A$16:$AO$46,16,FALSE))=0,IF(B12=\"\",\"\",VLOOKUP(B12,'9実績'!$A$16:$AO$46,9,FALSE)),IF(B12=\"\",\"\",VLOOKUP(B12,'9実績'!$A$16:$AO$46,16,FALSE)))","v":""},{"$f":"IF(K12=\"\",\"\",M12-K12)","v":""},{"$f":"IF(B12=\"\",\"\",VLOOKUP(B12,'9実績'!$A$16:$AO$46,34,FALSE))","v":""}]
[]
[]
[null,null,null,null,null,null,null,null,null,null,null,null,null,null,null,null,null,"　　　"]
[null,{"$f":"'９'!B16:B19","v":""},{"$f":"IF(B16=\"\",\"\",TEXT(DATE(2018+$F$3,$H$3,B16),\"aaa\"))","v":""},"　　　","　　　",{"$f":"IF(IF(B16=\"\",\"\",VLOOKUP(B16,'9実績'!$A$16:$BK$46,63))=\"大会\",IF(B16=\"\",\"\",VLOOKUP(B16,'9実績'!$A$16:$AO$46,22,FALSE)),IF(B16=\"\",\"\",'9実績'!$AC$4)&IF(B16=\"\",\"\",VLOOKUP(B16,'9実績'!$A$16:$AO$46,22,FALSE)))","v":""},null,null,null,null,{"$f":"IF(IF(B16=\"\",\"\",VLOOKUP(B16,'9実績'!$A$16:$AO$46,5,FALSE))=0,IF(B16=\"\",\"\",VLOOKUP(B16,'9実績'!$A$16:$AO$46,12,FALSE)),IF(B16=\"\",\"\",VLOOKUP(B16,'9実績'!$A$16:$AO$46,5,FALSE)))","v":""},"～",{"$f":"IF(IF(B16=\"\",\"\",VLOOKUP(B16,'9実績'!$A$16:$AO$46,16,FALSE))=0,IF(B16=\"\",\"\",VLOOKUP(B16,'9実績'!$A$16:$AO$46,9,FALSE)),IF(B16=\"\",\"\",VLOOKUP(B16,'9実績'!$A$16:$AO$46,16,FALSE)))","v":""},{"$f":"IF(K16=\"\",\"\",M16-K16)","v":""},{"$f":"IF(B16=\"\",\"\",VLOOKUP(B16,'9実績'!$A$16:$AO$46,34,FALSE))","v":""}]
[]
[]
[null,null,null,null,null,null,null,null,null,null,null,null,null,null,null,null,null,"　　　"]
[null,{"$f":"'９'!B20:B23","v":""},{"$f":"IF(B20=\"\",\"\",TEXT(DATE(2018+$F$3,$H$3,B20),\"aaa\"))","v":""},"　　　","　　　",{"$f":"IF(IF(B20=\"\",\"\",VLOOKUP(B20,'9実績'!$A$16:$BK$46,63))=\"大会\",IF(B20=\"\",\"\",VLOOKUP(B20,'9実績'!$A$16:$AO$46,22,FALSE)),IF(B20=\"\",\"\",'9実績'!$AC$4)&IF(B20=\"\",\"\",VLOOKUP(B20,'9実績'!$A$16:$AO$46,22,FALSE)))","v":""},null,null,null,null,{"$f":"IF(IF(B20=\"\",\"\",VLOOKUP(B20,'9実績'!$A$16:$AO$46,5,FALSE))=0,IF(B20=\"\",\"\",VLOOKUP(B20,'9実績'!$A$16:$AO$46,12,FALSE)),IF(B20=\"\",\"\",VLOOKUP(B20,'9実績'!$A$16:$AO$46,5,FALSE)))","v":""},"～",{"$f":"IF(IF(B20=\"\",\"\",VLOOKUP(B20,'9実績'!$A$16:$AO$46,16,FALSE))=0,IF(B20=\"\",\"\",VLOOKUP(B20,'9実績'!$A$16:$AO$46,9,FALSE)),IF(B20=\"\",\"\",VLOOKUP(B20,'9実績'!$A$16:$AO$46,16,FALSE)))","v":""},{"$f":"IF(K20=\"\",\"\",M20-K20)","v":""},{"$f":"IF(B20=\"\",\"\",VLOOKUP(B20,'9実績'!$A$16:$AO$46,34,FALSE))","v":""}]
[]
[]
[null,null,null,null,null,null,null,null,null,null,null,null,null,null,null,null,null,"　　　"]
[null,{"$f":"'９'!B24:B27","v":""},{"$f":"IF(B24=\"\",\"\",TEXT(DATE(2018+$F$3,$H$3,B24),\"aaa\"))","v":""},"　　　","　　　",{"$f":"IF(IF(B24=\"\",\"\",VLOOKUP(B24,'9実績'!$A$16:$BK$46,63))=\"大会\",IF(B24=\"\",\"\",VLOOKUP(B24,'9実績'!$A$16:$AO$46,22,FALSE)),IF(B24=\"\",\"\",'9実績'!$AC$4)&IF(B24=\"\",\"\",VLOOKUP(B24,'9実績'!$A$16:$AO$46,22,FALSE)))","v":""},null,null,null,null,{"$f":"IF(IF(B24=\"\",\"\",VLOOKUP(B24,'9実績'!$A$16:$AO$46,5,FALSE))=0,IF(B24=\"\",\"\",VLOOKUP(B24,'9実績'!$A$16:$AO$46,12,FALSE)),IF(B24=\"\",\"\",VLOOKUP(B24,'9実績'!$A$16:$AO$46,5,FALSE)))","v":""},"～",{"$f":"IF(IF(B24=\"\",\"\",VLOOKUP(B24,'9実績'!$A$16:$AO$46,16,FALSE))=0,IF(B24=\"\",\"\",VLOOKUP(B24,'9実績'!$A$16:$AO$46,9,FALSE)),IF(B24=\"\",\"\",VLOOKUP(B24,'9実績'!$A$16:$AO$46,16,FALSE)))","v":""},{"$f":"IF(K24=\"\",\"\",M24-K24)","v":""},{"$f":"IF(B24=\"\",\"\",VLOOKUP(B24,'9実績'!$A$16:$AO$46,34,FALSE))","v":""}]
[]
[]
[null,null,null,null,null,null,null,null,null,null,null,null,null,null,null,null,null,"　　　"]
[null,{"$f":"'９'!B28:B31","v":""},{"$f":"IF(B28=\"\",\"\",TEXT(DATE(2018+$F$3,$H$3,B28),\"aaa\"))","v":""},"　　　","　　　",{"$f":"IF(IF(B28=\"\",\"\",VLOOKUP(B28,'9実績'!$A$16:$BK$46,63))=\"大会\",IF(B28=\"\",\"\",VLOOKUP(B28,'9実績'!$A$16:$AO$46,22,FALSE)),IF(B28=\"\",\"\",'9実績'!$AC$4)&IF(B28=\"\",\"\",VLOOKUP(B28,'9実績'!$A$16:$AO$46,22,FALSE)))","v":""},null,null,null,null,{"$f":"IF(IF(B28=\"\",\"\",VLOOKUP(B28,'9実績'!$A$16:$AO$46,5,FALSE))=0,IF(B28=\"\",\"\",VLOOKUP(B28,'9実績'!$A$16:$AO$46,12,FALSE)),IF(B28=\"\",\"\",VLOOKUP(B28,'9実績'!$A$16:$AO$46,5,FALSE)))","v":""},"～",{"$f":"IF(IF(B28=\"\",\"\",VLOOKUP(B28,'9実績'!$A$16:$AO$46,16,FALSE))=0,IF(B28=\"\",\"\",VLOOKUP(B28,'9実績'!$A$16:$AO$46,9,FALSE)),IF(B28=\"\",\"\",VLOOKUP(B28,'9実績'!$A$16:$AO$46,16,FALSE)))","v":""},{"$f":"IF(K28=\"\",\"\",M28-K28)","v":""},{"$f":"IF(B28=\"\",\"\",VLOOKUP(B28,'9実績'!$A$16:$AO$46,34,FALSE))","v":""}]
[]
[]
[null,null,null,null,null,null,null,null,null,null,null,null,null,null,null,null,null,"　　　"]
[null,{"$f":"'９'!B32:B35","v":""},{"$f":"IF(B32=\"\",\"\",TEXT(DATE(2018+$F$3,$H$3,B32),\"aaa\"))","v":""},"　　　","　　　",{"$f":"IF(IF(B32=\"\",\"\",VLOOKUP(B32,'9実績'!$A$16:$BK$46,63))=\"大会\",IF(B32=\"\",\"\",VLOOKUP(B32,'9実績'!$A$16:$AO$46,22,FALSE)),IF(B32=\"\",\"\",'9実績'!$AC$4)&IF(B32=\"\",\"\",VLOOKUP(B32,'9実績'!$A$16:$AO$46,22,FALSE)))","v":""},null,null,null,null,{"$f":"IF(IF(B32=\"\",\"\",VLOOKUP(B32,'9実績'!$A$16:$AO$46,5,FALSE))=0,IF(B32=\"\",\"\",VLOOKUP(B32,'9実績'!$A$16:$AO$46,12,FALSE)),IF(B32=\"\",\"\",VLOOKUP(B32,'9実績'!$A$16:$AO$46,5,FALSE)))","v":""},"～",{"$f":"IF(IF(B32=\"\",\"\",VLOOKUP(B32,'9実績'!$A$16:$AO$46,16,FALSE))=0,IF(B32=\"\",\"\",VLOOKUP(B32,'9実績'!$A$16:$AO$46,9,FALSE)),IF(B32=\"\",\"\",VLOOKUP(B32,'9実績'!$A$16:$AO$46,16,FALSE)))","v":""},{"$f":"IF(K32=\"\",\"\",M32-K32)","v":""},{"$f":"IF(B32=\"\",\"\",VLOOKUP(B32,'9実績'!$A$16:$AO$46,34,FALSE))","v":""}]
[]
[]
[null,null,null,null,null,null,null,null,null,null,null,null,null,null,null,null,null,"　　　"]
[null,{"$f":"'９'!B36:B39","v":""},{"$f":"IF(B36=\"\",\"\",TEXT(DATE(2018+$F$3,$H$3,B36),\"aaa\"))","v":""},"　　　","　　　",{"$f":"IF(IF(B36=\"\",\"\",VLOOKUP(B36,'9実績'!$A$16:$BK$46,63))=\"大会\",IF(B36=\"\",\"\",VLOOKUP(B36,'9実績'!$A$16:$AO$46,22,FALSE)),IF(B36=\"\",\"\",'9実績'!$AC$4)&IF(B36=\"\",\"\",VLOOKUP(B36,'9実績'!$A$16:$AO$46,22,FALSE)))","v":""},null,null,null,null,{"$f":"IF(IF(B36=\"\",\"\",VLOOKUP(B36,'9実績'!$A$16:$AO$46,5,FALSE))=0,IF(B36=\"\",\"\",VLOOKUP(B36,'9実績'!$A$16:$AO$46,12,FALSE)),IF(B36=\"\",\"\",VLOOKUP(B36,'9実績'!$A$16:$AO$46,5,FALSE)))","v":""},"～",{"$f":"IF(IF(B36=\"\",\"\",VLOOKUP(B36,'9実績'!$A$16:$AO$46,16,FALSE))=0,IF(B36=\"\",\"\",VLOOKUP(B36,'9実績'!$A$16:$AO$46,9,FALSE)),IF(B36=\"\",\"\",VLOOKUP(B36,'9実績'!$A$16:$AO$46,16,FALSE)))","v":""},{"$f":"IF(K36=\"\",\"\",M36-K36)","v":""},{"$f":"IF(B36=\"\",\"\",VLOOKUP(B36,'9実績'!$A$16:$AO$46,34,FALSE))","v":""}]
[]
[]
[null,null,null,null,null,null,null,null,null,null,null,null,null,null,null,null,null,"　　　"]
[null,{"$f":"'９'!B40:B43","v":""},{"$f":"IF(B40=\"\",\"\",TEXT(DATE(2018+$F$3,$H$3,B40),\"aaa\"))","v":""},"　　　","　　　",{"$f":"IF(IF(B40=\"\",\"\",VLOOKUP(B40,'9実績'!$A$16:$BK$46,63))=\"大会\",IF(B40=\"\",\"\",VLOOKUP(B40,'9実績'!$A$16:$AO$46,22,FALSE)),IF(B40=\"\",\"\",'9実績'!$AC$4)&IF(B40=\"\",\"\",VLOOKUP(B40,'9実績'!$A$16:$AO$46,22,FALSE)))","v":""},null,null,null,null,{"$f":"IF(IF(B40=\"\",\"\",VLOOKUP(B40,'9実績'!$A$16:$AO$46,5,FALSE))=0,IF(B40=\"\",\"\",VLOOKUP(B40,'9実績'!$A$16:$AO$46,12,FALSE)),IF(B40=\"\",\"\",VLOOKUP(B40,'9実績'!$A$16:$AO$46,5,FALSE)))","v":""},"～",{"$f":"IF(IF(B40=\"\",\"\",VLOOKUP(B40,'9実績'!$A$16:$AO$46,16,FALSE))=0,IF(B40=\"\",\"\",VLOOKUP(B40,'9実績'!$A$16:$AO$46,9,FALSE)),IF(B40=\"\",\"\",VLOOKUP(B40,'9実績'!$A$16:$AO$46,16,FALSE)))","v":""},{"$f":"IF(K40=\"\",\"\",M40-K40)","v":""},{"$f":"IF(B40=\"\",\"\",VLOOKUP(B40,'9実績'!$A$16:$AO$46,34,FALSE))","v":""}]
[]
[]
[null,null,null,null,null,null,null,null,null,null,null,null,null,null,null,null,null,"　　　"]
[null,"( 記入要領等 )"]
[null,"　         　１　この整理簿は、教員特殊業務手当及び面接指導手当の支給対象となるものについて、当該手当の支給に必要な事の整理をするものであること。"]
[null,"　　         ２　記入にあたっては、次のように記入すること。"]
[null,"　　　         　「要件」欄：週休日等　　　半日振替日　　　　その他"]
[null,"　　　　         「区分」欄：非常災害　　救急業務　　補導業務　　修学旅行等　　対外運動等　　入学試験業務　　　部活動４　　　　部活動３　　　部活動２　　　面接指導　　　　　"]
[null,"　　　　　　　　　　         ※部活動４は4時間以上、部活動３は３時間以上４時間未満、部活動２は2時間以上３時間未満をいう。"]
[null,"　　　　         「業務内容」欄：職員が従事した業務について、その内容を簡潔に記入すること。"]
[null,"　　　         　「従事時間」欄：左欄に手当の支給対象となる業務の終始の時刻を、右欄には時間を記入すること。"]
[null,"　　　         　「備考」欄：この整理簿を補足する事項を記入すること。"]

{"sheet":"１０(副顧問)","index":44,"n_rows":52,"n_cols":18,"rows_kept":52,"cut":false,"hidden":false,"merged":[[15,5,16,9],[11,5,12,9],[7,5,8,9],[31,13,34,13],[27,14,30,14],[27,15,30,15],[35,16,38,16],[31,5,32,9],[27,11,30,11],[27,12,30,12],[27,13,30,13],[31,10,34,10],[27,16,30,16],[15,13,18,13],[35,17,37,17],[39,1,42,1],[39,2,42,2],[39,3,42,3],[39,4,42,4],[37,5,38,9],[41,5,42,9],[39,10,42,10],[39,17,41,17],[39,11,42,11],[39,12,42,12],[39,13,42,13],[39,14,42,14],[39,15,42,15],[39,16,42,16],[35,14,38,14],[35,10,38,10],[39,5,40,9],[35,5,36,9],[31,17,33,17],[31,14,34,14],[31,15,34,15],[31,16,34,16],[43,1,43,3],[9,5,10,9],[13,5,14,9],[17,5,18,9],[21,5,22,9],[25,5,26,9],[29,5,30,9],[33,5,34,9],[35,1,38,1],[35,2,38,2],[35,3,38,3],[35,4,38,4],[7,3,10,3],[7,4,10,4],[35,15,38,15],[31,11,34,11],[31,12,34,12],[31,2,34,2],[31,3,34,3],[31,4,34,4],[27,1,30,1],[27,2,30,2],[27,3,30,3],[27,4,30,4],[27,10,30,10],[27,5,28,9],[35,11,38,11],[35,12,38,12],[35,13,38,13],[19,17,21,17],[23,1,26,1],[23,2,26,2],[23,3,26,3],[23,4,26,4],[23,10,26,10],[23,17,25,17],[23,14,26,14],[23,15,26,15],[23,16,26,16],[19,1,22,1],[19,2,22,2],[19,3,22,3],[19,4,22,4],[19,10,22,10],[19,11,22,11],[19,12,22,12],[19,13,22,13],[23,5,24,9],[19,5,20,9],[27,17,29,17],[31,1,34,1],[7,10,10,10],[11,14,14,14],[11,15,14,15],[11,16,14,16],[23,11,26,11],[23,12,26,12],[23,13,26,13],[19,14,22,14],[19,15,22,15],[19,16,22,16],[11,17,13,17],[15,1,18,1],[15,2,18,2],[15,3,18,3],[15,4,18,4],[15,10,18,10],[15,17,17,17],[15,14,18,14],[15,15,18,15],[15,16,18,16],[15,11,18,11],[15,12,18,12],[4,1,4,2],[4,3,4,4],[4,6,4,8],[4,9,4,10],[4,14,4,17],[6,5,6,9],[6,10,6,13],[7,17,9,17],[11,1,14,1],[11,2,14,2],[11,3,14,3],[11,4,14,4],[11,10,14,10],[11,11,14,11],[11,12,14,12],[11,13,14,13],[7,11,10,11],[7,12,10,12],[7,13,10,13],[7,14,10,14],[7,15,10,15],[7,16,10,16],[7,1,10,1],[7,2,10,2]]}
[]
[]
[null,null,null,"          　　　　　　","令和",{"$f":"'10計画'!AS1-2018","v":2},"年",{"$f":"'10計画'!A7","v":10},"月分","　 教  員  特  殊  業  務  整  理  簿",null,null,null,null,null,null,null,"様式3"]
[]
[null,"氏　名",null,{"$f":"IF('10実績'!K12=\"\",\"\",'10実績'!K12)","v":0},null,"職員\n番号",{"$f":"IF('４(副顧問)'!G5=\"\",\"\",'４(副顧問)'!G5)","v":""},null,null,null,null,null,null,null,{"$f":"'４(副顧問)'!$O$5:$R$5","v":"0学校"}]
[]
[null,"日","曜","要　件","区　分","業　　務　　内　　容",null,null,null,null,"従　事　時　間",null,null,null,"従事場所","所属長\n確認印","従事者印","備　　考"]
[null,{"$f":"'１０'!B8:B11","v":""},{"$f":"IF(B8=\"\",\"\",TEXT(DATE(2018+$F$3,$H$3,B8),\"aaa\"))","v":""},"　　　","　　　",{"$f":"IF(IF(B8=\"\",\"\",VLOOKUP(B8,'10実績'!$A$16:$BK$46,63))=\"大会\",IF(B8=\"\",\"\",VLOOKUP(B8,'10実績'!$A$16:$AO$46,22,FALSE)),IF(B8=\"\",\"\",'10実績'!$AC$4)&IF(B8=\"\",\"\",VLOOKUP(B8,'10実績'!$A$16:$AO$46,22,FALSE)))","v":""},null,null,null,null,{"$f":"IF(IF(B8=\"\",\"\",VLOOKUP(B8,'10実績'!$A$16:$AO$46,5,FALSE))=0,IF(B8=\"\",\"\",VLOOKUP(B8,'10実績'!$A$16:$AO$46,12,FALSE)),IF(B8=\"\",\"\",VLOOKUP(B8,'10実績'!$A$16:$AO$46,5,FALSE)))","v":""},"～",{"$f":"IF(IF(B8=\"\",\"\",VLOOKUP(B8,'10実績'!$A$16:$AO$46,16,FALSE))=0,IF(B8=\"\",\"\",VLOOKUP(B8,'10実績'!$A$16:$AO$46,9,FALSE)),IF(B8=\"\",\"\",VLOOKUP(B8,'10実績'!$A$16:$AO$46,16,FALSE)))","v":""},{"$f":"IF(K8=\"\",\"\",M8-K8)","v":""},{"$f":"IF(B8=\"\",\"\",VLOOKUP(B8,'10実績'!$A$16:$AO$46,34,FALSE))","v":""}]
[]
[]
[null,null,null,null,null,null,null,null,null,null,null,null,null,null,null,null,null,"　　　"]
[null,{"$f":"'１０'!B12:B15","v":""},{"$f":"IF(B12=\"\",\"\",TEXT(DATE(2018+$F$3,$H$3,B12),\"aaa\"))","v":""},"　　　","　　　",{"$f":"IF(IF(B12=\"\",\"\",VLOOKUP(B12,'10実績'!$A$16:$BK$46,63))=\"大会\",IF(B12=\"\",\"\",VLOOKUP(B12,'10実績'!$A$16:$AO$46,22,FALSE)),IF(B12=\"\",\"\",'10実績'!$AC$4)&IF(B12=\"\",\"\",VLOOKUP(B12,'10実績'!$A$16:$AO$46,22,FALSE)))","v":""},null,null,null,null,{"$f":"IF(IF(B12=\"\",\"\",VLOOKUP(B12,'10実績'!$A$16:$AO$46,5,FALSE))=0,IF(B12=\"\",\"\",VLOOKUP(B12,'10実績'!$A$16:$AO$46,12,FALSE)),IF(B12=\"\",\"\",VLOOKUP(B12,'10実績'!$A$16:$AO$46,5,FALSE)))","v":""},"～",{"$f":"IF(IF(B12=\"\",\"\",VLOOKUP(B12,'10実績'!$A$16:$AO$46,16,FALSE))=0,IF(B12=\"\",\"\",VLOOKUP(B12,'10実績'!$A$16:$AO$46,9,FALSE)),IF(B12=\"\",\"\",VLOOKUP(B12,'10実績'!$A$16:$AO$46,16,FALSE)))","v":""},{"$f":"IF(K12=\"\",\"\",M12-K12)","v":""},{"$f":"IF(B12=\"\",\"\",VLOOKUP(B12,'10実績'!$A$16:$AO$46,34,FALSE))","v":""}]
[]
[]
[null,null,null,null,null,null,null,null,null,null,null,null,null,null,null,null,null,"　　　"]
[null,{"$f":"'１０'!B16:B19","v":""},{"$f":"IF(B16=\"\",\"\",TEXT(DATE(2018+$F$3,$H$3,B16),\"aaa\"))","v":""},"　　　","　　　",{"$f":"IF(IF(B16=\"\",\"\",VLOOKUP(B16,'10実績'!$A$16:$BK$46,63))=\"大会\",IF(B16=\"\",\"\",VLOOKUP(B16,'10実績'!$A$16:$AO$46,22,FALSE)),IF(B16=\"\",\"\",'10実績'!$AC$4)&IF(B16=\"\",\"\",VLOOKUP(B16,'10実績'!$A$16:$AO$46,22,FALSE)))","v":""},null,null,null,null,{"$f":"IF(IF(B16=\"\",\"\",VLOOKUP(B16,'10実績'!$A$16:$AO$46,5,FALSE))=0,IF(B16=\"\",\"\",VLOOKUP(B16,'10実績'!$A$16:$AO$46,12,FALSE)),IF(B16=\"\",\"\",VLOOKUP(B16,'10実績'!$A$16:$AO$46,5,FALSE)))","v":""},"～",{"$f":"IF(IF(B16=\"\",\"\",VLOOKUP(B16,'10実績'!$A$16:$AO$46,16,FALSE))=0,IF(B16=\"\",\"\",VLOOKUP(B16,'10実績'!$A$16:$AO$46,9,FALSE)),IF(B16=\"\",\"\",VLOOKUP(B16,'10実績'!$A$16:$AO$46,16,FALSE)))","v":""},{"$f":"IF(K16=\"\",\"\",M16-K16)","v":""},{"$f":"IF(B16=\"\",\"\",VLOOKUP(B16,'10実績'!$A$16:$AO$46,34,FALSE))","v":""}]
[]
[]
[null,null,null,null,null,null,null,null,null,null,null,null,null,null,null,null,null,"　　　"]
[null,{"$f":"'１０'!B20:B23","v":""},{"$f":"IF(B20=\"\",\"\",TEXT(DATE(2018+$F$3,$H$3,B20),\"aaa\"))","v":""},"　　　","　　　",{"$f":"IF(IF(B20=\"\",\"\",VLOOKUP(B20,'10実績'!$A$16:$BK$46,63))=\"大会\",IF(B20=\"\",\"\",VLOOKUP(B20,'10実績'!$A$16:$AO$46,22,FALSE)),IF(B20=\"\",\"\",'10実績'!$AC$4)&IF(B20=\"\",\"\",VLOOKUP(B20,'10実績'!$A$16:$AO$46,22,FALSE)))","v":""},null,null,null,null,{"$f":"IF(IF(B20=\"\",\"\",VLOOKUP(B20,'10実績'!$A$16:$AO$46,5,FALSE))=0,IF(B20=\"\",\"\",VLOOKUP(B20,'10実績'!$A$16:$AO$46,12,FALSE)),IF(B20=\"\",\"\",VLOOKUP(B20,'10実績'!$A$16:$AO$46,5,FALSE)))","v":""},"～",{"$f":"IF(IF(B20=\"\",\"\",VLOOKUP(B20,'10実績'!$A$16:$AO$46,16,FALSE))=0,IF(B20=\"\",\"\",VLOOKUP(B20,'10実績'!$A$16:$AO$46,9,FALSE)),IF(B20=\"\",\"\",VLOOKUP(B20,'10実績'!$A$16:$AO$46,16,FALSE)))","v":""},{"$f":"IF(K20=\"\",\"\",M20-K20)","v":""},{"$f":"IF(B20=\"\",\"\",VLOOKUP(B20,'10実績'!$A$16:$AO$46,34,FALSE))","v":""}]
[]
[]
[null,null,null,null,null,null,null,null,null,null,null,null,null,null,null,null,null,"　　　"]
[null,{"$f":"'１０'!B24:B27","v":""},{"$f":"IF(B24=\"\",\"\",TEXT(DATE(2018+$F$3,$H$3,B24),\"aaa\"))","v":""},"　　　","　　　",{"$f":"IF(IF(B24=\"\",\"\",VLOOKUP(B24,'10実績'!$A$16:$BK$46,63))=\"大会\",IF(B24=\"\",\"\",VLOOKUP(B24,'10実績'!$A$16:$AO$46,22,FALSE)),IF(B24=\"\",\"\",'10実績'!$AC$4)&IF(B24=\"\",\"\",VLOOKUP(B24,'10実績'!$A$16:$AO$46,22,FALSE)))","v":""},null,null,null,null,{"$f":"IF(IF(B24=\"\",\"\",VLOOKUP(B24,'10実績'!$A$16:$AO$46,5,FALSE))=0,IF(B24=\"\",\"\",VLOOKUP(B24,'10実績'!$A$16:$AO$46,12,FALSE)),IF(B24=\"\",\"\",VLOOKUP(B24,'10実績'!$A$16:$AO$46,5,FALSE)))","v":""},"～",{"$f":"IF(IF(B24=\"\",\"\",VLOOKUP(B24,'10実績'!$A$16:$AO$46,16,FALSE))=0,IF(B24=\"\",\"\",VLOOKUP(B24,'10実績'!$A$16:$AO$46,9,FALSE)),IF(B24=\"\",\"\",VLOOKUP(B24,'10実績'!$A$16:$AO$46,16,FALSE)))","v":""},{"$f":"IF(K24=\"\",\"\",M24-K24)","v":""},{"$f":"IF(B24=\"\",\"\",VLOOKUP(B24,'10実績'!$A$16:$AO$46,34,FALSE))","v":""}]
[]
[]
[null,null,null,null,null,null,null,null,null,null,null,null,null,null,null,null,null,"　　　"]
[null,{"$f":"'１０'!B28:B31","v":""},{"$f":"IF(B28=\"\",\"\",TEXT(DATE(2018+$F$3,$H$3,B28),\"aaa\"))","v":""},"　　　","　　　",{"$f":"IF(IF(B28=\"\",\"\",VLOOKUP(B28,'10実績'!$A$16:$BK$46,63))=\"大会\",IF(B28=\"\",\"\",VLOOKUP(B28,'10実績'!$A$16:$AO$46,22,FALSE)),IF(B28=\"\",\"\",'10実績'!$AC$4)&IF(B28=\"\",\"\",VLOOKUP(B28,'10実績'!$A$16:$AO$46,22,FALSE)))","v":""},null,null,null,null,{"$f":"IF(IF(B28=\"\",\"\",VLOOKUP(B28,'10実績'!$A$16:$AO$46,5,FALSE))=0,IF(B28=\"\",\"\",VLOOKUP(B28,'10実績'!$A$16:$AO$46,12,FALSE)),IF(B28=\"\",\"\",VLOOKUP(B28,'10実績'!$A$16:$AO$46,5,FALSE)))","v":""},"～",{"$f":"IF(IF(B28=\"\",\"\",VLOOKUP(B28,'10実績'!$A$16:$AO$46,16,FALSE))=0,IF(B28=\"\",\"\",VLOOKUP(B28,'10実績'!$A$16:$AO$46,9,FALSE)),IF(B28=\"\",\"\",VLOOKUP(B28,'10実績'!$A$16:$AO$46,16,FALSE)))","v":""},{"$f":"IF(K28=\"\",\"\",M28-K28)","v":""},{"$f":"IF(B28=\"\",\"\",VLOOKUP(B28,'10実績'!$A$16:$AO$46,34,FALSE))","v":""}]
[]
[]
[null,null,null,null,null,null,null,null,null,null,null,null,null,null,null,null,null,"　　　"]
[null,{"$f":"'１０'!B32:B35","v":""},{"$f":"IF(B32=\"\",\"\",TEXT(DATE(2018+$F$3,$H$3,B32),\"aaa\"))","v":""},"　　　","　　　",{"$f":"IF(IF(B32=\"\",\"\",VLOOKUP(B32,'10実績'!$A$16:$BK$46,63))=\"大会\",IF(B32=\"\",\"\",VLOOKUP(B32,'10実績'!$A$16:$AO$46,22,FALSE)),IF(B32=\"\",\"\",'10実績'!$AC$4)&IF(B32=\"\",\"\",VLOOKUP(B32,'10実績'!$A$16:$AO$46,22,FALSE)))","v":""},null,null,null,null,{"$f":"IF(IF(B32=\"\",\"\",VLOOKUP(B32,'10実績'!$A$16:$AO$46,5,FALSE))=0,IF(B32=\"\",\"\",VLOOKUP(B32,'10実績'!$A$16:$AO$46,12,FALSE)),IF(B32=\"\",\"\",VLOOKUP(B32,'10実績'!$A$16:$AO$46,5,FALSE)))","v":""},"～",{"$f":"IF(IF(B32=\"\",\"\",VLOOKUP(B32,'10実績'!$A$16:$AO$46,16,FALSE))=0,IF(B32=\"\",\"\",VLOOKUP(B32,'10実績'!$A$16:$AO$46,9,FALSE)),IF(B32=\"\",\"\",VLOOKUP(B32,'10実績'!$A$16:$AO$46,16,FALSE)))","v":""},{"$f":"IF(K32=\"\",\"\",M32-K32)","v":""},{"$f":"IF(B32=\"\",\"\",VLOOKUP(B32,'10実績'!$A$16:$AO$46,34,FALSE))","v":""}]
[]
[]
[null,null,null,null,null,null,null,null,null,null,null,null,null,null,null,null,null,"　　　"]
[null,{"$f":"'１０'!B36:B39","v":""},{"$f":"IF(B36=\"\",\"\",TEXT(DATE(2018+$F$3,$H$3,B36),\"aaa\"))","v":""},"　　　","　　　",{"$f":"IF(IF(B36=\"\",\"\",VLOOKUP(B36,'10実績'!$A$16:$BK$46,63))=\"大会\",IF(B36=\"\",\"\",VLOOKUP(B36,'10実績'!$A$16:$AO$46,22,FALSE)),IF(B36=\"\",\"\",'10実績'!$AC$4)&IF(B36=\"\",\"\",VLOOKUP(B36,'10実績'!$A$16:$AO$46,22,FALSE)))","v":""},null,null,null,null,{"$f":"IF(IF(B36=\"\",\"\",VLOOKUP(B36,'10実績'!$A$16:$AO$46,5,FALSE))=0,IF(B36=\"\",\"\",VLOOKUP(B36,'10実績'!$A$16:$AO$46,12,FALSE)),IF(B36=\"\",\"\",VLOOKUP(B36,'10実績'!$A$16:$AO$46,5,FALSE)))","v":""},"～",{"$f":"IF(IF(B36=\"\",\"\",VLOOKUP(B36,'10実績'!$A$16:$AO$46,16,FALSE))=0,IF(B36=\"\",\"\",VLOOKUP(B36,'10実績'!$A$16:$AO$46,9,FALSE)),IF(B36=\"\",\"\",VLOOKUP(B36,'10実績'!$A$16:$AO$46,16,FALSE)))","v":""},{"$f":"IF(K36=\"\",\"\",M36-K36)","v":""},{"$f":"IF(B36=\"\",\"\",VLOOKUP(B36,'10実績'!$A$16:$AO$46,34,FALSE))","v":""}]
[]
[]
[null,null,null,null,null,null,null,null,null,null,null,null,null,null,null,null,null,"　　　"]
[null,{"$f":"'１０'!B40:B43","v":""},{"$f":"IF(B40=\"\",\"\",TEXT(DATE(2018+$F$3,$H$3,B40),\"aaa\"))","v":""},"　　　","　　　",{"$f":"IF(IF(B40=\"\",\"\",VLOOKUP(B40,'10実績'!$A$16:$BK$46,63))=\"大会\",IF(B40=\"\",\"\",VLOOKUP(B40,'10実績'!$A$16:$AO$46,22,FALSE)),IF(B40=\"\",\"\",'10実績'!$AC$4)&IF(B40=\"\",\"\",VLOOKUP(B40,'10実績'!$A$16:$AO$46,22,FALSE)))","v":""},null,null,null,null,{"$f":"IF(IF(B40=\"\",\"\",VLOOKUP(B40,'10実績'!$A$16:$AO$46,5,FALSE))=0,IF(B40=\"\",\"\",VLOOKUP(B40,'10実績'!$A$16:$AO$46,12,FALSE)),IF(B40=\"\",\"\",VLOOKUP(B40,'10実績'!$A$16:$AO$46,5,FALSE)))","v":""},"～",{"$f":"IF(IF(B40=\"\",\"\",VLOOKUP(B40,'10実績'!$A$16:$AO$46,16,FALSE))=0,IF(B40=\"\",\"\",VLOOKUP(B40,'10実績'!$A$16:$AO$46,9,FALSE)),IF(B40=\"\",\"\",VLOOKUP(B40,'10実績'!$A$16:$AO$46,16,FALSE)))","v":""},{"$f":"IF(K40=\"\",\"\",M40-K40)","v":""},{"$f":"IF(B40=\"\",\"\",VLOOKUP(B40,'10実績'!$A$16:$AO$46,34,FALSE))","v":""}]
[]
[]
[null,null,null,null,null,null,null,null,null,null,null,null,null,null,null,null,null,"　　　"]
[null,"( 記入要領等 )"]
[null,"　         　１　この整理簿は、教員特殊業務手当及び面接指導手当の支給対象となるものについて、当該手当の支給に必要な事の整理をするものであること。"]
[null,"　　         ２　記入にあたっては、次のように記入すること。"]
[null,"　　　         　「要件」欄：週休日等　　　半日振替日　　　　その他"]
[null,"　　　　         「区分」欄：非常災害　　救急業務　　補導業務　　修学旅行等　　対外運動等　　入学試験業務　　　部活動４　　　　部活動３　　　部活動２　　　面接指導　　　　　"]
[null,"　　　　　　　　　　         ※部活動４は4時間以上、部活動３は３時間以上４時間未満、部活動２は2時間以上３時間未満をいう。"]
[null,"　　　　         「業務内容」欄：職員が従事した業務について、その内容を簡潔に記入すること。"]
[null,"　　　         　「従事時間」欄：左欄に手当の支給対象となる業務の終始の時刻を、右欄には時間を記入すること。"]
[null,"　　　         　「備考」欄：この整理簿を補足する事項を記入すること。"]

{"sheet":"１１(副顧問)","index":45,"n_rows":52,"n_cols":18,"rows_kept":52,"cut":false,"hidden":false,"merged":[[15,5,16,9],[11,5,12,9],[7,5,8,9],[31,13,34,13],[27,14,30,14],[27,15,30,15],[35,16,38,16],[31,5,32,9],[27,11,30,11],[27,12,30,12],[27,13,30,13],[31,10,34,10],[27,16,30,16],[15,13,18,13],[35,17,37,17],[39,1,42,1],[39,2,42,2],[39,3,42,3],[39,4,42,4],[37,5,38,9],[41,5,42,9],[39,10,42,10],[39,17,41,17],[39,11,42,11],[39,12,42,12],[39,13,42,13],[39,14,42,14],[39,15,42,15],[39,16,42,16],[35,14,38,14],[35,10,38,10],[39,5,40,9],[35,5,36,9],[31,17,33,17],[31,14,34,14],[31,15,34,15],[31,16,34,16],[43,1,43,3],[9,5,10,9],[13,5,14,9],[17,5,18,9],[21,5,22,9],[25,5,26,9],[29,5,30,9],[33,5,34,9],[35,1,38,1],[35,2,38,2],[35,3,38,3],[35,4,38,4],[7,3,10,3],[7,4,10,4],[35,15,38,15],[31,11,34,11],[31,12,34,12],[31,2,34,2],[31,3,34,3],[31,4,34,4],[27,1,30,1],[27,2,30,2],[27,3,30,3],[27,4,30,4],[27,10,30,10],[27,5,28,9],[35,11,38,11],[35,12,38,12],[35,13,38,13],[19,17,21,17],[23,1,26,1],[23,2,26,2],[23,3,26,3],[23,4,26,4],[23,10,26,10],[23,17,25,17],[23,14,26,14],[23,15,26,15],[23,16,26,16],[19,1,22,1],[19,2,22,2],[19,3,22,3],[19,4,22,4],[19,10,22,10],[19,11,22,11],[19,12,22,12],[19,13,22,13],[23,5,24,9],[19,5,20,9],[27,17,29,17],[31,1,34,1],[7,10,10,10],[11,14,14,14],[11,15,14,15],[11,16,14,16],[23,11,26,11],[23,12,26,12],[23,13,26,13],[19,14,22,14],[19,15,22,15],[19,16,22,16],[11,17,13,17],[15,1,18,1],[15,2,18,2],[15,3,18,3],[15,4,18,4],[15,10,18,10],[15,17,17,17],[15,14,18,14],[15,15,18,15],[15,16,18,16],[15,11,18,11],[15,12,18,12],[4,1,4,2],[4,3,4,4],[4,6,4,8],[4,9,4,10],[4,14,4,17],[6,5,6,9],[6,10,6,13],[7,17,9,17],[11,1,14,1],[11,2,14,2],[11,3,14,3],[11,4,14,4],[11,10,14,10],[11,11,14,11],[11,12,14,12],[11,13,14,13],[7,11,10,11],[7,12,10,12],[7,13,10,13],[7,14,10,14],[7,15,10,15],[7,16,10,16],[7,1,10,1],[7,2,10,2]]}
[]
[]
[null,null,null,"          　　　　　　","令和",{"$f":"'11計画'!AS1-2018","v":2},"年",{"$f":"'11計画'!A7","v":11},"月分","　 教  員  特  殊  業  務  整  理  簿",null,null,null,null,null,null,null,"様式3"]
[]
[null,"氏　名",null,{"$f":"IF('11実績'!K12=\"\",\"\",'11実績'!K12)","v":0},null,"職員\n番号",{"$f":"IF('４(副顧問)'!G5=\"\",\"\",'４(副顧問)'!G5)","v":""},null,null,null,null,null,null,null,{"$f":"'４(副顧問)'!$O$5:$R$5","v":"0学校"}]
[]
[null,"日","曜","要　件","区　分","業　　務　　内　　容",null,null,null,null,"従　事　時　間",null,null,null,"従事場所","所属長\n確認印","従事者印","備　　考"]
[null,{"$f":"'１１'!B8:B11","v":""},{"$f":"IF(B8=\"\",\"\",TEXT(DATE(2018+$F$3,$H$3,B8),\"aaa\"))","v":""},"　　　","　　　",{"$f":"IF(IF(B8=\"\",\"\",VLOOKUP(B8,'11実績'!$A$16:$BK$46,63))=\"大会\",IF(B8=\"\",\"\",VLOOKUP(B8,'11実績'!$A$16:$AO$46,22,FALSE)),IF(B8=\"\",\"\",'11実績'!$AC$4)&IF(B8=\"\",\"\",VLOOKUP(B8,'11実績'!$A$16:$AO$46,22,FALSE)))","v":""},null,null,null,null,{"$f":"IF(IF(B8=\"\",\"\",VLOOKUP(B8,'11実績'!$A$16:$AO$46,5,FALSE))=0,IF(B8=\"\",\"\",VLOOKUP(B8,'11実績'!$A$16:$AO$46,12,FALSE)),IF(B8=\"\",\"\",VLOOKUP(B8,'11実績'!$A$16:$AO$46,5,FALSE)))","v":""},"～",{"$f":"IF(IF(B8=\"\",\"\",VLOOKUP(B8,'11実績'!$A$16:$AO$46,16,FALSE))=0,IF(B8=\"\",\"\",VLOOKUP(B8,'11実績'!$A$16:$AO$46,9,FALSE)),IF(B8=\"\",\"\",VLOOKUP(B8,'11実績'!$A$16:$AO$46,16,FALSE)))","v":""},{"$f":"IF(K8=\"\",\"\",M8-K8)","v":""},{"$f":"IF(B8=\"\",\"\",VLOOKUP(B8,'11実績'!$A$16:$AO$46,34,FALSE))","v":""}]
[]
[]
[null,null,null,null,null,null,null,null,null,null,null,null,null,null,null,null,null,"　　　"]
[null,{"$f":"'１１'!B12:B15","v":""},{"$f":"IF(B12=\"\",\"\",TEXT(DATE(2018+$F$3,$H$3,B12),\"aaa\"))","v":""},"　　　","　　　",{"$f":"IF(IF(B12=\"\",\"\",VLOOKUP(B12,'11実績'!$A$16:$BK$46,63))=\"大会\",IF(B12=\"\",\"\",VLOOKUP(B12,'11実績'!$A$16:$AO$46,22,FALSE)),IF(B12=\"\",\"\",'11実績'!$AC$4)&IF(B12=\"\",\"\",VLOOKUP(B12,'11実績'!$A$16:$AO$46,22,FALSE)))","v":""},null,null,null,null,{"$f":"IF(IF(B12=\"\",\"\",VLOOKUP(B12,'11実績'!$A$16:$AO$46,5,FALSE))=0,IF(B12=\"\",\"\",VLOOKUP(B12,'11実績'!$A$16:$AO$46,12,FALSE)),IF(B12=\"\",\"\",VLOOKUP(B12,'11実績'!$A$16:$AO$46,5,FALSE)))","v":""},"～",{"$f":"IF(IF(B12=\"\",\"\",VLOOKUP(B12,'11実績'!$A$16:$AO$46,16,FALSE))=0,IF(B12=\"\",\"\",VLOOKUP(B12,'11実績'!$A$16:$AO$46,9,FALSE)),IF(B12=\"\",\"\",VLOOKUP(B12,'11実績'!$A$16:$AO$46,16,FALSE)))","v":""},{"$f":"IF(K12=\"\",\"\",M12-K12)","v":""},{"$f":"IF(B12=\"\",\"\",VLOOKUP(B12,'11実績'!$A$16:$AO$46,34,FALSE))","v":""}]
[]
[]
[null,null,null,null,null,null,null,null,null,null,null,null,null,null,null,null,null,"　　　"]
[null,{"$f":"'１１'!B16:B19","v":""},{"$f":"IF(B16=\"\",\"\",TEXT(DATE(2018+$F$3,$H$3,B16),\"aaa\"))","v":""},"　　　","　　　",{"$f":"IF(IF(B16=\"\",\"\",VLOOKUP(B16,'11実績'!$A$16:$BK$46,63))=\"大会\",IF(B16=\"\",\"\",VLOOKUP(B16,'11実績'!$A$16:$AO$46,22,FALSE)),IF(B16=\"\",\"\",'11実績'!$AC$4)&IF(B16=\"\",\"\",VLOOKUP(B16,'11実績'!$A$16:$AO$46,22,FALSE)))","v":""},null,null,null,null,{"$f":"IF(IF(B16=\"\",\"\",VLOOKUP(B16,'11実績'!$A$16:$AO$46,5,FALSE))=0,IF(B16=\"\",\"\",VLOOKUP(B16,'11実績'!$A$16:$AO$46,12,FALSE)),IF(B16=\"\",\"\",VLOOKUP(B16,'11実績'!$A$16:$AO$46,5,FALSE)))","v":""},"～",{"$f":"IF(IF(B16=\"\",\"\",VLOOKUP(B16,'11実績'!$A$16:$AO$46,16,FALSE))=0,IF(B16=\"\",\"\",VLOOKUP(B16,'11実績'!$A$16:$AO$46,9,FALSE)),IF(B16=\"\",\"\",VLOOKUP(B16,'11実績'!$A$16:$AO$46,16,FALSE)))","v":""},{"$f":"IF(K16=\"\",\"\",M16-K16)","v":""},{"$f":"IF(B16=\"\",\"\",VLOOKUP(B16,'11実績'!$A$16:$AO$46,34,FALSE))","v":""}]
[]
[]
[null,null,null,null,null,null,null,null,null,null,null,null,null,null,null,null,null,"　　　"]
[null,{"$f":"'１１'!B20:B23","v":""},{"$f":"IF(B20=\"\",\"\",TEXT(DATE(2018+$F$3,$H$3,B20),\"aaa\"))","v":""},"　　　","　　　",{"$f":"IF(IF(B20=\"\",\"\",VLOOKUP(B20,'11実績'!$A$16:$BK$46,63))=\"大会\",IF(B20=\"\",\"\",VLOOKUP(B20,'11実績'!$A$16:$AO$46,22,FALSE)),IF(B20=\"\",\"\",'11実績'!$AC$4)&IF(B20=\"\",\"\",VLOOKUP(B20,'11実績'!$A$16:$AO$46,22,FALSE)))","v":""},null,null,null,null,{"$f":"IF(IF(B20=\"\",\"\",VLOOKUP(B20,'11実績'!$A$16:$AO$46,5,FALSE))=0,IF(B20=\"\",\"\",VLOOKUP(B20,'11実績'!$A$16:$AO$46,12,FALSE)),IF(B20=\"\",\"\",VLOOKUP(B20,'11実績'!$A$16:$AO$46,5,FALSE)))","v":""},"～",{"$f":"IF(IF(B20=\"\",\"\",VLOOKUP(B20,'11実績'!$A$16:$AO$46,16,FALSE))=0,IF(B20=\"\",\"\",VLOOKUP(B20,'11実績'!$A$16:$AO$46,9,FALSE)),IF(B20=\"\",\"\",VLOOKUP(B20,'11実績'!$A$16:$AO$46,16,FALSE)))","v":""},{"$f":"IF(K20=\"\",\"\",M20-K20)","v":""},{"$f":"IF(B20=\"\",\"\",VLOOKUP(B20,'11実績'!$A$16:$AO$46,34,FALSE))","v":""}]
[]
[]
[null,null,null,null,null,null,null,null,null,null,null,null,null,null,null,null,null,"　　　"]
[null,{"$f":"'１１'!B24:B27","v":""},{"$f":"IF(B24=\"\",\"\",TEXT(DATE(2018+$F$3,$H$3,B24),\"aaa\"))","v":""},"　　　","　　　",{"$f":"IF(IF(B24=\"\",\"\",VLOOKUP(B24,'11実績'!$A$16:$BK$46,63))=\"大会\",IF(B24=\"\",\"\",VLOOKUP(B24,'11実績'!$A$16:$AO$46,22,FALSE)),IF(B24=\"\",\"\",'11実績'!$AC$4)&IF(B24=\"\",\"\",VLOOKUP(B24,'11実績'!$A$16:$AO$46,22,FALSE)))","v":""},null,null,null,null,{"$f":"IF(IF(B24=\"\",\"\",VLOOKUP(B24,'11実績'!$A$16:$AO$46,5,FALSE))=0,IF(B24=\"\",\"\",VLOOKUP(B24,'11実績'!$A$16:$AO$46,12,FALSE)),IF(B24=\"\",\"\",VLOOKUP(B24,'11実績'!$A$16:$AO$46,5,FALSE)))","v":""},"～",{"$f":"IF(IF(B24=\"\",\"\",VLOOKUP(B24,'11実績'!$A$16:$AO$46,16,FALSE))=0,IF(B24=\"\",\"\",VLOOKUP(B24,'11実績'!$A$16:$AO$46,9,FALSE)),IF(B24=\"\",\"\",VLOOKUP(B24,'11実績'!$A$16:$AO$46,16,FALSE)))","v":""},{"$f":"IF(K24=\"\",\"\",M24-K24)","v":""},{"$f":"IF(B24=\"\",\"\",VLOOKUP(B24,'11実績'!$A$16:$AO$46,34,FALSE))","v":""}]
[]
[]
[null,null,null,null,null,null,null,null,null,null,null,null,null,null,null,null,null,"　　　"]
[null,{"$f":"'１１'!B28:B31","v":""},{"$f":"IF(B28=\"\",\"\",TEXT(DATE(2018+$F$3,$H$3,B28),\"aaa\"))","v":""},"　　　","　　　",{"$f":"IF(IF(B28=\"\",\"\",VLOOKUP(B28,'11実績'!$A$16:$BK$46,63))=\"大会\",IF(B28=\"\",\"\",VLOOKUP(B28,'11実績'!$A$16:$AO$46,22,FALSE)),IF(B28=\"\",\"\",'11実績'!$AC$4)&IF(B28=\"\",\"\",VLOOKUP(B28,'11実績'!$A$16:$AO$46,22,FALSE)))","v":""},null,null,null,null,{"$f":"IF(IF(B28=\"\",\"\",VLOOKUP(B28,'11実績'!$A$16:$AO$46,5,FALSE))=0,IF(B28=\"\",\"\",VLOOKUP(B28,'11実績'!$A$16:$AO$46,12,FALSE)),IF(B28=\"\",\"\",VLOOKUP(B28,'11実績'!$A$16:$AO$46,5,FALSE)))","v":""},"～",{"$f":"IF(IF(B28=\"\",\"\",VLOOKUP(B28,'11実績'!$A$16:$AO$46,16,FALSE))=0,IF(B28=\"\",\"\",VLOOKUP(B28,'11実績'!$A$16:$AO$46,9,FALSE)),IF(B28=\"\",\"\",VLOOKUP(B28,'11実績'!$A$16:$AO$46,16,FALSE)))","v":""},{"$f":"IF(K28=\"\",\"\",M28-K28)","v":""},{"$f":"IF(B28=\"\",\"\",VLOOKUP(B28,'11実績'!$A$16:$AO$46,34,FALSE))","v":""}]
[]
[]
[null,null,null,null,null,null,null,null,null,null,null,null,null,null,null,null,null,"　　　"]
[null,{"$f":"'１１'!B32:B35","v":""},{"$f":"IF(B32=\"\",\"\",TEXT(DATE(2018+$F$3,$H$3,B32),\"aaa\"))","v":""},"　　　","　　　",{"$f":"IF(IF(B32=\"\",\"\",VLOOKUP(B32,'11実績'!$A$16:$BK$46,63))=\"大会\",IF(B32=\"\",\"\",VLOOKUP(B32,'11実績'!$A$16:$AO$46,22,FALSE)),IF(B32=\"\",\"\",'11実績'!$AC$4)&IF(B32=\"\",\"\",VLOOKUP(B32,'11実績'!$A$16:$AO$46,22,FALSE)))","v":""},null,null,null,null,{"$f":"IF(IF(B32=\"\",\"\",VLOOKUP(B32,'11実績'!$A$16:$AO$46,5,FALSE))=0,IF(B32=\"\",\"\",VLOOKUP(B32,'11実績'!$A$16:$AO$46,12,FALSE)),IF(B32=\"\",\"\",VLOOKUP(B32,'11実績'!$A$16:$AO$46,5,FALSE)))","v":""},"～",{"$f":"IF(IF(B32=\"\",\"\",VLOOKUP(B32,'11実績'!$A$16:$AO$46,16,FALSE))=0,IF(B32=\"\",\"\",VLOOKUP(B32,'11実績'!$A$16:$AO$46,9,FALSE)),IF(B32=\"\",\"\",VLOOKUP(B32,'11実績'!$A$16:$AO$46,16,FALSE)))","v":""},{"$f":"IF(K32=\"\",\"\",M32-K32)","v":""},{"$f":"IF(B32=\"\",\"\",VLOOKUP(B32,'11実績'!$A$16:$AO$46,34,FALSE))","v":""}]
[]
[]
[null,null,null,null,null,null,null,null,null,null,null,null,null,null,null,null,null,"　　　"]
[null,{"$f":"'１１'!B36:B39","v":""},{"$f":"IF(B36=\"\",\"\",TEXT(DATE(2018+$F$3,$H$3,B36),\"aaa\"))","v":""},"　　　","　　　",{"$f":"IF(IF(B36=\"\",\"\",VLOOKUP(B36,'11実績'!$A$16:$BK$46,63))=\"大会\",IF(B36=\"\",\"\",VLOOKUP(B36,'11実績'!$A$16:$AO$46,22,FALSE)),IF(B36=\"\",\"\",'11実績'!$AC$4)&IF(B36=\"\",\"\",VLOOKUP(B36,'11実績'!$A$16:$AO$46,22,FALSE)))","v":""},null,null,null,null,{"$f":"IF(IF(B36=\"\",\"\",VLOOKUP(B36,'11実績'!$A$16:$AO$46,5,FALSE))=0,IF(B36=\"\",\"\",VLOOKUP(B36,'11実績'!$A$16:$AO$46,12,FALSE)),IF(B36=\"\",\"\",VLOOKUP(B36,'11実績'!$A$16:$AO$46,5,FALSE)))","v":""},"～",{"$f":"IF(IF(B36=\"\",\"\",VLOOKUP(B36,'11実績'!$A$16:$AO$46,16,FALSE))=0,IF(B36=\"\",\"\",VLOOKUP(B36,'11実績'!$A$16:$AO$46,9,FALSE)),IF(B36=\"\",\"\",VLOOKUP(B36,'11実績'!$A$16:$AO$46,16,FALSE)))","v":""},{"$f":"IF(K36=\"\",\"\",M36-K36)","v":""},{"$f":"IF(B36=\"\",\"\",VLOOKUP(B36,'11実績'!$A$16:$AO$46,34,FALSE))","v":""}]
[]
[]
[null,null,null,null,null,null,null,null,null,null,null,null,null,null,null,null,null,"　　　"]
[null,{"$f":"'１１'!B40:B43","v":""},{"$f":"IF(B40=\"\",\"\",TEXT(DATE(2018+$F$3,$H$3,B40),\"aaa\"))","v":""},"　　　","　　　",{"$f":"IF(IF(B40=\"\",\"\",VLOOKUP(B40,'11実績'!$A$16:$BK$46,63))=\"大会\",IF(B40=\"\",\"\",VLOOKUP(B40,'11実績'!$A$16:$AO$46,22,FALSE)),IF(B40=\"\",\"\",'11実績'!$AC$4)&IF(B40=\"\",\"\",VLOOKUP(B40,'11実績'!$A$16:$AO$46,22,FALSE)))","v":""},null,null,null,null,{"$f":"IF(IF(B40=\"\",\"\",VLOOKUP(B40,'11実績'!$A$16:$AO$46,5,FALSE))=0,IF(B40=\"\",\"\",VLOOKUP(B40,'11実績'!$A$16:$AO$46,12,FALSE)),IF(B40=\"\",\"\",VLOOKUP(B40,'11実績'!$A$16:$AO$46,5,FALSE)))","v":""},"～",{"$f":"IF(IF(B40=\"\",\"\",VLOOKUP(B40,'11実績'!$A$16:$AO$46,16,FALSE))=0,IF(B40=\"\",\"\",VLOOKUP(B40,'11実績'!$A$16:$AO$46,9,FALSE)),IF(B40=\"\",\"\",VLOOKUP(B40,'11実績'!$A$16:$AO$46,16,FALSE)))","v":""},{"$f":"IF(K40=\"\",\"\",M40-K40)","v":""},{"$f":"IF(B40=\"\",\"\",VLOOKUP(B40,'11実績'!$A$16:$AO$46,34,FALSE))","v":""}]
[]
[]
[null,null,null,null,null,null,null,null,null,null,null,null,null,null,null,null,null,"　　　"]
[null,"( 記入要領等 )"]
[null,"　         　１　この整理簿は、教員特殊業務手当及び面接指導手当の支給対象となるものについて、当該手当の支給に必要な事の整理をするものであること。"]
[null,"　　         ２　記入にあたっては、次のように記入すること。"]
[null,"　　　         　「要件」欄：週休日等　　　半日振替日　　　　その他"]
[null,"　　　　         「区分」欄：非常災害　　救急業務　　補導業務　　修学旅行等　　対外運動等　　入学試験業務　　　部活動４　　　　部活動３　　　部活動２　　　面接指導　　　　　"]
[null,"　　　　　　　　　　         ※部活動４は4時間以上、部活動３は３時間以上４時間未満、部活動２は2時間以上３時間未満をいう。"]
[null,"　　　　         「業務内容」欄：職員が従事した業務について、その内容を簡潔に記入すること。"]
[null,"　　　         　「従事時間」欄：左欄に手当の支給対象となる業務の終始の時刻を、右欄には時間を記入すること。"]
[null,"　　　         　「備考」欄：この整理簿を補足する事項を記入すること。"]

{"sheet":"１２(副顧問)","index":46,"n_rows":52,"n_cols":18,"rows_kept":52,"cut":false,"hidden":false,"merged":[[15,5,16,9],[11,5,12,9],[7,5,8,9],[31,13,34,13],[27,14,30,14],[27,15,30,15],[35,16,38,16],[31,5,32,9],[27,11,30,11],[27,12,30,12],[27,13,30,13],[31,10,34,10],[27,16,30,16],[15,13,18,13],[35,17,37,17],[39,1,42,1],[39,2,42,2],[39,3,42,3],[39,4,42,4],[37,5,38,9],[41,5,42,9],[39,10,42,10],[39,17,41,17],[39,11,42,11],[39,12,42,12],[39,13,42,13],[39,14,42,14],[39,15,42,15],[39,16,42,16],[35,14,38,14],[35,10,38,10],[39,5,40,9],[35,5,36,9],[31,17,33,17],[31,14,34,14],[31,15,34,15],[31,16,34,16],[43,1,43,3],[9,5,10,9],[13,5,14,9],[17,5,18,9],[21,5,22,9],[25,5,26,9],[29,5,30,9],[33,5,34,9],[35,1,38,1],[35,2,38,2],[35,3,38,3],[35,4,38,4],[7,3,10,3],[7,4,10,4],[35,15,38,15],[31,11,34,11],[31,12,34,12],[31,2,34,2],[31,3,34,3],[31,4,34,4],[27,1,30,1],[27,2,30,2],[27,3,30,3],[27,4,30,4],[27,10,30,10],[27,5,28,9],[35,11,38,11],[35,12,38,12],[35,13,38,13],[19,17,21,17],[23,1,26,1],[23,2,26,2],[23,3,26,3],[23,4,26,4],[23,10,26,10],[23,17,25,17],[23,14,26,14],[23,15,26,15],[23,16,26,16],[19,1,22,1],[19,2,22,2],[19,3,22,3],[19,4,22,4],[19,10,22,10],[19,11,22,11],[19,12,22,12],[19,13,22,13],[23,5,24,9],[19,5,20,9],[27,17,29,17],[31,1,34,1],[7,10,10,10],[11,14,14,14],[11,15,14,15],[11,16,14,16],[23,11,26,11],[23,12,26,12],[23,13,26,13],[19,14,22,14],[19,15,22,15],[19,16,22,16],[11,17,13,17],[15,1,18,1],[15,2,18,2],[15,3,18,3],[15,4,18,4],[15,10,18,10],[15,17,17,17],[15,14,18,14],[15,15,18,15],[15,16,18,16],[15,11,18,11],[15,12,18,12],[4,1,4,2],[4,3,4,4],[4,6,4,8],[4,9,4,10],[4,14,4,17],[6,5,6,9],[6,10,6,13],[7,17,9,17],[11,1,14,1],[11,2,14,2],[11,3,14,3],[11,4,14,4],[11,10,14,10],[11,11,14,11],[11,12,14,12],[11,13,14,13],[7,11,10,11],[7,12,10,12],[7,13,10,13],[7,14,10,14],[7,15,10,15],[7,16,10,16],[7,1,10,1],[7,2,10,2]]}
[]
[]
[null,null,null,"          　　　　　　","令和",{"$f":"'12計画'!AS1-2018","v":2},"年",{"$f":"'12計画'!A7","v":12},"月分","　 教  員  特  殊  業  務  整  理  簿",null,null,null,null,null,null,null,"様式3"]
[]
[null,"氏　名",null,{"$f":"IF('12実績'!K12=\"\",\"\",'12実績'!K12)","v":0},null,"職員\n番号",{"$f":"IF('４(副顧問)'!G5=\"\",\"\",'４(副顧問)'!G5)","v":""},null,null,null,null,null,null,null,{"$f":"'４(副顧問)'!$O$5:$R$5","v":"0学校"}]
[]
[null,"日","曜","要　件","区　分","業　　務　　内　　容",null,null,null,null,"従　事　時　間",null,null,null,"従事場所","所属長\n確認印","従事者印","備　　考"]
[null,{"$f":"'１２'!B8:B11","v":""},{"$f":"IF(B8=\"\",\"\",TEXT(DATE(2018+$F$3,$H$3,B8),\"aaa\"))","v":""},"　　　","　　　",{"$f":"IF(IF(B8=\"\",\"\",VLOOKUP(B8,'12実績'!$A$16:$BK$46,63))=\"大会\",IF(B8=\"\",\"\",VLOOKUP(B8,'12実績'!$A$16:$AO$46,22,FALSE)),IF(B8=\"\",\"\",'12実績'!$AC$4)&IF(B8=\"\",\"\",VLOOKUP(B8,'12実績'!$A$16:$AO$46,22,FALSE)))","v":""},null,null,null,null,{"$f":"IF(IF(B8=\"\",\"\",VLOOKUP(B8,'12実績'!$A$16:$AO$46,5,FALSE))=0,IF(B8=\"\",\"\",VLOOKUP(B8,'12実績'!$A$16:$AO$46,12,FALSE)),IF(B8=\"\",\"\",VLOOKUP(B8,'12実績'!$A$16:$AO$46,5,FALSE)))","v":""},"～",{"$f":"IF(IF(B8=\"\",\"\",VLOOKUP(B8,'12実績'!$A$16:$AO$46,16,FALSE))=0,IF(B8=\"\",\"\",VLOOKUP(B8,'12実績'!$A$16:$AO$46,9,FALSE)),IF(B8=\"\",\"\",VLOOKUP(B8,'12実績'!$A$16:$AO$46,16,FALSE)))","v":""},{"$f":"IF(K8=\"\",\"\",M8-K8)","v":""},{"$f":"IF(B8=\"\",\"\",VLOOKUP(B8,'12実績'!$A$16:$AO$46,34,FALSE))","v":""}]
[]
[]
[null,null,null,null,null,null,null,null,null,null,null,null,null,null,null,null,null,"　　　"]
[null,{"$f":"'１２'!B12:B15","v":""},{"$f":"IF(B12=\"\",\"\",TEXT(DATE(2018+$F$3,$H$3,B12),\"aaa\"))","v":""},"　　　","　　　",{"$f":"IF(IF(B12=\"\",\"\",VLOOKUP(B12,'12実績'!$A$16:$BK$46,63))=\"大会\",IF(B12=\"\",\"\",VLOOKUP(B12,'12実績'!$A$16:$AO$46,22,FALSE)),IF(B12=\"\",\"\",'12実績'!$AC$4)&IF(B12=\"\",\"\",VLOOKUP(B12,'12実績'!$A$16:$AO$46,22,FALSE)))","v":""},null,null,null,null,{"$f":"IF(IF(B12=\"\",\"\",VLOOKUP(B12,'12実績'!$A$16:$AO$46,5,FALSE))=0,IF(B12=\"\",\"\",VLOOKUP(B12,'12実績'!$A$16:$AO$46,12,FALSE)),IF(B12=\"\",\"\",VLOOKUP(B12,'12実績'!$A$16:$AO$46,5,FALSE)))","v":""},"～",{"$f":"IF(IF(B12=\"\",\"\",VLOOKUP(B12,'12実績'!$A$16:$AO$46,16,FALSE))=0,IF(B12=\"\",\"\",VLOOKUP(B12,'12実績'!$A$16:$AO$46,9,FALSE)),IF(B12=\"\",\"\",VLOOKUP(B12,'12実績'!$A$16:$AO$46,16,FALSE)))","v":""},{"$f":"IF(K12=\"\",\"\",M12-K12)","v":""},{"$f":"IF(B12=\"\",\"\",VLOOKUP(B12,'12実績'!$A$16:$AO$46,34,FALSE))","v":""}]
[]
[]
[null,null,null,null,null,null,null,null,null,null,null,null,null,null,null,null,null,"　　　"]
[null,{"$f":"'１２'!B16:B19","v":""},{"$f":"IF(B16=\"\",\"\",TEXT(DATE(2018+$F$3,$H$3,B16),\"aaa\"))","v":""},"　　　","　　　",{"$f":"IF(IF(B16=\"\",\"\",VLOOKUP(B16,'12実績'!$A$16:$BK$46,63))=\"大会\",IF(B16=\"\",\"\",VLOOKUP(B16,'12実績'!$A$16:$AO$46,22,FALSE)),IF(B16=\"\",\"\",'12実績'!$AC$4)&IF(B16=\"\",\"\",VLOOKUP(B16,'12実績'!$A$16:$AO$46,22,FALSE)))","v":""},null,null,null,null,{"$f":"IF(IF(B16=\"\",\"\",VLOOKUP(B16,'12実績'!$A$16:$AO$46,5,FALSE))=0,IF(B16=\"\",\"\",VLOOKUP(B16,'12実績'!$A$16:$AO$46,12,FALSE)),IF(B16=\"\",\"\",VLOOKUP(B16,'12実績'!$A$16:$AO$46,5,FALSE)))","v":""},"～",{"$f":"IF(IF(B16=\"\",\"\",VLOOKUP(B16,'12実績'!$A$16:$AO$46,16,FALSE))=0,IF(B16=\"\",\"\",VLOOKUP(B16,'12実績'!$A$16:$AO$46,9,FALSE)),IF(B16=\"\",\"\",VLOOKUP(B16,'12実績'!$A$16:$AO$46,16,FALSE)))","v":""},{"$f":"IF(K16=\"\",\"\",M16-K16)","v":""},{"$f":"IF(B16=\"\",\"\",VLOOKUP(B16,'12実績'!$A$16:$AO$46,34,FALSE))","v":""}]
[]
[]
[null,null,null,null,null,null,null,null,null,null,null,null,null,null,null,null,null,"　　　"]
[null,{"$f":"'１２'!B20:B23","v":""},{"$f":"IF(B20=\"\",\"\",TEXT(DATE(2018+$F$3,$H$3,B20),\"aaa\"))","v":""},"　　　","　　　",{"$f":"IF(IF(B20=\"\",\"\",VLOOKUP(B20,'12実績'!$A$16:$BK$46,63))=\"大会\",IF(B20=\"\",\"\",VLOOKUP(B20,'12実績'!$A$16:$AO$46,22,FALSE)),IF(B20=\"\",\"\",'12実績'!$AC$4)&IF(B20=\"\",\"\",VLOOKUP(B20,'12実績'!$A$16:$AO$46,22,FALSE)))","v":""},null,null,null,null,{"$f":"IF(IF(B20=\"\",\"\",VLOOKUP(B20,'12実績'!$A$16:$AO$46,5,FALSE))=0,IF(B20=\"\",\"\",VLOOKUP(B20,'12実績'!$A$16:$AO$46,12,FALSE)),IF(B20=\"\",\"\",VLOOKUP(B20,'12実績'!$A$16:$AO$46,5,FALSE)))","v":""},"～",{"$f":"IF(IF(B20=\"\",\"\",VLOOKUP(B20,'12実績'!$A$16:$AO$46,16,FALSE))=0,IF(B20=\"\",\"\",VLOOKUP(B20,'12実績'!$A$16:$AO$46,9,FALSE)),IF(B20=\"\",\"\",VLOOKUP(B20,'12実績'!$A$16:$AO$46,16,FALSE)))","v":""},{"$f":"IF(K20=\"\",\"\",M20-K20)","v":""},{"$f":"IF(B20=\"\",\"\",VLOOKUP(B20,'12実績'!$A$16:$AO$46,34,FALSE))","v":""}]
[]
[]
[null,null,null,null,null,null,null,null,null,null,null,null,null,null,null,null,null,"　　　"]
[null,{"$f":"'１２'!B24:B27","v":""},{"$f":"IF(B24=\"\",\"\",TEXT(DATE(2018+$F$3,$H$3,B24),\"aaa\"))","v":""},"　　　","　　　",{"$f":"IF(IF(B24=\"\",\"\",VLOOKUP(B24,'12実績'!$A$16:$BK$46,63))=\"大会\",IF(B24=\"\",\"\",VLOOKUP(B24,'12実績'!$A$16:$AO$46,22,FALSE)),IF(B24=\"\",\"\",'12実績'!$AC$4)&IF(B24=\"\",\"\",VLOOKUP(B24,'12実績'!$A$16:$AO$46,22,FALSE)))","v":""},null,null,null,null,{"$f":"IF(IF(B24=\"\",\"\",VLOOKUP(B24,'12実績'!$A$16:$AO$46,5,FALSE))=0,IF(B24=\"\",\"\",VLOOKUP(B24,'12実績'!$A$16:$AO$46,12,FALSE)),IF(B24=\"\",\"\",VLOOKUP(B24,'12実績'!$A$16:$AO$46,5,FALSE)))","v":""},"～",{"$f":"IF(IF(B24=\"\",\"\",VLOOKUP(B24,'12実績'!$A$16:$AO$46,16,FALSE))=0,IF(B24=\"\",\"\",VLOOKUP(B24,'12実績'!$A$16:$AO$46,9,FALSE)),IF(B24=\"\",\"\",VLOOKUP(B24,'12実績'!$A$16:$AO$46,16,FALSE)))","v":""},{"$f":"IF(K24=\"\",\"\",M24-K24)","v":""},{"$f":"IF(B24=\"\",\"\",VLOOKUP(B24,'12実績'!$A$16:$AO$46,34,FALSE))","v":""}]
[]
[]
[null,null,null,null,null,null,null,null,null,null,null,null,null,null,null,null,null,"　　　"]
[null,{"$f":"'１２'!B28:B31","v":""},{"$f":"IF(B28=\"\",\"\",TEXT(DATE(2018+$F$3,$H$3,B28),\"aaa\"))","v":""},"　　　","　　　",{"$f":"IF(IF(B28=\"\",\"\",VLOOKUP(B28,'12実績'!$A$16:$BK$46,63))=\"大会\",IF(B28=\"\",\"\",VLOOKUP(B28,'12実績'!$A$16:$AO$46,22,FALSE)),IF(B28=\"\",\"\",'12実績'!$AC$4)&IF(B28=\"\",\"\",VLOOKUP(B28,'12実績'!$A$16:$AO$46,22,FALSE)))","v":""},null,null,null,null,{"$f":"IF(IF(B28=\"\",\"\",VLOOKUP(B28,'12実績'!$A$16:$AO$46,5,FALSE))=0,IF(B28=\"\",\"\",VLOOKUP(B28,'12実績'!$A$16:$AO$46,12,FALSE)),IF(B28=\"\",\"\",VLOOKUP(B28,'12実績'!$A$16:$AO$46,5,FALSE)))","v":""},"～",{"$f":"IF(IF(B28=\"\",\"\",VLOOKUP(B28,'12実績'!$A$16:$AO$46,16,FALSE))=0,IF(B28=\"\",\"\",VLOOKUP(B28,'12実績'!$A$16:$AO$46,9,FALSE)),IF(B28=\"\",\"\",VLOOKUP(B28,'12実績'!$A$16:$AO$46,16,FALSE)))","v":""},{"$f":"IF(K28=\"\",\"\",M28-K28)","v":""},{"$f":"IF(B28=\"\",\"\",VLOOKUP(B28,'12実績'!$A$16:$AO$46,34,FALSE))","v":""}]
[]
[]
[null,null,null,null,null,null,null,null,null,null,null,null,null,null,null,null,null,"　　　"]
[null,{"$f":"'１２'!B32:B35","v":""},{"$f":"IF(B32=\"\",\"\",TEXT(DATE(2018+$F$3,$H$3,B32),\"aaa\"))","v":""},"　　　","　　　",{"$f":"IF(IF(B32=\"\",\"\",VLOOKUP(B32,'12実績'!$A$16:$BK$46,63))=\"大会\",IF(B32=\"\",\"\",VLOOKUP(B32,'12実績'!$A$16:$AO$46,22,FALSE)),IF(B32=\"\",\"\",'12実績'!$AC$4)&IF(B32=\"\",\"\",VLOOKUP(B32,'12実績'!$A$16:$AO$46,22,FALSE)))","v":""},null,null,null,null,{"$f":"IF(IF(B32=\"\",\"\",VLOOKUP(B32,'12実績'!$A$16:$AO$46,5,FALSE))=0,IF(B32=\"\",\"\",VLOOKUP(B32,'12実績'!$A$16:$AO$46,12,FALSE)),IF(B32=\"\",\"\",VLOOKUP(B32,'12実績'!$A$16:$AO$46,5,FALSE)))","v":""},"～",{"$f":"IF(IF(B32=\"\",\"\",VLOOKUP(B32,'12実績'!$A$16:$AO$46,16,FALSE))=0,IF(B32=\"\",\"\",VLOOKUP(B32,'12実績'!$A$16:$AO$46,9,FALSE)),IF(B32=\"\",\"\",VLOOKUP(B32,'12実績'!$A$16:$AO$46,16,FALSE)))","v":""},{"$f":"IF(K32=\"\",\"\",M32-K32)","v":""},{"$f":"IF(B32=\"\",\"\",VLOOKUP(B32,'12実績'!$A$16:$AO$46,34,FALSE))","v":""}]
[]
[]
[null,null,null,null,null,null,null,null,null,null,null,null,null,null,null,null,null,"　　　"]
[null,{"$f":"'１２'!B36:B39","v":""},{"$f":"IF(B36=\"\",\"\",TEXT(DATE(2018+$F$3,$H$3,B36),\"aaa\"))","v":""},"　　　","　　　",{"$f":"IF(IF(B36=\"\",\"\",VLOOKUP(B36,'12実績'!$A$16:$BK$46,63))=\"大会\",IF(B36=\"\",\"\",VLOOKUP(B36,'12実績'!$A$16:$AO$46,22,FALSE)),IF(B36=\"\",\"\",'12実績'!$AC$4)&IF(B36=\"\",\"\",VLOOKUP(B36,'12実績'!$A$16:$AO$46,22,FALSE)))","v":""},null,null,null,null,{"$f":"IF(IF(B36=\"\",\"\",VLOOKUP(B36,'12実績'!$A$16:$AO$46,5,FALSE))=0,IF(B36=\"\",\"\",VLOOKUP(B36,'12実績'!$A$16:$AO$46,12,FALSE)),IF(B36=\"\",\"\",VLOOKUP(B36,'12実績'!$A$16:$AO$46,5,FALSE)))","v":""},"～",{"$f":"IF(IF(B36=\"\",\"\",VLOOKUP(B36,'12実績'!$A$16:$AO$46,16,FALSE))=0,IF(B36=\"\",\"\",VLOOKUP(B36,'12実績'!$A$16:$AO$46,9,FALSE)),IF(B36=\"\",\"\",VLOOKUP(B36,'12実績'!$A$16:$AO$46,16,FALSE)))","v":""},{"$f":"IF(K36=\"\",\"\",M36-K36)","v":""},{"$f":"IF(B36=\"\",\"\",VLOOKUP(B36,'12実績'!$A$16:$AO$46,34,FALSE))","v":""}]
[]
[]
[null,null,null,null,null,null,null,null,null,null,null,null,null,null,null,null,null,"　　　"]
[null,{"$f":"'１２'!B40:B43","v":""},{"$f":"IF(B40=\"\",\"\",TEXT(DATE(2018+$F$3,$H$3,B40),\"aaa\"))","v":""},"　　　","　　　",{"$f":"IF(IF(B40=\"\",\"\",VLOOKUP(B40,'12実績'!$A$16:$BK$46,63))=\"大会\",IF(B40=\"\",\"\",VLOOKUP(B40,'12実績'!$A$16:$AO$46,22,FALSE)),IF(B40=\"\",\"\",'12実績'!$AC$4)&IF(B40=\"\",\"\",VLOOKUP(B40,'12実績'!$A$16:$AO$46,22,FALSE)))","v":""},null,null,null,null,{"$f":"IF(IF(B40=\"\",\"\",VLOOKUP(B40,'12実績'!$A$16:$AO$46,5,FALSE))=0,IF(B40=\"\",\"\",VLOOKUP(B40,'12実績'!$A$16:$AO$46,12,FALSE)),IF(B40=\"\",\"\",VLOOKUP(B40,'12実績'!$A$16:$AO$46,5,FALSE)))","v":""},"～",{"$f":"IF(IF(B40=\"\",\"\",VLOOKUP(B40,'12実績'!$A$16:$AO$46,16,FALSE))=0,IF(B40=\"\",\"\",VLOOKUP(B40,'12実績'!$A$16:$AO$46,9,FALSE)),IF(B40=\"\",\"\",VLOOKUP(B40,'12実績'!$A$16:$AO$46,16,FALSE)))","v":""},{"$f":"IF(K40=\"\",\"\",M40-K40)","v":""},{"$f":"IF(B40=\"\",\"\",VLOOKUP(B40,'12実績'!$A$16:$AO$46,34,FALSE))","v":""}]
[]
[]
[null,null,null,null,null,null,null,null,null,null,null,null,null,null,null,null,null,"　　　"]
[null,"( 記入要領等 )"]
[null,"　         　１　この整理簿は、教員特殊業務手当及び面接指導手当の支給対象となるものについて、当該手当の支給に必要な事の整理をするものであること。"]
[null,"　　         ２　記入にあたっては、次のように記入すること。"]
[null,"　　　         　「要件」欄：週休日等　　　半日振替日　　　　その他"]
[null,"　　　　         「区分」欄：非常災害　　救急業務　　補導業務　　修学旅行等　　対外運動等　　入学試験業務　　　部活動４　　　　部活動３　　　部活動２　　　面接指導　　　　　"]
[null,"　　　　　　　　　　         ※部活動４は4時間以上、部活動３は３時間以上４時間未満、部活動２は2時間以上３時間未満をいう。"]
[null,"　　　　         「業務内容」欄：職員が従事した業務について、その内容を簡潔に記入すること。"]
[null,"　　　         　「従事時間」欄：左欄に手当の支給対象となる業務の終始の時刻を、右欄には時間を記入すること。"]
[null,"　　　         　「備考」欄：この整理簿を補足する事項を記入すること。"]

{"sheet":"１(副顧問)","index":47,"n_rows":52,"n_cols":18,"rows_kept":52,"cut":false,"hidden":false,"merged":[[15,5,16,9],[11,5,12,9],[7,5,8,9],[31,13,34,13],[27,14,30,14],[27,15,30,15],[35,16,38,16],[31,5,32,9],[27,11,30,11],[27,12,30,12],[27,13,30,13],[31,10,34,10],[27,16,30,16],[15,13,18,13],[35,17,37,17],[39,1,42,1],[39,2,42,2],[39,3,42,3],[39,4,42,4],[37,5,38,9],[41,5,42,9],[39,10,42,10],[39,17,41,17],[39,11,42,11],[39,12,42,12],[39,13,42,13],[39,14,42,14],[39,15,42,15],[39,16,42,16],[35,14,38,14],[35,10,38,10],[39,5,40,9],[35,5,36,9],[31,17,33,17],[31,14,34,14],[31,15,34,15],[31,16,34,16],[43,1,43,3],[9,5,10,9],[13,5,14,9],[17,5,18,9],[21,5,22,9],[25,5,26,9],[29,5,30,9],[33,5,34,9],[35,1,38,1],[35,2,38,2],[35,3,38,3],[35,4,38,4],[7,3,10,3],[7,4,10,4],[35,15,38,15],[31,11,34,11],[31,12,34,12],[31,2,34,2],[31,3,34,3],[31,4,34,4],[27,1,30,1],[27,2,30,2],[27,3,30,3],[27,4,30,4],[27,10,30,10],[27,5,28,9],[35,11,38,11],[35,12,38,12],[35,13,38,13],[19,17,21,17],[23,1,26,1],[23,2,26,2],[23,3,26,3],[23,4,26,4],[23,10,26,10],[23,17,25,17],[23,14,26,14],[23,15,26,15],[23,16,26,16],[19,1,22,1],[19,2,22,2],[19,3,22,3],[19,4,22,4],[19,10,22,10],[19,11,22,11],[19,12,22,12],[19,13,22,13],[23,5,24,9],[19,5,20,9],[27,17,29,17],[31,1,34,1],[7,10,10,10],[11,14,14,14],[11,15,14,15],[11,16,14,16],[23,11,26,11],[23,12,26,12],[23,13,26,13],[19,14,22,14],[19,15,22,15],[19,16,22,16],[11,17,13,17],[15,1,18,1],[15,2,18,2],[15,3,18,3],[15,4,18,4],[15,10,18,10],[15,17,17,17],[15,14,18,14],[15,15,18,15],[15,16,18,16],[15,11,18,11],[15,12,18,12],[4,1,4,2],[4,3,4,4],[4,6,4,8],[4,9,4,10],[4,14,4,17],[6,5,6,9],[6,10,6,13],[7,17,9,17],[11,1,14,1],[11,2,14,2],[11,3,14,3],[11,4,14,4],[11,10,14,10],[11,11,14,11],[11,12,14,12],[11,13,14,13],[7,11,10,11],[7,12,10,12],[7,13,10,13],[7,14,10,14],[7,15,10,15],[7,16,10,16],[7,1,10,1],[7,2,10,2]]}
[]
[]
[null,null,null,"          　　　　　　","令和",{"$f":"'1計画'!AS1-2018","v":3},"年",{"$f":"'1計画'!A7","v":1},"月分","　 教  員  特  殊  業  務  整  理  簿",null,null,null,null,null,null,null,"様式3"]
[]
[null,"氏　名",null,{"$f":"IF('1実績'!K12=\"\",\"\",'1実績'!K12)","v":0},null,"職員\n番号",{"$f":"IF('４(副顧問)'!G5=\"\",\"\",'４(副顧問)'!G5)","v":""},null,null,null,null,null,null,null,{"$f":"'４(副顧問)'!$O$5:$R$5","v":"0学校"}]
[]
[null,"日","曜","要　件","区　分","業　　務　　内　　容",null,null,null,null,"従　事　時　間",null,null,null,"従事場所","所属長\n確認印","従事者印","備　　考"]
[null,{"$f":"'１'!B8:B11","v":""},{"$f":"IF(B8=\"\",\"\",TEXT(DATE(2018+$F$3,$H$3,B8),\"aaa\"))","v":""},"　　　","　　　",{"$f":"IF(IF(B8=\"\",\"\",VLOOKUP(B8,'1実績'!$A$16:$BK$46,63))=\"大会\",IF(B8=\"\",\"\",VLOOKUP(B8,'1実績'!$A$16:$AO$46,22,FALSE)),IF(B8=\"\",\"\",'1実績'!$AC$4)&IF(B8=\"\",\"\",VLOOKUP(B8,'1実績'!$A$16:$AO$46,22,FALSE)))","v":""},null,null,null,null,{"$f":"IF(IF(B8=\"\",\"\",VLOOKUP(B8,'1実績'!$A$16:$AO$46,5,FALSE))=0,IF(B8=\"\",\"\",VLOOKUP(B8,'1実績'!$A$16:$AO$46,12,FALSE)),IF(B8=\"\",\"\",VLOOKUP(B8,'1実績'!$A$16:$AO$46,5,FALSE)))","v":""},"～",{"$f":"IF(IF(B8=\"\",\"\",VLOOKUP(B8,'1実績'!$A$16:$AO$46,16,FALSE))=0,IF(B8=\"\",\"\",VLOOKUP(B8,'1実績'!$A$16:$AO$46,9,FALSE)),IF(B8=\"\",\"\",VLOOKUP(B8,'1実績'!$A$16:$AO$46,16,FALSE)))","v":""},{"$f":"IF(K8=\"\",\"\",M8-K8)","v":""},{"$f":"IF(B8=\"\",\"\",VLOOKUP(B8,'1実績'!$A$16:$AO$46,34,FALSE))","v":""}]
[]
[]
[null,null,null,null,null,null,null,null,null,null,null,null,null,null,null,null,null,"　　　"]
[null,{"$f":"'１'!B12:B15","v":""},{"$f":"IF(B12=\"\",\"\",TEXT(DATE(2018+$F$3,$H$3,B12),\"aaa\"))","v":""},"　　　","　　　",{"$f":"IF(IF(B12=\"\",\"\",VLOOKUP(B12,'1実績'!$A$16:$BK$46,63))=\"大会\",IF(B12=\"\",\"\",VLOOKUP(B12,'1実績'!$A$16:$AO$46,22,FALSE)),IF(B12=\"\",\"\",'1実績'!$AC$4)&IF(B12=\"\",\"\",VLOOKUP(B12,'1実績'!$A$16:$AO$46,22,FALSE)))","v":""},null,null,null,null,{"$f":"IF(IF(B12=\"\",\"\",VLOOKUP(B12,'1実績'!$A$16:$AO$46,5,FALSE))=0,IF(B12=\"\",\"\",VLOOKUP(B12,'1実績'!$A$16:$AO$46,12,FALSE)),IF(B12=\"\",\"\",VLOOKUP(B12,'1実績'!$A$16:$AO$46,5,FALSE)))","v":""},"～",{"$f":"IF(IF(B12=\"\",\"\",VLOOKUP(B12,'1実績'!$A$16:$AO$46,16,FALSE))=0,IF(B12=\"\",\"\",VLOOKUP(B12,'1実績'!$A$16:$AO$46,9,FALSE)),IF(B12=\"\",\"\",VLOOKUP(B12,'1実績'!$A$16:$AO$46,16,FALSE)))","v":""},{"$f":"IF(K12=\"\",\"\",M12-K12)","v":""},{"$f":"IF(B12=\"\",\"\",VLOOKUP(B12,'1実績'!$A$16:$AO$46,34,FALSE))","v":""}]
[]
[]
[null,null,null,null,null,null,null,null,null,null,null,null,null,null,null,null,null,"　　　"]
[null,{"$f":"'１'!B16:B19","v":""},{"$f":"IF(B16=\"\",\"\",TEXT(DATE(2018+$F$3,$H$3,B16),\"aaa\"))","v":""},"　　　","　　　",{"$f":"IF(IF(B16=\"\",\"\",VLOOKUP(B16,'1実績'!$A$16:$BK$46,63))=\"大会\",IF(B16=\"\",\"\",VLOOKUP(B16,'1実績'!$A$16:$AO$46,22,FALSE)),IF(B16=\"\",\"\",'1実績'!$AC$4)&IF(B16=\"\",\"\",VLOOKUP(B16,'1実績'!$A$16:$AO$46,22,FALSE)))","v":""},null,null,null,null,{"$f":"IF(IF(B16=\"\",\"\",VLOOKUP(B16,'1実績'!$A$16:$AO$46,5,FALSE))=0,IF(B16=\"\",\"\",VLOOKUP(B16,'1実績'!$A$16:$AO$46,12,FALSE)),IF(B16=\"\",\"\",VLOOKUP(B16,'1実績'!$A$16:$AO$46,5,FALSE)))","v":""},"～",{"$f":"IF(IF(B16=\"\",\"\",VLOOKUP(B16,'1実績'!$A$16:$AO$46,16,FALSE))=0,IF(B16=\"\",\"\",VLOOKUP(B16,'1実績'!$A$16:$AO$46,9,FALSE)),IF(B16=\"\",\"\",VLOOKUP(B16,'1実績'!$A$16:$AO$46,16,FALSE)))","v":""},{"$f":"IF(K16=\"\",\"\",M16-K16)","v":""},{"$f":"IF(B16=\"\",\"\",VLOOKUP(B16,'1実績'!$A$16:$AO$46,34,FALSE))","v":""}]
[]
[]
[null,null,null,null,null,null,null,null,null,null,null,null,null,null,null,null,null,"　　　"]
[null,{"$f":"'１'!B20:B23","v":""},{"$f":"IF(B20=\"\",\"\",TEXT(DATE(2018+$F$3,$H$3,B20),\"aaa\"))","v":""},"　　　","　　　",{"$f":"IF(IF(B20=\"\",\"\",VLOOKUP(B20,'1実績'!$A$16:$BK$46,63))=\"大会\",IF(B20=\"\",\"\",VLOOKUP(B20,'1実績'!$A$16:$AO$46,22,FALSE)),IF(B20=\"\",\"\",'1実績'!$AC$4)&IF(B20=\"\",\"\",VLOOKUP(B20,'1実績'!$A$16:$AO$46,22,FALSE)))","v":""},null,null,null,null,{"$f":"IF(IF(B20=\"\",\"\",VLOOKUP(B20,'1実績'!$A$16:$AO$46,5,FALSE))=0,IF(B20=\"\",\"\",VLOOKUP(B20,'1実績'!$A$16:$AO$46,12,FALSE)),IF(B20=\"\",\"\",VLOOKUP(B20,'1実績'!$A$16:$AO$46,5,FALSE)))","v":""},"～",{"$f":"IF(IF(B20=\"\",\"\",VLOOKUP(B20,'1実績'!$A$16:$AO$46,16,FALSE))=0,IF(B20=\"\",\"\",VLOOKUP(B20,'1実績'!$A$16:$AO$46,9,FALSE)),IF(B20=\"\",\"\",VLOOKUP(B20,'1実績'!$A$16:$AO$46,16,FALSE)))","v":""},{"$f":"IF(K20=\"\",\"\",M20-K20)","v":""},{"$f":"IF(B20=\"\",\"\",VLOOKUP(B20,'1実績'!$A$16:$AO$46,34,FALSE))","v":""}]
[]
[]
[null,null,null,null,null,null,null,null,null,null,null,null,null,null,null,null,null,"　　　"]
[null,{"$f":"'１'!B24:B27","v":""},{"$f":"IF(B24=\"\",\"\",TEXT(DATE(2018+$F$3,$H$3,B24),\"aaa\"))","v":""},"　　　","　　　",{"$f":"IF(IF(B24=\"\",\"\",VLOOKUP(B24,'1実績'!$A$16:$BK$46,63))=\"大会\",IF(B24=\"\",\"\",VLOOKUP(B24,'1実績'!$A$16:$AO$46,22,FALSE)),IF(B24=\"\",\"\",'1実績'!$AC$4)&IF(B24=\"\",\"\",VLOOKUP(B24,'1実績'!$A$16:$AO$46,22,FALSE)))","v":""},null,null,null,null,{"$f":"IF(IF(B24=\"\",\"\",VLOOKUP(B24,'1実績'!$A$16:$AO$46,5,FALSE))=0,IF(B24=\"\",\"\",VLOOKUP(B24,'1実績'!$A$16:$AO$46,12,FALSE)),IF(B24=\"\",\"\",VLOOKUP(B24,'1実績'!$A$16:$AO$46,5,FALSE)))","v":""},"～",{"$f":"IF(IF(B24=\"\",\"\",VLOOKUP(B24,'1実績'!$A$16:$AO$46,16,FALSE))=0,IF(B24=\"\",\"\",VLOOKUP(B24,'1実績'!$A$16:$AO$46,9,FALSE)),IF(B24=\"\",\"\",VLOOKUP(B24,'1実績'!$A$16:$AO$46,16,FALSE)))","v":""},{"$f":"IF(K24=\"\",\"\",M24-K24)","v":""},{"$f":"IF(B24=\"\",\"\",VLOOKUP(B24,'1実績'!$A$16:$AO$46,34,FALSE))","v":""}]
[]
[]
[null,null,null,null,null,null,null,null,null,null,null,null,null,null,null,null,null,"　　　"]
[null,{"$f":"'１'!B28:B31","v":""},{"$f":"IF(B28=\"\",\"\",TEXT(DATE(2018+$F$3,$H$3,B28),\"aaa\"))","v":""},"　　　","　　　",{"$f":"IF(IF(B28=\"\",\"\",VLOOKUP(B28,'1実績'!$A$16:$BK$46,63))=\"大会\",IF(B28=\"\",\"\",VLOOKUP(B28,'1実績'!$A$16:$AO$46,22,FALSE)),IF(B28=\"\",\"\",'1実績'!$AC$4)&IF(B28=\"\",\"\",VLOOKUP(B28,'1実績'!$A$16:$AO$46,22,FALSE)))","v":""},null,null,null,null,{"$f":"IF(IF(B28=\"\",\"\",VLOOKUP(B28,'1実績'!$A$16:$AO$46,5,FALSE))=0,IF(B28=\"\",\"\",VLOOKUP(B28,'1実績'!$A$16:$AO$46,12,FALSE)),IF(B28=\"\",\"\",VLOOKUP(B28,'1実績'!$A$16:$AO$46,5,FALSE)))","v":""},"～",{"$f":"IF(IF(B28=\"\",\"\",VLOOKUP(B28,'1実績'!$A$16:$AO$46,16,FALSE))=0,IF(B28=\"\",\"\",VLOOKUP(B28,'1実績'!$A$16:$AO$46,9,FALSE)),IF(B28=\"\",\"\",VLOOKUP(B28,'1実績'!$A$16:$AO$46,16,FALSE)))","v":""},{"$f":"IF(K28=\"\",\"\",M28-K28)","v":""},{"$f":"IF(B28=\"\",\"\",VLOOKUP(B28,'1実績'!$A$16:$AO$46,34,FALSE))","v":""}]
[]
[]
[null,null,null,null,null,null,null,null,null,null,null,null,null,null,null,null,null,"　　　"]
[null,{"$f":"'１'!B32:B35","v":""},{"$f":"IF(B32=\"\",\"\",TEXT(DATE(2018+$F$3,$H$3,B32),\"aaa\"))","v":""},"　　　","　　　",{"$f":"IF(IF(B32=\"\",\"\",VLOOKUP(B32,'1実績'!$A$16:$BK$46,63))=\"大会\",IF(B32=\"\",\"\",VLOOKUP(B32,'1実績'!$A$16:$AO$46,22,FALSE)),IF(B32=\"\",\"\",'1実績'!$AC$4)&IF(B32=\"\",\"\",VLOOKUP(B32,'1実績'!$A$16:$AO$46,22,FALSE)))","v":""},null,null,null,null,{"$f":"IF(IF(B32=\"\",\"\",VLOOKUP(B32,'1実績'!$A$16:$AO$46,5,FALSE))=0,IF(B32=\"\",\"\",VLOOKUP(B32,'1実績'!$A$16:$AO$46,12,FALSE)),IF(B32=\"\",\"\",VLOOKUP(B32,'1実績'!$A$16:$AO$46,5,FALSE)))","v":""},"～",{"$f":"IF(IF(B32=\"\",\"\",VLOOKUP(B32,'1実績'!$A$16:$AO$46,16,FALSE))=0,IF(B32=\"\",\"\",VLOOKUP(B32,'1実績'!$A$16:$AO$46,9,FALSE)),IF(B32=\"\",\"\",VLOOKUP(B32,'1実績'!$A$16:$AO$46,16,FALSE)))","v":""},{"$f":"IF(K32=\"\",\"\",M32-K32)","v":""},{"$f":"IF(B32=\"\",\"\",VLOOKUP(B32,'1実績'!$A$16:$AO$46,34,FALSE))","v":""}]
[]
[]
[null,null,null,null,null,null,null,null,null,null,null,null,null,null,null,null,null,"　　　"]
[null,{"$f":"'１'!B36:B39","v":""},{"$f":"IF(B36=\"\",\"\",TEXT(DATE(2018+$F$3,$H$3,B36),\"aaa\"))","v":""},"　　　","　　　",{"$f":"IF(IF(B36=\"\",\"\",VLOOKUP(B36,'1実績'!$A$16:$BK$46,63))=\"大会\",IF(B36=\"\",\"\",VLOOKUP(B36,'1実績'!$A$16:$AO$46,22,FALSE)),IF(B36=\"\",\"\",'1実績'!$AC$4)&IF(B36=\"\",\"\",VLOOKUP(B36,'1実績'!$A$16:$AO$46,22,FALSE)))","v":""},null,null,null,null,{"$f":"IF(IF(B36=\"\",\"\",VLOOKUP(B36,'1実績'!$A$16:$AO$46,5,FALSE))=0,IF(B36=\"\",\"\",VLOOKUP(B36,'1実績'!$A$16:$AO$46,12,FALSE)),IF(B36=\"\",\"\",VLOOKUP(B36,'1実績'!$A$16:$AO$46,5,FALSE)))","v":""},"～",{"$f":"IF(IF(B36=\"\",\"\",VLOOKUP(B36,'1実績'!$A$16:$AO$46,16,FALSE))=0,IF(B36=\"\",\"\",VLOOKUP(B36,'1実績'!$A$16:$AO$46,9,FALSE)),IF(B36=\"\",\"\",VLOOKUP(B36,'1実績'!$A$16:$AO$46,16,FALSE)))","v":""},{"$f":"IF(K36=\"\",\"\",M36-K36)","v":""},{"$f":"IF(B36=\"\",\"\",VLOOKUP(B36,'1実績'!$A$16:$AO$46,34,FALSE))","v":""}]
[]
[]
[null,null,null,null,null,null,null,null,null,null,null,null,null,null,null,null,null,"　　　"]
[null,{"$f":"'１'!B40:B43","v":""},{"$f":"IF(B40=\"\",\"\",TEXT(DATE(2018+$F$3,$H$3,B40),\"aaa\"))","v":""},"　　　","　　　",{"$f":"IF(IF(B40=\"\",\"\",VLOOKUP(B40,'1実績'!$A$16:$BK$46,63))=\"大会\",IF(B40=\"\",\"\",VLOOKUP(B40,'1実績'!$A$16:$AO$46,22,FALSE)),IF(B40=\"\",\"\",'1実績'!$AC$4)&IF(B40=\"\",\"\",VLOOKUP(B40,'1実績'!$A$16:$AO$46,22,FALSE)))","v":""},null,null,null,null,{"$f":"IF(IF(B40=\"\",\"\",VLOOKUP(B40,'1実績'!$A$16:$AO$46,5,FALSE))=0,IF(B40=\"\",\"\",VLOOKUP(B40,'1実績'!$A$16:$AO$46,12,FALSE)),IF(B40=\"\",\"\",VLOOKUP(B40,'1実績'!$A$16:$AO$46,5,FALSE)))","v":""},"～",{"$f":"IF(IF(B40=\"\",\"\",VLOOKUP(B40,'1実績'!$A$16:$AO$46,16,FALSE))=0,IF(B40=\"\",\"\",VLOOKUP(B40,'1実績'!$A$16:$AO$46,9,FALSE)),IF(B40=\"\",\"\",VLOOKUP(B40,'1実績'!$A$16:$AO$46,16,FALSE)))","v":""},{"$f":"IF(K40=\"\",\"\",M40-K40)","v":""},{"$f":"IF(B40=\"\",\"\",VLOOKUP(B40,'1実績'!$A$16:$AO$46,34,FALSE))","v":""}]
[]
[]
[null,null,null,null,null,null,null,null,null,null,null,null,null,null,null,null,null,"　　　"]
[null,"( 記入要領等 )"]
[null,"　         　１　この整理簿は、教員特殊業務手当及び面接指導手当の支給対象となるものについて、当該手当の支給に必要な事の整理をするものであること。"]
[null,"　　         ２　記入にあたっては、次のように記入すること。"]
[null,"　　　         　「要件」欄：週休日等　　　半日振替日　　　　その他"]
[null,"　　　　         「区分」欄：非常災害　　救急業務　　補導業務　　修学旅行等　　対外運動等　　入学試験業務　　　部活動４　　　　部活動３　　　部活動２　　　面接指導　　　　　"]
[null,"　　　　　　　　　　         ※部活動４は4時間以上、部活動３は３時間以上４時間未満、部活動２は2時間以上３時間未満をいう。"]
[null,"　　　　         「業務内容」欄：職員が従事した業務について、その内容を簡潔に記入すること。"]
[null,"　　　         　「従事時間」欄：左欄に手当の支給対象となる業務の終始の時刻を、右欄には時間を記入すること。"]
[null,"　　　         　「備考」欄：この整理簿を補足する事項を記入すること。"]

{"sheet":"２(副顧問)","index":48,"n_rows":52,"n_cols":18,"rows_kept":52,"cut":false,"hidden":false,"merged":[[15,5,16,9],[11,5,12,9],[7,5,8,9],[31,13,34,13],[27,14,30,14],[27,15,30,15],[35,16,38,16],[31,5,32,9],[27,11,30,11],[27,12,30,12],[27,13,30,13],[31,10,34,10],[27,16,30,16],[15,13,18,13],[35,17,37,17],[39,1,42,1],[39,2,42,2],[39,3,42,3],[39,4,42,4],[37,5,38,9],[41,5,42,9],[39,10,42,10],[39,17,41,17],[39,11,42,11],[39,12,42,12],[39,13,42,13],[39,14,42,14],[39,15,42,15],[39,16,42,16],[35,14,38,14],[35,10,38,10],[39,5,40,9],[35,5,36,9],[31,17,33,17],[31,14,34,14],[31,15,34,15],[31,16,34,16],[43,1,43,3],[9,5,10,9],[13,5,14,9],[17,5,18,9],[21,5,22,9],[25,5,26,9],[29,5,30,9],[33,5,34,9],[35,1,38,1],[35,2,38,2],[35,3,38,3],[35,4,38,4],[7,3,10,3],[7,4,10,4],[35,15,38,15],[31,11,34,11],[31,12,34,12],[31,2,34,2],[31,3,34,3],[31,4,34,4],[27,1,30,1],[27,2,30,2],[27,3,30,3],[27,4,30,4],[27,10,30,10],[27,5,28,9],[35,11,38,11],[35,12,38,12],[35,13,38,13],[19,17,21,17],[23,1,26,1],[23,2,26,2],[23,3,26,3],[23,4,26,4],[23,10,26,10],[23,17,25,17],[23,14,26,14],[23,15,26,15],[23,16,26,16],[19,1,22,1],[19,2,22,2],[19,3,22,3],[19,4,22,4],[19,10,22,10],[19,11,22,11],[19,12,22,12],[19,13,22,13],[23,5,24,9],[19,5,20,9],[27,17,29,17],[31,1,34,1],[7,10,10,10],[11,14,14,14],[11,15,14,15],[11,16,14,16],[23,11,26,11],[23,12,26,12],[23,13,26,13],[19,14,22,14],[19,15,22,15],[19,16,22,16],[11,17,13,17],[15,1,18,1],[15,2,18,2],[15,3,18,3],[15,4,18,4],[15,10,18,10],[15,17,17,17],[15,14,18,14],[15,15,18,15],[15,16,18,16],[15,11,18,11],[15,12,18,12],[4,1,4,2],[4,3,4,4],[4,6,4,8],[4,9,4,10],[4,14,4,17],[6,5,6,9],[6,10,6,13],[7,17,9,17],[11,1,14,1],[11,2,14,2],[11,3,14,3],[11,4,14,4],[11,10,14,10],[11,11,14,11],[11,12,14,12],[11,13,14,13],[7,11,10,11],[7,12,10,12],[7,13,10,13],[7,14,10,14],[7,15,10,15],[7,16,10,16],[7,1,10,1],[7,2,10,2]]}
[]
[]
[null,null,null,"          　　　　　　","令和",{"$f":"'2計画'!AS1-2018","v":3},"年",{"$f":"'2計画'!A7","v":2},"月分","　 教  員  特  殊  業  務  整  理  簿",null,null,null,null,null,null,null,"様式3"]
[]
[null,"氏　名",null,{"$f":"IF('2実績'!K12=\"\",\"\",'2実績'!K12)","v":0},null,"職員\n番号",{"$f":"IF('４(副顧問)'!G5=\"\",\"\",'４(副顧問)'!G5)","v":""},null,null,null,null,null,null,null,{"$f":"'４(副顧問)'!$O$5:$R$5","v":"0学校"}]
[]
[null,"日","曜","要　件","区　分","業　　務　　内　　容",null,null,null,null,"従　事　時　間",null,null,null,"従事場所","所属長\n確認印","従事者印","備　　考"]
[null,{"$f":"'２'!B8:B11","v":""},{"$f":"IF(B8=\"\",\"\",TEXT(DATE(2018+$F$3,$H$3,B8),\"aaa\"))","v":""},"　　　","　　　",{"$f":"IF(IF(B8=\"\",\"\",VLOOKUP(B8,'2実績'!$A$16:$BK$46,63))=\"大会\",IF(B8=\"\",\"\",VLOOKUP(B8,'2実績'!$A$16:$AO$46,22,FALSE)),IF(B8=\"\",\"\",'2実績'!$AC$4)&IF(B8=\"\",\"\",VLOOKUP(B8,'2実績'!$A$16:$AO$46,22,FALSE)))","v":""},null,null,null,null,{"$f":"IF(IF(B8=\"\",\"\",VLOOKUP(B8,'2実績'!$A$16:$AO$46,5,FALSE))=0,IF(B8=\"\",\"\",VLOOKUP(B8,'2実績'!$A$16:$AO$46,12,FALSE)),IF(B8=\"\",\"\",VLOOKUP(B8,'2実績'!$A$16:$AO$46,5,FALSE)))","v":""},"～",{"$f":"IF(IF(B8=\"\",\"\",VLOOKUP(B8,'2実績'!$A$16:$AO$46,16,FALSE))=0,IF(B8=\"\",\"\",VLOOKUP(B8,'2実績'!$A$16:$AO$46,9,FALSE)),IF(B8=\"\",\"\",VLOOKUP(B8,'2実績'!$A$16:$AO$46,16,FALSE)))","v":""},{"$f":"IF(K8=\"\",\"\",M8-K8)","v":""},{"$f":"IF(B8=\"\",\"\",VLOOKUP(B8,'2実績'!$A$16:$AO$46,34,FALSE))","v":""}]
[]
[]
[null,null,null,null,null,null,null,null,null,null,null,null,null,null,null,null,null,"　　　"]
[null,{"$f":"'２'!B12:B15","v":""},{"$f":"IF(B12=\"\",\"\",TEXT(DATE(2018+$F$3,$H$3,B12),\"aaa\"))","v":""},"　　　","　　　",{"$f":"IF(IF(B12=\"\",\"\",VLOOKUP(B12,'2実績'!$A$16:$BK$46,63))=\"大会\",IF(B12=\"\",\"\",VLOOKUP(B12,'2実績'!$A$16:$AO$46,22,FALSE)),IF(B12=\"\",\"\",'2実績'!$AC$4)&IF(B12=\"\",\"\",VLOOKUP(B12,'2実績'!$A$16:$AO$46,22,FALSE)))","v":""},null,null,null,null,{"$f":"IF(IF(B12=\"\",\"\",VLOOKUP(B12,'2実績'!$A$16:$AO$46,5,FALSE))=0,IF(B12=\"\",\"\",VLOOKUP(B12,'2実績'!$A$16:$AO$46,12,FALSE)),IF(B12=\"\",\"\",VLOOKUP(B12,'2実績'!$A$16:$AO$46,5,FALSE)))","v":""},"～",{"$f":"IF(IF(B12=\"\",\"\",VLOOKUP(B12,'2実績'!$A$16:$AO$46,16,FALSE))=0,IF(B12=\"\",\"\",VLOOKUP(B12,'2実績'!$A$16:$AO$46,9,FALSE)),IF(B12=\"\",\"\",VLOOKUP(B12,'2実績'!$A$16:$AO$46,16,FALSE)))","v":""},{"$f":"IF(K12=\"\",\"\",M12-K12)","v":""},{"$f":"IF(B12=\"\",\"\",VLOOKUP(B12,'2実績'!$A$16:$AO$46,34,FALSE))","v":""}]
[]
[]
[null,null,null,null,null,null,null,null,null,null,null,null,null,null,null,null,null,"　　　"]
[null,{"$f":"'２'!B16:B19","v":""},{"$f":"IF(B16=\"\",\"\",TEXT(DATE(2018+$F$3,$H$3,B16),\"aaa\"))","v":""},"　　　","　　　",{"$f":"IF(IF(B16=\"\",\"\",VLOOKUP(B16,'2実績'!$A$16:$BK$46,63))=\"大会\",IF(B16=\"\",\"\",VLOOKUP(B16,'2実績'!$A$16:$AO$46,22,FALSE)),IF(B16=\"\",\"\",'2実績'!$AC$4)&IF(B16=\"\",\"\",VLOOKUP(B16,'2実績'!$A$16:$AO$46,22,FALSE)))","v":""},null,null,null,null,{"$f":"IF(IF(B16=\"\",\"\",VLOOKUP(B16,'2実績'!$A$16:$AO$46,5,FALSE))=0,IF(B16=\"\",\"\",VLOOKUP(B16,'2実績'!$A$16:$AO$46,12,FALSE)),IF(B16=\"\",\"\",VLOOKUP(B16,'2実績'!$A$16:$AO$46,5,FALSE)))","v":""},"～",{"$f":"IF(IF(B16=\"\",\"\",VLOOKUP(B16,'2実績'!$A$16:$AO$46,16,FALSE))=0,IF(B16=\"\",\"\",VLOOKUP(B16,'2実績'!$A$16:$AO$46,9,FALSE)),IF(B16=\"\",\"\",VLOOKUP(B16,'2実績'!$A$16:$AO$46,16,FALSE)))","v":""},{"$f":"IF(K16=\"\",\"\",M16-K16)","v":""},{"$f":"IF(B16=\"\",\"\",VLOOKUP(B16,'2実績'!$A$16:$AO$46,34,FALSE))","v":""}]
[]
[]
[null,null,null,null,null,null,null,null,null,null,null,null,null,null,null,null,null,"　　　"]
[null,{"$f":"'２'!B20:B23","v":""},{"$f":"IF(B20=\"\",\"\",TEXT(DATE(2018+$F$3,$H$3,B20),\"aaa\"))","v":""},"　　　","　　　",{"$f":"IF(IF(B20=\"\",\"\",VLOOKUP(B20,'2実績'!$A$16:$BK$46,63))=\"大会\",IF(B20=\"\",\"\",VLOOKUP(B20,'2実績'!$A$16:$AO$46,22,FALSE)),IF(B20=\"\",\"\",'2実績'!$AC$4)&IF(B20=\"\",\"\",VLOOKUP(B20,'2実績'!$A$16:$AO$46,22,FALSE)))","v":""},null,null,null,null,{"$f":"IF(IF(B20=\"\",\"\",VLOOKUP(B20,'2実績'!$A$16:$AO$46,5,FALSE))=0,IF(B20=\"\",\"\",VLOOKUP(B20,'2実績'!$A$16:$AO$46,12,FALSE)),IF(B20=\"\",\"\",VLOOKUP(B20,'2実績'!$A$16:$AO$46,5,FALSE)))","v":""},"～",{"$f":"IF(IF(B20=\"\",\"\",VLOOKUP(B20,'2実績'!$A$16:$AO$46,16,FALSE))=0,IF(B20=\"\",\"\",VLOOKUP(B20,'2実績'!$A$16:$AO$46,9,FALSE)),IF(B20=\"\",\"\",VLOOKUP(B20,'2実績'!$A$16:$AO$46,16,FALSE)))","v":""},{"$f":"IF(K20=\"\",\"\",M20-K20)","v":""},{"$f":"IF(B20=\"\",\"\",VLOOKUP(B20,'2実績'!$A$16:$AO$46,34,FALSE))","v":""}]
[]
[]
[null,null,null,null,null,null,null,null,null,null,null,null,null,null,null,null,null,"　　　"]
[null,{"$f":"'２'!B24:B27","v":""},{"$f":"IF(B24=\"\",\"\",TEXT(DATE(2018+$F$3,$H$3,B24),\"aaa\"))","v":""},"　　　","　　　",{"$f":"IF(IF(B24=\"\",\"\",VLOOKUP(B24,'2実績'!$A$16:$BK$46,63))=\"大会\",IF(B24=\"\",\"\",VLOOKUP(B24,'2実績'!$A$16:$AO$46,22,FALSE)),IF(B24=\"\",\"\",'2実績'!$AC$4)&IF(B24=\"\",\"\",VLOOKUP(B24,'2実績'!$A$16:$AO$46,22,FALSE)))","v":""},null,null,null,null,{"$f":"IF(IF(B24=\"\",\"\",VLOOKUP(B24,'2実績'!$A$16:$AO$46,5,FALSE))=0,IF(B24=\"\",\"\",VLOOKUP(B24,'2実績'!$A$16:$AO$46,12,FALSE)),IF(B24=\"\",\"\",VLOOKUP(B24,'2実績'!$A$16:$AO$46,5,FALSE)))","v":""},"～",{"$f":"IF(IF(B24=\"\",\"\",VLOOKUP(B24,'2実績'!$A$16:$AO$46,16,FALSE))=0,IF(B24=\"\",\"\",VLOOKUP(B24,'2実績'!$A$16:$AO$46,9,FALSE)),IF(B24=\"\",\"\",VLOOKUP(B24,'2実績'!$A$16:$AO$46,16,FALSE)))","v":""},{"$f":"IF(K24=\"\",\"\",M24-K24)","v":""},{"$f":"IF(B24=\"\",\"\",VLOOKUP(B24,'2実績'!$A$16:$AO$46,34,FALSE))","v":""}]
[]
[]
[null,null,null,null,null,null,null,null,null,null,null,null,null,null,null,null,null,"　　　"]
[null,{"$f":"'２'!B28:B31","v":""},{"$f":"IF(B28=\"\",\"\",TEXT(DATE(2018+$F$3,$H$3,B28),\"aaa\"))","v":""},"　　　","　　　",{"$f":"IF(IF(B28=\"\",\"\",VLOOKUP(B28,'2実績'!$A$16:$BK$46,63))=\"大会\",IF(B28=\"\",\"\",VLOOKUP(B28,'2実績'!$A$16:$AO$46,22,FALSE)),IF(B28=\"\",\"\",'2実績'!$AC$4)&IF(B28=\"\",\"\",VLOOKUP(B28,'2実績'!$A$16:$AO$46,22,FALSE)))","v":""},null,null,null,null,{"$f":"IF(IF(B28=\"\",\"\",VLOOKUP(B28,'2実績'!$A$16:$AO$46,5,FALSE))=0,IF(B28=\"\",\"\",VLOOKUP(B28,'2実績'!$A$16:$AO$46,12,FALSE)),IF(B28=\"\",\"\",VLOOKUP(B28,'2実績'!$A$16:$AO$46,5,FALSE)))","v":""},"～",{"$f":"IF(IF(B28=\"\",\"\",VLOOKUP(B28,'2実績'!$A$16:$AO$46,16,FALSE))=0,IF(B28=\"\",\"\",VLOOKUP(B28,'2実績'!$A$16:$AO$46,9,FALSE)),IF(B28=\"\",\"\",VLOOKUP(B28,'2実績'!$A$16:$AO$46,16,FALSE)))","v":""},{"$f":"IF(K28=\"\",\"\",M28-K28)","v":""},{"$f":"IF(B28=\"\",\"\",VLOOKUP(B28,'2実績'!$A$16:$AO$46,34,FALSE))","v":""}]
[]
[]
[null,null,null,null,null,null,null,null,null,null,null,null,null,null,null,null,null,"　　　"]
[null,{"$f":"'２'!B32:B35","v":""},{"$f":"IF(B32=\"\",\"\",TEXT(DATE(2018+$F$3,$H$3,B32),\"aaa\"))","v":""},"　　　","　　　",{"$f":"IF(IF(B32=\"\",\"\",VLOOKUP(B32,'2実績'!$A$16:$BK$46,63))=\"大会\",IF(B32=\"\",\"\",VLOOKUP(B32,'2実績'!$A$16:$AO$46,22,FALSE)),IF(B32=\"\",\"\",'2実績'!$AC$4)&IF(B32=\"\",\"\",VLOOKUP(B32,'2実績'!$A$16:$AO$46,22,FALSE)))","v":""},null,null,null,null,{"$f":"IF(IF(B32=\"\",\"\",VLOOKUP(B32,'2実績'!$A$16:$AO$46,5,FALSE))=0,IF(B32=\"\",\"\",VLOOKUP(B32,'2実績'!$A$16:$AO$46,12,FALSE)),IF(B32=\"\",\"\",VLOOKUP(B32,'2実績'!$A$16:$AO$46,5,FALSE)))","v":""},"～",{"$f":"IF(IF(B32=\"\",\"\",VLOOKUP(B32,'2実績'!$A$16:$AO$46,16,FALSE))=0,IF(B32=\"\",\"\",VLOOKUP(B32,'2実績'!$A$16:$AO$46,9,FALSE)),IF(B32=\"\",\"\",VLOOKUP(B32,'2実績'!$A$16:$AO$46,16,FALSE)))","v":""},{"$f":"IF(K32=\"\",\"\",M32-K32)","v":""},{"$f":"IF(B32=\"\",\"\",VLOOKUP(B32,'2実績'!$A$16:$AO$46,34,FALSE))","v":""}]
[]
[]
[null,null,null,null,null,null,null,null,null,null,null,null,null,null,null,null,null,"　　　"]
[null,{"$f":"'２'!B36:B39","v":""},{"$f":"IF(B36=\"\",\"\",TEXT(DATE(2018+$F$3,$H$3,B36),\"aaa\"))","v":""},"　　　","　　　",{"$f":"IF(IF(B36=\"\",\"\",VLOOKUP(B36,'2実績'!$A$16:$BK$46,63))=\"大会\",IF(B36=\"\",\"\",VLOOKUP(B36,'2実績'!$A$16:$AO$46,22,FALSE)),IF(B36=\"\",\"\",'2実績'!$AC$4)&IF(B36=\"\",\"\",VLOOKUP(B36,'2実績'!$A$16:$AO$46,22,FALSE)))","v":""},null,null,null,null,{"$f":"IF(IF(B36=\"\",\"\",VLOOKUP(B36,'2実績'!$A$16:$AO$46,5,FALSE))=0,IF(B36=\"\",\"\",VLOOKUP(B36,'2実績'!$A$16:$AO$46,12,FALSE)),IF(B36=\"\",\"\",VLOOKUP(B36,'2実績'!$A$16:$AO$46,5,FALSE)))","v":""},"～",{"$f":"IF(IF(B36=\"\",\"\",VLOOKUP(B36,'2実績'!$A$16:$AO$46,16,FALSE))=0,IF(B36=\"\",\"\",VLOOKUP(B36,'2実績'!$A$16:$AO$46,9,FALSE)),IF(B36=\"\",\"\",VLOOKUP(B36,'2実績'!$A$16:$AO$46,16,FALSE)))","v":""},{"$f":"IF(K36=\"\",\"\",M36-K36)","v":""},{"$f":"IF(B36=\"\",\"\",VLOOKUP(B36,'2実績'!$A$16:$AO$46,34,FALSE))","v":""}]
[]
[]
[null,null,null,null,null,null,null,null,null,null,null,null,null,null,null,null,null,"　　　"]
[null,{"$f":"'２'!B40:B43","v":""},{"$f":"IF(B40=\"\",\"\",TEXT(DATE(2018+$F$3,$H$3,B40),\"aaa\"))","v":""},"　　　","　　　",{"$f":"IF(IF(B40=\"\",\"\",VLOOKUP(B40,'2実績'!$A$16:$BK$46,63))=\"大会\",IF(B40=\"\",\"\",VLOOKUP(B40,'2実績'!$A$16:$AO$46,22,FALSE)),IF(B40=\"\",\"\",'2実績'!$AC$4)&IF(B40=\"\",\"\",VLOOKUP(B40,'2実績'!$A$16:$AO$46,22,FALSE)))","v":""},null,null,null,null,{"$f":"IF(IF(B40=\"\",\"\",VLOOKUP(B40,'2実績'!$A$16:$AO$46,5,FALSE))=0,IF(B40=\"\",\"\",VLOOKUP(B40,'2実績'!$A$16:$AO$46,12,FALSE)),IF(B40=\"\",\"\",VLOOKUP(B40,'2実績'!$A$16:$AO$46,5,FALSE)))","v":""},"～",{"$f":"IF(IF(B40=\"\",\"\",VLOOKUP(B40,'2実績'!$A$16:$AO$46,16,FALSE))=0,IF(B40=\"\",\"\",VLOOKUP(B40,'2実績'!$A$16:$AO$46,9,FALSE)),IF(B40=\"\",\"\",VLOOKUP(B40,'2実績'!$A$16:$AO$46,16,FALSE)))","v":""},{"$f":"IF(K40=\"\",\"\",M40-K40)","v":""},{"$f":"IF(B40=\"\",\"\",VLOOKUP(B40,'2実績'!$A$16:$AO$46,34,FALSE))","v":""}]
[]
[]
[null,null,null,null,null,null,null,null,null,null,null,null,null,null,null,null,null,"　　　"]
[null,"( 記入要領等 )"]
[null,"　         　１　この整理簿は、教員特殊業務手当及び面接指導手当の支給対象となるものについて、当該手当の支給に必要な事の整理をするものであること。"]
[null,"　　         ２　記入にあたっては、次のように記入すること。"]
[null,"　　　         　「要件」欄：週休日等　　　半日振替日　　　　その他"]
[null,"　　　　         「区分」欄：非常災害　　救急業務　　補導業務　　修学旅行等　　対外運動等　　入学試験業務　　　部活動４　　　　部活動３　　　部活動２　　　面接指導　　　　　"]
[null,"　　　　　　　　　　         ※部活動４は4時間以上、部活動３は３時間以上４時間未満、部活動２は2時間以上３時間未満をいう。"]
[null,"　　　　         「業務内容」欄：職員が従事した業務について、その内容を簡潔に記入すること。"]
[null,"　　　         　「従事時間」欄：左欄に手当の支給対象となる業務の終始の時刻を、右欄には時間を記入すること。"]
[null,"　　　         　「備考」欄：この整理簿を補足する事項を記入すること。"]

{"sheet":"３(副顧問)","index":49,"n_rows":52,"n_cols":18,"rows_kept":52,"cut":false,"hidden":false,"merged":[[15,5,16,9],[11,5,12,9],[7,5,8,9],[31,13,34,13],[27,14,30,14],[27,15,30,15],[35,16,38,16],[31,5,32,9],[27,11,30,11],[27,12,30,12],[27,13,30,13],[31,10,34,10],[27,16,30,16],[15,13,18,13],[35,17,37,17],[39,1,42,1],[39,2,42,2],[39,3,42,3],[39,4,42,4],[37,5,38,9],[41,5,42,9],[39,10,42,10],[39,17,41,17],[39,11,42,11],[39,12,42,12],[39,13,42,13],[39,14,42,14],[39,15,42,15],[39,16,42,16],[35,14,38,14],[35,10,38,10],[39,5,40,9],[35,5,36,9],[31,17,33,17],[31,14,34,14],[31,15,34,15],[31,16,34,16],[43,1,43,3],[9,5,10,9],[13,5,14,9],[17,5,18,9],[21,5,22,9],[25,5,26,9],[29,5,30,9],[33,5,34,9],[35,1,38,1],[35,2,38,2],[35,3,38,3],[35,4,38,4],[7,3,10,3],[7,4,10,4],[35,15,38,15],[31,11,34,11],[31,12,34,12],[31,2,34,2],[31,3,34,3],[31,4,34,4],[27,1,30,1],[27,2,30,2],[27,3,30,3],[27,4,30,4],[27,10,30,10],[27,5,28,9],[35,11,38,11],[35,12,38,12],[35,13,38,13],[19,17,21,17],[23,1,26,1],[23,2,26,2],[23,3,26,3],[23,4,26,4],[23,10,26,10],[23,17,25,17],[23,14,26,14],[23,15,26,15],[23,16,26,16],[19,1,22,1],[19,2,22,2],[19,3,22,3],[19,4,22,4],[19,10,22,10],[19,11,22,11],[19,12,22,12],[19,13,22,13],[23,5,24,9],[19,5,20,9],[27,17,29,17],[31,1,34,1],[7,10,10,10],[11,14,14,14],[11,15,14,15],[11,16,14,16],[23,11,26,11],[23,12,26,12],[23,13,26,13],[19,14,22,14],[19,15,22,15],[19,16,22,16],[11,17,13,17],[15,1,18,1],[15,2,18,2],[15,3,18,3],[15,4,18,4],[15,10,18,10],[15,17,17,17],[15,14,18,14],[15,15,18,15],[15,16,18,16],[15,11,18,11],[15,12,18,12],[4,1,4,2],[4,3,4,4],[4,6,4,8],[4,9,4,10],[4,14,4,17],[6,5,6,9],[6,10,6,13],[7,17,9,17],[11,1,14,1],[11,2,14,2],[11,3,14,3],[11,4,14,4],[11,10,14,10],[11,11,14,11],[11,12,14,12],[11,13,14,13],[7,11,10,11],[7,12,10,12],[7,13,10,13],[7,14,10,14],[7,15,10,15],[7,16,10,16],[7,1,10,1],[7,2,10,2]]}
[]
[]
[null,null,null,"          　　　　　　","令和",{"$f":"'3計画'!AS1-2018","v":3},"年",{"$f":"'3計画'!A7","v":3},"月分","　 教  員  特  殊  業  務  整  理  簿",null,null,null,null,null,null,null,"様式3"]
[]
[null,"氏　名",null,{"$f":"IF('3実績'!K12=\"\",\"\",'3実績'!K12)","v":0},null,"職員\n番号",{"$f":"IF('４(副顧問)'!G5=\"\",\"\",'４(副顧問)'!G5)","v":""},null,null,null,null,null,null,null,{"$f":"'４(副顧問)'!$O$5:$R$5","v":"0学校"}]
[]
[null,"日","曜","要　件","区　分","業　　務　　内　　容",null,null,null,null,"従　事　時　間",null,null,null,"従事場所","所属長\n確認印","従事者印","備　　考"]
[null,{"$f":"'３'!B8:B11","v":""},{"$f":"IF(B8=\"\",\"\",TEXT(DATE(2018+$F$3,$H$3,B8),\"aaa\"))","v":""},"　　　","　　　",{"$f":"IF(IF(B8=\"\",\"\",VLOOKUP(B8,'3実績'!$A$16:$BK$46,63))=\"大会\",IF(B8=\"\",\"\",VLOOKUP(B8,'3実績'!$A$16:$AO$46,22,FALSE)),IF(B8=\"\",\"\",'3実績'!$AC$4)&IF(B8=\"\",\"\",VLOOKUP(B8,'3実績'!$A$16:$AO$46,22,FALSE)))","v":""},null,null,null,null,{"$f":"IF(IF(B8=\"\",\"\",VLOOKUP(B8,'3実績'!$A$16:$AO$46,5,FALSE))=0,IF(B8=\"\",\"\",VLOOKUP(B8,'3実績'!$A$16:$AO$46,12,FALSE)),IF(B8=\"\",\"\",VLOOKUP(B8,'3実績'!$A$16:$AO$46,5,FALSE)))","v":""},"～",{"$f":"IF(IF(B8=\"\",\"\",VLOOKUP(B8,'3実績'!$A$16:$AO$46,16,FALSE))=0,IF(B8=\"\",\"\",VLOOKUP(B8,'3実績'!$A$16:$AO$46,9,FALSE)),IF(B8=\"\",\"\",VLOOKUP(B8,'3実績'!$A$16:$AO$46,16,FALSE)))","v":""},{"$f":"IF(K8=\"\",\"\",M8-K8)","v":""},{"$f":"IF(B8=\"\",\"\",VLOOKUP(B8,'3実績'!$A$16:$AO$46,34,FALSE))","v":""}]
[]
[]
[null,null,null,null,null,null,null,null,null,null,null,null,null,null,null,null,null,"　　　"]
[null,{"$f":"'３'!B12:B15","v":""},{"$f":"IF(B12=\"\",\"\",TEXT(DATE(2018+$F$3,$H$3,B12),\"aaa\"))","v":""},"　　　","　　　",{"$f":"IF(IF(B12=\"\",\"\",VLOOKUP(B12,'3実績'!$A$16:$BK$46,63))=\"大会\",IF(B12=\"\",\"\",VLOOKUP(B12,'3実績'!$A$16:$AO$46,22,FALSE)),IF(B12=\"\",\"\",'3実績'!$AC$4)&IF(B12=\"\",\"\",VLOOKUP(B12,'3実績'!$A$16:$AO$46,22,FALSE)))","v":""},null,null,null,null,{"$f":"IF(IF(B12=\"\",\"\",VLOOKUP(B12,'3実績'!$A$16:$AO$46,5,FALSE))=0,IF(B12=\"\",\"\",VLOOKUP(B12,'3実績'!$A$16:$AO$46,12,FALSE)),IF(B12=\"\",\"\",VLOOKUP(B12,'3実績'!$A$16:$AO$46,5,FALSE)))","v":""},"～",{"$f":"IF(IF(B12=\"\",\"\",VLOOKUP(B12,'3実績'!$A$16:$AO$46,16,FALSE))=0,IF(B12=\"\",\"\",VLOOKUP(B12,'3実績'!$A$16:$AO$46,9,FALSE)),IF(B12=\"\",\"\",VLOOKUP(B12,'3実績'!$A$16:$AO$46,16,FALSE)))","v":""},{"$f":"IF(K12=\"\",\"\",M12-K12)","v":""},{"$f":"IF(B12=\"\",\"\",VLOOKUP(B12,'3実績'!$A$16:$AO$46,34,FALSE))","v":""}]
[]
[]
[null,null,null,null,null,null,null,null,null,null,null,null,null,null,null,null,null,"　　　"]
[null,{"$f":"'３'!B16:B19","v":""},{"$f":"IF(B16=\"\",\"\",TEXT(DATE(2018+$F$3,$H$3,B16),\"aaa\"))","v":""},"　　　","　　　",{"$f":"IF(IF(B16=\"\",\"\",VLOOKUP(B16,'3実績'!$A$16:$BK$46,63))=\"大会\",IF(B16=\"\",\"\",VLOOKUP(B16,'3実績'!$A$16:$AO$46,22,FALSE)),IF(B16=\"\",\"\",'3実績'!$AC$4)&IF(B16=\"\",\"\",VLOOKUP(B16,'3実績'!$A$16:$AO$46,22,FALSE)))","v":""},null,null,null,null,{"$f":"IF(IF(B16=\"\",\"\",VLOOKUP(B16,'3実績'!$A$16:$AO$46,5,FALSE))=0,IF(B16=\"\",\"\",VLOOKUP(B16,'3実績'!$A$16:$AO$46,12,FALSE)),IF(B16=\"\",\"\",VLOOKUP(B16,'3実績'!$A$16:$AO$46,5,FALSE)))","v":""},"～",{"$f":"IF(IF(B16=\"\",\"\",VLOOKUP(B16,'3実績'!$A$16:$AO$46,16,FALSE))=0,IF(B16=\"\",\"\",VLOOKUP(B16,'3実績'!$A$16:$AO$46,9,FALSE)),IF(B16=\"\",\"\",VLOOKUP(B16,'3実績'!$A$16:$AO$46,16,FALSE)))","v":""},{"$f":"IF(K16=\"\",\"\",M16-K16)","v":""},{"$f":"IF(B16=\"\",\"\",VLOOKUP(B16,'3実績'!$A$16:$AO$46,34,FALSE))","v":""}]
[]
[]
[null,null,null,null,null,null,null,null,null,null,null,null,null,null,null,null,null,"　　　"]
[null,{"$f":"'３'!B20:B23","v":""},{"$f":"IF(B20=\"\",\"\",TEXT(DATE(2018+$F$3,$H$3,B20),\"aaa\"))","v":""},"　　　","　　　",{"$f":"IF(IF(B20=\"\",\"\",VLOOKUP(B20,'3実績'!$A$16:$BK$46,63))=\"大会\",IF(B20=\"\",\"\",VLOOKUP(B20,'3実績'!$A$16:$AO$46,22,FALSE)),IF(B20=\"\",\"\",'3実績'!$AC$4)&IF(B20=\"\",\"\",VLOOKUP(B20,'3実績'!$A$16:$AO$46,22,FALSE)))","v":""},null,null,null,null,{"$f":"IF(IF(B20=\"\",\"\",VLOOKUP(B20,'3実績'!$A$16:$AO$46,5,FALSE))=0,IF(B20=\"\",\"\",VLOOKUP(B20,'3実績'!$A$16:$AO$46,12,FALSE)),IF(B20=\"\",\"\",VLOOKUP(B20,'3実績'!$A$16:$AO$46,5,FALSE)))","v":""},"～",{"$f":"IF(IF(B20=\"\",\"\",VLOOKUP(B20,'3実績'!$A$16:$AO$46,16,FALSE))=0,IF(B20=\"\",\"\",VLOOKUP(B20,'3実績'!$A$16:$AO$46,9,FALSE)),IF(B20=\"\",\"\",VLOOKUP(B20,'3実績'!$A$16:$AO$46,16,FALSE)))","v":""},{"$f":"IF(K20=\"\",\"\",M20-K20)","v":""},{"$f":"IF(B20=\"\",\"\",VLOOKUP(B20,'3実績'!$A$16:$AO$46,34,FALSE))","v":""}]
[]
[]
[null,null,null,null,null,null,null,null,null,null,null,null,null,null,null,null,null,"　　　"]
[null,{"$f":"'３'!B24:B27","v":""},{"$f":"IF(B24=\"\",\"\",TEXT(DATE(2018+$F$3,$H$3,B24),\"aaa\"))","v":""},"　　　","　　　",{"$f":"IF(IF(B24=\"\",\"\",VLOOKUP(B24,'3実績'!$A$16:$BK$46,63))=\"大会\",IF(B24=\"\",\"\",VLOOKUP(B24,'3実績'!$A$16:$AO$46,22,FALSE)),IF(B24=\"\",\"\",'3実績'!$AC$4)&IF(B24=\"\",\"\",VLOOKUP(B24,'3実績'!$A$16:$AO$46,22,FALSE)))","v":""},null,null,null,null,{"$f":"IF(IF(B24=\"\",\"\",VLOOKUP(B24,'3実績'!$A$16:$AO$46,5,FALSE))=0,IF(B24=\"\",\"\",VLOOKUP(B24,'3実績'!$A$16:$AO$46,12,FALSE)),IF(B24=\"\",\"\",VLOOKUP(B24,'3実績'!$A$16:$AO$46,5,FALSE)))","v":""},"～",{"$f":"IF(IF(B24=\"\",\"\",VLOOKUP(B24,'3実績'!$A$16:$AO$46,16,FALSE))=0,IF(B24=\"\",\"\",VLOOKUP(B24,'3実績'!$A$16:$AO$46,9,FALSE)),IF(B24=\"\",\"\",VLOOKUP(B24,'3実績'!$A$16:$AO$46,16,FALSE)))","v":""},{"$f":"IF(K24=\"\",\"\",M24-K24)","v":""},{"$f":"IF(B24=\"\",\"\",VLOOKUP(B24,'3実績'!$A$16:$AO$46,34,FALSE))","v":""}]
[]
[]
[null,null,null,null,null,null,null,null,null,null,null,null,null,null,null,null,null,"　　　"]
[null,{"$f":"'３'!B28:B31","v":""},{"$f":"IF(B28=\"\",\"\",TEXT(DATE(2018+$F$3,$H$3,B28),\"aaa\"))","v":""},"　　　","　　　",{"$f":"IF(IF(B28=\"\",\"\",VLOOKUP(B28,'3実績'!$A$16:$BK$46,63))=\"大会\",IF(B28=\"\",\"\",VLOOKUP(B28,'3実績'!$A$16:$AO$46,22,FALSE)),IF(B28=\"\",\"\",'3実績'!$AC$4)&IF(B28=\"\",\"\",VLOOKUP(B28,'3実績'!$A$16:$AO$46,22,FALSE)))","v":""},null,null,null,null,{"$f":"IF(IF(B28=\"\",\"\",VLOOKUP(B28,'3実績'!$A$16:$AO$46,5,FALSE))=0,IF(B28=\"\",\"\",VLOOKUP(B28,'3実績'!$A$16:$AO$46,12,FALSE)),IF(B28=\"\",\"\",VLOOKUP(B28,'3実績'!$A$16:$AO$46,5,FALSE)))","v":""},"～",{"$f":"IF(IF(B28=\"\",\"\",VLOOKUP(B28,'3実績'!$A$16:$AO$46,16,FALSE))=0,IF(B28=\"\",\"\",VLOOKUP(B28,'3実績'!$A$16:$AO$46,9,FALSE)),IF(B28=\"\",\"\",VLOOKUP(B28,'3実績'!$A$16:$AO$46,16,FALSE)))","v":""},{"$f":"IF(K28=\"\",\"\",M28-K28)","v":""},{"$f":"IF(B28=\"\",\"\",VLOOKUP(B28,'3実績'!$A$16:$AO$46,34,FALSE))","v":""}]
[]
[]
[null,null,null,null,null,null,null,null,null,null,null,null,null,null,null,null,null,"　　　"]
[null,{"$f":"'３'!B32:B35","v":""},{"$f":"IF(B32=\"\",\"\",TEXT(DATE(2018+$F$3,$H$3,B32),\"aaa\"))","v":""},"　　　","　　　",{"$f":"IF(IF(B32=\"\",\"\",VLOOKUP(B32,'3実績'!$A$16:$BK$46,63))=\"大会\",IF(B32=\"\",\"\",VLOOKUP(B32,'3実績'!$A$16:$AO$46,22,FALSE)),IF(B32=\"\",\"\",'3実績'!$AC$4)&IF(B32=\"\",\"\",VLOOKUP(B32,'3実績'!$A$16:$AO$46,22,FALSE)))","v":""},null,null,null,null,{"$f":"IF(IF(B32=\"\",\"\",VLOOKUP(B32,'3実績'!$A$16:$AO$46,5,FALSE))=0,IF(B32=\"\",\"\",VLOOKUP(B32,'3実績'!$A$16:$AO$46,12,FALSE)),IF(B32=\"\",\"\",VLOOKUP(B32,'3実績'!$A$16:$AO$46,5,FALSE)))","v":""},"～",{"$f":"IF(IF(B32=\"\",\"\",VLOOKUP(B32,'3実績'!$A$16:$AO$46,16,FALSE))=0,IF(B32=\"\",\"\",VLOOKUP(B32,'3実績'!$A$16:$AO$46,9,FALSE)),IF(B32=\"\",\"\",VLOOKUP(B32,'3実績'!$A$16:$AO$46,16,FALSE)))","v":""},{"$f":"IF(K32=\"\",\"\",M32-K32)","v":""},{"$f":"IF(B32=\"\",\"\",VLOOKUP(B32,'3実績'!$A$16:$AO$46,34,FALSE))","v":""}]
[]
[]
[null,null,null,null,null,null,null,null,null,null,null,null,null,null,null,null,null,"　　　"]
[null,{"$f":"'３'!B36:B39","v":""},{"$f":"IF(B36=\"\",\"\",TEXT(DATE(2018+$F$3,$H$3,B36),\"aaa\"))","v":""},"　　　","　　　",{"$f":"IF(IF(B36=\"\",\"\",VLOOKUP(B36,'3実績'!$A$16:$BK$46,63))=\"大会\",IF(B36=\"\",\"\",VLOOKUP(B36,'3実績'!$A$16:$AO$46,22,FALSE)),IF(B36=\"\",\"\",'3実績'!$AC$4)&IF(B36=\"\",\"\",VLOOKUP(B36,'3実績'!$A$16:$AO$46,22,FALSE)))","v":""},null,null,null,null,{"$f":"IF(IF(B36=\"\",\"\",VLOOKUP(B36,'3実績'!$A$16:$AO$46,5,FALSE))=0,IF(B36=\"\",\"\",VLOOKUP(B36,'3実績'!$A$16:$AO$46,12,FALSE)),IF(B36=\"\",\"\",VLOOKUP(B36,'3実績'!$A$16:$AO$46,5,FALSE)))","v":""},"～",{"$f":"IF(IF(B36=\"\",\"\",VLOOKUP(B36,'3実績'!$A$16:$AO$46,16,FALSE))=0,IF(B36=\"\",\"\",VLOOKUP(B36,'3実績'!$A$16:$AO$46,9,FALSE)),IF(B36=\"\",\"\",VLOOKUP(B36,'3実績'!$A$16:$AO$46,16,FALSE)))","v":""},{"$f":"IF(K36=\"\",\"\",M36-K36)","v":""},{"$f":"IF(B36=\"\",\"\",VLOOKUP(B36,'3実績'!$A$16:$AO$46,34,FALSE))","v":""}]
[]
[]
[null,null,null,null,null,null,null,null,null,null,null,null,null,null,null,null,null,"　　　"]
[null,{"$f":"'３'!B40:B43","v":""},{"$f":"IF(B40=\"\",\"\",TEXT(DATE(2018+$F$3,$H$3,B40),\"aaa\"))","v":""},"　　　","　　　",{"$f":"IF(IF(B40=\"\",\"\",VLOOKUP(B40,'3実績'!$A$16:$BK$46,63))=\"大会\",IF(B40=\"\",\"\",VLOOKUP(B40,'3実績'!$A$16:$AO$46,22,FALSE)),IF(B40=\"\",\"\",'3実績'!$AC$4)&IF(B40=\"\",\"\",VLOOKUP(B40,'3実績'!$A$16:$AO$46,22,FALSE)))","v":""},null,null,null,null,{"$f":"IF(IF(B40=\"\",\"\",VLOOKUP(B40,'3実績'!$A$16:$AO$46,5,FALSE))=0,IF(B40=\"\",\"\",VLOOKUP(B40,'3実績'!$A$16:$AO$46,12,FALSE)),IF(B40=\"\",\"\",VLOOKUP(B40,'3実績'!$A$16:$AO$46,5,FALSE)))","v":""},"～",{"$f":"IF(IF(B40=\"\",\"\",VLOOKUP(B40,'3実績'!$A$16:$AO$46,16,FALSE))=0,IF(B40=\"\",\"\",VLOOKUP(B40,'3実績'!$A$16:$AO$46,9,FALSE)),IF(B40=\"\",\"\",VLOOKUP(B40,'3実績'!$A$16:$AO$46,16,FALSE)))","v":""},{"$f":"IF(K40=\"\",\"\",M40-K40)","v":""},{"$f":"IF(B40=\"\",\"\",VLOOKUP(B40,'3実績'!$A$16:$AO$46,34,FALSE))","v":""}]
[]
[]
[null,null,null,null,null,null,null,null,null,null,null,null,null,null,null,null,null,"　　　"]
[null,"( 記入要領等 )"]
[null,"　         　１　この整理簿は、教員特殊業務手当及び面接指導手当の支給対象となるものについて、当該手当の支給に必要な事の整理をするものであること。"]
[null,"　　         ２　記入にあたっては、次のように記入すること。"]
[null,"　　　         　「要件」欄：週休日等　　　半日振替日　　　　その他"]
[null,"　　　　         「区分」欄：非常災害　　救急業務　　補導業務　　修学旅行等　　対外運動等　　入学試験業務　　　部活動４　　　　部活動３　　　部活動２　　　面接指導　　　　　"]
[null,"　　　　　　　　　　         ※部活動４は4時間以上、部活動３は３時間以上４時間未満、部活動２は2時間以上３時間未満をいう。"]
[null,"　　　　         「業務内容」欄：職員が従事した業務について、その内容を簡潔に記入すること。"]
[null,"　　　         　「従事時間」欄：左欄に手当の支給対象となる業務の終始の時刻を、右欄には時間を記入すること。"]
[null,"　　　         　「備考」欄：この整理簿を補足する事項を記入すること。"]

{"sheet":"４(副顧問) (2)","index":50,"n_rows":52,"n_cols":18,"rows_kept":52,"cut":false,"hidden":false,"merged":[[39,17,41,17],[41,5,42,9],[43,1,43,3],[39,11,42,11],[39,12,42,12],[39,13,42,13],[39,14,42,14],[39,15,42,15],[39,16,42,16],[39,1,42,1],[39,2,42,2],[39,3,42,3],[39,4,42,4],[39,5,40,9],[39,10,42,10],[35,13,38,13],[35,14,38,14],[35,15,38,15],[35,16,38,16],[35,17,37,17],[37,5,38,9],[31,17,33,17],[33,5,34,9],[35,1,38,1],[35,2,38,2],[35,3,38,3],[35,4,38,4],[35,5,36,9],[35,10,38,10],[35,11,38,11],[35,12,38,12],[31,11,34,11],[31,12,34,12],[31,13,34,13],[31,14,34,14],[31,15,34,15],[31,16,34,16],[31,1,34,1],[31,2,34,2],[31,3,34,3],[31,4,34,4],[31,5,32,9],[31,10,34,10],[27,13,30,13],[27,14,30,14],[27,15,30,15],[27,16,30,16],[27,17,29,17],[29,5,30,9],[23,17,25,17],[25,5,26,9],[27,1,30,1],[27,2,30,2],[27,3,30,3],[27,4,30,4],[27,5,28,9],[27,10,30,10],[27,11,30,11],[27,12,30,12],[23,11,26,11],[23,12,26,12],[23,13,26,13],[23,14,26,14],[23,15,26,15],[23,16,26,16],[23,1,26,1],[23,2,26,2],[23,3,26,3],[23,4,26,4],[23,5,24,9],[23,10,26,10],[19,13,22,13],[19,14,22,14],[19,15,22,15],[19,16,22,16],[19,17,21,17],[21,5,22,9],[15,17,17,17],[17,5,18,9],[19,1,22,1],[19,2,22,2],[19,3,22,3],[19,4,22,4],[19,5,20,9],[19,10,22,10],[19,11,22,11],[19,12,22,12],[15,11,18,11],[15,12,18,12],[15,13,18,13],[15,14,18,14],[15,15,18,15],[15,16,18,16],[15,1,18,1],[15,2,18,2],[15,3,18,3],[15,4,18,4],[15,5,16,9],[15,10,18,10],[11,13,14,13],[11,14,14,14],[11,15,14,15],[11,16,14,16],[11,17,13,17],[13,5,14,9],[11,1,14,1],[11,2,14,2],[11,3,14,3],[11,4,14,4],[11,5,12,9],[11,10,14,10],[11,11,14,11],[11,12,14,12],[7,11,10,11],[7,12,10,12],[7,1,10,1],[7,2,10,2],[7,3,10,3],[7,4,10,4],[7,5,8,9],[7,10,10,10],[4,1,4,2],[4,3,4,4],[4,6,4,8],[4,9,4,10],[4,14,4,17],[6,5,6,9],[6,10,6,13],[7,17,9,17],[9,5,10,9],[7,13,10,13],[7,14,10,14],[7,15,10,15],[7,16,10,16]]}
[]
[]
[null,null,null,"          　　　　　　","令和",{"$f":"'4計画'!AQ1-2018","v":2},"年",{"$f":"'4計画'!A7","v":4},"月分","　 教  員  特  殊  業  務  整  理  簿",null,null,null,null,null,null,null,"様式3"]
[]
[null,"氏　名",null,{"$f":"IF('４実績'!AE10=\"\",\"\",'４実績'!AE10)","v":0},null,"職員\n番号",null,null,null,null,null,null,null,null,{"$f":"'４'!O5:R5","v":"0学校"}]
[]
[null,"日","曜","要　件","区　分","業　　務　　内　　容",null,null,null,null,"従　事　時　間",null,null,null,"従事場所","所属長\n確認印","従事者印","備　　考"]
[null,{"$f":"'４'!B8:B11","v":""},{"$f":"IF(B8=\"\",\"\",TEXT(DATE(2018+$F$3,$H$3,B8),\"aaa\"))","v":""},"　　　","　　　",{"$f":"IF(IF(B8=\"\",\"\",VLOOKUP(B8,'４実績'!$A$16:$BK$46,63))=\"大会\",IF(B8=\"\",\"\",VLOOKUP(B8,'４実績'!$A$16:$AO$46,22,FALSE)),IF(B8=\"\",\"\",'４実績'!$AC$4)&IF(B8=\"\",\"\",VLOOKUP(B8,'４実績'!$A$16:$AO$46,22,FALSE)))","v":""},null,null,null,null,{"$f":"IF(IF(B8=\"\",\"\",VLOOKUP(B8,'４実績'!$A$16:$AO$46,5,FALSE))=0,IF(B8=\"\",\"\",VLOOKUP(B8,'４実績'!$A$16:$AO$46,12,FALSE)),IF(B8=\"\",\"\",VLOOKUP(B8,'４実績'!$A$16:$AO$46,5,FALSE)))","v":""},"～",{"$f":"IF(IF(B8=\"\",\"\",VLOOKUP(B8,'４実績'!$A$16:$AO$46,16,FALSE))=0,IF(B8=\"\",\"\",VLOOKUP(B8,'４実績'!$A$16:$AO$46,9,FALSE)),IF(B8=\"\",\"\",VLOOKUP(B8,'４実績'!$A$16:$AO$46,16,FALSE)))","v":""},{"$f":"IF(K8=\"\",\"\",M8-K8)","v":""},{"$f":"IF(B8=\"\",\"\",VLOOKUP(B8,'４実績'!$A$16:$AO$46,34,FALSE))","v":""}]
[]
[]
[null,null,null,null,null,null,null,null,null,null,null,null,null,null,null,null,null,"　　　"]
[null,{"$f":"'４'!B12:B15","v":""},{"$f":"IF(B12=\"\",\"\",TEXT(DATE(2018+$F$3,$H$3,B12),\"aaa\"))","v":""},"　　　","　　　",{"$f":"IF(IF(B12=\"\",\"\",VLOOKUP(B12,'４実績'!$A$16:$BK$46,63))=\"大会\",IF(B12=\"\",\"\",VLOOKUP(B12,'４実績'!$A$16:$AO$46,22,FALSE)),IF(B12=\"\",\"\",'４実績'!$AC$4)&IF(B12=\"\",\"\",VLOOKUP(B12,'４実績'!$A$16:$AO$46,22,FALSE)))","v":""},null,null,null,null,{"$f":"IF(IF(B12=\"\",\"\",VLOOKUP(B12,'４実績'!$A$16:$AO$46,5,FALSE))=0,IF(B12=\"\",\"\",VLOOKUP(B12,'４実績'!$A$16:$AO$46,12,FALSE)),IF(B12=\"\",\"\",VLOOKUP(B12,'４実績'!$A$16:$AO$46,5,FALSE)))","v":""},"～",{"$f":"IF(IF(B12=\"\",\"\",VLOOKUP(B12,'４実績'!$A$16:$AO$46,16,FALSE))=0,IF(B12=\"\",\"\",VLOOKUP(B12,'４実績'!$A$16:$AO$46,9,FALSE)),IF(B12=\"\",\"\",VLOOKUP(B12,'４実績'!$A$16:$AO$46,16,FALSE)))","v":""},{"$f":"IF(K12=\"\",\"\",M12-K12)","v":""},{"$f":"IF(B12=\"\",\"\",VLOOKUP(B12,'４実績'!$A$16:$AO$46,34,FALSE))","v":""}]
[]
[]
[null,null,null,null,null,null,null,null,null,null,null,null,null,null,null,null,null,"　　　"]
[null,{"$f":"'４'!B16:B19","v":""},{"$f":"IF(B16=\"\",\"\",TEXT(DATE(2018+$F$3,$H$3,B16),\"aaa\"))","v":""},"　　　","　　　",{"$f":"IF(IF(B16=\"\",\"\",VLOOKUP(B16,'４実績'!$A$16:$BK$46,63))=\"大会\",IF(B16=\"\",\"\",VLOOKUP(B16,'４実績'!$A$16:$AO$46,22,FALSE)),IF(B16=\"\",\"\",'４実績'!$AC$4)&IF(B16=\"\",\"\",VLOOKUP(B16,'４実績'!$A$16:$AO$46,22,FALSE)))","v":""},null,null,null,null,{"$f":"IF(IF(B16=\"\",\"\",VLOOKUP(B16,'４実績'!$A$16:$AO$46,5,FALSE))=0,IF(B16=\"\",\"\",VLOOKUP(B16,'４実績'!$A$16:$AO$46,12,FALSE)),IF(B16=\"\",\"\",VLOOKUP(B16,'４実績'!$A$16:$AO$46,5,FALSE)))","v":""},"～",{"$f":"IF(IF(B16=\"\",\"\",VLOOKUP(B16,'４実績'!$A$16:$AO$46,16,FALSE))=0,IF(B16=\"\",\"\",VLOOKUP(B16,'４実績'!$A$16:$AO$46,9,FALSE)),IF(B16=\"\",\"\",VLOOKUP(B16,'４実績'!$A$16:$AO$46,16,FALSE)))","v":""},{"$f":"IF(K16=\"\",\"\",M16-K16)","v":""},{"$f":"IF(B16=\"\",\"\",VLOOKUP(B16,'４実績'!$A$16:$AO$46,34,FALSE))","v":""}]
[]
[]
[null,null,null,null,null,null,null,null,null,null,null,null,null,null,null,null,null,"　　　"]
[null,{"$f":"'４'!B20:B23","v":""},{"$f":"IF(B20=\"\",\"\",TEXT(DATE(2018+$F$3,$H$3,B20),\"aaa\"))","v":""},"　　　","　　　",{"$f":"IF(IF(B20=\"\",\"\",VLOOKUP(B20,'４実績'!$A$16:$BK$46,63))=\"大会\",IF(B20=\"\",\"\",VLOOKUP(B20,'４実績'!$A$16:$AO$46,22,FALSE)),IF(B20=\"\",\"\",'４実績'!$AC$4)&IF(B20=\"\",\"\",VLOOKUP(B20,'４実績'!$A$16:$AO$46,22,FALSE)))","v":""},null,null,null,null,{"$f":"IF(IF(B20=\"\",\"\",VLOOKUP(B20,'４実績'!$A$16:$AO$46,5,FALSE))=0,IF(B20=\"\",\"\",VLOOKUP(B20,'４実績'!$A$16:$AO$46,12,FALSE)),IF(B20=\"\",\"\",VLOOKUP(B20,'４実績'!$A$16:$AO$46,5,FALSE)))","v":""},"～",{"$f":"IF(IF(B20=\"\",\"\",VLOOKUP(B20,'４実績'!$A$16:$AO$46,16,FALSE))=0,IF(B20=\"\",\"\",VLOOKUP(B20,'４実績'!$A$16:$AO$46,9,FALSE)),IF(B20=\"\",\"\",VLOOKUP(B20,'４実績'!$A$16:$AO$46,16,FALSE)))","v":""},{"$f":"IF(K20=\"\",\"\",M20-K20)","v":""},{"$f":"IF(B20=\"\",\"\",VLOOKUP(B20,'４実績'!$A$16:$AO$46,34,FALSE))","v":""}]
[]
[]
[null,null,null,null,null,null,null,null,null,null,null,null,null,null,null,null,null,"　　　"]
[null,{"$f":"'４'!B24:B27","v":""},{"$f":"IF(B24=\"\",\"\",TEXT(DATE(2018+$F$3,$H$3,B24),\"aaa\"))","v":""},"　　　","　　　",{"$f":"IF(IF(B24=\"\",\"\",VLOOKUP(B24,'４実績'!$A$16:$BK$46,63))=\"大会\",IF(B24=\"\",\"\",VLOOKUP(B24,'４実績'!$A$16:$AO$46,22,FALSE)),IF(B24=\"\",\"\",'４実績'!$AC$4)&IF(B24=\"\",\"\",VLOOKUP(B24,'４実績'!$A$16:$AO$46,22,FALSE)))","v":""},null,null,null,null,{"$f":"IF(IF(B24=\"\",\"\",VLOOKUP(B24,'４実績'!$A$16:$AO$46,5,FALSE))=0,IF(B24=\"\",\"\",VLOOKUP(B24,'４実績'!$A$16:$AO$46,12,FALSE)),IF(B24=\"\",\"\",VLOOKUP(B24,'４実績'!$A$16:$AO$46,5,FALSE)))","v":""},"～",{"$f":"IF(IF(B24=\"\",\"\",VLOOKUP(B24,'４実績'!$A$16:$AO$46,16,FALSE))=0,IF(B24=\"\",\"\",VLOOKUP(B24,'４実績'!$A$16:$AO$46,9,FALSE)),IF(B24=\"\",\"\",VLOOKUP(B24,'４実績'!$A$16:$AO$46,16,FALSE)))","v":""},{"$f":"IF(K24=\"\",\"\",M24-K24)","v":""},{"$f":"IF(B24=\"\",\"\",VLOOKUP(B24,'４実績'!$A$16:$AO$46,34,FALSE))","v":""}]
[]
[]
[null,null,null,null,null,null,null,null,null,null,null,null,null,null,null,null,null,"　　　"]
[null,{"$f":"'４'!B28:B31","v":""},{"$f":"IF(B28=\"\",\"\",TEXT(DATE(2018+$F$3,$H$3,B28),\"aaa\"))","v":""},"　　　","　　　",{"$f":"IF(IF(B28=\"\",\"\",VLOOKUP(B28,'４実績'!$A$16:$BK$46,63))=\"大会\",IF(B28=\"\",\"\",VLOOKUP(B28,'４実績'!$A$16:$AO$46,22,FALSE)),IF(B28=\"\",\"\",'４実績'!$AC$4)&IF(B28=\"\",\"\",VLOOKUP(B28,'４実績'!$A$16:$AO$46,22,FALSE)))","v":""},null,null,null,null,{"$f":"IF(IF(B28=\"\",\"\",VLOOKUP(B28,'４実績'!$A$16:$AO$46,5,FALSE))=0,IF(B28=\"\",\"\",VLOOKUP(B28,'４実績'!$A$16:$AO$46,12,FALSE)),IF(B28=\"\",\"\",VLOOKUP(B28,'４実績'!$A$16:$AO$46,5,FALSE)))","v":""},"～",{"$f":"IF(IF(B28=\"\",\"\",VLOOKUP(B28,'４実績'!$A$16:$AO$46,16,FALSE))=0,IF(B28=\"\",\"\",VLOOKUP(B28,'４実績'!$A$16:$AO$46,9,FALSE)),IF(B28=\"\",\"\",VLOOKUP(B28,'４実績'!$A$16:$AO$46,16,FALSE)))","v":""},{"$f":"IF(K28=\"\",\"\",M28-K28)","v":""},{"$f":"IF(B28=\"\",\"\",VLOOKUP(B28,'４実績'!$A$16:$AO$46,34,FALSE))","v":""}]
[]
[]
[null,null,null,null,null,null,null,null,null,null,null,null,null,null,null,null,null,"　　　"]
[null,{"$f":"'４'!B32:B35","v":""},{"$f":"IF(B32=\"\",\"\",TEXT(DATE(2018+$F$3,$H$3,B32),\"aaa\"))","v":""},"　　　","　　　",{"$f":"IF(IF(B32=\"\",\"\",VLOOKUP(B32,'４実績'!$A$16:$BK$46,63))=\"大会\",IF(B32=\"\",\"\",VLOOKUP(B32,'４実績'!$A$16:$AO$46,22,FALSE)),IF(B32=\"\",\"\",'４実績'!$AC$4)&IF(B32=\"\",\"\",VLOOKUP(B32,'４実績'!$A$16:$AO$46,22,FALSE)))","v":""},null,null,null,null,{"$f":"IF(IF(B32=\"\",\"\",VLOOKUP(B32,'４実績'!$A$16:$AO$46,5,FALSE))=0,IF(B32=\"\",\"\",VLOOKUP(B32,'４実績'!$A$16:$AO$46,12,FALSE)),IF(B32=\"\",\"\",VLOOKUP(B32,'４実績'!$A$16:$AO$46,5,FALSE)))","v":""},"～",{"$f":"IF(IF(B32=\"\",\"\",VLOOKUP(B32,'４実績'!$A$16:$AO$46,16,FALSE))=0,IF(B32=\"\",\"\",VLOOKUP(B32,'４実績'!$A$16:$AO$46,9,FALSE)),IF(B32=\"\",\"\",VLOOKUP(B32,'４実績'!$A$16:$AO$46,16,FALSE)))","v":""},{"$f":"IF(K32=\"\",\"\",M32-K32)","v":""},{"$f":"IF(B32=\"\",\"\",VLOOKUP(B32,'４実績'!$A$16:$AO$46,34,FALSE))","v":""}]
[]
[]
[null,null,null,null,null,null,null,null,null,null,null,null,null,null,null,null,null,"　　　"]
[null,{"$f":"'４'!B36:B39","v":""},{"$f":"IF(B36=\"\",\"\",TEXT(DATE(2018+$F$3,$H$3,B36),\"aaa\"))","v":""},"　　　","　　　",{"$f":"IF(IF(B36=\"\",\"\",VLOOKUP(B36,'４実績'!$A$16:$BK$46,63))=\"大会\",IF(B36=\"\",\"\",VLOOKUP(B36,'４実績'!$A$16:$AO$46,22,FALSE)),IF(B36=\"\",\"\",'４実績'!$AC$4)&IF(B36=\"\",\"\",VLOOKUP(B36,'４実績'!$A$16:$AO$46,22,FALSE)))","v":""},null,null,null,null,{"$f":"IF(IF(B36=\"\",\"\",VLOOKUP(B36,'４実績'!$A$16:$AO$46,5,FALSE))=0,IF(B36=\"\",\"\",VLOOKUP(B36,'４実績'!$A$16:$AO$46,12,FALSE)),IF(B36=\"\",\"\",VLOOKUP(B36,'４実績'!$A$16:$AO$46,5,FALSE)))","v":""},"～",{"$f":"IF(IF(B36=\"\",\"\",VLOOKUP(B36,'４実績'!$A$16:$AO$46,16,FALSE))=0,IF(B36=\"\",\"\",VLOOKUP(B36,'４実績'!$A$16:$AO$46,9,FALSE)),IF(B36=\"\",\"\",VLOOKUP(B36,'４実績'!$A$16:$AO$46,16,FALSE)))","v":""},{"$f":"IF(K36=\"\",\"\",M36-K36)","v":""},{"$f":"IF(B36=\"\",\"\",VLOOKUP(B36,'４実績'!$A$16:$AO$46,34,FALSE))","v":""}]
[]
[]
[null,null,null,null,null,null,null,null,null,null,null,null,null,null,null,null,null,"　　　"]
[null,{"$f":"'４'!B40:B43","v":""},{"$f":"IF(B40=\"\",\"\",TEXT(DATE(2018+$F$3,$H$3,B40),\"aaa\"))","v":""},"　　　","　　　",{"$f":"IF(IF(B40=\"\",\"\",VLOOKUP(B40,'４実績'!$A$16:$BK$46,63))=\"大会\",IF(B40=\"\",\"\",VLOOKUP(B40,'４実績'!$A$16:$AO$46,22,FALSE)),IF(B40=\"\",\"\",'４実績'!$AC$4)&IF(B40=\"\",\"\",VLOOKUP(B40,'４実績'!$A$16:$AO$46,22,FALSE)))","v":""},null,null,null,null,{"$f":"IF(IF(B40=\"\",\"\",VLOOKUP(B40,'４実績'!$A$16:$AO$46,5,FALSE))=0,IF(B40=\"\",\"\",VLOOKUP(B40,'４実績'!$A$16:$AO$46,12,FALSE)),IF(B40=\"\",\"\",VLOOKUP(B40,'４実績'!$A$16:$AO$46,5,FALSE)))","v":""},"～",{"$f":"IF(IF(B40=\"\",\"\",VLOOKUP(B40,'４実績'!$A$16:$AO$46,16,FALSE))=0,IF(B40=\"\",\"\",VLOOKUP(B40,'４実績'!$A$16:$AO$46,9,FALSE)),IF(B40=\"\",\"\",VLOOKUP(B40,'４実績'!$A$16:$AO$46,16,FALSE)))","v":""},{"$f":"IF(K40=\"\",\"\",M40-K40)","v":""},{"$f":"IF(B40=\"\",\"\",VLOOKUP(B40,'４実績'!$A$16:$AO$46,34,FALSE))","v":""}]
[]
[]
[null,null,null,null,null,null,null,null,null,null,null,null,null,null,null,null,null,"　　　"]
[null,"( 記入要領等 )"]
[null,"　         　１　この整理簿は、教員特殊業務手当及び面接指導手当の支給対象となるものについて、当該手当の支給に必要な事の整理をするものであること。"]
[null,"　　         ２　記入にあたっては、次のように記入すること。"]
[null,"　　　         　「要件」欄：週休日等　　　半日振替日　　　　その他"]
[null,"　　　　         「区分」欄：非常災害　　救急業務　　補導業務　　修学旅行等　　対外運動等　　入学試験業務　　　部活動４　　　　部活動３　　　部活動２　　　面接指導　　　　　"]
[null,"　　　　　　　　　　         ※部活動４は4時間以上、部活動３は３時間以上４時間未満、部活動２は2時間以上３時間未満をいう。"]
[null,"　　　　         「業務内容」欄：職員が従事した業務について、その内容を簡潔に記入すること。"]
[null,"　　　         　「従事時間」欄：左欄に手当の支給対象となる業務の終始の時刻を、右欄には時間を記入すること。"]
[null,"　　　         　「備考」欄：この整理簿を補足する事項を記入すること。"]

{"sheet":"５(副顧問) (2)","index":51,"n_rows":52,"n_cols":18,"rows_kept":52,"cut":false,"hidden":false,"merged":[[39,17,41,17],[41,5,42,9],[43,1,43,3],[39,11,42,11],[39,12,42,12],[39,13,42,13],[39,14,42,14],[39,15,42,15],[39,16,42,16],[39,1,42,1],[39,2,42,2],[39,3,42,3],[39,4,42,4],[39,5,40,9],[39,10,42,10],[35,13,38,13],[35,14,38,14],[35,15,38,15],[35,16,38,16],[35,17,37,17],[37,5,38,9],[31,17,33,17],[33,5,34,9],[35,1,38,1],[35,2,38,2],[35,3,38,3],[35,4,38,4],[35,5,36,9],[35,10,38,10],[35,11,38,11],[35,12,38,12],[31,11,34,11],[31,12,34,12],[31,13,34,13],[31,14,34,14],[31,15,34,15],[31,16,34,16],[31,1,34,1],[31,2,34,2],[31,3,34,3],[31,4,34,4],[31,5,32,9],[31,10,34,10],[27,13,30,13],[27,14,30,14],[27,15,30,15],[27,16,30,16],[27,17,29,17],[29,5,30,9],[23,17,25,17],[25,5,26,9],[27,1,30,1],[27,2,30,2],[27,3,30,3],[27,4,30,4],[27,5,28,9],[27,10,30,10],[27,11,30,11],[27,12,30,12],[23,11,26,11],[23,12,26,12],[23,13,26,13],[23,14,26,14],[23,15,26,15],[23,16,26,16],[23,1,26,1],[23,2,26,2],[23,3,26,3],[23,4,26,4],[23,5,24,9],[23,10,26,10],[19,13,22,13],[19,14,22,14],[19,15,22,15],[19,16,22,16],[19,17,21,17],[21,5,22,9],[15,17,17,17],[17,5,18,9],[19,1,22,1],[19,2,22,2],[19,3,22,3],[19,4,22,4],[19,5,20,9],[19,10,22,10],[19,11,22,11],[19,12,22,12],[15,11,18,11],[15,12,18,12],[15,13,18,13],[15,14,18,14],[15,15,18,15],[15,16,18,16],[15,1,18,1],[15,2,18,2],[15,3,18,3],[15,4,18,4],[15,5,16,9],[15,10,18,10],[11,13,14,13],[11,14,14,14],[11,15,14,15],[11,16,14,16],[11,17,13,17],[13,5,14,9],[11,1,14,1],[11,2,14,2],[11,3,14,3],[11,4,14,4],[11,5,12,9],[11,10,14,10],[11,11,14,11],[11,12,14,12],[7,11,10,11],[7,12,10,12],[7,1,10,1],[7,2,10,2],[7,3,10,3],[7,4,10,4],[7,5,8,9],[7,10,10,10],[4,1,4,2],[4,3,4,4],[4,6,4,8],[4,9,4,10],[4,14,4,17],[6,5,6,9],[6,10,6,13],[7,17,9,17],[9,5,10,9],[7,13,10,13],[7,14,10,14],[7,15,10,15],[7,16,10,16]]}
[]
[]
[null,null,null,"          　　　　　　","令和",{"$f":"'5計画'!AS1-2018","v":2},"年",{"$f":"'5計画'!A7","v":5},"月分","　 教  員  特  殊  業  務  整  理  簿",null,null,null,null,null,null,null,"様式3"]
[]
[null,"氏　名",null,{"$f":"IF('５実績'!AE10=\"\",\"\",'５実績'!AE10)","v":0},null,"職員\n番号",{"$f":"IF('４(副顧問) (2)'!G5=\"\",\"\",'４(副顧問) (2)'!G5)","v":""},null,null,null,null,null,null,null,{"$f":"'４(副顧問) (2)'!$O$5:$R$5","v":"0学校"}]
[]
[null,"日","曜","要　件","区　分","業　　務　　内　　容",null,null,null,null,"従　事　時　間",null,null,null,"従事場所","所属長\n確認印","従事者印","備　　考"]
[null,{"$f":"'５'!B8:B11","v":""},{"$f":"IF(B8=\"\",\"\",TEXT(DATE(2018+$F$3,$H$3,B8),\"aaa\"))","v":""},"　　　",null,{"$f":"IF(IF(B8=\"\",\"\",VLOOKUP(B8,'５実績'!$A$16:$BK$46,63))=\"大会\",IF(B8=\"\",\"\",VLOOKUP(B8,'５実績'!$A$16:$AO$46,22,FALSE)),IF(B8=\"\",\"\",'５実績'!$AC$4)&IF(B8=\"\",\"\",VLOOKUP(B8,'５実績'!$A$16:$AO$46,22,FALSE)))","v":""},null,null,null,null,{"$f":"IF(IF(B8=\"\",\"\",VLOOKUP(B8,'５実績'!$A$16:$AO$46,5,FALSE))=0,IF(B8=\"\",\"\",VLOOKUP(B8,'５実績'!$A$16:$AO$46,12,FALSE)),IF(B8=\"\",\"\",VLOOKUP(B8,'５実績'!$A$16:$AO$46,5,FALSE)))","v":""},"～",{"$f":"IF(IF(B8=\"\",\"\",VLOOKUP(B8,'５実績'!$A$16:$AO$46,16,FALSE))=0,IF(B8=\"\",\"\",VLOOKUP(B8,'５実績'!$A$16:$AO$46,9,FALSE)),IF(B8=\"\",\"\",VLOOKUP(B8,'５実績'!$A$16:$AO$46,16,FALSE)))","v":""},{"$f":"IF(K8=\"\",\"\",M8-K8)","v":""},{"$f":"IF(B8=\"\",\"\",VLOOKUP(B8,'５実績'!$A$16:$AO$46,34,FALSE))","v":""}]
[]
[]
[null,null,null,null,null,null,null,null,null,null,null,null,null,null,null,null,null,"　　　"]
[null,{"$f":"'５'!B12:B15","v":""},{"$f":"IF(B12=\"\",\"\",TEXT(DATE(2018+$F$3,$H$3,B12),\"aaa\"))","v":""},"　　　","　　　",{"$f":"IF(IF(B12=\"\",\"\",VLOOKUP(B12,'５実績'!$A$16:$BK$46,63))=\"大会\",IF(B12=\"\",\"\",VLOOKUP(B12,'５実績'!$A$16:$AO$46,22,FALSE)),IF(B12=\"\",\"\",'５実績'!$AC$4)&IF(B12=\"\",\"\",VLOOKUP(B12,'５実績'!$A$16:$AO$46,22,FALSE)))","v":""},null,null,null,null,{"$f":"IF(IF(B12=\"\",\"\",VLOOKUP(B12,'５実績'!$A$16:$AO$46,5,FALSE))=0,IF(B12=\"\",\"\",VLOOKUP(B12,'５実績'!$A$16:$AO$46,12,FALSE)),IF(B12=\"\",\"\",VLOOKUP(B12,'５実績'!$A$16:$AO$46,5,FALSE)))","v":""},"～",{"$f":"IF(IF(B12=\"\",\"\",VLOOKUP(B12,'５実績'!$A$16:$AO$46,16,FALSE))=0,IF(B12=\"\",\"\",VLOOKUP(B12,'５実績'!$A$16:$AO$46,9,FALSE)),IF(B12=\"\",\"\",VLOOKUP(B12,'５実績'!$A$16:$AO$46,16,FALSE)))","v":""},{"$f":"IF(K12=\"\",\"\",M12-K12)","v":""},{"$f":"IF(B12=\"\",\"\",VLOOKUP(B12,'５実績'!$A$16:$AO$46,34,FALSE))","v":""}]
[]
[]
[null,null,null,null,null,null,null,null,null,null,null,null,null,null,null,null,null,"　　　"]
[null,{"$f":"'５'!B16:B19","v":""},{"$f":"IF(B16=\"\",\"\",TEXT(DATE(2018+$F$3,$H$3,B16),\"aaa\"))","v":""},"　　　","　　　",{"$f":"IF(IF(B16=\"\",\"\",VLOOKUP(B16,'５実績'!$A$16:$BK$46,63))=\"大会\",IF(B16=\"\",\"\",VLOOKUP(B16,'５実績'!$A$16:$AO$46,22,FALSE)),IF(B16=\"\",\"\",'５実績'!$AC$4)&IF(B16=\"\",\"\",VLOOKUP(B16,'５実績'!$A$16:$AO$46,22,FALSE)))","v":""},null,null,null,null,{"$f":"IF(IF(B16=\"\",\"\",VLOOKUP(B16,'５実績'!$A$16:$AO$46,5,FALSE))=0,IF(B16=\"\",\"\",VLOOKUP(B16,'５実績'!$A$16:$AO$46,12,FALSE)),IF(B16=\"\",\"\",VLOOKUP(B16,'５実績'!$A$16:$AO$46,5,FALSE)))","v":""},"～",{"$f":"IF(IF(B16=\"\",\"\",VLOOKUP(B16,'５実績'!$A$16:$AO$46,16,FALSE))=0,IF(B16=\"\",\"\",VLOOKUP(B16,'５実績'!$A$16:$AO$46,9,FALSE)),IF(B16=\"\",\"\",VLOOKUP(B16,'５実績'!$A$16:$AO$46,16,FALSE)))","v":""},{"$f":"IF(K16=\"\",\"\",M16-K16)","v":""},{"$f":"IF(B16=\"\",\"\",VLOOKUP(B16,'５実績'!$A$16:$AO$46,34,FALSE))","v":""}]
[]
[]
[null,null,null,null,null,null,null,null,null,null,null,null,null,null,null,null,null,"　　　"]
[null,{"$f":"'５'!B20:B23","v":""},{"$f":"IF(B20=\"\",\"\",TEXT(DATE(2018+$F$3,$H$3,B20),\"aaa\"))","v":""},"　　　","　　　",{"$f":"IF(IF(B20=\"\",\"\",VLOOKUP(B20,'５実績'!$A$16:$BK$46,63))=\"大会\",IF(B20=\"\",\"\",VLOOKUP(B20,'５実績'!$A$16:$AO$46,22,FALSE)),IF(B20=\"\",\"\",'５実績'!$AC$4)&IF(B20=\"\",\"\",VLOOKUP(B20,'５実績'!$A$16:$AO$46,22,FALSE)))","v":""},null,null,null,null,{"$f":"IF(IF(B20=\"\",\"\",VLOOKUP(B20,'５実績'!$A$16:$AO$46,5,FALSE))=0,IF(B20=\"\",\"\",VLOOKUP(B20,'５実績'!$A$16:$AO$46,12,FALSE)),IF(B20=\"\",\"\",VLOOKUP(B20,'５実績'!$A$16:$AO$46,5,FALSE)))","v":""},"～",{"$f":"IF(IF(B20=\"\",\"\",VLOOKUP(B20,'５実績'!$A$16:$AO$46,16,FALSE))=0,IF(B20=\"\",\"\",VLOOKUP(B20,'５実績'!$A$16:$AO$46,9,FALSE)),IF(B20=\"\",\"\",VLOOKUP(B20,'５実績'!$A$16:$AO$46,16,FALSE)))","v":""},{"$f":"IF(K20=\"\",\"\",M20-K20)","v":""},{"$f":"IF(B20=\"\",\"\",VLOOKUP(B20,'５実績'!$A$16:$AO$46,34,FALSE))","v":""}]
[]
[]
[null,null,null,null,null,null,null,null,null,null,null,null,null,null,null,null,null,"　　　"]
[null,{"$f":"'５'!B24:B27","v":""},{"$f":"IF(B24=\"\",\"\",TEXT(DATE(2018+$F$3,$H$3,B24),\"aaa\"))","v":""},"　　　","　　　",{"$f":"IF(IF(B24=\"\",\"\",VLOOKUP(B24,'５実績'!$A$16:$BK$46,63))=\"大会\",IF(B24=\"\",\"\",VLOOKUP(B24,'５実績'!$A$16:$AO$46,22,FALSE)),IF(B24=\"\",\"\",'５実績'!$AC$4)&IF(B24=\"\",\"\",VLOOKUP(B24,'５実績'!$A$16:$AO$46,22,FALSE)))","v":""},null,null,null,null,{"$f":"IF(IF(B24=\"\",\"\",VLOOKUP(B24,'５実績'!$A$16:$AO$46,5,FALSE))=0,IF(B24=\"\",\"\",VLOOKUP(B24,'５実績'!$A$16:$AO$46,12,FALSE)),IF(B24=\"\",\"\",VLOOKUP(B24,'５実績'!$A$16:$AO$46,5,FALSE)))","v":""},"～",{"$f":"IF(IF(B24=\"\",\"\",VLOOKUP(B24,'５実績'!$A$16:$AO$46,16,FALSE))=0,IF(B24=\"\",\"\",VLOOKUP(B24,'５実績'!$A$16:$AO$46,9,FALSE)),IF(B24=\"\",\"\",VLOOKUP(B24,'５実績'!$A$16:$AO$46,16,FALSE)))","v":""},{"$f":"IF(K24=\"\",\"\",M24-K24)","v":""},{"$f":"IF(B24=\"\",\"\",VLOOKUP(B24,'５実績'!$A$16:$AO$46,34,FALSE))","v":""}]
[]
[]
[null,null,null,null,null,null,null,null,null,null,null,null,null,null,null,null,null,"　　　"]
[null,{"$f":"'５'!B28:B31","v":""},{"$f":"IF(B28=\"\",\"\",TEXT(DATE(2018+$F$3,$H$3,B28),\"aaa\"))","v":""},"　　　","　　　",{"$f":"IF(IF(B28=\"\",\"\",VLOOKUP(B28,'５実績'!$A$16:$BK$46,63))=\"大会\",IF(B28=\"\",\"\",VLOOKUP(B28,'５実績'!$A$16:$AO$46,22,FALSE)),IF(B28=\"\",\"\",'５実績'!$AC$4)&IF(B28=\"\",\"\",VLOOKUP(B28,'５実績'!$A$16:$AO$46,22,FALSE)))","v":""},null,null,null,null,{"$f":"IF(IF(B28=\"\",\"\",VLOOKUP(B28,'５実績'!$A$16:$AO$46,5,FALSE))=0,IF(B28=\"\",\"\",VLOOKUP(B28,'５実績'!$A$16:$AO$46,12,FALSE)),IF(B28=\"\",\"\",VLOOKUP(B28,'５実績'!$A$16:$AO$46,5,FALSE)))","v":""},"～",{"$f":"IF(IF(B28=\"\",\"\",VLOOKUP(B28,'５実績'!$A$16:$AO$46,16,FALSE))=0,IF(B28=\"\",\"\",VLOOKUP(B28,'５実績'!$A$16:$AO$46,9,FALSE)),IF(B28=\"\",\"\",VLOOKUP(B28,'５実績'!$A$16:$AO$46,16,FALSE)))","v":""},{"$f":"IF(K28=\"\",\"\",M28-K28)","v":""},{"$f":"IF(B28=\"\",\"\",VLOOKUP(B28,'５実績'!$A$16:$AO$46,34,FALSE))","v":""}]
[]
[]
[null,null,null,null,null,null,null,null,null,null,null,null,null,null,null,null,null,"　　　"]
[null,{"$f":"'５'!B32:B35","v":""},{"$f":"IF(B32=\"\",\"\",TEXT(DATE(2018+$F$3,$H$3,B32),\"aaa\"))","v":""},"　　　","　　　",{"$f":"IF(IF(B32=\"\",\"\",VLOOKUP(B32,'５実績'!$A$16:$BK$46,63))=\"大会\",IF(B32=\"\",\"\",VLOOKUP(B32,'５実績'!$A$16:$AO$46,22,FALSE)),IF(B32=\"\",\"\",'５実績'!$AC$4)&IF(B32=\"\",\"\",VLOOKUP(B32,'５実績'!$A$16:$AO$46,22,FALSE)))","v":""},null,null,null,null,{"$f":"IF(IF(B32=\"\",\"\",VLOOKUP(B32,'５実績'!$A$16:$AO$46,5,FALSE))=0,IF(B32=\"\",\"\",VLOOKUP(B32,'５実績'!$A$16:$AO$46,12,FALSE)),IF(B32=\"\",\"\",VLOOKUP(B32,'５実績'!$A$16:$AO$46,5,FALSE)))","v":""},"～",{"$f":"IF(IF(B32=\"\",\"\",VLOOKUP(B32,'５実績'!$A$16:$AO$46,16,FALSE))=0,IF(B32=\"\",\"\",VLOOKUP(B32,'５実績'!$A$16:$AO$46,9,FALSE)),IF(B32=\"\",\"\",VLOOKUP(B32,'５実績'!$A$16:$AO$46,16,FALSE)))","v":""},{"$f":"IF(K32=\"\",\"\",M32-K32)","v":""},{"$f":"IF(B32=\"\",\"\",VLOOKUP(B32,'５実績'!$A$16:$AO$46,34,FALSE))","v":""}]
[]
[]
[null,null,null,null,null,null,null,null,null,null,null,null,null,null,null,null,null,"　　　"]
[null,{"$f":"'５'!B36:B39","v":""},{"$f":"IF(B36=\"\",\"\",TEXT(DATE(2018+$F$3,$H$3,B36),\"aaa\"))","v":""},"　　　","　　　",{"$f":"IF(IF(B36=\"\",\"\",VLOOKUP(B36,'５実績'!$A$16:$BK$46,63))=\"大会\",IF(B36=\"\",\"\",VLOOKUP(B36,'５実績'!$A$16:$AO$46,22,FALSE)),IF(B36=\"\",\"\",'５実績'!$AC$4)&IF(B36=\"\",\"\",VLOOKUP(B36,'５実績'!$A$16:$AO$46,22,FALSE)))","v":""},null,null,null,null,{"$f":"IF(IF(B36=\"\",\"\",VLOOKUP(B36,'５実績'!$A$16:$AO$46,5,FALSE))=0,IF(B36=\"\",\"\",VLOOKUP(B36,'５実績'!$A$16:$AO$46,12,FALSE)),IF(B36=\"\",\"\",VLOOKUP(B36,'５実績'!$A$16:$AO$46,5,FALSE)))","v":""},"～",{"$f":"IF(IF(B36=\"\",\"\",VLOOKUP(B36,'５実績'!$A$16:$AO$46,16,FALSE))=0,IF(B36=\"\",\"\",VLOOKUP(B36,'５実績'!$A$16:$AO$46,9,FALSE)),IF(B36=\"\",\"\",VLOOKUP(B36,'５実績'!$A$16:$AO$46,16,FALSE)))","v":""},{"$f":"IF(K36=\"\",\"\",M36-K36)","v":""},{"$f":"IF(B36=\"\",\"\",VLOOKUP(B36,'５実績'!$A$16:$AO$46,34,FALSE))","v":""}]
[]
[]
[null,null,null,null,null,null,null,null,null,null,null,null,null,null,null,null,null,"　　　"]
[null,{"$f":"'５'!B40:B43","v":""},{"$f":"IF(B40=\"\",\"\",TEXT(DATE(2018+$F$3,$H$3,B40),\"aaa\"))","v":""},"　　　","　　　",{"$f":"IF(IF(B40=\"\",\"\",VLOOKUP(B40,'５実績'!$A$16:$BK$46,63))=\"大会\",IF(B40=\"\",\"\",VLOOKUP(B40,'５実績'!$A$16:$AO$46,22,FALSE)),IF(B40=\"\",\"\",'５実績'!$AC$4)&IF(B40=\"\",\"\",VLOOKUP(B40,'５実績'!$A$16:$AO$46,22,FALSE)))","v":""},null,null,null,null,{"$f":"IF(IF(B40=\"\",\"\",VLOOKUP(B40,'５実績'!$A$16:$AO$46,5,FALSE))=0,IF(B40=\"\",\"\",VLOOKUP(B40,'５実績'!$A$16:$AO$46,12,FALSE)),IF(B40=\"\",\"\",VLOOKUP(B40,'５実績'!$A$16:$AO$46,5,FALSE)))","v":""},"～",{"$f":"IF(IF(B40=\"\",\"\",VLOOKUP(B40,'５実績'!$A$16:$AO$46,16,FALSE))=0,IF(B40=\"\",\"\",VLOOKUP(B40,'５実績'!$A$16:$AO$46,9,FALSE)),IF(B40=\"\",\"\",VLOOKUP(B40,'５実績'!$A$16:$AO$46,16,FALSE)))","v":""},{"$f":"IF(K40=\"\",\"\",M40-K40)","v":""},{"$f":"IF(B40=\"\",\"\",VLOOKUP(B40,'５実績'!$A$16:$AO$46,34,FALSE))","v":""}]
[]
[]
[null,null,null,null,null,null,null,null,null,null,null,null,null,null,null,null,null,"　　　"]
[null,"( 記入要領等 )"]
[null,"　         　１　この整理簿は、教員特殊業務手当及び面接指導手当の支給対象となるものについて、当該手当の支給に必要な事の整理をするものであること。"]
[null,"　　         ２　記入にあたっては、次のように記入すること。"]
[null,"　　　         　「要件」欄：週休日等　　　半日振替日　　　　その他"]
[null,"　　　　         「区分」欄：非常災害　　救急業務　　補導業務　　修学旅行等　　対外運動等　　入学試験業務　　　部活動４　　　　部活動３　　　部活動２　　　面接指導　　　　　"]
[null,"　　　　　　　　　　         ※部活動４は4時間以上、部活動３は３時間以上４時間未満、部活動２は2時間以上３時間未満をいう。"]
[null,"　　　　         「業務内容」欄：職員が従事した業務について、その内容を簡潔に記入すること。"]
[null,"　　　         　「従事時間」欄：左欄に手当の支給対象となる業務の終始の時刻を、右欄には時間を記入すること。"]
[null,"　　　         　「備考」欄：この整理簿を補足する事項を記入すること。"]

{"sheet":"６(副顧問) (2)","index":52,"n_rows":52,"n_cols":18,"rows_kept":52,"cut":false,"hidden":false,"merged":[[39,17,41,17],[41,5,42,9],[43,1,43,3],[39,11,42,11],[39,12,42,12],[39,13,42,13],[39,14,42,14],[39,15,42,15],[39,16,42,16],[39,1,42,1],[39,2,42,2],[39,3,42,3],[39,4,42,4],[39,5,40,9],[39,10,42,10],[35,13,38,13],[35,14,38,14],[35,15,38,15],[35,16,38,16],[35,17,37,17],[37,5,38,9],[31,17,33,17],[33,5,34,9],[35,1,38,1],[35,2,38,2],[35,3,38,3],[35,4,38,4],[35,5,36,9],[35,10,38,10],[35,11,38,11],[35,12,38,12],[31,11,34,11],[31,12,34,12],[31,13,34,13],[31,14,34,14],[31,15,34,15],[31,16,34,16],[31,1,34,1],[31,2,34,2],[31,3,34,3],[31,4,34,4],[31,5,32,9],[31,10,34,10],[27,13,30,13],[27,14,30,14],[27,15,30,15],[27,16,30,16],[27,17,29,17],[29,5,30,9],[23,17,25,17],[25,5,26,9],[27,1,30,1],[27,2,30,2],[27,3,30,3],[27,4,30,4],[27,5,28,9],[27,10,30,10],[27,11,30,11],[27,12,30,12],[23,11,26,11],[23,12,26,12],[23,13,26,13],[23,14,26,14],[23,15,26,15],[23,16,26,16],[23,1,26,1],[23,2,26,2],[23,3,26,3],[23,4,26,4],[23,5,24,9],[23,10,26,10],[19,13,22,13],[19,14,22,14],[19,15,22,15],[19,16,22,16],[19,17,21,17],[21,5,22,9],[15,17,17,17],[17,5,18,9],[19,1,22,1],[19,2,22,2],[19,3,22,3],[19,4,22,4],[19,5,20,9],[19,10,22,10],[19,11,22,11],[19,12,22,12],[15,11,18,11],[15,12,18,12],[15,13,18,13],[15,14,18,14],[15,15,18,15],[15,16,18,16],[15,1,18,1],[15,2,18,2],[15,3,18,3],[15,4,18,4],[15,5,16,9],[15,10,18,10],[11,13,14,13],[11,14,14,14],[11,15,14,15],[11,16,14,16],[11,17,13,17],[13,5,14,9],[11,1,14,1],[11,2,14,2],[11,3,14,3],[11,4,14,4],[11,5,12,9],[11,10,14,10],[11,11,14,11],[11,12,14,12],[7,11,10,11],[7,12,10,12],[7,1,10,1],[7,2,10,2],[7,3,10,3],[7,4,10,4],[7,5,8,9],[7,10,10,10],[4,1,4,2],[4,3,4,4],[4,6,4,8],[4,9,4,10],[4,14,4,17],[6,5,6,9],[6,10,6,13],[7,17,9,17],[9,5,10,9],[7,13,10,13],[7,14,10,14],[7,15,10,15],[7,16,10,16]]}
[]
[]
[null,null,null,"          　　　　　　","令和",{"$f":"'６計画'!AT1-2018","v":2},"年",{"$f":"'６計画'!A7","v":6},"月分","　 教  員  特  殊  業  務  整  理  簿",null,null,null,null,null,null,null,"様式3"]
[]
[null,"氏　名",null,{"$f":"IF('6実績'!AE10=\"\",\"\",'6実績'!AE10)","v":0},null,"職員\n番号",{"$f":"IF('４(副顧問) (2)'!G5=\"\",\"\",'４(副顧問) (2)'!G5)","v":""},null,null,null,null,null,null,null,{"$f":"'４(副顧問) (2)'!$O$5:$R$5","v":"0学校"}]
[]
[null,"日","曜","要　件","区　分","業　　務　　内　　容",null,null,null,null,"従　事　時　間",null,null,null,"従事場所","所属長\n確認印","従事者印","備　　考"]
[null,{"$f":"'６'!B8:B11","v":""},{"$f":"IF(B8=\"\",\"\",TEXT(DATE(2018+$F$3,$H$3,B8),\"aaa\"))","v":""},"　　　","　　　",{"$f":"IF(IF(B8=\"\",\"\",VLOOKUP(B8,'6実績'!$A$16:$BK$46,63))=\"大会\",IF(B8=\"\",\"\",VLOOKUP(B8,'6実績'!$A$16:$AO$46,22,FALSE)),IF(B8=\"\",\"\",'6実績'!$AC$4)&IF(B8=\"\",\"\",VLOOKUP(B8,'6実績'!$A$16:$AO$46,22,FALSE)))","v":""},null,null,null,null,{"$f":"IF(IF(B8=\"\",\"\",VLOOKUP(B8,'6実績'!$A$16:$AO$46,5,FALSE))=0,IF(B8=\"\",\"\",VLOOKUP(B8,'6実績'!$A$16:$AO$46,12,FALSE)),IF(B8=\"\",\"\",VLOOKUP(B8,'6実績'!$A$16:$AO$46,5,FALSE)))","v":""},"～",{"$f":"IF(IF(B8=\"\",\"\",VLOOKUP(B8,'6実績'!$A$16:$AO$46,16,FALSE))=0,IF(B8=\"\",\"\",VLOOKUP(B8,'6実績'!$A$16:$AO$46,9,FALSE)),IF(B8=\"\",\"\",VLOOKUP(B8,'6実績'!$A$16:$AO$46,16,FALSE)))","v":""},{"$f":"IF(K8=\"\",\"\",M8-K8)","v":""},{"$f":"IF(B8=\"\",\"\",VLOOKUP(B8,'6実績'!$A$16:$AO$46,34,FALSE))","v":""}]
[]
[]
[null,null,null,null,null,null,null,null,null,null,null,null,null,null,null,null,null,"　　　"]
[null,{"$f":"'６'!B12:B15","v":""},{"$f":"IF(B12=\"\",\"\",TEXT(DATE(2018+$F$3,$H$3,B12),\"aaa\"))","v":""},"　　　","　　　",{"$f":"IF(IF(B12=\"\",\"\",VLOOKUP(B12,'6実績'!$A$16:$BK$46,63))=\"大会\",IF(B12=\"\",\"\",VLOOKUP(B12,'6実績'!$A$16:$AO$46,22,FALSE)),IF(B12=\"\",\"\",'6実績'!$AC$4)&IF(B12=\"\",\"\",VLOOKUP(B12,'6実績'!$A$16:$AO$46,22,FALSE)))","v":""},null,null,null,null,{"$f":"IF(IF(B12=\"\",\"\",VLOOKUP(B12,'6実績'!$A$16:$AO$46,5,FALSE))=0,IF(B12=\"\",\"\",VLOOKUP(B12,'6実績'!$A$16:$AO$46,12,FALSE)),IF(B12=\"\",\"\",VLOOKUP(B12,'6実績'!$A$16:$AO$46,5,FALSE)))","v":""},"～",{"$f":"IF(IF(B12=\"\",\"\",VLOOKUP(B12,'6実績'!$A$16:$AO$46,16,FALSE))=0,IF(B12=\"\",\"\",VLOOKUP(B12,'6実績'!$A$16:$AO$46,9,FALSE)),IF(B12=\"\",\"\",VLOOKUP(B12,'6実績'!$A$16:$AO$46,16,FALSE)))","v":""},{"$f":"IF(K12=\"\",\"\",M12-K12)","v":""},{"$f":"IF(B12=\"\",\"\",VLOOKUP(B12,'6実績'!$A$16:$AO$46,34,FALSE))","v":""}]
[]
[]
[null,null,null,null,null,null,null,null,null,null,null,null,null,null,null,null,null,"　　　"]
[null,{"$f":"'６'!B16:B19","v":""},{"$f":"IF(B16=\"\",\"\",TEXT(DATE(2018+$F$3,$H$3,B16),\"aaa\"))","v":""},"　　　","　　　",{"$f":"IF(IF(B16=\"\",\"\",VLOOKUP(B16,'6実績'!$A$16:$BK$46,63))=\"大会\",IF(B16=\"\",\"\",VLOOKUP(B16,'6実績'!$A$16:$AO$46,22,FALSE)),IF(B16=\"\",\"\",'6実績'!$AC$4)&IF(B16=\"\",\"\",VLOOKUP(B16,'6実績'!$A$16:$AO$46,22,FALSE)))","v":""},null,null,null,null,{"$f":"IF(IF(B16=\"\",\"\",VLOOKUP(B16,'6実績'!$A$16:$AO$46,5,FALSE))=0,IF(B16=\"\",\"\",VLOOKUP(B16,'6実績'!$A$16:$AO$46,12,FALSE)),IF(B16=\"\",\"\",VLOOKUP(B16,'6実績'!$A$16:$AO$46,5,FALSE)))","v":""},"～",{"$f":"IF(IF(B16=\"\",\"\",VLOOKUP(B16,'6実績'!$A$16:$AO$46,16,FALSE))=0,IF(B16=\"\",\"\",VLOOKUP(B16,'6実績'!$A$16:$AO$46,9,FALSE)),IF(B16=\"\",\"\",VLOOKUP(B16,'6実績'!$A$16:$AO$46,16,FALSE)))","v":""},{"$f":"IF(K16=\"\",\"\",M16-K16)","v":""},{"$f":"IF(B16=\"\",\"\",VLOOKUP(B16,'6実績'!$A$16:$AO$46,34,FALSE))","v":""}]
[]
[]
[null,null,null,null,null,null,null,null,null,null,null,null,null,null,null,null,null,"　　　"]
[null,{"$f":"'６'!B20:B23","v":""},{"$f":"IF(B20=\"\",\"\",TEXT(DATE(2018+$F$3,$H$3,B20),\"aaa\"))","v":""},"　　　","　　　",{"$f":"IF(IF(B20=\"\",\"\",VLOOKUP(B20,'6実績'!$A$16:$BK$46,63))=\"大会\",IF(B20=\"\",\"\",VLOOKUP(B20,'6実績'!$A$16:$AO$46,22,FALSE)),IF(B20=\"\",\"\",'6実績'!$AC$4)&IF(B20=\"\",\"\",VLOOKUP(B20,'6実績'!$A$16:$AO$46,22,FALSE)))","v":""},null,null,null,null,{"$f":"IF(IF(B20=\"\",\"\",VLOOKUP(B20,'6実績'!$A$16:$AO$46,5,FALSE))=0,IF(B20=\"\",\"\",VLOOKUP(B20,'6実績'!$A$16:$AO$46,12,FALSE)),IF(B20=\"\",\"\",VLOOKUP(B20,'6実績'!$A$16:$AO$46,5,FALSE)))","v":""},"～",{"$f":"IF(IF(B20=\"\",\"\",VLOOKUP(B20,'6実績'!$A$16:$AO$46,16,FALSE))=0,IF(B20=\"\",\"\",VLOOKUP(B20,'6実績'!$A$16:$AO$46,9,FALSE)),IF(B20=\"\",\"\",VLOOKUP(B20,'6実績'!$A$16:$AO$46,16,FALSE)))","v":""},{"$f":"IF(K20=\"\",\"\",M20-K20)","v":""},{"$f":"IF(B20=\"\",\"\",VLOOKUP(B20,'6実績'!$A$16:$AO$46,34,FALSE))","v":""}]
[]
[]
[null,null,null,null,null,null,null,null,null,null,null,null,null,null,null,null,null,"　　　"]
[null,{"$f":"'６'!B24:B27","v":""},{"$f":"IF(B24=\"\",\"\",TEXT(DATE(2018+$F$3,$H$3,B24),\"aaa\"))","v":""},"　　　","　　　",{"$f":"IF(IF(B24=\"\",\"\",VLOOKUP(B24,'6実績'!$A$16:$BK$46,63))=\"大会\",IF(B24=\"\",\"\",VLOOKUP(B24,'6実績'!$A$16:$AO$46,22,FALSE)),IF(B24=\"\",\"\",'6実績'!$AC$4)&IF(B24=\"\",\"\",VLOOKUP(B24,'6実績'!$A$16:$AO$46,22,FALSE)))","v":""},null,null,null,null,{"$f":"IF(IF(B24=\"\",\"\",VLOOKUP(B24,'6実績'!$A$16:$AO$46,5,FALSE))=0,IF(B24=\"\",\"\",VLOOKUP(B24,'6実績'!$A$16:$AO$46,12,FALSE)),IF(B24=\"\",\"\",VLOOKUP(B24,'6実績'!$A$16:$AO$46,5,FALSE)))","v":""},"～",{"$f":"IF(IF(B24=\"\",\"\",VLOOKUP(B24,'6実績'!$A$16:$AO$46,16,FALSE))=0,IF(B24=\"\",\"\",VLOOKUP(B24,'6実績'!$A$16:$AO$46,9,FALSE)),IF(B24=\"\",\"\",VLOOKUP(B24,'6実績'!$A$16:$AO$46,16,FALSE)))","v":""},{"$f":"IF(K24=\"\",\"\",M24-K24)","v":""},{"$f":"IF(B24=\"\",\"\",VLOOKUP(B24,'6実績'!$A$16:$AO$46,34,FALSE))","v":""}]
[]
[]
[null,null,null,null,null,null,null,null,null,null,null,null,null,null,null,null,null,"　　　"]
[null,{"$f":"'６'!B28:B31","v":""},{"$f":"IF(B28=\"\",\"\",TEXT(DATE(2018+$F$3,$H$3,B28),\"aaa\"))","v":""},"　　　","　　　",{"$f":"IF(IF(B28=\"\",\"\",VLOOKUP(B28,'6実績'!$A$16:$BK$46,63))=\"大会\",IF(B28=\"\",\"\",VLOOKUP(B28,'6実績'!$A$16:$AO$46,22,FALSE)),IF(B28=\"\",\"\",'6実績'!$AC$4)&IF(B28=\"\",\"\",VLOOKUP(B28,'6実績'!$A$16:$AO$46,22,FALSE)))","v":""},null,null,null,null,{"$f":"IF(IF(B28=\"\",\"\",VLOOKUP(B28,'6実績'!$A$16:$AO$46,5,FALSE))=0,IF(B28=\"\",\"\",VLOOKUP(B28,'6実績'!$A$16:$AO$46,12,FALSE)),IF(B28=\"\",\"\",VLOOKUP(B28,'6実績'!$A$16:$AO$46,5,FALSE)))","v":""},"～",{"$f":"IF(IF(B28=\"\",\"\",VLOOKUP(B28,'6実績'!$A$16:$AO$46,16,FALSE))=0,IF(B28=\"\",\"\",VLOOKUP(B28,'6実績'!$A$16:$AO$46,9,FALSE)),IF(B28=\"\",\"\",VLOOKUP(B28,'6実績'!$A$16:$AO$46,16,FALSE)))","v":""},{"$f":"IF(K28=\"\",\"\",M28-K28)","v":""},{"$f":"IF(B28=\"\",\"\",VLOOKUP(B28,'6実績'!$A$16:$AO$46,34,FALSE))","v":""}]
[]
[]
[null,null,null,null,null,null,null,null,null,null,null,null,null,null,null,null,null,"　　　"]
[null,{"$f":"'６'!B32:B35","v":""},{"$f":"IF(B32=\"\",\"\",TEXT(DATE(2018+$F$3,$H$3,B32),\"aaa\"))","v":""},"　　　","　　　",{"$f":"IF(IF(B32=\"\",\"\",VLOOKUP(B32,'6実績'!$A$16:$BK$46,63))=\"大会\",IF(B32=\"\",\"\",VLOOKUP(B32,'6実績'!$A$16:$AO$46,22,FALSE)),IF(B32=\"\",\"\",'6実績'!$AC$4)&IF(B32=\"\",\"\",VLOOKUP(B32,'6実績'!$A$16:$AO$46,22,FALSE)))","v":""},null,null,null,null,{"$f":"IF(IF(B32=\"\",\"\",VLOOKUP(B32,'6実績'!$A$16:$AO$46,5,FALSE))=0,IF(B32=\"\",\"\",VLOOKUP(B32,'6実績'!$A$16:$AO$46,12,FALSE)),IF(B32=\"\",\"\",VLOOKUP(B32,'6実績'!$A$16:$AO$46,5,FALSE)))","v":""},"～",{"$f":"IF(IF(B32=\"\",\"\",VLOOKUP(B32,'6実績'!$A$16:$AO$46,16,FALSE))=0,IF(B32=\"\",\"\",VLOOKUP(B32,'6実績'!$A$16:$AO$46,9,FALSE)),IF(B32=\"\",\"\",VLOOKUP(B32,'6実績'!$A$16:$AO$46,16,FALSE)))","v":""},{"$f":"IF(K32=\"\",\"\",M32-K32)","v":""},{"$f":"IF(B32=\"\",\"\",VLOOKUP(B32,'6実績'!$A$16:$AO$46,34,FALSE))","v":""}]
[]
[]
[null,null,null,null,null,null,null,null,null,null,null,null,null,null,null,null,null,"　　　"]
[null,{"$f":"'６'!B36:B39","v":""},{"$f":"IF(B36=\"\",\"\",TEXT(DATE(2018+$F$3,$H$3,B36),\"aaa\"))","v":""},"　　　","　　　",{"$f":"IF(IF(B36=\"\",\"\",VLOOKUP(B36,'6実績'!$A$16:$BK$46,63))=\"大会\",IF(B36=\"\",\"\",VLOOKUP(B36,'6実績'!$A$16:$AO$46,22,FALSE)),IF(B36=\"\",\"\",'6実績'!$AC$4)&IF(B36=\"\",\"\",VLOOKUP(B36,'6実績'!$A$16:$AO$46,22,FALSE)))","v":""},null,null,null,null,{"$f":"IF(IF(B36=\"\",\"\",VLOOKUP(B36,'6実績'!$A$16:$AO$46,5,FALSE))=0,IF(B36=\"\",\"\",VLOOKUP(B36,'6実績'!$A$16:$AO$46,12,FALSE)),IF(B36=\"\",\"\",VLOOKUP(B36,'6実績'!$A$16:$AO$46,5,FALSE)))","v":""},"～",{"$f":"IF(IF(B36=\"\",\"\",VLOOKUP(B36,'6実績'!$A$16:$AO$46,16,FALSE))=0,IF(B36=\"\",\"\",VLOOKUP(B36,'6実績'!$A$16:$AO$46,9,FALSE)),IF(B36=\"\",\"\",VLOOKUP(B36,'6実績'!$A$16:$AO$46,16,FALSE)))","v":""},{"$f":"IF(K36=\"\",\"\",M36-K36)","v":""},{"$f":"IF(B36=\"\",\"\",VLOOKUP(B36,'6実績'!$A$16:$AO$46,34,FALSE))","v":""}]
[]
[]
[null,null,null,null,null,null,null,null,null,null,null,null,null,null,null,null,null,"　　　"]
[null,{"$f":"'６'!B40:B43","v":""},{"$f":"IF(B40=\"\",\"\",TEXT(DATE(2018+$F$3,$H$3,B40),\"aaa\"))","v":""},"　　　","　　　",{"$f":"IF(IF(B40=\"\",\"\",VLOOKUP(B40,'6実績'!$A$16:$BK$46,63))=\"大会\",IF(B40=\"\",\"\",VLOOKUP(B40,'6実績'!$A$16:$AO$46,22,FALSE)),IF(B40=\"\",\"\",'6実績'!$AC$4)&IF(B40=\"\",\"\",VLOOKUP(B40,'6実績'!$A$16:$AO$46,22,FALSE)))","v":""},null,null,null,null,{"$f":"IF(IF(B40=\"\",\"\",VLOOKUP(B40,'6実績'!$A$16:$AO$46,5,FALSE))=0,IF(B40=\"\",\"\",VLOOKUP(B40,'6実績'!$A$16:$AO$46,12,FALSE)),IF(B40=\"\",\"\",VLOOKUP(B40,'6実績'!$A$16:$AO$46,5,FALSE)))","v":""},"～",{"$f":"IF(IF(B40=\"\",\"\",VLOOKUP(B40,'6実績'!$A$16:$AO$46,16,FALSE))=0,IF(B40=\"\",\"\",VLOOKUP(B40,'6実績'!$A$16:$AO$46,9,FALSE)),IF(B40=\"\",\"\",VLOOKUP(B40,'6実績'!$A$16:$AO$46,16,FALSE)))","v":""},{"$f":"IF(K40=\"\",\"\",M40-K40)","v":""},{"$f":"IF(B40=\"\",\"\",VLOOKUP(B40,'6実績'!$A$16:$AO$46,34,FALSE))","v":""}]
[]
[]
[null,null,null,null,null,null,null,null,null,null,null,null,null,null,null,null,null,"　　　"]
[]
[null,"　         　１　この整理簿は、教員特殊業務手当及び面接指導手当の支給対象となるものについて、当該手当の支給に必要な事の整理をするものであること。"]
[null,"　　         ２　記入にあたっては、次のように記入すること。"]
[null,"　　　         　「要件」欄：週休日等　　　半日振替日　　　　その他"]
[null,"　　　　         「区分」欄：非常災害　　救急業務　　補導業務　　修学旅行等　　対外運動等　　入学試験業務　　　部活動４　　　　部活動３　　　部活動２　　　面接指導　　　　　"]
[null,"　　　　　　　　　　         ※部活動４は4時間以上、部活動３は３時間以上４時間未満、部活動２は2時間以上３時間未満をいう。"]
[null,"　　　　         「業務内容」欄：職員が従事した業務について、その内容を簡潔に記入すること。"]
[null,"　　　         　「従事時間」欄：左欄に手当の支給対象となる業務の終始の時刻を、右欄には時間を記入すること。"]
[null,"　　　         　「備考」欄：この整理簿を補足する事項を記入すること。"]

{"sheet":"７(副顧問) (2)","index":53,"n_rows":52,"n_cols":18,"rows_kept":52,"cut":false,"hidden":false,"merged":[[39,17,41,17],[41,5,42,9],[43,1,43,3],[39,11,42,11],[39,12,42,12],[39,13,42,13],[39,14,42,14],[39,15,42,15],[39,16,42,16],[39,1,42,1],[39,2,42,2],[39,3,42,3],[39,4,42,4],[39,5,40,9],[39,10,42,10],[35,13,38,13],[35,14,38,14],[35,15,38,15],[35,16,38,16],[35,17,37,17],[37,5,38,9],[31,17,33,17],[33,5,34,9],[35,1,38,1],[35,2,38,2],[35,3,38,3],[35,4,38,4],[35,5,36,9],[35,10,38,10],[35,11,38,11],[35,12,38,12],[31,11,34,11],[31,12,34,12],[31,13,34,13],[31,14,34,14],[31,15,34,15],[31,16,34,16],[31,1,34,1],[31,2,34,2],[31,3,34,3],[31,4,34,4],[31,5,32,9],[31,10,34,10],[27,13,30,13],[27,14,30,14],[27,15,30,15],[27,16,30,16],[27,17,29,17],[29,5,30,9],[23,17,25,17],[25,5,26,9],[27,1,30,1],[27,2,30,2],[27,3,30,3],[27,4,30,4],[27,5,28,9],[27,10,30,10],[27,11,30,11],[27,12,30,12],[23,11,26,11],[23,12,26,12],[23,13,26,13],[23,14,26,14],[23,15,26,15],[23,16,26,16],[23,1,26,1],[23,2,26,2],[23,3,26,3],[23,4,26,4],[23,5,24,9],[23,10,26,10],[19,13,22,13],[19,14,22,14],[19,15,22,15],[19,16,22,16],[19,17,21,17],[21,5,22,9],[15,17,17,17],[17,5,18,9],[19,1,22,1],[19,2,22,2],[19,3,22,3],[19,4,22,4],[19,5,20,9],[19,10,22,10],[19,11,22,11],[19,12,22,12],[15,11,18,11],[15,12,18,12],[15,13,18,13],[15,14,18,14],[15,15,18,15],[15,16,18,16],[15,1,18,1],[15,2,18,2],[15,3,18,3],[15,4,18,4],[15,5,16,9],[15,10,18,10],[11,13,14,13],[11,14,14,14],[11,15,14,15],[11,16,14,16],[11,17,13,17],[13,5,14,9],[11,1,14,1],[11,2,14,2],[11,3,14,3],[11,4,14,4],[11,5,12,9],[11,10,14,10],[11,11,14,11],[11,12,14,12],[7,11,10,11],[7,12,10,12],[7,1,10,1],[7,2,10,2],[7,3,10,3],[7,4,10,4],[7,5,8,9],[7,10,10,10],[4,1,4,2],[4,3,4,4],[4,6,4,8],[4,9,4,10],[4,14,4,17],[6,5,6,9],[6,10,6,13],[7,17,9,17],[9,5,10,9],[7,13,10,13],[7,14,10,14],[7,15,10,15],[7,16,10,16]]}
[]
[]
[null,null,null,"          　　　　　　","令和",{"$f":"'7計画'!AS1-2018","v":2},"年",{"$f":"'7計画'!A7","v":7},"月分","　 教  員  特  殊  業  務  整  理  簿",null,null,null,null,null,null,null,"様式3"]
[]
[null,"氏　名",null,{"$f":"IF('7実績'!AE10=\"\",\"\",'7実績'!AE10)","v":0},null,"職員\n番号",{"$f":"IF('４(副顧問) (2)'!G5=\"\",\"\",'４(副顧問) (2)'!G5)","v":""},null,null,null,null,null,null,null,{"$f":"'４(副顧問) (2)'!$O$5:$R$5","v":"0学校"}]
[]
[null,"日","曜","要　件","区　分","業　　務　　内　　容",null,null,null,null,"従　事　時　間",null,null,null,"従事場所","所属長\n確認印","従事者印","備　　考"]
[null,{"$f":"'７'!B8:B11","v":""},{"$f":"IF(B8=\"\",\"\",TEXT(DATE(2018+$F$3,$H$3,B8),\"aaa\"))","v":""},"　　　","　　　",{"$f":"IF(IF(B8=\"\",\"\",VLOOKUP(B8,'7実績'!$A$16:$BK$46,63))=\"大会\",IF(B8=\"\",\"\",VLOOKUP(B8,'7実績'!$A$16:$AO$46,22,FALSE)),IF(B8=\"\",\"\",'7実績'!$AC$4)&IF(B8=\"\",\"\",VLOOKUP(B8,'7実績'!$A$16:$AO$46,22,FALSE)))","v":""},null,null,null,null,{"$f":"IF(IF(B8=\"\",\"\",VLOOKUP(B8,'7実績'!$A$16:$AO$46,5,FALSE))=0,IF(B8=\"\",\"\",VLOOKUP(B8,'7実績'!$A$16:$AO$46,12,FALSE)),IF(B8=\"\",\"\",VLOOKUP(B8,'7実績'!$A$16:$AO$46,5,FALSE)))","v":""},"～",{"$f":"IF(IF(B8=\"\",\"\",VLOOKUP(B8,'7実績'!$A$16:$AO$46,16,FALSE))=0,IF(B8=\"\",\"\",VLOOKUP(B8,'7実績'!$A$16:$AO$46,9,FALSE)),IF(B8=\"\",\"\",VLOOKUP(B8,'7実績'!$A$16:$AO$46,16,FALSE)))","v":""},{"$f":"IF(K8=\"\",\"\",M8-K8)","v":""},{"$f":"IF(B8=\"\",\"\",VLOOKUP(B8,'7実績'!$A$16:$AO$46,34,FALSE))","v":""}]
[]
[]
[null,null,null,null,null,null,null,null,null,null,null,null,null,null,null,null,null,"　　　"]
[null,{"$f":"'７'!B12:B15","v":""},{"$f":"IF(B12=\"\",\"\",TEXT(DATE(2018+$F$3,$H$3,B12),\"aaa\"))","v":""},"　　　","　　　",{"$f":"IF(IF(B12=\"\",\"\",VLOOKUP(B12,'7実績'!$A$16:$BK$46,63))=\"大会\",IF(B12=\"\",\"\",VLOOKUP(B12,'7実績'!$A$16:$AO$46,22,FALSE)),IF(B12=\"\",\"\",'7実績'!$AC$4)&IF(B12=\"\",\"\",VLOOKUP(B12,'7実績'!$A$16:$AO$46,22,FALSE)))","v":""},null,null,null,null,{"$f":"IF(IF(B12=\"\",\"\",VLOOKUP(B12,'7実績'!$A$16:$AO$46,5,FALSE))=0,IF(B12=\"\",\"\",VLOOKUP(B12,'7実績'!$A$16:$AO$46,12,FALSE)),IF(B12=\"\",\"\",VLOOKUP(B12,'7実績'!$A$16:$AO$46,5,FALSE)))","v":""},"～",{"$f":"IF(IF(B12=\"\",\"\",VLOOKUP(B12,'7実績'!$A$16:$AO$46,16,FALSE))=0,IF(B12=\"\",\"\",VLOOKUP(B12,'7実績'!$A$16:$AO$46,9,FALSE)),IF(B12=\"\",\"\",VLOOKUP(B12,'7実績'!$A$16:$AO$46,16,FALSE)))","v":""},{"$f":"IF(K12=\"\",\"\",M12-K12)","v":""},{"$f":"IF(B12=\"\",\"\",VLOOKUP(B12,'7実績'!$A$16:$AO$46,34,FALSE))","v":""}]
[]
[]
[null,null,null,null,null,null,null,null,null,null,null,null,null,null,null,null,null,"　　　"]
[null,{"$f":"'７'!B16:B19","v":""},{"$f":"IF(B16=\"\",\"\",TEXT(DATE(2018+$F$3,$H$3,B16),\"aaa\"))","v":""},null,"　　　",{"$f":"IF(IF(B16=\"\",\"\",VLOOKUP(B16,'7実績'!$A$16:$BK$46,63))=\"大会\",IF(B16=\"\",\"\",VLOOKUP(B16,'7実績'!$A$16:$AO$46,22,FALSE)),IF(B16=\"\",\"\",'7実績'!$AC$4)&IF(B16=\"\",\"\",VLOOKUP(B16,'7実績'!$A$16:$AO$46,22,FALSE)))","v":""},null,null,null,null,{"$f":"IF(IF(B16=\"\",\"\",VLOOKUP(B16,'7実績'!$A$16:$AO$46,5,FALSE))=0,IF(B16=\"\",\"\",VLOOKUP(B16,'7実績'!$A$16:$AO$46,12,FALSE)),IF(B16=\"\",\"\",VLOOKUP(B16,'7実績'!$A$16:$AO$46,5,FALSE)))","v":""},"～",{"$f":"IF(IF(B16=\"\",\"\",VLOOKUP(B16,'7実績'!$A$16:$AO$46,16,FALSE))=0,IF(B16=\"\",\"\",VLOOKUP(B16,'7実績'!$A$16:$AO$46,9,FALSE)),IF(B16=\"\",\"\",VLOOKUP(B16,'7実績'!$A$16:$AO$46,16,FALSE)))","v":""},{"$f":"IF(K16=\"\",\"\",M16-K16)","v":""},{"$f":"IF(B16=\"\",\"\",VLOOKUP(B16,'7実績'!$A$16:$AO$46,34,FALSE))","v":""}]
[]
[]
[null,null,null,null,null,null,null,null,null,null,null,null,null,null,null,null,null,"　　　"]
[null,{"$f":"'７'!B20:B23","v":""},{"$f":"IF(B20=\"\",\"\",TEXT(DATE(2018+$F$3,$H$3,B20),\"aaa\"))","v":""},"　　　","　　　",{"$f":"IF(IF(B20=\"\",\"\",VLOOKUP(B20,'7実績'!$A$16:$BK$46,63))=\"大会\",IF(B20=\"\",\"\",VLOOKUP(B20,'7実績'!$A$16:$AO$46,22,FALSE)),IF(B20=\"\",\"\",'7実績'!$AC$4)&IF(B20=\"\",\"\",VLOOKUP(B20,'7実績'!$A$16:$AO$46,22,FALSE)))","v":""},null,null,null,null,{"$f":"IF(IF(B20=\"\",\"\",VLOOKUP(B20,'7実績'!$A$16:$AO$46,5,FALSE))=0,IF(B20=\"\",\"\",VLOOKUP(B20,'7実績'!$A$16:$AO$46,12,FALSE)),IF(B20=\"\",\"\",VLOOKUP(B20,'7実績'!$A$16:$AO$46,5,FALSE)))","v":""},"～",{"$f":"IF(IF(B20=\"\",\"\",VLOOKUP(B20,'7実績'!$A$16:$AO$46,16,FALSE))=0,IF(B20=\"\",\"\",VLOOKUP(B20,'7実績'!$A$16:$AO$46,9,FALSE)),IF(B20=\"\",\"\",VLOOKUP(B20,'7実績'!$A$16:$AO$46,16,FALSE)))","v":""},{"$f":"IF(K20=\"\",\"\",M20-K20)","v":""},{"$f":"IF(B20=\"\",\"\",VLOOKUP(B20,'7実績'!$A$16:$AO$46,34,FALSE))","v":""}]
[]
[]
[null,null,null,null,null,null,null,null,null,null,null,null,null,null,null,null,null,"　　　"]
[null,{"$f":"'７'!B24:B27","v":""},{"$f":"IF(B24=\"\",\"\",TEXT(DATE(2018+$F$3,$H$3,B24),\"aaa\"))","v":""},"　　　","　　　",{"$f":"IF(IF(B24=\"\",\"\",VLOOKUP(B24,'7実績'!$A$16:$BK$46,63))=\"大会\",IF(B24=\"\",\"\",VLOOKUP(B24,'7実績'!$A$16:$AO$46,22,FALSE)),IF(B24=\"\",\"\",'7実績'!$AC$4)&IF(B24=\"\",\"\",VLOOKUP(B24,'7実績'!$A$16:$AO$46,22,FALSE)))","v":""},null,null,null,null,{"$f":"IF(IF(B24=\"\",\"\",VLOOKUP(B24,'7実績'!$A$16:$AO$46,5,FALSE))=0,IF(B24=\"\",\"\",VLOOKUP(B24,'7実績'!$A$16:$AO$46,12,FALSE)),IF(B24=\"\",\"\",VLOOKUP(B24,'7実績'!$A$16:$AO$46,5,FALSE)))","v":""},"～",{"$f":"IF(IF(B24=\"\",\"\",VLOOKUP(B24,'7実績'!$A$16:$AO$46,16,FALSE))=0,IF(B24=\"\",\"\",VLOOKUP(B24,'7実績'!$A$16:$AO$46,9,FALSE)),IF(B24=\"\",\"\",VLOOKUP(B24,'7実績'!$A$16:$AO$46,16,FALSE)))","v":""},{"$f":"IF(K24=\"\",\"\",M24-K24)","v":""},{"$f":"IF(B24=\"\",\"\",VLOOKUP(B24,'7実績'!$A$16:$AO$46,34,FALSE))","v":""}]
[]
[]
[null,null,null,null,null,null,null,null,null,null,null,null,null,null,null,null,null,"　　　"]
[null,{"$f":"'７'!B28:B31","v":""},{"$f":"IF(B28=\"\",\"\",TEXT(DATE(2018+$F$3,$H$3,B28),\"aaa\"))","v":""},"　　　","　　　",{"$f":"IF(IF(B28=\"\",\"\",VLOOKUP(B28,'7実績'!$A$16:$BK$46,63))=\"大会\",IF(B28=\"\",\"\",VLOOKUP(B28,'7実績'!$A$16:$AO$46,22,FALSE)),IF(B28=\"\",\"\",'7実績'!$AC$4)&IF(B28=\"\",\"\",VLOOKUP(B28,'7実績'!$A$16:$AO$46,22,FALSE)))","v":""},null,null,null,null,{"$f":"IF(IF(B28=\"\",\"\",VLOOKUP(B28,'7実績'!$A$16:$AO$46,5,FALSE))=0,IF(B28=\"\",\"\",VLOOKUP(B28,'7実績'!$A$16:$AO$46,12,FALSE)),IF(B28=\"\",\"\",VLOOKUP(B28,'7実績'!$A$16:$AO$46,5,FALSE)))","v":""},"～",{"$f":"IF(IF(B28=\"\",\"\",VLOOKUP(B28,'7実績'!$A$16:$AO$46,16,FALSE))=0,IF(B28=\"\",\"\",VLOOKUP(B28,'7実績'!$A$16:$AO$46,9,FALSE)),IF(B28=\"\",\"\",VLOOKUP(B28,'7実績'!$A$16:$AO$46,16,FALSE)))","v":""},{"$f":"IF(K28=\"\",\"\",M28-K28)","v":""},{"$f":"IF(B28=\"\",\"\",VLOOKUP(B28,'7実績'!$A$16:$AO$46,34,FALSE))","v":""}]
[]
[]
[null,null,null,null,null,null,null,null,null,null,null,null,null,null,null,null,null,"　　　"]
[null,{"$f":"'７'!B32:B35","v":""},{"$f":"IF(B32=\"\",\"\",TEXT(DATE(2018+$F$3,$H$3,B32),\"aaa\"))","v":""},"　　　","　　　",{"$f":"IF(IF(B32=\"\",\"\",VLOOKUP(B32,'7実績'!$A$16:$BK$46,63))=\"大会\",IF(B32=\"\",\"\",VLOOKUP(B32,'7実績'!$A$16:$AO$46,22,FALSE)),IF(B32=\"\",\"\",'7実績'!$AC$4)&IF(B32=\"\",\"\",VLOOKUP(B32,'7実績'!$A$16:$AO$46,22,FALSE)))","v":""},null,null,null,null,{"$f":"IF(IF(B32=\"\",\"\",VLOOKUP(B32,'7実績'!$A$16:$AO$46,5,FALSE))=0,IF(B32=\"\",\"\",VLOOKUP(B32,'7実績'!$A$16:$AO$46,12,FALSE)),IF(B32=\"\",\"\",VLOOKUP(B32,'7実績'!$A$16:$AO$46,5,FALSE)))","v":""},"～",{"$f":"IF(IF(B32=\"\",\"\",VLOOKUP(B32,'7実績'!$A$16:$AO$46,16,FALSE))=0,IF(B32=\"\",\"\",VLOOKUP(B32,'7実績'!$A$16:$AO$46,9,FALSE)),IF(B32=\"\",\"\",VLOOKUP(B32,'7実績'!$A$16:$AO$46,16,FALSE)))","v":""},{"$f":"IF(K32=\"\",\"\",M32-K32)","v":""},{"$f":"IF(B32=\"\",\"\",VLOOKUP(B32,'7実績'!$A$16:$AO$46,34,FALSE))","v":""}]
[]
[]
[null,null,null,null,null,null,null,null,null,null,null,null,null,null,null,null,null,"　　　"]
[null,{"$f":"'７'!B36:B39","v":""},{"$f":"IF(B36=\"\",\"\",TEXT(DATE(2018+$F$3,$H$3,B36),\"aaa\"))","v":""},"　　　","　　　",{"$f":"IF(IF(B36=\"\",\"\",VLOOKUP(B36,'7実績'!$A$16:$BK$46,63))=\"大会\",IF(B36=\"\",\"\",VLOOKUP(B36,'7実績'!$A$16:$AO$46,22,FALSE)),IF(B36=\"\",\"\",'7実績'!$AC$4)&IF(B36=\"\",\"\",VLOOKUP(B36,'7実績'!$A$16:$AO$46,22,FALSE)))","v":""},null,null,null,null,{"$f":"IF(IF(B36=\"\",\"\",VLOOKUP(B36,'7実績'!$A$16:$AO$46,5,FALSE))=0,IF(B36=\"\",\"\",VLOOKUP(B36,'7実績'!$A$16:$AO$46,12,FALSE)),IF(B36=\"\",\"\",VLOOKUP(B36,'7実績'!$A$16:$AO$46,5,FALSE)))","v":""},"～",{"$f":"IF(IF(B36=\"\",\"\",VLOOKUP(B36,'7実績'!$A$16:$AO$46,16,FALSE))=0,IF(B36=\"\",\"\",VLOOKUP(B36,'7実績'!$A$16:$AO$46,9,FALSE)),IF(B36=\"\",\"\",VLOOKUP(B36,'7実績'!$A$16:$AO$46,16,FALSE)))","v":""},{"$f":"IF(K36=\"\",\"\",M36-K36)","v":""},{"$f":"IF(B36=\"\",\"\",VLOOKUP(B36,'7実績'!$A$16:$AO$46,34,FALSE))","v":""}]
[]
[]
[null,null,null,null,null,null,null,null,null,null,null,null,null,null,null,null,null,"　　　"]
[null,{"$f":"'７'!B40:B43","v":""},{"$f":"IF(B40=\"\",\"\",TEXT(DATE(2018+$F$3,$H$3,B40),\"aaa\"))","v":""},"　　　","　　　",{"$f":"IF(IF(B40=\"\",\"\",VLOOKUP(B40,'7実績'!$A$16:$BK$46,63))=\"大会\",IF(B40=\"\",\"\",VLOOKUP(B40,'7実績'!$A$16:$AO$46,22,FALSE)),IF(B40=\"\",\"\",'7実績'!$AC$4)&IF(B40=\"\",\"\",VLOOKUP(B40,'7実績'!$A$16:$AO$46,22,FALSE)))","v":""},null,null,null,null,{"$f":"IF(IF(B40=\"\",\"\",VLOOKUP(B40,'7実績'!$A$16:$AO$46,5,FALSE))=0,IF(B40=\"\",\"\",VLOOKUP(B40,'7実績'!$A$16:$AO$46,12,FALSE)),IF(B40=\"\",\"\",VLOOKUP(B40,'7実績'!$A$16:$AO$46,5,FALSE)))","v":""},"～",{"$f":"IF(IF(B40=\"\",\"\",VLOOKUP(B40,'7実績'!$A$16:$AO$46,16,FALSE))=0,IF(B40=\"\",\"\",VLOOKUP(B40,'7実績'!$A$16:$AO$46,9,FALSE)),IF(B40=\"\",\"\",VLOOKUP(B40,'7実績'!$A$16:$AO$46,16,FALSE)))","v":""},{"$f":"IF(K40=\"\",\"\",M40-K40)","v":""},{"$f":"IF(B40=\"\",\"\",VLOOKUP(B40,'7実績'!$A$16:$AO$46,34,FALSE))","v":""}]
[]
[]
[null,null,null,null,null,null,null,null,null,null,null,null,null,null,null,null,null,"　　　"]
[null,"( 記入要領等 )"]
[null,"　         　１　この整理簿は、教員特殊業務手当及び面接指導手当の支給対象となるものについて、当該手当の支給に必要な事の整理をするものであること。"]
[null,"　　         ２　記入にあたっては、次のように記入すること。"]
[null,"　　　         　「要件」欄：週休日等　　　半日振替日　　　　その他"]
[null,"　　　　         「区分」欄：非常災害　　救急業務　　補導業務　　修学旅行等　　対外運動等　　入学試験業務　　　部活動４　　　　部活動３　　　部活動２　　　面接指導　　　　　"]
[null,"　　　　　　　　　　         ※部活動４は4時間以上、部活動３は３時間以上４時間未満、部活動２は2時間以上３時間未満をいう。"]
[null,"　　　　         「業務内容」欄：職員が従事した業務について、その内容を簡潔に記入すること。"]
[null,"　　　         　「従事時間」欄：左欄に手当の支給対象となる業務の終始の時刻を、右欄には時間を記入すること。"]
[null,"　　　         　「備考」欄：この整理簿を補足する事項を記入すること。"]

{"sheet":"８(副顧問) (2)","index":54,"n_rows":52,"n_cols":18,"rows_kept":52,"cut":false,"hidden":false,"merged":[[39,17,41,17],[41,5,42,9],[43,1,43,3],[39,11,42,11],[39,12,42,12],[39,13,42,13],[39,14,42,14],[39,15,42,15],[39,16,42,16],[39,1,42,1],[39,2,42,2],[39,3,42,3],[39,4,42,4],[39,5,40,9],[39,10,42,10],[35,13,38,13],[35,14,38,14],[35,15,38,15],[35,16,38,16],[35,17,37,17],[37,5,38,9],[31,17,33,17],[33,5,34,9],[35,1,38,1],[35,2,38,2],[35,3,38,3],[35,4,38,4],[35,5,36,9],[35,10,38,10],[35,11,38,11],[35,12,38,12],[31,11,34,11],[31,12,34,12],[31,13,34,13],[31,14,34,14],[31,15,34,15],[31,16,34,16],[31,1,34,1],[31,2,34,2],[31,3,34,3],[31,4,34,4],[31,5,32,9],[31,10,34,10],[27,13,30,13],[27,14,30,14],[27,15,30,15],[27,16,30,16],[27,17,29,17],[29,5,30,9],[23,17,25,17],[25,5,26,9],[27,1,30,1],[27,2,30,2],[27,3,30,3],[27,4,30,4],[27,5,28,9],[27,10,30,10],[27,11,30,11],[27,12,30,12],[23,11,26,11],[23,12,26,12],[23,13,26,13],[23,14,26,14],[23,15,26,15],[23,16,26,16],[23,1,26,1],[23,2,26,2],[23,3,26,3],[23,4,26,4],[23,5,24,9],[23,10,26,10],[19,13,22,13],[19,14,22,14],[19,15,22,15],[19,16,22,16],[19,17,21,17],[21,5,22,9],[15,17,17,17],[17,5,18,9],[19,1,22,1],[19,2,22,2],[19,3,22,3],[19,4,22,4],[19,5,20,9],[19,10,22,10],[19,11,22,11],[19,12,22,12],[15,11,18,11],[15,12,18,12],[15,13,18,13],[15,14,18,14],[15,15,18,15],[15,16,18,16],[15,1,18,1],[15,2,18,2],[15,3,18,3],[15,4,18,4],[15,5,16,9],[15,10,18,10],[11,13,14,13],[11,14,14,14],[11,15,14,15],[11,16,14,16],[11,17,13,17],[13,5,14,9],[11,1,14,1],[11,2,14,2],[11,3,14,3],[11,4,14,4],[11,5,12,9],[11,10,14,10],[11,11,14,11],[11,12,14,12],[7,11,10,11],[7,12,10,12],[7,1,10,1],[7,2,10,2],[7,3,10,3],[7,4,10,4],[7,5,8,9],[7,10,10,10],[4,1,4,2],[4,3,4,4],[4,6,4,8],[4,9,4,10],[4,14,4,17],[6,5,6,9],[6,10,6,13],[7,17,9,17],[9,5,10,9],[7,13,10,13],[7,14,10,14],[7,15,10,15],[7,16,10,16]]}
[]
[]
[null,null,null,"          　　　　　　","令和",{"$f":"'8計画'!AS1-2018","v":2},"年",{"$f":"'8計画'!A7","v":8},"月分","　 教  員  特  殊  業  務  整  理  簿",null,null,null,null,null,null,null,"様式3"]
[]
[null,"氏　名",null,{"$f":"IF('8実績'!AE10=\"\",\"\",'8実績'!AE10)","v":0},null,"職員\n番号",{"$f":"IF('４(副顧問) (2)'!G5=\"\",\"\",'４(副顧問) (2)'!G5)","v":""},null,null,null,null,null,null,null,{"$f":"'４(副顧問) (2)'!$O$5:$R$5","v":"0学校"}]
[]
[null,"日","曜","要　件","区　分","業　　務　　内　　容",null,null,null,null,"従　事　時　間",null,null,null,"従事場所","所属長\n確認印","従事者印","備　　考"]
[null,{"$f":"'８'!B8:B11","v":""},{"$f":"IF(B8=\"\",\"\",TEXT(DATE(2018+$F$3,$H$3,B8),\"aaa\"))","v":""},"　　　","　　　",{"$f":"IF(IF(B8=\"\",\"\",VLOOKUP(B8,'8実績'!$A$16:$BK$46,63))=\"大会\",IF(B8=\"\",\"\",VLOOKUP(B8,'8実績'!$A$16:$AO$46,22,FALSE)),IF(B8=\"\",\"\",'8実績'!$AC$4)&IF(B8=\"\",\"\",VLOOKUP(B8,'8実績'!$A$16:$AO$46,22,FALSE)))","v":""},null,null,null,null,{"$f":"IF(IF(B8=\"\",\"\",VLOOKUP(B8,'8実績'!$A$16:$AO$46,5,FALSE))=0,IF(B8=\"\",\"\",VLOOKUP(B8,'8実績'!$A$16:$AO$46,12,FALSE)),IF(B8=\"\",\"\",VLOOKUP(B8,'8実績'!$A$16:$AO$46,5,FALSE)))","v":""},"～",{"$f":"IF(IF(B8=\"\",\"\",VLOOKUP(B8,'8実績'!$A$16:$AO$46,16,FALSE))=0,IF(B8=\"\",\"\",VLOOKUP(B8,'8実績'!$A$16:$AO$46,9,FALSE)),IF(B8=\"\",\"\",VLOOKUP(B8,'8実績'!$A$16:$AO$46,16,FALSE)))","v":""},{"$f":"IF(K8=\"\",\"\",M8-K8)","v":""},{"$f":"IF(B8=\"\",\"\",VLOOKUP(B8,'8実績'!$A$16:$AO$46,34,FALSE))","v":""}]
[]
[]
[null,null,null,null,null,null,null,null,null,null,null,null,null,null,null,null,null,"　　　"]
[null,{"$f":"'８'!B12:B15","v":""},{"$f":"IF(B12=\"\",\"\",TEXT(DATE(2018+$F$3,$H$3,B12),\"aaa\"))","v":""},"　　　","　　　",{"$f":"IF(IF(B12=\"\",\"\",VLOOKUP(B12,'8実績'!$A$16:$BK$46,63))=\"大会\",IF(B12=\"\",\"\",VLOOKUP(B12,'8実績'!$A$16:$AO$46,22,FALSE)),IF(B12=\"\",\"\",'8実績'!$AC$4)&IF(B12=\"\",\"\",VLOOKUP(B12,'8実績'!$A$16:$AO$46,22,FALSE)))","v":""},null,null,null,null,{"$f":"IF(IF(B12=\"\",\"\",VLOOKUP(B12,'8実績'!$A$16:$AO$46,5,FALSE))=0,IF(B12=\"\",\"\",VLOOKUP(B12,'8実績'!$A$16:$AO$46,12,FALSE)),IF(B12=\"\",\"\",VLOOKUP(B12,'8実績'!$A$16:$AO$46,5,FALSE)))","v":""},"～",{"$f":"IF(IF(B12=\"\",\"\",VLOOKUP(B12,'8実績'!$A$16:$AO$46,16,FALSE))=0,IF(B12=\"\",\"\",VLOOKUP(B12,'8実績'!$A$16:$AO$46,9,FALSE)),IF(B12=\"\",\"\",VLOOKUP(B12,'8実績'!$A$16:$AO$46,16,FALSE)))","v":""},{"$f":"IF(K12=\"\",\"\",M12-K12)","v":""},{"$f":"IF(B12=\"\",\"\",VLOOKUP(B12,'8実績'!$A$16:$AO$46,34,FALSE))","v":""}]
[]
[]
[null,null,null,null,null,null,null,null,null,null,null,null,null,null,null,null,null,"　　　"]
[null,{"$f":"'８'!B16:B19","v":""},{"$f":"IF(B16=\"\",\"\",TEXT(DATE(2018+$F$3,$H$3,B16),\"aaa\"))","v":""},"　　　","　　　",{"$f":"IF(IF(B16=\"\",\"\",VLOOKUP(B16,'8実績'!$A$16:$BK$46,63))=\"大会\",IF(B16=\"\",\"\",VLOOKUP(B16,'8実績'!$A$16:$AO$46,22,FALSE)),IF(B16=\"\",\"\",'8実績'!$AC$4)&IF(B16=\"\",\"\",VLOOKUP(B16,'8実績'!$A$16:$AO$46,22,FALSE)))","v":""},null,null,null,null,{"$f":"IF(IF(B16=\"\",\"\",VLOOKUP(B16,'8実績'!$A$16:$AO$46,5,FALSE))=0,IF(B16=\"\",\"\",VLOOKUP(B16,'8実績'!$A$16:$AO$46,12,FALSE)),IF(B16=\"\",\"\",VLOOKUP(B16,'8実績'!$A$16:$AO$46,5,FALSE)))","v":""},"～",{"$f":"IF(IF(B16=\"\",\"\",VLOOKUP(B16,'8実績'!$A$16:$AO$46,16,FALSE))=0,IF(B16=\"\",\"\",VLOOKUP(B16,'8実績'!$A$16:$AO$46,9,FALSE)),IF(B16=\"\",\"\",VLOOKUP(B16,'8実績'!$A$16:$AO$46,16,FALSE)))","v":""},{"$f":"IF(K16=\"\",\"\",M16-K16)","v":""},{"$f":"IF(B16=\"\",\"\",VLOOKUP(B16,'8実績'!$A$16:$AO$46,34,FALSE))","v":""}]
[]
[]
[null,null,null,null,null,null,null,null,null,null,null,null,null,null,null,null,null,"　　　"]
[null,{"$f":"'８'!B20:B23","v":""},{"$f":"IF(B20=\"\",\"\",TEXT(DATE(2018+$F$3,$H$3,B20),\"aaa\"))","v":""},"　　　","　　　",{"$f":"IF(IF(B20=\"\",\"\",VLOOKUP(B20,'8実績'!$A$16:$BK$46,63))=\"大会\",IF(B20=\"\",\"\",VLOOKUP(B20,'8実績'!$A$16:$AO$46,22,FALSE)),IF(B20=\"\",\"\",'8実績'!$AC$4)&IF(B20=\"\",\"\",VLOOKUP(B20,'8実績'!$A$16:$AO$46,22,FALSE)))","v":""},null,null,null,null,{"$f":"IF(IF(B20=\"\",\"\",VLOOKUP(B20,'8実績'!$A$16:$AO$46,5,FALSE))=0,IF(B20=\"\",\"\",VLOOKUP(B20,'8実績'!$A$16:$AO$46,12,FALSE)),IF(B20=\"\",\"\",VLOOKUP(B20,'8実績'!$A$16:$AO$46,5,FALSE)))","v":""},"～",{"$f":"IF(IF(B20=\"\",\"\",VLOOKUP(B20,'8実績'!$A$16:$AO$46,16,FALSE))=0,IF(B20=\"\",\"\",VLOOKUP(B20,'8実績'!$A$16:$AO$46,9,FALSE)),IF(B20=\"\",\"\",VLOOKUP(B20,'8実績'!$A$16:$AO$46,16,FALSE)))","v":""},{"$f":"IF(K20=\"\",\"\",M20-K20)","v":""},{"$f":"IF(B20=\"\",\"\",VLOOKUP(B20,'8実績'!$A$16:$AO$46,34,FALSE))","v":""}]
[]
[]
[null,null,null,null,null,null,null,null,null,null,null,null,null,null,null,null,null,"　　　"]
[null,{"$f":"'８'!B24:B27","v":""},{"$f":"IF(B24=\"\",\"\",TEXT(DATE(2018+$F$3,$H$3,B24),\"aaa\"))","v":""},"　　　","　　　",{"$f":"IF(IF(B24=\"\",\"\",VLOOKUP(B24,'8実績'!$A$16:$BK$46,63))=\"大会\",IF(B24=\"\",\"\",VLOOKUP(B24,'8実績'!$A$16:$AO$46,22,FALSE)),IF(B24=\"\",\"\",'8実績'!$AC$4)&IF(B24=\"\",\"\",VLOOKUP(B24,'8実績'!$A$16:$AO$46,22,FALSE)))","v":""},null,null,null,null,{"$f":"IF(IF(B24=\"\",\"\",VLOOKUP(B24,'8実績'!$A$16:$AO$46,5,FALSE))=0,IF(B24=\"\",\"\",VLOOKUP(B24,'8実績'!$A$16:$AO$46,12,FALSE)),IF(B24=\"\",\"\",VLOOKUP(B24,'8実績'!$A$16:$AO$46,5,FALSE)))","v":""},"～",{"$f":"IF(IF(B24=\"\",\"\",VLOOKUP(B24,'8実績'!$A$16:$AO$46,16,FALSE))=0,IF(B24=\"\",\"\",VLOOKUP(B24,'8実績'!$A$16:$AO$46,9,FALSE)),IF(B24=\"\",\"\",VLOOKUP(B24,'8実績'!$A$16:$AO$46,16,FALSE)))","v":""},{"$f":"IF(K24=\"\",\"\",M24-K24)","v":""},{"$f":"IF(B24=\"\",\"\",VLOOKUP(B24,'8実績'!$A$16:$AO$46,34,FALSE))","v":""}]
[]
[]
[null,null,null,null,null,null,null,null,null,null,null,null,null,null,null,null,null,"　　　"]
[null,{"$f":"'８'!B28:B31","v":""},{"$f":"IF(B28=\"\",\"\",TEXT(DATE(2018+$F$3,$H$3,B28),\"aaa\"))","v":""},"　　　","　　　",{"$f":"IF(IF(B28=\"\",\"\",VLOOKUP(B28,'8実績'!$A$16:$BK$46,63))=\"大会\",IF(B28=\"\",\"\",VLOOKUP(B28,'8実績'!$A$16:$AO$46,22,FALSE)),IF(B28=\"\",\"\",'8実績'!$AC$4)&IF(B28=\"\",\"\",VLOOKUP(B28,'8実績'!$A$16:$AO$46,22,FALSE)))","v":""},null,null,null,null,{"$f":"IF(IF(B28=\"\",\"\",VLOOKUP(B28,'8実績'!$A$16:$AO$46,5,FALSE))=0,IF(B28=\"\",\"\",VLOOKUP(B28,'8実績'!$A$16:$AO$46,12,FALSE)),IF(B28=\"\",\"\",VLOOKUP(B28,'8実績'!$A$16:$AO$46,5,FALSE)))","v":""},"～",{"$f":"IF(IF(B28=\"\",\"\",VLOOKUP(B28,'8実績'!$A$16:$AO$46,16,FALSE))=0,IF(B28=\"\",\"\",VLOOKUP(B28,'8実績'!$A$16:$AO$46,9,FALSE)),IF(B28=\"\",\"\",VLOOKUP(B28,'8実績'!$A$16:$AO$46,16,FALSE)))","v":""},{"$f":"IF(K28=\"\",\"\",M28-K28)","v":""},{"$f":"IF(B28=\"\",\"\",VLOOKUP(B28,'8実績'!$A$16:$AO$46,34,FALSE))","v":""}]
[]
[]
[null,null,null,null,null,null,null,null,null,null,null,null,null,null,null,null,null,"　　　"]
[null,{"$f":"'８'!B32:B35","v":""},{"$f":"IF(B32=\"\",\"\",TEXT(DATE(2018+$F$3,$H$3,B32),\"aaa\"))","v":""},"　　　","　　　",{"$f":"IF(IF(B32=\"\",\"\",VLOOKUP(B32,'8実績'!$A$16:$BK$46,63))=\"大会\",IF(B32=\"\",\"\",VLOOKUP(B32,'8実績'!$A$16:$AO$46,22,FALSE)),IF(B32=\"\",\"\",'8実績'!$AC$4)&IF(B32=\"\",\"\",VLOOKUP(B32,'8実績'!$A$16:$AO$46,22,FALSE)))","v":""},null,null,null,null,{"$f":"IF(IF(B32=\"\",\"\",VLOOKUP(B32,'8実績'!$A$16:$AO$46,5,FALSE))=0,IF(B32=\"\",\"\",VLOOKUP(B32,'8実績'!$A$16:$AO$46,12,FALSE)),IF(B32=\"\",\"\",VLOOKUP(B32,'8実績'!$A$16:$AO$46,5,FALSE)))","v":""},"～",{"$f":"IF(IF(B32=\"\",\"\",VLOOKUP(B32,'8実績'!$A$16:$AO$46,16,FALSE))=0,IF(B32=\"\",\"\",VLOOKUP(B32,'8実績'!$A$16:$AO$46,9,FALSE)),IF(B32=\"\",\"\",VLOOKUP(B32,'8実績'!$A$16:$AO$46,16,FALSE)))","v":""},{"$f":"IF(K32=\"\",\"\",M32-K32)","v":""},{"$f":"IF(B32=\"\",\"\",VLOOKUP(B32,'8実績'!$A$16:$AO$46,34,FALSE))","v":""}]
[]
[]
[null,null,null,null,null,null,null,null,null,null,null,null,null,null,null,null,null,"　　　"]
[null,{"$f":"'８'!B36:B39","v":""},{"$f":"IF(B36=\"\",\"\",TEXT(DATE(2018+$F$3,$H$3,B36),\"aaa\"))","v":""},"　　　","　　　",{"$f":"IF(IF(B36=\"\",\"\",VLOOKUP(B36,'8実績'!$A$16:$BK$46,63))=\"大会\",IF(B36=\"\",\"\",VLOOKUP(B36,'8実績'!$A$16:$AO$46,22,FALSE)),IF(B36=\"\",\"\",'8実績'!$AC$4)&IF(B36=\"\",\"\",VLOOKUP(B36,'8実績'!$A$16:$AO$46,22,FALSE)))","v":""},null,null,null,null,{"$f":"IF(IF(B36=\"\",\"\",VLOOKUP(B36,'8実績'!$A$16:$AO$46,5,FALSE))=0,IF(B36=\"\",\"\",VLOOKUP(B36,'8実績'!$A$16:$AO$46,12,FALSE)),IF(B36=\"\",\"\",VLOOKUP(B36,'8実績'!$A$16:$AO$46,5,FALSE)))","v":""},"～",{"$f":"IF(IF(B36=\"\",\"\",VLOOKUP(B36,'8実績'!$A$16:$AO$46,16,FALSE))=0,IF(B36=\"\",\"\",VLOOKUP(B36,'8実績'!$A$16:$AO$46,9,FALSE)),IF(B36=\"\",\"\",VLOOKUP(B36,'8実績'!$A$16:$AO$46,16,FALSE)))","v":""},{"$f":"IF(K36=\"\",\"\",M36-K36)","v":""},{"$f":"IF(B36=\"\",\"\",VLOOKUP(B36,'8実績'!$A$16:$AO$46,34,FALSE))","v":""}]
[]
[]
[null,null,null,null,null,null,null,null,null,null,null,null,null,null,null,null,null,"　　　"]
[null,{"$f":"'８'!B40:B43","v":""},{"$f":"IF(B40=\"\",\"\",TEXT(DATE(2018+$F$3,$H$3,B40),\"aaa\"))","v":""},"　　　","　　　",{"$f":"IF(IF(B40=\"\",\"\",VLOOKUP(B40,'8実績'!$A$16:$BK$46,63))=\"大会\",IF(B40=\"\",\"\",VLOOKUP(B40,'8実績'!$A$16:$AO$46,22,FALSE)),IF(B40=\"\",\"\",'8実績'!$AC$4)&IF(B40=\"\",\"\",VLOOKUP(B40,'8実績'!$A$16:$AO$46,22,FALSE)))","v":""},null,null,null,null,{"$f":"IF(IF(B40=\"\",\"\",VLOOKUP(B40,'8実績'!$A$16:$AO$46,5,FALSE))=0,IF(B40=\"\",\"\",VLOOKUP(B40,'8実績'!$A$16:$AO$46,12,FALSE)),IF(B40=\"\",\"\",VLOOKUP(B40,'8実績'!$A$16:$AO$46,5,FALSE)))","v":""},"～",{"$f":"IF(IF(B40=\"\",\"\",VLOOKUP(B40,'8実績'!$A$16:$AO$46,16,FALSE))=0,IF(B40=\"\",\"\",VLOOKUP(B40,'8実績'!$A$16:$AO$46,9,FALSE)),IF(B40=\"\",\"\",VLOOKUP(B40,'8実績'!$A$16:$AO$46,16,FALSE)))","v":""},{"$f":"IF(K40=\"\",\"\",M40-K40)","v":""},{"$f":"IF(B40=\"\",\"\",VLOOKUP(B40,'8実績'!$A$16:$AO$46,34,FALSE))","v":""}]
[]
[]
[null,null,null,null,null,null,null,null,null,null,null,null,null,null,null,null,null,"　　　"]
[null,"( 記入要領等 )"]
[null,"　         　１　この整理簿は、教員特殊業務手当及び面接指導手当の支給対象となるものについて、当該手当の支給に必要な事の整理をするものであること。"]
[null,"　　         ２　記入にあたっては、次のように記入すること。"]
[null,"　　　         　「要件」欄：週休日等　　　半日振替日　　　　その他"]
[null,"　　　　         「区分」欄：非常災害　　救急業務　　補導業務　　修学旅行等　　対外運動等　　入学試験業務　　　部活動４　　　　部活動３　　　部活動２　　　面接指導　　　　　"]
[null,"　　　　　　　　　　         ※部活動４は4時間以上、部活動３は３時間以上４時間未満、部活動２は2時間以上３時間未満をいう。"]
[null,"　　　　         「業務内容」欄：職員が従事した業務について、その内容を簡潔に記入すること。"]
[null,"　　　         　「従事時間」欄：左欄に手当の支給対象となる業務の終始の時刻を、右欄には時間を記入すること。"]
[null,"　　　         　「備考」欄：この整理簿を補足する事項を記入すること。"]

{"sheet":"９(副顧問) (2)","index":55,"n_rows":52,"n_cols":18,"rows_kept":52,"cut":false,"hidden":false,"merged":[[39,17,41,17],[41,5,42,9],[43,1,43,3],[39,11,42,11],[39,12,42,12],[39,13,42,13],[39,14,42,14],[39,15,42,15],[39,16,42,16],[39,1,42,1],[39,2,42,2],[39,3,42,3],[39,4,42,4],[39,5,40,9],[39,10,42,10],[35,13,38,13],[35,14,38,14],[35,15,38,15],[35,16,38,16],[35,17,37,17],[37,5,38,9],[31,17,33,17],[33,5,34,9],[35,1,38,1],[35,2,38,2],[35,3,38,3],[35,4,38,4],[35,5,36,9],[35,10,38,10],[35,11,38,11],[35,12,38,12],[31,11,34,11],[31,12,34,12],[31,13,34,13],[31,14,34,14],[31,15,34,15],[31,16,34,16],[31,1,34,1],[31,2,34,2],[31,3,34,3],[31,4,34,4],[31,5,32,9],[31,10,34,10],[27,13,30,13],[27,14,30,14],[27,15,30,15],[27,16,30,16],[27,17,29,17],[29,5,30,9],[23,17,25,17],[25,5,26,9],[27,1,30,1],[27,2,30,2],[27,3,30,3],[27,4,30,4],[27,5,28,9],[27,10,30,10],[27,11,30,11],[27,12,30,12],[23,11,26,11],[23,12,26,12],[23,13,26,13],[23,14,26,14],[23,15,26,15],[23,16,26,16],[23,1,26,1],[23,2,26,2],[23,3,26,3],[23,4,26,4],[23,5,24,9],[23,10,26,10],[19,13,22,13],[19,14,22,14],[19,15,22,15],[19,16,22,16],[19,17,21,17],[21,5,22,9],[15,17,17,17],[17,5,18,9],[19,1,22,1],[19,2,22,2],[19,3,22,3],[19,4,22,4],[19,5,20,9],[19,10,22,10],[19,11,22,11],[19,12,22,12],[15,11,18,11],[15,12,18,12],[15,13,18,13],[15,14,18,14],[15,15,18,15],[15,16,18,16],[15,1,18,1],[15,2,18,2],[15,3,18,3],[15,4,18,4],[15,5,16,9],[15,10,18,10],[11,13,14,13],[11,14,14,14],[11,15,14,15],[11,16,14,16],[11,17,13,17],[13,5,14,9],[11,1,14,1],[11,2,14,2],[11,3,14,3],[11,4,14,4],[11,5,12,9],[11,10,14,10],[11,11,14,11],[11,12,14,12],[7,11,10,11],[7,12,10,12],[7,1,10,1],[7,2,10,2],[7,3,10,3],[7,4,10,4],[7,5,8,9],[7,10,10,10],[4,1,4,2],[4,3,4,4],[4,6,4,8],[4,9,4,10],[4,14,4,17],[6,5,6,9],[6,10,6,13],[7,17,9,17],[9,5,10,9],[7,13,10,13],[7,14,10,14],[7,15,10,15],[7,16,10,16]]}
[]
[]
[null,null,null,"          　　　　　　","令和",{"$f":"'9計画'!AS1-2018","v":2},"年",{"$f":"'9計画'!A7","v":9},"月分","　 教  員  特  殊  業  務  整  理  簿",null,null,null,null,null,null,null,"様式3"]
[]
[null,"氏　名",null,{"$f":"IF('9実績'!AE10=\"\",\"\",'9実績'!AE10)","v":0},null,"職員\n番号",{"$f":"IF('４(副顧問) (2)'!G5=\"\",\"\",'４(副顧問) (2)'!G5)","v":""},null,null,null,null,null,null,null,{"$f":"'４(副顧問) (2)'!$O$5:$R$5","v":"0学校"}]
[]
[null,"日","曜","要　件","区　分","業　　務　　内　　容",null,null,null,null,"従　事　時　間",null,null,null,"従事場所","所属長\n確認印","従事者印","備　　考"]
[null,{"$f":"'９'!B8:B11","v":""},{"$f":"IF(B8=\"\",\"\",TEXT(DATE(2018+$F$3,$H$3,B8),\"aaa\"))","v":""},"　　　","　　　",{"$f":"IF(IF(B8=\"\",\"\",VLOOKUP(B8,'9実績'!$A$16:$BK$46,63))=\"大会\",IF(B8=\"\",\"\",VLOOKUP(B8,'9実績'!$A$16:$AO$46,22,FALSE)),IF(B8=\"\",\"\",'9実績'!$AC$4)&IF(B8=\"\",\"\",VLOOKUP(B8,'9実績'!$A$16:$AO$46,22,FALSE)))","v":""},null,null,null,null,{"$f":"IF(IF(B8=\"\",\"\",VLOOKUP(B8,'9実績'!$A$16:$AO$46,5,FALSE))=0,IF(B8=\"\",\"\",VLOOKUP(B8,'9実績'!$A$16:$AO$46,12,FALSE)),IF(B8=\"\",\"\",VLOOKUP(B8,'9実績'!$A$16:$AO$46,5,FALSE)))","v":""},"～",{"$f":"IF(IF(B8=\"\",\"\",VLOOKUP(B8,'9実績'!$A$16:$AO$46,16,FALSE))=0,IF(B8=\"\",\"\",VLOOKUP(B8,'9実績'!$A$16:$AO$46,9,FALSE)),IF(B8=\"\",\"\",VLOOKUP(B8,'9実績'!$A$16:$AO$46,16,FALSE)))","v":""},{"$f":"IF(K8=\"\",\"\",M8-K8)","v":""},{"$f":"IF(B8=\"\",\"\",VLOOKUP(B8,'9実績'!$A$16:$AO$46,34,FALSE))","v":""}]
[]
[]
[null,null,null,null,null,null,null,null,null,null,null,null,null,null,null,null,null,"　　　"]
[null,{"$f":"'９'!B12:B15","v":""},{"$f":"IF(B12=\"\",\"\",TEXT(DATE(2018+$F$3,$H$3,B12),\"aaa\"))","v":""},"　　　","　　　",{"$f":"IF(IF(B12=\"\",\"\",VLOOKUP(B12,'9実績'!$A$16:$BK$46,63))=\"大会\",IF(B12=\"\",\"\",VLOOKUP(B12,'9実績'!$A$16:$AO$46,22,FALSE)),IF(B12=\"\",\"\",'9実績'!$AC$4)&IF(B12=\"\",\"\",VLOOKUP(B12,'9実績'!$A$16:$AO$46,22,FALSE)))","v":""},null,null,null,null,{"$f":"IF(IF(B12=\"\",\"\",VLOOKUP(B12,'9実績'!$A$16:$AO$46,5,FALSE))=0,IF(B12=\"\",\"\",VLOOKUP(B12,'9実績'!$A$16:$AO$46,12,FALSE)),IF(B12=\"\",\"\",VLOOKUP(B12,'9実績'!$A$16:$AO$46,5,FALSE)))","v":""},"～",{"$f":"IF(IF(B12=\"\",\"\",VLOOKUP(B12,'9実績'!$A$16:$AO$46,16,FALSE))=0,IF(B12=\"\",\"\",VLOOKUP(B12,'9実績'!$A$16:$AO$46,9,FALSE)),IF(B12=\"\",\"\",VLOOKUP(B12,'9実績'!$A$16:$AO$46,16,FALSE)))","v":""},{"$f":"IF(K12=\"\",\"\",M12-K12)","v":""},{"$f":"IF(B12=\"\",\"\",VLOOKUP(B12,'9実績'!$A$16:$AO$46,34,FALSE))","v":""}]
[]
[]
[null,null,null,null,null,null,null,null,null,null,null,null,null,null,null,null,null,"　　　"]
[null,{"$f":"'９'!B16:B19","v":""},{"$f":"IF(B16=\"\",\"\",TEXT(DATE(2018+$F$3,$H$3,B16),\"aaa\"))","v":""},"　　　","　　　",{"$f":"IF(IF(B16=\"\",\"\",VLOOKUP(B16,'9実績'!$A$16:$BK$46,63))=\"大会\",IF(B16=\"\",\"\",VLOOKUP(B16,'9実績'!$A$16:$AO$46,22,FALSE)),IF(B16=\"\",\"\",'9実績'!$AC$4)&IF(B16=\"\",\"\",VLOOKUP(B16,'9実績'!$A$16:$AO$46,22,FALSE)))","v":""},null,null,null,null,{"$f":"IF(IF(B16=\"\",\"\",VLOOKUP(B16,'9実績'!$A$16:$AO$46,5,FALSE))=0,IF(B16=\"\",\"\",VLOOKUP(B16,'9実績'!$A$16:$AO$46,12,FALSE)),IF(B16=\"\",\"\",VLOOKUP(B16,'9実績'!$A$16:$AO$46,5,FALSE)))","v":""},"～",{"$f":"IF(IF(B16=\"\",\"\",VLOOKUP(B16,'9実績'!$A$16:$AO$46,16,FALSE))=0,IF(B16=\"\",\"\",VLOOKUP(B16,'9実績'!$A$16:$AO$46,9,FALSE)),IF(B16=\"\",\"\",VLOOKUP(B16,'9実績'!$A$16:$AO$46,16,FALSE)))","v":""},{"$f":"IF(K16=\"\",\"\",M16-K16)","v":""},{"$f":"IF(B16=\"\",\"\",VLOOKUP(B16,'9実績'!$A$16:$AO$46,34,FALSE))","v":""}]
[]
[]
[null,null,null,null,null,null,null,null,null,null,null,null,null,null,null,null,null,"　　　"]
[null,{"$f":"'９'!B20:B23","v":""},{"$f":"IF(B20=\"\",\"\",TEXT(DATE(2018+$F$3,$H$3,B20),\"aaa\"))","v":""},"　　　","　　　",{"$f":"IF(IF(B20=\"\",\"\",VLOOKUP(B20,'9実績'!$A$16:$BK$46,63))=\"大会\",IF(B20=\"\",\"\",VLOOKUP(B20,'9実績'!$A$16:$AO$46,22,FALSE)),IF(B20=\"\",\"\",'9実績'!$AC$4)&IF(B20=\"\",\"\",VLOOKUP(B20,'9実績'!$A$16:$AO$46,22,FALSE)))","v":""},null,null,null,null,{"$f":"IF(IF(B20=\"\",\"\",VLOOKUP(B20,'9実績'!$A$16:$AO$46,5,FALSE))=0,IF(B20=\"\",\"\",VLOOKUP(B20,'9実績'!$A$16:$AO$46,12,FALSE)),IF(B20=\"\",\"\",VLOOKUP(B20,'9実績'!$A$16:$AO$46,5,FALSE)))","v":""},"～",{"$f":"IF(IF(B20=\"\",\"\",VLOOKUP(B20,'9実績'!$A$16:$AO$46,16,FALSE))=0,IF(B20=\"\",\"\",VLOOKUP(B20,'9実績'!$A$16:$AO$46,9,FALSE)),IF(B20=\"\",\"\",VLOOKUP(B20,'9実績'!$A$16:$AO$46,16,FALSE)))","v":""},{"$f":"IF(K20=\"\",\"\",M20-K20)","v":""},{"$f":"IF(B20=\"\",\"\",VLOOKUP(B20,'9実績'!$A$16:$AO$46,34,FALSE))","v":""}]
[]
[]
[null,null,null,null,null,null,null,null,null,null,null,null,null,null,null,null,null,"　　　"]
[null,{"$f":"'９'!B24:B27","v":""},{"$f":"IF(B24=\"\",\"\",TEXT(DATE(2018+$F$3,$H$3,B24),\"aaa\"))","v":""},"　　　","　　　",{"$f":"IF(IF(B24=\"\",\"\",VLOOKUP(B24,'9実績'!$A$16:$BK$46,63))=\"大会\",IF(B24=\"\",\"\",VLOOKUP(B24,'9実績'!$A$16:$AO$46,22,FALSE)),IF(B24=\"\",\"\",'9実績'!$AC$4)&IF(B24=\"\",\"\",VLOOKUP(B24,'9実績'!$A$16:$AO$46,22,FALSE)))","v":""},null,null,null,null,{"$f":"IF(IF(B24=\"\",\"\",VLOOKUP(B24,'9実績'!$A$16:$AO$46,5,FALSE))=0,IF(B24=\"\",\"\",VLOOKUP(B24,'9実績'!$A$16:$AO$46,12,FALSE)),IF(B24=\"\",\"\",VLOOKUP(B24,'9実績'!$A$16:$AO$46,5,FALSE)))","v":""},"～",{"$f":"IF(IF(B24=\"\",\"\",VLOOKUP(B24,'9実績'!$A$16:$AO$46,16,FALSE))=0,IF(B24=\"\",\"\",VLOOKUP(B24,'9実績'!$A$16:$AO$46,9,FALSE)),IF(B24=\"\",\"\",VLOOKUP(B24,'9実績'!$A$16:$AO$46,16,FALSE)))","v":""},{"$f":"IF(K24=\"\",\"\",M24-K24)","v":""},{"$f":"IF(B24=\"\",\"\",VLOOKUP(B24,'9実績'!$A$16:$AO$46,34,FALSE))","v":""}]
[]
[]
[null,null,null,null,null,null,null,null,null,null,null,null,null,null,null,null,null,"　　　"]
[null,{"$f":"'９'!B28:B31","v":""},{"$f":"IF(B28=\"\",\"\",TEXT(DATE(2018+$F$3,$H$3,B28),\"aaa\"))","v":""},"　　　","　　　",{"$f":"IF(IF(B28=\"\",\"\",VLOOKUP(B28,'9実績'!$A$16:$BK$46,63))=\"大会\",IF(B28=\"\",\"\",VLOOKUP(B28,'9実績'!$A$16:$AO$46,22,FALSE)),IF(B28=\"\",\"\",'9実績'!$AC$4)&IF(B28=\"\",\"\",VLOOKUP(B28,'9実績'!$A$16:$AO$46,22,FALSE)))","v":""},null,null,null,null,{"$f":"IF(IF(B28=\"\",\"\",VLOOKUP(B28,'9実績'!$A$16:$AO$46,5,FALSE))=0,IF(B28=\"\",\"\",VLOOKUP(B28,'9実績'!$A$16:$AO$46,12,FALSE)),IF(B28=\"\",\"\",VLOOKUP(B28,'9実績'!$A$16:$AO$46,5,FALSE)))","v":""},"～",{"$f":"IF(IF(B28=\"\",\"\",VLOOKUP(B28,'9実績'!$A$16:$AO$46,16,FALSE))=0,IF(B28=\"\",\"\",VLOOKUP(B28,'9実績'!$A$16:$AO$46,9,FALSE)),IF(B28=\"\",\"\",VLOOKUP(B28,'9実績'!$A$16:$AO$46,16,FALSE)))","v":""},{"$f":"IF(K28=\"\",\"\",M28-K28)","v":""},{"$f":"IF(B28=\"\",\"\",VLOOKUP(B28,'9実績'!$A$16:$AO$46,34,FALSE))","v":""}]
[]
[]
[null,null,null,null,null,null,null,null,null,null,null,null,null,null,null,null,null,"　　　"]
[null,{"$f":"'９'!B32:B35","v":""},{"$f":"IF(B32=\"\",\"\",TEXT(DATE(2018+$F$3,$H$3,B32),\"aaa\"))","v":""},"　　　","　　　",{"$f":"IF(IF(B32=\"\",\"\",VLOOKUP(B32,'9実績'!$A$16:$BK$46,63))=\"大会\",IF(B32=\"\",\"\",VLOOKUP(B32,'9実績'!$A$16:$AO$46,22,FALSE)),IF(B32=\"\",\"\",'9実績'!$AC$4)&IF(B32=\"\",\"\",VLOOKUP(B32,'9実績'!$A$16:$AO$46,22,FALSE)))","v":""},null,null,null,null,{"$f":"IF(IF(B32=\"\",\"\",VLOOKUP(B32,'9実績'!$A$16:$AO$46,5,FALSE))=0,IF(B32=\"\",\"\",VLOOKUP(B32,'9実績'!$A$16:$AO$46,12,FALSE)),IF(B32=\"\",\"\",VLOOKUP(B32,'9実績'!$A$16:$AO$46,5,FALSE)))","v":""},"～",{"$f":"IF(IF(B32=\"\",\"\",VLOOKUP(B32,'9実績'!$A$16:$AO$46,16,FALSE))=0,IF(B32=\"\",\"\",VLOOKUP(B32,'9実績'!$A$16:$AO$46,9,FALSE)),IF(B32=\"\",\"\",VLOOKUP(B32,'9実績'!$A$16:$AO$46,16,FALSE)))","v":""},{"$f":"IF(K32=\"\",\"\",M32-K32)","v":""},{"$f":"IF(B32=\"\",\"\",VLOOKUP(B32,'9実績'!$A$16:$AO$46,34,FALSE))","v":""}]
[]
[]
[null,null,null,null,null,null,null,null,null,null,null,null,null,null,null,null,null,"　　　"]
[null,{"$f":"'９'!B36:B39","v":""},{"$f":"IF(B36=\"\",\"\",TEXT(DATE(2018+$F$3,$H$3,B36),\"aaa\"))","v":""},"　　　","　　　",{"$f":"IF(IF(B36=\"\",\"\",VLOOKUP(B36,'9実績'!$A$16:$BK$46,63))=\"大会\",IF(B36=\"\",\"\",VLOOKUP(B36,'9実績'!$A$16:$AO$46,22,FALSE)),IF(B36=\"\",\"\",'9実績'!$AC$4)&IF(B36=\"\",\"\",VLOOKUP(B36,'9実績'!$A$16:$AO$46,22,FALSE)))","v":""},null,null,null,null,{"$f":"IF(IF(B36=\"\",\"\",VLOOKUP(B36,'9実績'!$A$16:$AO$46,5,FALSE))=0,IF(B36=\"\",\"\",VLOOKUP(B36,'9実績'!$A$16:$AO$46,12,FALSE)),IF(B36=\"\",\"\",VLOOKUP(B36,'9実績'!$A$16:$AO$46,5,FALSE)))","v":""},"～",{"$f":"IF(IF(B36=\"\",\"\",VLOOKUP(B36,'9実績'!$A$16:$AO$46,16,FALSE))=0,IF(B36=\"\",\"\",VLOOKUP(B36,'9実績'!$A$16:$AO$46,9,FALSE)),IF(B36=\"\",\"\",VLOOKUP(B36,'9実績'!$A$16:$AO$46,16,FALSE)))","v":""},{"$f":"IF(K36=\"\",\"\",M36-K36)","v":""},{"$f":"IF(B36=\"\",\"\",VLOOKUP(B36,'9実績'!$A$16:$AO$46,34,FALSE))","v":""}]
[]
[]
[null,null,null,null,null,null,null,null,null,null,null,null,null,null,null,null,null,"　　　"]
[null,{"$f":"'９'!B40:B43","v":""},{"$f":"IF(B40=\"\",\"\",TEXT(DATE(2018+$F$3,$H$3,B40),\"aaa\"))","v":""},"　　　","　　　",{"$f":"IF(IF(B40=\"\",\"\",VLOOKUP(B40,'9実績'!$A$16:$BK$46,63))=\"大会\",IF(B40=\"\",\"\",VLOOKUP(B40,'9実績'!$A$16:$AO$46,22,FALSE)),IF(B40=\"\",\"\",'9実績'!$AC$4)&IF(B40=\"\",\"\",VLOOKUP(B40,'9実績'!$A$16:$AO$46,22,FALSE)))","v":""},null,null,null,null,{"$f":"IF(IF(B40=\"\",\"\",VLOOKUP(B40,'9実績'!$A$16:$AO$46,5,FALSE))=0,IF(B40=\"\",\"\",VLOOKUP(B40,'9実績'!$A$16:$AO$46,12,FALSE)),IF(B40=\"\",\"\",VLOOKUP(B40,'9実績'!$A$16:$AO$46,5,FALSE)))","v":""},"～",{"$f":"IF(IF(B40=\"\",\"\",VLOOKUP(B40,'9実績'!$A$16:$AO$46,16,FALSE))=0,IF(B40=\"\",\"\",VLOOKUP(B40,'9実績'!$A$16:$AO$46,9,FALSE)),IF(B40=\"\",\"\",VLOOKUP(B40,'9実績'!$A$16:$AO$46,16,FALSE)))","v":""},{"$f":"IF(K40=\"\",\"\",M40-K40)","v":""},{"$f":"IF(B40=\"\",\"\",VLOOKUP(B40,'9実績'!$A$16:$AO$46,34,FALSE))","v":""}]
[]
[]
[null,null,null,null,null,null,null,null,null,null,null,null,null,null,null,null,null,"　　　"]
[null,"( 記入要領等 )"]
[null,"　         　１　この整理簿は、教員特殊業務手当及び面接指導手当の支給対象となるものについて、当該手当の支給に必要な事の整理をするものであること。"]
[null,"　　         ２　記入にあたっては、次のように記入すること。"]
[null,"　　　         　「要件」欄：週休日等　　　半日振替日　　　　その他"]
[null,"　　　　         「区分」欄：非常災害　　救急業務　　補導業務　　修学旅行等　　対外運動等　　入学試験業務　　　部活動４　　　　部活動３　　　部活動２　　　面接指導　　　　　"]
[null,"　　　　　　　　　　         ※部活動４は4時間以上、部活動３は３時間以上４時間未満、部活動２は2時間以上３時間未満をいう。"]
[null,"　　　　         「業務内容」欄：職員が従事した業務について、その内容を簡潔に記入すること。"]
[null,"　　　         　「従事時間」欄：左欄に手当の支給対象となる業務の終始の時刻を、右欄には時間を記入すること。"]
[null,"　　　         　「備考」欄：この整理簿を補足する事項を記入すること。"]

{"sheet":"１０(副顧問) (2)","index":56,"n_rows":52,"n_cols":18,"rows_kept":52,"cut":false,"hidden":false,"merged":[[39,17,41,17],[41,5,42,9],[43,1,43,3],[39,11,42,11],[39,12,42,12],[39,13,42,13],[39,14,42,14],[39,15,42,15],[39,16,42,16],[39,1,42,1],[39,2,42,2],[39,3,42,3],[39,4,42,4],[39,5,40,9],[39,10,42,10],[35,13,38,13],[35,14,38,14],[35,15,38,15],[35,16,38,16],[35,17,37,17],[37,5,38,9],[31,17,33,17],[33,5,34,9],[35,1,38,1],[35,2,38,2],[35,3,38,3],[35,4,38,4],[35,5,36,9],[35,10,38,10],[35,11,38,11],[35,12,38,12],[31,11,34,11],[31,12,34,12],[31,13,34,13],[31,14,34,14],[31,15,34,15],[31,16,34,16],[31,1,34,1],[31,2,34,2],[31,3,34,3],[31,4,34,4],[31,5,32,9],[31,10,34,10],[27,13,30,13],[27,14,30,14],[27,15,30,15],[27,16,30,16],[27,17,29,17],[29,5,30,9],[23,17,25,17],[25,5,26,9],[27,1,30,1],[27,2,30,2],[27,3,30,3],[27,4,30,4],[27,5,28,9],[27,10,30,10],[27,11,30,11],[27,12,30,12],[23,11,26,11],[23,12,26,12],[23,13,26,13],[23,14,26,14],[23,15,26,15],[23,16,26,16],[23,1,26,1],[23,2,26,2],[23,3,26,3],[23,4,26,4],[23,5,24,9],[23,10,26,10],[19,13,22,13],[19,14,22,14],[19,15,22,15],[19,16,22,16],[19,17,21,17],[21,5,22,9],[15,17,17,17],[17,5,18,9],[19,1,22,1],[19,2,22,2],[19,3,22,3],[19,4,22,4],[19,5,20,9],[19,10,22,10],[19,11,22,11],[19,12,22,12],[15,11,18,11],[15,12,18,12],[15,13,18,13],[15,14,18,14],[15,15,18,15],[15,16,18,16],[15,1,18,1],[15,2,18,2],[15,3,18,3],[15,4,18,4],[15,5,16,9],[15,10,18,10],[11,13,14,13],[11,14,14,14],[11,15,14,15],[11,16,14,16],[11,17,13,17],[13,5,14,9],[11,1,14,1],[11,2,14,2],[11,3,14,3],[11,4,14,4],[11,5,12,9],[11,10,14,10],[11,11,14,11],[11,12,14,12],[7,11,10,11],[7,12,10,12],[7,1,10,1],[7,2,10,2],[7,3,10,3],[7,4,10,4],[7,5,8,9],[7,10,10,10],[4,1,4,2],[4,3,4,4],[4,6,4,8],[4,9,4,10],[4,14,4,17],[6,5,6,9],[6,10,6,13],[7,17,9,17],[9,5,10,9],[7,13,10,13],[7,14,10,14],[7,15,10,15],[7,16,10,16]]}
[]
[]
[null,null,null,"          　　　　　　","令和",{"$f":"'10計画'!AS1-2018","v":2},"年",{"$f":"'10計画'!A7","v":10},"月分","　 教  員  特  殊  業  務  整  理  簿",null,null,null,null,null,null,null,"様式3"]
[]
[null,"氏　名",null,{"$f":"IF('10実績'!AE10=\"\",\"\",'10実績'!AE10)","v":0},null,"職員\n番号",{"$f":"IF('４(副顧問) (2)'!G5=\"\",\"\",'４(副顧問) (2)'!G5)","v":""},null,null,null,null,null,null,null,{"$f":"'４(副顧問) (2)'!$O$5:$R$5","v":"0学校"}]
[]
[null,"日","曜","要　件","区　分","業　　務　　内　　容",null,null,null,null,"従　事　時　間",null,null,null,"従事場所","所属長\n確認印","従事者印","備　　考"]
[null,{"$f":"'１０'!B8:B11","v":""},{"$f":"IF(B8=\"\",\"\",TEXT(DATE(2018+$F$3,$H$3,B8),\"aaa\"))","v":""},"　　　","　　　",{"$f":"IF(IF(B8=\"\",\"\",VLOOKUP(B8,'10実績'!$A$16:$BK$46,63))=\"大会\",IF(B8=\"\",\"\",VLOOKUP(B8,'10実績'!$A$16:$AO$46,22,FALSE)),IF(B8=\"\",\"\",'10実績'!$AC$4)&IF(B8=\"\",\"\",VLOOKUP(B8,'10実績'!$A$16:$AO$46,22,FALSE)))","v":""},null,null,null,null,{"$f":"IF(IF(B8=\"\",\"\",VLOOKUP(B8,'10実績'!$A$16:$AO$46,5,FALSE))=0,IF(B8=\"\",\"\",VLOOKUP(B8,'10実績'!$A$16:$AO$46,12,FALSE)),IF(B8=\"\",\"\",VLOOKUP(B8,'10実績'!$A$16:$AO$46,5,FALSE)))","v":""},"～",{"$f":"IF(IF(B8=\"\",\"\",VLOOKUP(B8,'10実績'!$A$16:$AO$46,16,FALSE))=0,IF(B8=\"\",\"\",VLOOKUP(B8,'10実績'!$A$16:$AO$46,9,FALSE)),IF(B8=\"\",\"\",VLOOKUP(B8,'10実績'!$A$16:$AO$46,16,FALSE)))","v":""},{"$f":"IF(K8=\"\",\"\",M8-K8)","v":""},{"$f":"IF(B8=\"\",\"\",VLOOKUP(B8,'10実績'!$A$16:$AO$46,34,FALSE))","v":""}]
[]
[]
[null,null,null,null,null,null,null,null,null,null,null,null,null,null,null,null,null,"　　　"]
[null,{"$f":"'１０'!B12:B15","v":""},{"$f":"IF(B12=\"\",\"\",TEXT(DATE(2018+$F$3,$H$3,B12),\"aaa\"))","v":""},"　　　","　　　",{"$f":"IF(IF(B12=\"\",\"\",VLOOKUP(B12,'10実績'!$A$16:$BK$46,63))=\"大会\",IF(B12=\"\",\"\",VLOOKUP(B12,'10実績'!$A$16:$AO$46,22,FALSE)),IF(B12=\"\",\"\",'10実績'!$AC$4)&IF(B12=\"\",\"\",VLOOKUP(B12,'10実績'!$A$16:$AO$46,22,FALSE)))","v":""},null,null,null,null,{"$f":"IF(IF(B12=\"\",\"\",VLOOKUP(B12,'10実績'!$A$16:$AO$46,5,FALSE))=0,IF(B12=\"\",\"\",VLOOKUP(B12,'10実績'!$A$16:$AO$46,12,FALSE)),IF(B12=\"\",\"\",VLOOKUP(B12,'10実績'!$A$16:$AO$46,5,FALSE)))","v":""},"～",{"$f":"IF(IF(B12=\"\",\"\",VLOOKUP(B12,'10実績'!$A$16:$AO$46,16,FALSE))=0,IF(B12=\"\",\"\",VLOOKUP(B12,'10実績'!$A$16:$AO$46,9,FALSE)),IF(B12=\"\",\"\",VLOOKUP(B12,'10実績'!$A$16:$AO$46,16,FALSE)))","v":""},{"$f":"IF(K12=\"\",\"\",M12-K12)","v":""},{"$f":"IF(B12=\"\",\"\",VLOOKUP(B12,'10実績'!$A$16:$AO$46,34,FALSE))","v":""}]
[]
[]
[null,null,null,null,null,null,null,null,null,null,null,null,null,null,null,null,null,"　　　"]
[null,{"$f":"'１０'!B16:B19","v":""},{"$f":"IF(B16=\"\",\"\",TEXT(DATE(2018+$F$3,$H$3,B16),\"aaa\"))","v":""},"　　　","　　　",{"$f":"IF(IF(B16=\"\",\"\",VLOOKUP(B16,'10実績'!$A$16:$BK$46,63))=\"大会\",IF(B16=\"\",\"\",VLOOKUP(B16,'10実績'!$A$16:$AO$46,22,FALSE)),IF(B16=\"\",\"\",'10実績'!$AC$4)&IF(B16=\"\",\"\",VLOOKUP(B16,'10実績'!$A$16:$AO$46,22,FALSE)))","v":""},null,null,null,null,{"$f":"IF(IF(B16=\"\",\"\",VLOOKUP(B16,'10実績'!$A$16:$AO$46,5,FALSE))=0,IF(B16=\"\",\"\",VLOOKUP(B16,'10実績'!$A$16:$AO$46,12,FALSE)),IF(B16=\"\",\"\",VLOOKUP(B16,'10実績'!$A$16:$AO$46,5,FALSE)))","v":""},"～",{"$f":"IF(IF(B16=\"\",\"\",VLOOKUP(B16,'10実績'!$A$16:$AO$46,16,FALSE))=0,IF(B16=\"\",\"\",VLOOKUP(B16,'10実績'!$A$16:$AO$46,9,FALSE)),IF(B16=\"\",\"\",VLOOKUP(B16,'10実績'!$A$16:$AO$46,16,FALSE)))","v":""},{"$f":"IF(K16=\"\",\"\",M16-K16)","v":""},{"$f":"IF(B16=\"\",\"\",VLOOKUP(B16,'10実績'!$A$16:$AO$46,34,FALSE))","v":""}]
[]
[]
[null,null,null,null,null,null,null,null,null,null,null,null,null,null,null,null,null,"　　　"]
[null,{"$f":"'１０'!B20:B23","v":""},{"$f":"IF(B20=\"\",\"\",TEXT(DATE(2018+$F$3,$H$3,B20),\"aaa\"))","v":""},"　　　","　　　",{"$f":"IF(IF(B20=\"\",\"\",VLOOKUP(B20,'10実績'!$A$16:$BK$46,63))=\"大会\",IF(B20=\"\",\"\",VLOOKUP(B20,'10実績'!$A$16:$AO$46,22,FALSE)),IF(B20=\"\",\"\",'10実績'!$AC$4)&IF(B20=\"\",\"\",VLOOKUP(B20,'10実績'!$A$16:$AO$46,22,FALSE)))","v":""},null,null,null,null,{"$f":"IF(IF(B20=\"\",\"\",VLOOKUP(B20,'10実績'!$A$16:$AO$46,5,FALSE))=0,IF(B20=\"\",\"\",VLOOKUP(B20,'10実績'!$A$16:$AO$46,12,FALSE)),IF(B20=\"\",\"\",VLOOKUP(B20,'10実績'!$A$16:$AO$46,5,FALSE)))","v":""},"～",{"$f":"IF(IF(B20=\"\",\"\",VLOOKUP(B20,'10実績'!$A$16:$AO$46,16,FALSE))=0,IF(B20=\"\",\"\",VLOOKUP(B20,'10実績'!$A$16:$AO$46,9,FALSE)),IF(B20=\"\",\"\",VLOOKUP(B20,'10実績'!$A$16:$AO$46,16,FALSE)))","v":""},{"$f":"IF(K20=\"\",\"\",M20-K20)","v":""},{"$f":"IF(B20=\"\",\"\",VLOOKUP(B20,'10実績'!$A$16:$AO$46,34,FALSE))","v":""}]
[]
[]
[null,null,null,null,null,null,null,null,null,null,null,null,null,null,null,null,null,"　　　"]
[null,{"$f":"'１０'!B24:B27","v":""},{"$f":"IF(B24=\"\",\"\",TEXT(DATE(2018+$F$3,$H$3,B24),\"aaa\"))","v":""},"　　　","　　　",{"$f":"IF(IF(B24=\"\",\"\",VLOOKUP(B24,'10実績'!$A$16:$BK$46,63))=\"大会\",IF(B24=\"\",\"\",VLOOKUP(B24,'10実績'!$A$16:$AO$46,22,FALSE)),IF(B24=\"\",\"\",'10実績'!$AC$4)&IF(B24=\"\",\"\",VLOOKUP(B24,'10実績'!$A$16:$AO$46,22,FALSE)))","v":""},null,null,null,null,{"$f":"IF(IF(B24=\"\",\"\",VLOOKUP(B24,'10実績'!$A$16:$AO$46,5,FALSE))=0,IF(B24=\"\",\"\",VLOOKUP(B24,'10実績'!$A$16:$AO$46,12,FALSE)),IF(B24=\"\",\"\",VLOOKUP(B24,'10実績'!$A$16:$AO$46,5,FALSE)))","v":""},"～",{"$f":"IF(IF(B24=\"\",\"\",VLOOKUP(B24,'10実績'!$A$16:$AO$46,16,FALSE))=0,IF(B24=\"\",\"\",VLOOKUP(B24,'10実績'!$A$16:$AO$46,9,FALSE)),IF(B24=\"\",\"\",VLOOKUP(B24,'10実績'!$A$16:$AO$46,16,FALSE)))","v":""},{"$f":"IF(K24=\"\",\"\",M24-K24)","v":""},{"$f":"IF(B24=\"\",\"\",VLOOKUP(B24,'10実績'!$A$16:$AO$46,34,FALSE))","v":""}]
[]
[]
[null,null,null,null,null,null,null,null,null,null,null,null,null,null,null,null,null,"　　　"]
[null,{"$f":"'１０'!B28:B31","v":""},{"$f":"IF(B28=\"\",\"\",TEXT(DATE(2018+$F$3,$H$3,B28),\"aaa\"))","v":""},"　　　","　　　",{"$f":"IF(IF(B28=\"\",\"\",VLOOKUP(B28,'10実績'!$A$16:$BK$46,63))=\"大会\",IF(B28=\"\",\"\",VLOOKUP(B28,'10実績'!$A$16:$AO$46,22,FALSE)),IF(B28=\"\",\"\",'10実績'!$AC$4)&IF(B28=\"\",\"\",VLOOKUP(B28,'10実績'!$A$16:$AO$46,22,FALSE)))","v":""},null,null,null,null,{"$f":"IF(IF(B28=\"\",\"\",VLOOKUP(B28,'10実績'!$A$16:$AO$46,5,FALSE))=0,IF(B28=\"\",\"\",VLOOKUP(B28,'10実績'!$A$16:$AO$46,12,FALSE)),IF(B28=\"\",\"\",VLOOKUP(B28,'10実績'!$A$16:$AO$46,5,FALSE)))","v":""},"～",{"$f":"IF(IF(B28=\"\",\"\",VLOOKUP(B28,'10実績'!$A$16:$AO$46,16,FALSE))=0,IF(B28=\"\",\"\",VLOOKUP(B28,'10実績'!$A$16:$AO$46,9,FALSE)),IF(B28=\"\",\"\",VLOOKUP(B28,'10実績'!$A$16:$AO$46,16,FALSE)))","v":""},{"$f":"IF(K28=\"\",\"\",M28-K28)","v":""},{"$f":"IF(B28=\"\",\"\",VLOOKUP(B28,'10実績'!$A$16:$AO$46,34,FALSE))","v":""}]
[]
[]
[null,null,null,null,null,null,null,null,null,null,null,null,null,null,null,null,null,"　　　"]
[null,{"$f":"'１０'!B32:B35","v":""},{"$f":"IF(B32=\"\",\"\",TEXT(DATE(2018+$F$3,$H$3,B32),\"aaa\"))","v":""},"　　　","　　　",{"$f":"IF(IF(B32=\"\",\"\",VLOOKUP(B32,'10実績'!$A$16:$BK$46,63))=\"大会\",IF(B32=\"\",\"\",VLOOKUP(B32,'10実績'!$A$16:$AO$46,22,FALSE)),IF(B32=\"\",\"\",'10実績'!$AC$4)&IF(B32=\"\",\"\",VLOOKUP(B32,'10実績'!$A$16:$AO$46,22,FALSE)))","v":""},null,null,null,null,{"$f":"IF(IF(B32=\"\",\"\",VLOOKUP(B32,'10実績'!$A$16:$AO$46,5,FALSE))=0,IF(B32=\"\",\"\",VLOOKUP(B32,'10実績'!$A$16:$AO$46,12,FALSE)),IF(B32=\"\",\"\",VLOOKUP(B32,'10実績'!$A$16:$AO$46,5,FALSE)))","v":""},"～",{"$f":"IF(IF(B32=\"\",\"\",VLOOKUP(B32,'10実績'!$A$16:$AO$46,16,FALSE))=0,IF(B32=\"\",\"\",VLOOKUP(B32,'10実績'!$A$16:$AO$46,9,FALSE)),IF(B32=\"\",\"\",VLOOKUP(B32,'10実績'!$A$16:$AO$46,16,FALSE)))","v":""},{"$f":"IF(K32=\"\",\"\",M32-K32)","v":""},{"$f":"IF(B32=\"\",\"\",VLOOKUP(B32,'10実績'!$A$16:$AO$46,34,FALSE))","v":""}]
[]
[]
[null,null,null,null,null,null,null,null,null,null,null,null,null,null,null,null,null,"　　　"]
[null,{"$f":"'１０'!B36:B39","v":""},{"$f":"IF(B36=\"\",\"\",TEXT(DATE(2018+$F$3,$H$3,B36),\"aaa\"))","v":""},"　　　","　　　",{"$f":"IF(IF(B36=\"\",\"\",VLOOKUP(B36,'10実績'!$A$16:$BK$46,63))=\"大会\",IF(B36=\"\",\"\",VLOOKUP(B36,'10実績'!$A$16:$AO$46,22,FALSE)),IF(B36=\"\",\"\",'10実績'!$AC$4)&IF(B36=\"\",\"\",VLOOKUP(B36,'10実績'!$A$16:$AO$46,22,FALSE)))","v":""},null,null,null,null,{"$f":"IF(IF(B36=\"\",\"\",VLOOKUP(B36,'10実績'!$A$16:$AO$46,5,FALSE))=0,IF(B36=\"\",\"\",VLOOKUP(B36,'10実績'!$A$16:$AO$46,12,FALSE)),IF(B36=\"\",\"\",VLOOKUP(B36,'10実績'!$A$16:$AO$46,5,FALSE)))","v":""},"～",{"$f":"IF(IF(B36=\"\",\"\",VLOOKUP(B36,'10実績'!$A$16:$AO$46,16,FALSE))=0,IF(B36=\"\",\"\",VLOOKUP(B36,'10実績'!$A$16:$AO$46,9,FALSE)),IF(B36=\"\",\"\",VLOOKUP(B36,'10実績'!$A$16:$AO$46,16,FALSE)))","v":""},{"$f":"IF(K36=\"\",\"\",M36-K36)","v":""},{"$f":"IF(B36=\"\",\"\",VLOOKUP(B36,'10実績'!$A$16:$AO$46,34,FALSE))","v":""}]
[]
[]
[null,null,null,null,null,null,null,null,null,null,null,null,null,null,null,null,null,"　　　"]
[null,{"$f":"'１０'!B40:B43","v":""},{"$f":"IF(B40=\"\",\"\",TEXT(DATE(2018+$F$3,$H$3,B40),\"aaa\"))","v":""},"　　　","　　　",{"$f":"IF(IF(B40=\"\",\"\",VLOOKUP(B40,'10実績'!$A$16:$BK$46,63))=\"大会\",IF(B40=\"\",\"\",VLOOKUP(B40,'10実績'!$A$16:$AO$46,22,FALSE)),IF(B40=\"\",\"\",'10実績'!$AC$4)&IF(B40=\"\",\"\",VLOOKUP(B40,'10実績'!$A$16:$AO$46,22,FALSE)))","v":""},null,null,null,null,{"$f":"IF(IF(B40=\"\",\"\",VLOOKUP(B40,'10実績'!$A$16:$AO$46,5,FALSE))=0,IF(B40=\"\",\"\",VLOOKUP(B40,'10実績'!$A$16:$AO$46,12,FALSE)),IF(B40=\"\",\"\",VLOOKUP(B40,'10実績'!$A$16:$AO$46,5,FALSE)))","v":""},"～",{"$f":"IF(IF(B40=\"\",\"\",VLOOKUP(B40,'10実績'!$A$16:$AO$46,16,FALSE))=0,IF(B40=\"\",\"\",VLOOKUP(B40,'10実績'!$A$16:$AO$46,9,FALSE)),IF(B40=\"\",\"\",VLOOKUP(B40,'10実績'!$A$16:$AO$46,16,FALSE)))","v":""},{"$f":"IF(K40=\"\",\"\",M40-K40)","v":""},{"$f":"IF(B40=\"\",\"\",VLOOKUP(B40,'10実績'!$A$16:$AO$46,34,FALSE))","v":""}]
[]
[]
[null,null,null,null,null,null,null,null,null,null,null,null,null,null,null,null,null,"　　　"]
[null,"( 記入要領等 )"]
[null,"　         　１　この整理簿は、教員特殊業務手当及び面接指導手当の支給対象となるものについて、当該手当の支給に必要な事の整理をするものであること。"]
[null,"　　         ２　記入にあたっては、次のように記入すること。"]
[null,"　　　         　「要件」欄：週休日等　　　半日振替日　　　　その他"]
[null,"　　　　         「区分」欄：非常災害　　救急業務　　補導業務　　修学旅行等　　対外運動等　　入学試験業務　　　部活動４　　　　部活動３　　　部活動２　　　面接指導　　　　　"]
[null,"　　　　　　　　　　         ※部活動４は4時間以上、部活動３は３時間以上４時間未満、部活動２は2時間以上３時間未満をいう。"]
[null,"　　　　         「業務内容」欄：職員が従事した業務について、その内容を簡潔に記入すること。"]
[null,"　　　         　「従事時間」欄：左欄に手当の支給対象となる業務の終始の時刻を、右欄には時間を記入すること。"]
[null,"　　　         　「備考」欄：この整理簿を補足する事項を記入すること。"]

{"sheet":"１１(副顧問) (2)","index":57,"n_rows":52,"n_cols":18,"rows_kept":52,"cut":false,"hidden":false,"merged":[[39,17,41,17],[41,5,42,9],[43,1,43,3],[39,11,42,11],[39,12,42,12],[39,13,42,13],[39,14,42,14],[39,15,42,15],[39,16,42,16],[39,1,42,1],[39,2,42,2],[39,3,42,3],[39,4,42,4],[39,5,40,9],[39,10,42,10],[35,13,38,13],[35,14,38,14],[35,15,38,15],[35,16,38,16],[35,17,37,17],[37,5,38,9],[31,17,33,17],[33,5,34,9],[35,1,38,1],[35,2,38,2],[35,3,38,3],[35,4,38,4],[35,5,36,9],[35,10,38,10],[35,11,38,11],[35,12,38,12],[31,11,34,11],[31,12,34,12],[31,13,34,13],[31,14,34,14],[31,15,34,15],[31,16,34,16],[31,1,34,1],[31,2,34,2],[31,3,34,3],[31,4,34,4],[31,5,32,9],[31,10,34,10],[27,13,30,13],[27,14,30,14],[27,15,30,15],[27,16,30,16],[27,17,29,17],[29,5,30,9],[23,17,25,17],[25,5,26,9],[27,1,30,1],[27,2,30,2],[27,3,30,3],[27,4,30,4],[27,5,28,9],[27,10,30,10],[27,11,30,11],[27,12,30,12],[23,11,26,11],[23,12,26,12],[23,13,26,13],[23,14,26,14],[23,15,26,15],[23,16,26,16],[23,1,26,1],[23,2,26,2],[23,3,26,3],[23,4,26,4],[23,5,24,9],[23,10,26,10],[19,13,22,13],[19,14,22,14],[19,15,22,15],[19,16,22,16],[19,17,21,17],[21,5,22,9],[15,17,17,17],[17,5,18,9],[19,1,22,1],[19,2,22,2],[19,3,22,3],[19,4,22,4],[19,5,20,9],[19,10,22,10],[19,11,22,11],[19,12,22,12],[15,11,18,11],[15,12,18,12],[15,13,18,13],[15,14,18,14],[15,15,18,15],[15,16,18,16],[15,1,18,1],[15,2,18,2],[15,3,18,3],[15,4,18,4],[15,5,16,9],[15,10,18,10],[11,13,14,13],[11,14,14,14],[11,15,14,15],[11,16,14,16],[11,17,13,17],[13,5,14,9],[11,1,14,1],[11,2,14,2],[11,3,14,3],[11,4,14,4],[11,5,12,9],[11,10,14,10],[11,11,14,11],[11,12,14,12],[7,11,10,11],[7,12,10,12],[7,1,10,1],[7,2,10,2],[7,3,10,3],[7,4,10,4],[7,5,8,9],[7,10,10,10],[4,1,4,2],[4,3,4,4],[4,6,4,8],[4,9,4,10],[4,14,4,17],[6,5,6,9],[6,10,6,13],[7,17,9,17],[9,5,10,9],[7,13,10,13],[7,14,10,14],[7,15,10,15],[7,16,10,16]]}
[]
[]
[null,null,null,"          　　　　　　","令和",{"$f":"'11計画'!AS1-2018","v":2},"年",{"$f":"'11計画'!A7","v":11},"月分","　 教  員  特  殊  業  務  整  理  簿",null,null,null,null,null,null,null,"様式3"]
[]
[null,"氏　名",null,{"$f":"IF('11実績'!AE10=\"\",\"\",'11実績'!AE10)","v":0},null,"職員\n番号",{"$f":"IF('４(副顧問) (2)'!G5=\"\",\"\",'４(副顧問) (2)'!G5)","v":""},null,null,null,null,null,null,null,{"$f":"'４(副顧問) (2)'!$O$5:$R$5","v":"0学校"}]
[]
[null,"日","曜","要　件","区　分","業　　務　　内　　容",null,null,null,null,"従　事　時　間",null,null,null,"従事場所","所属長\n確認印","従事者印","備　　考"]
[null,{"$f":"'１１'!B8:B11","v":""},{"$f":"IF(B8=\"\",\"\",TEXT(DATE(2018+$F$3,$H$3,B8),\"aaa\"))","v":""},"　　　","　　　",{"$f":"IF(IF(B8=\"\",\"\",VLOOKUP(B8,'11実績'!$A$16:$BK$46,63))=\"大会\",IF(B8=\"\",\"\",VLOOKUP(B8,'11実績'!$A$16:$AO$46,22,FALSE)),IF(B8=\"\",\"\",'11実績'!$AC$4)&IF(B8=\"\",\"\",VLOOKUP(B8,'11実績'!$A$16:$AO$46,22,FALSE)))","v":""},null,null,null,null,{"$f":"IF(IF(B8=\"\",\"\",VLOOKUP(B8,'11実績'!$A$16:$AO$46,5,FALSE))=0,IF(B8=\"\",\"\",VLOOKUP(B8,'11実績'!$A$16:$AO$46,12,FALSE)),IF(B8=\"\",\"\",VLOOKUP(B8,'11実績'!$A$16:$AO$46,5,FALSE)))","v":""},"～",{"$f":"IF(IF(B8=\"\",\"\",VLOOKUP(B8,'11実績'!$A$16:$AO$46,16,FALSE))=0,IF(B8=\"\",\"\",VLOOKUP(B8,'11実績'!$A$16:$AO$46,9,FALSE)),IF(B8=\"\",\"\",VLOOKUP(B8,'11実績'!$A$16:$AO$46,16,FALSE)))","v":""},{"$f":"IF(K8=\"\",\"\",M8-K8)","v":""},{"$f":"IF(B8=\"\",\"\",VLOOKUP(B8,'11実績'!$A$16:$AO$46,34,FALSE))","v":""}]
[]
[]
[null,null,null,null,null,null,null,null,null,null,null,null,null,null,null,null,null,"　　　"]
[null,{"$f":"'１１'!B12:B15","v":""},{"$f":"IF(B12=\"\",\"\",TEXT(DATE(2018+$F$3,$H$3,B12),\"aaa\"))","v":""},"　　　","　　　",{"$f":"IF(IF(B12=\"\",\"\",VLOOKUP(B12,'11実績'!$A$16:$BK$46,63))=\"大会\",IF(B12=\"\",\"\",VLOOKUP(B12,'11実績'!$A$16:$AO$46,22,FALSE)),IF(B12=\"\",\"\",'11実績'!$AC$4)&IF(B12=\"\",\"\",VLOOKUP(B12,'11実績'!$A$16:$AO$46,22,FALSE)))","v":""},null,null,null,null,{"$f":"IF(IF(B12=\"\",\"\",VLOOKUP(B12,'11実績'!$A$16:$AO$46,5,FALSE))=0,IF(B12=\"\",\"\",VLOOKUP(B12,'11実績'!$A$16:$AO$46,12,FALSE)),IF(B12=\"\",\"\",VLOOKUP(B12,'11実績'!$A$16:$AO$46,5,FALSE)))","v":""},"～",{"$f":"IF(IF(B12=\"\",\"\",VLOOKUP(B12,'11実績'!$A$16:$AO$46,16,FALSE))=0,IF(B12=\"\",\"\",VLOOKUP(B12,'11実績'!$A$16:$AO$46,9,FALSE)),IF(B12=\"\",\"\",VLOOKUP(B12,'11実績'!$A$16:$AO$46,16,FALSE)))","v":""},{"$f":"IF(K12=\"\",\"\",M12-K12)","v":""},{"$f":"IF(B12=\"\",\"\",VLOOKUP(B12,'11実績'!$A$16:$AO$46,34,FALSE))","v":""}]
[]
[]
[null,null,null,null,null,null,null,null,null,null,null,null,null,null,null,null,null,"　　　"]
[null,{"$f":"'１１'!B16:B19","v":""},{"$f":"IF(B16=\"\",\"\",TEXT(DATE(2018+$F$3,$H$3,B16),\"aaa\"))","v":""},"　　　","　　　",{"$f":"IF(IF(B16=\"\",\"\",VLOOKUP(B16,'11実績'!$A$16:$BK$46,63))=\"大会\",IF(B16=\"\",\"\",VLOOKUP(B16,'11実績'!$A$16:$AO$46,22,FALSE)),IF(B16=\"\",\"\",'11実績'!$AC$4)&IF(B16=\"\",\"\",VLOOKUP(B16,'11実績'!$A$16:$AO$46,22,FALSE)))","v":""},null,null,null,null,{"$f":"IF(IF(B16=\"\",\"\",VLOOKUP(B16,'11実績'!$A$16:$AO$46,5,FALSE))=0,IF(B16=\"\",\"\",VLOOKUP(B16,'11実績'!$A$16:$AO$46,12,FALSE)),IF(B16=\"\",\"\",VLOOKUP(B16,'11実績'!$A$16:$AO$46,5,FALSE)))","v":""},"～",{"$f":"IF(IF(B16=\"\",\"\",VLOOKUP(B16,'11実績'!$A$16:$AO$46,16,FALSE))=0,IF(B16=\"\",\"\",VLOOKUP(B16,'11実績'!$A$16:$AO$46,9,FALSE)),IF(B16=\"\",\"\",VLOOKUP(B16,'11実績'!$A$16:$AO$46,16,FALSE)))","v":""},{"$f":"IF(K16=\"\",\"\",M16-K16)","v":""},{"$f":"IF(B16=\"\",\"\",VLOOKUP(B16,'11実績'!$A$16:$AO$46,34,FALSE))","v":""}]
[]
[]
[null,null,null,null,null,null,null,null,null,null,null,null,null,null,null,null,null,"　　　"]
[null,{"$f":"'１１'!B20:B23","v":""},{"$f":"IF(B20=\"\",\"\",TEXT(DATE(2018+$F$3,$H$3,B20),\"aaa\"))","v":""},"　　　","　　　",{"$f":"IF(IF(B20=\"\",\"\",VLOOKUP(B20,'11実績'!$A$16:$BK$46,63))=\"大会\",IF(B20=\"\",\"\",VLOOKUP(B20,'11実績'!$A$16:$AO$46,22,FALSE)),IF(B20=\"\",\"\",'11実績'!$AC$4)&IF(B20=\"\",\"\",VLOOKUP(B20,'11実績'!$A$16:$AO$46,22,FALSE)))","v":""},null,null,null,null,{"$f":"IF(IF(B20=\"\",\"\",VLOOKUP(B20,'11実績'!$A$16:$AO$46,5,FALSE))=0,IF(B20=\"\",\"\",VLOOKUP(B20,'11実績'!$A$16:$AO$46,12,FALSE)),IF(B20=\"\",\"\",VLOOKUP(B20,'11実績'!$A$16:$AO$46,5,FALSE)))","v":""},"～",{"$f":"IF(IF(B20=\"\",\"\",VLOOKUP(B20,'11実績'!$A$16:$AO$46,16,FALSE))=0,IF(B20=\"\",\"\",VLOOKUP(B20,'11実績'!$A$16:$AO$46,9,FALSE)),IF(B20=\"\",\"\",VLOOKUP(B20,'11実績'!$A$16:$AO$46,16,FALSE)))","v":""},{"$f":"IF(K20=\"\",\"\",M20-K20)","v":""},{"$f":"IF(B20=\"\",\"\",VLOOKUP(B20,'11実績'!$A$16:$AO$46,34,FALSE))","v":""}]
[]
[]
[null,null,null,null,null,null,null,null,null,null,null,null,null,null,null,null,null,"　　　"]
[null,{"$f":"'１１'!B24:B27","v":""},{"$f":"IF(B24=\"\",\"\",TEXT(DATE(2018+$F$3,$H$3,B24),\"aaa\"))","v":""},"　　　","　　　",{"$f":"IF(IF(B24=\"\",\"\",VLOOKUP(B24,'11実績'!$A$16:$BK$46,63))=\"大会\",IF(B24=\"\",\"\",VLOOKUP(B24,'11実績'!$A$16:$AO$46,22,FALSE)),IF(B24=\"\",\"\",'11実績'!$AC$4)&IF(B24=\"\",\"\",VLOOKUP(B24,'11実績'!$A$16:$AO$46,22,FALSE)))","v":""},null,null,null,null,{"$f":"IF(IF(B24=\"\",\"\",VLOOKUP(B24,'11実績'!$A$16:$AO$46,5,FALSE))=0,IF(B24=\"\",\"\",VLOOKUP(B24,'11実績'!$A$16:$AO$46,12,FALSE)),IF(B24=\"\",\"\",VLOOKUP(B24,'11実績'!$A$16:$AO$46,5,FALSE)))","v":""},"～",{"$f":"IF(IF(B24=\"\",\"\",VLOOKUP(B24,'11実績'!$A$16:$AO$46,16,FALSE))=0,IF(B24=\"\",\"\",VLOOKUP(B24,'11実績'!$A$16:$AO$46,9,FALSE)),IF(B24=\"\",\"\",VLOOKUP(B24,'11実績'!$A$16:$AO$46,16,FALSE)))","v":""},{"$f":"IF(K24=\"\",\"\",M24-K24)","v":""},{"$f":"IF(B24=\"\",\"\",VLOOKUP(B24,'11実績'!$A$16:$AO$46,34,FALSE))","v":""}]
[]
[]
[null,null,null,null,null,null,null,null,null,null,null,null,null,null,null,null,null,"　　　"]
[null,{"$f":"'１１'!B28:B31","v":""},{"$f":"IF(B28=\"\",\"\",TEXT(DATE(2018+$F$3,$H$3,B28),\"aaa\"))","v":""},"　　　","　　　",{"$f":"IF(IF(B28=\"\",\"\",VLOOKUP(B28,'11実績'!$A$16:$BK$46,63))=\"大会\",IF(B28=\"\",\"\",VLOOKUP(B28,'11実績'!$A$16:$AO$46,22,FALSE)),IF(B28=\"\",\"\",'11実績'!$AC$4)&IF(B28=\"\",\"\",VLOOKUP(B28,'11実績'!$A$16:$AO$46,22,FALSE)))","v":""},null,null,null,null,{"$f":"IF(IF(B28=\"\",\"\",VLOOKUP(B28,'11実績'!$A$16:$AO$46,5,FALSE))=0,IF(B28=\"\",\"\",VLOOKUP(B28,'11実績'!$A$16:$AO$46,12,FALSE)),IF(B28=\"\",\"\",VLOOKUP(B28,'11実績'!$A$16:$AO$46,5,FALSE)))","v":""},"～",{"$f":"IF(IF(B28=\"\",\"\",VLOOKUP(B28,'11実績'!$A$16:$AO$46,16,FALSE))=0,IF(B28=\"\",\"\",VLOOKUP(B28,'11実績'!$A$16:$AO$46,9,FALSE)),IF(B28=\"\",\"\",VLOOKUP(B28,'11実績'!$A$16:$AO$46,16,FALSE)))","v":""},{"$f":"IF(K28=\"\",\"\",M28-K28)","v":""},{"$f":"IF(B28=\"\",\"\",VLOOKUP(B28,'11実績'!$A$16:$AO$46,34,FALSE))","v":""}]
[]
[]
[null,null,null,null,null,null,null,null,null,null,null,null,null,null,null,null,null,"　　　"]
[null,{"$f":"'１１'!B32:B35","v":""},{"$f":"IF(B32=\"\",\"\",TEXT(DATE(2018+$F$3,$H$3,B32),\"aaa\"))","v":""},"　　　","　　　",{"$f":"IF(IF(B32=\"\",\"\",VLOOKUP(B32,'11実績'!$A$16:$BK$46,63))=\"大会\",IF(B32=\"\",\"\",VLOOKUP(B32,'11実績'!$A$16:$AO$46,22,FALSE)),IF(B32=\"\",\"\",'11実績'!$AC$4)&IF(B32=\"\",\"\",VLOOKUP(B32,'11実績'!$A$16:$AO$46,22,FALSE)))","v":""},null,null,null,null,{"$f":"IF(IF(B32=\"\",\"\",VLOOKUP(B32,'11実績'!$A$16:$AO$46,5,FALSE))=0,IF(B32=\"\",\"\",VLOOKUP(B32,'11実績'!$A$16:$AO$46,12,FALSE)),IF(B32=\"\",\"\",VLOOKUP(B32,'11実績'!$A$16:$AO$46,5,FALSE)))","v":""},"～",{"$f":"IF(IF(B32=\"\",\"\",VLOOKUP(B32,'11実績'!$A$16:$AO$46,16,FALSE))=0,IF(B32=\"\",\"\",VLOOKUP(B32,'11実績'!$A$16:$AO$46,9,FALSE)),IF(B32=\"\",\"\",VLOOKUP(B32,'11実績'!$A$16:$AO$46,16,FALSE)))","v":""},{"$f":"IF(K32=\"\",\"\",M32-K32)","v":""},{"$f":"IF(B32=\"\",\"\",VLOOKUP(B32,'11実績'!$A$16:$AO$46,34,FALSE))","v":""}]
[]
[]
[null,null,null,null,null,null,null,null,null,null,null,null,null,null,null,null,null,"　　　"]
[null,{"$f":"'１１'!B36:B39","v":""},{"$f":"IF(B36=\"\",\"\",TEXT(DATE(2018+$F$3,$H$3,B36),\"aaa\"))","v":""},"　　　","　　　",{"$f":"IF(IF(B36=\"\",\"\",VLOOKUP(B36,'11実績'!$A$16:$BK$46,63))=\"大会\",IF(B36=\"\",\"\",VLOOKUP(B36,'11実績'!$A$16:$AO$46,22,FALSE)),IF(B36=\"\",\"\",'11実績'!$AC$4)&IF(B36=\"\",\"\",VLOOKUP(B36,'11実績'!$A$16:$AO$46,22,FALSE)))","v":""},null,null,null,null,{"$f":"IF(IF(B36=\"\",\"\",VLOOKUP(B36,'11実績'!$A$16:$AO$46,5,FALSE))=0,IF(B36=\"\",\"\",VLOOKUP(B36,'11実績'!$A$16:$AO$46,12,FALSE)),IF(B36=\"\",\"\",VLOOKUP(B36,'11実績'!$A$16:$AO$46,5,FALSE)))","v":""},"～",{"$f":"IF(IF(B36=\"\",\"\",VLOOKUP(B36,'11実績'!$A$16:$AO$46,16,FALSE))=0,IF(B36=\"\",\"\",VLOOKUP(B36,'11実績'!$A$16:$AO$46,9,FALSE)),IF(B36=\"\",\"\",VLOOKUP(B36,'11実績'!$A$16:$AO$46,16,FALSE)))","v":""},{"$f":"IF(K36=\"\",\"\",M36-K36)","v":""},{"$f":"IF(B36=\"\",\"\",VLOOKUP(B36,'11実績'!$A$16:$AO$46,34,FALSE))","v":""}]
[]
[]
[null,null,null,null,null,null,null,null,null,null,null,null,null,null,null,null,null,"　　　"]
[null,{"$f":"'１１'!B40:B43","v":""},{"$f":"IF(B40=\"\",\"\",TEXT(DATE(2018+$F$3,$H$3,B40),\"aaa\"))","v":""},"　　　","　　　",{"$f":"IF(IF(B40=\"\",\"\",VLOOKUP(B40,'11実績'!$A$16:$BK$46,63))=\"大会\",IF(B40=\"\",\"\",VLOOKUP(B40,'11実績'!$A$16:$AO$46,22,FALSE)),IF(B40=\"\",\"\",'11実績'!$AC$4)&IF(B40=\"\",\"\",VLOOKUP(B40,'11実績'!$A$16:$AO$46,22,FALSE)))","v":""},null,null,null,null,{"$f":"IF(IF(B40=\"\",\"\",VLOOKUP(B40,'11実績'!$A$16:$AO$46,5,FALSE))=0,IF(B40=\"\",\"\",VLOOKUP(B40,'11実績'!$A$16:$AO$46,12,FALSE)),IF(B40=\"\",\"\",VLOOKUP(B40,'11実績'!$A$16:$AO$46,5,FALSE)))","v":""},"～",{"$f":"IF(IF(B40=\"\",\"\",VLOOKUP(B40,'11実績'!$A$16:$AO$46,16,FALSE))=0,IF(B40=\"\",\"\",VLOOKUP(B40,'11実績'!$A$16:$AO$46,9,FALSE)),IF(B40=\"\",\"\",VLOOKUP(B40,'11実績'!$A$16:$AO$46,16,FALSE)))","v":""},{"$f":"IF(K40=\"\",\"\",M40-K40)","v":""},{"$f":"IF(B40=\"\",\"\",VLOOKUP(B40,'11実績'!$A$16:$AO$46,34,FALSE))","v":""}]
[]
[]
[null,null,null,null,null,null,null,null,null,null,null,null,null,null,null,null,null,"　　　"]
[null,"( 記入要領等 )"]
[null,"　         　１　この整理簿は、教員特殊業務手当及び面接指導手当の支給対象となるものについて、当該手当の支給に必要な事の整理をするものであること。"]
[null,"　　         ２　記入にあたっては、次のように記入すること。"]
[null,"　　　         　「要件」欄：週休日等　　　半日振替日　　　　その他"]
[null,"　　　　         「区分」欄：非常災害　　救急業務　　補導業務　　修学旅行等　　対外運動等　　入学試験業務　　　部活動４　　　　部活動３　　　部活動２　　　面接指導　　　　　"]
[null,"　　　　　　　　　　         ※部活動４は4時間以上、部活動３は３時間以上４時間未満、部活動２は2時間以上３時間未満をいう。"]
[null,"　　　　         「業務内容」欄：職員が従事した業務について、その内容を簡潔に記入すること。"]
[null,"　　　         　「従事時間」欄：左欄に手当の支給対象となる業務の終始の時刻を、右欄には時間を記入すること。"]
[null,"　　　         　「備考」欄：この整理簿を補足する事項を記入すること。"]

{"sheet":"１２(副顧問) (2)","index":58,"n_rows":52,"n_cols":18,"rows_kept":52,"cut":false,"hidden":false,"merged":[[39,17,41,17],[41,5,42,9],[43,1,43,3],[39,11,42,11],[39,12,42,12],[39,13,42,13],[39,14,42,14],[39,15,42,15],[39,16,42,16],[39,1,42,1],[39,2,42,2],[39,3,42,3],[39,4,42,4],[39,5,40,9],[39,10,42,10],[35,13,38,13],[35,14,38,14],[35,15,38,15],[35,16,38,16],[35,17,37,17],[37,5,38,9],[31,17,33,17],[33,5,34,9],[35,1,38,1],[35,2,38,2],[35,3,38,3],[35,4,38,4],[35,5,36,9],[35,10,38,10],[35,11,38,11],[35,12,38,12],[31,11,34,11],[31,12,34,12],[31,13,34,13],[31,14,34,14],[31,15,34,15],[31,16,34,16],[31,1,34,1],[31,2,34,2],[31,3,34,3],[31,4,34,4],[31,5,32,9],[31,10,34,10],[27,13,30,13],[27,14,30,14],[27,15,30,15],[27,16,30,16],[27,17,29,17],[29,5,30,9],[23,17,25,17],[25,5,26,9],[27,1,30,1],[27,2,30,2],[27,3,30,3],[27,4,30,4],[27,5,28,9],[27,10,30,10],[27,11,30,11],[27,12,30,12],[23,11,26,11],[23,12,26,12],[23,13,26,13],[23,14,26,14],[23,15,26,15],[23,16,26,16],[23,1,26,1],[23,2,26,2],[23,3,26,3],[23,4,26,4],[23,5,24,9],[23,10,26,10],[19,13,22,13],[19,14,22,14],[19,15,22,15],[19,16,22,16],[19,17,21,17],[21,5,22,9],[15,17,17,17],[17,5,18,9],[19,1,22,1],[19,2,22,2],[19,3,22,3],[19,4,22,4],[19,5,20,9],[19,10,22,10],[19,11,22,11],[19,12,22,12],[15,11,18,11],[15,12,18,12],[15,13,18,13],[15,14,18,14],[15,15,18,15],[15,16,18,16],[15,1,18,1],[15,2,18,2],[15,3,18,3],[15,4,18,4],[15,5,16,9],[15,10,18,10],[11,13,14,13],[11,14,14,14],[11,15,14,15],[11,16,14,16],[11,17,13,17],[13,5,14,9],[11,1,14,1],[11,2,14,2],[11,3,14,3],[11,4,14,4],[11,5,12,9],[11,10,14,10],[11,11,14,11],[11,12,14,12],[7,11,10,11],[7,12,10,12],[7,1,10,1],[7,2,10,2],[7,3,10,3],[7,4,10,4],[7,5,8,9],[7,10,10,10],[4,1,4,2],[4,3,4,4],[4,6,4,8],[4,9,4,10],[4,14,4,17],[6,5,6,9],[6,10,6,13],[7,17,9,17],[9,5,10,9],[7,13,10,13],[7,14,10,14],[7,15,10,15],[7,16,10,16]]}
[]
[]
[null,null,null,"          　　　　　　","令和",{"$f":"'12計画'!AS1-2018","v":2},"年",{"$f":"'12計画'!A7","v":12},"月分","　 教  員  特  殊  業  務  整  理  簿",null,null,null,null,null,null,null,"様式3"]
[]
[null,"氏　名",null,{"$f":"IF('12実績'!AE10=\"\",\"\",'12実績'!AE10)","v":0},null,"職員\n番号",{"$f":"IF('４(副顧問) (2)'!G5=\"\",\"\",'４(副顧問) (2)'!G5)","v":""},null,null,null,null,null,null,null,{"$f":"'４(副顧問) (2)'!$O$5:$R$5","v":"0学校"}]
[]
[null,"日","曜","要　件","区　分","業　　務　　内　　容",null,null,null,null,"従　事　時　間",null,null,null,"従事場所","所属長\n確認印","従事者印","備　　考"]
[null,{"$f":"'１２'!B8:B11","v":""},{"$f":"IF(B8=\"\",\"\",TEXT(DATE(2018+$F$3,$H$3,B8),\"aaa\"))","v":""},"　　　","　　　",{"$f":"IF(IF(B8=\"\",\"\",VLOOKUP(B8,'12実績'!$A$16:$BK$46,63))=\"大会\",IF(B8=\"\",\"\",VLOOKUP(B8,'12実績'!$A$16:$AO$46,22,FALSE)),IF(B8=\"\",\"\",'12実績'!$AC$4)&IF(B8=\"\",\"\",VLOOKUP(B8,'12実績'!$A$16:$AO$46,22,FALSE)))","v":""},null,null,null,null,{"$f":"IF(IF(B8=\"\",\"\",VLOOKUP(B8,'12実績'!$A$16:$AO$46,5,FALSE))=0,IF(B8=\"\",\"\",VLOOKUP(B8,'12実績'!$A$16:$AO$46,12,FALSE)),IF(B8=\"\",\"\",VLOOKUP(B8,'12実績'!$A$16:$AO$46,5,FALSE)))","v":""},"～",{"$f":"IF(IF(B8=\"\",\"\",VLOOKUP(B8,'12実績'!$A$16:$AO$46,16,FALSE))=0,IF(B8=\"\",\"\",VLOOKUP(B8,'12実績'!$A$16:$AO$46,9,FALSE)),IF(B8=\"\",\"\",VLOOKUP(B8,'12実績'!$A$16:$AO$46,16,FALSE)))","v":""},{"$f":"IF(K8=\"\",\"\",M8-K8)","v":""},{"$f":"IF(B8=\"\",\"\",VLOOKUP(B8,'12実績'!$A$16:$AO$46,34,FALSE))","v":""}]
[]
[]
[null,null,null,null,null,null,null,null,null,null,null,null,null,null,null,null,null,"　　　"]
[null,{"$f":"'１２'!B12:B15","v":""},{"$f":"IF(B12=\"\",\"\",TEXT(DATE(2018+$F$3,$H$3,B12),\"aaa\"))","v":""},"　　　","　　　",{"$f":"IF(IF(B12=\"\",\"\",VLOOKUP(B12,'12実績'!$A$16:$BK$46,63))=\"大会\",IF(B12=\"\",\"\",VLOOKUP(B12,'12実績'!$A$16:$AO$46,22,FALSE)),IF(B12=\"\",\"\",'12実績'!$AC$4)&IF(B12=\"\",\"\",VLOOKUP(B12,'12実績'!$A$16:$AO$46,22,FALSE)))","v":""},null,null,null,null,{"$f":"IF(IF(B12=\"\",\"\",VLOOKUP(B12,'12実績'!$A$16:$AO$46,5,FALSE))=0,IF(B12=\"\",\"\",VLOOKUP(B12,'12実績'!$A$16:$AO$46,12,FALSE)),IF(B12=\"\",\"\",VLOOKUP(B12,'12実績'!$A$16:$AO$46,5,FALSE)))","v":""},"～",{"$f":"IF(IF(B12=\"\",\"\",VLOOKUP(B12,'12実績'!$A$16:$AO$46,16,FALSE))=0,IF(B12=\"\",\"\",VLOOKUP(B12,'12実績'!$A$16:$AO$46,9,FALSE)),IF(B12=\"\",\"\",VLOOKUP(B12,'12実績'!$A$16:$AO$46,16,FALSE)))","v":""},{"$f":"IF(K12=\"\",\"\",M12-K12)","v":""},{"$f":"IF(B12=\"\",\"\",VLOOKUP(B12,'12実績'!$A$16:$AO$46,34,FALSE))","v":""}]
[]
[]
[null,null,null,null,null,null,null,null,null,null,null,null,null,null,null,null,null,"　　　"]
[null,{"$f":"'１２'!B16:B19","v":""},{"$f":"IF(B16=\"\",\"\",TEXT(DATE(2018+$F$3,$H$3,B16),\"aaa\"))","v":""},"　　　","　　　",{"$f":"IF(IF(B16=\"\",\"\",VLOOKUP(B16,'12実績'!$A$16:$BK$46,63))=\"大会\",IF(B16=\"\",\"\",VLOOKUP(B16,'12実績'!$A$16:$AO$46,22,FALSE)),IF(B16=\"\",\"\",'12実績'!$AC$4)&IF(B16=\"\",\"\",VLOOKUP(B16,'12実績'!$A$16:$AO$46,22,FALSE)))","v":""},null,null,null,null,{"$f":"IF(IF(B16=\"\",\"\",VLOOKUP(B16,'12実績'!$A$16:$AO$46,5,FALSE))=0,IF(B16=\"\",\"\",VLOOKUP(B16,'12実績'!$A$16:$AO$46,12,FALSE)),IF(B16=\"\",\"\",VLOOKUP(B16,'12実績'!$A$16:$AO$46,5,FALSE)))","v":""},"～",{"$f":"IF(IF(B16=\"\",\"\",VLOOKUP(B16,'12実績'!$A$16:$AO$46,16,FALSE))=0,IF(B16=\"\",\"\",VLOOKUP(B16,'12実績'!$A$16:$AO$46,9,FALSE)),IF(B16=\"\",\"\",VLOOKUP(B16,'12実績'!$A$16:$AO$46,16,FALSE)))","v":""},{"$f":"IF(K16=\"\",\"\",M16-K16)","v":""},{"$f":"IF(B16=\"\",\"\",VLOOKUP(B16,'12実績'!$A$16:$AO$46,34,FALSE))","v":""}]
[]
[]
[null,null,null,null,null,null,null,null,null,null,null,null,null,null,null,null,null,"　　　"]
[null,{"$f":"'１２'!B20:B23","v":""},{"$f":"IF(B20=\"\",\"\",TEXT(DATE(2018+$F$3,$H$3,B20),\"aaa\"))","v":""},"　　　","　　　",{"$f":"IF(IF(B20=\"\",\"\",VLOOKUP(B20,'12実績'!$A$16:$BK$46,63))=\"大会\",IF(B20=\"\",\"\",VLOOKUP(B20,'12実績'!$A$16:$AO$46,22,FALSE)),IF(B20=\"\",\"\",'12実績'!$AC$4)&IF(B20=\"\",\"\",VLOOKUP(B20,'12実績'!$A$16:$AO$46,22,FALSE)))","v":""},null,null,null,null,{"$f":"IF(IF(B20=\"\",\"\",VLOOKUP(B20,'12実績'!$A$16:$AO$46,5,FALSE))=0,IF(B20=\"\",\"\",VLOOKUP(B20,'12実績'!$A$16:$AO$46,12,FALSE)),IF(B20=\"\",\"\",VLOOKUP(B20,'12実績'!$A$16:$AO$46,5,FALSE)))","v":""},"～",{"$f":"IF(IF(B20=\"\",\"\",VLOOKUP(B20,'12実績'!$A$16:$AO$46,16,FALSE))=0,IF(B20=\"\",\"\",VLOOKUP(B20,'12実績'!$A$16:$AO$46,9,FALSE)),IF(B20=\"\",\"\",VLOOKUP(B20,'12実績'!$A$16:$AO$46,16,FALSE)))","v":""},{"$f":"IF(K20=\"\",\"\",M20-K20)","v":""},{"$f":"IF(B20=\"\",\"\",VLOOKUP(B20,'12実績'!$A$16:$AO$46,34,FALSE))","v":""}]
[]
[]
[null,null,null,null,null,null,null,null,null,null,null,null,null,null,null,null,null,"　　　"]
[null,{"$f":"'１２'!B24:B27","v":""},{"$f":"IF(B24=\"\",\"\",TEXT(DATE(2018+$F$3,$H$3,B24),\"aaa\"))","v":""},"　　　","　　　",{"$f":"IF(IF(B24=\"\",\"\",VLOOKUP(B24,'12実績'!$A$16:$BK$46,63))=\"大会\",IF(B24=\"\",\"\",VLOOKUP(B24,'12実績'!$A$16:$AO$46,22,FALSE)),IF(B24=\"\",\"\",'12実績'!$AC$4)&IF(B24=\"\",\"\",VLOOKUP(B24,'12実績'!$A$16:$AO$46,22,FALSE)))","v":""},null,null,null,null,{"$f":"IF(IF(B24=\"\",\"\",VLOOKUP(B24,'12実績'!$A$16:$AO$46,5,FALSE))=0,IF(B24=\"\",\"\",VLOOKUP(B24,'12実績'!$A$16:$AO$46,12,FALSE)),IF(B24=\"\",\"\",VLOOKUP(B24,'12実績'!$A$16:$AO$46,5,FALSE)))","v":""},"～",{"$f":"IF(IF(B24=\"\",\"\",VLOOKUP(B24,'12実績'!$A$16:$AO$46,16,FALSE))=0,IF(B24=\"\",\"\",VLOOKUP(B24,'12実績'!$A$16:$AO$46,9,FALSE)),IF(B24=\"\",\"\",VLOOKUP(B24,'12実績'!$A$16:$AO$46,16,FALSE)))","v":""},{"$f":"IF(K24=\"\",\"\",M24-K24)","v":""},{"$f":"IF(B24=\"\",\"\",VLOOKUP(B24,'12実績'!$A$16:$AO$46,34,FALSE))","v":""}]
[]
[]
[null,null,null,null,null,null,null,null,null,null,null,null,null,null,null,null,null,"　　　"]
[null,{"$f":"'１２'!B28:B31","v":""},{"$f":"IF(B28=\"\",\"\",TEXT(DATE(2018+$F$3,$H$3,B28),\"aaa\"))","v":""},"　　　","　　　",{"$f":"IF(IF(B28=\"\",\"\",VLOOKUP(B28,'12実績'!$A$16:$BK$46,63))=\"大会\",IF(B28=\"\",\"\",VLOOKUP(B28,'12実績'!$A$16:$AO$46,22,FALSE)),IF(B28=\"\",\"\",'12実績'!$AC$4)&IF(B28=\"\",\"\",VLOOKUP(B28,'12実績'!$A$16:$AO$46,22,FALSE)))","v":""},null,null,null,null,{"$f":"IF(IF(B28=\"\",\"\",VLOOKUP(B28,'12実績'!$A$16:$AO$46,5,FALSE))=0,IF(B28=\"\",\"\",VLOOKUP(B28,'12実績'!$A$16:$AO$46,12,FALSE)),IF(B28=\"\",\"\",VLOOKUP(B28,'12実績'!$A$16:$AO$46,5,FALSE)))","v":""},"～",{"$f":"IF(IF(B28=\"\",\"\",VLOOKUP(B28,'12実績'!$A$16:$AO$46,16,FALSE))=0,IF(B28=\"\",\"\",VLOOKUP(B28,'12実績'!$A$16:$AO$46,9,FALSE)),IF(B28=\"\",\"\",VLOOKUP(B28,'12実績'!$A$16:$AO$46,16,FALSE)))","v":""},{"$f":"IF(K28=\"\",\"\",M28-K28)","v":""},{"$f":"IF(B28=\"\",\"\",VLOOKUP(B28,'12実績'!$A$16:$AO$46,34,FALSE))","v":""}]
[]
[]
[null,null,null,null,null,null,null,null,null,null,null,null,null,null,null,null,null,"　　　"]
[null,{"$f":"'１２'!B32:B35","v":""},{"$f":"IF(B32=\"\",\"\",TEXT(DATE(2018+$F$3,$H$3,B32),\"aaa\"))","v":""},"　　　","　　　",{"$f":"IF(IF(B32=\"\",\"\",VLOOKUP(B32,'12実績'!$A$16:$BK$46,63))=\"大会\",IF(B32=\"\",\"\",VLOOKUP(B32,'12実績'!$A$16:$AO$46,22,FALSE)),IF(B32=\"\",\"\",'12実績'!$AC$4)&IF(B32=\"\",\"\",VLOOKUP(B32,'12実績'!$A$16:$AO$46,22,FALSE)))","v":""},null,null,null,null,{"$f":"IF(IF(B32=\"\",\"\",VLOOKUP(B32,'12実績'!$A$16:$AO$46,5,FALSE))=0,IF(B32=\"\",\"\",VLOOKUP(B32,'12実績'!$A$16:$AO$46,12,FALSE)),IF(B32=\"\",\"\",VLOOKUP(B32,'12実績'!$A$16:$AO$46,5,FALSE)))","v":""},"～",{"$f":"IF(IF(B32=\"\",\"\",VLOOKUP(B32,'12実績'!$A$16:$AO$46,16,FALSE))=0,IF(B32=\"\",\"\",VLOOKUP(B32,'12実績'!$A$16:$AO$46,9,FALSE)),IF(B32=\"\",\"\",VLOOKUP(B32,'12実績'!$A$16:$AO$46,16,FALSE)))","v":""},{"$f":"IF(K32=\"\",\"\",M32-K32)","v":""},{"$f":"IF(B32=\"\",\"\",VLOOKUP(B32,'12実績'!$A$16:$AO$46,34,FALSE))","v":""}]
[]
[]
[null,null,null,null,null,null,null,null,null,null,null,null,null,null,null,null,null,"　　　"]
[null,{"$f":"'１２'!B36:B39","v":""},{"$f":"IF(B36=\"\",\"\",TEXT(DATE(2018+$F$3,$H$3,B36),\"aaa\"))","v":""},"　　　","　　　",{"$f":"IF(IF(B36=\"\",\"\",VLOOKUP(B36,'12実績'!$A$16:$BK$46,63))=\"大会\",IF(B36=\"\",\"\",VLOOKUP(B36,'12実績'!$A$16:$AO$46,22,FALSE)),IF(B36=\"\",\"\",'12実績'!$AC$4)&IF(B36=\"\",\"\",VLOOKUP(B36,'12実績'!$A$16:$AO$46,22,FALSE)))","v":""},null,null,null,null,{"$f":"IF(IF(B36=\"\",\"\",VLOOKUP(B36,'12実績'!$A$16:$AO$46,5,FALSE))=0,IF(B36=\"\",\"\",VLOOKUP(B36,'12実績'!$A$16:$AO$46,12,FALSE)),IF(B36=\"\",\"\",VLOOKUP(B36,'12実績'!$A$16:$AO$46,5,FALSE)))","v":""},"～",{"$f":"IF(IF(B36=\"\",\"\",VLOOKUP(B36,'12実績'!$A$16:$AO$46,16,FALSE))=0,IF(B36=\"\",\"\",VLOOKUP(B36,'12実績'!$A$16:$AO$46,9,FALSE)),IF(B36=\"\",\"\",VLOOKUP(B36,'12実績'!$A$16:$AO$46,16,FALSE)))","v":""},{"$f":"IF(K36=\"\",\"\",M36-K36)","v":""},{"$f":"IF(B36=\"\",\"\",VLOOKUP(B36,'12実績'!$A$16:$AO$46,34,FALSE))","v":""}]
[]
[]
[null,null,null,null,null,null,null,null,null,null,null,null,null,null,null,null,null,"　　　"]
[null,{"$f":"'１２'!B40:B43","v":""},{"$f":"IF(B40=\"\",\"\",TEXT(DATE(2018+$F$3,$H$3,B40),\"aaa\"))","v":""},"　　　","　　　",{"$f":"IF(IF(B40=\"\",\"\",VLOOKUP(B40,'12実績'!$A$16:$BK$46,63))=\"大会\",IF(B40=\"\",\"\",VLOOKUP(B40,'12実績'!$A$16:$AO$46,22,FALSE)),IF(B40=\"\",\"\",'12実績'!$AC$4)&IF(B40=\"\",\"\",VLOOKUP(B40,'12実績'!$A$16:$AO$46,22,FALSE)))","v":""},null,null,null,null,{"$f":"IF(IF(B40=\"\",\"\",VLOOKUP(B40,'12実績'!$A$16:$AO$46,5,FALSE))=0,IF(B40=\"\",\"\",VLOOKUP(B40,'12実績'!$A$16:$AO$46,12,FALSE)),IF(B40=\"\",\"\",VLOOKUP(B40,'12実績'!$A$16:$AO$46,5,FALSE)))","v":""},"～",{"$f":"IF(IF(B40=\"\",\"\",VLOOKUP(B40,'12実績'!$A$16:$AO$46,16,FALSE))=0,IF(B40=\"\",\"\",VLOOKUP(B40,'12実績'!$A$16:$AO$46,9,FALSE)),IF(B40=\"\",\"\",VLOOKUP(B40,'12実績'!$A$16:$AO$46,16,FALSE)))","v":""},{"$f":"IF(K40=\"\",\"\",M40-K40)","v":""},{"$f":"IF(B40=\"\",\"\",VLOOKUP(B40,'12実績'!$A$16:$AO$46,34,FALSE))","v":""}]
[]
[]
[null,null,null,null,null,null,null,null,null,null,null,null,null,null,null,null,null,"　　　"]
[null,"( 記入要領等 )"]
[null,"　         　１　この整理簿は、教員特殊業務手当及び面接指導手当の支給対象となるものについて、当該手当の支給に必要な事の整理をするものであること。"]
[null,"　　         ２　記入にあたっては、次のように記入すること。"]
[null,"　　　         　「要件」欄：週休日等　　　半日振替日　　　　その他"]
[null,"　　　　         「区分」欄：非常災害　　救急業務　　補導業務　　修学旅行等　　対外運動等　　入学試験業務　　　部活動４　　　　部活動３　　　部活動２　　　面接指導　　　　　"]
[null,"　　　　　　　　　　         ※部活動４は4時間以上、部活動３は３時間以上４時間未満、部活動２は2時間以上３時間未満をいう。"]
[null,"　　　　         「業務内容」欄：職員が従事した業務について、その内容を簡潔に記入すること。"]
[null,"　　　         　「従事時間」欄：左欄に手当の支給対象となる業務の終始の時刻を、右欄には時間を記入すること。"]
[null,"　　　         　「備考」欄：この整理簿を補足する事項を記入すること。"]

{"sheet":"１(副顧問) (2)","index":59,"n_rows":52,"n_cols":18,"rows_kept":52,"cut":false,"hidden":false,"merged":[[39,17,41,17],[41,5,42,9],[43,1,43,3],[39,11,42,11],[39,12,42,12],[39,13,42,13],[39,14,42,14],[39,15,42,15],[39,16,42,16],[39,1,42,1],[39,2,42,2],[39,3,42,3],[39,4,42,4],[39,5,40,9],[39,10,42,10],[35,13,38,13],[35,14,38,14],[35,15,38,15],[35,16,38,16],[35,17,37,17],[37,5,38,9],[31,17,33,17],[33,5,34,9],[35,1,38,1],[35,2,38,2],[35,3,38,3],[35,4,38,4],[35,5,36,9],[35,10,38,10],[35,11,38,11],[35,12,38,12],[31,11,34,11],[31,12,34,12],[31,13,34,13],[31,14,34,14],[31,15,34,15],[31,16,34,16],[31,1,34,1],[31,2,34,2],[31,3,34,3],[31,4,34,4],[31,5,32,9],[31,10,34,10],[27,13,30,13],[27,14,30,14],[27,15,30,15],[27,16,30,16],[27,17,29,17],[29,5,30,9],[23,17,25,17],[25,5,26,9],[27,1,30,1],[27,2,30,2],[27,3,30,3],[27,4,30,4],[27,5,28,9],[27,10,30,10],[27,11,30,11],[27,12,30,12],[23,11,26,11],[23,12,26,12],[23,13,26,13],[23,14,26,14],[23,15,26,15],[23,16,26,16],[23,1,26,1],[23,2,26,2],[23,3,26,3],[23,4,26,4],[23,5,24,9],[23,10,26,10],[19,13,22,13],[19,14,22,14],[19,15,22,15],[19,16,22,16],[19,17,21,17],[21,5,22,9],[15,17,17,17],[17,5,18,9],[19,1,22,1],[19,2,22,2],[19,3,22,3],[19,4,22,4],[19,5,20,9],[19,10,22,10],[19,11,22,11],[19,12,22,12],[15,11,18,11],[15,12,18,12],[15,13,18,13],[15,14,18,14],[15,15,18,15],[15,16,18,16],[15,1,18,1],[15,2,18,2],[15,3,18,3],[15,4,18,4],[15,5,16,9],[15,10,18,10],[11,13,14,13],[11,14,14,14],[11,15,14,15],[11,16,14,16],[11,17,13,17],[13,5,14,9],[11,1,14,1],[11,2,14,2],[11,3,14,3],[11,4,14,4],[11,5,12,9],[11,10,14,10],[11,11,14,11],[11,12,14,12],[7,11,10,11],[7,12,10,12],[7,1,10,1],[7,2,10,2],[7,3,10,3],[7,4,10,4],[7,5,8,9],[7,10,10,10],[4,1,4,2],[4,3,4,4],[4,6,4,8],[4,9,4,10],[4,14,4,17],[6,5,6,9],[6,10,6,13],[7,17,9,17],[9,5,10,9],[7,13,10,13],[7,14,10,14],[7,15,10,15],[7,16,10,16]]}
[]
[]
[null,null,null,"          　　　　　　","令和",{"$f":"'1計画'!AS1-2018","v":3},"年",{"$f":"'1計画'!A7","v":1},"月分","　 教  員  特  殊  業  務  整  理  簿",null,null,null,null,null,null,null,"様式3"]
[]
[null,"氏　名",null,{"$f":"IF('1実績'!AE10=\"\",\"\",'1実績'!AE10)","v":0},null,"職員\n番号",{"$f":"IF('４(副顧問) (2)'!G5=\"\",\"\",'４(副顧問) (2)'!G5)","v":""},null,null,null,null,null,null,null,{"$f":"'４(副顧問) (2)'!$O$5:$R$5","v":"0学校"}]
[]
[null,"日","曜","要　件","区　分","業　　務　　内　　容",null,null,null,null,"従　事　時　間",null,null,null,"従事場所","所属長\n確認印","従事者印","備　　考"]
[null,{"$f":"'１'!B8:B11","v":""},{"$f":"IF(B8=\"\",\"\",TEXT(DATE(2018+$F$3,$H$3,B8),\"aaa\"))","v":""},"　　　","　　　",{"$f":"IF(IF(B8=\"\",\"\",VLOOKUP(B8,'1実績'!$A$16:$BK$46,63))=\"大会\",IF(B8=\"\",\"\",VLOOKUP(B8,'1実績'!$A$16:$AO$46,22,FALSE)),IF(B8=\"\",\"\",'1実績'!$AC$4)&IF(B8=\"\",\"\",VLOOKUP(B8,'1実績'!$A$16:$AO$46,22,FALSE)))","v":""},null,null,null,null,{"$f":"IF(IF(B8=\"\",\"\",VLOOKUP(B8,'1実績'!$A$16:$AO$46,5,FALSE))=0,IF(B8=\"\",\"\",VLOOKUP(B8,'1実績'!$A$16:$AO$46,12,FALSE)),IF(B8=\"\",\"\",VLOOKUP(B8,'1実績'!$A$16:$AO$46,5,FALSE)))","v":""},"～",{"$f":"IF(IF(B8=\"\",\"\",VLOOKUP(B8,'1実績'!$A$16:$AO$46,16,FALSE))=0,IF(B8=\"\",\"\",VLOOKUP(B8,'1実績'!$A$16:$AO$46,9,FALSE)),IF(B8=\"\",\"\",VLOOKUP(B8,'1実績'!$A$16:$AO$46,16,FALSE)))","v":""},{"$f":"IF(K8=\"\",\"\",M8-K8)","v":""},{"$f":"IF(B8=\"\",\"\",VLOOKUP(B8,'1実績'!$A$16:$AO$46,34,FALSE))","v":""}]
[]
[]
[null,null,null,null,null,null,null,null,null,null,null,null,null,null,null,null,null,"　　　"]
[null,{"$f":"'１'!B12:B15","v":""},{"$f":"IF(B12=\"\",\"\",TEXT(DATE(2018+$F$3,$H$3,B12),\"aaa\"))","v":""},"　　　","　　　",{"$f":"IF(IF(B12=\"\",\"\",VLOOKUP(B12,'1実績'!$A$16:$BK$46,63))=\"大会\",IF(B12=\"\",\"\",VLOOKUP(B12,'1実績'!$A$16:$AO$46,22,FALSE)),IF(B12=\"\",\"\",'1実績'!$AC$4)&IF(B12=\"\",\"\",VLOOKUP(B12,'1実績'!$A$16:$AO$46,22,FALSE)))","v":""},null,null,null,null,{"$f":"IF(IF(B12=\"\",\"\",VLOOKUP(B12,'1実績'!$A$16:$AO$46,5,FALSE))=0,IF(B12=\"\",\"\",VLOOKUP(B12,'1実績'!$A$16:$AO$46,12,FALSE)),IF(B12=\"\",\"\",VLOOKUP(B12,'1実績'!$A$16:$AO$46,5,FALSE)))","v":""},"～",{"$f":"IF(IF(B12=\"\",\"\",VLOOKUP(B12,'1実績'!$A$16:$AO$46,16,FALSE))=0,IF(B12=\"\",\"\",VLOOKUP(B12,'1実績'!$A$16:$AO$46,9,FALSE)),IF(B12=\"\",\"\",VLOOKUP(B12,'1実績'!$A$16:$AO$46,16,FALSE)))","v":""},{"$f":"IF(K12=\"\",\"\",M12-K12)","v":""},{"$f":"IF(B12=\"\",\"\",VLOOKUP(B12,'1実績'!$A$16:$AO$46,34,FALSE))","v":""}]
[]
[]
[null,null,null,null,null,null,null,null,null,null,null,null,null,null,null,null,null,"　　　"]
[null,{"$f":"'１'!B16:B19","v":""},{"$f":"IF(B16=\"\",\"\",TEXT(DATE(2018+$F$3,$H$3,B16),\"aaa\"))","v":""},"　　　","　　　",{"$f":"IF(IF(B16=\"\",\"\",VLOOKUP(B16,'1実績'!$A$16:$BK$46,63))=\"大会\",IF(B16=\"\",\"\",VLOOKUP(B16,'1実績'!$A$16:$AO$46,22,FALSE)),IF(B16=\"\",\"\",'1実績'!$AC$4)&IF(B16=\"\",\"\",VLOOKUP(B16,'1実績'!$A$16:$AO$46,22,FALSE)))","v":""},null,null,null,null,{"$f":"IF(IF(B16=\"\",\"\",VLOOKUP(B16,'1実績'!$A$16:$AO$46,5,FALSE))=0,IF(B16=\"\",\"\",VLOOKUP(B16,'1実績'!$A$16:$AO$46,12,FALSE)),IF(B16=\"\",\"\",VLOOKUP(B16,'1実績'!$A$16:$AO$46,5,FALSE)))","v":""},"～",{"$f":"IF(IF(B16=\"\",\"\",VLOOKUP(B16,'1実績'!$A$16:$AO$46,16,FALSE))=0,IF(B16=\"\",\"\",VLOOKUP(B16,'1実績'!$A$16:$AO$46,9,FALSE)),IF(B16=\"\",\"\",VLOOKUP(B16,'1実績'!$A$16:$AO$46,16,FALSE)))","v":""},{"$f":"IF(K16=\"\",\"\",M16-K16)","v":""},{"$f":"IF(B16=\"\",\"\",VLOOKUP(B16,'1実績'!$A$16:$AO$46,34,FALSE))","v":""}]
[]
[]
[null,null,null,null,null,null,null,null,null,null,null,null,null,null,null,null,null,"　　　"]
[null,{"$f":"'１'!B20:B23","v":""},{"$f":"IF(B20=\"\",\"\",TEXT(DATE(2018+$F$3,$H$3,B20),\"aaa\"))","v":""},"　　　","　　　",{"$f":"IF(IF(B20=\"\",\"\",VLOOKUP(B20,'1実績'!$A$16:$BK$46,63))=\"大会\",IF(B20=\"\",\"\",VLOOKUP(B20,'1実績'!$A$16:$AO$46,22,FALSE)),IF(B20=\"\",\"\",'1実績'!$AC$4)&IF(B20=\"\",\"\",VLOOKUP(B20,'1実績'!$A$16:$AO$46,22,FALSE)))","v":""},null,null,null,null,{"$f":"IF(IF(B20=\"\",\"\",VLOOKUP(B20,'1実績'!$A$16:$AO$46,5,FALSE))=0,IF(B20=\"\",\"\",VLOOKUP(B20,'1実績'!$A$16:$AO$46,12,FALSE)),IF(B20=\"\",\"\",VLOOKUP(B20,'1実績'!$A$16:$AO$46,5,FALSE)))","v":""},"～",{"$f":"IF(IF(B20=\"\",\"\",VLOOKUP(B20,'1実績'!$A$16:$AO$46,16,FALSE))=0,IF(B20=\"\",\"\",VLOOKUP(B20,'1実績'!$A$16:$AO$46,9,FALSE)),IF(B20=\"\",\"\",VLOOKUP(B20,'1実績'!$A$16:$AO$46,16,FALSE)))","v":""},{"$f":"IF(K20=\"\",\"\",M20-K20)","v":""},{"$f":"IF(B20=\"\",\"\",VLOOKUP(B20,'1実績'!$A$16:$AO$46,34,FALSE))","v":""}]
[]
[]
[null,null,null,null,null,null,null,null,null,null,null,null,null,null,null,null,null,"　　　"]
[null,{"$f":"'１'!B24:B27","v":""},{"$f":"IF(B24=\"\",\"\",TEXT(DATE(2018+$F$3,$H$3,B24),\"aaa\"))","v":""},"　　　","　　　",{"$f":"IF(IF(B24=\"\",\"\",VLOOKUP(B24,'1実績'!$A$16:$BK$46,63))=\"大会\",IF(B24=\"\",\"\",VLOOKUP(B24,'1実績'!$A$16:$AO$46,22,FALSE)),IF(B24=\"\",\"\",'1実績'!$AC$4)&IF(B24=\"\",\"\",VLOOKUP(B24,'1実績'!$A$16:$AO$46,22,FALSE)))","v":""},null,null,null,null,{"$f":"IF(IF(B24=\"\",\"\",VLOOKUP(B24,'1実績'!$A$16:$AO$46,5,FALSE))=0,IF(B24=\"\",\"\",VLOOKUP(B24,'1実績'!$A$16:$AO$46,12,FALSE)),IF(B24=\"\",\"\",VLOOKUP(B24,'1実績'!$A$16:$AO$46,5,FALSE)))","v":""},"～",{"$f":"IF(IF(B24=\"\",\"\",VLOOKUP(B24,'1実績'!$A$16:$AO$46,16,FALSE))=0,IF(B24=\"\",\"\",VLOOKUP(B24,'1実績'!$A$16:$AO$46,9,FALSE)),IF(B24=\"\",\"\",VLOOKUP(B24,'1実績'!$A$16:$AO$46,16,FALSE)))","v":""},{"$f":"IF(K24=\"\",\"\",M24-K24)","v":""},{"$f":"IF(B24=\"\",\"\",VLOOKUP(B24,'1実績'!$A$16:$AO$46,34,FALSE))","v":""}]
[]
[]
[null,null,null,null,null,null,null,null,null,null,null,null,null,null,null,null,null,"　　　"]
[null,{"$f":"'１'!B28:B31","v":""},{"$f":"IF(B28=\"\",\"\",TEXT(DATE(2018+$F$3,$H$3,B28),\"aaa\"))","v":""},"　　　","　　　",{"$f":"IF(IF(B28=\"\",\"\",VLOOKUP(B28,'1実績'!$A$16:$BK$46,63))=\"大会\",IF(B28=\"\",\"\",VLOOKUP(B28,'1実績'!$A$16:$AO$46,22,FALSE)),IF(B28=\"\",\"\",'1実績'!$AC$4)&IF(B28=\"\",\"\",VLOOKUP(B28,'1実績'!$A$16:$AO$46,22,FALSE)))","v":""},null,null,null,null,{"$f":"IF(IF(B28=\"\",\"\",VLOOKUP(B28,'1実績'!$A$16:$AO$46,5,FALSE))=0,IF(B28=\"\",\"\",VLOOKUP(B28,'1実績'!$A$16:$AO$46,12,FALSE)),IF(B28=\"\",\"\",VLOOKUP(B28,'1実績'!$A$16:$AO$46,5,FALSE)))","v":""},"～",{"$f":"IF(IF(B28=\"\",\"\",VLOOKUP(B28,'1実績'!$A$16:$AO$46,16,FALSE))=0,IF(B28=\"\",\"\",VLOOKUP(B28,'1実績'!$A$16:$AO$46,9,FALSE)),IF(B28=\"\",\"\",VLOOKUP(B28,'1実績'!$A$16:$AO$46,16,FALSE)))","v":""},{"$f":"IF(K28=\"\",\"\",M28-K28)","v":""},{"$f":"IF(B28=\"\",\"\",VLOOKUP(B28,'1実績'!$A$16:$AO$46,34,FALSE))","v":""}]
[]
[]
[null,null,null,null,null,null,null,null,null,null,null,null,null,null,null,null,null,"　　　"]
[null,{"$f":"'１'!B32:B35","v":""},{"$f":"IF(B32=\"\",\"\",TEXT(DATE(2018+$F$3,$H$3,B32),\"aaa\"))","v":""},"　　　","　　　",{"$f":"IF(IF(B32=\"\",\"\",VLOOKUP(B32,'1実績'!$A$16:$BK$46,63))=\"大会\",IF(B32=\"\",\"\",VLOOKUP(B32,'1実績'!$A$16:$AO$46,22,FALSE)),IF(B32=\"\",\"\",'1実績'!$AC$4)&IF(B32=\"\",\"\",VLOOKUP(B32,'1実績'!$A$16:$AO$46,22,FALSE)))","v":""},null,null,null,null,{"$f":"IF(IF(B32=\"\",\"\",VLOOKUP(B32,'1実績'!$A$16:$AO$46,5,FALSE))=0,IF(B32=\"\",\"\",VLOOKUP(B32,'1実績'!$A$16:$AO$46,12,FALSE)),IF(B32=\"\",\"\",VLOOKUP(B32,'1実績'!$A$16:$AO$46,5,FALSE)))","v":""},"～",{"$f":"IF(IF(B32=\"\",\"\",VLOOKUP(B32,'1実績'!$A$16:$AO$46,16,FALSE))=0,IF(B32=\"\",\"\",VLOOKUP(B32,'1実績'!$A$16:$AO$46,9,FALSE)),IF(B32=\"\",\"\",VLOOKUP(B32,'1実績'!$A$16:$AO$46,16,FALSE)))","v":""},{"$f":"IF(K32=\"\",\"\",M32-K32)","v":""},{"$f":"IF(B32=\"\",\"\",VLOOKUP(B32,'1実績'!$A$16:$AO$46,34,FALSE))","v":""}]
[]
[]
[null,null,null,null,null,null,null,null,null,null,null,null,null,null,null,null,null,"　　　"]
[null,{"$f":"'１'!B36:B39","v":""},{"$f":"IF(B36=\"\",\"\",TEXT(DATE(2018+$F$3,$H$3,B36),\"aaa\"))","v":""},"　　　","　　　",{"$f":"IF(IF(B36=\"\",\"\",VLOOKUP(B36,'1実績'!$A$16:$BK$46,63))=\"大会\",IF(B36=\"\",\"\",VLOOKUP(B36,'1実績'!$A$16:$AO$46,22,FALSE)),IF(B36=\"\",\"\",'1実績'!$AC$4)&IF(B36=\"\",\"\",VLOOKUP(B36,'1実績'!$A$16:$AO$46,22,FALSE)))","v":""},null,null,null,null,{"$f":"IF(IF(B36=\"\",\"\",VLOOKUP(B36,'1実績'!$A$16:$AO$46,5,FALSE))=0,IF(B36=\"\",\"\",VLOOKUP(B36,'1実績'!$A$16:$AO$46,12,FALSE)),IF(B36=\"\",\"\",VLOOKUP(B36,'1実績'!$A$16:$AO$46,5,FALSE)))","v":""},"～",{"$f":"IF(IF(B36=\"\",\"\",VLOOKUP(B36,'1実績'!$A$16:$AO$46,16,FALSE))=0,IF(B36=\"\",\"\",VLOOKUP(B36,'1実績'!$A$16:$AO$46,9,FALSE)),IF(B36=\"\",\"\",VLOOKUP(B36,'1実績'!$A$16:$AO$46,16,FALSE)))","v":""},{"$f":"IF(K36=\"\",\"\",M36-K36)","v":""},{"$f":"IF(B36=\"\",\"\",VLOOKUP(B36,'1実績'!$A$16:$AO$46,34,FALSE))","v":""}]
[]
[]
[null,null,null,null,null,null,null,null,null,null,null,null,null,null,null,null,null,"　　　"]
[null,{"$f":"'１'!B40:B43","v":""},{"$f":"IF(B40=\"\",\"\",TEXT(DATE(2018+$F$3,$H$3,B40),\"aaa\"))","v":""},"　　　","　　　",{"$f":"IF(IF(B40=\"\",\"\",VLOOKUP(B40,'1実績'!$A$16:$BK$46,63))=\"大会\",IF(B40=\"\",\"\",VLOOKUP(B40,'1実績'!$A$16:$AO$46,22,FALSE)),IF(B40=\"\",\"\",'1実績'!$AC$4)&IF(B40=\"\",\"\",VLOOKUP(B40,'1実績'!$A$16:$AO$46,22,FALSE)))","v":""},null,null,null,null,{"$f":"IF(IF(B40=\"\",\"\",VLOOKUP(B40,'1実績'!$A$16:$AO$46,5,FALSE))=0,IF(B40=\"\",\"\",VLOOKUP(B40,'1実績'!$A$16:$AO$46,12,FALSE)),IF(B40=\"\",\"\",VLOOKUP(B40,'1実績'!$A$16:$AO$46,5,FALSE)))","v":""},"～",{"$f":"IF(IF(B40=\"\",\"\",VLOOKUP(B40,'1実績'!$A$16:$AO$46,16,FALSE))=0,IF(B40=\"\",\"\",VLOOKUP(B40,'1実績'!$A$16:$AO$46,9,FALSE)),IF(B40=\"\",\"\",VLOOKUP(B40,'1実績'!$A$16:$AO$46,16,FALSE)))","v":""},{"$f":"IF(K40=\"\",\"\",M40-K40)","v":""},{"$f":"IF(B40=\"\",\"\",VLOOKUP(B40,'1実績'!$A$16:$AO$46,34,FALSE))","v":""}]
[]
[]
[null,null,null,null,null,null,null,null,null,null,null,null,null,null,null,null,null,"　　　"]
[null,"( 記入要領等 )"]
[null,"　         　１　この整理簿は、教員特殊業務手当及び面接指導手当の支給対象となるものについて、当該手当の支給に必要な事の整理をするものであること。"]
[null,"　　         ２　記入にあたっては、次のように記入すること。"]
[null,"　　　         　「要件」欄：週休日等　　　半日振替日　　　　その他"]
[null,"　　　　         「区分」欄：非常災害　　救急業務　　補導業務　　修学旅行等　　対外運動等　　入学試験業務　　　部活動４　　　　部活動３　　　部活動２　　　面接指導　　　　　"]
[null,"　　　　　　　　　　         ※部活動４は4時間以上、部活動３は３時間以上４時間未満、部活動２は2時間以上３時間未満をいう。"]
[null,"　　　　         「業務内容」欄：職員が従事した業務について、その内容を簡潔に記入すること。"]
[null,"　　　         　「従事時間」欄：左欄に手当の支給対象となる業務の終始の時刻を、右欄には時間を記入すること。"]
[null,"　　　         　「備考」欄：この整理簿を補足する事項を記入すること。"]

{"sheet":"２(副顧問) (2)","index":60,"n_rows":52,"n_cols":18,"rows_kept":52,"cut":false,"hidden":false,"merged":[[39,17,41,17],[41,5,42,9],[43,1,43,3],[39,11,42,11],[39,12,42,12],[39,13,42,13],[39,14,42,14],[39,15,42,15],[39,16,42,16],[39,1,42,1],[39,2,42,2],[39,3,42,3],[39,4,42,4],[39,5,40,9],[39,10,42,10],[35,13,38,13],[35,14,38,14],[35,15,38,15],[35,16,38,16],[35,17,37,17],[37,5,38,9],[31,17,33,17],[33,5,34,9],[35,1,38,1],[35,2,38,2],[35,3,38,3],[35,4,38,4],[35,5,36,9],[35,10,38,10],[35,11,38,11],[35,12,38,12],[31,11,34,11],[31,12,34,12],[31,13,34,13],[31,14,34,14],[31,15,34,15],[31,16,34,16],[31,1,34,1],[31,2,34,2],[31,3,34,3],[31,4,34,4],[31,5,32,9],[31,10,34,10],[27,13,30,13],[27,14,30,14],[27,15,30,15],[27,16,30,16],[27,17,29,17],[29,5,30,9],[23,17,25,17],[25,5,26,9],[27,1,30,1],[27,2,30,2],[27,3,30,3],[27,4,30,4],[27,5,28,9],[27,10,30,10],[27,11,30,11],[27,12,30,12],[23,11,26,11],[23,12,26,12],[23,13,26,13],[23,14,26,14],[23,15,26,15],[23,16,26,16],[23,1,26,1],[23,2,26,2],[23,3,26,3],[23,4,26,4],[23,5,24,9],[23,10,26,10],[19,13,22,13],[19,14,22,14],[19,15,22,15],[19,16,22,16],[19,17,21,17],[21,5,22,9],[15,17,17,17],[17,5,18,9],[19,1,22,1],[19,2,22,2],[19,3,22,3],[19,4,22,4],[19,5,20,9],[19,10,22,10],[19,11,22,11],[19,12,22,12],[15,11,18,11],[15,12,18,12],[15,13,18,13],[15,14,18,14],[15,15,18,15],[15,16,18,16],[15,1,18,1],[15,2,18,2],[15,3,18,3],[15,4,18,4],[15,5,16,9],[15,10,18,10],[11,13,14,13],[11,14,14,14],[11,15,14,15],[11,16,14,16],[11,17,13,17],[13,5,14,9],[11,1,14,1],[11,2,14,2],[11,3,14,3],[11,4,14,4],[11,5,12,9],[11,10,14,10],[11,11,14,11],[11,12,14,12],[7,11,10,11],[7,12,10,12],[7,1,10,1],[7,2,10,2],[7,3,10,3],[7,4,10,4],[7,5,8,9],[7,10,10,10],[4,1,4,2],[4,3,4,4],[4,6,4,8],[4,9,4,10],[4,14,4,17],[6,5,6,9],[6,10,6,13],[7,17,9,17],[9,5,10,9],[7,13,10,13],[7,14,10,14],[7,15,10,15],[7,16,10,16]]}
[]
[]
[null,null,null,"          　　　　　　","令和",{"$f":"'2計画'!AS1-2018","v":3},"年",{"$f":"'2計画'!A7","v":2},"月分","　 教  員  特  殊  業  務  整  理  簿",null,null,null,null,null,null,null,"様式3"]
[]
[null,"氏　名",null,{"$f":"IF('2実績'!AE10=\"\",\"\",'2実績'!AE10)","v":0},null,"職員\n番号",{"$f":"IF('４(副顧問) (2)'!G5=\"\",\"\",'４(副顧問) (2)'!G5)","v":""},null,null,null,null,null,null,null,{"$f":"'４(副顧問) (2)'!$O$5:$R$5","v":"0学校"}]
[]
[null,"日","曜","要　件","区　分","業　　務　　内　　容",null,null,null,null,"従　事　時　間",null,null,null,"従事場所","所属長\n確認印","従事者印","備　　考"]
[null,{"$f":"'２'!B8:B11","v":""},{"$f":"IF(B8=\"\",\"\",TEXT(DATE(2018+$F$3,$H$3,B8),\"aaa\"))","v":""},"　　　","　　　",{"$f":"IF(IF(B8=\"\",\"\",VLOOKUP(B8,'2実績'!$A$16:$BK$46,63))=\"大会\",IF(B8=\"\",\"\",VLOOKUP(B8,'2実績'!$A$16:$AO$46,22,FALSE)),IF(B8=\"\",\"\",'2実績'!$AC$4)&IF(B8=\"\",\"\",VLOOKUP(B8,'2実績'!$A$16:$AO$46,22,FALSE)))","v":""},null,null,null,null,{"$f":"IF(IF(B8=\"\",\"\",VLOOKUP(B8,'2実績'!$A$16:$AO$46,5,FALSE))=0,IF(B8=\"\",\"\",VLOOKUP(B8,'2実績'!$A$16:$AO$46,12,FALSE)),IF(B8=\"\",\"\",VLOOKUP(B8,'2実績'!$A$16:$AO$46,5,FALSE)))","v":""},"～",{"$f":"IF(IF(B8=\"\",\"\",VLOOKUP(B8,'2実績'!$A$16:$AO$46,16,FALSE))=0,IF(B8=\"\",\"\",VLOOKUP(B8,'2実績'!$A$16:$AO$46,9,FALSE)),IF(B8=\"\",\"\",VLOOKUP(B8,'2実績'!$A$16:$AO$46,16,FALSE)))","v":""},{"$f":"IF(K8=\"\",\"\",M8-K8)","v":""},{"$f":"IF(B8=\"\",\"\",VLOOKUP(B8,'2実績'!$A$16:$AO$46,34,FALSE))","v":""}]
[]
[]
[null,null,null,null,null,null,null,null,null,null,null,null,null,null,null,null,null,"　　　"]
[null,{"$f":"'２'!B12:B15","v":""},{"$f":"IF(B12=\"\",\"\",TEXT(DATE(2018+$F$3,$H$3,B12),\"aaa\"))","v":""},"　　　","　　　",{"$f":"IF(IF(B12=\"\",\"\",VLOOKUP(B12,'2実績'!$A$16:$BK$46,63))=\"大会\",IF(B12=\"\",\"\",VLOOKUP(B12,'2実績'!$A$16:$AO$46,22,FALSE)),IF(B12=\"\",\"\",'2実績'!$AC$4)&IF(B12=\"\",\"\",VLOOKUP(B12,'2実績'!$A$16:$AO$46,22,FALSE)))","v":""},null,null,null,null,{"$f":"IF(IF(B12=\"\",\"\",VLOOKUP(B12,'2実績'!$A$16:$AO$46,5,FALSE))=0,IF(B12=\"\",\"\",VLOOKUP(B12,'2実績'!$A$16:$AO$46,12,FALSE)),IF(B12=\"\",\"\",VLOOKUP(B12,'2実績'!$A$16:$AO$46,5,FALSE)))","v":""},"～",{"$f":"IF(IF(B12=\"\",\"\",VLOOKUP(B12,'2実績'!$A$16:$AO$46,16,FALSE))=0,IF(B12=\"\",\"\",VLOOKUP(B12,'2実績'!$A$16:$AO$46,9,FALSE)),IF(B12=\"\",\"\",VLOOKUP(B12,'2実績'!$A$16:$AO$46,16,FALSE)))","v":""},{"$f":"IF(K12=\"\",\"\",M12-K12)","v":""},{"$f":"IF(B12=\"\",\"\",VLOOKUP(B12,'2実績'!$A$16:$AO$46,34,FALSE))","v":""}]
[]
[]
[null,null,null,null,null,null,null,null,null,null,null,null,null,null,null,null,null,"　　　"]
[null,{"$f":"'２'!B16:B19","v":""},{"$f":"IF(B16=\"\",\"\",TEXT(DATE(2018+$F$3,$H$3,B16),\"aaa\"))","v":""},"　　　","　　　",{"$f":"IF(IF(B16=\"\",\"\",VLOOKUP(B16,'2実績'!$A$16:$BK$46,63))=\"大会\",IF(B16=\"\",\"\",VLOOKUP(B16,'2実績'!$A$16:$AO$46,22,FALSE)),IF(B16=\"\",\"\",'2実績'!$AC$4)&IF(B16=\"\",\"\",VLOOKUP(B16,'2実績'!$A$16:$AO$46,22,FALSE)))","v":""},null,null,null,null,{"$f":"IF(IF(B16=\"\",\"\",VLOOKUP(B16,'2実績'!$A$16:$AO$46,5,FALSE))=0,IF(B16=\"\",\"\",VLOOKUP(B16,'2実績'!$A$16:$AO$46,12,FALSE)),IF(B16=\"\",\"\",VLOOKUP(B16,'2実績'!$A$16:$AO$46,5,FALSE)))","v":""},"～",{"$f":"IF(IF(B16=\"\",\"\",VLOOKUP(B16,'2実績'!$A$16:$AO$46,16,FALSE))=0,IF(B16=\"\",\"\",VLOOKUP(B16,'2実績'!$A$16:$AO$46,9,FALSE)),IF(B16=\"\",\"\",VLOOKUP(B16,'2実績'!$A$16:$AO$46,16,FALSE)))","v":""},{"$f":"IF(K16=\"\",\"\",M16-K16)","v":""},{"$f":"IF(B16=\"\",\"\",VLOOKUP(B16,'2実績'!$A$16:$AO$46,34,FALSE))","v":""}]
[]
[]
[null,null,null,null,null,null,null,null,null,null,null,null,null,null,null,null,null,"　　　"]
[null,{"$f":"'２'!B20:B23","v":""},{"$f":"IF(B20=\"\",\"\",TEXT(DATE(2018+$F$3,$H$3,B20),\"aaa\"))","v":""},"　　　","　　　",{"$f":"IF(IF(B20=\"\",\"\",VLOOKUP(B20,'2実績'!$A$16:$BK$46,63))=\"大会\",IF(B20=\"\",\"\",VLOOKUP(B20,'2実績'!$A$16:$AO$46,22,FALSE)),IF(B20=\"\",\"\",'2実績'!$AC$4)&IF(B20=\"\",\"\",VLOOKUP(B20,'2実績'!$A$16:$AO$46,22,FALSE)))","v":""},null,null,null,null,{"$f":"IF(IF(B20=\"\",\"\",VLOOKUP(B20,'2実績'!$A$16:$AO$46,5,FALSE))=0,IF(B20=\"\",\"\",VLOOKUP(B20,'2実績'!$A$16:$AO$46,12,FALSE)),IF(B20=\"\",\"\",VLOOKUP(B20,'2実績'!$A$16:$AO$46,5,FALSE)))","v":""},"～",{"$f":"IF(IF(B20=\"\",\"\",VLOOKUP(B20,'2実績'!$A$16:$AO$46,16,FALSE))=0,IF(B20=\"\",\"\",VLOOKUP(B20,'2実績'!$A$16:$AO$46,9,FALSE)),IF(B20=\"\",\"\",VLOOKUP(B20,'2実績'!$A$16:$AO$46,16,FALSE)))","v":""},{"$f":"IF(K20=\"\",\"\",M20-K20)","v":""},{"$f":"IF(B20=\"\",\"\",VLOOKUP(B20,'2実績'!$A$16:$AO$46,34,FALSE))","v":""}]
[]
[]
[null,null,null,null,null,null,null,null,null,null,null,null,null,null,null,null,null,"　　　"]
[null,{"$f":"'２'!B24:B27","v":""},{"$f":"IF(B24=\"\",\"\",TEXT(DATE(2018+$F$3,$H$3,B24),\"aaa\"))","v":""},"　　　","　　　",{"$f":"IF(IF(B24=\"\",\"\",VLOOKUP(B24,'2実績'!$A$16:$BK$46,63))=\"大会\",IF(B24=\"\",\"\",VLOOKUP(B24,'2実績'!$A$16:$AO$46,22,FALSE)),IF(B24=\"\",\"\",'2実績'!$AC$4)&IF(B24=\"\",\"\",VLOOKUP(B24,'2実績'!$A$16:$AO$46,22,FALSE)))","v":""},null,null,null,null,{"$f":"IF(IF(B24=\"\",\"\",VLOOKUP(B24,'2実績'!$A$16:$AO$46,5,FALSE))=0,IF(B24=\"\",\"\",VLOOKUP(B24,'2実績'!$A$16:$AO$46,12,FALSE)),IF(B24=\"\",\"\",VLOOKUP(B24,'2実績'!$A$16:$AO$46,5,FALSE)))","v":""},"～",{"$f":"IF(IF(B24=\"\",\"\",VLOOKUP(B24,'2実績'!$A$16:$AO$46,16,FALSE))=0,IF(B24=\"\",\"\",VLOOKUP(B24,'2実績'!$A$16:$AO$46,9,FALSE)),IF(B24=\"\",\"\",VLOOKUP(B24,'2実績'!$A$16:$AO$46,16,FALSE)))","v":""},{"$f":"IF(K24=\"\",\"\",M24-K24)","v":""},{"$f":"IF(B24=\"\",\"\",VLOOKUP(B24,'2実績'!$A$16:$AO$46,34,FALSE))","v":""}]
[]
[]
[null,null,null,null,null,null,null,null,null,null,null,null,null,null,null,null,null,"　　　"]
[null,{"$f":"'２'!B28:B31","v":""},{"$f":"IF(B28=\"\",\"\",TEXT(DATE(2018+$F$3,$H$3,B28),\"aaa\"))","v":""},"　　　","　　　",{"$f":"IF(IF(B28=\"\",\"\",VLOOKUP(B28,'2実績'!$A$16:$BK$46,63))=\"大会\",IF(B28=\"\",\"\",VLOOKUP(B28,'2実績'!$A$16:$AO$46,22,FALSE)),IF(B28=\"\",\"\",'2実績'!$AC$4)&IF(B28=\"\",\"\",VLOOKUP(B28,'2実績'!$A$16:$AO$46,22,FALSE)))","v":""},null,null,null,null,{"$f":"IF(IF(B28=\"\",\"\",VLOOKUP(B28,'2実績'!$A$16:$AO$46,5,FALSE))=0,IF(B28=\"\",\"\",VLOOKUP(B28,'2実績'!$A$16:$AO$46,12,FALSE)),IF(B28=\"\",\"\",VLOOKUP(B28,'2実績'!$A$16:$AO$46,5,FALSE)))","v":""},"～",{"$f":"IF(IF(B28=\"\",\"\",VLOOKUP(B28,'2実績'!$A$16:$AO$46,16,FALSE))=0,IF(B28=\"\",\"\",VLOOKUP(B28,'2実績'!$A$16:$AO$46,9,FALSE)),IF(B28=\"\",\"\",VLOOKUP(B28,'2実績'!$A$16:$AO$46,16,FALSE)))","v":""},{"$f":"IF(K28=\"\",\"\",M28-K28)","v":""},{"$f":"IF(B28=\"\",\"\",VLOOKUP(B28,'2実績'!$A$16:$AO$46,34,FALSE))","v":""}]
[]
[]
[null,null,null,null,null,null,null,null,null,null,null,null,null,null,null,null,null,"　　　"]
[null,{"$f":"'２'!B32:B35","v":""},{"$f":"IF(B32=\"\",\"\",TEXT(DATE(2018+$F$3,$H$3,B32),\"aaa\"))","v":""},"　　　","　　　",{"$f":"IF(IF(B32=\"\",\"\",VLOOKUP(B32,'2実績'!$A$16:$BK$46,63))=\"大会\",IF(B32=\"\",\"\",VLOOKUP(B32,'2実績'!$A$16:$AO$46,22,FALSE)),IF(B32=\"\",\"\",'2実績'!$AC$4)&IF(B32=\"\",\"\",VLOOKUP(B32,'2実績'!$A$16:$AO$46,22,FALSE)))","v":""},null,null,null,null,{"$f":"IF(IF(B32=\"\",\"\",VLOOKUP(B32,'2実績'!$A$16:$AO$46,5,FALSE))=0,IF(B32=\"\",\"\",VLOOKUP(B32,'2実績'!$A$16:$AO$46,12,FALSE)),IF(B32=\"\",\"\",VLOOKUP(B32,'2実績'!$A$16:$AO$46,5,FALSE)))","v":""},"～",{"$f":"IF(IF(B32=\"\",\"\",VLOOKUP(B32,'2実績'!$A$16:$AO$46,16,FALSE))=0,IF(B32=\"\",\"\",VLOOKUP(B32,'2実績'!$A$16:$AO$46,9,FALSE)),IF(B32=\"\",\"\",VLOOKUP(B32,'2実績'!$A$16:$AO$46,16,FALSE)))","v":""},{"$f":"IF(K32=\"\",\"\",M32-K32)","v":""},{"$f":"IF(B32=\"\",\"\",VLOOKUP(B32,'2実績'!$A$16:$AO$46,34,FALSE))","v":""}]
[]
[]
[null,null,null,null,null,null,null,null,null,null,null,null,null,null,null,null,null,"　　　"]
[null,{"$f":"'２'!B36:B39","v":""},{"$f":"IF(B36=\"\",\"\",TEXT(DATE(2018+$F$3,$H$3,B36),\"aaa\"))","v":""},"　　　","　　　",{"$f":"IF(IF(B36=\"\",\"\",VLOOKUP(B36,'2実績'!$A$16:$BK$46,63))=\"大会\",IF(B36=\"\",\"\",VLOOKUP(B36,'2実績'!$A$16:$AO$46,22,FALSE)),IF(B36=\"\",\"\",'2実績'!$AC$4)&IF(B36=\"\",\"\",VLOOKUP(B36,'2実績'!$A$16:$AO$46,22,FALSE)))","v":""},null,null,null,null,{"$f":"IF(IF(B36=\"\",\"\",VLOOKUP(B36,'2実績'!$A$16:$AO$46,5,FALSE))=0,IF(B36=\"\",\"\",VLOOKUP(B36,'2実績'!$A$16:$AO$46,12,FALSE)),IF(B36=\"\",\"\",VLOOKUP(B36,'2実績'!$A$16:$AO$46,5,FALSE)))","v":""},"～",{"$f":"IF(IF(B36=\"\",\"\",VLOOKUP(B36,'2実績'!$A$16:$AO$46,16,FALSE))=0,IF(B36=\"\",\"\",VLOOKUP(B36,'2実績'!$A$16:$AO$46,9,FALSE)),IF(B36=\"\",\"\",VLOOKUP(B36,'2実績'!$A$16:$AO$46,16,FALSE)))","v":""},{"$f":"IF(K36=\"\",\"\",M36-K36)","v":""},{"$f":"IF(B36=\"\",\"\",VLOOKUP(B36,'2実績'!$A$16:$AO$46,34,FALSE))","v":""}]
[]
[]
[null,null,null,null,null,null,null,null,null,null,null,null,null,null,null,null,null,"　　　"]
[null,{"$f":"'２'!B40:B43","v":""},{"$f":"IF(B40=\"\",\"\",TEXT(DATE(2018+$F$3,$H$3,B40),\"aaa\"))","v":""},"　　　","　　　",{"$f":"IF(IF(B40=\"\",\"\",VLOOKUP(B40,'2実績'!$A$16:$BK$46,63))=\"大会\",IF(B40=\"\",\"\",VLOOKUP(B40,'2実績'!$A$16:$AO$46,22,FALSE)),IF(B40=\"\",\"\",'2実績'!$AC$4)&IF(B40=\"\",\"\",VLOOKUP(B40,'2実績'!$A$16:$AO$46,22,FALSE)))","v":""},null,null,null,null,{"$f":"IF(IF(B40=\"\",\"\",VLOOKUP(B40,'2実績'!$A$16:$AO$46,5,FALSE))=0,IF(B40=\"\",\"\",VLOOKUP(B40,'2実績'!$A$16:$AO$46,12,FALSE)),IF(B40=\"\",\"\",VLOOKUP(B40,'2実績'!$A$16:$AO$46,5,FALSE)))","v":""},"～",{"$f":"IF(IF(B40=\"\",\"\",VLOOKUP(B40,'2実績'!$A$16:$AO$46,16,FALSE))=0,IF(B40=\"\",\"\",VLOOKUP(B40,'2実績'!$A$16:$AO$46,9,FALSE)),IF(B40=\"\",\"\",VLOOKUP(B40,'2実績'!$A$16:$AO$46,16,FALSE)))","v":""},{"$f":"IF(K40=\"\",\"\",M40-K40)","v":""},{"$f":"IF(B40=\"\",\"\",VLOOKUP(B40,'2実績'!$A$16:$AO$46,34,FALSE))","v":""}]
[]
[]
[null,null,null,null,null,null,null,null,null,null,null,null,null,null,null,null,null,"　　　"]
[null,"( 記入要領等 )"]
[null,"　         　１　この整理簿は、教員特殊業務手当及び面接指導手当の支給対象となるものについて、当該手当の支給に必要な事の整理をするものであること。"]
[null,"　　         ２　記入にあたっては、次のように記入すること。"]
[null,"　　　         　「要件」欄：週休日等　　　半日振替日　　　　その他"]
[null,"　　　　         「区分」欄：非常災害　　救急業務　　補導業務　　修学旅行等　　対外運動等　　入学試験業務　　　部活動４　　　　部活動３　　　部活動２　　　面接指導　　　　　"]
[null,"　　　　　　　　　　         ※部活動４は4時間以上、部活動３は３時間以上４時間未満、部活動２は2時間以上３時間未満をいう。"]
[null,"　　　　         「業務内容」欄：職員が従事した業務について、その内容を簡潔に記入すること。"]
[null,"　　　         　「従事時間」欄：左欄に手当の支給対象となる業務の終始の時刻を、右欄には時間を記入すること。"]
[null,"　　　         　「備考」欄：この整理簿を補足する事項を記入すること。"]

{"sheet":"３(副顧問) (2)","index":61,"n_rows":52,"n_cols":18,"rows_kept":52,"cut":false,"hidden":false,"merged":[[39,17,41,17],[41,5,42,9],[43,1,43,3],[39,11,42,11],[39,12,42,12],[39,13,42,13],[39,14,42,14],[39,15,42,15],[39,16,42,16],[39,1,42,1],[39,2,42,2],[39,3,42,3],[39,4,42,4],[39,5,40,9],[39,10,42,10],[35,13,38,13],[35,14,38,14],[35,15,38,15],[35,16,38,16],[35,17,37,17],[37,5,38,9],[31,17,33,17],[33,5,34,9],[35,1,38,1],[35,2,38,2],[35,3,38,3],[35,4,38,4],[35,5,36,9],[35,10,38,10],[35,11,38,11],[35,12,38,12],[31,11,34,11],[31,12,34,12],[31,13,34,13],[31,14,34,14],[31,15,34,15],[31,16,34,16],[31,1,34,1],[31,2,34,2],[31,3,34,3],[31,4,34,4],[31,5,32,9],[31,10,34,10],[27,13,30,13],[27,14,30,14],[27,15,30,15],[27,16,30,16],[27,17,29,17],[29,5,30,9],[23,17,25,17],[25,5,26,9],[27,1,30,1],[27,2,30,2],[27,3,30,3],[27,4,30,4],[27,5,28,9],[27,10,30,10],[27,11,30,11],[27,12,30,12],[23,11,26,11],[23,12,26,12],[23,13,26,13],[23,14,26,14],[23,15,26,15],[23,16,26,16],[23,1,26,1],[23,2,26,2],[23,3,26,3],[23,4,26,4],[23,5,24,9],[23,10,26,10],[19,13,22,13],[19,14,22,14],[19,15,22,15],[19,16,22,16],[19,17,21,17],[21,5,22,9],[15,17,17,17],[17,5,18,9],[19,1,22,1],[19,2,22,2],[19,3,22,3],[19,4,22,4],[19,5,20,9],[19,10,22,10],[19,11,22,11],[19,12,22,12],[15,11,18,11],[15,12,18,12],[15,13,18,13],[15,14,18,14],[15,15,18,15],[15,16,18,16],[15,1,18,1],[15,2,18,2],[15,3,18,3],[15,4,18,4],[15,5,16,9],[15,10,18,10],[11,13,14,13],[11,14,14,14],[11,15,14,15],[11,16,14,16],[11,17,13,17],[13,5,14,9],[11,1,14,1],[11,2,14,2],[11,3,14,3],[11,4,14,4],[11,5,12,9],[11,10,14,10],[11,11,14,11],[11,12,14,12],[7,11,10,11],[7,12,10,12],[7,1,10,1],[7,2,10,2],[7,3,10,3],[7,4,10,4],[7,5,8,9],[7,10,10,10],[4,1,4,2],[4,3,4,4],[4,6,4,8],[4,9,4,10],[4,14,4,17],[6,5,6,9],[6,10,6,13],[7,17,9,17],[9,5,10,9],[7,13,10,13],[7,14,10,14],[7,15,10,15],[7,16,10,16]]}
[]
[]
[null,null,null,"          　　　　　　","令和",{"$f":"'3計画'!AS1-2018","v":3},"年",{"$f":"'3計画'!A7","v":3},"月分","　 教  員  特  殊  業  務  整  理  簿",null,null,null,null,null,null,null,"様式3"]
[]
[null,"氏　名",null,{"$f":"IF('3実績'!AE10=\"\",\"\",'3実績'!AE10)","v":0},null,"職員\n番号",{"$f":"IF('４(副顧問) (2)'!G5=\"\",\"\",'４(副顧問) (2)'!G5)","v":""},null,null,null,null,null,null,null,{"$f":"'４(副顧問) (2)'!$O$5:$R$5","v":"0学校"}]
[]
[null,"日","曜","要　件","区　分","業　　務　　内　　容",null,null,null,null,"従　事　時　間",null,null,null,"従事場所","所属長\n確認印","従事者印","備　　考"]
[null,{"$f":"'３'!B8:B11","v":""},{"$f":"IF(B8=\"\",\"\",TEXT(DATE(2018+$F$3,$H$3,B8),\"aaa\"))","v":""},"　　　","　　　",{"$f":"IF(IF(B8=\"\",\"\",VLOOKUP(B8,'3実績'!$A$16:$BK$46,63))=\"大会\",IF(B8=\"\",\"\",VLOOKUP(B8,'3実績'!$A$16:$AO$46,22,FALSE)),IF(B8=\"\",\"\",'3実績'!$AC$4)&IF(B8=\"\",\"\",VLOOKUP(B8,'3実績'!$A$16:$AO$46,22,FALSE)))","v":""},null,null,null,null,{"$f":"IF(IF(B8=\"\",\"\",VLOOKUP(B8,'3実績'!$A$16:$AO$46,5,FALSE))=0,IF(B8=\"\",\"\",VLOOKUP(B8,'3実績'!$A$16:$AO$46,12,FALSE)),IF(B8=\"\",\"\",VLOOKUP(B8,'3実績'!$A$16:$AO$46,5,FALSE)))","v":""},"～",{"$f":"IF(IF(B8=\"\",\"\",VLOOKUP(B8,'3実績'!$A$16:$AO$46,16,FALSE))=0,IF(B8=\"\",\"\",VLOOKUP(B8,'3実績'!$A$16:$AO$46,9,FALSE)),IF(B8=\"\",\"\",VLOOKUP(B8,'3実績'!$A$16:$AO$46,16,FALSE)))","v":""},{"$f":"IF(K8=\"\",\"\",M8-K8)","v":""},{"$f":"IF(B8=\"\",\"\",VLOOKUP(B8,'3実績'!$A$16:$AO$46,34,FALSE))","v":""}]
[]
[]
[null,null,null,null,null,null,null,null,null,null,null,null,null,null,null,null,null,"　　　"]
[null,{"$f":"'３'!B12:B15","v":""},{"$f":"IF(B12=\"\",\"\",TEXT(DATE(2018+$F$3,$H$3,B12),\"aaa\"))","v":""},"　　　","　　　",{"$f":"IF(IF(B12=\"\",\"\",VLOOKUP(B12,'3実績'!$A$16:$BK$46,63))=\"大会\",IF(B12=\"\",\"\",VLOOKUP(B12,'3実績'!$A$16:$AO$46,22,FALSE)),IF(B12=\"\",\"\",'3実績'!$AC$4)&IF(B12=\"\",\"\",VLOOKUP(B12,'3実績'!$A$16:$AO$46,22,FALSE)))","v":""},null,null,null,null,{"$f":"IF(IF(B12=\"\",\"\",VLOOKUP(B12,'3実績'!$A$16:$AO$46,5,FALSE))=0,IF(B12=\"\",\"\",VLOOKUP(B12,'3実績'!$A$16:$AO$46,12,FALSE)),IF(B12=\"\",\"\",VLOOKUP(B12,'3実績'!$A$16:$AO$46,5,FALSE)))","v":""},"～",{"$f":"IF(IF(B12=\"\",\"\",VLOOKUP(B12,'3実績'!$A$16:$AO$46,16,FALSE))=0,IF(B12=\"\",\"\",VLOOKUP(B12,'3実績'!$A$16:$AO$46,9,FALSE)),IF(B12=\"\",\"\",VLOOKUP(B12,'3実績'!$A$16:$AO$46,16,FALSE)))","v":""},{"$f":"IF(K12=\"\",\"\",M12-K12)","v":""},{"$f":"IF(B12=\"\",\"\",VLOOKUP(B12,'3実績'!$A$16:$AO$46,34,FALSE))","v":""}]
[]
[]
[null,null,null,null,null,null,null,null,null,null,null,null,null,null,null,null,null,"　　　"]
[null,{"$f":"'３'!B16:B19","v":""},{"$f":"IF(B16=\"\",\"\",TEXT(DATE(2018+$F$3,$H$3,B16),\"aaa\"))","v":""},"　　　","　　　",{"$f":"IF(IF(B16=\"\",\"\",VLOOKUP(B16,'3実績'!$A$16:$BK$46,63))=\"大会\",IF(B16=\"\",\"\",VLOOKUP(B16,'3実績'!$A$16:$AO$46,22,FALSE)),IF(B16=\"\",\"\",'3実績'!$AC$4)&IF(B16=\"\",\"\",VLOOKUP(B16,'3実績'!$A$16:$AO$46,22,FALSE)))","v":""},null,null,null,null,{"$f":"IF(IF(B16=\"\",\"\",VLOOKUP(B16,'3実績'!$A$16:$AO$46,5,FALSE))=0,IF(B16=\"\",\"\",VLOOKUP(B16,'3実績'!$A$16:$AO$46,12,FALSE)),IF(B16=\"\",\"\",VLOOKUP(B16,'3実績'!$A$16:$AO$46,5,FALSE)))","v":""},"～",{"$f":"IF(IF(B16=\"\",\"\",VLOOKUP(B16,'3実績'!$A$16:$AO$46,16,FALSE))=0,IF(B16=\"\",\"\",VLOOKUP(B16,'3実績'!$A$16:$AO$46,9,FALSE)),IF(B16=\"\",\"\",VLOOKUP(B16,'3実績'!$A$16:$AO$46,16,FALSE)))","v":""},{"$f":"IF(K16=\"\",\"\",M16-K16)","v":""},{"$f":"IF(B16=\"\",\"\",VLOOKUP(B16,'3実績'!$A$16:$AO$46,34,FALSE))","v":""}]
[]
[]
[null,null,null,null,null,null,null,null,null,null,null,null,null,null,null,null,null,"　　　"]
[null,{"$f":"'３'!B20:B23","v":""},{"$f":"IF(B20=\"\",\"\",TEXT(DATE(2018+$F$3,$H$3,B20),\"aaa\"))","v":""},"　　　","　　　",{"$f":"IF(IF(B20=\"\",\"\",VLOOKUP(B20,'3実績'!$A$16:$BK$46,63))=\"大会\",IF(B20=\"\",\"\",VLOOKUP(B20,'3実績'!$A$16:$AO$46,22,FALSE)),IF(B20=\"\",\"\",'3実績'!$AC$4)&IF(B20=\"\",\"\",VLOOKUP(B20,'3実績'!$A$16:$AO$46,22,FALSE)))","v":""},null,null,null,null,{"$f":"IF(IF(B20=\"\",\"\",VLOOKUP(B20,'3実績'!$A$16:$AO$46,5,FALSE))=0,IF(B20=\"\",\"\",VLOOKUP(B20,'3実績'!$A$16:$AO$46,12,FALSE)),IF(B20=\"\",\"\",VLOOKUP(B20,'3実績'!$A$16:$AO$46,5,FALSE)))","v":""},"～",{"$f":"IF(IF(B20=\"\",\"\",VLOOKUP(B20,'3実績'!$A$16:$AO$46,16,FALSE))=0,IF(B20=\"\",\"\",VLOOKUP(B20,'3実績'!$A$16:$AO$46,9,FALSE)),IF(B20=\"\",\"\",VLOOKUP(B20,'3実績'!$A$16:$AO$46,16,FALSE)))","v":""},{"$f":"IF(K20=\"\",\"\",M20-K20)","v":""},{"$f":"IF(B20=\"\",\"\",VLOOKUP(B20,'3実績'!$A$16:$AO$46,34,FALSE))","v":""}]
[]
[]
[null,null,null,null,null,null,null,null,null,null,null,null,null,null,null,null,null,"　　　"]
[null,{"$f":"'３'!B24:B27","v":""},{"$f":"IF(B24=\"\",\"\",TEXT(DATE(2018+$F$3,$H$3,B24),\"aaa\"))","v":""},"　　　","　　　",{"$f":"IF(IF(B24=\"\",\"\",VLOOKUP(B24,'3実績'!$A$16:$BK$46,63))=\"大会\",IF(B24=\"\",\"\",VLOOKUP(B24,'3実績'!$A$16:$AO$46,22,FALSE)),IF(B24=\"\",\"\",'3実績'!$AC$4)&IF(B24=\"\",\"\",VLOOKUP(B24,'3実績'!$A$16:$AO$46,22,FALSE)))","v":""},null,null,null,null,{"$f":"IF(IF(B24=\"\",\"\",VLOOKUP(B24,'3実績'!$A$16:$AO$46,5,FALSE))=0,IF(B24=\"\",\"\",VLOOKUP(B24,'3実績'!$A$16:$AO$46,12,FALSE)),IF(B24=\"\",\"\",VLOOKUP(B24,'3実績'!$A$16:$AO$46,5,FALSE)))","v":""},"～",{"$f":"IF(IF(B24=\"\",\"\",VLOOKUP(B24,'3実績'!$A$16:$AO$46,16,FALSE))=0,IF(B24=\"\",\"\",VLOOKUP(B24,'3実績'!$A$16:$AO$46,9,FALSE)),IF(B24=\"\",\"\",VLOOKUP(B24,'3実績'!$A$16:$AO$46,16,FALSE)))","v":""},{"$f":"IF(K24=\"\",\"\",M24-K24)","v":""},{"$f":"IF(B24=\"\",\"\",VLOOKUP(B24,'3実績'!$A$16:$AO$46,34,FALSE))","v":""}]
[]
[]
[null,null,null,null,null,null,null,null,null,null,null,null,null,null,null,null,null,"　　　"]
[null,{"$f":"'３'!B28:B31","v":""},{"$f":"IF(B28=\"\",\"\",TEXT(DATE(2018+$F$3,$H$3,B28),\"aaa\"))","v":""},"　　　","　　　",{"$f":"IF(IF(B28=\"\",\"\",VLOOKUP(B28,'3実績'!$A$16:$BK$46,63))=\"大会\",IF(B28=\"\",\"\",VLOOKUP(B28,'3実績'!$A$16:$AO$46,22,FALSE)),IF(B28=\"\",\"\",'3実績'!$AC$4)&IF(B28=\"\",\"\",VLOOKUP(B28,'3実績'!$A$16:$AO$46,22,FALSE)))","v":""},null,null,null,null,{"$f":"IF(IF(B28=\"\",\"\",VLOOKUP(B28,'3実績'!$A$16:$AO$46,5,FALSE))=0,IF(B28=\"\",\"\",VLOOKUP(B28,'3実績'!$A$16:$AO$46,12,FALSE)),IF(B28=\"\",\"\",VLOOKUP(B28,'3実績'!$A$16:$AO$46,5,FALSE)))","v":""},"～",{"$f":"IF(IF(B28=\"\",\"\",VLOOKUP(B28,'3実績'!$A$16:$AO$46,16,FALSE))=0,IF(B28=\"\",\"\",VLOOKUP(B28,'3実績'!$A$16:$AO$46,9,FALSE)),IF(B28=\"\",\"\",VLOOKUP(B28,'3実績'!$A$16:$AO$46,16,FALSE)))","v":""},{"$f":"IF(K28=\"\",\"\",M28-K28)","v":""},{"$f":"IF(B28=\"\",\"\",VLOOKUP(B28,'3実績'!$A$16:$AO$46,34,FALSE))","v":""}]
[]
[]
[null,null,null,null,null,null,null,null,null,null,null,null,null,null,null,null,null,"　　　"]
[null,{"$f":"'３'!B32:B35","v":""},{"$f":"IF(B32=\"\",\"\",TEXT(DATE(2018+$F$3,$H$3,B32),\"aaa\"))","v":""},"　　　","　　　",{"$f":"IF(IF(B32=\"\",\"\",VLOOKUP(B32,'3実績'!$A$16:$BK$46,63))=\"大会\",IF(B32=\"\",\"\",VLOOKUP(B32,'3実績'!$A$16:$AO$46,22,FALSE)),IF(B32=\"\",\"\",'3実績'!$AC$4)&IF(B32=\"\",\"\",VLOOKUP(B32,'3実績'!$A$16:$AO$46,22,FALSE)))","v":""},null,null,null,null,{"$f":"IF(IF(B32=\"\",\"\",VLOOKUP(B32,'3実績'!$A$16:$AO$46,5,FALSE))=0,IF(B32=\"\",\"\",VLOOKUP(B32,'3実績'!$A$16:$AO$46,12,FALSE)),IF(B32=\"\",\"\",VLOOKUP(B32,'3実績'!$A$16:$AO$46,5,FALSE)))","v":""},"～",{"$f":"IF(IF(B32=\"\",\"\",VLOOKUP(B32,'3実績'!$A$16:$AO$46,16,FALSE))=0,IF(B32=\"\",\"\",VLOOKUP(B32,'3実績'!$A$16:$AO$46,9,FALSE)),IF(B32=\"\",\"\",VLOOKUP(B32,'3実績'!$A$16:$AO$46,16,FALSE)))","v":""},{"$f":"IF(K32=\"\",\"\",M32-K32)","v":""},{"$f":"IF(B32=\"\",\"\",VLOOKUP(B32,'3実績'!$A$16:$AO$46,34,FALSE))","v":""}]
[]
[]
[null,null,null,null,null,null,null,null,null,null,null,null,null,null,null,null,null,"　　　"]
[null,{"$f":"'３'!B36:B39","v":""},{"$f":"IF(B36=\"\",\"\",TEXT(DATE(2018+$F$3,$H$3,B36),\"aaa\"))","v":""},"　　　","　　　",{"$f":"IF(IF(B36=\"\",\"\",VLOOKUP(B36,'3実績'!$A$16:$BK$46,63))=\"大会\",IF(B36=\"\",\"\",VLOOKUP(B36,'3実績'!$A$16:$AO$46,22,FALSE)),IF(B36=\"\",\"\",'3実績'!$AC$4)&IF(B36=\"\",\"\",VLOOKUP(B36,'3実績'!$A$16:$AO$46,22,FALSE)))","v":""},null,null,null,null,{"$f":"IF(IF(B36=\"\",\"\",VLOOKUP(B36,'3実績'!$A$16:$AO$46,5,FALSE))=0,IF(B36=\"\",\"\",VLOOKUP(B36,'3実績'!$A$16:$AO$46,12,FALSE)),IF(B36=\"\",\"\",VLOOKUP(B36,'3実績'!$A$16:$AO$46,5,FALSE)))","v":""},"～",{"$f":"IF(IF(B36=\"\",\"\",VLOOKUP(B36,'3実績'!$A$16:$AO$46,16,FALSE))=0,IF(B36=\"\",\"\",VLOOKUP(B36,'3実績'!$A$16:$AO$46,9,FALSE)),IF(B36=\"\",\"\",VLOOKUP(B36,'3実績'!$A$16:$AO$46,16,FALSE)))","v":""},{"$f":"IF(K36=\"\",\"\",M36-K36)","v":""},{"$f":"IF(B36=\"\",\"\",VLOOKUP(B36,'3実績'!$A$16:$AO$46,34,FALSE))","v":""}]
[]
[]
[null,null,null,null,null,null,null,null,null,null,null,null,null,null,null,null,null,"　　　"]
[null,{"$f":"'３'!B40:B43","v":""},{"$f":"IF(B40=\"\",\"\",TEXT(DATE(2018+$F$3,$H$3,B40),\"aaa\"))","v":""},"　　　","　　　",{"$f":"IF(IF(B40=\"\",\"\",VLOOKUP(B40,'3実績'!$A$16:$BK$46,63))=\"大会\",IF(B40=\"\",\"\",VLOOKUP(B40,'3実績'!$A$16:$AO$46,22,FALSE)),IF(B40=\"\",\"\",'3実績'!$AC$4)&IF(B40=\"\",\"\",VLOOKUP(B40,'3実績'!$A$16:$AO$46,22,FALSE)))","v":""},null,null,null,null,{"$f":"IF(IF(B40=\"\",\"\",VLOOKUP(B40,'3実績'!$A$16:$AO$46,5,FALSE))=0,IF(B40=\"\",\"\",VLOOKUP(B40,'3実績'!$A$16:$AO$46,12,FALSE)),IF(B40=\"\",\"\",VLOOKUP(B40,'3実績'!$A$16:$AO$46,5,FALSE)))","v":""},"～",{"$f":"IF(IF(B40=\"\",\"\",VLOOKUP(B40,'3実績'!$A$16:$AO$46,16,FALSE))=0,IF(B40=\"\",\"\",VLOOKUP(B40,'3実績'!$A$16:$AO$46,9,FALSE)),IF(B40=\"\",\"\",VLOOKUP(B40,'3実績'!$A$16:$AO$46,16,FALSE)))","v":""},{"$f":"IF(K40=\"\",\"\",M40-K40)","v":""},{"$f":"IF(B40=\"\",\"\",VLOOKUP(B40,'3実績'!$A$16:$AO$46,34,FALSE))","v":""}]
[]
[]
[null,null,null,null,null,null,null,null,null,null,null,null,null,null,null,null,null,"　　　"]
[null,"( 記入要領等 )"]
[null,"　         　１　この整理簿は、教員特殊業務手当及び面接指導手当の支給対象となるものについて、当該手当の支給に必要な事の整理をするものであること。"]
[null,"　　         ２　記入にあたっては、次のように記入すること。"]
[null,"　　　         　「要件」欄：週休日等　　　半日振替日　　　　その他"]
[null,"　　　　         「区分」欄：非常災害　　救急業務　　補導業務　　修学旅行等　　対外運動等　　入学試験業務　　　部活動４　　　　部活動３　　　部活動２　　　面接指導　　　　　"]
[null,"　　　　　　　　　　         ※部活動４は4時間以上、部活動３は３時間以上４時間未満、部活動２は2時間以上３時間未満をいう。"]
[null,"　　　　         「業務内容」欄：職員が従事した業務について、その内容を簡潔に記入すること。"]
[null,"　　　         　「従事時間」欄：左欄に手当の支給対象となる業務の終始の時刻を、右欄には時間を記入すること。"]
[null,"　　　         　「備考」欄：この整理簿を補足する事項を記入すること。"]

{"sheet":"４(副顧問) (3)","index":62,"n_rows":52,"n_cols":18,"rows_kept":52,"cut":false,"hidden":false,"merged":[[39,17,41,17],[41,5,42,9],[43,1,43,3],[39,11,42,11],[39,12,42,12],[39,13,42,13],[39,14,42,14],[39,15,42,15],[39,16,42,16],[39,1,42,1],[39,2,42,2],[39,3,42,3],[39,4,42,4],[39,5,40,9],[39,10,42,10],[35,13,38,13],[35,14,38,14],[35,15,38,15],[35,16,38,16],[35,17,37,17],[37,5,38,9],[31,17,33,17],[33,5,34,9],[35,1,38,1],[35,2,38,2],[35,3,38,3],[35,4,38,4],[35,5,36,9],[35,10,38,10],[35,11,38,11],[35,12,38,12],[31,11,34,11],[31,12,34,12],[31,13,34,13],[31,14,34,14],[31,15,34,15],[31,16,34,16],[31,1,34,1],[31,2,34,2],[31,3,34,3],[31,4,34,4],[31,5,32,9],[31,10,34,10],[27,13,30,13],[27,14,30,14],[27,15,30,15],[27,16,30,16],[27,17,29,17],[29,5,30,9],[23,17,25,17],[25,5,26,9],[27,1,30,1],[27,2,30,2],[27,3,30,3],[27,4,30,4],[27,5,28,9],[27,10,30,10],[27,11,30,11],[27,12,30,12],[23,11,26,11],[23,12,26,12],[23,13,26,13],[23,14,26,14],[23,15,26,15],[23,16,26,16],[23,1,26,1],[23,2,26,2],[23,3,26,3],[23,4,26,4],[23,5,24,9],[23,10,26,10],[19,13,22,13],[19,14,22,14],[19,15,22,15],[19,16,22,16],[19,17,21,17],[21,5,22,9],[15,17,17,17],[17,5,18,9],[19,1,22,1],[19,2,22,2],[19,3,22,3],[19,4,22,4],[19,5,20,9],[19,10,22,10],[19,11,22,11],[19,12,22,12],[15,11,18,11],[15,12,18,12],[15,13,18,13],[15,14,18,14],[15,15,18,15],[15,16,18,16],[15,1,18,1],[15,2,18,2],[15,3,18,3],[15,4,18,4],[15,5,16,9],[15,10,18,10],[11,13,14,13],[11,14,14,14],[11,15,14,15],[11,16,14,16],[11,17,13,17],[13,5,14,9],[11,1,14,1],[11,2,14,2],[11,3,14,3],[11,4,14,4],[11,5,12,9],[11,10,14,10],[11,11,14,11],[11,12,14,12],[7,11,10,11],[7,12,10,12],[7,1,10,1],[7,2,10,2],[7,3,10,3],[7,4,10,4],[7,5,8,9],[7,10,10,10],[4,1,4,2],[4,3,4,4],[4,6,4,8],[4,9,4,10],[4,14,4,17],[6,5,6,9],[6,10,6,13],[7,17,9,17],[9,5,10,9],[7,13,10,13],[7,14,10,14],[7,15,10,15],[7,16,10,16]]}
[]
[]
[null,null,null,"          　　　　　　","令和",{"$f":"'4計画'!AQ1-2018","v":2},"年",{"$f":"'4計画'!A7","v":4},"月分","　 教  員  特  殊  業  務  整  理  簿",null,null,null,null,null,null,null,"様式3"]
[]
[null,"氏　名",null,{"$f":"IF('４実績'!AE12=\"\",\"\",'４実績'!AE12)","v":0},null,"職員\n番号",null,null,null,null,null,null,null,null,{"$f":"'４'!O5:R5","v":"0学校"}]
[]
[null,"日","曜","要　件","区　分","業　　務　　内　　容",null,null,null,null,"従　事　時　間",null,null,null,"従事場所","所属長\n確認印","従事者印","備　　考"]
[null,{"$f":"'４'!B8:B11","v":""},{"$f":"IF(B8=\"\",\"\",TEXT(DATE(2018+$F$3,$H$3,B8),\"aaa\"))","v":""},"　　　","　　　",{"$f":"IF(IF(B8=\"\",\"\",VLOOKUP(B8,'４実績'!$A$16:$BK$46,63))=\"大会\",IF(B8=\"\",\"\",VLOOKUP(B8,'４実績'!$A$16:$AO$46,22,FALSE)),IF(B8=\"\",\"\",'４実績'!$AC$4)&IF(B8=\"\",\"\",VLOOKUP(B8,'４実績'!$A$16:$AO$46,22,FALSE)))","v":""},null,null,null,null,{"$f":"IF(IF(B8=\"\",\"\",VLOOKUP(B8,'４実績'!$A$16:$AO$46,5,FALSE))=0,IF(B8=\"\",\"\",VLOOKUP(B8,'４実績'!$A$16:$AO$46,12,FALSE)),IF(B8=\"\",\"\",VLOOKUP(B8,'４実績'!$A$16:$AO$46,5,FALSE)))","v":""},"～",{"$f":"IF(IF(B8=\"\",\"\",VLOOKUP(B8,'４実績'!$A$16:$AO$46,16,FALSE))=0,IF(B8=\"\",\"\",VLOOKUP(B8,'４実績'!$A$16:$AO$46,9,FALSE)),IF(B8=\"\",\"\",VLOOKUP(B8,'４実績'!$A$16:$AO$46,16,FALSE)))","v":""},{"$f":"IF(K8=\"\",\"\",M8-K8)","v":""},{"$f":"IF(B8=\"\",\"\",VLOOKUP(B8,'４実績'!$A$16:$AO$46,34,FALSE))","v":""}]
[]
[]
[null,null,null,null,null,null,null,null,null,null,null,null,null,null,null,null,null,"　　　"]
[null,{"$f":"'４'!B12:B15","v":""},{"$f":"IF(B12=\"\",\"\",TEXT(DATE(2018+$F$3,$H$3,B12),\"aaa\"))","v":""},"　　　","　　　",{"$f":"IF(IF(B12=\"\",\"\",VLOOKUP(B12,'４実績'!$A$16:$BK$46,63))=\"大会\",IF(B12=\"\",\"\",VLOOKUP(B12,'４実績'!$A$16:$AO$46,22,FALSE)),IF(B12=\"\",\"\",'４実績'!$AC$4)&IF(B12=\"\",\"\",VLOOKUP(B12,'４実績'!$A$16:$AO$46,22,FALSE)))","v":""},null,null,null,null,{"$f":"IF(IF(B12=\"\",\"\",VLOOKUP(B12,'４実績'!$A$16:$AO$46,5,FALSE))=0,IF(B12=\"\",\"\",VLOOKUP(B12,'４実績'!$A$16:$AO$46,12,FALSE)),IF(B12=\"\",\"\",VLOOKUP(B12,'４実績'!$A$16:$AO$46,5,FALSE)))","v":""},"～",{"$f":"IF(IF(B12=\"\",\"\",VLOOKUP(B12,'４実績'!$A$16:$AO$46,16,FALSE))=0,IF(B12=\"\",\"\",VLOOKUP(B12,'４実績'!$A$16:$AO$46,9,FALSE)),IF(B12=\"\",\"\",VLOOKUP(B12,'４実績'!$A$16:$AO$46,16,FALSE)))","v":""},{"$f":"IF(K12=\"\",\"\",M12-K12)","v":""},{"$f":"IF(B12=\"\",\"\",VLOOKUP(B12,'４実績'!$A$16:$AO$46,34,FALSE))","v":""}]
[]
[]
[null,null,null,null,null,null,null,null,null,null,null,null,null,null,null,null,null,"　　　"]
[null,{"$f":"'４'!B16:B19","v":""},{"$f":"IF(B16=\"\",\"\",TEXT(DATE(2018+$F$3,$H$3,B16),\"aaa\"))","v":""},"　　　","　　　",{"$f":"IF(IF(B16=\"\",\"\",VLOOKUP(B16,'４実績'!$A$16:$BK$46,63))=\"大会\",IF(B16=\"\",\"\",VLOOKUP(B16,'４実績'!$A$16:$AO$46,22,FALSE)),IF(B16=\"\",\"\",'４実績'!$AC$4)&IF(B16=\"\",\"\",VLOOKUP(B16,'４実績'!$A$16:$AO$46,22,FALSE)))","v":""},null,null,null,null,{"$f":"IF(IF(B16=\"\",\"\",VLOOKUP(B16,'４実績'!$A$16:$AO$46,5,FALSE))=0,IF(B16=\"\",\"\",VLOOKUP(B16,'４実績'!$A$16:$AO$46,12,FALSE)),IF(B16=\"\",\"\",VLOOKUP(B16,'４実績'!$A$16:$AO$46,5,FALSE)))","v":""},"～",{"$f":"IF(IF(B16=\"\",\"\",VLOOKUP(B16,'４実績'!$A$16:$AO$46,16,FALSE))=0,IF(B16=\"\",\"\",VLOOKUP(B16,'４実績'!$A$16:$AO$46,9,FALSE)),IF(B16=\"\",\"\",VLOOKUP(B16,'４実績'!$A$16:$AO$46,16,FALSE)))","v":""},{"$f":"IF(K16=\"\",\"\",M16-K16)","v":""},{"$f":"IF(B16=\"\",\"\",VLOOKUP(B16,'４実績'!$A$16:$AO$46,34,FALSE))","v":""}]
[]
[]
[null,null,null,null,null,null,null,null,null,null,null,null,null,null,null,null,null,"　　　"]
[null,{"$f":"'４'!B20:B23","v":""},{"$f":"IF(B20=\"\",\"\",TEXT(DATE(2018+$F$3,$H$3,B20),\"aaa\"))","v":""},"　　　","　　　",{"$f":"IF(IF(B20=\"\",\"\",VLOOKUP(B20,'４実績'!$A$16:$BK$46,63))=\"大会\",IF(B20=\"\",\"\",VLOOKUP(B20,'４実績'!$A$16:$AO$46,22,FALSE)),IF(B20=\"\",\"\",'４実績'!$AC$4)&IF(B20=\"\",\"\",VLOOKUP(B20,'４実績'!$A$16:$AO$46,22,FALSE)))","v":""},null,null,null,null,{"$f":"IF(IF(B20=\"\",\"\",VLOOKUP(B20,'４実績'!$A$16:$AO$46,5,FALSE))=0,IF(B20=\"\",\"\",VLOOKUP(B20,'４実績'!$A$16:$AO$46,12,FALSE)),IF(B20=\"\",\"\",VLOOKUP(B20,'４実績'!$A$16:$AO$46,5,FALSE)))","v":""},"～",{"$f":"IF(IF(B20=\"\",\"\",VLOOKUP(B20,'４実績'!$A$16:$AO$46,16,FALSE))=0,IF(B20=\"\",\"\",VLOOKUP(B20,'４実績'!$A$16:$AO$46,9,FALSE)),IF(B20=\"\",\"\",VLOOKUP(B20,'４実績'!$A$16:$AO$46,16,FALSE)))","v":""},{"$f":"IF(K20=\"\",\"\",M20-K20)","v":""},{"$f":"IF(B20=\"\",\"\",VLOOKUP(B20,'４実績'!$A$16:$AO$46,34,FALSE))","v":""}]
[]
[]
[null,null,null,null,null,null,null,null,null,null,null,null,null,null,null,null,null,"　　　"]
[null,{"$f":"'４'!B24:B27","v":""},{"$f":"IF(B24=\"\",\"\",TEXT(DATE(2018+$F$3,$H$3,B24),\"aaa\"))","v":""},"　　　","　　　",{"$f":"IF(IF(B24=\"\",\"\",VLOOKUP(B24,'４実績'!$A$16:$BK$46,63))=\"大会\",IF(B24=\"\",\"\",VLOOKUP(B24,'４実績'!$A$16:$AO$46,22,FALSE)),IF(B24=\"\",\"\",'４実績'!$AC$4)&IF(B24=\"\",\"\",VLOOKUP(B24,'４実績'!$A$16:$AO$46,22,FALSE)))","v":""},null,null,null,null,{"$f":"IF(IF(B24=\"\",\"\",VLOOKUP(B24,'４実績'!$A$16:$AO$46,5,FALSE))=0,IF(B24=\"\",\"\",VLOOKUP(B24,'４実績'!$A$16:$AO$46,12,FALSE)),IF(B24=\"\",\"\",VLOOKUP(B24,'４実績'!$A$16:$AO$46,5,FALSE)))","v":""},"～",{"$f":"IF(IF(B24=\"\",\"\",VLOOKUP(B24,'４実績'!$A$16:$AO$46,16,FALSE))=0,IF(B24=\"\",\"\",VLOOKUP(B24,'４実績'!$A$16:$AO$46,9,FALSE)),IF(B24=\"\",\"\",VLOOKUP(B24,'４実績'!$A$16:$AO$46,16,FALSE)))","v":""},{"$f":"IF(K24=\"\",\"\",M24-K24)","v":""},{"$f":"IF(B24=\"\",\"\",VLOOKUP(B24,'４実績'!$A$16:$AO$46,34,FALSE))","v":""}]
[]
[]
[null,null,null,null,null,null,null,null,null,null,null,null,null,null,null,null,null,"　　　"]
[null,{"$f":"'４'!B28:B31","v":""},{"$f":"IF(B28=\"\",\"\",TEXT(DATE(2018+$F$3,$H$3,B28),\"aaa\"))","v":""},"　　　","　　　",{"$f":"IF(IF(B28=\"\",\"\",VLOOKUP(B28,'４実績'!$A$16:$BK$46,63))=\"大会\",IF(B28=\"\",\"\",VLOOKUP(B28,'４実績'!$A$16:$AO$46,22,FALSE)),IF(B28=\"\",\"\",'４実績'!$AC$4)&IF(B28=\"\",\"\",VLOOKUP(B28,'４実績'!$A$16:$AO$46,22,FALSE)))","v":""},null,null,null,null,{"$f":"IF(IF(B28=\"\",\"\",VLOOKUP(B28,'４実績'!$A$16:$AO$46,5,FALSE))=0,IF(B28=\"\",\"\",VLOOKUP(B28,'４実績'!$A$16:$AO$46,12,FALSE)),IF(B28=\"\",\"\",VLOOKUP(B28,'４実績'!$A$16:$AO$46,5,FALSE)))","v":""},"～",{"$f":"IF(IF(B28=\"\",\"\",VLOOKUP(B28,'４実績'!$A$16:$AO$46,16,FALSE))=0,IF(B28=\"\",\"\",VLOOKUP(B28,'４実績'!$A$16:$AO$46,9,FALSE)),IF(B28=\"\",\"\",VLOOKUP(B28,'４実績'!$A$16:$AO$46,16,FALSE)))","v":""},{"$f":"IF(K28=\"\",\"\",M28-K28)","v":""},{"$f":"IF(B28=\"\",\"\",VLOOKUP(B28,'４実績'!$A$16:$AO$46,34,FALSE))","v":""}]
[]
[]
[null,null,null,null,null,null,null,null,null,null,null,null,null,null,null,null,null,"　　　"]
[null,{"$f":"'４'!B32:B35","v":""},{"$f":"IF(B32=\"\",\"\",TEXT(DATE(2018+$F$3,$H$3,B32),\"aaa\"))","v":""},"　　　","　　　",{"$f":"IF(IF(B32=\"\",\"\",VLOOKUP(B32,'４実績'!$A$16:$BK$46,63))=\"大会\",IF(B32=\"\",\"\",VLOOKUP(B32,'４実績'!$A$16:$AO$46,22,FALSE)),IF(B32=\"\",\"\",'４実績'!$AC$4)&IF(B32=\"\",\"\",VLOOKUP(B32,'４実績'!$A$16:$AO$46,22,FALSE)))","v":""},null,null,null,null,{"$f":"IF(IF(B32=\"\",\"\",VLOOKUP(B32,'４実績'!$A$16:$AO$46,5,FALSE))=0,IF(B32=\"\",\"\",VLOOKUP(B32,'４実績'!$A$16:$AO$46,12,FALSE)),IF(B32=\"\",\"\",VLOOKUP(B32,'４実績'!$A$16:$AO$46,5,FALSE)))","v":""},"～",{"$f":"IF(IF(B32=\"\",\"\",VLOOKUP(B32,'４実績'!$A$16:$AO$46,16,FALSE))=0,IF(B32=\"\",\"\",VLOOKUP(B32,'４実績'!$A$16:$AO$46,9,FALSE)),IF(B32=\"\",\"\",VLOOKUP(B32,'４実績'!$A$16:$AO$46,16,FALSE)))","v":""},{"$f":"IF(K32=\"\",\"\",M32-K32)","v":""},{"$f":"IF(B32=\"\",\"\",VLOOKUP(B32,'４実績'!$A$16:$AO$46,34,FALSE))","v":""}]
[]
[]
[null,null,null,null,null,null,null,null,null,null,null,null,null,null,null,null,null,"　　　"]
[null,{"$f":"'４'!B36:B39","v":""},{"$f":"IF(B36=\"\",\"\",TEXT(DATE(2018+$F$3,$H$3,B36),\"aaa\"))","v":""},"　　　","　　　",{"$f":"IF(IF(B36=\"\",\"\",VLOOKUP(B36,'４実績'!$A$16:$BK$46,63))=\"大会\",IF(B36=\"\",\"\",VLOOKUP(B36,'４実績'!$A$16:$AO$46,22,FALSE)),IF(B36=\"\",\"\",'４実績'!$AC$4)&IF(B36=\"\",\"\",VLOOKUP(B36,'４実績'!$A$16:$AO$46,22,FALSE)))","v":""},null,null,null,null,{"$f":"IF(IF(B36=\"\",\"\",VLOOKUP(B36,'４実績'!$A$16:$AO$46,5,FALSE))=0,IF(B36=\"\",\"\",VLOOKUP(B36,'４実績'!$A$16:$AO$46,12,FALSE)),IF(B36=\"\",\"\",VLOOKUP(B36,'４実績'!$A$16:$AO$46,5,FALSE)))","v":""},"～",{"$f":"IF(IF(B36=\"\",\"\",VLOOKUP(B36,'４実績'!$A$16:$AO$46,16,FALSE))=0,IF(B36=\"\",\"\",VLOOKUP(B36,'４実績'!$A$16:$AO$46,9,FALSE)),IF(B36=\"\",\"\",VLOOKUP(B36,'４実績'!$A$16:$AO$46,16,FALSE)))","v":""},{"$f":"IF(K36=\"\",\"\",M36-K36)","v":""},{"$f":"IF(B36=\"\",\"\",VLOOKUP(B36,'４実績'!$A$16:$AO$46,34,FALSE))","v":""}]
[]
[]
[null,null,null,null,null,null,null,null,null,null,null,null,null,null,null,null,null,"　　　"]
[null,{"$f":"'４'!B40:B43","v":""},{"$f":"IF(B40=\"\",\"\",TEXT(DATE(2018+$F$3,$H$3,B40),\"aaa\"))","v":""},"　　　","　　　",{"$f":"IF(IF(B40=\"\",\"\",VLOOKUP(B40,'４実績'!$A$16:$BK$46,63))=\"大会\",IF(B40=\"\",\"\",VLOOKUP(B40,'４実績'!$A$16:$AO$46,22,FALSE)),IF(B40=\"\",\"\",'４実績'!$AC$4)&IF(B40=\"\",\"\",VLOOKUP(B40,'４実績'!$A$16:$AO$46,22,FALSE)))","v":""},null,null,null,null,{"$f":"IF(IF(B40=\"\",\"\",VLOOKUP(B40,'４実績'!$A$16:$AO$46,5,FALSE))=0,IF(B40=\"\",\"\",VLOOKUP(B40,'４実績'!$A$16:$AO$46,12,FALSE)),IF(B40=\"\",\"\",VLOOKUP(B40,'４実績'!$A$16:$AO$46,5,FALSE)))","v":""},"～",{"$f":"IF(IF(B40=\"\",\"\",VLOOKUP(B40,'４実績'!$A$16:$AO$46,16,FALSE))=0,IF(B40=\"\",\"\",VLOOKUP(B40,'４実績'!$A$16:$AO$46,9,FALSE)),IF(B40=\"\",\"\",VLOOKUP(B40,'４実績'!$A$16:$AO$46,16,FALSE)))","v":""},{"$f":"IF(K40=\"\",\"\",M40-K40)","v":""},{"$f":"IF(B40=\"\",\"\",VLOOKUP(B40,'４実績'!$A$16:$AO$46,34,FALSE))","v":""}]
[]
[]
[null,null,null,null,null,null,null,null,null,null,null,null,null,null,null,null,null,"　　　"]
[null,"( 記入要領等 )"]
[null,"　         　１　この整理簿は、教員特殊業務手当及び面接指導手当の支給対象となるものについて、当該手当の支給に必要な事の整理をするものであること。"]
[null,"　　         ２　記入にあたっては、次のように記入すること。"]
[null,"　　　         　「要件」欄：週休日等　　　半日振替日　　　　その他"]
[null,"　　　　         「区分」欄：非常災害　　救急業務　　補導業務　　修学旅行等　　対外運動等　　入学試験業務　　　部活動４　　　　部活動３　　　部活動２　　　面接指導　　　　　"]
[null,"　　　　　　　　　　         ※部活動４は4時間以上、部活動３は３時間以上４時間未満、部活動２は2時間以上３時間未満をいう。"]
[null,"　　　　         「業務内容」欄：職員が従事した業務について、その内容を簡潔に記入すること。"]
[null,"　　　         　「従事時間」欄：左欄に手当の支給対象となる業務の終始の時刻を、右欄には時間を記入すること。"]
[null,"　　　         　「備考」欄：この整理簿を補足する事項を記入すること。"]

{"sheet":"５(副顧問) (3)","index":63,"n_rows":52,"n_cols":18,"rows_kept":52,"cut":false,"hidden":false,"merged":[[39,17,41,17],[41,5,42,9],[43,1,43,3],[39,11,42,11],[39,12,42,12],[39,13,42,13],[39,14,42,14],[39,15,42,15],[39,16,42,16],[39,1,42,1],[39,2,42,2],[39,3,42,3],[39,4,42,4],[39,5,40,9],[39,10,42,10],[35,13,38,13],[35,14,38,14],[35,15,38,15],[35,16,38,16],[35,17,37,17],[37,5,38,9],[31,17,33,17],[33,5,34,9],[35,1,38,1],[35,2,38,2],[35,3,38,3],[35,4,38,4],[35,5,36,9],[35,10,38,10],[35,11,38,11],[35,12,38,12],[31,11,34,11],[31,12,34,12],[31,13,34,13],[31,14,34,14],[31,15,34,15],[31,16,34,16],[31,1,34,1],[31,2,34,2],[31,3,34,3],[31,4,34,4],[31,5,32,9],[31,10,34,10],[27,13,30,13],[27,14,30,14],[27,15,30,15],[27,16,30,16],[27,17,29,17],[29,5,30,9],[23,17,25,17],[25,5,26,9],[27,1,30,1],[27,2,30,2],[27,3,30,3],[27,4,30,4],[27,5,28,9],[27,10,30,10],[27,11,30,11],[27,12,30,12],[23,11,26,11],[23,12,26,12],[23,13,26,13],[23,14,26,14],[23,15,26,15],[23,16,26,16],[23,1,26,1],[23,2,26,2],[23,3,26,3],[23,4,26,4],[23,5,24,9],[23,10,26,10],[19,13,22,13],[19,14,22,14],[19,15,22,15],[19,16,22,16],[19,17,21,17],[21,5,22,9],[15,17,17,17],[17,5,18,9],[19,1,22,1],[19,2,22,2],[19,3,22,3],[19,4,22,4],[19,5,20,9],[19,10,22,10],[19,11,22,11],[19,12,22,12],[15,11,18,11],[15,12,18,12],[15,13,18,13],[15,14,18,14],[15,15,18,15],[15,16,18,16],[15,1,18,1],[15,2,18,2],[15,3,18,3],[15,4,18,4],[15,5,16,9],[15,10,18,10],[11,13,14,13],[11,14,14,14],[11,15,14,15],[11,16,14,16],[11,17,13,17],[13,5,14,9],[11,1,14,1],[11,2,14,2],[11,3,14,3],[11,4,14,4],[11,5,12,9],[11,10,14,10],[11,11,14,11],[11,12,14,12],[7,11,10,11],[7,12,10,12],[7,1,10,1],[7,2,10,2],[7,3,10,3],[7,4,10,4],[7,5,8,9],[7,10,10,10],[4,1,4,2],[4,3,4,4],[4,6,4,8],[4,9,4,10],[4,14,4,17],[6,5,6,9],[6,10,6,13],[7,17,9,17],[9,5,10,9],[7,13,10,13],[7,14,10,14],[7,15,10,15],[7,16,10,16]]}
[]
[]
[null,null,null,"          　　　　　　","令和",{"$f":"'5計画'!AS1-2018","v":2},"年",{"$f":"'5計画'!A7","v":5},"月分","　 教  員  特  殊  業  務  整  理  簿",null,null,null,null,null,null,null,"様式3"]
[]
[null,"氏　名",null,{"$f":"IF('５実績'!AE12=\"\",\"\",'５実績'!AE12)","v":0},null,"職員\n番号",{"$f":"IF('４(副顧問) (3)'!G5=\"\",\"\",'４(副顧問) (3)'!G5)","v":""},null,null,null,null,null,null,null,{"$f":"'４(副顧問) (3)'!$O$5:$R$5","v":"0学校"}]
[]
[null,"日","曜","要　件","区　分","業　　務　　内　　容",null,null,null,null,"従　事　時　間",null,null,null,"従事場所","所属長\n確認印","従事者印","備　　考"]
[null,{"$f":"'５'!B8:B11","v":""},{"$f":"IF(B8=\"\",\"\",TEXT(DATE(2018+$F$3,$H$3,B8),\"aaa\"))","v":""},"　　　",null,{"$f":"IF(IF(B8=\"\",\"\",VLOOKUP(B8,'５実績'!$A$16:$BK$46,63))=\"大会\",IF(B8=\"\",\"\",VLOOKUP(B8,'５実績'!$A$16:$AO$46,22,FALSE)),IF(B8=\"\",\"\",'５実績'!$AC$4)&IF(B8=\"\",\"\",VLOOKUP(B8,'５実績'!$A$16:$AO$46,22,FALSE)))","v":""},null,null,null,null,{"$f":"IF(IF(B8=\"\",\"\",VLOOKUP(B8,'５実績'!$A$16:$AO$46,5,FALSE))=0,IF(B8=\"\",\"\",VLOOKUP(B8,'５実績'!$A$16:$AO$46,12,FALSE)),IF(B8=\"\",\"\",VLOOKUP(B8,'５実績'!$A$16:$AO$46,5,FALSE)))","v":""},"～",{"$f":"IF(IF(B8=\"\",\"\",VLOOKUP(B8,'５実績'!$A$16:$AO$46,16,FALSE))=0,IF(B8=\"\",\"\",VLOOKUP(B8,'５実績'!$A$16:$AO$46,9,FALSE)),IF(B8=\"\",\"\",VLOOKUP(B8,'５実績'!$A$16:$AO$46,16,FALSE)))","v":""},{"$f":"IF(K8=\"\",\"\",M8-K8)","v":""},{"$f":"IF(B8=\"\",\"\",VLOOKUP(B8,'５実績'!$A$16:$AO$46,34,FALSE))","v":""}]
[]
[]
[null,null,null,null,null,null,null,null,null,null,null,null,null,null,null,null,null,"　　　"]
[null,{"$f":"'５'!B12:B15","v":""},{"$f":"IF(B12=\"\",\"\",TEXT(DATE(2018+$F$3,$H$3,B12),\"aaa\"))","v":""},"　　　","　　　",{"$f":"IF(IF(B12=\"\",\"\",VLOOKUP(B12,'５実績'!$A$16:$BK$46,63))=\"大会\",IF(B12=\"\",\"\",VLOOKUP(B12,'５実績'!$A$16:$AO$46,22,FALSE)),IF(B12=\"\",\"\",'５実績'!$AC$4)&IF(B12=\"\",\"\",VLOOKUP(B12,'５実績'!$A$16:$AO$46,22,FALSE)))","v":""},null,null,null,null,{"$f":"IF(IF(B12=\"\",\"\",VLOOKUP(B12,'５実績'!$A$16:$AO$46,5,FALSE))=0,IF(B12=\"\",\"\",VLOOKUP(B12,'５実績'!$A$16:$AO$46,12,FALSE)),IF(B12=\"\",\"\",VLOOKUP(B12,'５実績'!$A$16:$AO$46,5,FALSE)))","v":""},"～",{"$f":"IF(IF(B12=\"\",\"\",VLOOKUP(B12,'５実績'!$A$16:$AO$46,16,FALSE))=0,IF(B12=\"\",\"\",VLOOKUP(B12,'５実績'!$A$16:$AO$46,9,FALSE)),IF(B12=\"\",\"\",VLOOKUP(B12,'５実績'!$A$16:$AO$46,16,FALSE)))","v":""},{"$f":"IF(K12=\"\",\"\",M12-K12)","v":""},{"$f":"IF(B12=\"\",\"\",VLOOKUP(B12,'５実績'!$A$16:$AO$46,34,FALSE))","v":""}]
[]
[]
[null,null,null,null,null,null,null,null,null,null,null,null,null,null,null,null,null,"　　　"]
[null,{"$f":"'５'!B16:B19","v":""},{"$f":"IF(B16=\"\",\"\",TEXT(DATE(2018+$F$3,$H$3,B16),\"aaa\"))","v":""},"　　　","　　　",{"$f":"IF(IF(B16=\"\",\"\",VLOOKUP(B16,'５実績'!$A$16:$BK$46,63))=\"大会\",IF(B16=\"\",\"\",VLOOKUP(B16,'５実績'!$A$16:$AO$46,22,FALSE)),IF(B16=\"\",\"\",'５実績'!$AC$4)&IF(B16=\"\",\"\",VLOOKUP(B16,'５実績'!$A$16:$AO$46,22,FALSE)))","v":""},null,null,null,null,{"$f":"IF(IF(B16=\"\",\"\",VLOOKUP(B16,'５実績'!$A$16:$AO$46,5,FALSE))=0,IF(B16=\"\",\"\",VLOOKUP(B16,'５実績'!$A$16:$AO$46,12,FALSE)),IF(B16=\"\",\"\",VLOOKUP(B16,'５実績'!$A$16:$AO$46,5,FALSE)))","v":""},"～",{"$f":"IF(IF(B16=\"\",\"\",VLOOKUP(B16,'５実績'!$A$16:$AO$46,16,FALSE))=0,IF(B16=\"\",\"\",VLOOKUP(B16,'５実績'!$A$16:$AO$46,9,FALSE)),IF(B16=\"\",\"\",VLOOKUP(B16,'５実績'!$A$16:$AO$46,16,FALSE)))","v":""},{"$f":"IF(K16=\"\",\"\",M16-K16)","v":""},{"$f":"IF(B16=\"\",\"\",VLOOKUP(B16,'５実績'!$A$16:$AO$46,34,FALSE))","v":""}]
[]
[]
[null,null,null,null,null,null,null,null,null,null,null,null,null,null,null,null,null,"　　　"]
[null,{"$f":"'５'!B20:B23","v":""},{"$f":"IF(B20=\"\",\"\",TEXT(DATE(2018+$F$3,$H$3,B20),\"aaa\"))","v":""},"　　　","　　　",{"$f":"IF(IF(B20=\"\",\"\",VLOOKUP(B20,'５実績'!$A$16:$BK$46,63))=\"大会\",IF(B20=\"\",\"\",VLOOKUP(B20,'５実績'!$A$16:$AO$46,22,FALSE)),IF(B20=\"\",\"\",'５実績'!$AC$4)&IF(B20=\"\",\"\",VLOOKUP(B20,'５実績'!$A$16:$AO$46,22,FALSE)))","v":""},null,null,null,null,{"$f":"IF(IF(B20=\"\",\"\",VLOOKUP(B20,'５実績'!$A$16:$AO$46,5,FALSE))=0,IF(B20=\"\",\"\",VLOOKUP(B20,'５実績'!$A$16:$AO$46,12,FALSE)),IF(B20=\"\",\"\",VLOOKUP(B20,'５実績'!$A$16:$AO$46,5,FALSE)))","v":""},"～",{"$f":"IF(IF(B20=\"\",\"\",VLOOKUP(B20,'５実績'!$A$16:$AO$46,16,FALSE))=0,IF(B20=\"\",\"\",VLOOKUP(B20,'５実績'!$A$16:$AO$46,9,FALSE)),IF(B20=\"\",\"\",VLOOKUP(B20,'５実績'!$A$16:$AO$46,16,FALSE)))","v":""},{"$f":"IF(K20=\"\",\"\",M20-K20)","v":""},{"$f":"IF(B20=\"\",\"\",VLOOKUP(B20,'５実績'!$A$16:$AO$46,34,FALSE))","v":""}]
[]
[]
[null,null,null,null,null,null,null,null,null,null,null,null,null,null,null,null,null,"　　　"]
[null,{"$f":"'５'!B24:B27","v":""},{"$f":"IF(B24=\"\",\"\",TEXT(DATE(2018+$F$3,$H$3,B24),\"aaa\"))","v":""},"　　　","　　　",{"$f":"IF(IF(B24=\"\",\"\",VLOOKUP(B24,'５実績'!$A$16:$BK$46,63))=\"大会\",IF(B24=\"\",\"\",VLOOKUP(B24,'５実績'!$A$16:$AO$46,22,FALSE)),IF(B24=\"\",\"\",'５実績'!$AC$4)&IF(B24=\"\",\"\",VLOOKUP(B24,'５実績'!$A$16:$AO$46,22,FALSE)))","v":""},null,null,null,null,{"$f":"IF(IF(B24=\"\",\"\",VLOOKUP(B24,'５実績'!$A$16:$AO$46,5,FALSE))=0,IF(B24=\"\",\"\",VLOOKUP(B24,'５実績'!$A$16:$AO$46,12,FALSE)),IF(B24=\"\",\"\",VLOOKUP(B24,'５実績'!$A$16:$AO$46,5,FALSE)))","v":""},"～",{"$f":"IF(IF(B24=\"\",\"\",VLOOKUP(B24,'５実績'!$A$16:$AO$46,16,FALSE))=0,IF(B24=\"\",\"\",VLOOKUP(B24,'５実績'!$A$16:$AO$46,9,FALSE)),IF(B24=\"\",\"\",VLOOKUP(B24,'５実績'!$A$16:$AO$46,16,FALSE)))","v":""},{"$f":"IF(K24=\"\",\"\",M24-K24)","v":""},{"$f":"IF(B24=\"\",\"\",VLOOKUP(B24,'５実績'!$A$16:$AO$46,34,FALSE))","v":""}]
[]
[]
[null,null,null,null,null,null,null,null,null,null,null,null,null,null,null,null,null,"　　　"]
[null,{"$f":"'５'!B28:B31","v":""},{"$f":"IF(B28=\"\",\"\",TEXT(DATE(2018+$F$3,$H$3,B28),\"aaa\"))","v":""},"　　　","　　　",{"$f":"IF(IF(B28=\"\",\"\",VLOOKUP(B28,'５実績'!$A$16:$BK$46,63))=\"大会\",IF(B28=\"\",\"\",VLOOKUP(B28,'５実績'!$A$16:$AO$46,22,FALSE)),IF(B28=\"\",\"\",'５実績'!$AC$4)&IF(B28=\"\",\"\",VLOOKUP(B28,'５実績'!$A$16:$AO$46,22,FALSE)))","v":""},null,null,null,null,{"$f":"IF(IF(B28=\"\",\"\",VLOOKUP(B28,'５実績'!$A$16:$AO$46,5,FALSE))=0,IF(B28=\"\",\"\",VLOOKUP(B28,'５実績'!$A$16:$AO$46,12,FALSE)),IF(B28=\"\",\"\",VLOOKUP(B28,'５実績'!$A$16:$AO$46,5,FALSE)))","v":""},"～",{"$f":"IF(IF(B28=\"\",\"\",VLOOKUP(B28,'５実績'!$A$16:$AO$46,16,FALSE))=0,IF(B28=\"\",\"\",VLOOKUP(B28,'５実績'!$A$16:$AO$46,9,FALSE)),IF(B28=\"\",\"\",VLOOKUP(B28,'５実績'!$A$16:$AO$46,16,FALSE)))","v":""},{"$f":"IF(K28=\"\",\"\",M28-K28)","v":""},{"$f":"IF(B28=\"\",\"\",VLOOKUP(B28,'５実績'!$A$16:$AO$46,34,FALSE))","v":""}]
[]
[]
[null,null,null,null,null,null,null,null,null,null,null,null,null,null,null,null,null,"　　　"]
[null,{"$f":"'５'!B32:B35","v":""},{"$f":"IF(B32=\"\",\"\",TEXT(DATE(2018+$F$3,$H$3,B32),\"aaa\"))","v":""},"　　　","　　　",{"$f":"IF(IF(B32=\"\",\"\",VLOOKUP(B32,'５実績'!$A$16:$BK$46,63))=\"大会\",IF(B32=\"\",\"\",VLOOKUP(B32,'５実績'!$A$16:$AO$46,22,FALSE)),IF(B32=\"\",\"\",'５実績'!$AC$4)&IF(B32=\"\",\"\",VLOOKUP(B32,'５実績'!$A$16:$AO$46,22,FALSE)))","v":""},null,null,null,null,{"$f":"IF(IF(B32=\"\",\"\",VLOOKUP(B32,'５実績'!$A$16:$AO$46,5,FALSE))=0,IF(B32=\"\",\"\",VLOOKUP(B32,'５実績'!$A$16:$AO$46,12,FALSE)),IF(B32=\"\",\"\",VLOOKUP(B32,'５実績'!$A$16:$AO$46,5,FALSE)))","v":""},"～",{"$f":"IF(IF(B32=\"\",\"\",VLOOKUP(B32,'５実績'!$A$16:$AO$46,16,FALSE))=0,IF(B32=\"\",\"\",VLOOKUP(B32,'５実績'!$A$16:$AO$46,9,FALSE)),IF(B32=\"\",\"\",VLOOKUP(B32,'５実績'!$A$16:$AO$46,16,FALSE)))","v":""},{"$f":"IF(K32=\"\",\"\",M32-K32)","v":""},{"$f":"IF(B32=\"\",\"\",VLOOKUP(B32,'５実績'!$A$16:$AO$46,34,FALSE))","v":""}]
[]
[]
[null,null,null,null,null,null,null,null,null,null,null,null,null,null,null,null,null,"　　　"]
[null,{"$f":"'５'!B36:B39","v":""},{"$f":"IF(B36=\"\",\"\",TEXT(DATE(2018+$F$3,$H$3,B36),\"aaa\"))","v":""},"　　　","　　　",{"$f":"IF(IF(B36=\"\",\"\",VLOOKUP(B36,'５実績'!$A$16:$BK$46,63))=\"大会\",IF(B36=\"\",\"\",VLOOKUP(B36,'５実績'!$A$16:$AO$46,22,FALSE)),IF(B36=\"\",\"\",'５実績'!$AC$4)&IF(B36=\"\",\"\",VLOOKUP(B36,'５実績'!$A$16:$AO$46,22,FALSE)))","v":""},null,null,null,null,{"$f":"IF(IF(B36=\"\",\"\",VLOOKUP(B36,'５実績'!$A$16:$AO$46,5,FALSE))=0,IF(B36=\"\",\"\",VLOOKUP(B36,'５実績'!$A$16:$AO$46,12,FALSE)),IF(B36=\"\",\"\",VLOOKUP(B36,'５実績'!$A$16:$AO$46,5,FALSE)))","v":""},"～",{"$f":"IF(IF(B36=\"\",\"\",VLOOKUP(B36,'５実績'!$A$16:$AO$46,16,FALSE))=0,IF(B36=\"\",\"\",VLOOKUP(B36,'５実績'!$A$16:$AO$46,9,FALSE)),IF(B36=\"\",\"\",VLOOKUP(B36,'５実績'!$A$16:$AO$46,16,FALSE)))","v":""},{"$f":"IF(K36=\"\",\"\",M36-K36)","v":""},{"$f":"IF(B36=\"\",\"\",VLOOKUP(B36,'５実績'!$A$16:$AO$46,34,FALSE))","v":""}]
[]
[]
[null,null,null,null,null,null,null,null,null,null,null,null,null,null,null,null,null,"　　　"]
[null,{"$f":"'５'!B40:B43","v":""},{"$f":"IF(B40=\"\",\"\",TEXT(DATE(2018+$F$3,$H$3,B40),\"aaa\"))","v":""},"　　　","　　　",{"$f":"IF(IF(B40=\"\",\"\",VLOOKUP(B40,'５実績'!$A$16:$BK$46,63))=\"大会\",IF(B40=\"\",\"\",VLOOKUP(B40,'５実績'!$A$16:$AO$46,22,FALSE)),IF(B40=\"\",\"\",'５実績'!$AC$4)&IF(B40=\"\",\"\",VLOOKUP(B40,'５実績'!$A$16:$AO$46,22,FALSE)))","v":""},null,null,null,null,{"$f":"IF(IF(B40=\"\",\"\",VLOOKUP(B40,'５実績'!$A$16:$AO$46,5,FALSE))=0,IF(B40=\"\",\"\",VLOOKUP(B40,'５実績'!$A$16:$AO$46,12,FALSE)),IF(B40=\"\",\"\",VLOOKUP(B40,'５実績'!$A$16:$AO$46,5,FALSE)))","v":""},"～",{"$f":"IF(IF(B40=\"\",\"\",VLOOKUP(B40,'５実績'!$A$16:$AO$46,16,FALSE))=0,IF(B40=\"\",\"\",VLOOKUP(B40,'５実績'!$A$16:$AO$46,9,FALSE)),IF(B40=\"\",\"\",VLOOKUP(B40,'５実績'!$A$16:$AO$46,16,FALSE)))","v":""},{"$f":"IF(K40=\"\",\"\",M40-K40)","v":""},{"$f":"IF(B40=\"\",\"\",VLOOKUP(B40,'５実績'!$A$16:$AO$46,34,FALSE))","v":""}]
[]
[]
[null,null,null,null,null,null,null,null,null,null,null,null,null,null,null,null,null,"　　　"]
[null,"( 記入要領等 )"]
[null,"　         　１　この整理簿は、教員特殊業務手当及び面接指導手当の支給対象となるものについて、当該手当の支給に必要な事の整理をするものであること。"]
[null,"　　         ２　記入にあたっては、次のように記入すること。"]
[null,"　　　         　「要件」欄：週休日等　　　半日振替日　　　　その他"]
[null,"　　　　         「区分」欄：非常災害　　救急業務　　補導業務　　修学旅行等　　対外運動等　　入学試験業務　　　部活動４　　　　部活動３　　　部活動２　　　面接指導　　　　　"]
[null,"　　　　　　　　　　         ※部活動４は4時間以上、部活動３は３時間以上４時間未満、部活動２は2時間以上３時間未満をいう。"]
[null,"　　　　         「業務内容」欄：職員が従事した業務について、その内容を簡潔に記入すること。"]
[null,"　　　         　「従事時間」欄：左欄に手当の支給対象となる業務の終始の時刻を、右欄には時間を記入すること。"]
[null,"　　　         　「備考」欄：この整理簿を補足する事項を記入すること。"]

{"sheet":"６(副顧問) (3)","index":64,"n_rows":52,"n_cols":18,"rows_kept":52,"cut":false,"hidden":false,"merged":[[39,17,41,17],[41,5,42,9],[43,1,43,3],[39,11,42,11],[39,12,42,12],[39,13,42,13],[39,14,42,14],[39,15,42,15],[39,16,42,16],[39,1,42,1],[39,2,42,2],[39,3,42,3],[39,4,42,4],[39,5,40,9],[39,10,42,10],[35,13,38,13],[35,14,38,14],[35,15,38,15],[35,16,38,16],[35,17,37,17],[37,5,38,9],[31,17,33,17],[33,5,34,9],[35,1,38,1],[35,2,38,2],[35,3,38,3],[35,4,38,4],[35,5,36,9],[35,10,38,10],[35,11,38,11],[35,12,38,12],[31,11,34,11],[31,12,34,12],[31,13,34,13],[31,14,34,14],[31,15,34,15],[31,16,34,16],[31,1,34,1],[31,2,34,2],[31,3,34,3],[31,4,34,4],[31,5,32,9],[31,10,34,10],[27,13,30,13],[27,14,30,14],[27,15,30,15],[27,16,30,16],[27,17,29,17],[29,5,30,9],[23,17,25,17],[25,5,26,9],[27,1,30,1],[27,2,30,2],[27,3,30,3],[27,4,30,4],[27,5,28,9],[27,10,30,10],[27,11,30,11],[27,12,30,12],[23,11,26,11],[23,12,26,12],[23,13,26,13],[23,14,26,14],[23,15,26,15],[23,16,26,16],[23,1,26,1],[23,2,26,2],[23,3,26,3],[23,4,26,4],[23,5,24,9],[23,10,26,10],[19,13,22,13],[19,14,22,14],[19,15,22,15],[19,16,22,16],[19,17,21,17],[21,5,22,9],[15,17,17,17],[17,5,18,9],[19,1,22,1],[19,2,22,2],[19,3,22,3],[19,4,22,4],[19,5,20,9],[19,10,22,10],[19,11,22,11],[19,12,22,12],[15,11,18,11],[15,12,18,12],[15,13,18,13],[15,14,18,14],[15,15,18,15],[15,16,18,16],[15,1,18,1],[15,2,18,2],[15,3,18,3],[15,4,18,4],[15,5,16,9],[15,10,18,10],[11,13,14,13],[11,14,14,14],[11,15,14,15],[11,16,14,16],[11,17,13,17],[13,5,14,9],[11,1,14,1],[11,2,14,2],[11,3,14,3],[11,4,14,4],[11,5,12,9],[11,10,14,10],[11,11,14,11],[11,12,14,12],[7,11,10,11],[7,12,10,12],[7,1,10,1],[7,2,10,2],[7,3,10,3],[7,4,10,4],[7,5,8,9],[7,10,10,10],[4,1,4,2],[4,3,4,4],[4,6,4,8],[4,9,4,10],[4,14,4,17],[6,5,6,9],[6,10,6,13],[7,17,9,17],[9,5,10,9],[7,13,10,13],[7,14,10,14],[7,15,10,15],[7,16,10,16]]}
[]
[]
[null,null,null,"          　　　　　　","令和",{"$f":"'６計画'!AT1-2018","v":2},"年",{"$f":"'６計画'!A7","v":6},"月分","　 教  員  特  殊  業  務  整  理  簿",null,null,null,null,null,null,null,"様式3"]
[]
[null,"氏　名",null,{"$f":"IF('6実績'!AE12=\"\",\"\",'6実績'!AE12)","v":0},null,"職員\n番号",{"$f":"IF('４(副顧問) (3)'!G5=\"\",\"\",'４(副顧問) (3)'!G5)","v":""},null,null,null,null,null,null,null,{"$f":"'４(副顧問) (3)'!$O$5:$R$5","v":"0学校"}]
[]
[null,"日","曜","要　件","区　分","業　　務　　内　　容",null,null,null,null,"従　事　時　間",null,null,null,"従事場所","所属長\n確認印","従事者印","備　　考"]
[null,{"$f":"'６'!B8:B11","v":""},{"$f":"IF(B8=\"\",\"\",TEXT(DATE(2018+$F$3,$H$3,B8),\"aaa\"))","v":""},"　　　","　　　",{"$f":"IF(IF(B8=\"\",\"\",VLOOKUP(B8,'6実績'!$A$16:$BK$46,63))=\"大会\",IF(B8=\"\",\"\",VLOOKUP(B8,'6実績'!$A$16:$AO$46,22,FALSE)),IF(B8=\"\",\"\",'6実績'!$AC$4)&IF(B8=\"\",\"\",VLOOKUP(B8,'6実績'!$A$16:$AO$46,22,FALSE)))","v":""},null,null,null,null,{"$f":"IF(IF(B8=\"\",\"\",VLOOKUP(B8,'6実績'!$A$16:$AO$46,5,FALSE))=0,IF(B8=\"\",\"\",VLOOKUP(B8,'6実績'!$A$16:$AO$46,12,FALSE)),IF(B8=\"\",\"\",VLOOKUP(B8,'6実績'!$A$16:$AO$46,5,FALSE)))","v":""},"～",{"$f":"IF(IF(B8=\"\",\"\",VLOOKUP(B8,'6実績'!$A$16:$AO$46,16,FALSE))=0,IF(B8=\"\",\"\",VLOOKUP(B8,'6実績'!$A$16:$AO$46,9,FALSE)),IF(B8=\"\",\"\",VLOOKUP(B8,'6実績'!$A$16:$AO$46,16,FALSE)))","v":""},{"$f":"IF(K8=\"\",\"\",M8-K8)","v":""},{"$f":"IF(B8=\"\",\"\",VLOOKUP(B8,'6実績'!$A$16:$AO$46,34,FALSE))","v":""}]
[]
[]
[null,null,null,null,null,null,null,null,null,null,null,null,null,null,null,null,null,"　　　"]
[null,{"$f":"'６'!B12:B15","v":""},{"$f":"IF(B12=\"\",\"\",TEXT(DATE(2018+$F$3,$H$3,B12),\"aaa\"))","v":""},"　　　","　　　",{"$f":"IF(IF(B12=\"\",\"\",VLOOKUP(B12,'6実績'!$A$16:$BK$46,63))=\"大会\",IF(B12=\"\",\"\",VLOOKUP(B12,'6実績'!$A$16:$AO$46,22,FALSE)),IF(B12=\"\",\"\",'6実績'!$AC$4)&IF(B12=\"\",\"\",VLOOKUP(B12,'6実績'!$A$16:$AO$46,22,FALSE)))","v":""},null,null,null,null,{"$f":"IF(IF(B12=\"\",\"\",VLOOKUP(B12,'6実績'!$A$16:$AO$46,5,FALSE))=0,IF(B12=\"\",\"\",VLOOKUP(B12,'6実績'!$A$16:$AO$46,12,FALSE)),IF(B12=\"\",\"\",VLOOKUP(B12,'6実績'!$A$16:$AO$46,5,FALSE)))","v":""},"～",{"$f":"IF(IF(B12=\"\",\"\",VLOOKUP(B12,'6実績'!$A$16:$AO$46,16,FALSE))=0,IF(B12=\"\",\"\",VLOOKUP(B12,'6実績'!$A$16:$AO$46,9,FALSE)),IF(B12=\"\",\"\",VLOOKUP(B12,'6実績'!$A$16:$AO$46,16,FALSE)))","v":""},{"$f":"IF(K12=\"\",\"\",M12-K12)","v":""},{"$f":"IF(B12=\"\",\"\",VLOOKUP(B12,'6実績'!$A$16:$AO$46,34,FALSE))","v":""}]
[]
[]
[null,null,null,null,null,null,null,null,null,null,null,null,null,null,null,null,null,"　　　"]
[null,{"$f":"'６'!B16:B19","v":""},{"$f":"IF(B16=\"\",\"\",TEXT(DATE(2018+$F$3,$H$3,B16),\"aaa\"))","v":""},"　　　","　　　",{"$f":"IF(IF(B16=\"\",\"\",VLOOKUP(B16,'6実績'!$A$16:$BK$46,63))=\"大会\",IF(B16=\"\",\"\",VLOOKUP(B16,'6実績'!$A$16:$AO$46,22,FALSE)),IF(B16=\"\",\"\",'6実績'!$AC$4)&IF(B16=\"\",\"\",VLOOKUP(B16,'6実績'!$A$16:$AO$46,22,FALSE)))","v":""},null,null,null,null,{"$f":"IF(IF(B16=\"\",\"\",VLOOKUP(B16,'6実績'!$A$16:$AO$46,5,FALSE))=0,IF(B16=\"\",\"\",VLOOKUP(B16,'6実績'!$A$16:$AO$46,12,FALSE)),IF(B16=\"\",\"\",VLOOKUP(B16,'6実績'!$A$16:$AO$46,5,FALSE)))","v":""},"～",{"$f":"IF(IF(B16=\"\",\"\",VLOOKUP(B16,'6実績'!$A$16:$AO$46,16,FALSE))=0,IF(B16=\"\",\"\",VLOOKUP(B16,'6実績'!$A$16:$AO$46,9,FALSE)),IF(B16=\"\",\"\",VLOOKUP(B16,'6実績'!$A$16:$AO$46,16,FALSE)))","v":""},{"$f":"IF(K16=\"\",\"\",M16-K16)","v":""},{"$f":"IF(B16=\"\",\"\",VLOOKUP(B16,'6実績'!$A$16:$AO$46,34,FALSE))","v":""}]
[]
[]
[null,null,null,null,null,null,null,null,null,null,null,null,null,null,null,null,null,"　　　"]
[null,{"$f":"'６'!B20:B23","v":""},{"$f":"IF(B20=\"\",\"\",TEXT(DATE(2018+$F$3,$H$3,B20),\"aaa\"))","v":""},"　　　","　　　",{"$f":"IF(IF(B20=\"\",\"\",VLOOKUP(B20,'6実績'!$A$16:$BK$46,63))=\"大会\",IF(B20=\"\",\"\",VLOOKUP(B20,'6実績'!$A$16:$AO$46,22,FALSE)),IF(B20=\"\",\"\",'6実績'!$AC$4)&IF(B20=\"\",\"\",VLOOKUP(B20,'6実績'!$A$16:$AO$46,22,FALSE)))","v":""},null,null,null,null,{"$f":"IF(IF(B20=\"\",\"\",VLOOKUP(B20,'6実績'!$A$16:$AO$46,5,FALSE))=0,IF(B20=\"\",\"\",VLOOKUP(B20,'6実績'!$A$16:$AO$46,12,FALSE)),IF(B20=\"\",\"\",VLOOKUP(B20,'6実績'!$A$16:$AO$46,5,FALSE)))","v":""},"～",{"$f":"IF(IF(B20=\"\",\"\",VLOOKUP(B20,'6実績'!$A$16:$AO$46,16,FALSE))=0,IF(B20=\"\",\"\",VLOOKUP(B20,'6実績'!$A$16:$AO$46,9,FALSE)),IF(B20=\"\",\"\",VLOOKUP(B20,'6実績'!$A$16:$AO$46,16,FALSE)))","v":""},{"$f":"IF(K20=\"\",\"\",M20-K20)","v":""},{"$f":"IF(B20=\"\",\"\",VLOOKUP(B20,'6実績'!$A$16:$AO$46,34,FALSE))","v":""}]
[]
[]
[null,null,null,null,null,null,null,null,null,null,null,null,null,null,null,null,null,"　　　"]
[null,{"$f":"'６'!B24:B27","v":""},{"$f":"IF(B24=\"\",\"\",TEXT(DATE(2018+$F$3,$H$3,B24),\"aaa\"))","v":""},"　　　","　　　",{"$f":"IF(IF(B24=\"\",\"\",VLOOKUP(B24,'6実績'!$A$16:$BK$46,63))=\"大会\",IF(B24=\"\",\"\",VLOOKUP(B24,'6実績'!$A$16:$AO$46,22,FALSE)),IF(B24=\"\",\"\",'6実績'!$AC$4)&IF(B24=\"\",\"\",VLOOKUP(B24,'6実績'!$A$16:$AO$46,22,FALSE)))","v":""},null,null,null,null,{"$f":"IF(IF(B24=\"\",\"\",VLOOKUP(B24,'6実績'!$A$16:$AO$46,5,FALSE))=0,IF(B24=\"\",\"\",VLOOKUP(B24,'6実績'!$A$16:$AO$46,12,FALSE)),IF(B24=\"\",\"\",VLOOKUP(B24,'6実績'!$A$16:$AO$46,5,FALSE)))","v":""},"～",{"$f":"IF(IF(B24=\"\",\"\",VLOOKUP(B24,'6実績'!$A$16:$AO$46,16,FALSE))=0,IF(B24=\"\",\"\",VLOOKUP(B24,'6実績'!$A$16:$AO$46,9,FALSE)),IF(B24=\"\",\"\",VLOOKUP(B24,'6実績'!$A$16:$AO$46,16,FALSE)))","v":""},{"$f":"IF(K24=\"\",\"\",M24-K24)","v":""},{"$f":"IF(B24=\"\",\"\",VLOOKUP(B24,'6実績'!$A$16:$AO$46,34,FALSE))","v":""}]
[]
[]
[null,null,null,null,null,null,null,null,null,null,null,null,null,null,null,null,null,"　　　"]
[null,{"$f":"'６'!B28:B31","v":""},{"$f":"IF(B28=\"\",\"\",TEXT(DATE(2018+$F$3,$H$3,B28),\"aaa\"))","v":""},"　　　","　　　",{"$f":"IF(IF(B28=\"\",\"\",VLOOKUP(B28,'6実績'!$A$16:$BK$46,63))=\"大会\",IF(B28=\"\",\"\",VLOOKUP(B28,'6実績'!$A$16:$AO$46,22,FALSE)),IF(B28=\"\",\"\",'6実績'!$AC$4)&IF(B28=\"\",\"\",VLOOKUP(B28,'6実績'!$A$16:$AO$46,22,FALSE)))","v":""},null,null,null,null,{"$f":"IF(IF(B28=\"\",\"\",VLOOKUP(B28,'6実績'!$A$16:$AO$46,5,FALSE))=0,IF(B28=\"\",\"\",VLOOKUP(B28,'6実績'!$A$16:$AO$46,12,FALSE)),IF(B28=\"\",\"\",VLOOKUP(B28,'6実績'!$A$16:$AO$46,5,FALSE)))","v":""},"～",{"$f":"IF(IF(B28=\"\",\"\",VLOOKUP(B28,'6実績'!$A$16:$AO$46,16,FALSE))=0,IF(B28=\"\",\"\",VLOOKUP(B28,'6実績'!$A$16:$AO$46,9,FALSE)),IF(B28=\"\",\"\",VLOOKUP(B28,'6実績'!$A$16:$AO$46,16,FALSE)))","v":""},{"$f":"IF(K28=\"\",\"\",M28-K28)","v":""},{"$f":"IF(B28=\"\",\"\",VLOOKUP(B28,'6実績'!$A$16:$AO$46,34,FALSE))","v":""}]
[]
[]
[null,null,null,null,null,null,null,null,null,null,null,null,null,null,null,null,null,"　　　"]
[null,{"$f":"'６'!B32:B35","v":""},{"$f":"IF(B32=\"\",\"\",TEXT(DATE(2018+$F$3,$H$3,B32),\"aaa\"))","v":""},"　　　","　　　",{"$f":"IF(IF(B32=\"\",\"\",VLOOKUP(B32,'6実績'!$A$16:$BK$46,63))=\"大会\",IF(B32=\"\",\"\",VLOOKUP(B32,'6実績'!$A$16:$AO$46,22,FALSE)),IF(B32=\"\",\"\",'6実績'!$AC$4)&IF(B32=\"\",\"\",VLOOKUP(B32,'6実績'!$A$16:$AO$46,22,FALSE)))","v":""},null,null,null,null,{"$f":"IF(IF(B32=\"\",\"\",VLOOKUP(B32,'6実績'!$A$16:$AO$46,5,FALSE))=0,IF(B32=\"\",\"\",VLOOKUP(B32,'6実績'!$A$16:$AO$46,12,FALSE)),IF(B32=\"\",\"\",VLOOKUP(B32,'6実績'!$A$16:$AO$46,5,FALSE)))","v":""},"～",{"$f":"IF(IF(B32=\"\",\"\",VLOOKUP(B32,'6実績'!$A$16:$AO$46,16,FALSE))=0,IF(B32=\"\",\"\",VLOOKUP(B32,'6実績'!$A$16:$AO$46,9,FALSE)),IF(B32=\"\",\"\",VLOOKUP(B32,'6実績'!$A$16:$AO$46,16,FALSE)))","v":""},{"$f":"IF(K32=\"\",\"\",M32-K32)","v":""},{"$f":"IF(B32=\"\",\"\",VLOOKUP(B32,'6実績'!$A$16:$AO$46,34,FALSE))","v":""}]
[]
[]
[null,null,null,null,null,null,null,null,null,null,null,null,null,null,null,null,null,"　　　"]
[null,{"$f":"'６'!B36:B39","v":""},{"$f":"IF(B36=\"\",\"\",TEXT(DATE(2018+$F$3,$H$3,B36),\"aaa\"))","v":""},"　　　","　　　",{"$f":"IF(IF(B36=\"\",\"\",VLOOKUP(B36,'6実績'!$A$16:$BK$46,63))=\"大会\",IF(B36=\"\",\"\",VLOOKUP(B36,'6実績'!$A$16:$AO$46,22,FALSE)),IF(B36=\"\",\"\",'6実績'!$AC$4)&IF(B36=\"\",\"\",VLOOKUP(B36,'6実績'!$A$16:$AO$46,22,FALSE)))","v":""},null,null,null,null,{"$f":"IF(IF(B36=\"\",\"\",VLOOKUP(B36,'6実績'!$A$16:$AO$46,5,FALSE))=0,IF(B36=\"\",\"\",VLOOKUP(B36,'6実績'!$A$16:$AO$46,12,FALSE)),IF(B36=\"\",\"\",VLOOKUP(B36,'6実績'!$A$16:$AO$46,5,FALSE)))","v":""},"～",{"$f":"IF(IF(B36=\"\",\"\",VLOOKUP(B36,'6実績'!$A$16:$AO$46,16,FALSE))=0,IF(B36=\"\",\"\",VLOOKUP(B36,'6実績'!$A$16:$AO$46,9,FALSE)),IF(B36=\"\",\"\",VLOOKUP(B36,'6実績'!$A$16:$AO$46,16,FALSE)))","v":""},{"$f":"IF(K36=\"\",\"\",M36-K36)","v":""},{"$f":"IF(B36=\"\",\"\",VLOOKUP(B36,'6実績'!$A$16:$AO$46,34,FALSE))","v":""}]
[]
[]
[null,null,null,null,null,null,null,null,null,null,null,null,null,null,null,null,null,"　　　"]
[null,{"$f":"'６'!B40:B43","v":""},{"$f":"IF(B40=\"\",\"\",TEXT(DATE(2018+$F$3,$H$3,B40),\"aaa\"))","v":""},"　　　","　　　",{"$f":"IF(IF(B40=\"\",\"\",VLOOKUP(B40,'6実績'!$A$16:$BK$46,63))=\"大会\",IF(B40=\"\",\"\",VLOOKUP(B40,'6実績'!$A$16:$AO$46,22,FALSE)),IF(B40=\"\",\"\",'6実績'!$AC$4)&IF(B40=\"\",\"\",VLOOKUP(B40,'6実績'!$A$16:$AO$46,22,FALSE)))","v":""},null,null,null,null,{"$f":"IF(IF(B40=\"\",\"\",VLOOKUP(B40,'6実績'!$A$16:$AO$46,5,FALSE))=0,IF(B40=\"\",\"\",VLOOKUP(B40,'6実績'!$A$16:$AO$46,12,FALSE)),IF(B40=\"\",\"\",VLOOKUP(B40,'6実績'!$A$16:$AO$46,5,FALSE)))","v":""},"～",{"$f":"IF(IF(B40=\"\",\"\",VLOOKUP(B40,'6実績'!$A$16:$AO$46,16,FALSE))=0,IF(B40=\"\",\"\",VLOOKUP(B40,'6実績'!$A$16:$AO$46,9,FALSE)),IF(B40=\"\",\"\",VLOOKUP(B40,'6実績'!$A$16:$AO$46,16,FALSE)))","v":""},{"$f":"IF(K40=\"\",\"\",M40-K40)","v":""},{"$f":"IF(B40=\"\",\"\",VLOOKUP(B40,'6実績'!$A$16:$AO$46,34,FALSE))","v":""}]
[]
[]
[null,null,null,null,null,null,null,null,null,null,null,null,null,null,null,null,null,"　　　"]
[]
[null,"　         　１　この整理簿は、教員特殊業務手当及び面接指導手当の支給対象となるものについて、当該手当の支給に必要な事の整理をするものであること。"]
[null,"　　         ２　記入にあたっては、次のように記入すること。"]
[null,"　　　         　「要件」欄：週休日等　　　半日振替日　　　　その他"]
[null,"　　　　         「区分」欄：非常災害　　救急業務　　補導業務　　修学旅行等　　対外運動等　　入学試験業務　　　部活動４　　　　部活動３　　　部活動２　　　面接指導　　　　　"]
[null,"　　　　　　　　　　         ※部活動４は4時間以上、部活動３は３時間以上４時間未満、部活動２は2時間以上３時間未満をいう。"]
[null,"　　　　         「業務内容」欄：職員が従事した業務について、その内容を簡潔に記入すること。"]
[null,"　　　         　「従事時間」欄：左欄に手当の支給対象となる業務の終始の時刻を、右欄には時間を記入すること。"]
[null,"　　　         　「備考」欄：この整理簿を補足する事項を記入すること。"]

{"sheet":"７(副顧問) (3)","index":65,"n_rows":52,"n_cols":18,"rows_kept":52,"cut":false,"hidden":false,"merged":[[39,17,41,17],[41,5,42,9],[43,1,43,3],[39,11,42,11],[39,12,42,12],[39,13,42,13],[39,14,42,14],[39,15,42,15],[39,16,42,16],[39,1,42,1],[39,2,42,2],[39,3,42,3],[39,4,42,4],[39,5,40,9],[39,10,42,10],[35,13,38,13],[35,14,38,14],[35,15,38,15],[35,16,38,16],[35,17,37,17],[37,5,38,9],[31,17,33,17],[33,5,34,9],[35,1,38,1],[35,2,38,2],[35,3,38,3],[35,4,38,4],[35,5,36,9],[35,10,38,10],[35,11,38,11],[35,12,38,12],[31,11,34,11],[31,12,34,12],[31,13,34,13],[31,14,34,14],[31,15,34,15],[31,16,34,16],[31,1,34,1],[31,2,34,2],[31,3,34,3],[31,4,34,4],[31,5,32,9],[31,10,34,10],[27,13,30,13],[27,14,30,14],[27,15,30,15],[27,16,30,16],[27,17,29,17],[29,5,30,9],[23,17,25,17],[25,5,26,9],[27,1,30,1],[27,2,30,2],[27,3,30,3],[27,4,30,4],[27,5,28,9],[27,10,30,10],[27,11,30,11],[27,12,30,12],[23,11,26,11],[23,12,26,12],[23,13,26,13],[23,14,26,14],[23,15,26,15],[23,16,26,16],[23,1,26,1],[23,2,26,2],[23,3,26,3],[23,4,26,4],[23,5,24,9],[23,10,26,10],[19,13,22,13],[19,14,22,14],[19,15,22,15],[19,16,22,16],[19,17,21,17],[21,5,22,9],[15,17,17,17],[17,5,18,9],[19,1,22,1],[19,2,22,2],[19,3,22,3],[19,4,22,4],[19,5,20,9],[19,10,22,10],[19,11,22,11],[19,12,22,12],[15,11,18,11],[15,12,18,12],[15,13,18,13],[15,14,18,14],[15,15,18,15],[15,16,18,16],[15,1,18,1],[15,2,18,2],[15,3,18,3],[15,4,18,4],[15,5,16,9],[15,10,18,10],[11,13,14,13],[11,14,14,14],[11,15,14,15],[11,16,14,16],[11,17,13,17],[13,5,14,9],[11,1,14,1],[11,2,14,2],[11,3,14,3],[11,4,14,4],[11,5,12,9],[11,10,14,10],[11,11,14,11],[11,12,14,12],[7,11,10,11],[7,12,10,12],[7,1,10,1],[7,2,10,2],[7,3,10,3],[7,4,10,4],[7,5,8,9],[7,10,10,10],[4,1,4,2],[4,3,4,4],[4,6,4,8],[4,9,4,10],[4,14,4,17],[6,5,6,9],[6,10,6,13],[7,17,9,17],[9,5,10,9],[7,13,10,13],[7,14,10,14],[7,15,10,15],[7,16,10,16]]}
[]
[]
[null,null,null,"          　　　　　　","令和",{"$f":"'7計画'!AS1-2018","v":2},"年",{"$f":"'7計画'!A7","v":7},"月分","　 教  員  特  殊  業  務  整  理  簿",null,null,null,null,null,null,null,"様式3"]
[]
[null,"氏　名",null,{"$f":"IF('7実績'!AE12=\"\",\"\",'7実績'!AE12)","v":0},null,"職員\n番号",{"$f":"IF('４(副顧問) (3)'!G5=\"\",\"\",'４(副顧問) (3)'!G5)","v":""},null,null,null,null,null,null,null,{"$f":"'４(副顧問) (3)'!$O$5:$R$5","v":"0学校"}]
[]
[null,"日","曜","要　件","区　分","業　　務　　内　　容",null,null,null,null,"従　事　時　間",null,null,null,"従事場所","所属長\n確認印","従事者印","備　　考"]
[null,{"$f":"'７'!B8:B11","v":""},{"$f":"IF(B8=\"\",\"\",TEXT(DATE(2018+$F$3,$H$3,B8),\"aaa\"))","v":""},"　　　","　　　",{"$f":"IF(IF(B8=\"\",\"\",VLOOKUP(B8,'7実績'!$A$16:$BK$46,63))=\"大会\",IF(B8=\"\",\"\",VLOOKUP(B8,'7実績'!$A$16:$AO$46,22,FALSE)),IF(B8=\"\",\"\",'7実績'!$AC$4)&IF(B8=\"\",\"\",VLOOKUP(B8,'7実績'!$A$16:$AO$46,22,FALSE)))","v":""},null,null,null,null,{"$f":"IF(IF(B8=\"\",\"\",VLOOKUP(B8,'7実績'!$A$16:$AO$46,5,FALSE))=0,IF(B8=\"\",\"\",VLOOKUP(B8,'7実績'!$A$16:$AO$46,12,FALSE)),IF(B8=\"\",\"\",VLOOKUP(B8,'7実績'!$A$16:$AO$46,5,FALSE)))","v":""},"～",{"$f":"IF(IF(B8=\"\",\"\",VLOOKUP(B8,'7実績'!$A$16:$AO$46,16,FALSE))=0,IF(B8=\"\",\"\",VLOOKUP(B8,'7実績'!$A$16:$AO$46,9,FALSE)),IF(B8=\"\",\"\",VLOOKUP(B8,'7実績'!$A$16:$AO$46,16,FALSE)))","v":""},{"$f":"IF(K8=\"\",\"\",M8-K8)","v":""},{"$f":"IF(B8=\"\",\"\",VLOOKUP(B8,'7実績'!$A$16:$AO$46,34,FALSE))","v":""}]
[]
[]
[null,null,null,null,null,null,null,null,null,null,null,null,null,null,null,null,null,"　　　"]
[null,{"$f":"'７'!B12:B15","v":""},{"$f":"IF(B12=\"\",\"\",TEXT(DATE(2018+$F$3,$H$3,B12),\"aaa\"))","v":""},"　　　","　　　",{"$f":"IF(IF(B12=\"\",\"\",VLOOKUP(B12,'7実績'!$A$16:$BK$46,63))=\"大会\",IF(B12=\"\",\"\",VLOOKUP(B12,'7実績'!$A$16:$AO$46,22,FALSE)),IF(B12=\"\",\"\",'7実績'!$AC$4)&IF(B12=\"\",\"\",VLOOKUP(B12,'7実績'!$A$16:$AO$46,22,FALSE)))","v":""},null,null,null,null,{"$f":"IF(IF(B12=\"\",\"\",VLOOKUP(B12,'7実績'!$A$16:$AO$46,5,FALSE))=0,IF(B12=\"\",\"\",VLOOKUP(B12,'7実績'!$A$16:$AO$46,12,FALSE)),IF(B12=\"\",\"\",VLOOKUP(B12,'7実績'!$A$16:$AO$46,5,FALSE)))","v":""},"～",{"$f":"IF(IF(B12=\"\",\"\",VLOOKUP(B12,'7実績'!$A$16:$AO$46,16,FALSE))=0,IF(B12=\"\",\"\",VLOOKUP(B12,'7実績'!$A$16:$AO$46,9,FALSE)),IF(B12=\"\",\"\",VLOOKUP(B12,'7実績'!$A$16:$AO$46,16,FALSE)))","v":""},{"$f":"IF(K12=\"\",\"\",M12-K12)","v":""},{"$f":"IF(B12=\"\",\"\",VLOOKUP(B12,'7実績'!$A$16:$AO$46,34,FALSE))","v":""}]
[]
[]
[null,null,null,null,null,null,null,null,null,null,null,null,null,null,null,null,null,"　　　"]
[null,{"$f":"'７'!B16:B19","v":""},{"$f":"IF(B16=\"\",\"\",TEXT(DATE(2018+$F$3,$H$3,B16),\"aaa\"))","v":""},"　　　","　　　",{"$f":"IF(IF(B16=\"\",\"\",VLOOKUP(B16,'7実績'!$A$16:$BK$46,63))=\"大会\",IF(B16=\"\",\"\",VLOOKUP(B16,'7実績'!$A$16:$AO$46,22,FALSE)),IF(B16=\"\",\"\",'7実績'!$AC$4)&IF(B16=\"\",\"\",VLOOKUP(B16,'7実績'!$A$16:$AO$46,22,FALSE)))","v":""},null,null,null,null,{"$f":"IF(IF(B16=\"\",\"\",VLOOKUP(B16,'7実績'!$A$16:$AO$46,5,FALSE))=0,IF(B16=\"\",\"\",VLOOKUP(B16,'7実績'!$A$16:$AO$46,12,FALSE)),IF(B16=\"\",\"\",VLOOKUP(B16,'7実績'!$A$16:$AO$46,5,FALSE)))","v":""},"～",{"$f":"IF(IF(B16=\"\",\"\",VLOOKUP(B16,'7実績'!$A$16:$AO$46,16,FALSE))=0,IF(B16=\"\",\"\",VLOOKUP(B16,'7実績'!$A$16:$AO$46,9,FALSE)),IF(B16=\"\",\"\",VLOOKUP(B16,'7実績'!$A$16:$AO$46,16,FALSE)))","v":""},{"$f":"IF(K16=\"\",\"\",M16-K16)","v":""},{"$f":"IF(B16=\"\",\"\",VLOOKUP(B16,'7実績'!$A$16:$AO$46,34,FALSE))","v":""}]
[]
[]
[null,null,null,null,null,null,null,null,null,null,null,null,null,null,null,null,null,"　　　"]
[null,{"$f":"'７'!B20:B23","v":""},{"$f":"IF(B20=\"\",\"\",TEXT(DATE(2018+$F$3,$H$3,B20),\"aaa\"))","v":""},"　　　","　　　",{"$f":"IF(IF(B20=\"\",\"\",VLOOKUP(B20,'7実績'!$A$16:$BK$46,63))=\"大会\",IF(B20=\"\",\"\",VLOOKUP(B20,'7実績'!$A$16:$AO$46,22,FALSE)),IF(B20=\"\",\"\",'7実績'!$AC$4)&IF(B20=\"\",\"\",VLOOKUP(B20,'7実績'!$A$16:$AO$46,22,FALSE)))","v":""},null,null,null,null,{"$f":"IF(IF(B20=\"\",\"\",VLOOKUP(B20,'7実績'!$A$16:$AO$46,5,FALSE))=0,IF(B20=\"\",\"\",VLOOKUP(B20,'7実績'!$A$16:$AO$46,12,FALSE)),IF(B20=\"\",\"\",VLOOKUP(B20,'7実績'!$A$16:$AO$46,5,FALSE)))","v":""},"～",{"$f":"IF(IF(B20=\"\",\"\",VLOOKUP(B20,'7実績'!$A$16:$AO$46,16,FALSE))=0,IF(B20=\"\",\"\",VLOOKUP(B20,'7実績'!$A$16:$AO$46,9,FALSE)),IF(B20=\"\",\"\",VLOOKUP(B20,'7実績'!$A$16:$AO$46,16,FALSE)))","v":""},{"$f":"IF(K20=\"\",\"\",M20-K20)","v":""},{"$f":"IF(B20=\"\",\"\",VLOOKUP(B20,'7実績'!$A$16:$AO$46,34,FALSE))","v":""}]
[]
[]
[null,null,null,null,null,null,null,null,null,null,null,null,null,null,null,null,null,"　　　"]
[null,{"$f":"'７'!B24:B27","v":""},{"$f":"IF(B24=\"\",\"\",TEXT(DATE(2018+$F$3,$H$3,B24),\"aaa\"))","v":""},"　　　","　　　",{"$f":"IF(IF(B24=\"\",\"\",VLOOKUP(B24,'7実績'!$A$16:$BK$46,63))=\"大会\",IF(B24=\"\",\"\",VLOOKUP(B24,'7実績'!$A$16:$AO$46,22,FALSE)),IF(B24=\"\",\"\",'7実績'!$AC$4)&IF(B24=\"\",\"\",VLOOKUP(B24,'7実績'!$A$16:$AO$46,22,FALSE)))","v":""},null,null,null,null,{"$f":"IF(IF(B24=\"\",\"\",VLOOKUP(B24,'7実績'!$A$16:$AO$46,5,FALSE))=0,IF(B24=\"\",\"\",VLOOKUP(B24,'7実績'!$A$16:$AO$46,12,FALSE)),IF(B24=\"\",\"\",VLOOKUP(B24,'7実績'!$A$16:$AO$46,5,FALSE)))","v":""},"～",{"$f":"IF(IF(B24=\"\",\"\",VLOOKUP(B24,'7実績'!$A$16:$AO$46,16,FALSE))=0,IF(B24=\"\",\"\",VLOOKUP(B24,'7実績'!$A$16:$AO$46,9,FALSE)),IF(B24=\"\",\"\",VLOOKUP(B24,'7実績'!$A$16:$AO$46,16,FALSE)))","v":""},{"$f":"IF(K24=\"\",\"\",M24-K24)","v":""},{"$f":"IF(B24=\"\",\"\",VLOOKUP(B24,'7実績'!$A$16:$AO$46,34,FALSE))","v":""}]
[]
[]
[null,null,null,null,null,null,null,null,null,null,null,null,null,null,null,null,null,"　　　"]
[null,{"$f":"'７'!B28:B31","v":""},{"$f":"IF(B28=\"\",\"\",TEXT(DATE(2018+$F$3,$H$3,B28),\"aaa\"))","v":""},"　　　","　　　",{"$f":"IF(IF(B28=\"\",\"\",VLOOKUP(B28,'7実績'!$A$16:$BK$46,63))=\"大会\",IF(B28=\"\",\"\",VLOOKUP(B28,'7実績'!$A$16:$AO$46,22,FALSE)),IF(B28=\"\",\"\",'7実績'!$AC$4)&IF(B28=\"\",\"\",VLOOKUP(B28,'7実績'!$A$16:$AO$46,22,FALSE)))","v":""},null,null,null,null,{"$f":"IF(IF(B28=\"\",\"\",VLOOKUP(B28,'7実績'!$A$16:$AO$46,5,FALSE))=0,IF(B28=\"\",\"\",VLOOKUP(B28,'7実績'!$A$16:$AO$46,12,FALSE)),IF(B28=\"\",\"\",VLOOKUP(B28,'7実績'!$A$16:$AO$46,5,FALSE)))","v":""},"～",{"$f":"IF(IF(B28=\"\",\"\",VLOOKUP(B28,'7実績'!$A$16:$AO$46,16,FALSE))=0,IF(B28=\"\",\"\",VLOOKUP(B28,'7実績'!$A$16:$AO$46,9,FALSE)),IF(B28=\"\",\"\",VLOOKUP(B28,'7実績'!$A$16:$AO$46,16,FALSE)))","v":""},{"$f":"IF(K28=\"\",\"\",M28-K28)","v":""},{"$f":"IF(B28=\"\",\"\",VLOOKUP(B28,'7実績'!$A$16:$AO$46,34,FALSE))","v":""}]
[]
[]
[null,null,null,null,null,null,null,null,null,null,null,null,null,null,null,null,null,"　　　"]
[null,{"$f":"'７'!B32:B35","v":""},{"$f":"IF(B32=\"\",\"\",TEXT(DATE(2018+$F$3,$H$3,B32),\"aaa\"))","v":""},"　　　","　　　",{"$f":"IF(IF(B32=\"\",\"\",VLOOKUP(B32,'7実績'!$A$16:$BK$46,63))=\"大会\",IF(B32=\"\",\"\",VLOOKUP(B32,'7実績'!$A$16:$AO$46,22,FALSE)),IF(B32=\"\",\"\",'7実績'!$AC$4)&IF(B32=\"\",\"\",VLOOKUP(B32,'7実績'!$A$16:$AO$46,22,FALSE)))","v":""},null,null,null,null,{"$f":"IF(IF(B32=\"\",\"\",VLOOKUP(B32,'7実績'!$A$16:$AO$46,5,FALSE))=0,IF(B32=\"\",\"\",VLOOKUP(B32,'7実績'!$A$16:$AO$46,12,FALSE)),IF(B32=\"\",\"\",VLOOKUP(B32,'7実績'!$A$16:$AO$46,5,FALSE)))","v":""},"～",{"$f":"IF(IF(B32=\"\",\"\",VLOOKUP(B32,'7実績'!$A$16:$AO$46,16,FALSE))=0,IF(B32=\"\",\"\",VLOOKUP(B32,'7実績'!$A$16:$AO$46,9,FALSE)),IF(B32=\"\",\"\",VLOOKUP(B32,'7実績'!$A$16:$AO$46,16,FALSE)))","v":""},{"$f":"IF(K32=\"\",\"\",M32-K32)","v":""},{"$f":"IF(B32=\"\",\"\",VLOOKUP(B32,'7実績'!$A$16:$AO$46,34,FALSE))","v":""}]
[]
[]
[null,null,null,null,null,null,null,null,null,null,null,null,null,null,null,null,null,"　　　"]
[null,{"$f":"'７'!B36:B39","v":""},{"$f":"IF(B36=\"\",\"\",TEXT(DATE(2018+$F$3,$H$3,B36),\"aaa\"))","v":""},"　　　","　　　",{"$f":"IF(IF(B36=\"\",\"\",VLOOKUP(B36,'7実績'!$A$16:$BK$46,63))=\"大会\",IF(B36=\"\",\"\",VLOOKUP(B36,'7実績'!$A$16:$AO$46,22,FALSE)),IF(B36=\"\",\"\",'7実績'!$AC$4)&IF(B36=\"\",\"\",VLOOKUP(B36,'7実績'!$A$16:$AO$46,22,FALSE)))","v":""},null,null,null,null,{"$f":"IF(IF(B36=\"\",\"\",VLOOKUP(B36,'7実績'!$A$16:$AO$46,5,FALSE))=0,IF(B36=\"\",\"\",VLOOKUP(B36,'7実績'!$A$16:$AO$46,12,FALSE)),IF(B36=\"\",\"\",VLOOKUP(B36,'7実績'!$A$16:$AO$46,5,FALSE)))","v":""},"～",{"$f":"IF(IF(B36=\"\",\"\",VLOOKUP(B36,'7実績'!$A$16:$AO$46,16,FALSE))=0,IF(B36=\"\",\"\",VLOOKUP(B36,'7実績'!$A$16:$AO$46,9,FALSE)),IF(B36=\"\",\"\",VLOOKUP(B36,'7実績'!$A$16:$AO$46,16,FALSE)))","v":""},{"$f":"IF(K36=\"\",\"\",M36-K36)","v":""},{"$f":"IF(B36=\"\",\"\",VLOOKUP(B36,'7実績'!$A$16:$AO$46,34,FALSE))","v":""}]
[]
[]
[null,null,null,null,null,null,null,null,null,null,null,null,null,null,null,null,null,"　　　"]
[null,{"$f":"'７'!B40:B43","v":""},{"$f":"IF(B40=\"\",\"\",TEXT(DATE(2018+$F$3,$H$3,B40),\"aaa\"))","v":""},"　　　","　　　",{"$f":"IF(IF(B40=\"\",\"\",VLOOKUP(B40,'7実績'!$A$16:$BK$46,63))=\"大会\",IF(B40=\"\",\"\",VLOOKUP(B40,'7実績'!$A$16:$AO$46,22,FALSE)),IF(B40=\"\",\"\",'7実績'!$AC$4)&IF(B40=\"\",\"\",VLOOKUP(B40,'7実績'!$A$16:$AO$46,22,FALSE)))","v":""},null,null,null,null,{"$f":"IF(IF(B40=\"\",\"\",VLOOKUP(B40,'7実績'!$A$16:$AO$46,5,FALSE))=0,IF(B40=\"\",\"\",VLOOKUP(B40,'7実績'!$A$16:$AO$46,12,FALSE)),IF(B40=\"\",\"\",VLOOKUP(B40,'7実績'!$A$16:$AO$46,5,FALSE)))","v":""},"～",{"$f":"IF(IF(B40=\"\",\"\",VLOOKUP(B40,'7実績'!$A$16:$AO$46,16,FALSE))=0,IF(B40=\"\",\"\",VLOOKUP(B40,'7実績'!$A$16:$AO$46,9,FALSE)),IF(B40=\"\",\"\",VLOOKUP(B40,'7実績'!$A$16:$AO$46,16,FALSE)))","v":""},{"$f":"IF(K40=\"\",\"\",M40-K40)","v":""},{"$f":"IF(B40=\"\",\"\",VLOOKUP(B40,'7実績'!$A$16:$AO$46,34,FALSE))","v":""}]
[]
[]
[null,null,null,null,null,null,null,null,null,null,null,null,null,null,null,null,null,"　　　"]
[null,"( 記入要領等 )"]
[null,"　         　１　この整理簿は、教員特殊業務手当及び面接指導手当の支給対象となるものについて、当該手当の支給に必要な事の整理をするものであること。"]
[null,"　　         ２　記入にあたっては、次のように記入すること。"]
[null,"　　　         　「要件」欄：週休日等　　　半日振替日　　　　その他"]
[null,"　　　　         「区分」欄：非常災害　　救急業務　　補導業務　　修学旅行等　　対外運動等　　入学試験業務　　　部活動４　　　　部活動３　　　部活動２　　　面接指導　　　　　"]
[null,"　　　　　　　　　　         ※部活動４は4時間以上、部活動３は３時間以上４時間未満、部活動２は2時間以上３時間未満をいう。"]
[null,"　　　　         「業務内容」欄：職員が従事した業務について、その内容を簡潔に記入すること。"]
[null,"　　　         　「従事時間」欄：左欄に手当の支給対象となる業務の終始の時刻を、右欄には時間を記入すること。"]
[null,"　　　         　「備考」欄：この整理簿を補足する事項を記入すること。"]

{"sheet":"８(副顧問) (3)","index":66,"n_rows":52,"n_cols":18,"rows_kept":52,"cut":false,"hidden":false,"merged":[[39,17,41,17],[41,5,42,9],[43,1,43,3],[39,11,42,11],[39,12,42,12],[39,13,42,13],[39,14,42,14],[39,15,42,15],[39,16,42,16],[39,1,42,1],[39,2,42,2],[39,3,42,3],[39,4,42,4],[39,5,40,9],[39,10,42,10],[35,13,38,13],[35,14,38,14],[35,15,38,15],[35,16,38,16],[35,17,37,17],[37,5,38,9],[31,17,33,17],[33,5,34,9],[35,1,38,1],[35,2,38,2],[35,3,38,3],[35,4,38,4],[35,5,36,9],[35,10,38,10],[35,11,38,11],[35,12,38,12],[31,11,34,11],[31,12,34,12],[31,13,34,13],[31,14,34,14],[31,15,34,15],[31,16,34,16],[31,1,34,1],[31,2,34,2],[31,3,34,3],[31,4,34,4],[31,5,32,9],[31,10,34,10],[27,13,30,13],[27,14,30,14],[27,15,30,15],[27,16,30,16],[27,17,29,17],[29,5,30,9],[23,17,25,17],[25,5,26,9],[27,1,30,1],[27,2,30,2],[27,3,30,3],[27,4,30,4],[27,5,28,9],[27,10,30,10],[27,11,30,11],[27,12,30,12],[23,11,26,11],[23,12,26,12],[23,13,26,13],[23,14,26,14],[23,15,26,15],[23,16,26,16],[23,1,26,1],[23,2,26,2],[23,3,26,3],[23,4,26,4],[23,5,24,9],[23,10,26,10],[19,13,22,13],[19,14,22,14],[19,15,22,15],[19,16,22,16],[19,17,21,17],[21,5,22,9],[15,17,17,17],[17,5,18,9],[19,1,22,1],[19,2,22,2],[19,3,22,3],[19,4,22,4],[19,5,20,9],[19,10,22,10],[19,11,22,11],[19,12,22,12],[15,11,18,11],[15,12,18,12],[15,13,18,13],[15,14,18,14],[15,15,18,15],[15,16,18,16],[15,1,18,1],[15,2,18,2],[15,3,18,3],[15,4,18,4],[15,5,16,9],[15,10,18,10],[11,13,14,13],[11,14,14,14],[11,15,14,15],[11,16,14,16],[11,17,13,17],[13,5,14,9],[11,1,14,1],[11,2,14,2],[11,3,14,3],[11,4,14,4],[11,5,12,9],[11,10,14,10],[11,11,14,11],[11,12,14,12],[7,11,10,11],[7,12,10,12],[7,1,10,1],[7,2,10,2],[7,3,10,3],[7,4,10,4],[7,5,8,9],[7,10,10,10],[4,1,4,2],[4,3,4,4],[4,6,4,8],[4,9,4,10],[4,14,4,17],[6,5,6,9],[6,10,6,13],[7,17,9,17],[9,5,10,9],[7,13,10,13],[7,14,10,14],[7,15,10,15],[7,16,10,16]]}
[]
[]
[null,null,null,"          　　　　　　","令和",{"$f":"'8計画'!AS1-2018","v":2},"年",{"$f":"'8計画'!A7","v":8},"月分","　 教  員  特  殊  業  務  整  理  簿",null,null,null,null,null,null,null,"様式3"]
[]
[null,"氏　名",null,{"$f":"IF('8実績'!AE12=\"\",\"\",'8実績'!AE12)","v":0},null,"職員\n番号",{"$f":"IF('４(副顧問) (3)'!G5=\"\",\"\",'４(副顧問) (3)'!G5)","v":""},null,null,null,null,null,null,null,{"$f":"'４(副顧問) (3)'!$O$5:$R$5","v":"0学校"}]
[]
[null,"日","曜","要　件","区　分","業　　務　　内　　容",null,null,null,null,"従　事　時　間",null,null,null,"従事場所","所属長\n確認印","従事者印","備　　考"]
[null,{"$f":"'８'!B8:B11","v":""},{"$f":"IF(B8=\"\",\"\",TEXT(DATE(2018+$F$3,$H$3,B8),\"aaa\"))","v":""},"　　　","　　　",{"$f":"IF(IF(B8=\"\",\"\",VLOOKUP(B8,'8実績'!$A$16:$BK$46,63))=\"大会\",IF(B8=\"\",\"\",VLOOKUP(B8,'8実績'!$A$16:$AO$46,22,FALSE)),IF(B8=\"\",\"\",'8実績'!$AC$4)&IF(B8=\"\",\"\",VLOOKUP(B8,'8実績'!$A$16:$AO$46,22,FALSE)))","v":""},null,null,null,null,{"$f":"IF(IF(B8=\"\",\"\",VLOOKUP(B8,'8実績'!$A$16:$AO$46,5,FALSE))=0,IF(B8=\"\",\"\",VLOOKUP(B8,'8実績'!$A$16:$AO$46,12,FALSE)),IF(B8=\"\",\"\",VLOOKUP(B8,'8実績'!$A$16:$AO$46,5,FALSE)))","v":""},"～",{"$f":"IF(IF(B8=\"\",\"\",VLOOKUP(B8,'8実績'!$A$16:$AO$46,16,FALSE))=0,IF(B8=\"\",\"\",VLOOKUP(B8,'8実績'!$A$16:$AO$46,9,FALSE)),IF(B8=\"\",\"\",VLOOKUP(B8,'8実績'!$A$16:$AO$46,16,FALSE)))","v":""},{"$f":"IF(K8=\"\",\"\",M8-K8)","v":""},{"$f":"IF(B8=\"\",\"\",VLOOKUP(B8,'8実績'!$A$16:$AO$46,34,FALSE))","v":""}]
[]
[]
[null,null,null,null,null,null,null,null,null,null,null,null,null,null,null,null,null,"　　　"]
[null,{"$f":"'８'!B12:B15","v":""},{"$f":"IF(B12=\"\",\"\",TEXT(DATE(2018+$F$3,$H$3,B12),\"aaa\"))","v":""},"　　　","　　　",{"$f":"IF(IF(B12=\"\",\"\",VLOOKUP(B12,'8実績'!$A$16:$BK$46,63))=\"大会\",IF(B12=\"\",\"\",VLOOKUP(B12,'8実績'!$A$16:$AO$46,22,FALSE)),IF(B12=\"\",\"\",'8実績'!$AC$4)&IF(B12=\"\",\"\",VLOOKUP(B12,'8実績'!$A$16:$AO$46,22,FALSE)))","v":""},null,null,null,null,{"$f":"IF(IF(B12=\"\",\"\",VLOOKUP(B12,'8実績'!$A$16:$AO$46,5,FALSE))=0,IF(B12=\"\",\"\",VLOOKUP(B12,'8実績'!$A$16:$AO$46,12,FALSE)),IF(B12=\"\",\"\",VLOOKUP(B12,'8実績'!$A$16:$AO$46,5,FALSE)))","v":""},"～",{"$f":"IF(IF(B12=\"\",\"\",VLOOKUP(B12,'8実績'!$A$16:$AO$46,16,FALSE))=0,IF(B12=\"\",\"\",VLOOKUP(B12,'8実績'!$A$16:$AO$46,9,FALSE)),IF(B12=\"\",\"\",VLOOKUP(B12,'8実績'!$A$16:$AO$46,16,FALSE)))","v":""},{"$f":"IF(K12=\"\",\"\",M12-K12)","v":""},{"$f":"IF(B12=\"\",\"\",VLOOKUP(B12,'8実績'!$A$16:$AO$46,34,FALSE))","v":""}]
[]
[]
[null,null,null,null,null,null,null,null,null,null,null,null,null,null,null,null,null,"　　　"]
[null,{"$f":"'８'!B16:B19","v":""},{"$f":"IF(B16=\"\",\"\",TEXT(DATE(2018+$F$3,$H$3,B16),\"aaa\"))","v":""},"　　　","　　　",{"$f":"IF(IF(B16=\"\",\"\",VLOOKUP(B16,'8実績'!$A$16:$BK$46,63))=\"大会\",IF(B16=\"\",\"\",VLOOKUP(B16,'8実績'!$A$16:$AO$46,22,FALSE)),IF(B16=\"\",\"\",'8実績'!$AC$4)&IF(B16=\"\",\"\",VLOOKUP(B16,'8実績'!$A$16:$AO$46,22,FALSE)))","v":""},null,null,null,null,{"$f":"IF(IF(B16=\"\",\"\",VLOOKUP(B16,'8実績'!$A$16:$AO$46,5,FALSE))=0,IF(B16=\"\",\"\",VLOOKUP(B16,'8実績'!$A$16:$AO$46,12,FALSE)),IF(B16=\"\",\"\",VLOOKUP(B16,'8実績'!$A$16:$AO$46,5,FALSE)))","v":""},"～",{"$f":"IF(IF(B16=\"\",\"\",VLOOKUP(B16,'8実績'!$A$16:$AO$46,16,FALSE))=0,IF(B16=\"\",\"\",VLOOKUP(B16,'8実績'!$A$16:$AO$46,9,FALSE)),IF(B16=\"\",\"\",VLOOKUP(B16,'8実績'!$A$16:$AO$46,16,FALSE)))","v":""},{"$f":"IF(K16=\"\",\"\",M16-K16)","v":""},{"$f":"IF(B16=\"\",\"\",VLOOKUP(B16,'8実績'!$A$16:$AO$46,34,FALSE))","v":""}]
[]
[]
[null,null,null,null,null,null,null,null,null,null,null,null,null,null,null,null,null,"　　　"]
[null,{"$f":"'８'!B20:B23","v":""},{"$f":"IF(B20=\"\",\"\",TEXT(DATE(2018+$F$3,$H$3,B20),\"aaa\"))","v":""},"　　　","　　　",{"$f":"IF(IF(B20=\"\",\"\",VLOOKUP(B20,'8実績'!$A$16:$BK$46,63))=\"大会\",IF(B20=\"\",\"\",VLOOKUP(B20,'8実績'!$A$16:$AO$46,22,FALSE)),IF(B20=\"\",\"\",'8実績'!$AC$4)&IF(B20=\"\",\"\",VLOOKUP(B20,'8実績'!$A$16:$AO$46,22,FALSE)))","v":""},null,null,null,null,{"$f":"IF(IF(B20=\"\",\"\",VLOOKUP(B20,'8実績'!$A$16:$AO$46,5,FALSE))=0,IF(B20=\"\",\"\",VLOOKUP(B20,'8実績'!$A$16:$AO$46,12,FALSE)),IF(B20=\"\",\"\",VLOOKUP(B20,'8実績'!$A$16:$AO$46,5,FALSE)))","v":""},"～",{"$f":"IF(IF(B20=\"\",\"\",VLOOKUP(B20,'8実績'!$A$16:$AO$46,16,FALSE))=0,IF(B20=\"\",\"\",VLOOKUP(B20,'8実績'!$A$16:$AO$46,9,FALSE)),IF(B20=\"\",\"\",VLOOKUP(B20,'8実績'!$A$16:$AO$46,16,FALSE)))","v":""},{"$f":"IF(K20=\"\",\"\",M20-K20)","v":""},{"$f":"IF(B20=\"\",\"\",VLOOKUP(B20,'8実績'!$A$16:$AO$46,34,FALSE))","v":""}]
[]
[]
[null,null,null,null,null,null,null,null,null,null,null,null,null,null,null,null,null,"　　　"]
[null,{"$f":"'８'!B24:B27","v":""},{"$f":"IF(B24=\"\",\"\",TEXT(DATE(2018+$F$3,$H$3,B24),\"aaa\"))","v":""},"　　　","　　　",{"$f":"IF(IF(B24=\"\",\"\",VLOOKUP(B24,'8実績'!$A$16:$BK$46,63))=\"大会\",IF(B24=\"\",\"\",VLOOKUP(B24,'8実績'!$A$16:$AO$46,22,FALSE)),IF(B24=\"\",\"\",'8実績'!$AC$4)&IF(B24=\"\",\"\",VLOOKUP(B24,'8実績'!$A$16:$AO$46,22,FALSE)))","v":""},null,null,null,null,{"$f":"IF(IF(B24=\"\",\"\",VLOOKUP(B24,'8実績'!$A$16:$AO$46,5,FALSE))=0,IF(B24=\"\",\"\",VLOOKUP(B24,'8実績'!$A$16:$AO$46,12,FALSE)),IF(B24=\"\",\"\",VLOOKUP(B24,'8実績'!$A$16:$AO$46,5,FALSE)))","v":""},"～",{"$f":"IF(IF(B24=\"\",\"\",VLOOKUP(B24,'8実績'!$A$16:$AO$46,16,FALSE))=0,IF(B24=\"\",\"\",VLOOKUP(B24,'8実績'!$A$16:$AO$46,9,FALSE)),IF(B24=\"\",\"\",VLOOKUP(B24,'8実績'!$A$16:$AO$46,16,FALSE)))","v":""},{"$f":"IF(K24=\"\",\"\",M24-K24)","v":""},{"$f":"IF(B24=\"\",\"\",VLOOKUP(B24,'8実績'!$A$16:$AO$46,34,FALSE))","v":""}]
[]
[]
[null,null,null,null,null,null,null,null,null,null,null,null,null,null,null,null,null,"　　　"]
[null,{"$f":"'８'!B28:B31","v":""},{"$f":"IF(B28=\"\",\"\",TEXT(DATE(2018+$F$3,$H$3,B28),\"aaa\"))","v":""},"　　　","　　　",{"$f":"IF(IF(B28=\"\",\"\",VLOOKUP(B28,'8実績'!$A$16:$BK$46,63))=\"大会\",IF(B28=\"\",\"\",VLOOKUP(B28,'8実績'!$A$16:$AO$46,22,FALSE)),IF(B28=\"\",\"\",'8実績'!$AC$4)&IF(B28=\"\",\"\",VLOOKUP(B28,'8実績'!$A$16:$AO$46,22,FALSE)))","v":""},null,null,null,null,{"$f":"IF(IF(B28=\"\",\"\",VLOOKUP(B28,'8実績'!$A$16:$AO$46,5,FALSE))=0,IF(B28=\"\",\"\",VLOOKUP(B28,'8実績'!$A$16:$AO$46,12,FALSE)),IF(B28=\"\",\"\",VLOOKUP(B28,'8実績'!$A$16:$AO$46,5,FALSE)))","v":""},"～",{"$f":"IF(IF(B28=\"\",\"\",VLOOKUP(B28,'8実績'!$A$16:$AO$46,16,FALSE))=0,IF(B28=\"\",\"\",VLOOKUP(B28,'8実績'!$A$16:$AO$46,9,FALSE)),IF(B28=\"\",\"\",VLOOKUP(B28,'8実績'!$A$16:$AO$46,16,FALSE)))","v":""},{"$f":"IF(K28=\"\",\"\",M28-K28)","v":""},{"$f":"IF(B28=\"\",\"\",VLOOKUP(B28,'8実績'!$A$16:$AO$46,34,FALSE))","v":""}]
[]
[]
[null,null,null,null,null,null,null,null,null,null,null,null,null,null,null,null,null,"　　　"]
[null,{"$f":"'８'!B32:B35","v":""},{"$f":"IF(B32=\"\",\"\",TEXT(DATE(2018+$F$3,$H$3,B32),\"aaa\"))","v":""},"　　　","　　　",{"$f":"IF(IF(B32=\"\",\"\",VLOOKUP(B32,'8実績'!$A$16:$BK$46,63))=\"大会\",IF(B32=\"\",\"\",VLOOKUP(B32,'8実績'!$A$16:$AO$46,22,FALSE)),IF(B32=\"\",\"\",'8実績'!$AC$4)&IF(B32=\"\",\"\",VLOOKUP(B32,'8実績'!$A$16:$AO$46,22,FALSE)))","v":""},null,null,null,null,{"$f":"IF(IF(B32=\"\",\"\",VLOOKUP(B32,'8実績'!$A$16:$AO$46,5,FALSE))=0,IF(B32=\"\",\"\",VLOOKUP(B32,'8実績'!$A$16:$AO$46,12,FALSE)),IF(B32=\"\",\"\",VLOOKUP(B32,'8実績'!$A$16:$AO$46,5,FALSE)))","v":""},"～",{"$f":"IF(IF(B32=\"\",\"\",VLOOKUP(B32,'8実績'!$A$16:$AO$46,16,FALSE))=0,IF(B32=\"\",\"\",VLOOKUP(B32,'8実績'!$A$16:$AO$46,9,FALSE)),IF(B32=\"\",\"\",VLOOKUP(B32,'8実績'!$A$16:$AO$46,16,FALSE)))","v":""},{"$f":"IF(K32=\"\",\"\",M32-K32)","v":""},{"$f":"IF(B32=\"\",\"\",VLOOKUP(B32,'8実績'!$A$16:$AO$46,34,FALSE))","v":""}]
[]
[]
[null,null,null,null,null,null,null,null,null,null,null,null,null,null,null,null,null,"　　　"]
[null,{"$f":"'８'!B36:B39","v":""},{"$f":"IF(B36=\"\",\"\",TEXT(DATE(2018+$F$3,$H$3,B36),\"aaa\"))","v":""},"　　　","　　　",{"$f":"IF(IF(B36=\"\",\"\",VLOOKUP(B36,'8実績'!$A$16:$BK$46,63))=\"大会\",IF(B36=\"\",\"\",VLOOKUP(B36,'8実績'!$A$16:$AO$46,22,FALSE)),IF(B36=\"\",\"\",'8実績'!$AC$4)&IF(B36=\"\",\"\",VLOOKUP(B36,'8実績'!$A$16:$AO$46,22,FALSE)))","v":""},null,null,null,null,{"$f":"IF(IF(B36=\"\",\"\",VLOOKUP(B36,'8実績'!$A$16:$AO$46,5,FALSE))=0,IF(B36=\"\",\"\",VLOOKUP(B36,'8実績'!$A$16:$AO$46,12,FALSE)),IF(B36=\"\",\"\",VLOOKUP(B36,'8実績'!$A$16:$AO$46,5,FALSE)))","v":""},"～",{"$f":"IF(IF(B36=\"\",\"\",VLOOKUP(B36,'8実績'!$A$16:$AO$46,16,FALSE))=0,IF(B36=\"\",\"\",VLOOKUP(B36,'8実績'!$A$16:$AO$46,9,FALSE)),IF(B36=\"\",\"\",VLOOKUP(B36,'8実績'!$A$16:$AO$46,16,FALSE)))","v":""},{"$f":"IF(K36=\"\",\"\",M36-K36)","v":""},{"$f":"IF(B36=\"\",\"\",VLOOKUP(B36,'8実績'!$A$16:$AO$46,34,FALSE))","v":""}]
[]
[]
[null,null,null,null,null,null,null,null,null,null,null,null,null,null,null,null,null,"　　　"]
[null,{"$f":"'８'!B40:B43","v":""},{"$f":"IF(B40=\"\",\"\",TEXT(DATE(2018+$F$3,$H$3,B40),\"aaa\"))","v":""},"　　　","　　　",{"$f":"IF(IF(B40=\"\",\"\",VLOOKUP(B40,'8実績'!$A$16:$BK$46,63))=\"大会\",IF(B40=\"\",\"\",VLOOKUP(B40,'8実績'!$A$16:$AO$46,22,FALSE)),IF(B40=\"\",\"\",'8実績'!$AC$4)&IF(B40=\"\",\"\",VLOOKUP(B40,'8実績'!$A$16:$AO$46,22,FALSE)))","v":""},null,null,null,null,{"$f":"IF(IF(B40=\"\",\"\",VLOOKUP(B40,'8実績'!$A$16:$AO$46,5,FALSE))=0,IF(B40=\"\",\"\",VLOOKUP(B40,'8実績'!$A$16:$AO$46,12,FALSE)),IF(B40=\"\",\"\",VLOOKUP(B40,'8実績'!$A$16:$AO$46,5,FALSE)))","v":""},"～",{"$f":"IF(IF(B40=\"\",\"\",VLOOKUP(B40,'8実績'!$A$16:$AO$46,16,FALSE))=0,IF(B40=\"\",\"\",VLOOKUP(B40,'8実績'!$A$16:$AO$46,9,FALSE)),IF(B40=\"\",\"\",VLOOKUP(B40,'8実績'!$A$16:$AO$46,16,FALSE)))","v":""},{"$f":"IF(K40=\"\",\"\",M40-K40)","v":""},{"$f":"IF(B40=\"\",\"\",VLOOKUP(B40,'8実績'!$A$16:$AO$46,34,FALSE))","v":""}]
[]
[]
[null,null,null,null,null,null,null,null,null,null,null,null,null,null,null,null,null,"　　　"]
[null,"( 記入要領等 )"]
[null,"　         　１　この整理簿は、教員特殊業務手当及び面接指導手当の支給対象となるものについて、当該手当の支給に必要な事の整理をするものであること。"]
[null,"　　         ２　記入にあたっては、次のように記入すること。"]
[null,"　　　         　「要件」欄：週休日等　　　半日振替日　　　　その他"]
[null,"　　　　         「区分」欄：非常災害　　救急業務　　補導業務　　修学旅行等　　対外運動等　　入学試験業務　　　部活動４　　　　部活動３　　　部活動２　　　面接指導　　　　　"]
[null,"　　　　　　　　　　         ※部活動４は4時間以上、部活動３は３時間以上４時間未満、部活動２は2時間以上３時間未満をいう。"]
[null,"　　　　         「業務内容」欄：職員が従事した業務について、その内容を簡潔に記入すること。"]
[null,"　　　         　「従事時間」欄：左欄に手当の支給対象となる業務の終始の時刻を、右欄には時間を記入すること。"]
[null,"　　　         　「備考」欄：この整理簿を補足する事項を記入すること。"]

{"sheet":"９(副顧問) (3)","index":67,"n_rows":52,"n_cols":18,"rows_kept":52,"cut":false,"hidden":false,"merged":[[39,17,41,17],[41,5,42,9],[43,1,43,3],[39,11,42,11],[39,12,42,12],[39,13,42,13],[39,14,42,14],[39,15,42,15],[39,16,42,16],[39,1,42,1],[39,2,42,2],[39,3,42,3],[39,4,42,4],[39,5,40,9],[39,10,42,10],[35,13,38,13],[35,14,38,14],[35,15,38,15],[35,16,38,16],[35,17,37,17],[37,5,38,9],[31,17,33,17],[33,5,34,9],[35,1,38,1],[35,2,38,2],[35,3,38,3],[35,4,38,4],[35,5,36,9],[35,10,38,10],[35,11,38,11],[35,12,38,12],[31,11,34,11],[31,12,34,12],[31,13,34,13],[31,14,34,14],[31,15,34,15],[31,16,34,16],[31,1,34,1],[31,2,34,2],[31,3,34,3],[31,4,34,4],[31,5,32,9],[31,10,34,10],[27,13,30,13],[27,14,30,14],[27,15,30,15],[27,16,30,16],[27,17,29,17],[29,5,30,9],[23,17,25,17],[25,5,26,9],[27,1,30,1],[27,2,30,2],[27,3,30,3],[27,4,30,4],[27,5,28,9],[27,10,30,10],[27,11,30,11],[27,12,30,12],[23,11,26,11],[23,12,26,12],[23,13,26,13],[23,14,26,14],[23,15,26,15],[23,16,26,16],[23,1,26,1],[23,2,26,2],[23,3,26,3],[23,4,26,4],[23,5,24,9],[23,10,26,10],[19,13,22,13],[19,14,22,14],[19,15,22,15],[19,16,22,16],[19,17,21,17],[21,5,22,9],[15,17,17,17],[17,5,18,9],[19,1,22,1],[19,2,22,2],[19,3,22,3],[19,4,22,4],[19,5,20,9],[19,10,22,10],[19,11,22,11],[19,12,22,12],[15,11,18,11],[15,12,18,12],[15,13,18,13],[15,14,18,14],[15,15,18,15],[15,16,18,16],[15,1,18,1],[15,2,18,2],[15,3,18,3],[15,4,18,4],[15,5,16,9],[15,10,18,10],[11,13,14,13],[11,14,14,14],[11,15,14,15],[11,16,14,16],[11,17,13,17],[13,5,14,9],[11,1,14,1],[11,2,14,2],[11,3,14,3],[11,4,14,4],[11,5,12,9],[11,10,14,10],[11,11,14,11],[11,12,14,12],[7,11,10,11],[7,12,10,12],[7,1,10,1],[7,2,10,2],[7,3,10,3],[7,4,10,4],[7,5,8,9],[7,10,10,10],[4,1,4,2],[4,3,4,4],[4,6,4,8],[4,9,4,10],[4,14,4,17],[6,5,6,9],[6,10,6,13],[7,17,9,17],[9,5,10,9],[7,13,10,13],[7,14,10,14],[7,15,10,15],[7,16,10,16]]}
[]
[]
[null,null,null,"          　　　　　　","令和",{"$f":"'9計画'!AS1-2018","v":2},"年",{"$f":"'9計画'!A7","v":9},"月分","　 教  員  特  殊  業  務  整  理  簿",null,null,null,null,null,null,null,"様式3"]
[]
[null,"氏　名",null,{"$f":"IF('9実績'!AE12=\"\",\"\",'9実績'!AE12)","v":0},null,"職員\n番号",{"$f":"IF('４(副顧問) (3)'!G5=\"\",\"\",'４(副顧問) (3)'!G5)","v":""},null,null,null,null,null,null,null,{"$f":"'４(副顧問) (3)'!$O$5:$R$5","v":"0学校"}]
[]
[null,"日","曜","要　件","区　分","業　　務　　内　　容",null,null,null,null,"従　事　時　間",null,null,null,"従事場所","所属長\n確認印","従事者印","備　　考"]
[null,{"$f":"'９'!B8:B11","v":""},{"$f":"IF(B8=\"\",\"\",TEXT(DATE(2018+$F$3,$H$3,B8),\"aaa\"))","v":""},"　　　","　　　",{"$f":"IF(IF(B8=\"\",\"\",VLOOKUP(B8,'9実績'!$A$16:$BK$46,63))=\"大会\",IF(B8=\"\",\"\",VLOOKUP(B8,'9実績'!$A$16:$AO$46,22,FALSE)),IF(B8=\"\",\"\",'9実績'!$AC$4)&IF(B8=\"\",\"\",VLOOKUP(B8,'9実績'!$A$16:$AO$46,22,FALSE)))","v":""},null,null,null,null,{"$f":"IF(IF(B8=\"\",\"\",VLOOKUP(B8,'9実績'!$A$16:$AO$46,5,FALSE))=0,IF(B8=\"\",\"\",VLOOKUP(B8,'9実績'!$A$16:$AO$46,12,FALSE)),IF(B8=\"\",\"\",VLOOKUP(B8,'9実績'!$A$16:$AO$46,5,FALSE)))","v":""},"～",{"$f":"IF(IF(B8=\"\",\"\",VLOOKUP(B8,'9実績'!$A$16:$AO$46,16,FALSE))=0,IF(B8=\"\",\"\",VLOOKUP(B8,'9実績'!$A$16:$AO$46,9,FALSE)),IF(B8=\"\",\"\",VLOOKUP(B8,'9実績'!$A$16:$AO$46,16,FALSE)))","v":""},{"$f":"IF(K8=\"\",\"\",M8-K8)","v":""},{"$f":"IF(B8=\"\",\"\",VLOOKUP(B8,'9実績'!$A$16:$AO$46,34,FALSE))","v":""}]
[]
[]
[null,null,null,null,null,null,null,null,null,null,null,null,null,null,null,null,null,"　　　"]
[null,{"$f":"'９'!B12:B15","v":""},{"$f":"IF(B12=\"\",\"\",TEXT(DATE(2018+$F$3,$H$3,B12),\"aaa\"))","v":""},"　　　","　　　",{"$f":"IF(IF(B12=\"\",\"\",VLOOKUP(B12,'9実績'!$A$16:$BK$46,63))=\"大会\",IF(B12=\"\",\"\",VLOOKUP(B12,'9実績'!$A$16:$AO$46,22,FALSE)),IF(B12=\"\",\"\",'9実績'!$AC$4)&IF(B12=\"\",\"\",VLOOKUP(B12,'9実績'!$A$16:$AO$46,22,FALSE)))","v":""},null,null,null,null,{"$f":"IF(IF(B12=\"\",\"\",VLOOKUP(B12,'9実績'!$A$16:$AO$46,5,FALSE))=0,IF(B12=\"\",\"\",VLOOKUP(B12,'9実績'!$A$16:$AO$46,12,FALSE)),IF(B12=\"\",\"\",VLOOKUP(B12,'9実績'!$A$16:$AO$46,5,FALSE)))","v":""},"～",{"$f":"IF(IF(B12=\"\",\"\",VLOOKUP(B12,'9実績'!$A$16:$AO$46,16,FALSE))=0,IF(B12=\"\",\"\",VLOOKUP(B12,'9実績'!$A$16:$AO$46,9,FALSE)),IF(B12=\"\",\"\",VLOOKUP(B12,'9実績'!$A$16:$AO$46,16,FALSE)))","v":""},{"$f":"IF(K12=\"\",\"\",M12-K12)","v":""},{"$f":"IF(B12=\"\",\"\",VLOOKUP(B12,'9実績'!$A$16:$AO$46,34,FALSE))","v":""}]
[]
[]
[null,null,null,null,null,null,null,null,null,null,null,null,null,null,null,null,null,"　　　"]
[null,{"$f":"'９'!B16:B19","v":""},{"$f":"IF(B16=\"\",\"\",TEXT(DATE(2018+$F$3,$H$3,B16),\"aaa\"))","v":""},"　　　","　　　",{"$f":"IF(IF(B16=\"\",\"\",VLOOKUP(B16,'9実績'!$A$16:$BK$46,63))=\"大会\",IF(B16=\"\",\"\",VLOOKUP(B16,'9実績'!$A$16:$AO$46,22,FALSE)),IF(B16=\"\",\"\",'9実績'!$AC$4)&IF(B16=\"\",\"\",VLOOKUP(B16,'9実績'!$A$16:$AO$46,22,FALSE)))","v":""},null,null,null,null,{"$f":"IF(IF(B16=\"\",\"\",VLOOKUP(B16,'9実績'!$A$16:$AO$46,5,FALSE))=0,IF(B16=\"\",\"\",VLOOKUP(B16,'9実績'!$A$16:$AO$46,12,FALSE)),IF(B16=\"\",\"\",VLOOKUP(B16,'9実績'!$A$16:$AO$46,5,FALSE)))","v":""},"～",{"$f":"IF(IF(B16=\"\",\"\",VLOOKUP(B16,'9実績'!$A$16:$AO$46,16,FALSE))=0,IF(B16=\"\",\"\",VLOOKUP(B16,'9実績'!$A$16:$AO$46,9,FALSE)),IF(B16=\"\",\"\",VLOOKUP(B16,'9実績'!$A$16:$AO$46,16,FALSE)))","v":""},{"$f":"IF(K16=\"\",\"\",M16-K16)","v":""},{"$f":"IF(B16=\"\",\"\",VLOOKUP(B16,'9実績'!$A$16:$AO$46,34,FALSE))","v":""}]
[]
[]
[null,null,null,null,null,null,null,null,null,null,null,null,null,null,null,null,null,"　　　"]
[null,{"$f":"'９'!B20:B23","v":""},{"$f":"IF(B20=\"\",\"\",TEXT(DATE(2018+$F$3,$H$3,B20),\"aaa\"))","v":""},"　　　","　　　",{"$f":"IF(IF(B20=\"\",\"\",VLOOKUP(B20,'9実績'!$A$16:$BK$46,63))=\"大会\",IF(B20=\"\",\"\",VLOOKUP(B20,'9実績'!$A$16:$AO$46,22,FALSE)),IF(B20=\"\",\"\",'9実績'!$AC$4)&IF(B20=\"\",\"\",VLOOKUP(B20,'9実績'!$A$16:$AO$46,22,FALSE)))","v":""},null,null,null,null,{"$f":"IF(IF(B20=\"\",\"\",VLOOKUP(B20,'9実績'!$A$16:$AO$46,5,FALSE))=0,IF(B20=\"\",\"\",VLOOKUP(B20,'9実績'!$A$16:$AO$46,12,FALSE)),IF(B20=\"\",\"\",VLOOKUP(B20,'9実績'!$A$16:$AO$46,5,FALSE)))","v":""},"～",{"$f":"IF(IF(B20=\"\",\"\",VLOOKUP(B20,'9実績'!$A$16:$AO$46,16,FALSE))=0,IF(B20=\"\",\"\",VLOOKUP(B20,'9実績'!$A$16:$AO$46,9,FALSE)),IF(B20=\"\",\"\",VLOOKUP(B20,'9実績'!$A$16:$AO$46,16,FALSE)))","v":""},{"$f":"IF(K20=\"\",\"\",M20-K20)","v":""},{"$f":"IF(B20=\"\",\"\",VLOOKUP(B20,'9実績'!$A$16:$AO$46,34,FALSE))","v":""}]
[]
[]
[null,null,null,null,null,null,null,null,null,null,null,null,null,null,null,null,null,"　　　"]
[null,{"$f":"'９'!B24:B27","v":""},{"$f":"IF(B24=\"\",\"\",TEXT(DATE(2018+$F$3,$H$3,B24),\"aaa\"))","v":""},"　　　","　　　",{"$f":"IF(IF(B24=\"\",\"\",VLOOKUP(B24,'9実績'!$A$16:$BK$46,63))=\"大会\",IF(B24=\"\",\"\",VLOOKUP(B24,'9実績'!$A$16:$AO$46,22,FALSE)),IF(B24=\"\",\"\",'9実績'!$AC$4)&IF(B24=\"\",\"\",VLOOKUP(B24,'9実績'!$A$16:$AO$46,22,FALSE)))","v":""},null,null,null,null,{"$f":"IF(IF(B24=\"\",\"\",VLOOKUP(B24,'9実績'!$A$16:$AO$46,5,FALSE))=0,IF(B24=\"\",\"\",VLOOKUP(B24,'9実績'!$A$16:$AO$46,12,FALSE)),IF(B24=\"\",\"\",VLOOKUP(B24,'9実績'!$A$16:$AO$46,5,FALSE)))","v":""},"～",{"$f":"IF(IF(B24=\"\",\"\",VLOOKUP(B24,'9実績'!$A$16:$AO$46,16,FALSE))=0,IF(B24=\"\",\"\",VLOOKUP(B24,'9実績'!$A$16:$AO$46,9,FALSE)),IF(B24=\"\",\"\",VLOOKUP(B24,'9実績'!$A$16:$AO$46,16,FALSE)))","v":""},{"$f":"IF(K24=\"\",\"\",M24-K24)","v":""},{"$f":"IF(B24=\"\",\"\",VLOOKUP(B24,'9実績'!$A$16:$AO$46,34,FALSE))","v":""}]
[]
[]
[null,null,null,null,null,null,null,null,null,null,null,null,null,null,null,null,null,"　　　"]
[null,{"$f":"'９'!B28:B31","v":""},{"$f":"IF(B28=\"\",\"\",TEXT(DATE(2018+$F$3,$H$3,B28),\"aaa\"))","v":""},"　　　","　　　",{"$f":"IF(IF(B28=\"\",\"\",VLOOKUP(B28,'9実績'!$A$16:$BK$46,63))=\"大会\",IF(B28=\"\",\"\",VLOOKUP(B28,'9実績'!$A$16:$AO$46,22,FALSE)),IF(B28=\"\",\"\",'9実績'!$AC$4)&IF(B28=\"\",\"\",VLOOKUP(B28,'9実績'!$A$16:$AO$46,22,FALSE)))","v":""},null,null,null,null,{"$f":"IF(IF(B28=\"\",\"\",VLOOKUP(B28,'9実績'!$A$16:$AO$46,5,FALSE))=0,IF(B28=\"\",\"\",VLOOKUP(B28,'9実績'!$A$16:$AO$46,12,FALSE)),IF(B28=\"\",\"\",VLOOKUP(B28,'9実績'!$A$16:$AO$46,5,FALSE)))","v":""},"～",{"$f":"IF(IF(B28=\"\",\"\",VLOOKUP(B28,'9実績'!$A$16:$AO$46,16,FALSE))=0,IF(B28=\"\",\"\",VLOOKUP(B28,'9実績'!$A$16:$AO$46,9,FALSE)),IF(B28=\"\",\"\",VLOOKUP(B28,'9実績'!$A$16:$AO$46,16,FALSE)))","v":""},{"$f":"IF(K28=\"\",\"\",M28-K28)","v":""},{"$f":"IF(B28=\"\",\"\",VLOOKUP(B28,'9実績'!$A$16:$AO$46,34,FALSE))","v":""}]
[]
[]
[null,null,null,null,null,null,null,null,null,null,null,null,null,null,null,null,null,"　　　"]
[null,{"$f":"'９'!B32:B35","v":""},{"$f":"IF(B32=\"\",\"\",TEXT(DATE(2018+$F$3,$H$3,B32),\"aaa\"))","v":""},"　　　","　　　",{"$f":"IF(IF(B32=\"\",\"\",VLOOKUP(B32,'9実績'!$A$16:$BK$46,63))=\"大会\",IF(B32=\"\",\"\",VLOOKUP(B32,'9実績'!$A$16:$AO$46,22,FALSE)),IF(B32=\"\",\"\",'9実績'!$AC$4)&IF(B32=\"\",\"\",VLOOKUP(B32,'9実績'!$A$16:$AO$46,22,FALSE)))","v":""},null,null,null,null,{"$f":"IF(IF(B32=\"\",\"\",VLOOKUP(B32,'9実績'!$A$16:$AO$46,5,FALSE))=0,IF(B32=\"\",\"\",VLOOKUP(B32,'9実績'!$A$16:$AO$46,12,FALSE)),IF(B32=\"\",\"\",VLOOKUP(B32,'9実績'!$A$16:$AO$46,5,FALSE)))","v":""},"～",{"$f":"IF(IF(B32=\"\",\"\",VLOOKUP(B32,'9実績'!$A$16:$AO$46,16,FALSE))=0,IF(B32=\"\",\"\",VLOOKUP(B32,'9実績'!$A$16:$AO$46,9,FALSE)),IF(B32=\"\",\"\",VLOOKUP(B32,'9実績'!$A$16:$AO$46,16,FALSE)))","v":""},{"$f":"IF(K32=\"\",\"\",M32-K32)","v":""},{"$f":"IF(B32=\"\",\"\",VLOOKUP(B32,'9実績'!$A$16:$AO$46,34,FALSE))","v":""}]
[]
[]
[null,null,null,null,null,null,null,null,null,null,null,null,null,null,null,null,null,"　　　"]
[null,{"$f":"'９'!B36:B39","v":""},{"$f":"IF(B36=\"\",\"\",TEXT(DATE(2018+$F$3,$H$3,B36),\"aaa\"))","v":""},"　　　","　　　",{"$f":"IF(IF(B36=\"\",\"\",VLOOKUP(B36,'9実績'!$A$16:$BK$46,63))=\"大会\",IF(B36=\"\",\"\",VLOOKUP(B36,'9実績'!$A$16:$AO$46,22,FALSE)),IF(B36=\"\",\"\",'9実績'!$AC$4)&IF(B36=\"\",\"\",VLOOKUP(B36,'9実績'!$A$16:$AO$46,22,FALSE)))","v":""},null,null,null,null,{"$f":"IF(IF(B36=\"\",\"\",VLOOKUP(B36,'9実績'!$A$16:$AO$46,5,FALSE))=0,IF(B36=\"\",\"\",VLOOKUP(B36,'9実績'!$A$16:$AO$46,12,FALSE)),IF(B36=\"\",\"\",VLOOKUP(B36,'9実績'!$A$16:$AO$46,5,FALSE)))","v":""},"～",{"$f":"IF(IF(B36=\"\",\"\",VLOOKUP(B36,'9実績'!$A$16:$AO$46,16,FALSE))=0,IF(B36=\"\",\"\",VLOOKUP(B36,'9実績'!$A$16:$AO$46,9,FALSE)),IF(B36=\"\",\"\",VLOOKUP(B36,'9実績'!$A$16:$AO$46,16,FALSE)))","v":""},{"$f":"IF(K36=\"\",\"\",M36-K36)","v":""},{"$f":"IF(B36=\"\",\"\",VLOOKUP(B36,'9実績'!$A$16:$AO$46,34,FALSE))","v":""}]
[]
[]
[null,null,null,null,null,null,null,null,null,null,null,null,null,null,null,null,null,"　　　"]
[null,{"$f":"'９'!B40:B43","v":""},{"$f":"IF(B40=\"\",\"\",TEXT(DATE(2018+$F$3,$H$3,B40),\"aaa\"))","v":""},"　　　","　　　",{"$f":"IF(IF(B40=\"\",\"\",VLOOKUP(B40,'9実績'!$A$16:$BK$46,63))=\"大会\",IF(B40=\"\",\"\",VLOOKUP(B40,'9実績'!$A$16:$AO$46,22,FALSE)),IF(B40=\"\",\"\",'9実績'!$AC$4)&IF(B40=\"\",\"\",VLOOKUP(B40,'9実績'!$A$16:$AO$46,22,FALSE)))","v":""},null,null,null,null,{"$f":"IF(IF(B40=\"\",\"\",VLOOKUP(B40,'9実績'!$A$16:$AO$46,5,FALSE))=0,IF(B40=\"\",\"\",VLOOKUP(B40,'9実績'!$A$16:$AO$46,12,FALSE)),IF(B40=\"\",\"\",VLOOKUP(B40,'9実績'!$A$16:$AO$46,5,FALSE)))","v":""},"～",{"$f":"IF(IF(B40=\"\",\"\",VLOOKUP(B40,'9実績'!$A$16:$AO$46,16,FALSE))=0,IF(B40=\"\",\"\",VLOOKUP(B40,'9実績'!$A$16:$AO$46,9,FALSE)),IF(B40=\"\",\"\",VLOOKUP(B40,'9実績'!$A$16:$AO$46,16,FALSE)))","v":""},{"$f":"IF(K40=\"\",\"\",M40-K40)","v":""},{"$f":"IF(B40=\"\",\"\",VLOOKUP(B40,'9実績'!$A$16:$AO$46,34,FALSE))","v":""}]
[]
[]
[null,null,null,null,null,null,null,null,null,null,null,null,null,null,null,null,null,"　　　"]
[null,"( 記入要領等 )"]
[null,"　         　１　この整理簿は、教員特殊業務手当及び面接指導手当の支給対象となるものについて、当該手当の支給に必要な事の整理をするものであること。"]
[null,"　　         ２　記入にあたっては、次のように記入すること。"]
[null,"　　　         　「要件」欄：週休日等　　　半日振替日　　　　その他"]
[null,"　　　　         「区分」欄：非常災害　　救急業務　　補導業務　　修学旅行等　　対外運動等　　入学試験業務　　　部活動４　　　　部活動３　　　部活動２　　　面接指導　　　　　"]
[null,"　　　　　　　　　　         ※部活動４は4時間以上、部活動３は３時間以上４時間未満、部活動２は2時間以上３時間未満をいう。"]
[null,"　　　　         「業務内容」欄：職員が従事した業務について、その内容を簡潔に記入すること。"]
[null,"　　　         　「従事時間」欄：左欄に手当の支給対象となる業務の終始の時刻を、右欄には時間を記入すること。"]
[null,"　　　         　「備考」欄：この整理簿を補足する事項を記入すること。"]

{"sheet":"１０(副顧問) (3)","index":68,"n_rows":52,"n_cols":18,"rows_kept":52,"cut":false,"hidden":false,"merged":[[39,17,41,17],[41,5,42,9],[43,1,43,3],[39,11,42,11],[39,12,42,12],[39,13,42,13],[39,14,42,14],[39,15,42,15],[39,16,42,16],[39,1,42,1],[39,2,42,2],[39,3,42,3],[39,4,42,4],[39,5,40,9],[39,10,42,10],[35,13,38,13],[35,14,38,14],[35,15,38,15],[35,16,38,16],[35,17,37,17],[37,5,38,9],[31,17,33,17],[33,5,34,9],[35,1,38,1],[35,2,38,2],[35,3,38,3],[35,4,38,4],[35,5,36,9],[35,10,38,10],[35,11,38,11],[35,12,38,12],[31,11,34,11],[31,12,34,12],[31,13,34,13],[31,14,34,14],[31,15,34,15],[31,16,34,16],[31,1,34,1],[31,2,34,2],[31,3,34,3],[31,4,34,4],[31,5,32,9],[31,10,34,10],[27,13,30,13],[27,14,30,14],[27,15,30,15],[27,16,30,16],[27,17,29,17],[29,5,30,9],[23,17,25,17],[25,5,26,9],[27,1,30,1],[27,2,30,2],[27,3,30,3],[27,4,30,4],[27,5,28,9],[27,10,30,10],[27,11,30,11],[27,12,30,12],[23,11,26,11],[23,12,26,12],[23,13,26,13],[23,14,26,14],[23,15,26,15],[23,16,26,16],[23,1,26,1],[23,2,26,2],[23,3,26,3],[23,4,26,4],[23,5,24,9],[23,10,26,10],[19,13,22,13],[19,14,22,14],[19,15,22,15],[19,16,22,16],[19,17,21,17],[21,5,22,9],[15,17,17,17],[17,5,18,9],[19,1,22,1],[19,2,22,2],[19,3,22,3],[19,4,22,4],[19,5,20,9],[19,10,22,10],[19,11,22,11],[19,12,22,12],[15,11,18,11],[15,12,18,12],[15,13,18,13],[15,14,18,14],[15,15,18,15],[15,16,18,16],[15,1,18,1],[15,2,18,2],[15,3,18,3],[15,4,18,4],[15,5,16,9],[15,10,18,10],[11,13,14,13],[11,14,14,14],[11,15,14,15],[11,16,14,16],[11,17,13,17],[13,5,14,9],[11,1,14,1],[11,2,14,2],[11,3,14,3],[11,4,14,4],[11,5,12,9],[11,10,14,10],[11,11,14,11],[11,12,14,12],[7,11,10,11],[7,12,10,12],[7,1,10,1],[7,2,10,2],[7,3,10,3],[7,4,10,4],[7,5,8,9],[7,10,10,10],[4,1,4,2],[4,3,4,4],[4,6,4,8],[4,9,4,10],[4,14,4,17],[6,5,6,9],[6,10,6,13],[7,17,9,17],[9,5,10,9],[7,13,10,13],[7,14,10,14],[7,15,10,15],[7,16,10,16]]}
[]
[]
[null,null,null,"          　　　　　　","令和",{"$f":"'10計画'!AS1-2018","v":2},"年",{"$f":"'10計画'!A7","v":10},"月分","　 教  員  特  殊  業  務  整  理  簿",null,null,null,null,null,null,null,"様式3"]
[]
[null,"氏　名",null,{"$f":"IF('10実績'!AE12=\"\",\"\",'10実績'!AE12)","v":0},null,"職員\n番号",{"$f":"IF('４(副顧問) (3)'!G5=\"\",\"\",'４(副顧問) (3)'!G5)","v":""},null,null,null,null,null,null,null,{"$f":"'４(副顧問) (3)'!$O$5:$R$5","v":"0学校"}]
[]
[null,"日","曜","要　件","区　分","業　　務　　内　　容",null,null,null,null,"従　事　時　間",null,null,null,"従事場所","所属長\n確認印","従事者印","備　　考"]
[null,{"$f":"'１０'!B8:B11","v":""},{"$f":"IF(B8=\"\",\"\",TEXT(DATE(2018+$F$3,$H$3,B8),\"aaa\"))","v":""},"　　　","　　　",{"$f":"IF(IF(B8=\"\",\"\",VLOOKUP(B8,'10実績'!$A$16:$BK$46,63))=\"大会\",IF(B8=\"\",\"\",VLOOKUP(B8,'10実績'!$A$16:$AO$46,22,FALSE)),IF(B8=\"\",\"\",'10実績'!$AC$4)&IF(B8=\"\",\"\",VLOOKUP(B8,'10実績'!$A$16:$AO$46,22,FALSE)))","v":""},null,null,null,null,{"$f":"IF(IF(B8=\"\",\"\",VLOOKUP(B8,'10実績'!$A$16:$AO$46,5,FALSE))=0,IF(B8=\"\",\"\",VLOOKUP(B8,'10実績'!$A$16:$AO$46,12,FALSE)),IF(B8=\"\",\"\",VLOOKUP(B8,'10実績'!$A$16:$AO$46,5,FALSE)))","v":""},"～",{"$f":"IF(IF(B8=\"\",\"\",VLOOKUP(B8,'10実績'!$A$16:$AO$46,16,FALSE))=0,IF(B8=\"\",\"\",VLOOKUP(B8,'10実績'!$A$16:$AO$46,9,FALSE)),IF(B8=\"\",\"\",VLOOKUP(B8,'10実績'!$A$16:$AO$46,16,FALSE)))","v":""},{"$f":"IF(K8=\"\",\"\",M8-K8)","v":""},{"$f":"IF(B8=\"\",\"\",VLOOKUP(B8,'10実績'!$A$16:$AO$46,34,FALSE))","v":""}]
[]
[]
[null,null,null,null,null,null,null,null,null,null,null,null,null,null,null,null,null,"　　　"]
[null,{"$f":"'１０'!B12:B15","v":""},{"$f":"IF(B12=\"\",\"\",TEXT(DATE(2018+$F$3,$H$3,B12),\"aaa\"))","v":""},"　　　","　　　",{"$f":"IF(IF(B12=\"\",\"\",VLOOKUP(B12,'10実績'!$A$16:$BK$46,63))=\"大会\",IF(B12=\"\",\"\",VLOOKUP(B12,'10実績'!$A$16:$AO$46,22,FALSE)),IF(B12=\"\",\"\",'10実績'!$AC$4)&IF(B12=\"\",\"\",VLOOKUP(B12,'10実績'!$A$16:$AO$46,22,FALSE)))","v":""},null,null,null,null,{"$f":"IF(IF(B12=\"\",\"\",VLOOKUP(B12,'10実績'!$A$16:$AO$46,5,FALSE))=0,IF(B12=\"\",\"\",VLOOKUP(B12,'10実績'!$A$16:$AO$46,12,FALSE)),IF(B12=\"\",\"\",VLOOKUP(B12,'10実績'!$A$16:$AO$46,5,FALSE)))","v":""},"～",{"$f":"IF(IF(B12=\"\",\"\",VLOOKUP(B12,'10実績'!$A$16:$AO$46,16,FALSE))=0,IF(B12=\"\",\"\",VLOOKUP(B12,'10実績'!$A$16:$AO$46,9,FALSE)),IF(B12=\"\",\"\",VLOOKUP(B12,'10実績'!$A$16:$AO$46,16,FALSE)))","v":""},{"$f":"IF(K12=\"\",\"\",M12-K12)","v":""},{"$f":"IF(B12=\"\",\"\",VLOOKUP(B12,'10実績'!$A$16:$AO$46,34,FALSE))","v":""}]
[]
[]
[null,null,null,null,null,null,null,null,null,null,null,null,null,null,null,null,null,"　　　"]
[null,{"$f":"'１０'!B16:B19","v":""},{"$f":"IF(B16=\"\",\"\",TEXT(DATE(2018+$F$3,$H$3,B16),\"aaa\"))","v":""},"　　　","　　　",{"$f":"IF(IF(B16=\"\",\"\",VLOOKUP(B16,'10実績'!$A$16:$BK$46,63))=\"大会\",IF(B16=\"\",\"\",VLOOKUP(B16,'10実績'!$A$16:$AO$46,22,FALSE)),IF(B16=\"\",\"\",'10実績'!$AC$4)&IF(B16=\"\",\"\",VLOOKUP(B16,'10実績'!$A$16:$AO$46,22,FALSE)))","v":""},null,null,null,null,{"$f":"IF(IF(B16=\"\",\"\",VLOOKUP(B16,'10実績'!$A$16:$AO$46,5,FALSE))=0,IF(B16=\"\",\"\",VLOOKUP(B16,'10実績'!$A$16:$AO$46,12,FALSE)),IF(B16=\"\",\"\",VLOOKUP(B16,'10実績'!$A$16:$AO$46,5,FALSE)))","v":""},"～",{"$f":"IF(IF(B16=\"\",\"\",VLOOKUP(B16,'10実績'!$A$16:$AO$46,16,FALSE))=0,IF(B16=\"\",\"\",VLOOKUP(B16,'10実績'!$A$16:$AO$46,9,FALSE)),IF(B16=\"\",\"\",VLOOKUP(B16,'10実績'!$A$16:$AO$46,16,FALSE)))","v":""},{"$f":"IF(K16=\"\",\"\",M16-K16)","v":""},{"$f":"IF(B16=\"\",\"\",VLOOKUP(B16,'10実績'!$A$16:$AO$46,34,FALSE))","v":""}]
[]
[]
[null,null,null,null,null,null,null,null,null,null,null,null,null,null,null,null,null,"　　　"]
[null,{"$f":"'１０'!B20:B23","v":""},{"$f":"IF(B20=\"\",\"\",TEXT(DATE(2018+$F$3,$H$3,B20),\"aaa\"))","v":""},"　　　","　　　",{"$f":"IF(IF(B20=\"\",\"\",VLOOKUP(B20,'10実績'!$A$16:$BK$46,63))=\"大会\",IF(B20=\"\",\"\",VLOOKUP(B20,'10実績'!$A$16:$AO$46,22,FALSE)),IF(B20=\"\",\"\",'10実績'!$AC$4)&IF(B20=\"\",\"\",VLOOKUP(B20,'10実績'!$A$16:$AO$46,22,FALSE)))","v":""},null,null,null,null,{"$f":"IF(IF(B20=\"\",\"\",VLOOKUP(B20,'10実績'!$A$16:$AO$46,5,FALSE))=0,IF(B20=\"\",\"\",VLOOKUP(B20,'10実績'!$A$16:$AO$46,12,FALSE)),IF(B20=\"\",\"\",VLOOKUP(B20,'10実績'!$A$16:$AO$46,5,FALSE)))","v":""},"～",{"$f":"IF(IF(B20=\"\",\"\",VLOOKUP(B20,'10実績'!$A$16:$AO$46,16,FALSE))=0,IF(B20=\"\",\"\",VLOOKUP(B20,'10実績'!$A$16:$AO$46,9,FALSE)),IF(B20=\"\",\"\",VLOOKUP(B20,'10実績'!$A$16:$AO$46,16,FALSE)))","v":""},{"$f":"IF(K20=\"\",\"\",M20-K20)","v":""},{"$f":"IF(B20=\"\",\"\",VLOOKUP(B20,'10実績'!$A$16:$AO$46,34,FALSE))","v":""}]
[]
[]
[null,null,null,null,null,null,null,null,null,null,null,null,null,null,null,null,null,"　　　"]
[null,{"$f":"'１０'!B24:B27","v":""},{"$f":"IF(B24=\"\",\"\",TEXT(DATE(2018+$F$3,$H$3,B24),\"aaa\"))","v":""},"　　　","　　　",{"$f":"IF(IF(B24=\"\",\"\",VLOOKUP(B24,'10実績'!$A$16:$BK$46,63))=\"大会\",IF(B24=\"\",\"\",VLOOKUP(B24,'10実績'!$A$16:$AO$46,22,FALSE)),IF(B24=\"\",\"\",'10実績'!$AC$4)&IF(B24=\"\",\"\",VLOOKUP(B24,'10実績'!$A$16:$AO$46,22,FALSE)))","v":""},null,null,null,null,{"$f":"IF(IF(B24=\"\",\"\",VLOOKUP(B24,'10実績'!$A$16:$AO$46,5,FALSE))=0,IF(B24=\"\",\"\",VLOOKUP(B24,'10実績'!$A$16:$AO$46,12,FALSE)),IF(B24=\"\",\"\",VLOOKUP(B24,'10実績'!$A$16:$AO$46,5,FALSE)))","v":""},"～",{"$f":"IF(IF(B24=\"\",\"\",VLOOKUP(B24,'10実績'!$A$16:$AO$46,16,FALSE))=0,IF(B24=\"\",\"\",VLOOKUP(B24,'10実績'!$A$16:$AO$46,9,FALSE)),IF(B24=\"\",\"\",VLOOKUP(B24,'10実績'!$A$16:$AO$46,16,FALSE)))","v":""},{"$f":"IF(K24=\"\",\"\",M24-K24)","v":""},{"$f":"IF(B24=\"\",\"\",VLOOKUP(B24,'10実績'!$A$16:$AO$46,34,FALSE))","v":""}]
[]
[]
[null,null,null,null,null,null,null,null,null,null,null,null,null,null,null,null,null,"　　　"]
[null,{"$f":"'１０'!B28:B31","v":""},{"$f":"IF(B28=\"\",\"\",TEXT(DATE(2018+$F$3,$H$3,B28),\"aaa\"))","v":""},"　　　","　　　",{"$f":"IF(IF(B28=\"\",\"\",VLOOKUP(B28,'10実績'!$A$16:$BK$46,63))=\"大会\",IF(B28=\"\",\"\",VLOOKUP(B28,'10実績'!$A$16:$AO$46,22,FALSE)),IF(B28=\"\",\"\",'10実績'!$AC$4)&IF(B28=\"\",\"\",VLOOKUP(B28,'10実績'!$A$16:$AO$46,22,FALSE)))","v":""},null,null,null,null,{"$f":"IF(IF(B28=\"\",\"\",VLOOKUP(B28,'10実績'!$A$16:$AO$46,5,FALSE))=0,IF(B28=\"\",\"\",VLOOKUP(B28,'10実績'!$A$16:$AO$46,12,FALSE)),IF(B28=\"\",\"\",VLOOKUP(B28,'10実績'!$A$16:$AO$46,5,FALSE)))","v":""},"～",{"$f":"IF(IF(B28=\"\",\"\",VLOOKUP(B28,'10実績'!$A$16:$AO$46,16,FALSE))=0,IF(B28=\"\",\"\",VLOOKUP(B28,'10実績'!$A$16:$AO$46,9,FALSE)),IF(B28=\"\",\"\",VLOOKUP(B28,'10実績'!$A$16:$AO$46,16,FALSE)))","v":""},{"$f":"IF(K28=\"\",\"\",M28-K28)","v":""},{"$f":"IF(B28=\"\",\"\",VLOOKUP(B28,'10実績'!$A$16:$AO$46,34,FALSE))","v":""}]
[]
[]
[null,null,null,null,null,null,null,null,null,null,null,null,null,null,null,null,null,"　　　"]
[null,{"$f":"'１０'!B32:B35","v":""},{"$f":"IF(B32=\"\",\"\",TEXT(DATE(2018+$F$3,$H$3,B32),\"aaa\"))","v":""},"　　　","　　　",{"$f":"IF(IF(B32=\"\",\"\",VLOOKUP(B32,'10実績'!$A$16:$BK$46,63))=\"大会\",IF(B32=\"\",\"\",VLOOKUP(B32,'10実績'!$A$16:$AO$46,22,FALSE)),IF(B32=\"\",\"\",'10実績'!$AC$4)&IF(B32=\"\",\"\",VLOOKUP(B32,'10実績'!$A$16:$AO$46,22,FALSE)))","v":""},null,null,null,null,{"$f":"IF(IF(B32=\"\",\"\",VLOOKUP(B32,'10実績'!$A$16:$AO$46,5,FALSE))=0,IF(B32=\"\",\"\",VLOOKUP(B32,'10実績'!$A$16:$AO$46,12,FALSE)),IF(B32=\"\",\"\",VLOOKUP(B32,'10実績'!$A$16:$AO$46,5,FALSE)))","v":""},"～",{"$f":"IF(IF(B32=\"\",\"\",VLOOKUP(B32,'10実績'!$A$16:$AO$46,16,FALSE))=0,IF(B32=\"\",\"\",VLOOKUP(B32,'10実績'!$A$16:$AO$46,9,FALSE)),IF(B32=\"\",\"\",VLOOKUP(B32,'10実績'!$A$16:$AO$46,16,FALSE)))","v":""},{"$f":"IF(K32=\"\",\"\",M32-K32)","v":""},{"$f":"IF(B32=\"\",\"\",VLOOKUP(B32,'10実績'!$A$16:$AO$46,34,FALSE))","v":""}]
[]
[]
[null,null,null,null,null,null,null,null,null,null,null,null,null,null,null,null,null,"　　　"]
[null,{"$f":"'１０'!B36:B39","v":""},{"$f":"IF(B36=\"\",\"\",TEXT(DATE(2018+$F$3,$H$3,B36),\"aaa\"))","v":""},"　　　","　　　",{"$f":"IF(IF(B36=\"\",\"\",VLOOKUP(B36,'10実績'!$A$16:$BK$46,63))=\"大会\",IF(B36=\"\",\"\",VLOOKUP(B36,'10実績'!$A$16:$AO$46,22,FALSE)),IF(B36=\"\",\"\",'10実績'!$AC$4)&IF(B36=\"\",\"\",VLOOKUP(B36,'10実績'!$A$16:$AO$46,22,FALSE)))","v":""},null,null,null,null,{"$f":"IF(IF(B36=\"\",\"\",VLOOKUP(B36,'10実績'!$A$16:$AO$46,5,FALSE))=0,IF(B36=\"\",\"\",VLOOKUP(B36,'10実績'!$A$16:$AO$46,12,FALSE)),IF(B36=\"\",\"\",VLOOKUP(B36,'10実績'!$A$16:$AO$46,5,FALSE)))","v":""},"～",{"$f":"IF(IF(B36=\"\",\"\",VLOOKUP(B36,'10実績'!$A$16:$AO$46,16,FALSE))=0,IF(B36=\"\",\"\",VLOOKUP(B36,'10実績'!$A$16:$AO$46,9,FALSE)),IF(B36=\"\",\"\",VLOOKUP(B36,'10実績'!$A$16:$AO$46,16,FALSE)))","v":""},{"$f":"IF(K36=\"\",\"\",M36-K36)","v":""},{"$f":"IF(B36=\"\",\"\",VLOOKUP(B36,'10実績'!$A$16:$AO$46,34,FALSE))","v":""}]
[]
[]
[null,null,null,null,null,null,null,null,null,null,null,null,null,null,null,null,null,"　　　"]
[null,{"$f":"'１０'!B40:B43","v":""},{"$f":"IF(B40=\"\",\"\",TEXT(DATE(2018+$F$3,$H$3,B40),\"aaa\"))","v":""},"　　　","　　　",{"$f":"IF(IF(B40=\"\",\"\",VLOOKUP(B40,'10実績'!$A$16:$BK$46,63))=\"大会\",IF(B40=\"\",\"\",VLOOKUP(B40,'10実績'!$A$16:$AO$46,22,FALSE)),IF(B40=\"\",\"\",'10実績'!$AC$4)&IF(B40=\"\",\"\",VLOOKUP(B40,'10実績'!$A$16:$AO$46,22,FALSE)))","v":""},null,null,null,null,{"$f":"IF(IF(B40=\"\",\"\",VLOOKUP(B40,'10実績'!$A$16:$AO$46,5,FALSE))=0,IF(B40=\"\",\"\",VLOOKUP(B40,'10実績'!$A$16:$AO$46,12,FALSE)),IF(B40=\"\",\"\",VLOOKUP(B40,'10実績'!$A$16:$AO$46,5,FALSE)))","v":""},"～",{"$f":"IF(IF(B40=\"\",\"\",VLOOKUP(B40,'10実績'!$A$16:$AO$46,16,FALSE))=0,IF(B40=\"\",\"\",VLOOKUP(B40,'10実績'!$A$16:$AO$46,9,FALSE)),IF(B40=\"\",\"\",VLOOKUP(B40,'10実績'!$A$16:$AO$46,16,FALSE)))","v":""},{"$f":"IF(K40=\"\",\"\",M40-K40)","v":""},{"$f":"IF(B40=\"\",\"\",VLOOKUP(B40,'10実績'!$A$16:$AO$46,34,FALSE))","v":""}]
[]
[]
[null,null,null,null,null,null,null,null,null,null,null,null,null,null,null,null,null,"　　　"]
[null,"( 記入要領等 )"]
[null,"　         　１　この整理簿は、教員特殊業務手当及び面接指導手当の支給対象となるものについて、当該手当の支給に必要な事の整理をするものであること。"]
[null,"　　         ２　記入にあたっては、次のように記入すること。"]
[null,"　　　         　「要件」欄：週休日等　　　半日振替日　　　　その他"]
[null,"　　　　         「区分」欄：非常災害　　救急業務　　補導業務　　修学旅行等　　対外運動等　　入学試験業務　　　部活動４　　　　部活動３　　　部活動２　　　面接指導　　　　　"]
[null,"　　　　　　　　　　         ※部活動４は4時間以上、部活動３は３時間以上４時間未満、部活動２は2時間以上３時間未満をいう。"]
[null,"　　　　         「業務内容」欄：職員が従事した業務について、その内容を簡潔に記入すること。"]
[null,"　　　         　「従事時間」欄：左欄に手当の支給対象となる業務の終始の時刻を、右欄には時間を記入すること。"]
[null,"　　　         　「備考」欄：この整理簿を補足する事項を記入すること。"]

{"sheet":"１１(副顧問) (3)","index":69,"n_rows":52,"n_cols":18,"rows_kept":52,"cut":false,"hidden":false,"merged":[[39,17,41,17],[41,5,42,9],[43,1,43,3],[39,11,42,11],[39,12,42,12],[39,13,42,13],[39,14,42,14],[39,15,42,15],[39,16,42,16],[39,1,42,1],[39,2,42,2],[39,3,42,3],[39,4,42,4],[39,5,40,9],[39,10,42,10],[35,13,38,13],[35,14,38,14],[35,15,38,15],[35,16,38,16],[35,17,37,17],[37,5,38,9],[31,17,33,17],[33,5,34,9],[35,1,38,1],[35,2,38,2],[35,3,38,3],[35,4,38,4],[35,5,36,9],[35,10,38,10],[35,11,38,11],[35,12,38,12],[31,11,34,11],[31,12,34,12],[31,13,34,13],[31,14,34,14],[31,15,34,15],[31,16,34,16],[31,1,34,1],[31,2,34,2],[31,3,34,3],[31,4,34,4],[31,5,32,9],[31,10,34,10],[27,13,30,13],[27,14,30,14],[27,15,30,15],[27,16,30,16],[27,17,29,17],[29,5,30,9],[23,17,25,17],[25,5,26,9],[27,1,30,1],[27,2,30,2],[27,3,30,3],[27,4,30,4],[27,5,28,9],[27,10,30,10],[27,11,30,11],[27,12,30,12],[23,11,26,11],[23,12,26,12],[23,13,26,13],[23,14,26,14],[23,15,26,15],[23,16,26,16],[23,1,26,1],[23,2,26,2],[23,3,26,3],[23,4,26,4],[23,5,24,9],[23,10,26,10],[19,13,22,13],[19,14,22,14],[19,15,22,15],[19,16,22,16],[19,17,21,17],[21,5,22,9],[15,17,17,17],[17,5,18,9],[19,1,22,1],[19,2,22,2],[19,3,22,3],[19,4,22,4],[19,5,20,9],[19,10,22,10],[19,11,22,11],[19,12,22,12],[15,11,18,11],[15,12,18,12],[15,13,18,13],[15,14,18,14],[15,15,18,15],[15,16,18,16],[15,1,18,1],[15,2,18,2],[15,3,18,3],[15,4,18,4],[15,5,16,9],[15,10,18,10],[11,13,14,13],[11,14,14,14],[11,15,14,15],[11,16,14,16],[11,17,13,17],[13,5,14,9],[11,1,14,1],[11,2,14,2],[11,3,14,3],[11,4,14,4],[11,5,12,9],[11,10,14,10],[11,11,14,11],[11,12,14,12],[7,11,10,11],[7,12,10,12],[7,1,10,1],[7,2,10,2],[7,3,10,3],[7,4,10,4],[7,5,8,9],[7,10,10,10],[4,1,4,2],[4,3,4,4],[4,6,4,8],[4,9,4,10],[4,14,4,17],[6,5,6,9],[6,10,6,13],[7,17,9,17],[9,5,10,9],[7,13,10,13],[7,14,10,14],[7,15,10,15],[7,16,10,16]]}
[]
[]
[null,null,null,"          　　　　　　","令和",{"$f":"'11計画'!AS1-2018","v":2},"年",{"$f":"'11計画'!A7","v":11},"月分","　 教  員  特  殊  業  務  整  理  簿",null,null,null,null,null,null,null,"様式3"]
[]
[null,"氏　名",null,{"$f":"IF('11実績'!AE12=\"\",\"\",'11実績'!AE12)","v":0},null,"職員\n番号",{"$f":"IF('４(副顧問) (3)'!G5=\"\",\"\",'４(副顧問) (3)'!G5)","v":""},null,null,null,null,null,null,null,{"$f":"'４(副顧問) (3)'!$O$5:$R$5","v":"0学校"}]
[]
[null,"日","曜","要　件","区　分","業　　務　　内　　容",null,null,null,null,"従　事　時　間",null,null,null,"従事場所","所属長\n確認印","従事者印","備　　考"]
[null,{"$f":"'１１'!B8:B11","v":""},{"$f":"IF(B8=\"\",\"\",TEXT(DATE(2018+$F$3,$H$3,B8),\"aaa\"))","v":""},"　　　","　　　",{"$f":"IF(IF(B8=\"\",\"\",VLOOKUP(B8,'11実績'!$A$16:$BK$46,63))=\"大会\",IF(B8=\"\",\"\",VLOOKUP(B8,'11実績'!$A$16:$AO$46,22,FALSE)),IF(B8=\"\",\"\",'11実績'!$AC$4)&IF(B8=\"\",\"\",VLOOKUP(B8,'11実績'!$A$16:$AO$46,22,FALSE)))","v":""},null,null,null,null,{"$f":"IF(IF(B8=\"\",\"\",VLOOKUP(B8,'11実績'!$A$16:$AO$46,5,FALSE))=0,IF(B8=\"\",\"\",VLOOKUP(B8,'11実績'!$A$16:$AO$46,12,FALSE)),IF(B8=\"\",\"\",VLOOKUP(B8,'11実績'!$A$16:$AO$46,5,FALSE)))","v":""},"～",{"$f":"IF(IF(B8=\"\",\"\",VLOOKUP(B8,'11実績'!$A$16:$AO$46,16,FALSE))=0,IF(B8=\"\",\"\",VLOOKUP(B8,'11実績'!$A$16:$AO$46,9,FALSE)),IF(B8=\"\",\"\",VLOOKUP(B8,'11実績'!$A$16:$AO$46,16,FALSE)))","v":""},{"$f":"IF(K8=\"\",\"\",M8-K8)","v":""},{"$f":"IF(B8=\"\",\"\",VLOOKUP(B8,'11実績'!$A$16:$AO$46,34,FALSE))","v":""}]
[]
[]
[null,null,null,null,null,null,null,null,null,null,null,null,null,null,null,null,null,"　　　"]
[null,{"$f":"'１１'!B12:B15","v":""},{"$f":"IF(B12=\"\",\"\",TEXT(DATE(2018+$F$3,$H$3,B12),\"aaa\"))","v":""},"　　　","　　　",{"$f":"IF(IF(B12=\"\",\"\",VLOOKUP(B12,'11実績'!$A$16:$BK$46,63))=\"大会\",IF(B12=\"\",\"\",VLOOKUP(B12,'11実績'!$A$16:$AO$46,22,FALSE)),IF(B12=\"\",\"\",'11実績'!$AC$4)&IF(B12=\"\",\"\",VLOOKUP(B12,'11実績'!$A$16:$AO$46,22,FALSE)))","v":""},null,null,null,null,{"$f":"IF(IF(B12=\"\",\"\",VLOOKUP(B12,'11実績'!$A$16:$AO$46,5,FALSE))=0,IF(B12=\"\",\"\",VLOOKUP(B12,'11実績'!$A$16:$AO$46,12,FALSE)),IF(B12=\"\",\"\",VLOOKUP(B12,'11実績'!$A$16:$AO$46,5,FALSE)))","v":""},"～",{"$f":"IF(IF(B12=\"\",\"\",VLOOKUP(B12,'11実績'!$A$16:$AO$46,16,FALSE))=0,IF(B12=\"\",\"\",VLOOKUP(B12,'11実績'!$A$16:$AO$46,9,FALSE)),IF(B12=\"\",\"\",VLOOKUP(B12,'11実績'!$A$16:$AO$46,16,FALSE)))","v":""},{"$f":"IF(K12=\"\",\"\",M12-K12)","v":""},{"$f":"IF(B12=\"\",\"\",VLOOKUP(B12,'11実績'!$A$16:$AO$46,34,FALSE))","v":""}]
[]
[]
[null,null,null,null,null,null,null,null,null,null,null,null,null,null,null,null,null,"　　　"]
[null,{"$f":"'１１'!B16:B19","v":""},{"$f":"IF(B16=\"\",\"\",TEXT(DATE(2018+$F$3,$H$3,B16),\"aaa\"))","v":""},"　　　","　　　",{"$f":"IF(IF(B16=\"\",\"\",VLOOKUP(B16,'11実績'!$A$16:$BK$46,63))=\"大会\",IF(B16=\"\",\"\",VLOOKUP(B16,'11実績'!$A$16:$AO$46,22,FALSE)),IF(B16=\"\",\"\",'11実績'!$AC$4)&IF(B16=\"\",\"\",VLOOKUP(B16,'11実績'!$A$16:$AO$46,22,FALSE)))","v":""},null,null,null,null,{"$f":"IF(IF(B16=\"\",\"\",VLOOKUP(B16,'11実績'!$A$16:$AO$46,5,FALSE))=0,IF(B16=\"\",\"\",VLOOKUP(B16,'11実績'!$A$16:$AO$46,12,FALSE)),IF(B16=\"\",\"\",VLOOKUP(B16,'11実績'!$A$16:$AO$46,5,FALSE)))","v":""},"～",{"$f":"IF(IF(B16=\"\",\"\",VLOOKUP(B16,'11実績'!$A$16:$AO$46,16,FALSE))=0,IF(B16=\"\",\"\",VLOOKUP(B16,'11実績'!$A$16:$AO$46,9,FALSE)),IF(B16=\"\",\"\",VLOOKUP(B16,'11実績'!$A$16:$AO$46,16,FALSE)))","v":""},{"$f":"IF(K16=\"\",\"\",M16-K16)","v":""},{"$f":"IF(B16=\"\",\"\",VLOOKUP(B16,'11実績'!$A$16:$AO$46,34,FALSE))","v":""}]
[]
[]
[null,null,null,null,null,null,null,null,null,null,null,null,null,null,null,null,null,"　　　"]
[null,{"$f":"'１１'!B20:B23","v":""},{"$f":"IF(B20=\"\",\"\",TEXT(DATE(2018+$F$3,$H$3,B20),\"aaa\"))","v":""},"　　　","　　　",{"$f":"IF(IF(B20=\"\",\"\",VLOOKUP(B20,'11実績'!$A$16:$BK$46,63))=\"大会\",IF(B20=\"\",\"\",VLOOKUP(B20,'11実績'!$A$16:$AO$46,22,FALSE)),IF(B20=\"\",\"\",'11実績'!$AC$4)&IF(B20=\"\",\"\",VLOOKUP(B20,'11実績'!$A$16:$AO$46,22,FALSE)))","v":""},null,null,null,null,{"$f":"IF(IF(B20=\"\",\"\",VLOOKUP(B20,'11実績'!$A$16:$AO$46,5,FALSE))=0,IF(B20=\"\",\"\",VLOOKUP(B20,'11実績'!$A$16:$AO$46,12,FALSE)),IF(B20=\"\",\"\",VLOOKUP(B20,'11実績'!$A$16:$AO$46,5,FALSE)))","v":""},"～",{"$f":"IF(IF(B20=\"\",\"\",VLOOKUP(B20,'11実績'!$A$16:$AO$46,16,FALSE))=0,IF(B20=\"\",\"\",VLOOKUP(B20,'11実績'!$A$16:$AO$46,9,FALSE)),IF(B20=\"\",\"\",VLOOKUP(B20,'11実績'!$A$16:$AO$46,16,FALSE)))","v":""},{"$f":"IF(K20=\"\",\"\",M20-K20)","v":""},{"$f":"IF(B20=\"\",\"\",VLOOKUP(B20,'11実績'!$A$16:$AO$46,34,FALSE))","v":""}]
[]
[]
[null,null,null,null,null,null,null,null,null,null,null,null,null,null,null,null,null,"　　　"]
[null,{"$f":"'１１'!B24:B27","v":""},{"$f":"IF(B24=\"\",\"\",TEXT(DATE(2018+$F$3,$H$3,B24),\"aaa\"))","v":""},"　　　","　　　",{"$f":"IF(IF(B24=\"\",\"\",VLOOKUP(B24,'11実績'!$A$16:$BK$46,63))=\"大会\",IF(B24=\"\",\"\",VLOOKUP(B24,'11実績'!$A$16:$AO$46,22,FALSE)),IF(B24=\"\",\"\",'11実績'!$AC$4)&IF(B24=\"\",\"\",VLOOKUP(B24,'11実績'!$A$16:$AO$46,22,FALSE)))","v":""},null,null,null,null,{"$f":"IF(IF(B24=\"\",\"\",VLOOKUP(B24,'11実績'!$A$16:$AO$46,5,FALSE))=0,IF(B24=\"\",\"\",VLOOKUP(B24,'11実績'!$A$16:$AO$46,12,FALSE)),IF(B24=\"\",\"\",VLOOKUP(B24,'11実績'!$A$16:$AO$46,5,FALSE)))","v":""},"～",{"$f":"IF(IF(B24=\"\",\"\",VLOOKUP(B24,'11実績'!$A$16:$AO$46,16,FALSE))=0,IF(B24=\"\",\"\",VLOOKUP(B24,'11実績'!$A$16:$AO$46,9,FALSE)),IF(B24=\"\",\"\",VLOOKUP(B24,'11実績'!$A$16:$AO$46,16,FALSE)))","v":""},{"$f":"IF(K24=\"\",\"\",M24-K24)","v":""},{"$f":"IF(B24=\"\",\"\",VLOOKUP(B24,'11実績'!$A$16:$AO$46,34,FALSE))","v":""}]
[]
[]
[null,null,null,null,null,null,null,null,null,null,null,null,null,null,null,null,null,"　　　"]
[null,{"$f":"'１１'!B28:B31","v":""},{"$f":"IF(B28=\"\",\"\",TEXT(DATE(2018+$F$3,$H$3,B28),\"aaa\"))","v":""},"　　　","　　　",{"$f":"IF(IF(B28=\"\",\"\",VLOOKUP(B28,'11実績'!$A$16:$BK$46,63))=\"大会\",IF(B28=\"\",\"\",VLOOKUP(B28,'11実績'!$A$16:$AO$46,22,FALSE)),IF(B28=\"\",\"\",'11実績'!$AC$4)&IF(B28=\"\",\"\",VLOOKUP(B28,'11実績'!$A$16:$AO$46,22,FALSE)))","v":""},null,null,null,null,{"$f":"IF(IF(B28=\"\",\"\",VLOOKUP(B28,'11実績'!$A$16:$AO$46,5,FALSE))=0,IF(B28=\"\",\"\",VLOOKUP(B28,'11実績'!$A$16:$AO$46,12,FALSE)),IF(B28=\"\",\"\",VLOOKUP(B28,'11実績'!$A$16:$AO$46,5,FALSE)))","v":""},"～",{"$f":"IF(IF(B28=\"\",\"\",VLOOKUP(B28,'11実績'!$A$16:$AO$46,16,FALSE))=0,IF(B28=\"\",\"\",VLOOKUP(B28,'11実績'!$A$16:$AO$46,9,FALSE)),IF(B28=\"\",\"\",VLOOKUP(B28,'11実績'!$A$16:$AO$46,16,FALSE)))","v":""},{"$f":"IF(K28=\"\",\"\",M28-K28)","v":""},{"$f":"IF(B28=\"\",\"\",VLOOKUP(B28,'11実績'!$A$16:$AO$46,34,FALSE))","v":""}]
[]
[]
[null,null,null,null,null,null,null,null,null,null,null,null,null,null,null,null,null,"　　　"]
[null,{"$f":"'１１'!B32:B35","v":""},{"$f":"IF(B32=\"\",\"\",TEXT(DATE(2018+$F$3,$H$3,B32),\"aaa\"))","v":""},"　　　","　　　",{"$f":"IF(IF(B32=\"\",\"\",VLOOKUP(B32,'11実績'!$A$16:$BK$46,63))=\"大会\",IF(B32=\"\",\"\",VLOOKUP(B32,'11実績'!$A$16:$AO$46,22,FALSE)),IF(B32=\"\",\"\",'11実績'!$AC$4)&IF(B32=\"\",\"\",VLOOKUP(B32,'11実績'!$A$16:$AO$46,22,FALSE)))","v":""},null,null,null,null,{"$f":"IF(IF(B32=\"\",\"\",VLOOKUP(B32,'11実績'!$A$16:$AO$46,5,FALSE))=0,IF(B32=\"\",\"\",VLOOKUP(B32,'11実績'!$A$16:$AO$46,12,FALSE)),IF(B32=\"\",\"\",VLOOKUP(B32,'11実績'!$A$16:$AO$46,5,FALSE)))","v":""},"～",{"$f":"IF(IF(B32=\"\",\"\",VLOOKUP(B32,'11実績'!$A$16:$AO$46,16,FALSE))=0,IF(B32=\"\",\"\",VLOOKUP(B32,'11実績'!$A$16:$AO$46,9,FALSE)),IF(B32=\"\",\"\",VLOOKUP(B32,'11実績'!$A$16:$AO$46,16,FALSE)))","v":""},{"$f":"IF(K32=\"\",\"\",M32-K32)","v":""},{"$f":"IF(B32=\"\",\"\",VLOOKUP(B32,'11実績'!$A$16:$AO$46,34,FALSE))","v":""}]
[]
[]
[null,null,null,null,null,null,null,null,null,null,null,null,null,null,null,null,null,"　　　"]
[null,{"$f":"'１１'!B36:B39","v":""},{"$f":"IF(B36=\"\",\"\",TEXT(DATE(2018+$F$3,$H$3,B36),\"aaa\"))","v":""},"　　　","　　　",{"$f":"IF(IF(B36=\"\",\"\",VLOOKUP(B36,'11実績'!$A$16:$BK$46,63))=\"大会\",IF(B36=\"\",\"\",VLOOKUP(B36,'11実績'!$A$16:$AO$46,22,FALSE)),IF(B36=\"\",\"\",'11実績'!$AC$4)&IF(B36=\"\",\"\",VLOOKUP(B36,'11実績'!$A$16:$AO$46,22,FALSE)))","v":""},null,null,null,null,{"$f":"IF(IF(B36=\"\",\"\",VLOOKUP(B36,'11実績'!$A$16:$AO$46,5,FALSE))=0,IF(B36=\"\",\"\",VLOOKUP(B36,'11実績'!$A$16:$AO$46,12,FALSE)),IF(B36=\"\",\"\",VLOOKUP(B36,'11実績'!$A$16:$AO$46,5,FALSE)))","v":""},"～",{"$f":"IF(IF(B36=\"\",\"\",VLOOKUP(B36,'11実績'!$A$16:$AO$46,16,FALSE))=0,IF(B36=\"\",\"\",VLOOKUP(B36,'11実績'!$A$16:$AO$46,9,FALSE)),IF(B36=\"\",\"\",VLOOKUP(B36,'11実績'!$A$16:$AO$46,16,FALSE)))","v":""},{"$f":"IF(K36=\"\",\"\",M36-K36)","v":""},{"$f":"IF(B36=\"\",\"\",VLOOKUP(B36,'11実績'!$A$16:$AO$46,34,FALSE))","v":""}]
[]
[]
[null,null,null,null,null,null,null,null,null,null,null,null,null,null,null,null,null,"　　　"]
[null,{"$f":"'１１'!B40:B43","v":""},{"$f":"IF(B40=\"\",\"\",TEXT(DATE(2018+$F$3,$H$3,B40),\"aaa\"))","v":""},"　　　","　　　",{"$f":"IF(IF(B40=\"\",\"\",VLOOKUP(B40,'11実績'!$A$16:$BK$46,63))=\"大会\",IF(B40=\"\",\"\",VLOOKUP(B40,'11実績'!$A$16:$AO$46,22,FALSE)),IF(B40=\"\",\"\",'11実績'!$AC$4)&IF(B40=\"\",\"\",VLOOKUP(B40,'11実績'!$A$16:$AO$46,22,FALSE)))","v":""},null,null,null,null,{"$f":"IF(IF(B40=\"\",\"\",VLOOKUP(B40,'11実績'!$A$16:$AO$46,5,FALSE))=0,IF(B40=\"\",\"\",VLOOKUP(B40,'11実績'!$A$16:$AO$46,12,FALSE)),IF(B40=\"\",\"\",VLOOKUP(B40,'11実績'!$A$16:$AO$46,5,FALSE)))","v":""},"～",{"$f":"IF(IF(B40=\"\",\"\",VLOOKUP(B40,'11実績'!$A$16:$AO$46,16,FALSE))=0,IF(B40=\"\",\"\",VLOOKUP(B40,'11実績'!$A$16:$AO$46,9,FALSE)),IF(B40=\"\",\"\",VLOOKUP(B40,'11実績'!$A$16:$AO$46,16,FALSE)))","v":""},{"$f":"IF(K40=\"\",\"\",M40-K40)","v":""},{"$f":"IF(B40=\"\",\"\",VLOOKUP(B40,'11実績'!$A$16:$AO$46,34,FALSE))","v":""}]
[]
[]
[null,null,null,null,null,null,null,null,null,null,null,null,null,null,null,null,null,"　　　"]
[null,"( 記入要領等 )"]
[null,"　         　１　この整理簿は、教員特殊業務手当及び面接指導手当の支給対象となるものについて、当該手当の支給に必要な事の整理をするものであること。"]
[null,"　　         ２　記入にあたっては、次のように記入すること。"]
[null,"　　　         　「要件」欄：週休日等　　　半日振替日　　　　その他"]
[null,"　　　　         「区分」欄：非常災害　　救急業務　　補導業務　　修学旅行等　　対外運動等　　入学試験業務　　　部活動４　　　　部活動３　　　部活動２　　　面接指導　　　　　"]
[null,"　　　　　　　　　　         ※部活動４は4時間以上、部活動３は３時間以上４時間未満、部活動２は2時間以上３時間未満をいう。"]
[null,"　　　　         「業務内容」欄：職員が従事した業務について、その内容を簡潔に記入すること。"]
[null,"　　　         　「従事時間」欄：左欄に手当の支給対象となる業務の終始の時刻を、右欄には時間を記入すること。"]
[null,"　　　         　「備考」欄：この整理簿を補足する事項を記入すること。"]

{"sheet":"１２(副顧問) (3)","index":70,"n_rows":52,"n_cols":18,"rows_kept":52,"cut":false,"hidden":false,"merged":[[39,17,41,17],[41,5,42,9],[43,1,43,3],[39,11,42,11],[39,12,42,12],[39,13,42,13],[39,14,42,14],[39,15,42,15],[39,16,42,16],[39,1,42,1],[39,2,42,2],[39,3,42,3],[39,4,42,4],[39,5,40,9],[39,10,42,10],[35,13,38,13],[35,14,38,14],[35,15,38,15],[35,16,38,16],[35,17,37,17],[37,5,38,9],[31,17,33,17],[33,5,34,9],[35,1,38,1],[35,2,38,2],[35,3,38,3],[35,4,38,4],[35,5,36,9],[35,10,38,10],[35,11,38,11],[35,12,38,12],[31,11,34,11],[31,12,34,12],[31,13,34,13],[31,14,34,14],[31,15,34,15],[31,16,34,16],[31,1,34,1],[31,2,34,2],[31,3,34,3],[31,4,34,4],[31,5,32,9],[31,10,34,10],[27,13,30,13],[27,14,30,14],[27,15,30,15],[27,16,30,16],[27,17,29,17],[29,5,30,9],[23,17,25,17],[25,5,26,9],[27,1,30,1],[27,2,30,2],[27,3,30,3],[27,4,30,4],[27,5,28,9],[27,10,30,10],[27,11,30,11],[27,12,30,12],[23,11,26,11],[23,12,26,12],[23,13,26,13],[23,14,26,14],[23,15,26,15],[23,16,26,16],[23,1,26,1],[23,2,26,2],[23,3,26,3],[23,4,26,4],[23,5,24,9],[23,10,26,10],[19,13,22,13],[19,14,22,14],[19,15,22,15],[19,16,22,16],[19,17,21,17],[21,5,22,9],[15,17,17,17],[17,5,18,9],[19,1,22,1],[19,2,22,2],[19,3,22,3],[19,4,22,4],[19,5,20,9],[19,10,22,10],[19,11,22,11],[19,12,22,12],[15,11,18,11],[15,12,18,12],[15,13,18,13],[15,14,18,14],[15,15,18,15],[15,16,18,16],[15,1,18,1],[15,2,18,2],[15,3,18,3],[15,4,18,4],[15,5,16,9],[15,10,18,10],[11,13,14,13],[11,14,14,14],[11,15,14,15],[11,16,14,16],[11,17,13,17],[13,5,14,9],[11,1,14,1],[11,2,14,2],[11,3,14,3],[11,4,14,4],[11,5,12,9],[11,10,14,10],[11,11,14,11],[11,12,14,12],[7,11,10,11],[7,12,10,12],[7,1,10,1],[7,2,10,2],[7,3,10,3],[7,4,10,4],[7,5,8,9],[7,10,10,10],[4,1,4,2],[4,3,4,4],[4,6,4,8],[4,9,4,10],[4,14,4,17],[6,5,6,9],[6,10,6,13],[7,17,9,17],[9,5,10,9],[7,13,10,13],[7,14,10,14],[7,15,10,15],[7,16,10,16]]}
[]
[]
[null,null,null,"          　　　　　　","令和",{"$f":"'12計画'!AS1-2018","v":2},"年",{"$f":"'12計画'!A7","v":12},"月分","　 教  員  特  殊  業  務  整  理  簿",null,null,null,null,null,null,null,"様式3"]
[]
[null,"氏　名",null,{"$f":"IF('12実績'!AE12=\"\",\"\",'12実績'!AE12)","v":0},null,"職員\n番号",{"$f":"IF('４(副顧問) (3)'!G5=\"\",\"\",'４(副顧問) (3)'!G5)","v":""},null,null,null,null,null,null,null,{"$f":"'４(副顧問) (3)'!$O$5:$R$5","v":"0学校"}]
[]
[null,"日","曜","要　件","区　分","業　　務　　内　　容",null,null,null,null,"従　事　時　間",null,null,null,"従事場所","所属長\n確認印","従事者印","備　　考"]
[null,{"$f":"'１２'!B8:B11","v":""},{"$f":"IF(B8=\"\",\"\",TEXT(DATE(2018+$F$3,$H$3,B8),\"aaa\"))","v":""},"　　　","　　　",{"$f":"IF(IF(B8=\"\",\"\",VLOOKUP(B8,'12実績'!$A$16:$BK$46,63))=\"大会\",IF(B8=\"\",\"\",VLOOKUP(B8,'12実績'!$A$16:$AO$46,22,FALSE)),IF(B8=\"\",\"\",'12実績'!$AC$4)&IF(B8=\"\",\"\",VLOOKUP(B8,'12実績'!$A$16:$AO$46,22,FALSE)))","v":""},null,null,null,null,{"$f":"IF(IF(B8=\"\",\"\",VLOOKUP(B8,'12実績'!$A$16:$AO$46,5,FALSE))=0,IF(B8=\"\",\"\",VLOOKUP(B8,'12実績'!$A$16:$AO$46,12,FALSE)),IF(B8=\"\",\"\",VLOOKUP(B8,'12実績'!$A$16:$AO$46,5,FALSE)))","v":""},"～",{"$f":"IF(IF(B8=\"\",\"\",VLOOKUP(B8,'12実績'!$A$16:$AO$46,16,FALSE))=0,IF(B8=\"\",\"\",VLOOKUP(B8,'12実績'!$A$16:$AO$46,9,FALSE)),IF(B8=\"\",\"\",VLOOKUP(B8,'12実績'!$A$16:$AO$46,16,FALSE)))","v":""},{"$f":"IF(K8=\"\",\"\",M8-K8)","v":""},{"$f":"IF(B8=\"\",\"\",VLOOKUP(B8,'12実績'!$A$16:$AO$46,34,FALSE))","v":""}]
[]
[]
[null,null,null,null,null,null,null,null,null,null,null,null,null,null,null,null,null,"　　　"]
[null,{"$f":"'１２'!B12:B15","v":""},{"$f":"IF(B12=\"\",\"\",TEXT(DATE(2018+$F$3,$H$3,B12),\"aaa\"))","v":""},"　　　","　　　",{"$f":"IF(IF(B12=\"\",\"\",VLOOKUP(B12,'12実績'!$A$16:$BK$46,63))=\"大会\",IF(B12=\"\",\"\",VLOOKUP(B12,'12実績'!$A$16:$AO$46,22,FALSE)),IF(B12=\"\",\"\",'12実績'!$AC$4)&IF(B12=\"\",\"\",VLOOKUP(B12,'12実績'!$A$16:$AO$46,22,FALSE)))","v":""},null,null,null,null,{"$f":"IF(IF(B12=\"\",\"\",VLOOKUP(B12,'12実績'!$A$16:$AO$46,5,FALSE))=0,IF(B12=\"\",\"\",VLOOKUP(B12,'12実績'!$A$16:$AO$46,12,FALSE)),IF(B12=\"\",\"\",VLOOKUP(B12,'12実績'!$A$16:$AO$46,5,FALSE)))","v":""},"～",{"$f":"IF(IF(B12=\"\",\"\",VLOOKUP(B12,'12実績'!$A$16:$AO$46,16,FALSE))=0,IF(B12=\"\",\"\",VLOOKUP(B12,'12実績'!$A$16:$AO$46,9,FALSE)),IF(B12=\"\",\"\",VLOOKUP(B12,'12実績'!$A$16:$AO$46,16,FALSE)))","v":""},{"$f":"IF(K12=\"\",\"\",M12-K12)","v":""},{"$f":"IF(B12=\"\",\"\",VLOOKUP(B12,'12実績'!$A$16:$AO$46,34,FALSE))","v":""}]
[]
[]
[null,null,null,null,null,null,null,null,null,null,null,null,null,null,null,null,null,"　　　"]
[null,{"$f":"'１２'!B16:B19","v":""},{"$f":"IF(B16=\"\",\"\",TEXT(DATE(2018+$F$3,$H$3,B16),\"aaa\"))","v":""},"　　　","　　　",{"$f":"IF(IF(B16=\"\",\"\",VLOOKUP(B16,'12実績'!$A$16:$BK$46,63))=\"大会\",IF(B16=\"\",\"\",VLOOKUP(B16,'12実績'!$A$16:$AO$46,22,FALSE)),IF(B16=\"\",\"\",'12実績'!$AC$4)&IF(B16=\"\",\"\",VLOOKUP(B16,'12実績'!$A$16:$AO$46,22,FALSE)))","v":""},null,null,null,null,{"$f":"IF(IF(B16=\"\",\"\",VLOOKUP(B16,'12実績'!$A$16:$AO$46,5,FALSE))=0,IF(B16=\"\",\"\",VLOOKUP(B16,'12実績'!$A$16:$AO$46,12,FALSE)),IF(B16=\"\",\"\",VLOOKUP(B16,'12実績'!$A$16:$AO$46,5,FALSE)))","v":""},"～",{"$f":"IF(IF(B16=\"\",\"\",VLOOKUP(B16,'12実績'!$A$16:$AO$46,16,FALSE))=0,IF(B16=\"\",\"\",VLOOKUP(B16,'12実績'!$A$16:$AO$46,9,FALSE)),IF(B16=\"\",\"\",VLOOKUP(B16,'12実績'!$A$16:$AO$46,16,FALSE)))","v":""},{"$f":"IF(K16=\"\",\"\",M16-K16)","v":""},{"$f":"IF(B16=\"\",\"\",VLOOKUP(B16,'12実績'!$A$16:$AO$46,34,FALSE))","v":""}]
[]
[]
[null,null,null,null,null,null,null,null,null,null,null,null,null,null,null,null,null,"　　　"]
[null,{"$f":"'１２'!B20:B23","v":""},{"$f":"IF(B20=\"\",\"\",TEXT(DATE(2018+$F$3,$H$3,B20),\"aaa\"))","v":""},"　　　","　　　",{"$f":"IF(IF(B20=\"\",\"\",VLOOKUP(B20,'12実績'!$A$16:$BK$46,63))=\"大会\",IF(B20=\"\",\"\",VLOOKUP(B20,'12実績'!$A$16:$AO$46,22,FALSE)),IF(B20=\"\",\"\",'12実績'!$AC$4)&IF(B20=\"\",\"\",VLOOKUP(B20,'12実績'!$A$16:$AO$46,22,FALSE)))","v":""},null,null,null,null,{"$f":"IF(IF(B20=\"\",\"\",VLOOKUP(B20,'12実績'!$A$16:$AO$46,5,FALSE))=0,IF(B20=\"\",\"\",VLOOKUP(B20,'12実績'!$A$16:$AO$46,12,FALSE)),IF(B20=\"\",\"\",VLOOKUP(B20,'12実績'!$A$16:$AO$46,5,FALSE)))","v":""},"～",{"$f":"IF(IF(B20=\"\",\"\",VLOOKUP(B20,'12実績'!$A$16:$AO$46,16,FALSE))=0,IF(B20=\"\",\"\",VLOOKUP(B20,'12実績'!$A$16:$AO$46,9,FALSE)),IF(B20=\"\",\"\",VLOOKUP(B20,'12実績'!$A$16:$AO$46,16,FALSE)))","v":""},{"$f":"IF(K20=\"\",\"\",M20-K20)","v":""},{"$f":"IF(B20=\"\",\"\",VLOOKUP(B20,'12実績'!$A$16:$AO$46,34,FALSE))","v":""}]
[]
[]
[null,null,null,null,null,null,null,null,null,null,null,null,null,null,null,null,null,"　　　"]
[null,{"$f":"'１２'!B24:B27","v":""},{"$f":"IF(B24=\"\",\"\",TEXT(DATE(2018+$F$3,$H$3,B24),\"aaa\"))","v":""},"　　　","　　　",{"$f":"IF(IF(B24=\"\",\"\",VLOOKUP(B24,'12実績'!$A$16:$BK$46,63))=\"大会\",IF(B24=\"\",\"\",VLOOKUP(B24,'12実績'!$A$16:$AO$46,22,FALSE)),IF(B24=\"\",\"\",'12実績'!$AC$4)&IF(B24=\"\",\"\",VLOOKUP(B24,'12実績'!$A$16:$AO$46,22,FALSE)))","v":""},null,null,null,null,{"$f":"IF(IF(B24=\"\",\"\",VLOOKUP(B24,'12実績'!$A$16:$AO$46,5,FALSE))=0,IF(B24=\"\",\"\",VLOOKUP(B24,'12実績'!$A$16:$AO$46,12,FALSE)),IF(B24=\"\",\"\",VLOOKUP(B24,'12実績'!$A$16:$AO$46,5,FALSE)))","v":""},"～",{"$f":"IF(IF(B24=\"\",\"\",VLOOKUP(B24,'12実績'!$A$16:$AO$46,16,FALSE))=0,IF(B24=\"\",\"\",VLOOKUP(B24,'12実績'!$A$16:$AO$46,9,FALSE)),IF(B24=\"\",\"\",VLOOKUP(B24,'12実績'!$A$16:$AO$46,16,FALSE)))","v":""},{"$f":"IF(K24=\"\",\"\",M24-K24)","v":""},{"$f":"IF(B24=\"\",\"\",VLOOKUP(B24,'12実績'!$A$16:$AO$46,34,FALSE))","v":""}]
[]
[]
[null,null,null,null,null,null,null,null,null,null,null,null,null,null,null,null,null,"　　　"]
[null,{"$f":"'１２'!B28:B31","v":""},{"$f":"IF(B28=\"\",\"\",TEXT(DATE(2018+$F$3,$H$3,B28),\"aaa\"))","v":""},"　　　","　　　",{"$f":"IF(IF(B28=\"\",\"\",VLOOKUP(B28,'12実績'!$A$16:$BK$46,63))=\"大会\",IF(B28=\"\",\"\",VLOOKUP(B28,'12実績'!$A$16:$AO$46,22,FALSE)),IF(B28=\"\",\"\",'12実績'!$AC$4)&IF(B28=\"\",\"\",VLOOKUP(B28,'12実績'!$A$16:$AO$46,22,FALSE)))","v":""},null,null,null,null,{"$f":"IF(IF(B28=\"\",\"\",VLOOKUP(B28,'12実績'!$A$16:$AO$46,5,FALSE))=0,IF(B28=\"\",\"\",VLOOKUP(B28,'12実績'!$A$16:$AO$46,12,FALSE)),IF(B28=\"\",\"\",VLOOKUP(B28,'12実績'!$A$16:$AO$46,5,FALSE)))","v":""},"～",{"$f":"IF(IF(B28=\"\",\"\",VLOOKUP(B28,'12実績'!$A$16:$AO$46,16,FALSE))=0,IF(B28=\"\",\"\",VLOOKUP(B28,'12実績'!$A$16:$AO$46,9,FALSE)),IF(B28=\"\",\"\",VLOOKUP(B28,'12実績'!$A$16:$AO$46,16,FALSE)))","v":""},{"$f":"IF(K28=\"\",\"\",M28-K28)","v":""},{"$f":"IF(B28=\"\",\"\",VLOOKUP(B28,'12実績'!$A$16:$AO$46,34,FALSE))","v":""}]
[]
[]
[null,null,null,null,null,null,null,null,null,null,null,null,null,null,null,null,null,"　　　"]
[null,{"$f":"'１２'!B32:B35","v":""},{"$f":"IF(B32=\"\",\"\",TEXT(DATE(2018+$F$3,$H$3,B32),\"aaa\"))","v":""},"　　　","　　　",{"$f":"IF(IF(B32=\"\",\"\",VLOOKUP(B32,'12実績'!$A$16:$BK$46,63))=\"大会\",IF(B32=\"\",\"\",VLOOKUP(B32,'12実績'!$A$16:$AO$46,22,FALSE)),IF(B32=\"\",\"\",'12実績'!$AC$4)&IF(B32=\"\",\"\",VLOOKUP(B32,'12実績'!$A$16:$AO$46,22,FALSE)))","v":""},null,null,null,null,{"$f":"IF(IF(B32=\"\",\"\",VLOOKUP(B32,'12実績'!$A$16:$AO$46,5,FALSE))=0,IF(B32=\"\",\"\",VLOOKUP(B32,'12実績'!$A$16:$AO$46,12,FALSE)),IF(B32=\"\",\"\",VLOOKUP(B32,'12実績'!$A$16:$AO$46,5,FALSE)))","v":""},"～",{"$f":"IF(IF(B32=\"\",\"\",VLOOKUP(B32,'12実績'!$A$16:$AO$46,16,FALSE))=0,IF(B32=\"\",\"\",VLOOKUP(B32,'12実績'!$A$16:$AO$46,9,FALSE)),IF(B32=\"\",\"\",VLOOKUP(B32,'12実績'!$A$16:$AO$46,16,FALSE)))","v":""},{"$f":"IF(K32=\"\",\"\",M32-K32)","v":""},{"$f":"IF(B32=\"\",\"\",VLOOKUP(B32,'12実績'!$A$16:$AO$46,34,FALSE))","v":""}]
[]
[]
[null,null,null,null,null,null,null,null,null,null,null,null,null,null,null,null,null,"　　　"]
[null,{"$f":"'１２'!B36:B39","v":""},{"$f":"IF(B36=\"\",\"\",TEXT(DATE(2018+$F$3,$H$3,B36),\"aaa\"))","v":""},"　　　","　　　",{"$f":"IF(IF(B36=\"\",\"\",VLOOKUP(B36,'12実績'!$A$16:$BK$46,63))=\"大会\",IF(B36=\"\",\"\",VLOOKUP(B36,'12実績'!$A$16:$AO$46,22,FALSE)),IF(B36=\"\",\"\",'12実績'!$AC$4)&IF(B36=\"\",\"\",VLOOKUP(B36,'12実績'!$A$16:$AO$46,22,FALSE)))","v":""},null,null,null,null,{"$f":"IF(IF(B36=\"\",\"\",VLOOKUP(B36,'12実績'!$A$16:$AO$46,5,FALSE))=0,IF(B36=\"\",\"\",VLOOKUP(B36,'12実績'!$A$16:$AO$46,12,FALSE)),IF(B36=\"\",\"\",VLOOKUP(B36,'12実績'!$A$16:$AO$46,5,FALSE)))","v":""},"～",{"$f":"IF(IF(B36=\"\",\"\",VLOOKUP(B36,'12実績'!$A$16:$AO$46,16,FALSE))=0,IF(B36=\"\",\"\",VLOOKUP(B36,'12実績'!$A$16:$AO$46,9,FALSE)),IF(B36=\"\",\"\",VLOOKUP(B36,'12実績'!$A$16:$AO$46,16,FALSE)))","v":""},{"$f":"IF(K36=\"\",\"\",M36-K36)","v":""},{"$f":"IF(B36=\"\",\"\",VLOOKUP(B36,'12実績'!$A$16:$AO$46,34,FALSE))","v":""}]
[]
[]
[null,null,null,null,null,null,null,null,null,null,null,null,null,null,null,null,null,"　　　"]
[null,{"$f":"'１２'!B40:B43","v":""},{"$f":"IF(B40=\"\",\"\",TEXT(DATE(2018+$F$3,$H$3,B40),\"aaa\"))","v":""},"　　　","　　　",{"$f":"IF(IF(B40=\"\",\"\",VLOOKUP(B40,'12実績'!$A$16:$BK$46,63))=\"大会\",IF(B40=\"\",\"\",VLOOKUP(B40,'12実績'!$A$16:$AO$46,22,FALSE)),IF(B40=\"\",\"\",'12実績'!$AC$4)&IF(B40=\"\",\"\",VLOOKUP(B40,'12実績'!$A$16:$AO$46,22,FALSE)))","v":""},null,null,null,null,{"$f":"IF(IF(B40=\"\",\"\",VLOOKUP(B40,'12実績'!$A$16:$AO$46,5,FALSE))=0,IF(B40=\"\",\"\",VLOOKUP(B40,'12実績'!$A$16:$AO$46,12,FALSE)),IF(B40=\"\",\"\",VLOOKUP(B40,'12実績'!$A$16:$AO$46,5,FALSE)))","v":""},"～",{"$f":"IF(IF(B40=\"\",\"\",VLOOKUP(B40,'12実績'!$A$16:$AO$46,16,FALSE))=0,IF(B40=\"\",\"\",VLOOKUP(B40,'12実績'!$A$16:$AO$46,9,FALSE)),IF(B40=\"\",\"\",VLOOKUP(B40,'12実績'!$A$16:$AO$46,16,FALSE)))","v":""},{"$f":"IF(K40=\"\",\"\",M40-K40)","v":""},{"$f":"IF(B40=\"\",\"\",VLOOKUP(B40,'12実績'!$A$16:$AO$46,34,FALSE))","v":""}]
[]
[]
[null,null,null,null,null,null,null,null,null,null,null,null,null,null,null,null,null,"　　　"]
[null,"( 記入要領等 )"]
[null,"　         　１　この整理簿は、教員特殊業務手当及び面接指導手当の支給対象となるものについて、当該手当の支給に必要な事の整理をするものであること。"]
[null,"　　         ２　記入にあたっては、次のように記入すること。"]
[null,"　　　         　「要件」欄：週休日等　　　半日振替日　　　　その他"]
[null,"　　　　         「区分」欄：非常災害　　救急業務　　補導業務　　修学旅行等　　対外運動等　　入学試験業務　　　部活動４　　　　部活動３　　　部活動２　　　面接指導　　　　　"]
[null,"　　　　　　　　　　         ※部活動４は4時間以上、部活動３は３時間以上４時間未満、部活動２は2時間以上３時間未満をいう。"]
[null,"　　　　         「業務内容」欄：職員が従事した業務について、その内容を簡潔に記入すること。"]
[null,"　　　         　「従事時間」欄：左欄に手当の支給対象となる業務の終始の時刻を、右欄には時間を記入すること。"]
[null,"　　　         　「備考」欄：この整理簿を補足する事項を記入すること。"]

{"sheet":"１(副顧問) (3)","index":71,"n_rows":52,"n_cols":18,"rows_kept":52,"cut":false,"hidden":false,"merged":[[39,17,41,17],[41,5,42,9],[43,1,43,3],[39,11,42,11],[39,12,42,12],[39,13,42,13],[39,14,42,14],[39,15,42,15],[39,16,42,16],[39,1,42,1],[39,2,42,2],[39,3,42,3],[39,4,42,4],[39,5,40,9],[39,10,42,10],[35,13,38,13],[35,14,38,14],[35,15,38,15],[35,16,38,16],[35,17,37,17],[37,5,38,9],[31,17,33,17],[33,5,34,9],[35,1,38,1],[35,2,38,2],[35,3,38,3],[35,4,38,4],[35,5,36,9],[35,10,38,10],[35,11,38,11],[35,12,38,12],[31,11,34,11],[31,12,34,12],[31,13,34,13],[31,14,34,14],[31,15,34,15],[31,16,34,16],[31,1,34,1],[31,2,34,2],[31,3,34,3],[31,4,34,4],[31,5,32,9],[31,10,34,10],[27,13,30,13],[27,14,30,14],[27,15,30,15],[27,16,30,16],[27,17,29,17],[29,5,30,9],[23,17,25,17],[25,5,26,9],[27,1,30,1],[27,2,30,2],[27,3,30,3],[27,4,30,4],[27,5,28,9],[27,10,30,10],[27,11,30,11],[27,12,30,12],[23,11,26,11],[23,12,26,12],[23,13,26,13],[23,14,26,14],[23,15,26,15],[23,16,26,16],[23,1,26,1],[23,2,26,2],[23,3,26,3],[23,4,26,4],[23,5,24,9],[23,10,26,10],[19,13,22,13],[19,14,22,14],[19,15,22,15],[19,16,22,16],[19,17,21,17],[21,5,22,9],[15,17,17,17],[17,5,18,9],[19,1,22,1],[19,2,22,2],[19,3,22,3],[19,4,22,4],[19,5,20,9],[19,10,22,10],[19,11,22,11],[19,12,22,12],[15,11,18,11],[15,12,18,12],[15,13,18,13],[15,14,18,14],[15,15,18,15],[15,16,18,16],[15,1,18,1],[15,2,18,2],[15,3,18,3],[15,4,18,4],[15,5,16,9],[15,10,18,10],[11,13,14,13],[11,14,14,14],[11,15,14,15],[11,16,14,16],[11,17,13,17],[13,5,14,9],[11,1,14,1],[11,2,14,2],[11,3,14,3],[11,4,14,4],[11,5,12,9],[11,10,14,10],[11,11,14,11],[11,12,14,12],[7,11,10,11],[7,12,10,12],[7,1,10,1],[7,2,10,2],[7,3,10,3],[7,4,10,4],[7,5,8,9],[7,10,10,10],[4,1,4,2],[4,3,4,4],[4,6,4,8],[4,9,4,10],[4,14,4,17],[6,5,6,9],[6,10,6,13],[7,17,9,17],[9,5,10,9],[7,13,10,13],[7,14,10,14],[7,15,10,15],[7,16,10,16]]}
[]
[]
[null,null,null,"          　　　　　　","令和",{"$f":"'1計画'!AS1-2018","v":3},"年",{"$f":"'1計画'!A7","v":1},"月分","　 教  員  特  殊  業  務  整  理  簿",null,null,null,null,null,null,null,"様式3"]
[]
[null,"氏　名",null,{"$f":"IF('1実績'!AE12=\"\",\"\",'1実績'!AE12)","v":0},null,"職員\n番号",{"$f":"IF('４(副顧問) (3)'!G5=\"\",\"\",'４(副顧問) (3)'!G5)","v":""},null,null,null,null,null,null,null,{"$f":"'４(副顧問) (3)'!$O$5:$R$5","v":"0学校"}]
[]
[null,"日","曜","要　件","区　分","業　　務　　内　　容",null,null,null,null,"従　事　時　間",null,null,null,"従事場所","所属長\n確認印","従事者印","備　　考"]
[null,{"$f":"'１'!B8:B11","v":""},{"$f":"IF(B8=\"\",\"\",TEXT(DATE(2018+$F$3,$H$3,B8),\"aaa\"))","v":""},"　　　","　　　",{"$f":"IF(IF(B8=\"\",\"\",VLOOKUP(B8,'1実績'!$A$16:$BK$46,63))=\"大会\",IF(B8=\"\",\"\",VLOOKUP(B8,'1実績'!$A$16:$AO$46,22,FALSE)),IF(B8=\"\",\"\",'1実績'!$AC$4)&IF(B8=\"\",\"\",VLOOKUP(B8,'1実績'!$A$16:$AO$46,22,FALSE)))","v":""},null,null,null,null,{"$f":"IF(IF(B8=\"\",\"\",VLOOKUP(B8,'1実績'!$A$16:$AO$46,5,FALSE))=0,IF(B8=\"\",\"\",VLOOKUP(B8,'1実績'!$A$16:$AO$46,12,FALSE)),IF(B8=\"\",\"\",VLOOKUP(B8,'1実績'!$A$16:$AO$46,5,FALSE)))","v":""},"～",{"$f":"IF(IF(B8=\"\",\"\",VLOOKUP(B8,'1実績'!$A$16:$AO$46,16,FALSE))=0,IF(B8=\"\",\"\",VLOOKUP(B8,'1実績'!$A$16:$AO$46,9,FALSE)),IF(B8=\"\",\"\",VLOOKUP(B8,'1実績'!$A$16:$AO$46,16,FALSE)))","v":""},{"$f":"IF(K8=\"\",\"\",M8-K8)","v":""},{"$f":"IF(B8=\"\",\"\",VLOOKUP(B8,'1実績'!$A$16:$AO$46,34,FALSE))","v":""}]
[]
[]
[null,null,null,null,null,null,null,null,null,null,null,null,null,null,null,null,null,"　　　"]
[null,{"$f":"'１'!B12:B15","v":""},{"$f":"IF(B12=\"\",\"\",TEXT(DATE(2018+$F$3,$H$3,B12),\"aaa\"))","v":""},"　　　","　　　",{"$f":"IF(IF(B12=\"\",\"\",VLOOKUP(B12,'1実績'!$A$16:$BK$46,63))=\"大会\",IF(B12=\"\",\"\",VLOOKUP(B12,'1実績'!$A$16:$AO$46,22,FALSE)),IF(B12=\"\",\"\",'1実績'!$AC$4)&IF(B12=\"\",\"\",VLOOKUP(B12,'1実績'!$A$16:$AO$46,22,FALSE)))","v":""},null,null,null,null,{"$f":"IF(IF(B12=\"\",\"\",VLOOKUP(B12,'1実績'!$A$16:$AO$46,5,FALSE))=0,IF(B12=\"\",\"\",VLOOKUP(B12,'1実績'!$A$16:$AO$46,12,FALSE)),IF(B12=\"\",\"\",VLOOKUP(B12,'1実績'!$A$16:$AO$46,5,FALSE)))","v":""},"～",{"$f":"IF(IF(B12=\"\",\"\",VLOOKUP(B12,'1実績'!$A$16:$AO$46,16,FALSE))=0,IF(B12=\"\",\"\",VLOOKUP(B12,'1実績'!$A$16:$AO$46,9,FALSE)),IF(B12=\"\",\"\",VLOOKUP(B12,'1実績'!$A$16:$AO$46,16,FALSE)))","v":""},{"$f":"IF(K12=\"\",\"\",M12-K12)","v":""},{"$f":"IF(B12=\"\",\"\",VLOOKUP(B12,'1実績'!$A$16:$AO$46,34,FALSE))","v":""}]
[]
[]
[null,null,null,null,null,null,null,null,null,null,null,null,null,null,null,null,null,"　　　"]
[null,{"$f":"'１'!B16:B19","v":""},{"$f":"IF(B16=\"\",\"\",TEXT(DATE(2018+$F$3,$H$3,B16),\"aaa\"))","v":""},"　　　","　　　",{"$f":"IF(IF(B16=\"\",\"\",VLOOKUP(B16,'1実績'!$A$16:$BK$46,63))=\"大会\",IF(B16=\"\",\"\",VLOOKUP(B16,'1実績'!$A$16:$AO$46,22,FALSE)),IF(B16=\"\",\"\",'1実績'!$AC$4)&IF(B16=\"\",\"\",VLOOKUP(B16,'1実績'!$A$16:$AO$46,22,FALSE)))","v":""},null,null,null,null,{"$f":"IF(IF(B16=\"\",\"\",VLOOKUP(B16,'1実績'!$A$16:$AO$46,5,FALSE))=0,IF(B16=\"\",\"\",VLOOKUP(B16,'1実績'!$A$16:$AO$46,12,FALSE)),IF(B16=\"\",\"\",VLOOKUP(B16,'1実績'!$A$16:$AO$46,5,FALSE)))","v":""},"～",{"$f":"IF(IF(B16=\"\",\"\",VLOOKUP(B16,'1実績'!$A$16:$AO$46,16,FALSE))=0,IF(B16=\"\",\"\",VLOOKUP(B16,'1実績'!$A$16:$AO$46,9,FALSE)),IF(B16=\"\",\"\",VLOOKUP(B16,'1実績'!$A$16:$AO$46,16,FALSE)))","v":""},{"$f":"IF(K16=\"\",\"\",M16-K16)","v":""},{"$f":"IF(B16=\"\",\"\",VLOOKUP(B16,'1実績'!$A$16:$AO$46,34,FALSE))","v":""}]
[]
[]
[null,null,null,null,null,null,null,null,null,null,null,null,null,null,null,null,null,"　　　"]
[null,{"$f":"'１'!B20:B23","v":""},{"$f":"IF(B20=\"\",\"\",TEXT(DATE(2018+$F$3,$H$3,B20),\"aaa\"))","v":""},"　　　","　　　",{"$f":"IF(IF(B20=\"\",\"\",VLOOKUP(B20,'1実績'!$A$16:$BK$46,63))=\"大会\",IF(B20=\"\",\"\",VLOOKUP(B20,'1実績'!$A$16:$AO$46,22,FALSE)),IF(B20=\"\",\"\",'1実績'!$AC$4)&IF(B20=\"\",\"\",VLOOKUP(B20,'1実績'!$A$16:$AO$46,22,FALSE)))","v":""},null,null,null,null,{"$f":"IF(IF(B20=\"\",\"\",VLOOKUP(B20,'1実績'!$A$16:$AO$46,5,FALSE))=0,IF(B20=\"\",\"\",VLOOKUP(B20,'1実績'!$A$16:$AO$46,12,FALSE)),IF(B20=\"\",\"\",VLOOKUP(B20,'1実績'!$A$16:$AO$46,5,FALSE)))","v":""},"～",{"$f":"IF(IF(B20=\"\",\"\",VLOOKUP(B20,'1実績'!$A$16:$AO$46,16,FALSE))=0,IF(B20=\"\",\"\",VLOOKUP(B20,'1実績'!$A$16:$AO$46,9,FALSE)),IF(B20=\"\",\"\",VLOOKUP(B20,'1実績'!$A$16:$AO$46,16,FALSE)))","v":""},{"$f":"IF(K20=\"\",\"\",M20-K20)","v":""},{"$f":"IF(B20=\"\",\"\",VLOOKUP(B20,'1実績'!$A$16:$AO$46,34,FALSE))","v":""}]
[]
[]
[null,null,null,null,null,null,null,null,null,null,null,null,null,null,null,null,null,"　　　"]
[null,{"$f":"'１'!B24:B27","v":""},{"$f":"IF(B24=\"\",\"\",TEXT(DATE(2018+$F$3,$H$3,B24),\"aaa\"))","v":""},"　　　","　　　",{"$f":"IF(IF(B24=\"\",\"\",VLOOKUP(B24,'1実績'!$A$16:$BK$46,63))=\"大会\",IF(B24=\"\",\"\",VLOOKUP(B24,'1実績'!$A$16:$AO$46,22,FALSE)),IF(B24=\"\",\"\",'1実績'!$AC$4)&IF(B24=\"\",\"\",VLOOKUP(B24,'1実績'!$A$16:$AO$46,22,FALSE)))","v":""},null,null,null,null,{"$f":"IF(IF(B24=\"\",\"\",VLOOKUP(B24,'1実績'!$A$16:$AO$46,5,FALSE))=0,IF(B24=\"\",\"\",VLOOKUP(B24,'1実績'!$A$16:$AO$46,12,FALSE)),IF(B24=\"\",\"\",VLOOKUP(B24,'1実績'!$A$16:$AO$46,5,FALSE)))","v":""},"～",{"$f":"IF(IF(B24=\"\",\"\",VLOOKUP(B24,'1実績'!$A$16:$AO$46,16,FALSE))=0,IF(B24=\"\",\"\",VLOOKUP(B24,'1実績'!$A$16:$AO$46,9,FALSE)),IF(B24=\"\",\"\",VLOOKUP(B24,'1実績'!$A$16:$AO$46,16,FALSE)))","v":""},{"$f":"IF(K24=\"\",\"\",M24-K24)","v":""},{"$f":"IF(B24=\"\",\"\",VLOOKUP(B24,'1実績'!$A$16:$AO$46,34,FALSE))","v":""}]
[]
[]
[null,null,null,null,null,null,null,null,null,null,null,null,null,null,null,null,null,"　　　"]
[null,{"$f":"'１'!B28:B31","v":""},{"$f":"IF(B28=\"\",\"\",TEXT(DATE(2018+$F$3,$H$3,B28),\"aaa\"))","v":""},"　　　","　　　",{"$f":"IF(IF(B28=\"\",\"\",VLOOKUP(B28,'1実績'!$A$16:$BK$46,63))=\"大会\",IF(B28=\"\",\"\",VLOOKUP(B28,'1実績'!$A$16:$AO$46,22,FALSE)),IF(B28=\"\",\"\",'1実績'!$AC$4)&IF(B28=\"\",\"\",VLOOKUP(B28,'1実績'!$A$16:$AO$46,22,FALSE)))","v":""},null,null,null,null,{"$f":"IF(IF(B28=\"\",\"\",VLOOKUP(B28,'1実績'!$A$16:$AO$46,5,FALSE))=0,IF(B28=\"\",\"\",VLOOKUP(B28,'1実績'!$A$16:$AO$46,12,FALSE)),IF(B28=\"\",\"\",VLOOKUP(B28,'1実績'!$A$16:$AO$46,5,FALSE)))","v":""},"～",{"$f":"IF(IF(B28=\"\",\"\",VLOOKUP(B28,'1実績'!$A$16:$AO$46,16,FALSE))=0,IF(B28=\"\",\"\",VLOOKUP(B28,'1実績'!$A$16:$AO$46,9,FALSE)),IF(B28=\"\",\"\",VLOOKUP(B28,'1実績'!$A$16:$AO$46,16,FALSE)))","v":""},{"$f":"IF(K28=\"\",\"\",M28-K28)","v":""},{"$f":"IF(B28=\"\",\"\",VLOOKUP(B28,'1実績'!$A$16:$AO$46,34,FALSE))","v":""}]
[]
[]
[null,null,null,null,null,null,null,null,null,null,null,null,null,null,null,null,null,"　　　"]
[null,{"$f":"'１'!B32:B35","v":""},{"$f":"IF(B32=\"\",\"\",TEXT(DATE(2018+$F$3,$H$3,B32),\"aaa\"))","v":""},"　　　","　　　",{"$f":"IF(IF(B32=\"\",\"\",VLOOKUP(B32,'1実績'!$A$16:$BK$46,63))=\"大会\",IF(B32=\"\",\"\",VLOOKUP(B32,'1実績'!$A$16:$AO$46,22,FALSE)),IF(B32=\"\",\"\",'1実績'!$AC$4)&IF(B32=\"\",\"\",VLOOKUP(B32,'1実績'!$A$16:$AO$46,22,FALSE)))","v":""},null,null,null,null,{"$f":"IF(IF(B32=\"\",\"\",VLOOKUP(B32,'1実績'!$A$16:$AO$46,5,FALSE))=0,IF(B32=\"\",\"\",VLOOKUP(B32,'1実績'!$A$16:$AO$46,12,FALSE)),IF(B32=\"\",\"\",VLOOKUP(B32,'1実績'!$A$16:$AO$46,5,FALSE)))","v":""},"～",{"$f":"IF(IF(B32=\"\",\"\",VLOOKUP(B32,'1実績'!$A$16:$AO$46,16,FALSE))=0,IF(B32=\"\",\"\",VLOOKUP(B32,'1実績'!$A$16:$AO$46,9,FALSE)),IF(B32=\"\",\"\",VLOOKUP(B32,'1実績'!$A$16:$AO$46,16,FALSE)))","v":""},{"$f":"IF(K32=\"\",\"\",M32-K32)","v":""},{"$f":"IF(B32=\"\",\"\",VLOOKUP(B32,'1実績'!$A$16:$AO$46,34,FALSE))","v":""}]
[]
[]
[null,null,null,null,null,null,null,null,null,null,null,null,null,null,null,null,null,"　　　"]
[null,{"$f":"'１'!B36:B39","v":""},{"$f":"IF(B36=\"\",\"\",TEXT(DATE(2018+$F$3,$H$3,B36),\"aaa\"))","v":""},"　　　","　　　",{"$f":"IF(IF(B36=\"\",\"\",VLOOKUP(B36,'1実績'!$A$16:$BK$46,63))=\"大会\",IF(B36=\"\",\"\",VLOOKUP(B36,'1実績'!$A$16:$AO$46,22,FALSE)),IF(B36=\"\",\"\",'1実績'!$AC$4)&IF(B36=\"\",\"\",VLOOKUP(B36,'1実績'!$A$16:$AO$46,22,FALSE)))","v":""},null,null,null,null,{"$f":"IF(IF(B36=\"\",\"\",VLOOKUP(B36,'1実績'!$A$16:$AO$46,5,FALSE))=0,IF(B36=\"\",\"\",VLOOKUP(B36,'1実績'!$A$16:$AO$46,12,FALSE)),IF(B36=\"\",\"\",VLOOKUP(B36,'1実績'!$A$16:$AO$46,5,FALSE)))","v":""},"～",{"$f":"IF(IF(B36=\"\",\"\",VLOOKUP(B36,'1実績'!$A$16:$AO$46,16,FALSE))=0,IF(B36=\"\",\"\",VLOOKUP(B36,'1実績'!$A$16:$AO$46,9,FALSE)),IF(B36=\"\",\"\",VLOOKUP(B36,'1実績'!$A$16:$AO$46,16,FALSE)))","v":""},{"$f":"IF(K36=\"\",\"\",M36-K36)","v":""},{"$f":"IF(B36=\"\",\"\",VLOOKUP(B36,'1実績'!$A$16:$AO$46,34,FALSE))","v":""}]
[]
[]
[null,null,null,null,null,null,null,null,null,null,null,null,null,null,null,null,null,"　　　"]
[null,{"$f":"'１'!B40:B43","v":""},{"$f":"IF(B40=\"\",\"\",TEXT(DATE(2018+$F$3,$H$3,B40),\"aaa\"))","v":""},"　　　","　　　",{"$f":"IF(IF(B40=\"\",\"\",VLOOKUP(B40,'1実績'!$A$16:$BK$46,63))=\"大会\",IF(B40=\"\",\"\",VLOOKUP(B40,'1実績'!$A$16:$AO$46,22,FALSE)),IF(B40=\"\",\"\",'1実績'!$AC$4)&IF(B40=\"\",\"\",VLOOKUP(B40,'1実績'!$A$16:$AO$46,22,FALSE)))","v":""},null,null,null,null,{"$f":"IF(IF(B40=\"\",\"\",VLOOKUP(B40,'1実績'!$A$16:$AO$46,5,FALSE))=0,IF(B40=\"\",\"\",VLOOKUP(B40,'1実績'!$A$16:$AO$46,12,FALSE)),IF(B40=\"\",\"\",VLOOKUP(B40,'1実績'!$A$16:$AO$46,5,FALSE)))","v":""},"～",{"$f":"IF(IF(B40=\"\",\"\",VLOOKUP(B40,'1実績'!$A$16:$AO$46,16,FALSE))=0,IF(B40=\"\",\"\",VLOOKUP(B40,'1実績'!$A$16:$AO$46,9,FALSE)),IF(B40=\"\",\"\",VLOOKUP(B40,'1実績'!$A$16:$AO$46,16,FALSE)))","v":""},{"$f":"IF(K40=\"\",\"\",M40-K40)","v":""},{"$f":"IF(B40=\"\",\"\",VLOOKUP(B40,'1実績'!$A$16:$AO$46,34,FALSE))","v":""}]
[]
[]
[null,null,null,null,null,null,null,null,null,null,null,null,null,null,null,null,null,"　　　"]
[null,"( 記入要領等 )"]
[null,"　         　１　この整理簿は、教員特殊業務手当及び面接指導手当の支給対象となるものについて、当該手当の支給に必要な事の整理をするものであること。"]
[null,"　　         ２　記入にあたっては、次のように記入すること。"]
[null,"　　　         　「要件」欄：週休日等　　　半日振替日　　　　その他"]
[null,"　　　　         「区分」欄：非常災害　　救急業務　　補導業務　　修学旅行等　　対外運動等　　入学試験業務　　　部活動４　　　　部活動３　　　部活動２　　　面接指導　　　　　"]
[null,"　　　　　　　　　　         ※部活動４は4時間以上、部活動３は３時間以上４時間未満、部活動２は2時間以上３時間未満をいう。"]
[null,"　　　　         「業務内容」欄：職員が従事した業務について、その内容を簡潔に記入すること。"]
[null,"　　　         　「従事時間」欄：左欄に手当の支給対象となる業務の終始の時刻を、右欄には時間を記入すること。"]
[null,"　　　         　「備考」欄：この整理簿を補足する事項を記入すること。"]

{"sheet":"２(副顧問) (3)","index":72,"n_rows":52,"n_cols":18,"rows_kept":52,"cut":false,"hidden":false,"merged":[[39,17,41,17],[41,5,42,9],[43,1,43,3],[39,11,42,11],[39,12,42,12],[39,13,42,13],[39,14,42,14],[39,15,42,15],[39,16,42,16],[39,1,42,1],[39,2,42,2],[39,3,42,3],[39,4,42,4],[39,5,40,9],[39,10,42,10],[35,13,38,13],[35,14,38,14],[35,15,38,15],[35,16,38,16],[35,17,37,17],[37,5,38,9],[31,17,33,17],[33,5,34,9],[35,1,38,1],[35,2,38,2],[35,3,38,3],[35,4,38,4],[35,5,36,9],[35,10,38,10],[35,11,38,11],[35,12,38,12],[31,11,34,11],[31,12,34,12],[31,13,34,13],[31,14,34,14],[31,15,34,15],[31,16,34,16],[31,1,34,1],[31,2,34,2],[31,3,34,3],[31,4,34,4],[31,5,32,9],[31,10,34,10],[27,13,30,13],[27,14,30,14],[27,15,30,15],[27,16,30,16],[27,17,29,17],[29,5,30,9],[23,17,25,17],[25,5,26,9],[27,1,30,1],[27,2,30,2],[27,3,30,3],[27,4,30,4],[27,5,28,9],[27,10,30,10],[27,11,30,11],[27,12,30,12],[23,11,26,11],[23,12,26,12],[23,13,26,13],[23,14,26,14],[23,15,26,15],[23,16,26,16],[23,1,26,1],[23,2,26,2],[23,3,26,3],[23,4,26,4],[23,5,24,9],[23,10,26,10],[19,13,22,13],[19,14,22,14],[19,15,22,15],[19,16,22,16],[19,17,21,17],[21,5,22,9],[15,17,17,17],[17,5,18,9],[19,1,22,1],[19,2,22,2],[19,3,22,3],[19,4,22,4],[19,5,20,9],[19,10,22,10],[19,11,22,11],[19,12,22,12],[15,11,18,11],[15,12,18,12],[15,13,18,13],[15,14,18,14],[15,15,18,15],[15,16,18,16],[15,1,18,1],[15,2,18,2],[15,3,18,3],[15,4,18,4],[15,5,16,9],[15,10,18,10],[11,13,14,13],[11,14,14,14],[11,15,14,15],[11,16,14,16],[11,17,13,17],[13,5,14,9],[11,1,14,1],[11,2,14,2],[11,3,14,3],[11,4,14,4],[11,5,12,9],[11,10,14,10],[11,11,14,11],[11,12,14,12],[7,11,10,11],[7,12,10,12],[7,1,10,1],[7,2,10,2],[7,3,10,3],[7,4,10,4],[7,5,8,9],[7,10,10,10],[4,1,4,2],[4,3,4,4],[4,6,4,8],[4,9,4,10],[4,14,4,17],[6,5,6,9],[6,10,6,13],[7,17,9,17],[9,5,10,9],[7,13,10,13],[7,14,10,14],[7,15,10,15],[7,16,10,16]]}
[]
[]
[null,null,null,"          　　　　　　","令和",{"$f":"'2計画'!AS1-2018","v":3},"年",{"$f":"'2計画'!A7","v":2},"月分","　 教  員  特  殊  業  務  整  理  簿",null,null,null,null,null,null,null,"様式3"]
[]
[null,"氏　名",null,{"$f":"IF('2実績'!AE12=\"\",\"\",'2実績'!AE12)","v":0},null,"職員\n番号",{"$f":"IF('４(副顧問) (3)'!G5=\"\",\"\",'４(副顧問) (3)'!G5)","v":""},null,null,null,null,null,null,null,{"$f":"'４(副顧問) (3)'!$O$5:$R$5","v":"0学校"}]
[]
[null,"日","曜","要　件","区　分","業　　務　　内　　容",null,null,null,null,"従　事　時　間",null,null,null,"従事場所","所属長\n確認印","従事者印","備　　考"]
[null,{"$f":"'２'!B8:B11","v":""},{"$f":"IF(B8=\"\",\"\",TEXT(DATE(2018+$F$3,$H$3,B8),\"aaa\"))","v":""},"　　　","　　　",{"$f":"IF(IF(B8=\"\",\"\",VLOOKUP(B8,'2実績'!$A$16:$BK$46,63))=\"大会\",IF(B8=\"\",\"\",VLOOKUP(B8,'2実績'!$A$16:$AO$46,22,FALSE)),IF(B8=\"\",\"\",'2実績'!$AC$4)&IF(B8=\"\",\"\",VLOOKUP(B8,'2実績'!$A$16:$AO$46,22,FALSE)))","v":""},null,null,null,null,{"$f":"IF(IF(B8=\"\",\"\",VLOOKUP(B8,'2実績'!$A$16:$AO$46,5,FALSE))=0,IF(B8=\"\",\"\",VLOOKUP(B8,'2実績'!$A$16:$AO$46,12,FALSE)),IF(B8=\"\",\"\",VLOOKUP(B8,'2実績'!$A$16:$AO$46,5,FALSE)))","v":""},"～",{"$f":"IF(IF(B8=\"\",\"\",VLOOKUP(B8,'2実績'!$A$16:$AO$46,16,FALSE))=0,IF(B8=\"\",\"\",VLOOKUP(B8,'2実績'!$A$16:$AO$46,9,FALSE)),IF(B8=\"\",\"\",VLOOKUP(B8,'2実績'!$A$16:$AO$46,16,FALSE)))","v":""},{"$f":"IF(K8=\"\",\"\",M8-K8)","v":""},{"$f":"IF(B8=\"\",\"\",VLOOKUP(B8,'2実績'!$A$16:$AO$46,34,FALSE))","v":""}]
[]
[]
[null,null,null,null,null,null,null,null,null,null,null,null,null,null,null,null,null,"　　　"]
[null,{"$f":"'２'!B12:B15","v":""},{"$f":"IF(B12=\"\",\"\",TEXT(DATE(2018+$F$3,$H$3,B12),\"aaa\"))","v":""},"　　　","　　　",{"$f":"IF(IF(B12=\"\",\"\",VLOOKUP(B12,'2実績'!$A$16:$BK$46,63))=\"大会\",IF(B12=\"\",\"\",VLOOKUP(B12,'2実績'!$A$16:$AO$46,22,FALSE)),IF(B12=\"\",\"\",'2実績'!$AC$4)&IF(B12=\"\",\"\",VLOOKUP(B12,'2実績'!$A$16:$AO$46,22,FALSE)))","v":""},null,null,null,null,{"$f":"IF(IF(B12=\"\",\"\",VLOOKUP(B12,'2実績'!$A$16:$AO$46,5,FALSE))=0,IF(B12=\"\",\"\",VLOOKUP(B12,'2実績'!$A$16:$AO$46,12,FALSE)),IF(B12=\"\",\"\",VLOOKUP(B12,'2実績'!$A$16:$AO$46,5,FALSE)))","v":""},"～",{"$f":"IF(IF(B12=\"\",\"\",VLOOKUP(B12,'2実績'!$A$16:$AO$46,16,FALSE))=0,IF(B12=\"\",\"\",VLOOKUP(B12,'2実績'!$A$16:$AO$46,9,FALSE)),IF(B12=\"\",\"\",VLOOKUP(B12,'2実績'!$A$16:$AO$46,16,FALSE)))","v":""},{"$f":"IF(K12=\"\",\"\",M12-K12)","v":""},{"$f":"IF(B12=\"\",\"\",VLOOKUP(B12,'2実績'!$A$16:$AO$46,34,FALSE))","v":""}]
[]
[]
[null,null,null,null,null,null,null,null,null,null,null,null,null,null,null,null,null,"　　　"]
[null,{"$f":"'２'!B16:B19","v":""},{"$f":"IF(B16=\"\",\"\",TEXT(DATE(2018+$F$3,$H$3,B16),\"aaa\"))","v":""},"　　　","　　　",{"$f":"IF(IF(B16=\"\",\"\",VLOOKUP(B16,'2実績'!$A$16:$BK$46,63))=\"大会\",IF(B16=\"\",\"\",VLOOKUP(B16,'2実績'!$A$16:$AO$46,22,FALSE)),IF(B16=\"\",\"\",'2実績'!$AC$4)&IF(B16=\"\",\"\",VLOOKUP(B16,'2実績'!$A$16:$AO$46,22,FALSE)))","v":""},null,null,null,null,{"$f":"IF(IF(B16=\"\",\"\",VLOOKUP(B16,'2実績'!$A$16:$AO$46,5,FALSE))=0,IF(B16=\"\",\"\",VLOOKUP(B16,'2実績'!$A$16:$AO$46,12,FALSE)),IF(B16=\"\",\"\",VLOOKUP(B16,'2実績'!$A$16:$AO$46,5,FALSE)))","v":""},"～",{"$f":"IF(IF(B16=\"\",\"\",VLOOKUP(B16,'2実績'!$A$16:$AO$46,16,FALSE))=0,IF(B16=\"\",\"\",VLOOKUP(B16,'2実績'!$A$16:$AO$46,9,FALSE)),IF(B16=\"\",\"\",VLOOKUP(B16,'2実績'!$A$16:$AO$46,16,FALSE)))","v":""},{"$f":"IF(K16=\"\",\"\",M16-K16)","v":""},{"$f":"IF(B16=\"\",\"\",VLOOKUP(B16,'2実績'!$A$16:$AO$46,34,FALSE))","v":""}]
[]
[]
[null,null,null,null,null,null,null,null,null,null,null,null,null,null,null,null,null,"　　　"]
[null,{"$f":"'２'!B20:B23","v":""},{"$f":"IF(B20=\"\",\"\",TEXT(DATE(2018+$F$3,$H$3,B20),\"aaa\"))","v":""},"　　　","　　　",{"$f":"IF(IF(B20=\"\",\"\",VLOOKUP(B20,'2実績'!$A$16:$BK$46,63))=\"大会\",IF(B20=\"\",\"\",VLOOKUP(B20,'2実績'!$A$16:$AO$46,22,FALSE)),IF(B20=\"\",\"\",'2実績'!$AC$4)&IF(B20=\"\",\"\",VLOOKUP(B20,'2実績'!$A$16:$AO$46,22,FALSE)))","v":""},null,null,null,null,{"$f":"IF(IF(B20=\"\",\"\",VLOOKUP(B20,'2実績'!$A$16:$AO$46,5,FALSE))=0,IF(B20=\"\",\"\",VLOOKUP(B20,'2実績'!$A$16:$AO$46,12,FALSE)),IF(B20=\"\",\"\",VLOOKUP(B20,'2実績'!$A$16:$AO$46,5,FALSE)))","v":""},"～",{"$f":"IF(IF(B20=\"\",\"\",VLOOKUP(B20,'2実績'!$A$16:$AO$46,16,FALSE))=0,IF(B20=\"\",\"\",VLOOKUP(B20,'2実績'!$A$16:$AO$46,9,FALSE)),IF(B20=\"\",\"\",VLOOKUP(B20,'2実績'!$A$16:$AO$46,16,FALSE)))","v":""},{"$f":"IF(K20=\"\",\"\",M20-K20)","v":""},{"$f":"IF(B20=\"\",\"\",VLOOKUP(B20,'2実績'!$A$16:$AO$46,34,FALSE))","v":""}]
[]
[]
[null,null,null,null,null,null,null,null,null,null,null,null,null,null,null,null,null,"　　　"]
[null,{"$f":"'２'!B24:B27","v":""},{"$f":"IF(B24=\"\",\"\",TEXT(DATE(2018+$F$3,$H$3,B24),\"aaa\"))","v":""},"　　　","　　　",{"$f":"IF(IF(B24=\"\",\"\",VLOOKUP(B24,'2実績'!$A$16:$BK$46,63))=\"大会\",IF(B24=\"\",\"\",VLOOKUP(B24,'2実績'!$A$16:$AO$46,22,FALSE)),IF(B24=\"\",\"\",'2実績'!$AC$4)&IF(B24=\"\",\"\",VLOOKUP(B24,'2実績'!$A$16:$AO$46,22,FALSE)))","v":""},null,null,null,null,{"$f":"IF(IF(B24=\"\",\"\",VLOOKUP(B24,'2実績'!$A$16:$AO$46,5,FALSE))=0,IF(B24=\"\",\"\",VLOOKUP(B24,'2実績'!$A$16:$AO$46,12,FALSE)),IF(B24=\"\",\"\",VLOOKUP(B24,'2実績'!$A$16:$AO$46,5,FALSE)))","v":""},"～",{"$f":"IF(IF(B24=\"\",\"\",VLOOKUP(B24,'2実績'!$A$16:$AO$46,16,FALSE))=0,IF(B24=\"\",\"\",VLOOKUP(B24,'2実績'!$A$16:$AO$46,9,FALSE)),IF(B24=\"\",\"\",VLOOKUP(B24,'2実績'!$A$16:$AO$46,16,FALSE)))","v":""},{"$f":"IF(K24=\"\",\"\",M24-K24)","v":""},{"$f":"IF(B24=\"\",\"\",VLOOKUP(B24,'2実績'!$A$16:$AO$46,34,FALSE))","v":""}]
[]
[]
[null,null,null,null,null,null,null,null,null,null,null,null,null,null,null,null,null,"　　　"]
[null,{"$f":"'２'!B28:B31","v":""},{"$f":"IF(B28=\"\",\"\",TEXT(DATE(2018+$F$3,$H$3,B28),\"aaa\"))","v":""},"　　　","　　　",{"$f":"IF(IF(B28=\"\",\"\",VLOOKUP(B28,'2実績'!$A$16:$BK$46,63))=\"大会\",IF(B28=\"\",\"\",VLOOKUP(B28,'2実績'!$A$16:$AO$46,22,FALSE)),IF(B28=\"\",\"\",'2実績'!$AC$4)&IF(B28=\"\",\"\",VLOOKUP(B28,'2実績'!$A$16:$AO$46,22,FALSE)))","v":""},null,null,null,null,{"$f":"IF(IF(B28=\"\",\"\",VLOOKUP(B28,'2実績'!$A$16:$AO$46,5,FALSE))=0,IF(B28=\"\",\"\",VLOOKUP(B28,'2実績'!$A$16:$AO$46,12,FALSE)),IF(B28=\"\",\"\",VLOOKUP(B28,'2実績'!$A$16:$AO$46,5,FALSE)))","v":""},"～",{"$f":"IF(IF(B28=\"\",\"\",VLOOKUP(B28,'2実績'!$A$16:$AO$46,16,FALSE))=0,IF(B28=\"\",\"\",VLOOKUP(B28,'2実績'!$A$16:$AO$46,9,FALSE)),IF(B28=\"\",\"\",VLOOKUP(B28,'2実績'!$A$16:$AO$46,16,FALSE)))","v":""},{"$f":"IF(K28=\"\",\"\",M28-K28)","v":""},{"$f":"IF(B28=\"\",\"\",VLOOKUP(B28,'2実績'!$A$16:$AO$46,34,FALSE))","v":""}]
[]
[]
[null,null,null,null,null,null,null,null,null,null,null,null,null,null,null,null,null,"　　　"]
[null,{"$f":"'２'!B32:B35","v":""},{"$f":"IF(B32=\"\",\"\",TEXT(DATE(2018+$F$3,$H$3,B32),\"aaa\"))","v":""},"　　　","　　　",{"$f":"IF(IF(B32=\"\",\"\",VLOOKUP(B32,'2実績'!$A$16:$BK$46,63))=\"大会\",IF(B32=\"\",\"\",VLOOKUP(B32,'2実績'!$A$16:$AO$46,22,FALSE)),IF(B32=\"\",\"\",'2実績'!$AC$4)&IF(B32=\"\",\"\",VLOOKUP(B32,'2実績'!$A$16:$AO$46,22,FALSE)))","v":""},null,null,null,null,{"$f":"IF(IF(B32=\"\",\"\",VLOOKUP(B32,'2実績'!$A$16:$AO$46,5,FALSE))=0,IF(B32=\"\",\"\",VLOOKUP(B32,'2実績'!$A$16:$AO$46,12,FALSE)),IF(B32=\"\",\"\",VLOOKUP(B32,'2実績'!$A$16:$AO$46,5,FALSE)))","v":""},"～",{"$f":"IF(IF(B32=\"\",\"\",VLOOKUP(B32,'2実績'!$A$16:$AO$46,16,FALSE))=0,IF(B32=\"\",\"\",VLOOKUP(B32,'2実績'!$A$16:$AO$46,9,FALSE)),IF(B32=\"\",\"\",VLOOKUP(B32,'2実績'!$A$16:$AO$46,16,FALSE)))","v":""},{"$f":"IF(K32=\"\",\"\",M32-K32)","v":""},{"$f":"IF(B32=\"\",\"\",VLOOKUP(B32,'2実績'!$A$16:$AO$46,34,FALSE))","v":""}]
[]
[]
[null,null,null,null,null,null,null,null,null,null,null,null,null,null,null,null,null,"　　　"]
[null,{"$f":"'２'!B36:B39","v":""},{"$f":"IF(B36=\"\",\"\",TEXT(DATE(2018+$F$3,$H$3,B36),\"aaa\"))","v":""},"　　　","　　　",{"$f":"IF(IF(B36=\"\",\"\",VLOOKUP(B36,'2実績'!$A$16:$BK$46,63))=\"大会\",IF(B36=\"\",\"\",VLOOKUP(B36,'2実績'!$A$16:$AO$46,22,FALSE)),IF(B36=\"\",\"\",'2実績'!$AC$4)&IF(B36=\"\",\"\",VLOOKUP(B36,'2実績'!$A$16:$AO$46,22,FALSE)))","v":""},null,null,null,null,{"$f":"IF(IF(B36=\"\",\"\",VLOOKUP(B36,'2実績'!$A$16:$AO$46,5,FALSE))=0,IF(B36=\"\",\"\",VLOOKUP(B36,'2実績'!$A$16:$AO$46,12,FALSE)),IF(B36=\"\",\"\",VLOOKUP(B36,'2実績'!$A$16:$AO$46,5,FALSE)))","v":""},"～",{"$f":"IF(IF(B36=\"\",\"\",VLOOKUP(B36,'2実績'!$A$16:$AO$46,16,FALSE))=0,IF(B36=\"\",\"\",VLOOKUP(B36,'2実績'!$A$16:$AO$46,9,FALSE)),IF(B36=\"\",\"\",VLOOKUP(B36,'2実績'!$A$16:$AO$46,16,FALSE)))","v":""},{"$f":"IF(K36=\"\",\"\",M36-K36)","v":""},{"$f":"IF(B36=\"\",\"\",VLOOKUP(B36,'2実績'!$A$16:$AO$46,34,FALSE))","v":""}]
[]
[]
[null,null,null,null,null,null,null,null,null,null,null,null,null,null,null,null,null,"　　　"]
[null,{"$f":"'２'!B40:B43","v":""},{"$f":"IF(B40=\"\",\"\",TEXT(DATE(2018+$F$3,$H$3,B40),\"aaa\"))","v":""},"　　　","　　　",{"$f":"IF(IF(B40=\"\",\"\",VLOOKUP(B40,'2実績'!$A$16:$BK$46,63))=\"大会\",IF(B40=\"\",\"\",VLOOKUP(B40,'2実績'!$A$16:$AO$46,22,FALSE)),IF(B40=\"\",\"\",'2実績'!$AC$4)&IF(B40=\"\",\"\",VLOOKUP(B40,'2実績'!$A$16:$AO$46,22,FALSE)))","v":""},null,null,null,null,{"$f":"IF(IF(B40=\"\",\"\",VLOOKUP(B40,'2実績'!$A$16:$AO$46,5,FALSE))=0,IF(B40=\"\",\"\",VLOOKUP(B40,'2実績'!$A$16:$AO$46,12,FALSE)),IF(B40=\"\",\"\",VLOOKUP(B40,'2実績'!$A$16:$AO$46,5,FALSE)))","v":""},"～",{"$f":"IF(IF(B40=\"\",\"\",VLOOKUP(B40,'2実績'!$A$16:$AO$46,16,FALSE))=0,IF(B40=\"\",\"\",VLOOKUP(B40,'2実績'!$A$16:$AO$46,9,FALSE)),IF(B40=\"\",\"\",VLOOKUP(B40,'2実績'!$A$16:$AO$46,16,FALSE)))","v":""},{"$f":"IF(K40=\"\",\"\",M40-K40)","v":""},{"$f":"IF(B40=\"\",\"\",VLOOKUP(B40,'2実績'!$A$16:$AO$46,34,FALSE))","v":""}]
[]
[]
[null,null,null,null,null,null,null,null,null,null,null,null,null,null,null,null,null,"　　　"]
[null,"( 記入要領等 )"]
[null,"　         　１　この整理簿は、教員特殊業務手当及び面接指導手当の支給対象となるものについて、当該手当の支給に必要な事の整理をするものであること。"]
[null,"　　         ２　記入にあたっては、次のように記入すること。"]
[null,"　　　         　「要件」欄：週休日等　　　半日振替日　　　　その他"]
[null,"　　　　         「区分」欄：非常災害　　救急業務　　補導業務　　修学旅行等　　対外運動等　　入学試験業務　　　部活動４　　　　部活動３　　　部活動２　　　面接指導　　　　　"]
[null,"　　　　　　　　　　         ※部活動４は4時間以上、部活動３は３時間以上４時間未満、部活動２は2時間以上３時間未満をいう。"]
[null,"　　　　         「業務内容」欄：職員が従事した業務について、その内容を簡潔に記入すること。"]
[null,"　　　         　「従事時間」欄：左欄に手当の支給対象となる業務の終始の時刻を、右欄には時間を記入すること。"]
[null,"　　　         　「備考」欄：この整理簿を補足する事項を記入すること。"]

{"sheet":"３(副顧問) (3)","index":73,"n_rows":52,"n_cols":18,"rows_kept":52,"cut":false,"hidden":false,"merged":[[39,17,41,17],[41,5,42,9],[43,1,43,3],[39,11,42,11],[39,12,42,12],[39,13,42,13],[39,14,42,14],[39,15,42,15],[39,16,42,16],[39,1,42,1],[39,2,42,2],[39,3,42,3],[39,4,42,4],[39,5,40,9],[39,10,42,10],[35,13,38,13],[35,14,38,14],[35,15,38,15],[35,16,38,16],[35,17,37,17],[37,5,38,9],[31,17,33,17],[33,5,34,9],[35,1,38,1],[35,2,38,2],[35,3,38,3],[35,4,38,4],[35,5,36,9],[35,10,38,10],[35,11,38,11],[35,12,38,12],[31,11,34,11],[31,12,34,12],[31,13,34,13],[31,14,34,14],[31,15,34,15],[31,16,34,16],[31,1,34,1],[31,2,34,2],[31,3,34,3],[31,4,34,4],[31,5,32,9],[31,10,34,10],[27,13,30,13],[27,14,30,14],[27,15,30,15],[27,16,30,16],[27,17,29,17],[29,5,30,9],[23,17,25,17],[25,5,26,9],[27,1,30,1],[27,2,30,2],[27,3,30,3],[27,4,30,4],[27,5,28,9],[27,10,30,10],[27,11,30,11],[27,12,30,12],[23,11,26,11],[23,12,26,12],[23,13,26,13],[23,14,26,14],[23,15,26,15],[23,16,26,16],[23,1,26,1],[23,2,26,2],[23,3,26,3],[23,4,26,4],[23,5,24,9],[23,10,26,10],[19,13,22,13],[19,14,22,14],[19,15,22,15],[19,16,22,16],[19,17,21,17],[21,5,22,9],[15,17,17,17],[17,5,18,9],[19,1,22,1],[19,2,22,2],[19,3,22,3],[19,4,22,4],[19,5,20,9],[19,10,22,10],[19,11,22,11],[19,12,22,12],[15,11,18,11],[15,12,18,12],[15,13,18,13],[15,14,18,14],[15,15,18,15],[15,16,18,16],[15,1,18,1],[15,2,18,2],[15,3,18,3],[15,4,18,4],[15,5,16,9],[15,10,18,10],[11,13,14,13],[11,14,14,14],[11,15,14,15],[11,16,14,16],[11,17,13,17],[13,5,14,9],[11,1,14,1],[11,2,14,2],[11,3,14,3],[11,4,14,4],[11,5,12,9],[11,10,14,10],[11,11,14,11],[11,12,14,12],[7,11,10,11],[7,12,10,12],[7,1,10,1],[7,2,10,2],[7,3,10,3],[7,4,10,4],[7,5,8,9],[7,10,10,10],[4,1,4,2],[4,3,4,4],[4,6,4,8],[4,9,4,10],[4,14,4,17],[6,5,6,9],[6,10,6,13],[7,17,9,17],[9,5,10,9],[7,13,10,13],[7,14,10,14],[7,15,10,15],[7,16,10,16]]}
[]
[]
[null,null,null,"          　　　　　　","令和",{"$f":"'3計画'!AS1-2018","v":3},"年",{"$f":"'3計画'!A7","v":3},"月分","　 教  員  特  殊  業  務  整  理  簿",null,null,null,null,null,null,null,"様式3"]
[]
[null,"氏　名",null,{"$f":"IF('3実績'!AE12=\"\",\"\",'3実績'!AE12)","v":0},null,"職員\n番号",{"$f":"IF('４(副顧問) (3)'!G5=\"\",\"\",'４(副顧問) (3)'!G5)","v":""},null,null,null,null,null,null,null,{"$f":"'４(副顧問) (3)'!$O$5:$R$5","v":"0学校"}]
[]
[null,"日","曜","要　件","区　分","業　　務　　内　　容",null,null,null,null,"従　事　時　間",null,null,null,"従事場所","所属長\n確認印","従事者印","備　　考"]
[null,{"$f":"'３'!B8:B11","v":""},{"$f":"IF(B8=\"\",\"\",TEXT(DATE(2018+$F$3,$H$3,B8),\"aaa\"))","v":""},"　　　","　　　",{"$f":"IF(IF(B8=\"\",\"\",VLOOKUP(B8,'3実績'!$A$16:$BK$46,63))=\"大会\",IF(B8=\"\",\"\",VLOOKUP(B8,'3実績'!$A$16:$AO$46,22,FALSE)),IF(B8=\"\",\"\",'3実績'!$AC$4)&IF(B8=\"\",\"\",VLOOKUP(B8,'3実績'!$A$16:$AO$46,22,FALSE)))","v":""},null,null,null,null,{"$f":"IF(IF(B8=\"\",\"\",VLOOKUP(B8,'3実績'!$A$16:$AO$46,5,FALSE))=0,IF(B8=\"\",\"\",VLOOKUP(B8,'3実績'!$A$16:$AO$46,12,FALSE)),IF(B8=\"\",\"\",VLOOKUP(B8,'3実績'!$A$16:$AO$46,5,FALSE)))","v":""},"～",{"$f":"IF(IF(B8=\"\",\"\",VLOOKUP(B8,'3実績'!$A$16:$AO$46,16,FALSE))=0,IF(B8=\"\",\"\",VLOOKUP(B8,'3実績'!$A$16:$AO$46,9,FALSE)),IF(B8=\"\",\"\",VLOOKUP(B8,'3実績'!$A$16:$AO$46,16,FALSE)))","v":""},{"$f":"IF(K8=\"\",\"\",M8-K8)","v":""},{"$f":"IF(B8=\"\",\"\",VLOOKUP(B8,'3実績'!$A$16:$AO$46,34,FALSE))","v":""}]
[]
[]
[null,null,null,null,null,null,null,null,null,null,null,null,null,null,null,null,null,"　　　"]
[null,{"$f":"'３'!B12:B15","v":""},{"$f":"IF(B12=\"\",\"\",TEXT(DATE(2018+$F$3,$H$3,B12),\"aaa\"))","v":""},"　　　","　　　",{"$f":"IF(IF(B12=\"\",\"\",VLOOKUP(B12,'3実績'!$A$16:$BK$46,63))=\"大会\",IF(B12=\"\",\"\",VLOOKUP(B12,'3実績'!$A$16:$AO$46,22,FALSE)),IF(B12=\"\",\"\",'3実績'!$AC$4)&IF(B12=\"\",\"\",VLOOKUP(B12,'3実績'!$A$16:$AO$46,22,FALSE)))","v":""},null,null,null,null,{"$f":"IF(IF(B12=\"\",\"\",VLOOKUP(B12,'3実績'!$A$16:$AO$46,5,FALSE))=0,IF(B12=\"\",\"\",VLOOKUP(B12,'3実績'!$A$16:$AO$46,12,FALSE)),IF(B12=\"\",\"\",VLOOKUP(B12,'3実績'!$A$16:$AO$46,5,FALSE)))","v":""},"～",{"$f":"IF(IF(B12=\"\",\"\",VLOOKUP(B12,'3実績'!$A$16:$AO$46,16,FALSE))=0,IF(B12=\"\",\"\",VLOOKUP(B12,'3実績'!$A$16:$AO$46,9,FALSE)),IF(B12=\"\",\"\",VLOOKUP(B12,'3実績'!$A$16:$AO$46,16,FALSE)))","v":""},{"$f":"IF(K12=\"\",\"\",M12-K12)","v":""},{"$f":"IF(B12=\"\",\"\",VLOOKUP(B12,'3実績'!$A$16:$AO$46,34,FALSE))","v":""}]
[]
[]
[null,null,null,null,null,null,null,null,null,null,null,null,null,null,null,null,null,"　　　"]
[null,{"$f":"'３'!B16:B19","v":""},{"$f":"IF(B16=\"\",\"\",TEXT(DATE(2018+$F$3,$H$3,B16),\"aaa\"))","v":""},"　　　","　　　",{"$f":"IF(IF(B16=\"\",\"\",VLOOKUP(B16,'3実績'!$A$16:$BK$46,63))=\"大会\",IF(B16=\"\",\"\",VLOOKUP(B16,'3実績'!$A$16:$AO$46,22,FALSE)),IF(B16=\"\",\"\",'3実績'!$AC$4)&IF(B16=\"\",\"\",VLOOKUP(B16,'3実績'!$A$16:$AO$46,22,FALSE)))","v":""},null,null,null,null,{"$f":"IF(IF(B16=\"\",\"\",VLOOKUP(B16,'3実績'!$A$16:$AO$46,5,FALSE))=0,IF(B16=\"\",\"\",VLOOKUP(B16,'3実績'!$A$16:$AO$46,12,FALSE)),IF(B16=\"\",\"\",VLOOKUP(B16,'3実績'!$A$16:$AO$46,5,FALSE)))","v":""},"～",{"$f":"IF(IF(B16=\"\",\"\",VLOOKUP(B16,'3実績'!$A$16:$AO$46,16,FALSE))=0,IF(B16=\"\",\"\",VLOOKUP(B16,'3実績'!$A$16:$AO$46,9,FALSE)),IF(B16=\"\",\"\",VLOOKUP(B16,'3実績'!$A$16:$AO$46,16,FALSE)))","v":""},{"$f":"IF(K16=\"\",\"\",M16-K16)","v":""},{"$f":"IF(B16=\"\",\"\",VLOOKUP(B16,'3実績'!$A$16:$AO$46,34,FALSE))","v":""}]
[]
[]
[null,null,null,null,null,null,null,null,null,null,null,null,null,null,null,null,null,"　　　"]
[null,{"$f":"'３'!B20:B23","v":""},{"$f":"IF(B20=\"\",\"\",TEXT(DATE(2018+$F$3,$H$3,B20),\"aaa\"))","v":""},"　　　","　　　",{"$f":"IF(IF(B20=\"\",\"\",VLOOKUP(B20,'3実績'!$A$16:$BK$46,63))=\"大会\",IF(B20=\"\",\"\",VLOOKUP(B20,'3実績'!$A$16:$AO$46,22,FALSE)),IF(B20=\"\",\"\",'3実績'!$AC$4)&IF(B20=\"\",\"\",VLOOKUP(B20,'3実績'!$A$16:$AO$46,22,FALSE)))","v":""},null,null,null,null,{"$f":"IF(IF(B20=\"\",\"\",VLOOKUP(B20,'3実績'!$A$16:$AO$46,5,FALSE))=0,IF(B20=\"\",\"\",VLOOKUP(B20,'3実績'!$A$16:$AO$46,12,FALSE)),IF(B20=\"\",\"\",VLOOKUP(B20,'3実績'!$A$16:$AO$46,5,FALSE)))","v":""},"～",{"$f":"IF(IF(B20=\"\",\"\",VLOOKUP(B20,'3実績'!$A$16:$AO$46,16,FALSE))=0,IF(B20=\"\",\"\",VLOOKUP(B20,'3実績'!$A$16:$AO$46,9,FALSE)),IF(B20=\"\",\"\",VLOOKUP(B20,'3実績'!$A$16:$AO$46,16,FALSE)))","v":""},{"$f":"IF(K20=\"\",\"\",M20-K20)","v":""},{"$f":"IF(B20=\"\",\"\",VLOOKUP(B20,'3実績'!$A$16:$AO$46,34,FALSE))","v":""}]
[]
[]
[null,null,null,null,null,null,null,null,null,null,null,null,null,null,null,null,null,"　　　"]
[null,{"$f":"'３'!B24:B27","v":""},{"$f":"IF(B24=\"\",\"\",TEXT(DATE(2018+$F$3,$H$3,B24),\"aaa\"))","v":""},"　　　","　　　",{"$f":"IF(IF(B24=\"\",\"\",VLOOKUP(B24,'3実績'!$A$16:$BK$46,63))=\"大会\",IF(B24=\"\",\"\",VLOOKUP(B24,'3実績'!$A$16:$AO$46,22,FALSE)),IF(B24=\"\",\"\",'3実績'!$AC$4)&IF(B24=\"\",\"\",VLOOKUP(B24,'3実績'!$A$16:$AO$46,22,FALSE)))","v":""},null,null,null,null,{"$f":"IF(IF(B24=\"\",\"\",VLOOKUP(B24,'3実績'!$A$16:$AO$46,5,FALSE))=0,IF(B24=\"\",\"\",VLOOKUP(B24,'3実績'!$A$16:$AO$46,12,FALSE)),IF(B24=\"\",\"\",VLOOKUP(B24,'3実績'!$A$16:$AO$46,5,FALSE)))","v":""},"～",{"$f":"IF(IF(B24=\"\",\"\",VLOOKUP(B24,'3実績'!$A$16:$AO$46,16,FALSE))=0,IF(B24=\"\",\"\",VLOOKUP(B24,'3実績'!$A$16:$AO$46,9,FALSE)),IF(B24=\"\",\"\",VLOOKUP(B24,'3実績'!$A$16:$AO$46,16,FALSE)))","v":""},{"$f":"IF(K24=\"\",\"\",M24-K24)","v":""},{"$f":"IF(B24=\"\",\"\",VLOOKUP(B24,'3実績'!$A$16:$AO$46,34,FALSE))","v":""}]
[]
[]
[null,null,null,null,null,null,null,null,null,null,null,null,null,null,null,null,null,"　　　"]
[null,{"$f":"'３'!B28:B31","v":""},{"$f":"IF(B28=\"\",\"\",TEXT(DATE(2018+$F$3,$H$3,B28),\"aaa\"))","v":""},"　　　","　　　",{"$f":"IF(IF(B28=\"\",\"\",VLOOKUP(B28,'3実績'!$A$16:$BK$46,63))=\"大会\",IF(B28=\"\",\"\",VLOOKUP(B28,'3実績'!$A$16:$AO$46,22,FALSE)),IF(B28=\"\",\"\",'3実績'!$AC$4)&IF(B28=\"\",\"\",VLOOKUP(B28,'3実績'!$A$16:$AO$46,22,FALSE)))","v":""},null,null,null,null,{"$f":"IF(IF(B28=\"\",\"\",VLOOKUP(B28,'3実績'!$A$16:$AO$46,5,FALSE))=0,IF(B28=\"\",\"\",VLOOKUP(B28,'3実績'!$A$16:$AO$46,12,FALSE)),IF(B28=\"\",\"\",VLOOKUP(B28,'3実績'!$A$16:$AO$46,5,FALSE)))","v":""},"～",{"$f":"IF(IF(B28=\"\",\"\",VLOOKUP(B28,'3実績'!$A$16:$AO$46,16,FALSE))=0,IF(B28=\"\",\"\",VLOOKUP(B28,'3実績'!$A$16:$AO$46,9,FALSE)),IF(B28=\"\",\"\",VLOOKUP(B28,'3実績'!$A$16:$AO$46,16,FALSE)))","v":""},{"$f":"IF(K28=\"\",\"\",M28-K28)","v":""},{"$f":"IF(B28=\"\",\"\",VLOOKUP(B28,'3実績'!$A$16:$AO$46,34,FALSE))","v":""}]
[]
[]
[null,null,null,null,null,null,null,null,null,null,null,null,null,null,null,null,null,"　　　"]
[null,{"$f":"'３'!B32:B35","v":""},{"$f":"IF(B32=\"\",\"\",TEXT(DATE(2018+$F$3,$H$3,B32),\"aaa\"))","v":""},"　　　","　　　",{"$f":"IF(IF(B32=\"\",\"\",VLOOKUP(B32,'3実績'!$A$16:$BK$46,63))=\"大会\",IF(B32=\"\",\"\",VLOOKUP(B32,'3実績'!$A$16:$AO$46,22,FALSE)),IF(B32=\"\",\"\",'3実績'!$AC$4)&IF(B32=\"\",\"\",VLOOKUP(B32,'3実績'!$A$16:$AO$46,22,FALSE)))","v":""},null,null,null,null,{"$f":"IF(IF(B32=\"\",\"\",VLOOKUP(B32,'3実績'!$A$16:$AO$46,5,FALSE))=0,IF(B32=\"\",\"\",VLOOKUP(B32,'3実績'!$A$16:$AO$46,12,FALSE)),IF(B32=\"\",\"\",VLOOKUP(B32,'3実績'!$A$16:$AO$46,5,FALSE)))","v":""},"～",{"$f":"IF(IF(B32=\"\",\"\",VLOOKUP(B32,'3実績'!$A$16:$AO$46,16,FALSE))=0,IF(B32=\"\",\"\",VLOOKUP(B32,'3実績'!$A$16:$AO$46,9,FALSE)),IF(B32=\"\",\"\",VLOOKUP(B32,'3実績'!$A$16:$AO$46,16,FALSE)))","v":""},{"$f":"IF(K32=\"\",\"\",M32-K32)","v":""},{"$f":"IF(B32=\"\",\"\",VLOOKUP(B32,'3実績'!$A$16:$AO$46,34,FALSE))","v":""}]
[]
[]
[null,null,null,null,null,null,null,null,null,null,null,null,null,null,null,null,null,"　　　"]
[null,{"$f":"'３'!B36:B39","v":""},{"$f":"IF(B36=\"\",\"\",TEXT(DATE(2018+$F$3,$H$3,B36),\"aaa\"))","v":""},"　　　","　　　",{"$f":"IF(IF(B36=\"\",\"\",VLOOKUP(B36,'3実績'!$A$16:$BK$46,63))=\"大会\",IF(B36=\"\",\"\",VLOOKUP(B36,'3実績'!$A$16:$AO$46,22,FALSE)),IF(B36=\"\",\"\",'3実績'!$AC$4)&IF(B36=\"\",\"\",VLOOKUP(B36,'3実績'!$A$16:$AO$46,22,FALSE)))","v":""},null,null,null,null,{"$f":"IF(IF(B36=\"\",\"\",VLOOKUP(B36,'3実績'!$A$16:$AO$46,5,FALSE))=0,IF(B36=\"\",\"\",VLOOKUP(B36,'3実績'!$A$16:$AO$46,12,FALSE)),IF(B36=\"\",\"\",VLOOKUP(B36,'3実績'!$A$16:$AO$46,5,FALSE)))","v":""},"～",{"$f":"IF(IF(B36=\"\",\"\",VLOOKUP(B36,'3実績'!$A$16:$AO$46,16,FALSE))=0,IF(B36=\"\",\"\",VLOOKUP(B36,'3実績'!$A$16:$AO$46,9,FALSE)),IF(B36=\"\",\"\",VLOOKUP(B36,'3実績'!$A$16:$AO$46,16,FALSE)))","v":""},{"$f":"IF(K36=\"\",\"\",M36-K36)","v":""},{"$f":"IF(B36=\"\",\"\",VLOOKUP(B36,'3実績'!$A$16:$AO$46,34,FALSE))","v":""}]
[]
[]
[null,null,null,null,null,null,null,null,null,null,null,null,null,null,null,null,null,"　　　"]
[null,{"$f":"'３'!B40:B43","v":""},{"$f":"IF(B40=\"\",\"\",TEXT(DATE(2018+$F$3,$H$3,B40),\"aaa\"))","v":""},"　　　","　　　",{"$f":"IF(IF(B40=\"\",\"\",VLOOKUP(B40,'3実績'!$A$16:$BK$46,63))=\"大会\",IF(B40=\"\",\"\",VLOOKUP(B40,'3実績'!$A$16:$AO$46,22,FALSE)),IF(B40=\"\",\"\",'3実績'!$AC$4)&IF(B40=\"\",\"\",VLOOKUP(B40,'3実績'!$A$16:$AO$46,22,FALSE)))","v":""},null,null,null,null,{"$f":"IF(IF(B40=\"\",\"\",VLOOKUP(B40,'3実績'!$A$16:$AO$46,5,FALSE))=0,IF(B40=\"\",\"\",VLOOKUP(B40,'3実績'!$A$16:$AO$46,12,FALSE)),IF(B40=\"\",\"\",VLOOKUP(B40,'3実績'!$A$16:$AO$46,5,FALSE)))","v":""},"～",{"$f":"IF(IF(B40=\"\",\"\",VLOOKUP(B40,'3実績'!$A$16:$AO$46,16,FALSE))=0,IF(B40=\"\",\"\",VLOOKUP(B40,'3実績'!$A$16:$AO$46,9,FALSE)),IF(B40=\"\",\"\",VLOOKUP(B40,'3実績'!$A$16:$AO$46,16,FALSE)))","v":""},{"$f":"IF(K40=\"\",\"\",M40-K40)","v":""},{"$f":"IF(B40=\"\",\"\",VLOOKUP(B40,'3実績'!$A$16:$AO$46,34,FALSE))","v":""}]
[]
[]
[null,null,null,null,null,null,null,null,null,null,null,null,null,null,null,null,null,"　　　"]
[null,"( 記入要領等 )"]
[null,"　         　１　この整理簿は、教員特殊業務手当及び面接指導手当の支給対象となるものについて、当該手当の支給に必要な事の整理をするものであること。"]
[null,"　　         ２　記入にあたっては、次のように記入すること。"]
[null,"　　　         　「要件」欄：週休日等　　　半日振替日　　　　その他"]
[null,"　　　　         「区分」欄：非常災害　　救急業務　　補導業務　　修学旅行等　　対外運動等　　入学試験業務　　　部活動４　　　　部活動３　　　部活動２　　　面接指導　　　　　"]
[null,"　　　　　　　　　　         ※部活動４は4時間以上、部活動３は３時間以上４時間未満、部活動２は2時間以上３時間未満をいう。"]
[null,"　　　　         「業務内容」欄：職員が従事した業務について、その内容を簡潔に記入すること。"]
[null,"　　　         　「従事時間」欄：左欄に手当の支給対象となる業務の終始の時刻を、右欄には時間を記入すること。"]
[null,"　　　         　「備考」欄：この整理簿を補足する事項を記入すること。"]

{"sheet":"Sheet2","index":74,"n_rows":0,"n_cols":0,"rows_kept":0,"cut":false,"hidden":true,"merged":[]}

{"sheet":"Sheet1","index":75,"n_rows":8,"n_cols":3,"rows_kept":8,"cut":false,"hidden":true,"merged":[]}
[]
[null,"要件","区分"]
[]
[null,"週休日等","部活動２"]
[null,"半日振替","部活動３"]
[null,"その他","部活動４"]
[null,null,"対外運動等"]
[null,null,"修学旅行等"]