{"text_format":"1","workbook":"xlsx","n_sheets":34,"sheets":["メイン","集金台帳４０人分","出納簿 ","1学期報告","2学期報告","3学期報告","1学期報告保護者","2学期報告保護者","3学期報告保護者","支払い状況","次年度集金計画","月別集金内訳","４月集金一覧","５月集金一覧","６月集金一覧","７月集金一覧","９月集金一覧","１０月集金一覧","１１月集金一覧","１２月集金一覧","１月集金一覧","２月集金一覧","３月集金一覧","4月個票","5月個票","6月個票","7月個票","9月個票","10月個票","11月個票","12月個票","1月個票","2月個票","3月個票"],"not_rendered":{"charts":0,"images":3,"macros":1,"external_links":0,"defined_names":35,"comments":4,"pivot_tables":0},"unopened":[],"bounds":{"document_bytes":16777216,"sheet_cells":100000,"rows_first":2000,"rows_last":500,"rows_between":2000,"halvings":0,"cell_chars":16384,"cell_head_chars":4096},"cells_cut":0,"cells_raw":0,"read":"whole","date_system":"1900"}

{"sheet":"メイン","index":0,"n_rows":20,"n_cols":9,"rows_kept":20,"cut":false,"hidden":false,"merged":[[6,9,6,11],[7,9,7,11],[8,9,8,11],[19,2,19,12],[2,2,3,12],[28,13,29,13],[25,1,26,1],[25,2,26,2],[25,12,26,12],[28,1,29,1],[28,2,29,2]]}
[]
[]
[null,null,"学年・学級集金支援ツール"]
[]
[]
[]
[null,null,"令和",null,"年度",null,null,null,"学校名"]
[null,null,null,"年",null,"組",null,null,"担任名"]
[null,null,null,null,null,null,null,null,"校長名"]
[]
[]
[]
[]
[]
[]
[]
[]
[]
[]
[null,null,"印刷関係ボタン"]

{"sheet":"集金台帳４０人分","index":1,"n_rows":416,"n_cols":61,"rows_kept":416,"cut":false,"hidden":false,"merged":[[47,50,47,51],[3,25,3,27],[3,29,3,31],[3,33,3,35],[3,37,3,39],[3,41,3,43],[47,26,47,27],[47,30,47,31],[47,38,47,39],[47,42,47,43],[47,46,47,47],[47,6,47,7],[47,10,47,11],[47,14,47,15],[47,18,47,19],[47,22,47,23],[3,52,4,52],[3,45,3,47],[3,49,3,51],[46,1,46,3],[46,33,46,34],[3,5,3,7],[3,9,3,11],[3,13,3,15],[3,17,3,19],[3,21,3,23]]}
[null,"学級集金の記録",null,null,{"$f":"メイン!D7+1988","v":1988}]
[]
[]
[null,null,null,null,null,"４月分集金",null,null,null,"５月分集金",null,null,null,"６月分集金",null,null,null,"７月分集金",null,null,null,"９月分集金",null,null,null,"１０月分集金",null,null,null,"１１月分集金",null,null,null,"１２月分集金",null,null,null,"１月分集金",null,null,null,"２月分集金",null,null,null,"３月分集金",null,null,null,"返金",null,null,"合計"]
[null,"組","№",null,null,"月","日","金額",null,"月","日","金額",null,"月","日","金額",null,"月","日","金額",null,"月","日","金額",null,"月","日","金額",null,"月","日","金額",null,"月","日","金額",null,"月","日","金額",null,"月","日","金額",null,"月","日","金額",null,"月","日","金額"]
[null,null,1,null,{"$f":"IF(COUNT(F6:G6)=0,\"\",IF(F6<4,DATE($E$1+1,F6,G6),DATE($E$1,F6,G6)))","v":""},null,null,{"$f":"'４月集金一覧'!$H5","v":0},{"$f":"IF(COUNT(J6:K6)=0,\"\",IF(J6<4,DATE($E$1+1,J6,K6),DATE($E$1,J6,K6)))","v":""},null,null,{"$f":"'５月集金一覧'!$H5","v":0},{"$f":"IF(COUNT(N6:O6)=0,\"\",IF(N6<4,DATE($E$1+1,N6,O6),DATE($E$1,N6,O6)))","v":""},null,null,{"$f":"'６月集金一覧'!$H5","v":0},{"$f":"IF(COUNT(R6:S6)=0,\"\",IF(R6<4,DATE($E$1+1,R6,S6),DATE($E$1,R6,S6)))","v":""},null,null,{"$f":"'７月集金一覧'!$H5","v":0},{"$f":"IF(COUNT(V6:W6)=0,\"\",IF(V6<4,DATE($E$1+1,V6,W6),DATE($E$1,V6,W6)))","v":""},null,null,{"$f":"'９月集金一覧'!$H5","v":0},{"$f":"IF(COUNT(Z6:AA6)=0,\"\",IF(Z6<4,DATE($E$1+1,Z6,AA6),DATE($E$1,Z6,AA6)))","v":""},null,null,{"$f":"'１０月集金一覧'!$H5","v":0},{"$f":"IF(COUNT(AD6:AE6)=0,\"\",IF(AD6<4,DATE($E$1+1,AD6,AE6),DATE($E$1,AD6,AE6)))","v":""},null,null,{"$f":"'１１月集金一覧'!$H5","v":0},{"$f":"IF(COUNT(AH6:AI6)=0,\"\",IF(AH6<4,DATE($E$1+1,AH6,AI6),DATE($E$1,AH6,AI6)))","v":""},null,null,{"$f":"'１２月集金一覧'!$H5","v":0},{"$f":"IF(COUNT(AL6:AM6)=0,\"\",IF(AL6<4,DATE($E$1+1,AL6,AM6),DATE($E$1,AL6,AM6)))","v":""},null,null,{"$f":"'１月集金一覧'!$H5","v":0},{"$f":"IF(COUNT(AP6:AQ6)=0,\"\",IF(AP6<4,DATE($E$1+1,AP6,AQ6),DATE($E$1,AP6,AQ6)))","v":""},null,null,{"$f":"'２月集金一覧'!$H5","v":0},{"$f":"IF(COUNT(AT6:AU6)=0,\"\",IF(AT6<4,DATE($E$1+1,AT6,AU6),DATE($E$1,AT6,AU6)))","v":""},null,null,{"$f":"'３月集金一覧'!$H5","v":0},{"$f":"IF(COUNT(AX6:AY6)=0,\"\",IF(AX6<4,DATE($E$1+1,AX6,AY6),DATE($E$1,AX6,AY6)))","v":""},null,null,null,{"$f":"IF(D6=\"\",\"\",AZ6+AV6+AR6+AN6+AF6+AB6+X6+T6+P6+L6+H6+AJ6)","v":""}]
[null,null,2,null,"",null,null,{"$f":"'４月集金一覧'!H6","v":0},"",null,null,{"$f":"'５月集金一覧'!$H6","v":0},"",null,null,{"$f":"'６月集金一覧'!$H6","v":0},"",null,null,{"$f":"'７月集金一覧'!$H6","v":0},"",null,null,{"$f":"'９月集金一覧'!$H6","v":0},"",null,null,{"$f":"'１０月集金一覧'!$H6","v":0},"",null,null,{"$f":"'１１月集金一覧'!$H6","v":0},"",null,null,{"$f":"'１２月集金一覧'!$H6","v":0},"",null,null,{"$f":"'１月集金一覧'!$H6","v":0},"",null,null,{"$f":"'２月集金一覧'!$H6","v":0},"",null,null,{"$f":"'３月集金一覧'!$H6","v":0},"",null,null,null,""]
[null,null,3,null,"",null,null,{"$f":"'４月集金一覧'!H7","v":0},"",null,null,{"$f":"'５月集金一覧'!$H7","v":0},"",null,null,{"$f":"'６月集金一覧'!$H7","v":0},"",null,null,{"$f":"'７月集金一覧'!$H7","v":0},"",null,null,{"$f":"'９月集金一覧'!$H7","v":0},"",null,null,{"$f":"'１０月集金一覧'!$H7","v":0},"",null,null,{"$f":"'１１月集金一覧'!$H7","v":0},"",null,null,{"$f":"'１２月集金一覧'!$H7","v":0},"",null,null,{"$f":"'１月集金一覧'!$H7","v":0},"",null,null,{"$f":"'２月集金一覧'!$H7","v":0},"",null,null,{"$f":"'３月集金一覧'!$H7","v":0},"",null,null,null,""]
[null,null,4,null,"",null,null,{"$f":"'４月集金一覧'!H8","v":0},"",null,null,{"$f":"'５月集金一覧'!$H8","v":0},"",null,null,{"$f":"'６月集金一覧'!$H8","v":0},"",null,null,{"$f":"'７月集金一覧'!$H8","v":0},"",null,null,{"$f":"'９月集金一覧'!$H8","v":0},"",null,null,{"$f":"'１０月集金一覧'!$H8","v":0},"",null,null,{"$f":"'１１月集金一覧'!$H8","v":0},"",null,null,{"$f":"'１２月集金一覧'!$H8","v":0},"",null,null,{"$f":"'１月集金一覧'!$H8","v":0},"",null,null,{"$f":"'２月集金一覧'!$H8","v":0},"",null,null,{"$f":"'３月集金一覧'!$H8","v":0},"",null,null,null,""]
[null,null,5,null,"",null,null,{"$f":"'４月集金一覧'!H9","v":0},"",null,null,{"$f":"'５月集金一覧'!$H9","v":0},"",null,null,{"$f":"'６月集金一覧'!$H9","v":0},"",null,null,{"$f":"'７月集金一覧'!$H9","v":0},"",null,null,{"$f":"'９月集金一覧'!$H9","v":0},"",null,null,{"$f":"'１０月集金一覧'!$H9","v":0},"",null,null,{"$f":"'１１月集金一覧'!$H9","v":0},"",null,null,{"$f":"'１２月集金一覧'!$H9","v":0},"",null,null,{"$f":"'１月集金一覧'!$H9","v":0},"",null,null,{"$f":"'２月集金一覧'!$H9","v":0},"",null,null,{"$f":"'３月集金一覧'!$H9","v":0},"",null,null,null,""]
[null,null,6,null,"",null,null,{"$f":"'４月集金一覧'!H10","v":0},"",null,null,{"$f":"'５月集金一覧'!$H10","v":0},"",null,null,{"$f":"'６月集金一覧'!$H10","v":0},"",null,null,{"$f":"'７月集金一覧'!$H10","v":0},"",null,null,{"$f":"'９月集金一覧'!$H10","v":0},"",null,null,{"$f":"'１０月集金一覧'!$H10","v":0},"",null,null,{"$f":"'１１月集金一覧'!$H10","v":0},"",null,null,{"$f":"'１２月集金一覧'!$H10","v":0},"",null,null,{"$f":"'１月集金一覧'!$H10","v":0},"",null,null,{"$f":"'２月集金一覧'!$H10","v":0},"",null,null,{"$f":"'３月集金一覧'!$H10","v":0},"",null,null,null,""]
[null,null,7,null,"",null,null,{"$f":"'４月集金一覧'!H11","v":0},"",null,null,{"$f":"'５月集金一覧'!$H11","v":0},"",null,null,{"$f":"'６月集金一覧'!$H11","v":0},"",null,null,{"$f":"'７月集金一覧'!$H11","v":0},"",null,null,{"$f":"'９月集金一覧'!$H11","v":0},"",null,null,{"$f":"'１０月集金一覧'!$H11","v":0},"",null,null,{"$f":"'１１月集金一覧'!$H11","v":0},"",null,null,{"$f":"'１２月集金一覧'!$H11","v":0},"",null,null,{"$f":"'１月集金一覧'!$H11","v":0},"",null,null,{"$f":"'２月集金一覧'!$H11","v":0},"",null,null,{"$f":"'３月集金一覧'!$H11","v":0},"",null,null,null,""]
[null,null,8,null,"",null,null,{"$f":"'４月集金一覧'!H12","v":0},"",null,null,{"$f":"'５月集金一覧'!$H12","v":0},"",null,null,{"$f":"'６月集金一覧'!$H12","v":0},"",null,null,{"$f":"'７月集金一覧'!$H12","v":0},"",null,null,{"$f":"'９月集金一覧'!$H12","v":0},"",null,null,{"$f":"'１０月集金一覧'!$H12","v":0},"",null,null,{"$f":"'１１月集金一覧'!$H12","v":0},"",null,null,{"$f":"'１２月集金一覧'!$H12","v":0},"",null,null,{"$f":"'１月集金一覧'!$H12","v":0},"",null,null,{"$f":"'２月集金一覧'!$H12","v":0},"",null,null,{"$f":"'３月集金一覧'!$H12","v":0},"",null,null,null,""]
[null,null,9,null,"",null,null,{"$f":"'４月集金一覧'!H13","v":0},"",null,null,{"$f":"'５月集金一覧'!$H13","v":0},"",null,null,{"$f":"'６月集金一覧'!$H13","v":0},"",null,null,{"$f":"'７月集金一覧'!$H13","v":0},"",null,null,{"$f":"'９月集金一覧'!$H13","v":0},"",null,null,{"$f":"'１０月集金一覧'!$H13","v":0},"",null,null,{"$f":"'１１月集金一覧'!$H13","v":0},"",null,null,{"$f":"'１２月集金一覧'!$H13","v":0},"",null,null,{"$f":"'１月集金一覧'!$H13","v":0},"",null,null,{"$f":"'２月集金一覧'!$H13","v":0},"",null,null,{"$f":"'３月集金一覧'!$H13","v":0},"",null,null,null,""]
[null,null,10,null,"",null,null,{"$f":"'４月集金一覧'!H14","v":0},"",null,null,{"$f":"'５月集金一覧'!$H14","v":0},"",null,null,{"$f":"'６月集金一覧'!$H14","v":0},"",null,null,{"$f":"'７月集金一覧'!$H14","v":0},"",null,null,{"$f":"'９月集金一覧'!$H14","v":0},"",null,null,{"$f":"'１０月集金一覧'!$H14","v":0},"",null,null,{"$f":"'１１月集金一覧'!$H14","v":0},"",null,null,{"$f":"'１２月集金一覧'!$H14","v":0},"",null,null,{"$f":"'１月集金一覧'!$H14","v":0},"",null,null,{"$f":"'２月集金一覧'!$H14","v":0},"",null,null,{"$f":"'３月集金一覧'!$H14","v":0},"",null,null,null,""]
[null,null,11,null,"",null,null,{"$f":"'４月集金一覧'!H15","v":0},"",null,null,{"$f":"'５月集金一覧'!$H15","v":0},"",null,null,{"$f":"'６月集金一覧'!$H15","v":0},"",null,null,{"$f":"'７月集金一覧'!$H15","v":0},"",null,null,{"$f":"'９月集金一覧'!$H15","v":0},"",null,null,{"$f":"'１０月集金一覧'!$H15","v":0},"",null,null,{"$f":"'１１月集金一覧'!$H15","v":0},"",null,null,{"$f":"'１２月集金一覧'!$H15","v":0},"",null,null,{"$f":"'１月集金一覧'!$H15","v":0},"",null,null,{"$f":"'２月集金一覧'!$H15","v":0},"",null,null,{"$f":"'３月集金一覧'!$H15","v":0},"",null,null,null,""]
[null,null,12,null,"",null,null,{"$f":"'４月集金一覧'!H16","v":0},"",null,null,{"$f":"'５月集金一覧'!$H16","v":0},"",null,null,{"$f":"'６月集金一覧'!$H16","v":0},"",null,null,{"$f":"'７月集金一覧'!$H16","v":0},"",null,null,{"$f":"'９月集金一覧'!$H16","v":0},"",null,null,{"$f":"'１０月集金一覧'!$H16","v":0},"",null,null,{"$f":"'１１月集金一覧'!$H16","v":0},"",null,null,{"$f":"'１２月集金一覧'!$H16","v":0},"",null,null,{"$f":"'１月集金一覧'!$H16","v":0},"",null,null,{"$f":"'２月集金一覧'!$H16","v":0},"",null,null,{"$f":"'３月集金一覧'!$H16","v":0},"",null,null,null,""]
[null,null,13,null,"",null,null,{"$f":"'４月集金一覧'!H17","v":0},"",null,null,{"$f":"'５月集金一覧'!$H17","v":0},"",null,null,{"$f":"'６月集金一覧'!$H17","v":0},"",null,null,{"$f":"'７月集金一覧'!$H17","v":0},"",null,null,{"$f":"'９月集金一覧'!$H17","v":0},"",null,null,{"$f":"'１０月集金一覧'!$H17","v":0},"",null,null,{"$f":"'１１月集金一覧'!$H17","v":0},"",null,null,{"$f":"'１２月集金一覧'!$H17","v":0},"",null,null,{"$f":"'１月集金一覧'!$H17","v":0},"",null,null,{"$f":"'２月集金一覧'!$H17","v":0},"",null,null,{"$f":"'３月集金一覧'!$H17","v":0},"",null,null,null,""]
[null,null,14,null,"",null,null,{"$f":"'４月集金一覧'!H18","v":0},"",null,null,{"$f":"'５月集金一覧'!$H18","v":0},"",null,null,{"$f":"'６月集金一覧'!$H18","v":0},"",null,null,{"$f":"'７月集金一覧'!$H18","v":0},"",null,null,{"$f":"'９月集金一覧'!$H18","v":0},"",null,null,{"$f":"'１０月集金一覧'!$H18","v":0},"",null,null,{"$f":"'１１月集金一覧'!$H18","v":0},"",null,null,{"$f":"'１２月集金一覧'!$H18","v":0},"",null,null,{"$f":"'１月集金一覧'!$H18","v":0},"",null,null,{"$f":"'２月集金一覧'!$H18","v":0},"",null,null,{"$f":"'３月集金一覧'!$H18","v":0},"",null,null,null,""]
[null,null,15,null,"",null,null,{"$f":"'４月集金一覧'!H19","v":0},"",null,null,{"$f":"'５月集金一覧'!$H19","v":0},"",null,null,{"$f":"'６月集金一覧'!$H19","v":0},"",null,null,{"$f":"'７月集金一覧'!$H19","v":0},"",null,null,{"$f":"'９月集金一覧'!$H19","v":0},"",null,null,{"$f":"'１０月集金一覧'!$H19","v":0},"",null,null,{"$f":"'１１月集金一覧'!$H19","v":0},"",null,null,{"$f":"'１２月集金一覧'!$H19","v":0},"",null,null,{"$f":"'１月集金一覧'!$H19","v":0},"",null,null,{"$f":"'２月集金一覧'!$H19","v":0},"",null,null,{"$f":"'３月集金一覧'!$H19","v":0},"",null,null,null,""]
[null,null,16,null,"",null,null,{"$f":"'４月集金一覧'!H20","v":0},"",null,null,{"$f":"'５月集金一覧'!$H20","v":0},"",null,null,{"$f":"'６月集金一覧'!$H20","v":0},"",null,null,{"$f":"'７月集金一覧'!$H20","v":0},"",null,null,{"$f":"'９月集金一覧'!$H20","v":0},"",null,null,{"$f":"'１０月集金一覧'!$H20","v":0},"",null,null,{"$f":"'１１月集金一覧'!$H20","v":0},"",null,null,{"$f":"'１２月集金一覧'!$H20","v":0},"",null,null,{"$f":"'１月集金一覧'!$H20","v":0},"",null,null,{"$f":"'２月集金一覧'!$H20","v":0},"",null,null,{"$f":"'３月集金一覧'!$H20","v":0},"",null,null,null,""]
[null,null,17,null,"",null,null,{"$f":"'４月集金一覧'!H21","v":0},"",null,null,{"$f":"'５月集金一覧'!$H21","v":0},"",null,null,{"$f":"'６月集金一覧'!$H21","v":0},"",null,null,{"$f":"'７月集金一覧'!$H21","v":0},"",null,null,{"$f":"'９月集金一覧'!$H21","v":0},"",null,null,{"$f":"'１０月集金一覧'!$H21","v":0},"",null,null,{"$f":"'１１月集金一覧'!$H21","v":0},"",null,null,{"$f":"'１２月集金一覧'!$H21","v":0},"",null,null,{"$f":"'１月集金一覧'!$H21","v":0},"",null,null,{"$f":"'２月集金一覧'!$H21","v":0},"",null,null,{"$f":"'３月集金一覧'!$H21","v":0},"",null,null,null,""]
[null,null,18,null,"",null,null,{"$f":"'４月集金一覧'!H22","v":0},"",null,null,{"$f":"'５月集金一覧'!$H22","v":0},"",null,null,{"$f":"'６月集金一覧'!$H22","v":0},"",null,null,{"$f":"'７月集金一覧'!$H22","v":0},"",null,null,{"$f":"'９月集金一覧'!$H22","v":0},"",null,null,{"$f":"'１０月集金一覧'!$H22","v":0},"",null,null,{"$f":"'１１月集金一覧'!$H22","v":0},"",null,null,{"$f":"'１２月集金一覧'!$H22","v":0},"",null,null,{"$f":"'１月集金一覧'!$H22","v":0},"",null,null,{"$f":"'２月集金一覧'!$H22","v":0},"",null,null,{"$f":"'３月集金一覧'!$H22","v":0},"",null,null,null,""]
[null,null,19,null,"",null,null,{"$f":"'４月集金一覧'!H23","v":0},"",null,null,{"$f":"'５月集金一覧'!$H23","v":0},"",null,null,{"$f":"'６月集金一覧'!$H23","v":0},"",null,null,{"$f":"'７月集金一覧'!$H23","v":0},"",null,null,{"$f":"'９月集金一覧'!$H23","v":0},"",null,null,{"$f":"'１０月集金一覧'!$H23","v":0},"",null,null,{"$f":"'１１月集金一覧'!$H23","v":0},"",null,null,{"$f":"'１２月集金一覧'!$H23","v":0},"",null,null,{"$f":"'１月集金一覧'!$H23","v":0},"",null,null,{"$f":"'２月集金一覧'!$H23","v":0},"",null,null,{"$f":"'３月集金一覧'!$H23","v":0},"",null,null,null,""]
[null,null,20,null,"",null,null,{"$f":"'４月集金一覧'!H24","v":0},"",null,null,{"$f":"'５月集金一覧'!$H24","v":0},"",null,null,{"$f":"'６月集金一覧'!$H24","v":0},"",null,null,{"$f":"'７月集金一覧'!$H24","v":0},"",null,null,{"$f":"'９月集金一覧'!$H24","v":0},"",null,null,{"$f":"'１０月集金一覧'!$H24","v":0},"",null,null,{"$f":"'１１月集金一覧'!$H24","v":0},"",null,null,{"$f":"'１２月集金一覧'!$H24","v":0},"",null,null,{"$f":"'１月集金一覧'!$H24","v":0},"",null,null,{"$f":"'２月集金一覧'!$H24","v":0},"",null,null,{"$f":"'３月集金一覧'!$H24","v":0},"",null,null,null,""]
[null,null,21,null,"",null,null,{"$f":"'４月集金一覧'!H25","v":0},"",null,null,{"$f":"'５月集金一覧'!$H25","v":0},"",null,null,{"$f":"'６月集金一覧'!$H25","v":0},"",null,null,{"$f":"'７月集金一覧'!$H25","v":0},"",null,null,{"$f":"'９月集金一覧'!$H25","v":0},"",null,null,{"$f":"'１０月集金一覧'!$H25","v":0},"",null,null,{"$f":"'１１月集金一覧'!$H25","v":0},"",null,null,{"$f":"'１２月集金一覧'!$H25","v":0},"",null,null,{"$f":"'１月集金一覧'!$H25","v":0},"",null,null,{"$f":"'２月集金一覧'!$H25","v":0},"",null,null,{"$f":"'３月集金一覧'!$H25","v":0},"",null,null,null,""]
[null,null,22,null,"",null,null,{"$f":"'４月集金一覧'!H26","v":0},"",null,null,{"$f":"'５月集金一覧'!$H26","v":0},"",null,null,{"$f":"'６月集金一覧'!$H26","v":0},"",null,null,{"$f":"'７月集金一覧'!$H26","v":0},"",null,null,{"$f":"'９月集金一覧'!$H26","v":0},"",null,null,{"$f":"'１０月集金一覧'!$H26","v":0},"",null,null,{"$f":"'１１月集金一覧'!$H26","v":0},"",null,null,{"$f":"'１２月集金一覧'!$H26","v":0},"",null,null,{"$f":"'１月集金一覧'!$H26","v":0},"",null,null,{"$f":"'２月集金一覧'!$H26","v":0},"",null,null,{"$f":"'３月集金一覧'!$H26","v":0},"",null,null,null,""]
[null,null,23,null,"",null,null,{"$f":"'４月集金一覧'!H27","v":0},"",null,null,{"$f":"'５月集金一覧'!$H27","v":0},"",null,null,{"$f":"'６月集金一覧'!$H27","v":0},"",null,null,{"$f":"'７月集金一覧'!$H27","v":0},"",null,null,{"$f":"'９月集金一覧'!$H27","v":0},"",null,null,{"$f":"'１０月集金一覧'!$H27","v":0},"",null,null,{"$f":"'１１月集金一覧'!$H27","v":0},"",null,null,{"$f":"'１２月集金一覧'!$H27","v":0},"",null,null,{"$f":"'１月集金一覧'!$H27","v":0},"",null,null,{"$f":"'２月集金一覧'!$H27","v":0},"",null,null,{"$f":"'３月集金一覧'!$H27","v":0},"",null,null,null,""]
[null,null,24,null,"",null,null,{"$f":"'４月集金一覧'!H28","v":0},"",null,null,{"$f":"'５月集金一覧'!$H28","v":0},"",null,null,{"$f":"'６月集金一覧'!$H28","v":0},"",null,null,{"$f":"'７月集金一覧'!$H28","v":0},"",null,null,{"$f":"'９月集金一覧'!$H28","v":0},"",null,null,{"$f":"'１０月集金一覧'!$H28","v":0},"",null,null,{"$f":"'１１月集金一覧'!$H28","v":0},"",null,null,{"$f":"'１２月集金一覧'!$H28","v":0},"",null,null,{"$f":"'１月集金一覧'!$H28","v":0},"",null,null,{"$f":"'２月集金一覧'!$H28","v":0},"",null,null,{"$f":"'３月集金一覧'!$H28","v":0},"",null,null,null,""]
[null,null,25,null,"",null,null,{"$f":"'４月集金一覧'!H29","v":0},"",null,null,{"$f":"'５月集金一覧'!$H29","v":0},"",null,null,{"$f":"'６月集金一覧'!$H29","v":0},"",null,null,{"$f":"'７月集金一覧'!$H29","v":0},"",null,null,{"$f":"'９月集金一覧'!$H29","v":0},"",null,null,{"$f":"'１０月集金一覧'!$H29","v":0},"",null,null,{"$f":"'１１月集金一覧'!$H29","v":0},"",null,null,{"$f":"'１２月集金一覧'!$H29","v":0},"",null,null,{"$f":"'１月集金一覧'!$H29","v":0},"",null,null,{"$f":"'２月集金一覧'!$H29","v":0},"",null,null,{"$f":"'３月集金一覧'!$H29","v":0},"",null,null,null,""]
[null,null,26,null,"",null,null,{"$f":"'４月集金一覧'!H30","v":0},"",null,null,{"$f":"'５月集金一覧'!$H30","v":0},"",null,null,{"$f":"'６月集金一覧'!$H30","v":0},"",null,null,{"$f":"'７月集金一覧'!$H30","v":0},"",null,null,{"$f":"'９月集金一覧'!$H30","v":0},"",null,null,{"$f":"'１０月集金一覧'!$H30","v":0},"",null,null,{"$f":"'１１月集金一覧'!$H30","v":0},"",null,null,{"$f":"'１２月集金一覧'!$H30","v":0},"",null,null,{"$f":"'１月集金一覧'!$H30","v":0},"",null,null,{"$f":"'２月集金一覧'!$H30","v":0},"",null,null,{"$f":"'３月集金一覧'!$H30","v":0},"",null,null,null,""]
[null,null,27,null,"",null,null,{"$f":"'４月集金一覧'!H31","v":0},"",null,null,{"$f":"'５月集金一覧'!$H31","v":0},"",null,null,{"$f":"'６月集金一覧'!$H31","v":0},"",null,null,{"$f":"'７月集金一覧'!$H31","v":0},"",null,null,{"$f":"'９月集金一覧'!$H31","v":0},"",null,null,{"$f":"'１０月集金一覧'!$H31","v":0},"",null,null,{"$f":"'１１月集金一覧'!$H31","v":0},"",null,null,{"$f":"'１２月集金一覧'!$H31","v":0},"",null,null,{"$f":"'１月集金一覧'!$H31","v":0},"",null,null,{"$f":"'２月集金一覧'!$H31","v":0},"",null,null,{"$f":"'３月集金一覧'!$H31","v":0},"",null,null,null,""]
[null,null,28,null,"",null,null,{"$f":"'４月集金一覧'!H32","v":0},"",null,null,{"$f":"'５月集金一覧'!$H32","v":0},"",null,null,{"$f":"'６月集金一覧'!$H32","v":0},"",null,null,{"$f":"'７月集金一覧'!$H32","v":0},"",null,null,{"$f":"'９月集金一覧'!$H32","v":0},"",null,null,{"$f":"'１０月集金一覧'!$H32","v":0},"",null,null,{"$f":"'１１月集金一覧'!$H32","v":0},"",null,null,{"$f":"'１２月集金一覧'!$H32","v":0},"",null,null,{"$f":"'１月集金一覧'!$H32","v":0},"",null,null,{"$f":"'２月集金一覧'!$H32","v":0},"",null,null,{"$f":"'３月集金一覧'!$H32","v":0},"",null,null,null,""]
[null,null,29,null,"",null,null,{"$f":"'４月集金一覧'!H33","v":0},"",null,null,{"$f":"'５月集金一覧'!$H33","v":0},"",null,null,{"$f":"'６月集金一覧'!$H33","v":0},"",null,null,{"$f":"'７月集金一覧'!$H33","v":0},"",null,null,{"$f":"'９月集金一覧'!$H33","v":0},"",null,null,{"$f":"'１０月集金一覧'!$H33","v":0},"",null,null,{"$f":"'１１月集金一覧'!$H33","v":0},"",null,null,{"$f":"'１２月集金一覧'!$H33","v":0},"",null,null,{"$f":"'１月集金一覧'!$H33","v":0},"",null,null,{"$f":"'２月集金一覧'!$H33","v":0},"",null,null,{"$f":"'３月集金一覧'!$H33","v":0},"",null,null,null,""]
[null,null,30,null,"",null,null,{"$f":"'４月集金一覧'!H34","v":0},"",null,null,{"$f":"'５月集金一覧'!$H34","v":0},"",null,null,{"$f":"'６月集金一覧'!$H34","v":0},"",null,null,{"$f":"'７月集金一覧'!$H34","v":0},"",null,null,{"$f":"'９月集金一覧'!$H34","v":0},"",null,null,{"$f":"'１０月集金一覧'!$H34","v":0},"",null,null,{"$f":"'１１月集金一覧'!$H34","v":0},"",null,null,{"$f":"'１２月集金一覧'!$H34","v":0},"",null,null,{"$f":"'１月集金一覧'!$H34","v":0},"",null,null,{"$f":"'２月集金一覧'!$H34","v":0},"",null,null,{"$f":"'３月集金一覧'!$H34","v":0},"",null,null,null,""]
[null,null,31,null,"",null,null,{"$f":"'４月集金一覧'!H35","v":0},"",null,null,{"$f":"'５月集金一覧'!$H35","v":0},"",null,null,{"$f":"'６月集金一覧'!$H35","v":0},"",null,null,{"$f":"'７月集金一覧'!$H35","v":0},"",null,null,{"$f":"'９月集金一覧'!$H35","v":0},"",null,null,{"$f":"'１０月集金一覧'!$H35","v":0},"",null,null,{"$f":"'１１月集金一覧'!$H35","v":0},"",null,null,{"$f":"'１２月集金一覧'!$H35","v":0},"",null,null,{"$f":"'１月集金一覧'!$H35","v":0},"",null,null,{"$f":"'２月集金一覧'!$H35","v":0},"",null,null,{"$f":"'３月集金一覧'!$H35","v":0},"",null,null,null,""]
[null,null,32,null,"",null,null,{"$f":"'４月集金一覧'!H36","v":0},"",null,null,{"$f":"'５月集金一覧'!$H36","v":0},"",null,null,{"$f":"'６月集金一覧'!$H36","v":0},"",null,null,{"$f":"'７月集金一覧'!$H36","v":0},"",null,null,{"$f":"'９月集金一覧'!$H36","v":0},"",null,null,{"$f":"'１０月集金一覧'!$H36","v":0},"",null,null,{"$f":"'１１月集金一覧'!$H36","v":0},"",null,null,{"$f":"'１２月集金一覧'!$H36","v":0},"",null,null,{"$f":"'１月集金一覧'!$H36","v":0},"",null,null,{"$f":"'２月集金一覧'!$H36","v":0},"",null,null,{"$f":"'３月集金一覧'!$H36","v":0},"",null,null,null,""]
[null,null,33,null,"",null,null,{"$f":"'４月集金一覧'!H37","v":0},"",null,null,{"$f":"'５月集金一覧'!$H37","v":0},"",null,null,{"$f":"'６月集金一覧'!$H37","v":0},"",null,null,{"$f":"'７月集金一覧'!$H37","v":0},"",null,null,{"$f":"'９月集金一覧'!$H37","v":0},"",null,null,{"$f":"'１０月集金一覧'!$H37","v":0},"",null,null,{"$f":"'１１月集金一覧'!$H37","v":0},"",null,null,{"$f":"'１２月集金一覧'!$H37","v":0},"",null,null,{"$f":"'１月集金一覧'!$H37","v":0},"",null,null,{"$f":"'２月集金一覧'!$H37","v":0},"",null,null,{"$f":"'３月集金一覧'!$H37","v":0},"",null,null,null,""]
[null,null,34,null,"",null,null,{"$f":"'４月集金一覧'!H38","v":0},"",null,null,{"$f":"'５月集金一覧'!$H38","v":0},"",null,null,{"$f":"'６月集金一覧'!$H38","v":0},"",null,null,{"$f":"'７月集金一覧'!$H38","v":0},"",null,null,{"$f":"'９月集金一覧'!$H38","v":0},"",null,null,{"$f":"'１０月集金一覧'!$H38","v":0},"",null,null,{"$f":"'１１月集金一覧'!$H38","v":0},"",null,null,{"$f":"'１２月集金一覧'!$H38","v":0},"",null,null,{"$f":"'１月集金一覧'!$H38","v":0},"",null,null,{"$f":"'２月集金一覧'!$H38","v":0},"",null,null,{"$f":"'３月集金一覧'!$H38","v":0},"",null,null,null,""]
[null,null,35,null,"",null,null,{"$f":"'４月集金一覧'!H39","v":0},"",null,null,{"$f":"'５月集金一覧'!$H39","v":0},"",null,null,{"$f":"'６月集金一覧'!$H39","v":0},"",null,null,{"$f":"'７月集金一覧'!$H39","v":0},"",null,null,{"$f":"'９月集金一覧'!$H39","v":0},"",null,null,{"$f":"'１０月集金一覧'!$H39","v":0},"",null,null,{"$f":"'１１月集金一覧'!$H39","v":0},"",null,null,{"$f":"'１２月集金一覧'!$H39","v":0},"",null,null,{"$f":"'１月集金一覧'!$H39","v":0},"",null,null,{"$f":"'２月集金一覧'!$H39","v":0},"",null,null,{"$f":"'３月集金一覧'!$H39","v":0},"",null,null,null,""]
[null,null,36,null,"",null,null,{"$f":"'４月集金一覧'!H40","v":0},"",null,null,{"$f":"'５月集金一覧'!$H40","v":0},"",null,null,{"$f":"'６月集金一覧'!$H40","v":0},"",null,null,{"$f":"'７月集金一覧'!$H40","v":0},"",null,null,{"$f":"'９月集金一覧'!$H40","v":0},"",null,null,{"$f":"'１０月集金一覧'!$H40","v":0},"",null,null,{"$f":"'１１月集金一覧'!$H40","v":0},"",null,null,{"$f":"'１２月集金一覧'!$H40","v":0},"",null,null,{"$f":"'１月集金一覧'!$H40","v":0},"",null,null,{"$f":"'２月集金一覧'!$H40","v":0},"",null,null,{"$f":"'３月集金一覧'!$H40","v":0},"",null,null,null,""]
[null,null,37,null,"",null,null,{"$f":"'４月集金一覧'!H41","v":0},"",null,null,{"$f":"'５月集金一覧'!$H41","v":0},"",null,null,{"$f":"'６月集金一覧'!$H41","v":0},"",null,null,{"$f":"'７月集金一覧'!$H41","v":0},"",null,null,{"$f":"'９月集金一覧'!$H41","v":0},"",null,null,{"$f":"'１０月集金一覧'!$H41","v":0},"",null,null,{"$f":"'１１月集金一覧'!$H41","v":0},"",null,null,{"$f":"'１２月集金一覧'!$H41","v":0},"",null,null,{"$f":"'１月集金一覧'!$H41","v":0},"",null,null,{"$f":"'２月集金一覧'!$H41","v":0},"",null,null,{"$f":"'３月集金一覧'!$H41","v":0},"",null,null,null,""]
[null,null,38,null,"",null,null,{"$f":"'４月集金一覧'!H42","v":0},"",null,null,{"$f":"'５月集金一覧'!$H42","v":0},"",null,null,{"$f":"'６月集金一覧'!$H42","v":0},"",null,null,{"$f":"'７月集金一覧'!$H42","v":0},"",null,null,{"$f":"'９月集金一覧'!$H42","v":0},"",null,null,{"$f":"'１０月集金一覧'!$H42","v":0},"",null,null,{"$f":"'１１月集金一覧'!$H42","v":0},"",null,null,{"$f":"'１２月集金一覧'!$H42","v":0},"",null,null,{"$f":"'１月集金一覧'!$H42","v":0},"",null,null,{"$f":"'２月集金一覧'!$H42","v":0},"",null,null,{"$f":"'３月集金一覧'!$H42","v":0},"",null,null,null,""]
[null,null,39,null,"",null,null,{"$f":"'４月集金一覧'!H43","v":0},"",null,null,{"$f":"'５月集金一覧'!$H43","v":0},"",null,null,{"$f":"'６月集金一覧'!$H43","v":0},"",null,null,{"$f":"'７月集金一覧'!$H43","v":0},"",null,null,{"$f":"'９月集金一覧'!$H43","v":0},"",null,null,{"$f":"'１０月集金一覧'!$H43","v":0},"",null,null,{"$f":"'１１月集金一覧'!$H43","v":0},"",null,null,{"$f":"'１２月集金一覧'!$H43","v":0},"",null,null,{"$f":"'１月集金一覧'!$H43","v":0},"",null,null,{"$f":"'２月集金一覧'!$H43","v":0},"",null,null,{"$f":"'３月集金一覧'!$H43","v":0},"",null,null,null,""]
[null,null,40,null,"",null,null,{"$f":"'４月集金一覧'!H44","v":0},"",null,null,{"$f":"'５月集金一覧'!$H44","v":0},"",null,null,{"$f":"'６月集金一覧'!$H44","v":0},"",null,null,{"$f":"'７月集金一覧'!$H44","v":0},"",null,null,{"$f":"'９月集金一覧'!$H44","v":0},"",null,null,{"$f":"'１０月集金一覧'!$H44","v":0},"",null,null,{"$f":"'１１月集金一覧'!$H44","v":0},"",null,null,{"$f":"'１２月集金一覧'!$H44","v":0},"",null,null,{"$f":"'１月集金一覧'!$H44","v":0},"",null,null,{"$f":"'２月集金一覧'!$H44","v":0},"",null,null,{"$f":"'３月集金一覧'!$H44","v":0},"",null,null,null,""]
[null,null,null,null,null,null,null,null,"",null,null,null,"",null,null,null,"",null,null,null,"",null,null,null,"",null,null,null,"",null,null,null,"",null,null,null,"",null,null,null,"",null,null,null,"",null,null,null,"",null,null,null,""]
[null,"合計",null,null,null,null,null,{"$f":"IF(COUNT(H6:H46)=0,\"\",SUM(H6:H46))","v":0},null,null,null,{"$f":"IF(COUNT(L6:L46)=0,\"\",SUM(L6:L46))","v":0},null,null,null,{"$f":"IF(COUNT(P6:P46)=0,\"\",SUM(P6:P46))","v":0},null,null,null,{"$f":"IF(COUNT(T6:T46)=0,\"\",SUM(T6:T46))","v":0},null,null,null,{"$f":"IF(COUNT(X6:X46)=0,\"\",SUM(X6:X46))","v":0},null,null,null,{"$f":"IF(COUNT(AB6:AB46)=0,\"\",SUM(AB6:AB46))","v":0},null,null,null,{"$f":"IF(COUNT(AF6:AF46)=0,\"\",SUM(AF6:AF46))","v":0},null,null,null,{"$f":"IF(COUNT(AJ6:AJ46)=0,\"\",SUM(AJ6:AJ46))","v":0},null,null,null,{"$f":"IF(COUNT(AN6:AN46)=0,\"\",SUM(AN6:AN46))","v":0},null,null,null,{"$f":"IF(COUNT(AR6:AR46)=0,\"\",SUM(AR6:AR46))","v":0},null,null,null,{"$f":"IF(COUNT(AV6:AV46)=0,\"\",SUM(AV6:AV46))","v":0},null,null,null,{"$f":"IF(COUNT(AZ6:AZ46)=0,\"\",SUM(AZ6:AZ46))","v":""},{"$f":"IF(COUNT(BA6:BA46)=0,\"\",SUM(BA6:BA46))","v":""}]
[]
[null,null,null,1,2,3,4,5,6,7,8,9,10,11,12,13,14,15,16,17,18,19,20,21,22,23,24,25,26,27,28,29,30,31,32,33,null,35,36,37,34,39,40,41,38,43,44,45,42,47,48,49,50,51,52,53,54,55,56,57,58]
[null,null,null,null,null,null,"人","金額",null,null,"人","金額",null,null,"人","金額",null,null,null,null,null,null,null,null,null,null,null,null,null,null,null,null,null,null,null,null,null,null,null,null,null,null,null,null,null,null,null,null,null,null,null,null,null,"人数計","金額合計"]
[null,4,1,{"$f":"DATE($E$1,B51,C51)","v":"1988-04-01"},null,null,{"$f":"COUNTIF($E$6:$E$46,D51)","v":0},{"$f":"SUMIFS($H$6:$H$46,$E$6:$E$46,D51)","v":0},null,null,{"$f":"COUNTIF($I$6:$I$46,D51)","v":0},{"$f":"SUMIFS($L$6:$L$46,$I$6:$I$46,D51)","v":0},null,null,{"$f":"COUNTIF(M$6:M$46,$D51)","v":0},{"$f":"SUMIFS(P$6:P$46,M$6:M$46,$D51)","v":0},null,null,{"$f":"COUNTIF(Q$6:Q$46,$D51)","v":0},{"$f":"SUMIFS(T$6:T$46,Q$6:Q$46,$D51)","v":0},null,null,{"$f":"COUNTIF(U$6:U$46,$D51)","v":0},{"$f":"SUMIFS(X$6:X$46,U$6:U$46,$D51)","v":0},null,null,{"$f":"COUNTIF(Y$6:Y$46,$D51)","v":0},{"$f":"SUMIFS(AB$6:AB$46,Y$6:Y$46,$D51)","v":0},null,null,{"$f":"COUNTIF(AC$6:AC$46,$D51)","v":0},{"$f":"SUMIFS(AF$6:AF$46,AC$6:AC$46,$D51)","v":0},null,null,{"$f":"COUNTIF(AG$6:AG$46,$D51)","v":0},{"$f":"SUMIFS(AJ$6:AJ$46,AG$6:AG$46,$D51)","v":0},null,null,{"$f":"COUNTIF(AK$6:AK$46,$D51)","v":0},{"$f":"SUMIFS(AN$6:AN$46,AK$6:AK$46,$D51)","v":0},null,null,{"$f":"COUNTIF(AO$6:AO$46,$D51)","v":0},{"$f":"SUMIFS(AR$6:AR$46,AO$6:AO$46,$D51)","v":0},null,null,{"$f":"COUNTIF(AS$6:AS$46,$D51)","v":0},{"$f":"SUMIFS(AV$6:AV$46,AS$6:AS$46,$D51)","v":0},null,null,{"$f":"COUNTIF(AW$6:AW$46,$D51)","v":0},{"$f":"SUMIFS(AZ$6:AZ$46,AW$6:AW$46,$D51)","v":0},null,{"$f":"AU51+AQ51+AM51+AE51+AA51+W51+S51+O51+K51+G51+AI51","v":0},0,{"$f":"IF(BB51=0,\"\",BB51)","v":""},"",{"$f":"IF(BB51=0,\"\",BD51&\"人　入金\")","v":""},{"$f":"IF(AY51=0,\"\",AY51)","v":""},"",{"$f":"IF(AY51=0,\"\",BG51&\"人　返金\")","v":""}]
[null,4,2,"1988-04-02",null,null,0,0,null,null,0,0,null,null,0,0,null,null,0,0,null,null,0,0,null,null,0,0,null,null,0,0,null,null,0,0,null,null,0,0,null,null,0,0,null,null,0,0,null,null,0,0,null,0,0,"","","","","",""]
[null,4,3,"1988-04-03",null,null,0,0,null,null,0,0,null,null,0,0,null,null,0,0,null,null,0,0,null,null,0,0,null,null,0,0,null,null,0,0,null,null,0,0,null,null,0,0,null,null,0,0,null,null,0,0,null,0,0,"","","","","",""]
[null,4,4,"1988-04-04",null,null,0,0,null,null,0,0,null,null,0,0,null,null,0,0,null,null,0,0,null,null,0,0,null,null,0,0,null,null,0,0,null,null,0,0,null,null,0,0,null,null,0,0,null,null,0,0,null,0,0,"","","","","",""]
[null,4,5,"1988-04-05",null,null,0,0,null,null,0,0,null,null,0,0,null,null,0,0,null,null,0,0,null,null,0,0,null,null,0,0,null,null,0,0,null,null,0,0,null,null,0,0,null,null,0,0,null,null,0,0,null,0,0,"","","","","",""]
[null,4,6,"1988-04-06",null,null,0,0,null,null,0,0,null,null,0,0,null,null,0,0,null,null,0,0,null,null,0,0,null,null,0,0,null,null,0,0,null,null,0,0,null,null,0,0,null,null,0,0,null,null,0,0,null,0,0,"","","","","",""]
[null,4,7,"1988-04-07",null,null,0,0,null,null,0,0,null,null,0,0,null,null,0,0,null,null,0,0,null,null,0,0,null,null,0,0,null,null,0,0,null,null,0,0,null,null,0,0,null,null,0,0,null,null,0,0,null,0,0,"","","","","",""]
[null,4,8,"1988-04-08",null,null,0,0,null,null,0,0,null,null,0,0,null,null,0,0,null,null,0,0,null,null,0,0,null,null,0,0,null,null,0,0,null,null,0,0,null,null,0,0,null,null,0,0,null,null,0,0,null,0,0,"","","","","",""]
[null,4,9,"1988-04-09",null,null,0,0,null,null,0,0,null,null,0,0,null,null,0,0,null,null,0,0,null,null,0,0,null,null,0,0,null,null,0,0,null,null,0,0,null,null,0,0,null,null,0,0,null,null,0,0,null,0,0,"","","","","",""]
[null,4,10,"1988-04-10",null,null,0,0,null,null,0,0,null,null,0,0,null,null,0,0,null,null,0,0,null,null,0,0,null,null,0,0,null,null,0,0,null,null,0,0,null,null,0,0,null,null,0,0,null,null,0,0,null,0,0,"","","","","",""]
[null,4,11,"1988-04-11",null,null,0,0,null,null,0,0,null,null,0,0,null,null,0,0,null,null,0,0,null,null,0,0,null,null,0,0,null,null,0,0,null,null,0,0,null,null,0,0,null,null,0,0,null,null,0,0,null,0,0,"","","","","",""]
[null,4,12,"1988-04-12",null,null,0,0,null,null,0,0,null,null,0,0,null,null,0,0,null,null,0,0,null,null,0,0,null,null,0,0,null,null,0,0,null,null,0,0,null,null,0,0,null,null,0,0,null,null,0,0,null,0,0,"","","","","",""]
[null,4,13,"1988-04-13",null,null,0,0,null,null,0,0,null,null,0,0,null,null,0,0,null,null,0,0,null,null,0,0,null,null,0,0,null,null,0,0,null,null,0,0,null,null,0,0,null,null,0,0,null,null,0,0,null,0,0,"","","","","",""]
[null,4,14,"1988-04-14",null,null,0,0,null,null,0,0,null,null,0,0,null,null,0,0,null,null,0,0,null,null,0,0,null,null,0,0,null,null,0,0,null,null,0,0,null,null,0,0,null,null,0,0,null,null,0,0,null,0,0,"","","","","",""]
[null,4,15,"1988-04-15",null,null,0,0,null,null,0,0,null,null,0,0,null,null,0,0,null,null,0,0,null,null,0,0,null,null,0,0,null,null,0,0,null,null,0,0,null,null,0,0,null,null,0,0,null,null,0,0,null,0,0,"","","","","",""]
[null,4,16,"1988-04-16",null,null,0,0,null,null,0,0,null,null,0,0,null,null,0,0,null,null,0,0,null,null,0,0,null,null,0,0,null,null,0,0,null,null,0,0,null,null,0,0,null,null,0,0,null,null,0,0,null,0,0,"","","","","",""]
[null,4,17,"1988-04-17",null,null,0,0,null,null,0,0,null,null,0,0,null,null,0,0,null,null,0,0,null,null,0,0,null,null,0,0,null,null,0,0,null,null,0,0,null,null,0,0,null,null,0,0,null,null,0,0,null,0,0,"","","","","",""]
[null,4,18,"1988-04-18",null,null,0,0,null,null,0,0,null,null,0,0,null,null,0,0,null,null,0,0,null,null,0,0,null,null,0,0,null,null,0,0,null,null,0,0,null,null,0,0,null,null,0,0,null,null,0,0,null,0,0,"","","","","",""]
[null,4,19,"1988-04-19",null,null,0,0,null,null,0,0,null,null,0,0,null,null,0,0,null,null,0,0,null,null,0,0,null,null,0,0,null,null,0,0,null,null,0,0,null,null,0,0,null,null,0,0,null,null,0,0,null,0,0,"","","","","",""]
[null,4,20,"1988-04-20",null,null,0,0,null,null,0,0,null,null,0,0,null,null,0,0,null,null,0,0,null,null,0,0,null,null,0,0,null,null,0,0,null,null,0,0,null,null,0,0,null,null,0,0,null,null,0,0,null,0,0,"","","","","",""]
[null,4,21,"1988-04-21",null,null,0,0,null,null,0,0,null,null,0,0,null,null,0,0,null,null,0,0,null,null,0,0,null,null,0,0,null,null,0,0,null,null,0,0,null,null,0,0,null,null,0,0,null,null,0,0,null,0,0,"","","","","",""]
[null,4,22,"1988-04-22",null,null,0,0,null,null,0,0,null,null,0,0,null,null,0,0,null,null,0,0,null,null,0,0,null,null,0,0,null,null,0,0,null,null,0,0,null,null,0,0,null,null,0,0,null,null,0,0,null,0,0,"","","","","",""]
[null,4,23,"1988-04-23",null,null,0,0,null,null,0,0,null,null,0,0,null,null,0,0,null,null,0,0,null,null,0,0,null,null,0,0,null,null,0,0,null,null,0,0,null,null,0,0,null,null,0,0,null,null,0,0,null,0,0,"","","","","",""]
[null,4,24,"1988-04-24",null,null,0,0,null,null,0,0,null,null,0,0,null,null,0,0,null,null,0,0,null,null,0,0,null,null,0,0,null,null,0,0,null,null,0,0,null,null,0,0,null,null,0,0,null,null,0,0,null,0,0,"","","","","",""]
[null,4,25,"1988-04-25",null,null,0,0,null,null,0,0,null,null,0,0,null,null,0,0,null,null,0,0,null,null,0,0,null,null,0,0,null,null,0,0,null,null,0,0,null,null,0,0,null,null,0,0,null,null,0,0,null,0,0,"","","","","",""]
[null,4,26,"1988-04-26",null,null,0,0,null,null,0,0,null,null,0,0,null,null,0,0,null,null,0,0,null,null,0,0,null,null,0,0,null,null,0,0,null,null,0,0,null,null,0,0,null,null,0,0,null,null,0,0,null,0,0,"","","","","",""]
[null,4,27,"1988-04-27",null,null,0,0,null,null,0,0,null,null,0,0,null,null,0,0,null,null,0,0,null,null,0,0,null,null,0,0,null,null,0,0,null,null,0,0,null,null,0,0,null,null,0,0,null,null,0,0,null,0,0,"","","","","",""]
[null,4,28,"1988-04-28",null,null,0,0,null,null,0,0,null,null,0,0,null,null,0,0,null,null,0,0,null,null,0,0,null,null,0,0,null,null,0,0,null,null,0,0,null,null,0,0,null,null,0,0,null,null,0,0,null,0,0,"","","","","",""]
[null,4,29,"1988-04-29",null,null,0,0,null,null,0,0,null,null,0,0,null,null,0,0,null,null,0,0,null,null,0,0,null,null,0,0,null,null,0,0,null,null,0,0,null,null,0,0,null,null,0,0,null,null,0,0,null,0,0,"","","","","",""]
[null,4,30,"1988-04-30",null,null,0,0,null,null,0,0,null,null,0,0,null,null,0,0,null,null,0,0,null,null,0,0,null,null,0,0,null,null,0,0,null,null,0,0,null,null,0,0,null,null,0,0,null,null,0,0,null,0,0,"","","","","",""]
[null,5,1,"1988-05-01",null,null,0,0,null,null,0,0,null,null,0,0,null,null,0,0,null,null,0,0,null,null,0,0,null,null,0,0,null,null,0,0,null,null,0,0,null,null,0,0,null,null,0,0,null,null,0,0,null,0,0,"","","","","",""]
[null,5,2,"1988-05-02",null,null,0,0,null,null,0,0,null,null,0,0,null,null,0,0,null,null,0,0,null,null,0,0,null,null,0,0,null,null,0,0,null,null,0,0,null,null,0,0,null,null,0,0,null,null,0,0,null,0,0,"","","","","",""]
[null,5,3,"1988-05-03",null,null,0,0,null,null,0,0,null,null,0,0,null,null,0,0,null,null,0,0,null,null,0,0,null,null,0,0,null,null,0,0,null,null,0,0,null,null,0,0,null,null,0,0,null,null,0,0,null,0,0,"","","","","",""]
[null,5,4,"1988-05-04",null,null,0,0,null,null,0,0,null,null,0,0,null,null,0,0,null,null,0,0,null,null,0,0,null,null,0,0,null,null,0,0,null,null,0,0,null,null,0,0,null,null,0,0,null,null,0,0,null,0,0,"","","","","",""]
[null,5,5,"1988-05-05",null,null,0,0,null,null,0,0,null,null,0,0,null,null,0,0,null,null,0,0,null,null,0,0,null,null,0,0,null,null,0,0,null,null,0,0,null,null,0,0,null,null,0,0,null,null,0,0,null,0,0,"","","","","",""]
[null,5,6,"1988-05-06",null,null,0,0,null,null,0,0,null,null,0,0,null,null,0,0,null,null,0,0,null,null,0,0,null,null,0,0,null,null,0,0,null,null,0,0,null,null,0,0,null,null,0,0,null,null,0,0,null,0,0,"","","","","",""]
[null,5,7,"1988-05-07",null,null,0,0,null,null,0,0,null,null,0,0,null,null,0,0,null,null,0,0,null,null,0,0,null,null,0,0,null,null,0,0,null,null,0,0,null,null,0,0,null,null,0,0,null,null,0,0,null,0,0,"","","","","",""]
[null,5,8,"1988-05-08",null,null,0,0,null,null,0,0,null,null,0,0,null,null,0,0,null,null,0,0,null,null,0,0,null,null,0,0,null,null,0,0,null,null,0,0,null,null,0,0,null,null,0,0,null,null,0,0,null,0,0,"","","","","",""]
[null,5,9,"1988-05-09",null,null,0,0,null,null,0,0,null,null,0,0,null,null,0,0,null,null,0,0,null,null,0,0,null,null,0,0,null,null,0,0,null,null,0,0,null,null,0,0,null,null,0,0,null,null,0,0,null,0,0,"","","","","",""]
[null,5,10,"1988-05-10",null,null,0,0,null,null,0,0,null,null,0,0,null,null,0,0,null,null,0,0,null,null,0,0,null,null,0,0,null,null,0,0,null,null,0,0,null,null,0,0,null,null,0,0,null,null,0,0,null,0,0,"","","","","",""]
[null,5,11,"1988-05-11",null,null,0,0,null,null,0,0,null,null,0,0,null,null,0,0,null,null,0,0,null,null,0,0,null,null,0,0,null,null,0,0,null,null,0,0,null,null,0,0,null,null,0,0,null,null,0,0,null,0,0,"","","","","",""]
[null,5,12,"1988-05-12",null,null,0,0,null,null,0,0,null,null,0,0,null,null,0,0,null,null,0,0,null,null,0,0,null,null,0,0,null,null,0,0,null,null,0,0,null,null,0,0,null,null,0,0,null,null,0,0,null,0,0,"","","","","",""]
[null,5,13,"1988-05-13",null,null,0,0,null,null,0,0,null,null,0,0,null,null,0,0,null,null,0,0,null,null,0,0,null,null,0,0,null,null,0,0,null,null,0,0,null,null,0,0,null,null,0,0,null,null,0,0,null,0,0,"","","","","",""]
[null,5,14,"1988-05-14",null,null,0,0,null,null,0,0,null,null,0,0,null,null,0,0,null,null,0,0,null,null,0,0,null,null,0,0,null,null,0,0,null,null,0,0,null,null,0,0,null,null,0,0,null,null,0,0,null,0,0,"","","","","",""]
[null,5,15,"1988-05-15",null,null,0,0,null,null,0,0,null,null,0,0,null,null,0,0,null,null,0,0,null,null,0,0,null,null,0,0,null,null,0,0,null,null,0,0,null,null,0,0,null,null,0,0,null,null,0,0,null,0,0,"","","","","",""]
[null,5,16,"1988-05-16",null,null,0,0,null,null,0,0,null,null,0,0,null,null,0,0,null,null,0,0,null,null,0,0,null,null,0,0,null,null,0,0,null,null,0,0,null,null,0,0,null,null,0,0,null,null,0,0,null,0,0,"","","","","",""]
[null,5,17,"1988-05-17",null,null,0,0,null,null,0,0,null,null,0,0,null,null,0,0,null,null,0,0,null,null,0,0,null,null,0,0,null,null,0,0,null,null,0,0,null,null,0,0,null,null,0,0,null,null,0,0,null,0,0,"","","","","",""]
[null,5,18,"1988-05-18",null,null,0,0,null,null,0,0,null,null,0,0,null,null,0,0,null,null,0,0,null,null,0,0,null,null,0,0,null,null,0,0,null,null,0,0,null,null,0,0,null,null,0,0,null,null,0,0,null,0,0,"","","","","",""]
[null,5,19,"1988-05-19",null,null,0,0,null,null,0,0,null,null,0,0,null,null,0,0,null,null,0,0,null,null,0,0,null,null,0,0,null,null,0,0,null,null,0,0,null,null,0,0,null,null,0,0,null,null,0,0,null,0,0,"","","","","",""]
[null,5,20,"1988-05-20",null,null,0,0,null,null,0,0,null,null,0,0,null,null,0,0,null,null,0,0,null,null,0,0,null,null,0,0,null,null,0,0,null,null,0,0,null,null,0,0,null,null,0,0,null,null,0,0,null,0,0,"","","","","",""]
[null,5,21,"1988-05-21",null,null,0,0,null,null,0,0,null,null,0,0,null,null,0,0,null,null,0,0,null,null,0,0,null,null,0,0,null,null,0,0,null,null,0,0,null,null,0,0,null,null,0,0,null,null,0,0,null,0,0,"","","","","",""]
[null,5,22,"1988-05-22",null,null,0,0,null,null,0,0,null,null,0,0,null,null,0,0,null,null,0,0,null,null,0,0,null,null,0,0,null,null,0,0,null,null,0,0,null,null,0,0,null,null,0,0,null,null,0,0,null,0,0,"","","","","",""]
[null,5,23,"1988-05-23",null,null,0,0,null,null,0,0,null,null,0,0,null,null,0,0,null,null,0,0,null,null,0,0,null,null,0,0,null,null,0,0,null,null,0,0,null,null,0,0,null,null,0,0,null,null,0,0,null,0,0,"","","","","",""]
[null,5,24,"1988-05-24",null,null,0,0,null,null,0,0,null,null,0,0,null,null,0,0,null,null,0,0,null,null,0,0,null,null,0,0,null,null,0,0,null,null,0,0,null,null,0,0,null,null,0,0,null,null,0,0,null,0,0,"","","","","",""]
[null,5,25,"1988-05-25",null,null,0,0,null,null,0,0,null,null,0,0,null,null,0,0,null,null,0,0,null,null,0,0,null,null,0,0,null,null,0,0,null,null,0,0,null,null,0,0,null,null,0,0,null,null,0,0,null,0,0,"","","","","",""]
[null,5,26,"1988-05-26",null,null,0,0,null,null,0,0,null,null,0,0,null,null,0,0,null,null,0,0,null,null,0,0,null,null,0,0,null,null,0,0,null,null,0,0,null,null,0,0,null,null,0,0,null,null,0,0,null,0,0,"","","","","",""]
[null,5,27,"1988-05-27",null,null,0,0,null,null,0,0,null,null,0,0,null,null,0,0,null,null,0,0,null,null,0,0,null,null,0,0,null,null,0,0,null,null,0,0,null,null,0,0,null,null,0,0,null,null,0,0,null,0,0,"","","","","",""]
[null,5,28,"1988-05-28",null,null,0,0,null,null,0,0,null,null,0,0,null,null,0,0,null,null,0,0,null,null,0,0,null,null,0,0,null,null,0,0,null,null,0,0,null,null,0,0,null,null,0,0,null,null,0,0,null,0,0,"","","","","",""]
[null,5,29,"1988-05-29",null,null,0,0,null,null,0,0,null,null,0,0,null,null,0,0,null,null,0,0,null,null,0,0,null,null,0,0,null,null,0,0,null,null,0,0,null,null,0,0,null,null,0,0,null,null,0,0,null,0,0,"","","","","",""]
[null,5,30,"1988-05-30",null,null,0,0,null,null,0,0,null,null,0,0,null,null,0,0,null,null,0,0,null,null,0,0,null,null,0,0,null,null,0,0,null,null,0,0,null,null,0,0,null,null,0,0,null,null,0,0,null,0,0,"","","","","",""]
[null,5,31,"1988-05-31",null,null,0,0,null,null,0,0,null,null,0,0,null,null,0,0,null,null,0,0,null,null,0,0,null,null,0,0,null,null,0,0,null,null,0,0,null,null,0,0,null,null,0,0,null,null,0,0,null,0,0,"","","","","",""]
[null,6,1,"1988-06-01",null,null,0,0,null,null,0,0,null,null,0,0,null,null,0,0,null,null,0,0,null,null,0,0,null,null,0,0,null,null,0,0,null,null,0,0,null,null,0,0,null,null,0,0,null,null,0,0,null,0,0,"","","","","",""]
[null,6,2,"1988-06-02",null,null,0,0,null,null,0,0,null,null,0,0,null,null,0,0,null,null,0,0,null,null,0,0,null,null,0,0,null,null,0,0,null,null,0,0,null,null,0,0,null,null,0,0,null,null,0,0,null,0,0,"","","","","",""]
[null,6,3,"1988-06-03",null,null,0,0,null,null,0,0,null,null,0,0,null,null,0,0,null,null,0,0,null,null,0,0,null,null,0,0,null,null,0,0,null,null,0,0,null,null,0,0,null,null,0,0,null,null,0,0,null,0,0,"","","","","",""]
[null,6,4,"1988-06-04",null,null,0,0,null,null,0,0,null,null,0,0,null,null,0,0,null,null,0,0,null,null,0,0,null,null,0,0,null,null,0,0,null,null,0,0,null,null,0,0,null,null,0,0,null,null,0,0,null,0,0,"","","","","",""]
[null,6,5,"1988-06-05",null,null,0,0,null,null,0,0,null,null,0,0,null,null,0,0,null,null,0,0,null,null,0,0,null,null,0,0,null,null,0,0,null,null,0,0,null,null,0,0,null,null,0,0,null,null,0,0,null,0,0,"","","","","",""]
[null,6,6,"1988-06-06",null,null,0,0,null,null,0,0,null,null,0,0,null,null,0,0,null,null,0,0,null,null,0,0,null,null,0,0,null,null,0,0,null,null,0,0,null,null,0,0,null,null,0,0,null,null,0,0,null,0,0,"","","","","",""]
[null,6,7,"1988-06-07",null,null,0,0,null,null,0,0,null,null,0,0,null,null,0,0,null,null,0,0,null,null,0,0,null,null,0,0,null,null,0,0,null,null,0,0,null,null,0,0,null,null,0,0,null,null,0,0,null,0,0,"","","","","",""]
[null,6,8,"1988-06-08",null,null,0,0,null,null,0,0,null,null,0,0,null,null,0,0,null,null,0,0,null,null,0,0,null,null,0,0,null,null,0,0,null,null,0,0,null,null,0,0,null,null,0,0,null,null,0,0,null,0,0,"","","","","",""]
[null,6,9,"1988-06-09",null,null,0,0,null,null,0,0,null,null,0,0,null,null,0,0,null,null,0,0,null,null,0,0,null,null,0,0,null,null,0,0,null,null,0,0,null,null,0,0,null,null,0,0,null,null,0,0,null,0,0,"","","","","",""]
[null,6,10,"1988-06-10",null,null,0,0,null,null,0,0,null,null,0,0,null,null,0,0,null,null,0,0,null,null,0,0,null,null,0,0,null,null,0,0,null,null,0,0,null,null,0,0,null,null,0,0,null,null,0,0,null,0,0,"","","","","",""]
[null,6,11,"1988-06-11",null,null,0,0,null,null,0,0,null,null,0,0,null,null,0,0,null,null,0,0,null,null,0,0,null,null,0,0,null,null,0,0,null,null,0,0,null,null,0,0,null,null,0,0,null,null,0,0,null,0,0,"","","","","",""]
[null,6,12,"1988-06-12",null,null,0,0,null,null,0,0,null,null,0,0,null,null,0,0,null,null,0,0,null,null,0,0,null,null,0,0,null,null,0,0,null,null,0,0,null,null,0,0,null,null,0,0,null,null,0,0,null,0,0,"","","","","",""]
[null,6,13,"1988-06-13",null,null,0,0,null,null,0,0,null,null,0,0,null,null,0,0,null,null,0,0,null,null,0,0,null,null,0,0,null,null,0,0,null,null,0,0,null,null,0,0,null,null,0,0,null,null,0,0,null,0,0,"","","","","",""]
[null,6,14,"1988-06-14",null,null,0,0,null,null,0,0,null,null,0,0,null,null,0,0,null,null,0,0,null,null,0,0,null,null,0,0,null,null,0,0,null,null,0,0,null,null,0,0,null,null,0,0,null,null,0,0,null,0,0,"","","","","",""]
[null,6,15,"1988-06-15",null,null,0,0,null,null,0,0,null,null,0,0,null,null,0,0,null,null,0,0,null,null,0,0,null,null,0,0,null,null,0,0,null,null,0,0,null,null,0,0,null,null,0,0,null,null,0,0,null,0,0,"","","","","",""]
[null,6,16,"1988-06-16",null,null,0,0,null,null,0,0,null,null,0,0,null,null,0,0,null,null,0,0,null,null,0,0,null,null,0,0,null,null,0,0,null,null,0,0,null,null,0,0,null,null,0,0,null,null,0,0,null,0,0,"","","","","",""]
[null,6,17,"1988-06-17",null,null,0,0,null,null,0,0,null,null,0,0,null,null,0,0,null,null,0,0,null,null,0,0,null,null,0,0,null,null,0,0,null,null,0,0,null,null,0,0,null,null,0,0,null,null,0,0,null,0,0,"","","","","",""]
[null,6,18,"1988-06-18",null,null,0,0,null,null,0,0,null,null,0,0,null,null,0,0,null,null,0,0,null,null,0,0,null,null,0,0,null,null,0,0,null,null,0,0,null,null,0,0,null,null,0,0,null,null,0,0,null,0,0,"","","","","",""]
[null,6,19,"1988-06-19",null,null,0,0,null,null,0,0,null,null,0,0,null,null,0,0,null,null,0,0,null,null,0,0,null,null,0,0,null,null,0,0,null,null,0,0,null,null,0,0,null,null,0,0,null,null,0,0,null,0,0,"","","","","",""]
[null,6,20,"1988-06-20",null,null,0,0,null,null,0,0,null,null,0,0,null,null,0,0,null,null,0,0,null,null,0,0,null,null,0,0,null,null,0,0,null,null,0,0,null,null,0,0,null,null,0,0,null,null,0,0,null,0,0,"","","","","",""]
[null,6,21,"1988-06-21",null,null,0,0,null,null,0,0,null,null,0,0,null,null,0,0,null,null,0,0,null,null,0,0,null,null,0,0,null,null,0,0,null,null,0,0,null,null,0,0,null,null,0,0,null,null,0,0,null,0,0,"","","","","",""]
[null,6,22,"1988-06-22",null,null,0,0,null,null,0,0,null,null,0,0,null,null,0,0,null,null,0,0,null,null,0,0,null,null,0,0,null,null,0,0,null,null,0,0,null,null,0,0,null,null,0,0,null,null,0,0,null,0,0,"","","","","",""]
[null,6,23,"1988-06-23",null,null,0,0,null,null,0,0,null,null,0,0,null,null,0,0,null,null,0,0,null,null,0,0,null,null,0,0,null,null,0,0,null,null,0,0,null,null,0,0,null,null,0,0,null,null,0,0,null,0,0,"","","","","",""]
[null,6,24,"1988-06-24",null,null,0,0,null,null,0,0,null,null,0,0,null,null,0,0,null,null,0,0,null,null,0,0,null,null,0,0,null,null,0,0,null,null,0,0,null,null,0,0,null,null,0,0,null,null,0,0,null,0,0,"","","","","",""]
[null,6,25,"1988-06-25",null,null,0,0,null,null,0,0,null,null,0,0,null,null,0,0,null,null,0,0,null,null,0,0,null,null,0,0,null,null,0,0,null,null,0,0,null,null,0,0,null,null,0,0,null,null,0,0,null,0,0,"","","","","",""]
[null,6,26,"1988-06-26",null,null,0,0,null,null,0,0,null,null,0,0,null,null,0,0,null,null,0,0,null,null,0,0,null,null,0,0,null,null,0,0,null,null,0,0,null,null,0,0,null,null,0,0,null,null,0,0,null,0,0,"","","","","",""]
[null,6,27,"1988-06-27",null,null,0,0,null,null,0,0,null,null,0,0,null,null,0,0,null,null,0,0,null,null,0,0,null,null,0,0,null,null,0,0,null,null,0,0,null,null,0,0,null,null,0,0,null,null,0,0,null,0,0,"","","","","",""]
[null,6,28,"1988-06-28",null,null,0,0,null,null,0,0,null,null,0,0,null,null,0,0,null,null,0,0,null,null,0,0,null,null,0,0,null,null,0,0,null,null,0,0,null,null,0,0,null,null,0,0,null,null,0,0,null,0,0,"","","","","",""]
[null,6,29,"1988-06-29",null,null,0,0,null,null,0,0,null,null,0,0,null,null,0,0,null,null,0,0,null,null,0,0,null,null,0,0,null,null,0,0,null,null,0,0,null,null,0,0,null,null,0,0,null,null,0,0,null,0,0,"","","","","",""]
[null,6,30,"1988-06-30",null,null,0,0,null,null,0,0,null,null,0,0,null,null,0,0,null,null,0,0,null,null,0,0,null,null,0,0,null,null,0,0,null,null,0,0,null,null,0,0,null,null,0,0,null,null,0,0,null,0,0,"","","","","",""]
[null,7,1,"1988-07-01",null,null,0,0,null,null,0,0,null,null,0,0,null,null,0,0,null,null,0,0,null,null,0,0,null,null,0,0,null,null,0,0,null,null,0,0,null,null,0,0,null,null,0,0,null,null,0,0,null,0,0,"","","","","",""]
[null,7,2,"1988-07-02",null,null,0,0,null,null,0,0,null,null,0,0,null,null,0,0,null,null,0,0,null,null,0,0,null,null,0,0,null,null,0,0,null,null,0,0,null,null,0,0,null,null,0,0,null,null,0,0,null,0,0,"","","","","",""]
[null,7,3,"1988-07-03",null,null,0,0,null,null,0,0,null,null,0,0,null,null,0,0,null,null,0,0,null,null,0,0,null,null,0,0,null,null,0,0,null,null,0,0,null,null,0,0,null,null,0,0,null,null,0,0,null,0,0,"","","","","",""]
[null,7,4,"1988-07-04",null,null,0,0,null,null,0,0,null,null,0,0,null,null,0,0,null,null,0,0,null,null,0,0,null,null,0,0,null,null,0,0,null,null,0,0,null,null,0,0,null,null,0,0,null,null,0,0,null,0,0,"","","","","",""]
[null,7,5,"1988-07-05",null,null,0,0,null,null,0,0,null,null,0,0,null,null,0,0,null,null,0,0,null,null,0,0,null,null,0,0,null,null,0,0,null,null,0,0,null,null,0,0,null,null,0,0,null,null,0,0,null,0,0,"","","","","",""]
[null,7,6,"1988-07-06",null,null,0,0,null,null,0,0,null,null,0,0,null,null,0,0,null,null,0,0,null,null,0,0,null,null,0,0,null,null,0,0,null,null,0,0,null,null,0,0,null,null,0,0,null,null,0,0,null,0,0,"","","","","",""]
[null,7,7,"1988-07-07",null,null,0,0,null,null,0,0,null,null,0,0,null,null,0,0,null,null,0,0,null,null,0,0,null,null,0,0,null,null,0,0,null,null,0,0,null,null,0,0,null,null,0,0,null,null,0,0,null,0,0,"","","","","",""]
[null,7,8,"1988-07-08",null,null,0,0,null,null,0,0,null,null,0,0,null,null,0,0,null,null,0,0,null,null,0,0,null,null,0,0,null,null,0,0,null,null,0,0,null,null,0,0,null,null,0,0,null,null,0,0,null,0,0,"","","","","",""]
[null,7,9,"1988-07-09",null,null,0,0,null,null,0,0,null,null,0,0,null,null,0,0,null,null,0,0,null,null,0,0,null,null,0,0,null,null,0,0,null,null,0,0,null,null,0,0,null,null,0,0,null,null,0,0,null,0,0,"","","","","",""]
[null,7,10,"1988-07-10",null,null,0,0,null,null,0,0,null,null,0,0,null,null,0,0,null,null,0,0,null,null,0,0,null,null,0,0,null,null,0,0,null,null,0,0,null,null,0,0,null,null,0,0,null,null,0,0,null,0,0,"","","","","",""]
[null,7,11,"1988-07-11",null,null,0,0,null,null,0,0,null,null,0,0,null,null,0,0,null,null,0,0,null,null,0,0,null,null,0,0,null,null,0,0,null,null,0,0,null,null,0,0,null,null,0,0,null,null,0,0,null,0,0,"","","","","",""]
[null,7,12,"1988-07-12",null,null,0,0,null,null,0,0,null,null,0,0,null,null,0,0,null,null,0,0,null,null,0,0,null,null,0,0,null,null,0,0,null,null,0,0,null,null,0,0,null,null,0,0,null,null,0,0,null,0,0,"","","","","",""]
[null,7,13,"1988-07-13",null,null,0,0,null,null,0,0,null,null,0,0,null,null,0,0,null,null,0,0,null,null,0,0,null,null,0,0,null,null,0,0,null,null,0,0,null,null,0,0,null,null,0,0,null,null,0,0,null,0,0,"","","","","",""]
[null,7,14,"1988-07-14",null,null,0,0,null,null,0,0,null,null,0,0,null,null,0,0,null,null,0,0,null,null,0,0,null,null,0,0,null,null,0,0,null,null,0,0,null,null,0,0,null,null,0,0,null,null,0,0,null,0,0,"","","","","",""]
[null,7,15,"1988-07-15",null,null,0,0,null,null,0,0,null,null,0,0,null,null,0,0,null,null,0,0,null,null,0,0,null,null,0,0,null,null,0,0,null,null,0,0,null,null,0,0,null,null,0,0,null,null,0,0,null,0,0,"","","","","",""]
[null,7,16,"1988-07-16",null,null,0,0,null,null,0,0,null,null,0,0,null,null,0,0,null,null,0,0,null,null,0,0,null,null,0,0,null,null,0,0,null,null,0,0,null,null,0,0,null,null,0,0,null,null,0,0,null,0,0,"","","","","",""]
[null,7,17,"1988-07-17",null,null,0,0,null,null,0,0,null,null,0,0,null,null,0,0,null,null,0,0,null,null,0,0,null,null,0,0,null,null,0,0,null,null,0,0,null,null,0,0,null,null,0,0,null,null,0,0,null,0,0,"","","","","",""]
[null,7,18,"1988-07-18",null,null,0,0,null,null,0,0,null,null,0,0,null,null,0,0,null,null,0,0,null,null,0,0,null,null,0,0,null,null,0,0,null,null,0,0,null,null,0,0,null,null,0,0,null,null,0,0,null,0,0,"","","","","",""]
[null,7,19,"1988-07-19",null,null,0,0,null,null,0,0,null,null,0,0,null,null,0,0,null,null,0,0,null,null,0,0,null,null,0,0,null,null,0,0,null,null,0,0,null,null,0,0,null,null,0,0,null,null,0,0,null,0,0,"","","","","",""]
[null,7,20,"1988-07-20",null,null,0,0,null,null,0,0,null,null,0,0,null,null,0,0,null,null,0,0,null,null,0,0,null,null,0,0,null,null,0,0,null,null,0,0,null,null,0,0,null,null,0,0,null,null,0,0,null,0,0,"","","","","",""]
[null,7,21,"1988-07-21",null,null,0,0,null,null,0,0,null,null,0,0,null,null,0,0,null,null,0,0,null,null,0,0,null,null,0,0,null,null,0,0,null,null,0,0,null,null,0,0,null,null,0,0,null,null,0,0,null,0,0,"","","","","",""]
[null,7,22,"1988-07-22",null,null,0,0,null,null,0,0,null,null,0,0,null,null,0,0,null,null,0,0,null,null,0,0,null,null,0,0,null,null,0,0,null,null,0,0,null,null,0,0,null,null,0,0,null,null,0,0,null,0,0,"","","","","",""]
[null,7,23,"1988-07-23",null,null,0,0,null,null,0,0,null,null,0,0,null,null,0,0,null,null,0,0,null,null,0,0,null,null,0,0,null,null,0,0,null,null,0,0,null,null,0,0,null,null,0,0,null,null,0,0,null,0,0,"","","","","",""]
[null,7,24,"1988-07-24",null,null,0,0,null,null,0,0,null,null,0,0,null,null,0,0,null,null,0,0,null,null,0,0,null,null,0,0,null,null,0,0,null,null,0,0,null,null,0,0,null,null,0,0,null,null,0,0,null,0,0,"","","","","",""]
[null,7,25,"1988-07-25",null,null,0,0,null,null,0,0,null,null,0,0,null,null,0,0,null,null,0,0,null,null,0,0,null,null,0,0,null,null,0,0,null,null,0,0,null,null,0,0,null,null,0,0,null,null,0,0,null,0,0,"","","","","",""]
[null,7,26,"1988-07-26",null,null,0,0,null,null,0,0,null,null,0,0,null,null,0,0,null,null,0,0,null,null,0,0,null,null,0,0,null,null,0,0,null,null,0,0,null,null,0,0,null,null,0,0,null,null,0,0,null,0,0,"","","","","",""]
[null,7,27,"1988-07-27",null,null,0,0,null,null,0,0,null,null,0,0,null,null,0,0,null,null,0,0,null,null,0,0,null,null,0,0,null,null,0,0,null,null,0,0,null,null,0,0,null,null,0,0,null,null,0,0,null,0,0,"","","","","",""]
[null,7,28,"1988-07-28",null,null,0,0,null,null,0,0,null,null,0,0,null,null,0,0,null,null,0,0,null,null,0,0,null,null,0,0,null,null,0,0,null,null,0,0,null,null,0,0,null,null,0,0,null,null,0,0,null,0,0,"","","","","",""]
[null,7,29,"1988-07-29",null,null,0,0,null,null,0,0,null,null,0,0,null,null,0,0,null,null,0,0,null,null,0,0,null,null,0,0,null,null,0,0,null,null,0,0,null,null,0,0,null,null,0,0,null,null,0,0,null,0,0,"","","","","",""]
[null,7,30,"1988-07-30",null,null,0,0,null,null,0,0,null,null,0,0,null,null,0,0,null,null,0,0,null,null,0,0,null,null,0,0,null,null,0,0,null,null,0,0,null,null,0,0,null,null,0,0,null,null,0,0,null,0,0,"","","","","",""]
[null,7,31,"1988-07-31",null,null,0,0,null,null,0,0,null,null,0,0,null,null,0,0,null,null,0,0,null,null,0,0,null,null,0,0,null,null,0,0,null,null,0,0,null,null,0,0,null,null,0,0,null,null,0,0,null,0,0,"","","","","",""]
[null,8,1,"1988-08-01",null,null,0,0,null,null,0,0,null,null,0,0,null,null,0,0,null,null,0,0,null,null,0,0,null,null,0,0,null,null,0,0,null,null,0,0,null,null,0,0,null,null,0,0,null,null,0,0,null,0,0,"","","","","",""]
[null,8,2,"1988-08-02",null,null,0,0,null,null,0,0,null,null,0,0,null,null,0,0,null,null,0,0,null,null,0,0,null,null,0,0,null,null,0,0,null,null,0,0,null,null,0,0,null,null,0,0,null,null,0,0,null,0,0,"","","","","",""]
[null,8,3,"1988-08-03",null,null,0,0,null,null,0,0,null,null,0,0,null,null,0,0,null,null,0,0,null,null,0,0,null,null,0,0,null,null,0,0,null,null,0,0,null,null,0,0,null,null,0,0,null,null,0,0,null,0,0,"","","","","",""]
[null,8,4,"1988-08-04",null,null,0,0,null,null,0,0,null,null,0,0,null,null,0,0,null,null,0,0,null,null,0,0,null,null,0,0,null,null,0,0,null,null,0,0,null,null,0,0,null,null,0,0,null,null,0,0,null,0,0,"","","","","",""]
[null,8,5,"1988-08-05",null,null,0,0,null,null,0,0,null,null,0,0,null,null,0,0,null,null,0,0,null,null,0,0,null,null,0,0,null,null,0,0,null,null,0,0,null,null,0,0,null,null,0,0,null,null,0,0,null,0,0,"","","","","",""]
[null,8,6,"1988-08-06",null,null,0,0,null,null,0,0,null,null,0,0,null,null,0,0,null,null,0,0,null,null,0,0,null,null,0,0,null,null,0,0,null,null,0,0,null,null,0,0,null,null,0,0,null,null,0,0,null,0,0,"","","","","",""]
[null,8,7,"1988-08-07",null,null,0,0,null,null,0,0,null,null,0,0,null,null,0,0,null,null,0,0,null,null,0,0,null,null,0,0,null,null,0,0,null,null,0,0,null,null,0,0,null,null,0,0,null,null,0,0,null,0,0,"","","","","",""]
[null,8,8,"1988-08-08",null,null,0,0,null,null,0,0,null,null,0,0,null,null,0,0,null,null,0,0,null,null,0,0,null,null,0,0,null,null,0,0,null,null,0,0,null,null,0,0,null,null,0,0,null,null,0,0,null,0,0,"","","","","",""]
[null,8,9,"1988-08-09",null,null,0,0,null,null,0,0,null,null,0,0,null,null,0,0,null,null,0,0,null,null,0,0,null,null,0,0,null,null,0,0,null,null,0,0,null,null,0,0,null,null,0,0,null,null,0,0,null,0,0,"","","","","",""]
[null,8,10,"1988-08-10",null,null,0,0,null,null,0,0,null,null,0,0,null,null,0,0,null,null,0,0,null,null,0,0,null,null,0,0,null,null,0,0,null,null,0,0,null,null,0,0,null,null,0,0,null,null,0,0,null,0,0,"","","","","",""]
[null,8,11,"1988-08-11",null,null,0,0,null,null,0,0,null,null,0,0,null,null,0,0,null,null,0,0,null,null,0,0,null,null,0,0,null,null,0,0,null,null,0,0,null,null,0,0,null,null,0,0,null,null,0,0,null,0,0,"","","","","",""]
[null,8,12,"1988-08-12",null,null,0,0,null,null,0,0,null,null,0,0,null,null,0,0,null,null,0,0,null,null,0,0,null,null,0,0,null,null,0,0,null,null,0,0,null,null,0,0,null,null,0,0,null,null,0,0,null,0,0,"","","","","",""]
[null,8,13,"1988-08-13",null,null,0,0,null,null,0,0,null,null,0,0,null,null,0,0,null,null,0,0,null,null,0,0,null,null,0,0,null,null,0,0,null,null,0,0,null,null,0,0,null,null,0,0,null,null,0,0,null,0,0,"","","","","",""]
[null,8,14,"1988-08-14",null,null,0,0,null,null,0,0,null,null,0,0,null,null,0,0,null,null,0,0,null,null,0,0,null,null,0,0,null,null,0,0,null,null,0,0,null,null,0,0,null,null,0,0,null,null,0,0,null,0,0,"","","","","",""]
[null,8,15,"1988-08-15",null,null,0,0,null,null,0,0,null,null,0,0,null,null,0,0,null,null,0,0,null,null,0,0,null,null,0,0,null,null,0,0,null,null,0,0,null,null,0,0,null,null,0,0,null,null,0,0,null,0,0,"","","","","",""]
[null,8,16,"1988-08-16",null,null,0,0,null,null,0,0,null,null,0,0,null,null,0,0,null,null,0,0,null,null,0,0,null,null,0,0,null,null,0,0,null,null,0,0,null,null,0,0,null,null,0,0,null,null,0,0,null,0,0,"","","","","",""]
[null,8,17,"1988-08-17",null,null,0,0,null,null,0,0,null,null,0,0,null,null,0,0,null,null,0,0,null,null,0,0,null,null,0,0,null,null,0,0,null,null,0,0,null,null,0,0,null,null,0,0,null,null,0,0,null,0,0,"","","","","",""]
[null,8,18,"1988-08-18",null,null,0,0,null,null,0,0,null,null,0,0,null,null,0,0,null,null,0,0,null,null,0,0,null,null,0,0,null,null,0,0,null,null,0,0,null,null,0,0,null,null,0,0,null,null,0,0,null,0,0,"","","","","",""]
[null,8,19,"1988-08-19",null,null,0,0,null,null,0,0,null,null,0,0,null,null,0,0,null,null,0,0,null,null,0,0,null,null,0,0,null,null,0,0,null,null,0,0,null,null,0,0,null,null,0,0,null,null,0,0,null,0,0,"","","","","",""]
[null,8,20,"1988-08-20",null,null,0,0,null,null,0,0,null,null,0,0,null,null,0,0,null,null,0,0,null,null,0,0,null,null,0,0,null,null,0,0,null,null,0,0,null,null,0,0,null,null,0,0,null,null,0,0,null,0,0,"","","","","",""]
[null,8,21,"1988-08-21",null,null,0,0,null,null,0,0,null,null,0,0,null,null,0,0,null,null,0,0,null,null,0,0,null,null,0,0,null,null,0,0,null,null,0,0,null,null,0,0,null,null,0,0,null,null,0,0,null,0,0,"","","","","",""]
[null,8,22,"1988-08-22",null,null,0,0,null,null,0,0,null,null,0,0,null,null,0,0,null,null,0,0,null,null,0,0,null,null,0,0,null,null,0,0,null,null,0,0,null,null,0,0,null,null,0,0,null,null,0,0,null,0,0,"","","","","",""]
[null,8,23,"1988-08-23",null,null,0,0,null,null,0,0,null,null,0,0,null,null,0,0,null,null,0,0,null,null,0,0,null,null,0,0,null,null,0,0,null,null,0,0,null,null,0,0,null,null,0,0,null,null,0,0,null,0,0,"","","","","",""]
[null,8,24,"1988-08-24",null,null,0,0,null,null,0,0,null,null,0,0,null,null,0,0,null,null,0,0,null,null,0,0,null,null,0,0,null,null,0,0,null,null,0,0,null,null,0,0,null,null,0,0,null,null,0,0,null,0,0,"","","","","",""]
[null,8,25,"1988-08-25",null,null,0,0,null,null,0,0,null,null,0,0,null,null,0,0,null,null,0,0,null,null,0,0,null,null,0,0,null,null,0,0,null,null,0,0,null,null,0,0,null,null,0,0,null,null,0,0,null,0,0,"","","","","",""]
[null,8,26,"1988-08-26",null,null,0,0,null,null,0,0,null,null,0,0,null,null,0,0,null,null,0,0,null,null,0,0,null,null,0,0,null,null,0,0,null,null,0,0,null,null,0,0,null,null,0,0,null,null,0,0,null,0,0,"","","","","",""]
[null,8,27,"1988-08-27",null,null,0,0,null,null,0,0,null,null,0,0,null,null,0,0,null,null,0,0,null,null,0,0,null,null,0,0,null,null,0,0,null,null,0,0,null,null,0,0,null,null,0,0,null,null,0,0,null,0,0,"","","","","",""]
[null,8,28,"1988-08-28",null,null,0,0,null,null,0,0,null,null,0,0,null,null,0,0,null,null,0,0,null,null,0,0,null,null,0,0,null,null,0,0,null,null,0,0,null,null,0,0,null,null,0,0,null,null,0,0,null,0,0,"","","","","",""]
[null,8,29,"1988-08-29",null,null,0,0,null,null,0,0,null,null,0,0,null,null,0,0,null,null,0,0,null,null,0,0,null,null,0,0,null,null,0,0,null,null,0,0,null,null,0,0,null,null,0,0,null,null,0,0,null,0,0,"","","","","",""]
[null,8,30,"1988-08-30",null,null,0,0,null,null,0,0,null,null,0,0,null,null,0,0,null,null,0,0,null,null,0,0,null,null,0,0,null,null,0,0,null,null,0,0,null,null,0,0,null,null,0,0,null,null,0,0,null,0,0,"","","","","",""]
[null,8,31,"1988-08-31",null,null,0,0,null,null,0,0,null,null,0,0,null,null,0,0,null,null,0,0,null,null,0,0,null,null,0,0,null,null,0,0,null,null,0,0,null,null,0,0,null,null,0,0,null,null,0,0,null,0,0,"","","","","",""]
[null,9,1,"1988-09-01",null,null,0,0,null,null,0,0,null,null,0,0,null,null,0,0,null,null,0,0,null,null,0,0,null,null,0,0,null,null,0,0,null,null,0,0,null,null,0,0,null,null,0,0,null,null,0,0,null,0,0,"","","","","",""]
[null,9,2,"1988-09-02",null,null,0,0,null,null,0,0,null,null,0,0,null,null,0,0,null,null,0,0,null,null,0,0,null,null,0,0,null,null,0,0,null,null,0,0,null,null,0,0,null,null,0,0,null,null,0,0,null,0,0,"","","","","",""]
[null,9,3,"1988-09-03",null,null,0,0,null,null,0,0,null,null,0,0,null,null,0,0,null,null,0,0,null,null,0,0,null,null,0,0,null,null,0,0,null,null,0,0,null,null,0,0,null,null,0,0,null,null,0,0,null,0,0,"","","","","",""]
[null,9,4,"1988-09-04",null,null,0,0,null,null,0,0,null,null,0,0,null,null,0,0,null,null,0,0,null,null,0,0,null,null,0,0,null,null,0,0,null,null,0,0,null,null,0,0,null,null,0,0,null,null,0,0,null,0,0,"","","","","",""]
[null,9,5,"1988-09-05",null,null,0,0,null,null,0,0,null,null,0,0,null,null,0,0,null,null,0,0,null,null,0,0,null,null,0,0,null,null,0,0,null,null,0,0,null,null,0,0,null,null,0,0,null,null,0,0,null,0,0,"","","","","",""]
[null,9,6,"1988-09-06",null,null,0,0,null,null,0,0,null,null,0,0,null,null,0,0,null,null,0,0,null,null,0,0,null,null,0,0,null,null,0,0,null,null,0,0,null,null,0,0,null,null,0,0,null,null,0,0,null,0,0,"","","","","",""]
[null,9,7,"1988-09-07",null,null,0,0,null,null,0,0,null,null,0,0,null,null,0,0,null,null,0,0,null,null,0,0,null,null,0,0,null,null,0,0,null,null,0,0,null,null,0,0,null,null,0,0,null,null,0,0,null,0,0,"","","","","",""]
[null,9,8,"1988-09-08",null,null,0,0,null,null,0,0,null,null,0,0,null,null,0,0,null,null,0,0,null,null,0,0,null,null,0,0,null,null,0,0,null,null,0,0,null,null,0,0,null,null,0,0,null,null,0,0,null,0,0,"","","","","",""]
[null,9,9,"1988-09-09",null,null,0,0,null,null,0,0,null,null,0,0,null,null,0,0,null,null,0,0,null,null,0,0,null,null,0,0,null,null,0,0,null,null,0,0,null,null,0,0,null,null,0,0,null,null,0,0,null,0,0,"","","","","",""]
[null,9,10,"1988-09-10",null,null,0,0,null,null,0,0,null,null,0,0,null,null,0,0,null,null,0,0,null,null,0,0,null,null,0,0,null,null,0,0,null,null,0,0,null,null,0,0,null,null,0,0,null,null,0,0,null,0,0,"","","","","",""]
[null,9,11,"1988-09-11",null,null,0,0,null,null,0,0,null,null,0,0,null,null,0,0,null,null,0,0,null,null,0,0,null,null,0,0,null,null,0,0,null,null,0,0,null,null,0,0,null,null,0,0,null,null,0,0,null,0,0,"","","","","",""]
[null,9,12,"1988-09-12",null,null,0,0,null,null,0,0,null,null,0,0,null,null,0,0,null,null,0,0,null,null,0,0,null,null,0,0,null,null,0,0,null,null,0,0,null,null,0,0,null,null,0,0,null,null,0,0,null,0,0,"","","","","",""]
[null,9,13,"1988-09-13",null,null,0,0,null,null,0,0,null,null,0,0,null,null,0,0,null,null,0,0,null,null,0,0,null,null,0,0,null,null,0,0,null,null,0,0,null,null,0,0,null,null,0,0,null,null,0,0,null,0,0,"","","","","",""]
[null,9,14,"1988-09-14",null,null,0,0,null,null,0,0,null,null,0,0,null,null,0,0,null,null,0,0,null,null,0,0,null,null,0,0,null,null,0,0,null,null,0,0,null,null,0,0,null,null,0,0,null,null,0,0,null,0,0,"","","","","",""]
[null,9,15,"1988-09-15",null,null,0,0,null,null,0,0,null,null,0,0,null,null,0,0,null,null,0,0,null,null,0,0,null,null,0,0,null,null,0,0,null,null,0,0,null,null,0,0,null,null,0,0,null,null,0,0,null,0,0,"","","","","",""]
[null,9,16,"1988-09-16",null,null,0,0,null,null,0,0,null,null,0,0,null,null,0,0,null,null,0,0,null,null,0,0,null,null,0,0,null,null,0,0,null,null,0,0,null,null,0,0,null,null,0,0,null,null,0,0,null,0,0,"","","","","",""]
[null,9,17,"1988-09-17",null,null,0,0,null,null,0,0,null,null,0,0,null,null,0,0,null,null,0,0,null,null,0,0,null,null,0,0,null,null,0,0,null,null,0,0,null,null,0,0,null,null,0,0,null,null,0,0,null,0,0,"","","","","",""]
[null,9,18,"1988-09-18",null,null,0,0,null,null,0,0,null,null,0,0,null,null,0,0,null,null,0,0,null,null,0,0,null,null,0,0,null,null,0,0,null,null,0,0,null,null,0,0,null,null,0,0,null,null,0,0,null,0,0,"","","","","",""]
[null,9,19,"1988-09-19",null,null,0,0,null,null,0,0,null,null,0,0,null,null,0,0,null,null,0,0,null,null,0,0,null,null,0,0,null,null,0,0,null,null,0,0,null,null,0,0,null,null,0,0,null,null,0,0,null,0,0,"","","","","",""]
[null,9,20,"1988-09-20",null,null,0,0,null,null,0,0,null,null,0,0,null,null,0,0,null,null,0,0,null,null,0,0,null,null,0,0,null,null,0,0,null,null,0,0,null,null,0,0,null,null,0,0,null,null,0,0,null,0,0,"","","","","",""]
[null,9,21,"1988-09-21",null,null,0,0,null,null,0,0,null,null,0,0,null,null,0,0,null,null,0,0,null,null,0,0,null,null,0,0,null,null,0,0,null,null,0,0,null,null,0,0,null,null,0,0,null,null,0,0,null,0,0,"","","","","",""]
[null,9,22,"1988-09-22",null,null,0,0,null,null,0,0,null,null,0,0,null,null,0,0,null,null,0,0,null,null,0,0,null,null,0,0,null,null,0,0,null,null,0,0,null,null,0,0,null,null,0,0,null,null,0,0,null,0,0,"","","","","",""]
[null,9,23,"1988-09-23",null,null,0,0,null,null,0,0,null,null,0,0,null,null,0,0,null,null,0,0,null,null,0,0,null,null,0,0,null,null,0,0,null,null,0,0,null,null,0,0,null,null,0,0,null,null,0,0,null,0,0,"","","","","",""]
[null,9,24,"1988-09-24",null,null,0,0,null,null,0,0,null,null,0,0,null,null,0,0,null,null,0,0,null,null,0,0,null,null,0,0,null,null,0,0,null,null,0,0,null,null,0,0,null,null,0,0,null,null,0,0,null,0,0,"","","","","",""]
[null,9,25,"1988-09-25",null,null,0,0,null,null,0,0,null,null,0,0,null,null,0,0,null,null,0,0,null,null,0,0,null,null,0,0,null,null,0,0,null,null,0,0,null,null,0,0,null,null,0,0,null,null,0,0,null,0,0,"","","","","",""]
[null,9,26,"1988-09-26",null,null,0,0,null,null,0,0,null,null,0,0,null,null,0,0,null,null,0,0,null,null,0,0,null,null,0,0,null,null,0,0,null,null,0,0,null,null,0,0,null,null,0,0,null,null,0,0,null,0,0,"","","","","",""]
[null,9,27,"1988-09-27",null,null,0,0,null,null,0,0,null,null,0,0,null,null,0,0,null,null,0,0,null,null,0,0,null,null,0,0,null,null,0,0,null,null,0,0,null,null,0,0,null,null,0,0,null,null,0,0,null,0,0,"","","","","",""]
[null,9,28,"1988-09-28",null,null,0,0,null,null,0,0,null,null,0,0,null,null,0,0,null,null,0,0,null,null,0,0,null,null,0,0,null,null,0,0,null,null,0,0,null,null,0,0,null,null,0,0,null,null,0,0,null,0,0,"","","","","",""]
[null,9,29,"1988-09-29",null,null,0,0,null,null,0,0,null,null,0,0,null,null,0,0,null,null,0,0,null,null,0,0,null,null,0,0,null,null,0,0,null,null,0,0,null,null,0,0,null,null,0,0,null,null,0,0,null,0,0,"","","","","",""]
[null,9,30,"1988-09-30",null,null,0,0,null,null,0,0,null,null,0,0,null,null,0,0,null,null,0,0,null,null,0,0,null,null,0,0,null,null,0,0,null,null,0,0,null,null,0,0,null,null,0,0,null,null,0,0,null,0,0,"","","","","",""]
[null,10,1,"1988-10-01",null,null,0,0,null,null,0,0,null,null,0,0,null,null,0,0,null,null,0,0,null,null,0,0,null,null,0,0,null,null,0,0,null,null,0,0,null,null,0,0,null,null,0,0,null,null,0,0,null,0,0,"","","","","",""]
[null,10,2,"1988-10-02",null,null,0,0,null,null,0,0,null,null,0,0,null,null,0,0,null,null,0,0,null,null,0,0,null,null,0,0,null,null,0,0,null,null,0,0,null,null,0,0,null,null,0,0,null,null,0,0,null,0,0,"","","","","",""]
[null,10,3,"1988-10-03",null,null,0,0,null,null,0,0,null,null,0,0,null,null,0,0,null,null,0,0,null,null,0,0,null,null,0,0,null,null,0,0,null,null,0,0,null,null,0,0,null,null,0,0,null,null,0,0,null,0,0,"","","","","",""]
[null,10,4,"1988-10-04",null,null,0,0,null,null,0,0,null,null,0,0,null,null,0,0,null,null,0,0,null,null,0,0,null,null,0,0,null,null,0,0,null,null,0,0,null,null,0,0,null,null,0,0,null,null,0,0,null,0,0,"","","","","",""]
[null,10,5,"1988-10-05",null,null,0,0,null,null,0,0,null,null,0,0,null,null,0,0,null,null,0,0,null,null,0,0,null,null,0,0,null,null,0,0,null,null,0,0,null,null,0,0,null,null,0,0,null,null,0,0,null,0,0,"","","","","",""]
[null,10,6,"1988-10-06",null,null,0,0,null,null,0,0,null,null,0,0,null,null,0,0,null,null,0,0,null,null,0,0,null,null,0,0,null,null,0,0,null,null,0,0,null,null,0,0,null,null,0,0,null,null,0,0,null,0,0,"","","","","",""]
[null,10,7,"1988-10-07",null,null,0,0,null,null,0,0,null,null,0,0,null,null,0,0,null,null,0,0,null,null,0,0,null,null,0,0,null,null,0,0,null,null,0,0,null,null,0,0,null,null,0,0,null,null,0,0,null,0,0,"","","","","",""]
[null,10,8,"1988-10-08",null,null,0,0,null,null,0,0,null,null,0,0,null,null,0,0,null,null,0,0,null,null,0,0,null,null,0,0,null,null,0,0,null,null,0,0,null,null,0,0,null,null,0,0,null,null,0,0,null,0,0,"","","","","",""]
[null,10,9,"1988-10-09",null,null,0,0,null,null,0,0,null,null,0,0,null,null,0,0,null,null,0,0,null,null,0,0,null,null,0,0,null,null,0,0,null,null,0,0,null,null,0,0,null,null,0,0,null,null,0,0,null,0,0,"","","","","",""]
[null,10,10,"1988-10-10",null,null,0,0,null,null,0,0,null,null,0,0,null,null,0,0,null,null,0,0,null,null,0,0,null,null,0,0,null,null,0,0,null,null,0,0,null,null,0,0,null,null,0,0,null,null,0,0,null,0,0,"","","","","",""]
[null,10,11,"1988-10-11",null,null,0,0,null,null,0,0,null,null,0,0,null,null,0,0,null,null,0,0,null,null,0,0,null,null,0,0,null,null,0,0,null,null,0,0,null,null,0,0,null,null,0,0,null,null,0,0,null,0,0,"","","","","",""]
[null,10,12,"1988-10-12",null,null,0,0,null,null,0,0,null,null,0,0,null,null,0,0,null,null,0,0,null,null,0,0,null,null,0,0,null,null,0,0,null,null,0,0,null,null,0,0,null,null,0,0,null,null,0,0,null,0,0,"","","","","",""]
[null,10,13,"1988-10-13",null,null,0,0,null,null,0,0,null,null,0,0,null,null,0,0,null,null,0,0,null,null,0,0,null,null,0,0,null,null,0,0,null,null,0,0,null,null,0,0,null,null,0,0,null,null,0,0,null,0,0,"","","","","",""]
[null,10,14,"1988-10-14",null,null,0,0,null,null,0,0,null,null,0,0,null,null,0,0,null,null,0,0,null,null,0,0,null,null,0,0,null,null,0,0,null,null,0,0,null,null,0,0,null,null,0,0,null,null,0,0,null,0,0,"","","","","",""]
[null,10,15,"1988-10-15",null,null,0,0,null,null,0,0,null,null,0,0,null,null,0,0,null,null,0,0,null,null,0,0,null,null,0,0,null,null,0,0,null,null,0,0,null,null,0,0,null,null,0,0,null,null,0,0,null,0,0,"","","","","",""]
[null,10,16,"1988-10-16",null,null,0,0,null,null,0,0,null,null,0,0,null,null,0,0,null,null,0,0,null,null,0,0,null,null,0,0,null,null,0,0,null,null,0,0,null,null,0,0,null,null,0,0,null,null,0,0,null,0,0,"","","","","",""]
[null,10,17,"1988-10-17",null,null,0,0,null,null,0,0,null,null,0,0,null,null,0,0,null,null,0,0,null,null,0,0,null,null,0,0,null,null,0,0,null,null,0,0,null,null,0,0,null,null,0,0,null,null,0,0,null,0,0,"","","","","",""]
[null,10,18,"1988-10-18",null,null,0,0,null,null,0,0,null,null,0,0,null,null,0,0,null,null,0,0,null,null,0,0,null,null,0,0,null,null,0,0,null,null,0,0,null,null,0,0,null,null,0,0,null,null,0,0,null,0,0,"","","","","",""]
[null,10,19,"1988-10-19",null,null,0,0,null,null,0,0,null,null,0,0,null,null,0,0,null,null,0,0,null,null,0,0,null,null,0,0,null,null,0,0,null,null,0,0,null,null,0,0,null,null,0,0,null,null,0,0,null,0,0,"","","","","",""]
[null,10,20,"1988-10-20",null,null,0,0,null,null,0,0,null,null,0,0,null,null,0,0,null,null,0,0,null,null,0,0,null,null,0,0,null,null,0,0,null,null,0,0,null,null,0,0,null,null,0,0,null,null,0,0,null,0,0,"","","","","",""]
[null,10,21,"1988-10-21",null,null,0,0,null,null,0,0,null,null,0,0,null,null,0,0,null,null,0,0,null,null,0,0,null,null,0,0,null,null,0,0,null,null,0,0,null,null,0,0,null,null,0,0,null,null,0,0,null,0,0,"","","","","",""]
[null,10,22,"1988-10-22",null,null,0,0,null,null,0,0,null,null,0,0,null,null,0,0,null,null,0,0,null,null,0,0,null,null,0,0,null,null,0,0,null,null,0,0,null,null,0,0,null,null,0,0,null,null,0,0,null,0,0,"","","","","",""]
[null,10,23,"1988-10-23",null,null,0,0,null,null,0,0,null,null,0,0,null,null,0,0,null,null,0,0,null,null,0,0,null,null,0,0,null,null,0,0,null,null,0,0,null,null,0,0,null,null,0,0,null,null,0,0,null,0,0,"","","","","",""]
[null,10,24,"1988-10-24",null,null,0,0,null,null,0,0,null,null,0,0,null,null,0,0,null,null,0,0,null,null,0,0,null,null,0,0,null,null,0,0,null,null,0,0,null,null,0,0,null,null,0,0,null,null,0,0,null,0,0,"","","","","",""]
[null,10,25,"1988-10-25",null,null,0,0,null,null,0,0,null,null,0,0,null,null,0,0,null,null,0,0,null,null,0,0,null,null,0,0,null,null,0,0,null,null,0,0,null,null,0,0,null,null,0,0,null,null,0,0,null,0,0,"","","","","",""]
[null,10,26,"1988-10-26",null,null,0,0,null,null,0,0,null,null,0,0,null,null,0,0,null,null,0,0,null,null,0,0,null,null,0,0,null,null,0,0,null,null,0,0,null,null,0,0,null,null,0,0,null,null,0,0,null,0,0,"","","","","",""]
[null,10,27,"1988-10-27",null,null,0,0,null,null,0,0,null,null,0,0,null,null,0,0,null,null,0,0,null,null,0,0,null,null,0,0,null,null,0,0,null,null,0,0,null,null,0,0,null,null,0,0,null,null,0,0,null,0,0,"","","","","",""]
[null,10,28,"1988-10-28",null,null,0,0,null,null,0,0,null,null,0,0,null,null,0,0,null,null,0,0,null,null,0,0,null,null,0,0,null,null,0,0,null,null,0,0,null,null,0,0,null,null,0,0,null,null,0,0,null,0,0,"","","","","",""]
[null,10,29,"1988-10-29",null,null,0,0,null,null,0,0,null,null,0,0,null,null,0,0,null,null,0,0,null,null,0,0,null,null,0,0,null,null,0,0,null,null,0,0,null,null,0,0,null,null,0,0,null,null,0,0,null,0,0,"","","","","",""]
[null,10,30,"1988-10-30",null,null,0,0,null,null,0,0,null,null,0,0,null,null,0,0,null,null,0,0,null,null,0,0,null,null,0,0,null,null,0,0,null,null,0,0,null,null,0,0,null,null,0,0,null,null,0,0,null,0,0,"","","","","",""]
[null,10,31,"1988-10-31",null,null,0,0,null,null,0,0,null,null,0,0,null,null,0,0,null,null,0,0,null,null,0,0,null,null,0,0,null,null,0,0,null,null,0,0,null,null,0,0,null,null,0,0,null,null,0,0,null,0,0,"","","","","",""]
[null,11,1,"1988-11-01",null,null,0,0,null,null,0,0,null,null,0,0,null,null,0,0,null,null,0,0,null,null,0,0,null,null,0,0,null,null,0,0,null,null,0,0,null,null,0,0,null,null,0,0,null,null,0,0,null,0,0,"","","","","",""]
[null,11,2,"1988-11-02",null,null,0,0,null,null,0,0,null,null,0,0,null,null,0,0,null,null,0,0,null,null,0,0,null,null,0,0,null,null,0,0,null,null,0,0,null,null,0,0,null,null,0,0,null,null,0,0,null,0,0,"","","","","",""]
[null,11,3,"1988-11-03",null,null,0,0,null,null,0,0,null,null,0,0,null,null,0,0,null,null,0,0,null,null,0,0,null,null,0,0,null,null,0,0,null,null,0,0,null,null,0,0,null,null,0,0,null,null,0,0,null,0,0,"","","","","",""]
[null,11,4,"1988-11-04",null,null,0,0,null,null,0,0,null,null,0,0,null,null,0,0,null,null,0,0,null,null,0,0,null,null,0,0,null,null,0,0,null,null,0,0,null,null,0,0,null,null,0,0,null,null,0,0,null,0,0,"","","","","",""]
[null,11,5,"1988-11-05",null,null,0,0,null,null,0,0,null,null,0,0,null,null,0,0,null,null,0,0,null,null,0,0,null,null,0,0,null,null,0,0,null,null,0,0,null,null,0,0,null,null,0,0,null,null,0,0,null,0,0,"","","","","",""]
[null,11,6,"1988-11-06",null,null,0,0,null,null,0,0,null,null,0,0,null,null,0,0,null,null,0,0,null,null,0,0,null,null,0,0,null,null,0,0,null,null,0,0,null,null,0,0,null,null,0,0,null,null,0,0,null,0,0,"","","","","",""]
[null,11,7,"1988-11-07",null,null,0,0,null,null,0,0,null,null,0,0,null,null,0,0,null,null,0,0,null,null,0,0,null,null,0,0,null,null,0,0,null,null,0,0,null,null,0,0,null,null,0,0,null,null,0,0,null,0,0,"","","","","",""]
[null,11,8,"1988-11-08",null,null,0,0,null,null,0,0,null,null,0,0,null,null,0,0,null,null,0,0,null,null,0,0,null,null,0,0,null,null,0,0,null,null,0,0,null,null,0,0,null,null,0,0,null,null,0,0,null,0,0,"","","","","",""]
[null,11,9,"1988-11-09",null,null,0,0,null,null,0,0,null,null,0,0,null,null,0,0,null,null,0,0,null,null,0,0,null,null,0,0,null,null,0,0,null,null,0,0,null,null,0,0,null,null,0,0,null,null,0,0,null,0,0,"","","","","",""]
[null,11,10,"1988-11-10",null,null,0,0,null,null,0,0,null,null,0,0,null,null,0,0,null,null,0,0,null,null,0,0,null,null,0,0,null,null,0,0,null,null,0,0,null,null,0,0,null,null,0,0,null,null,0,0,null,0,0,"","","","","",""]
[null,11,11,"1988-11-11",null,null,0,0,null,null,0,0,null,null,0,0,null,null,0,0,null,null,0,0,null,null,0,0,null,null,0,0,null,null,0,0,null,null,0,0,null,null,0,0,null,null,0,0,null,null,0,0,null,0,0,"","","","","",""]
[null,11,12,"1988-11-12",null,null,0,0,null,null,0,0,null,null,0,0,null,null,0,0,null,null,0,0,null,null,0,0,null,null,0,0,null,null,0,0,null,null,0,0,null,null,0,0,null,null,0,0,null,null,0,0,null,0,0,"","","","","",""]
[null,11,13,"1988-11-13",null,null,0,0,null,null,0,0,null,null,0,0,null,null,0,0,null,null,0,0,null,null,0,0,null,null,0,0,null,null,0,0,null,null,0,0,null,null,0,0,null,null,0,0,null,null,0,0,null,0,0,"","","","","",""]
[null,11,14,"1988-11-14",null,null,0,0,null,null,0,0,null,null,0,0,null,null,0,0,null,null,0,0,null,null,0,0,null,null,0,0,null,null,0,0,null,null,0,0,null,null,0,0,null,null,0,0,null,null,0,0,null,0,0,"","","","","",""]
[null,11,15,"1988-11-15",null,null,0,0,null,null,0,0,null,null,0,0,null,null,0,0,null,null,0,0,null,null,0,0,null,null,0,0,null,null,0,0,null,null,0,0,null,null,0,0,null,null,0,0,null,null,0,0,null,0,0,"","","","","",""]
[null,11,16,"1988-11-16",null,null,0,0,null,null,0,0,null,null,0,0,null,null,0,0,null,null,0,0,null,null,0,0,null,null,0,0,null,null,0,0,null,null,0,0,null,null,0,0,null,null,0,0,null,null,0,0,null,0,0,"","","","","",""]
[null,11,17,"1988-11-17",null,null,0,0,null,null,0,0,null,null,0,0,null,null,0,0,null,null,0,0,null,null,0,0,null,null,0,0,null,null,0,0,null,null,0,0,null,null,0,0,null,null,0,0,null,null,0,0,null,0,0,"","","","","",""]
[null,11,18,"1988-11-18",null,null,0,0,null,null,0,0,null,null,0,0,null,null,0,0,null,null,0,0,null,null,0,0,null,null,0,0,null,null,0,0,null,null,0,0,null,null,0,0,null,null,0,0,null,null,0,0,null,0,0,"","","","","",""]
[null,11,19,"1988-11-19",null,null,0,0,null,null,0,0,null,null,0,0,null,null,0,0,null,null,0,0,null,null,0,0,null,null,0,0,null,null,0,0,null,null,0,0,null,null,0,0,null,null,0,0,null,null,0,0,null,0,0,"","","","","",""]
[null,11,20,"1988-11-20",null,null,0,0,null,null,0,0,null,null,0,0,null,null,0,0,null,null,0,0,null,null,0,0,null,null,0,0,null,null,0,0,null,null,0,0,null,null,0,0,null,null,0,0,null,null,0,0,null,0,0,"","","","","",""]
[null,11,21,"1988-11-21",null,null,0,0,null,null,0,0,null,null,0,0,null,null,0,0,null,null,0,0,null,null,0,0,null,null,0,0,null,null,0,0,null,null,0,0,null,null,0,0,null,null,0,0,null,null,0,0,null,0,0,"","","","","",""]
[null,11,22,"1988-11-22",null,null,0,0,null,null,0,0,null,null,0,0,null,null,0,0,null,null,0,0,null,null,0,0,null,null,0,0,null,null,0,0,null,null,0,0,null,null,0,0,null,null,0,0,null,null,0,0,null,0,0,"","","","","",""]
[null,11,23,"1988-11-23",null,null,0,0,null,null,0,0,null,null,0,0,null,null,0,0,null,null,0,0,null,null,0,0,null,null,0,0,null,null,0,0,null,null,0,0,null,null,0,0,null,null,0,0,null,null,0,0,null,0,0,"","","","","",""]
[null,11,24,"1988-11-24",null,null,0,0,null,null,0,0,null,null,0,0,null,null,0,0,null,null,0,0,null,null,0,0,null,null,0,0,null,null,0,0,null,null,0,0,null,null,0,0,null,null,0,0,null,null,0,0,null,0,0,"","","","","",""]
[null,11,25,"1988-11-25",null,null,0,0,null,null,0,0,null,null,0,0,null,null,0,0,null,null,0,0,null,null,0,0,null,null,0,0,null,null,0,0,null,null,0,0,null,null,0,0,null,null,0,0,null,null,0,0,null,0,0,"","","","","",""]
[null,11,26,"1988-11-26",null,null,0,0,null,null,0,0,null,null,0,0,null,null,0,0,null,null,0,0,null,null,0,0,null,null,0,0,null,null,0,0,null,null,0,0,null,null,0,0,null,null,0,0,null,null,0,0,null,0,0,"","","","","",""]
[null,11,27,"1988-11-27",null,null,0,0,null,null,0,0,null,null,0,0,null,null,0,0,null,null,0,0,null,null,0,0,null,null,0,0,null,null,0,0,null,null,0,0,null,null,0,0,null,null,0,0,null,null,0,0,null,0,0,"","","","","",""]
[null,11,28,"1988-11-28",null,null,0,0,null,null,0,0,null,null,0,0,null,null,0,0,null,null,0,0,null,null,0,0,null,null,0,0,null,null,0,0,null,null,0,0,null,null,0,0,null,null,0,0,null,null,0,0,null,0,0,"","","","","",""]
[null,11,29,"1988-11-29",null,null,0,0,null,null,0,0,null,null,0,0,null,null,0,0,null,null,0,0,null,null,0,0,null,null,0,0,null,null,0,0,null,null,0,0,null,null,0,0,null,null,0,0,null,null,0,0,null,0,0,"","","","","",""]
[null,11,30,"1988-11-30",null,null,0,0,null,null,0,0,null,null,0,0,null,null,0,0,null,null,0,0,null,null,0,0,null,null,0,0,null,null,0,0,null,null,0,0,null,null,0,0,null,null,0,0,null,null,0,0,null,0,0,"","","","","",""]
[null,12,1,"1988-12-01",null,null,0,0,null,null,0,0,null,null,0,0,null,null,0,0,null,null,0,0,null,null,0,0,null,null,0,0,null,null,0,0,null,null,0,0,null,null,0,0,null,null,0,0,null,null,0,0,null,0,0,"","","","","",""]
[null,12,2,"1988-12-02",null,null,0,0,null,null,0,0,null,null,0,0,null,null,0,0,null,null,0,0,null,null,0,0,null,null,0,0,null,null,0,0,null,null,0,0,null,null,0,0,null,null,0,0,null,null,0,0,null,0,0,"","","","","",""]
[null,12,3,"1988-12-03",null,null,0,0,null,null,0,0,null,null,0,0,null,null,0,0,null,null,0,0,null,null,0,0,null,null,0,0,null,null,0,0,null,null,0,0,null,null,0,0,null,null,0,0,null,null,0,0,null,0,0,"","","","","",""]
[null,12,4,"1988-12-04",null,null,0,0,null,null,0,0,null,null,0,0,null,null,0,0,null,null,0,0,null,null,0,0,null,null,0,0,null,null,0,0,null,null,0,0,null,null,0,0,null,null,0,0,null,null,0,0,null,0,0,"","","","","",""]
[null,12,5,"1988-12-05",null,null,0,0,null,null,0,0,null,null,0,0,null,null,0,0,null,null,0,0,null,null,0,0,null,null,0,0,null,null,0,0,null,null,0,0,null,null,0,0,null,null,0,0,null,null,0,0,null,0,0,"","","","","",""]
[null,12,6,"1988-12-06",null,null,0,0,null,null,0,0,null,null,0,0,null,null,0,0,null,null,0,0,null,null,0,0,null,null,0,0,null,null,0,0,null,null,0,0,null,null,0,0,null,null,0,0,null,null,0,0,null,0,0,"","","","","",""]
[null,12,7,"1988-12-07",null,null,0,0,null,null,0,0,null,null,0,0,null,null,0,0,null,null,0,0,null,null,0,0,null,null,0,0,null,null,0,0,null,null,0,0,null,null,0,0,null,null,0,0,null,null,0,0,null,0,0,"","","","","",""]
[null,12,8,"1988-12-08",null,null,0,0,null,null,0,0,null,null,0,0,null,null,0,0,null,null,0,0,null,null,0,0,null,null,0,0,null,null,0,0,null,null,0,0,null,null,0,0,null,null,0,0,null,null,0,0,null,0,0,"","","","","",""]
[null,12,9,"1988-12-09",null,null,0,0,null,null,0,0,null,null,0,0,null,null,0,0,null,null,0,0,null,null,0,0,null,null,0,0,null,null,0,0,null,null,0,0,null,null,0,0,null,null,0,0,null,null,0,0,null,0,0,"","","","","",""]
[null,12,10,"1988-12-10",null,null,0,0,null,null,0,0,null,null,0,0,null,null,0,0,null,null,0,0,null,null,0,0,null,null,0,0,null,null,0,0,null,null,0,0,null,null,0,0,null,null,0,0,null,null,0,0,null,0,0,"","","","","",""]
[null,12,11,"1988-12-11",null,null,0,0,null,null,0,0,null,null,0,0,null,null,0,0,null,null,0,0,null,null,0,0,null,null,0,0,null,null,0,0,null,null,0,0,null,null,0,0,null,null,0,0,null,null,0,0,null,0,0,"","","","","",""]
[null,12,12,"1988-12-12",null,null,0,0,null,null,0,0,null,null,0,0,null,null,0,0,null,null,0,0,null,null,0,0,null,null,0,0,null,null,0,0,null,null,0,0,null,null,0,0,null,null,0,0,null,null,0,0,null,0,0,"","","","","",""]
[null,12,13,"1988-12-13",null,null,0,0,null,null,0,0,null,null,0,0,null,null,0,0,null,null,0,0,null,null,0,0,null,null,0,0,null,null,0,0,null,null,0,0,null,null,0,0,null,null,0,0,null,null,0,0,null,0,0,"","","","","",""]
[null,12,14,"1988-12-14",null,null,0,0,null,null,0,0,null,null,0,0,null,null,0,0,null,null,0,0,null,null,0,0,null,null,0,0,null,null,0,0,null,null,0,0,null,null,0,0,null,null,0,0,null,null,0,0,null,0,0,"","","","","",""]
[null,12,15,"1988-12-15",null,null,0,0,null,null,0,0,null,null,0,0,null,null,0,0,null,null,0,0,null,null,0,0,null,null,0,0,null,null,0,0,null,null,0,0,null,null,0,0,null,null,0,0,null,null,0,0,null,0,0,"","","","","",""]
[null,12,16,"1988-12-16",null,null,0,0,null,null,0,0,null,null,0,0,null,null,0,0,null,null,0,0,null,null,0,0,null,null,0,0,null,null,0,0,null,null,0,0,null,null,0,0,null,null,0,0,null,null,0,0,null,0,0,"","","","","",""]
[null,12,17,"1988-12-17",null,null,0,0,null,null,0,0,null,null,0,0,null,null,0,0,null,null,0,0,null,null,0,0,null,null,0,0,null,null,0,0,null,null,0,0,null,null,0,0,null,null,0,0,null,null,0,0,null,0,0,"","","","","",""]
[null,12,18,"1988-12-18",null,null,0,0,null,null,0,0,null,null,0,0,null,null,0,0,null,null,0,0,null,null,0,0,null,null,0,0,null,null,0,0,null,null,0,0,null,null,0,0,null,null,0,0,null,null,0,0,null,0,0,"","","","","",""]
[null,12,19,"1988-12-19",null,null,0,0,null,null,0,0,null,null,0,0,null,null,0,0,null,null,0,0,null,null,0,0,null,null,0,0,null,null,0,0,null,null,0,0,null,null,0,0,null,null,0,0,null,null,0,0,null,0,0,"","","","","",""]
[null,12,20,"1988-12-20",null,null,0,0,null,null,0,0,null,null,0,0,null,null,0,0,null,null,0,0,null,null,0,0,null,null,0,0,null,null,0,0,null,null,0,0,null,null,0,0,null,null,0,0,null,null,0,0,null,0,0,"","","","","",""]
[null,12,21,"1988-12-21",null,null,0,0,null,null,0,0,null,null,0,0,null,null,0,0,null,null,0,0,null,null,0,0,null,null,0,0,null,null,0,0,null,null,0,0,null,null,0,0,null,null,0,0,null,null,0,0,null,0,0,"","","","","",""]
[null,12,22,"1988-12-22",null,null,0,0,null,null,0,0,null,null,0,0,null,null,0,0,null,null,0,0,null,null,0,0,null,null,0,0,null,null,0,0,null,null,0,0,null,null,0,0,null,null,0,0,null,null,0,0,null,0,0,"","","","","",""]
[null,12,23,"1988-12-23",null,null,0,0,null,null,0,0,null,null,0,0,null,null,0,0,null,null,0,0,null,null,0,0,null,null,0,0,null,null,0,0,null,null,0,0,null,null,0,0,null,null,0,0,null,null,0,0,null,0,0,"","","","","",""]
[null,12,24,"1988-12-24",null,null,0,0,null,null,0,0,null,null,0,0,null,null,0,0,null,null,0,0,null,null,0,0,null,null,0,0,null,null,0,0,null,null,0,0,null,null,0,0,null,null,0,0,null,null,0,0,null,0,0,"","","","","",""]
[null,12,25,"1988-12-25",null,null,0,0,null,null,0,0,null,null,0,0,null,null,0,0,null,null,0,0,null,null,0,0,null,null,0,0,null,null,0,0,null,null,0,0,null,null,0,0,null,null,0,0,null,null,0,0,null,0,0,"","","","","",""]
[null,12,26,"1988-12-26",null,null,0,0,null,null,0,0,null,null,0,0,null,null,0,0,null,null,0,0,null,null,0,0,null,null,0,0,null,null,0,0,null,null,0,0,null,null,0,0,null,null,0,0,null,null,0,0,null,0,0,"","","","","",""]
[null,12,27,"1988-12-27",null,null,0,0,null,null,0,0,null,null,0,0,null,null,0,0,null,null,0,0,null,null,0,0,null,null,0,0,null,null,0,0,null,null,0,0,null,null,0,0,null,null,0,0,null,null,0,0,null,0,0,"","","","","",""]
[null,12,28,"1988-12-28",null,null,0,0,null,null,0,0,null,null,0,0,null,null,0,0,null,null,0,0,null,null,0,0,null,null,0,0,null,null,0,0,null,null,0,0,null,null,0,0,null,null,0,0,null,null,0,0,null,0,0,"","","","","",""]
[null,12,29,"1988-12-29",null,null,0,0,null,null,0,0,null,null,0,0,null,null,0,0,null,null,0,0,null,null,0,0,null,null,0,0,null,null,0,0,null,null,0,0,null,null,0,0,null,null,0,0,null,null,0,0,null,0,0,"","","","","",""]
[null,12,30,"1988-12-30",null,null,0,0,null,null,0,0,null,null,0,0,null,null,0,0,null,null,0,0,null,null,0,0,null,null,0,0,null,null,0,0,null,null,0,0,null,null,0,0,null,null,0,0,null,null,0,0,null,0,0,"","","","","",""]
[null,12,31,"1988-12-31",null,null,0,0,null,null,0,0,null,null,0,0,null,null,0,0,null,null,0,0,null,null,0,0,null,null,0,0,null,null,0,0,null,null,0,0,null,null,0,0,null,null,0,0,null,null,0,0,null,0,0,"","","","","",""]
[null,1,1,{"$f":"DATE($E$1+1,B326,C326)","v":"1989-01-01"},null,null,0,0,null,null,0,0,null,null,0,0,null,null,0,0,null,null,0,0,null,null,0,0,null,null,0,0,null,null,0,0,null,null,0,0,null,null,0,0,null,null,0,0,null,null,0,0,null,0,0,"","","","","",""]
[null,1,2,"1989-01-02",null,null,0,0,null,null,0,0,null,null,0,0,null,null,0,0,null,null,0,0,null,null,0,0,null,null,0,0,null,null,0,0,null,null,0,0,null,null,0,0,null,null,0,0,null,null,0,0,null,0,0,"","","","","",""]
[null,1,3,"1989-01-03",null,null,0,0,null,null,0,0,null,null,0,0,null,null,0,0,null,null,0,0,null,null,0,0,null,null,0,0,null,null,0,0,null,null,0,0,null,null,0,0,null,null,0,0,null,null,0,0,null,0,0,"","","","","",""]
[null,1,4,"1989-01-04",null,null,0,0,null,null,0,0,null,null,0,0,null,null,0,0,null,null,0,0,null,null,0,0,null,null,0,0,null,null,0,0,null,null,0,0,null,null,0,0,null,null,0,0,null,null,0,0,null,0,0,"","","","","",""]
[null,1,5,"1989-01-05",null,null,0,0,null,null,0,0,null,null,0,0,null,null,0,0,null,null,0,0,null,null,0,0,null,null,0,0,null,null,0,0,null,null,0,0,null,null,0,0,null,null,0,0,null,null,0,0,null,0,0,"","","","","",""]
[null,1,6,"1989-01-06",null,null,0,0,null,null,0,0,null,null,0,0,null,null,0,0,null,null,0,0,null,null,0,0,null,null,0,0,null,null,0,0,null,null,0,0,null,null,0,0,null,null,0,0,null,null,0,0,null,0,0,"","","","","",""]
[null,1,7,"1989-01-07",null,null,0,0,null,null,0,0,null,null,0,0,null,null,0,0,null,null,0,0,null,null,0,0,null,null,0,0,null,null,0,0,null,null,0,0,null,null,0,0,null,null,0,0,null,null,0,0,null,0,0,"","","","","",""]
[null,1,8,"1989-01-08",null,null,0,0,null,null,0,0,null,null,0,0,null,null,0,0,null,null,0,0,null,null,0,0,null,null,0,0,null,null,0,0,null,null,0,0,null,null,0,0,null,null,0,0,null,null,0,0,null,0,0,"","","","","",""]
[null,1,9,"1989-01-09",null,null,0,0,null,null,0,0,null,null,0,0,null,null,0,0,null,null,0,0,null,null,0,0,null,null,0,0,null,null,0,0,null,null,0,0,null,null,0,0,null,null,0,0,null,null,0,0,null,0,0,"","","","","",""]
[null,1,10,"1989-01-10",null,null,0,0,null,null,0,0,null,null,0,0,null,null,0,0,null,null,0,0,null,null,0,0,null,null,0,0,null,null,0,0,null,null,0,0,null,null,0,0,null,null,0,0,null,null,0,0,null,0,0,"","","","","",""]
[null,1,11,"1989-01-11",null,null,0,0,null,null,0,0,null,null,0,0,null,null,0,0,null,null,0,0,null,null,0,0,null,null,0,0,null,null,0,0,null,null,0,0,null,null,0,0,null,null,0,0,null,null,0,0,null,0,0,"","","","","",""]
[null,1,12,"1989-01-12",null,null,0,0,null,null,0,0,null,null,0,0,null,null,0,0,null,null,0,0,null,null,0,0,null,null,0,0,null,null,0,0,null,null,0,0,null,null,0,0,null,null,0,0,null,null,0,0,null,0,0,"","","","","",""]
[null,1,13,"1989-01-13",null,null,0,0,null,null,0,0,null,null,0,0,null,null,0,0,null,null,0,0,null,null,0,0,null,null,0,0,null,null,0,0,null,null,0,0,null,null,0,0,null,null,0,0,null,null,0,0,null,0,0,"","","","","",""]
[null,1,14,"1989-01-14",null,null,0,0,null,null,0,0,null,null,0,0,null,null,0,0,null,null,0,0,null,null,0,0,null,null,0,0,null,null,0,0,null,null,0,0,null,null,0,0,null,null,0,0,null,null,0,0,null,0,0,"","","","","",""]
[null,1,15,"1989-01-15",null,null,0,0,null,null,0,0,null,null,0,0,null,null,0,0,null,null,0,0,null,null,0,0,null,null,0,0,null,null,0,0,null,null,0,0,null,null,0,0,null,null,0,0,null,null,0,0,null,0,0,"","","","","",""]
[null,1,16,"1989-01-16",null,null,0,0,null,null,0,0,null,null,0,0,null,null,0,0,null,null,0,0,null,null,0,0,null,null,0,0,null,null,0,0,null,null,0,0,null,null,0,0,null,null,0,0,null,null,0,0,null,0,0,"","","","","",""]
[null,1,17,"1989-01-17",null,null,0,0,null,null,0,0,null,null,0,0,null,null,0,0,null,null,0,0,null,null,0,0,null,null,0,0,null,null,0,0,null,null,0,0,null,null,0,0,null,null,0,0,null,null,0,0,null,0,0,"","","","","",""]
[null,1,18,"1989-01-18",null,null,0,0,null,null,0,0,null,null,0,0,null,null,0,0,null,null,0,0,null,null,0,0,null,null,0,0,null,null,0,0,null,null,0,0,null,null,0,0,null,null,0,0,null,null,0,0,null,0,0,"","","","","",""]
[null,1,19,"1989-01-19",null,null,0,0,null,null,0,0,null,null,0,0,null,null,0,0,null,null,0,0,null,null,0,0,null,null,0,0,null,null,0,0,null,null,0,0,null,null,0,0,null,null,0,0,null,null,0,0,null,0,0,"","","","","",""]
[null,1,20,"1989-01-20",null,null,0,0,null,null,0,0,null,null,0,0,null,null,0,0,null,null,0,0,null,null,0,0,null,null,0,0,null,null,0,0,null,null,0,0,null,null,0,0,null,null,0,0,null,null,0,0,null,0,0,"","","","","",""]
[null,1,21,"1989-01-21",null,null,0,0,null,null,0,0,null,null,0,0,null,null,0,0,null,null,0,0,null,null,0,0,null,null,0,0,null,null,0,0,null,null,0,0,null,null,0,0,null,null,0,0,null,null,0,0,null,0,0,"","","","","",""]
[null,1,22,"1989-01-22",null,null,0,0,null,null,0,0,null,null,0,0,null,null,0,0,null,null,0,0,null,null,0,0,null,null,0,0,null,null,0,0,null,null,0,0,null,null,0,0,null,null,0,0,null,null,0,0,null,0,0,"","","","","",""]
[null,1,23,"1989-01-23",null,null,0,0,null,null,0,0,null,null,0,0,null,null,0,0,null,null,0,0,null,null,0,0,null,null,0,0,null,null,0,0,null,null,0,0,null,null,0,0,null,null,0,0,null,null,0,0,null,0,0,"","","","","",""]
[null,1,24,"1989-01-24",null,null,0,0,null,null,0,0,null,null,0,0,null,null,0,0,null,null,0,0,null,null,0,0,null,null,0,0,null,null,0,0,null,null,0,0,null,null,0,0,null,null,0,0,null,null,0,0,null,0,0,"","","","","",""]
[null,1,25,"1989-01-25",null,null,0,0,null,null,0,0,null,null,0,0,null,null,0,0,null,null,0,0,null,null,0,0,null,null,0,0,null,null,0,0,null,null,0,0,null,null,0,0,null,null,0,0,null,null,0,0,null,0,0,"","","","","",""]
[null,1,26,"1989-01-26",null,null,0,0,null,null,0,0,null,null,0,0,null,null,0,0,null,null,0,0,null,null,0,0,null,null,0,0,null,null,0,0,null,null,0,0,null,null,0,0,null,null,0,0,null,null,0,0,null,0,0,"","","","","",""]
[null,1,27,"1989-01-27",null,null,0,0,null,null,0,0,null,null,0,0,null,null,0,0,null,null,0,0,null,null,0,0,null,null,0,0,null,null,0,0,null,null,0,0,null,null,0,0,null,null,0,0,null,null,0,0,null,0,0,"","","","","",""]
[null,1,28,"1989-01-28",null,null,0,0,null,null,0,0,null,null,0,0,null,null,0,0,null,null,0,0,null,null,0,0,null,null,0,0,null,null,0,0,null,null,0,0,null,null,0,0,null,null,0,0,null,null,0,0,null,0,0,"","","","","",""]
[null,1,29,"1989-01-29",null,null,0,0,null,null,0,0,null,null,0,0,null,null,0,0,null,null,0,0,null,null,0,0,null,null,0,0,null,null,0,0,null,null,0,0,null,null,0,0,null,null,0,0,null,null,0,0,null,0,0,"","","","","",""]
[null,1,30,"1989-01-30",null,null,0,0,null,null,0,0,null,null,0,0,null,null,0,0,null,null,0,0,null,null,0,0,null,null,0,0,null,null,0,0,null,null,0,0,null,null,0,0,null,null,0,0,null,null,0,0,null,0,0,"","","","","",""]
[null,1,31,"1989-01-31",null,null,0,0,null,null,0,0,null,null,0,0,null,null,0,0,null,null,0,0,null,null,0,0,null,null,0,0,null,null,0,0,null,null,0,0,null,null,0,0,null,null,0,0,null,null,0,0,null,0,0,"","","","","",""]
[null,2,1,"1989-02-01",null,null,0,0,null,null,0,0,null,null,0,0,null,null,0,0,null,null,0,0,null,null,0,0,null,null,0,0,null,null,0,0,null,null,0,0,null,null,0,0,null,null,0,0,null,null,0,0,null,0,0,"","","","","",""]
[null,2,2,"1989-02-02",null,null,0,0,null,null,0,0,null,null,0,0,null,null,0,0,null,null,0,0,null,null,0,0,null,null,0,0,null,null,0,0,null,null,0,0,null,null,0,0,null,null,0,0,null,null,0,0,null,0,0,"","","","","",""]
[null,2,3,"1989-02-03",null,null,0,0,null,null,0,0,null,null,0,0,null,null,0,0,null,null,0,0,null,null,0,0,null,null,0,0,null,null,0,0,null,null,0,0,null,null,0,0,null,null,0,0,null,null,0,0,null,0,0,"","","","","",""]
[null,2,4,"1989-02-04",null,null,0,0,null,null,0,0,null,null,0,0,null,null,0,0,null,null,0,0,null,null,0,0,null,null,0,0,null,null,0,0,null,null,0,0,null,null,0,0,null,null,0,0,null,null,0,0,null,0,0,"","","","","",""]
[null,2,5,"1989-02-05",null,null,0,0,null,null,0,0,null,null,0,0,null,null,0,0,null,null,0,0,null,null,0,0,null,null,0,0,null,null,0,0,null,null,0,0,null,null,0,0,null,null,0,0,null,null,0,0,null,0,0,"","","","","",""]
[null,2,6,"1989-02-06",null,null,0,0,null,null,0,0,null,null,0,0,null,null,0,0,null,null,0,0,null,null,0,0,null,null,0,0,null,null,0,0,null,null,0,0,null,null,0,0,null,null,0,0,null,null,0,0,null,0,0,"","","","","",""]
[null,2,7,"1989-02-07",null,null,0,0,null,null,0,0,null,null,0,0,null,null,0,0,null,null,0,0,null,null,0,0,null,null,0,0,null,null,0,0,null,null,0,0,null,null,0,0,null,null,0,0,null,null,0,0,null,0,0,"","","","","",""]
[null,2,8,"1989-02-08",null,null,0,0,null,null,0,0,null,null,0,0,null,null,0,0,null,null,0,0,null,null,0,0,null,null,0,0,null,null,0,0,null,null,0,0,null,null,0,0,null,null,0,0,null,null,0,0,null,0,0,"","","","","",""]
[null,2,9,"1989-02-09",null,null,0,0,null,null,0,0,null,null,0,0,null,null,0,0,null,null,0,0,null,null,0,0,null,null,0,0,null,null,0,0,null,null,0,0,null,null,0,0,null,null,0,0,null,null,0,0,null,0,0,"","","","","",""]
[null,2,10,"1989-02-10",null,null,0,0,null,null,0,0,null,null,0,0,null,null,0,0,null,null,0,0,null,null,0,0,null,null,0,0,null,null,0,0,null,null,0,0,null,null,0,0,null,null,0,0,null,null,0,0,null,0,0,"","","","","",""]
[null,2,11,"1989-02-11",null,null,0,0,null,null,0,0,null,null,0,0,null,null,0,0,null,null,0,0,null,null,0,0,null,null,0,0,null,null,0,0,null,null,0,0,null,null,0,0,null,null,0,0,null,null,0,0,null,0,0,"","","","","",""]
[null,2,12,"1989-02-12",null,null,0,0,null,null,0,0,null,null,0,0,null,null,0,0,null,null,0,0,null,null,0,0,null,null,0,0,null,null,0,0,null,null,0,0,null,null,0,0,null,null,0,0,null,null,0,0,null,0,0,"","","","","",""]
[null,2,13,"1989-02-13",null,null,0,0,null,null,0,0,null,null,0,0,null,null,0,0,null,null,0,0,null,null,0,0,null,null,0,0,null,null,0,0,null,null,0,0,null,null,0,0,null,null,0,0,null,null,0,0,null,0,0,"","","","","",""]
[null,2,14,"1989-02-14",null,null,0,0,null,null,0,0,null,null,0,0,null,null,0,0,null,null,0,0,null,null,0,0,null,null,0,0,null,null,0,0,null,null,0,0,null,null,0,0,null,null,0,0,null,null,0,0,null,0,0,"","","","","",""]
[null,2,15,"1989-02-15",null,null,0,0,null,null,0,0,null,null,0,0,null,null,0,0,null,null,0,0,null,null,0,0,null,null,0,0,null,null,0,0,null,null,0,0,null,null,0,0,null,null,0,0,null,null,0,0,null,0,0,"","","","","",""]
[null,2,16,"1989-02-16",null,null,0,0,null,null,0,0,null,null,0,0,null,null,0,0,null,null,0,0,null,null,0,0,null,null,0,0,null,null,0,0,null,null,0,0,null,null,0,0,null,null,0,0,null,null,0,0,null,0,0,"","","","","",""]
[null,2,17,"1989-02-17",null,null,0,0,null,null,0,0,null,null,0,0,null,null,0,0,null,null,0,0,null,null,0,0,null,null,0,0,null,null,0,0,null,null,0,0,null,null,0,0,null,null,0,0,null,null,0,0,null,0,0,"","","","","",""]
[null,2,18,"1989-02-18",null,null,0,0,null,null,0,0,null,null,0,0,null,null,0,0,null,null,0,0,null,null,0,0,null,null,0,0,null,null,0,0,null,null,0,0,null,null,0,0,null,null,0,0,null,null,0,0,null,0,0,"","","","","",""]
[null,2,19,"1989-02-19",null,null,0,0,null,null,0,0,null,null,0,0,null,null,0,0,null,null,0,0,null,null,0,0,null,null,0,0,null,null,0,0,null,null,0,0,null,null,0,0,null,null,0,0,null,null,0,0,null,0,0,"","","","","",""]
[null,2,20,"1989-02-20",null,null,0,0,null,null,0,0,null,null,0,0,null,null,0,0,null,null,0,0,null,null,0,0,null,null,0,0,null,null,0,0,null,null,0,0,null,null,0,0,null,null,0,0,null,null,0,0,null,0,0,"","","","","",""]
[null,2,21,"1989-02-21",null,null,0,0,null,null,0,0,null,null,0,0,null,null,0,0,null,null,0,0,null,null,0,0,null,null,0,0,null,null,0,0,null,null,0,0,null,null,0,0,null,null,0,0,null,null,0,0,null,0,0,"","","","","",""]
[null,2,22,"1989-02-22",null,null,0,0,null,null,0,0,null,null,0,0,null,null,0,0,null,null,0,0,null,null,0,0,null,null,0,0,null,null,0,0,null,null,0,0,null,null,0,0,null,null,0,0,null,null,0,0,null,0,0,"","","","","",""]
[null,2,23,"1989-02-23",null,null,0,0,null,null,0,0,null,null,0,0,null,null,0,0,null,null,0,0,null,null,0,0,null,null,0,0,null,null,0,0,null,null,0,0,null,null,0,0,null,null,0,0,null,null,0,0,null,0,0,"","","","","",""]
[null,2,24,"1989-02-24",null,null,0,0,null,null,0,0,null,null,0,0,null,null,0,0,null,null,0,0,null,null,0,0,null,null,0,0,null,null,0,0,null,null,0,0,null,null,0,0,null,null,0,0,null,null,0,0,null,0,0,"","","","","",""]
[null,2,25,"1989-02-25",null,null,0,0,null,null,0,0,null,null,0,0,null,null,0,0,null,null,0,0,null,null,0,0,null,null,0,0,null,null,0,0,null,null,0,0,null,null,0,0,null,null,0,0,null,null,0,0,null,0,0,"","","","","",""]
[null,2,26,"1989-02-26",null,null,0,0,null,null,0,0,null,null,0,0,null,null,0,0,null,null,0,0,null,null,0,0,null,null,0,0,null,null,0,0,null,null,0,0,null,null,0,0,null,null,0,0,null,null,0,0,null,0,0,"","","","","",""]
[null,2,27,"1989-02-27",null,null,0,0,null,null,0,0,null,null,0,0,null,null,0,0,null,null,0,0,null,null,0,0,null,null,0,0,null,null,0,0,null,null,0,0,null,null,0,0,null,null,0,0,null,null,0,0,null,0,0,"","","","","",""]
[null,2,28,"1989-02-28",null,null,0,0,null,null,0,0,null,null,0,0,null,null,0,0,null,null,0,0,null,null,0,0,null,null,0,0,null,null,0,0,null,null,0,0,null,null,0,0,null,null,0,0,null,null,0,0,null,0,0,"","","","","",""]
[null,2,29,"1989-03-01",null,null,0,0,null,null,0,0,null,null,0,0,null,null,0,0,null,null,0,0,null,null,0,0,null,null,0,0,null,null,0,0,null,null,0,0,null,null,0,0,null,null,0,0,null,null,0,0,null,0,0,"","","","","",""]
[null,3,1,"1989-03-01",null,null,0,0,null,null,0,0,null,null,0,0,null,null,0,0,null,null,0,0,null,null,0,0,null,null,0,0,null,null,0,0,null,null,0,0,null,null,0,0,null,null,0,0,null,null,0,0,null,0,0,"","","","","",""]
[null,3,2,"1989-03-02",null,null,0,0,null,null,0,0,null,null,0,0,null,null,0,0,null,null,0,0,null,null,0,0,null,null,0,0,null,null,0,0,null,null,0,0,null,null,0,0,null,null,0,0,null,null,0,0,null,0,0,"","","","","",""]
[null,3,3,"1989-03-03",null,null,0,0,null,null,0,0,null,null,0,0,null,null,0,0,null,null,0,0,null,null,0,0,null,null,0,0,null,null,0,0,null,null,0,0,null,null,0,0,null,null,0,0,null,null,0,0,null,0,0,"","","","","",""]
[null,3,4,"1989-03-04",null,null,0,0,null,null,0,0,null,null,0,0,null,null,0,0,null,null,0,0,null,null,0,0,null,null,0,0,null,null,0,0,null,null,0,0,null,null,0,0,null,null,0,0,null,null,0,0,null,0,0,"","","","","",""]
[null,3,5,"1989-03-05",null,null,0,0,null,null,0,0,null,null,0,0,null,null,0,0,null,null,0,0,null,null,0,0,null,null,0,0,null,null,0,0,null,null,0,0,null,null,0,0,null,null,0,0,null,null,0,0,null,0,0,"","","","","",""]
[null,3,6,"1989-03-06",null,null,0,0,null,null,0,0,null,null,0,0,null,null,0,0,null,null,0,0,null,null,0,0,null,null,0,0,null,null,0,0,null,null,0,0,null,null,0,0,null,null,0,0,null,null,0,0,null,0,0,"","","","","",""]
[null,3,7,"1989-03-07",null,null,0,0,null,null,0,0,null,null,0,0,null,null,0,0,null,null,0,0,null,null,0,0,null,null,0,0,null,null,0,0,null,null,0,0,null,null,0,0,null,null,0,0,null,null,0,0,null,0,0,"","","","","",""]
[null,3,8,"1989-03-08",null,null,0,0,null,null,0,0,null,null,0,0,null,null,0,0,null,null,0,0,null,null,0,0,null,null,0,0,null,null,0,0,null,null,0,0,null,null,0,0,null,null,0,0,null,null,0,0,null,0,0,"","","","","",""]
[null,3,9,"1989-03-09",null,null,0,0,null,null,0,0,null,null,0,0,null,null,0,0,null,null,0,0,null,null,0,0,null,null,0,0,null,null,0,0,null,null,0,0,null,null,0,0,null,null,0,0,null,null,0,0,null,0,0,"","","","","",""]
[null,3,10,"1989-03-10",null,null,0,0,null,null,0,0,null,null,0,0,null,null,0,0,null,null,0,0,null,null,0,0,null,null,0,0,null,null,0,0,null,null,0,0,null,null,0,0,null,null,0,0,null,null,0,0,null,0,0,"","","","","",""]
[null,3,11,"1989-03-11",null,null,0,0,null,null,0,0,null,null,0,0,null,null,0,0,null,null,0,0,null,null,0,0,null,null,0,0,null,null,0,0,null,null,0,0,null,null,0,0,null,null,0,0,null,null,0,0,null,0,0,"","","","","",""]
[null,3,12,"1989-03-12",null,null,0,0,null,null,0,0,null,null,0,0,null,null,0,0,null,null,0,0,null,null,0,0,null,null,0,0,null,null,0,0,null,null,0,0,null,null,0,0,null,null,0,0,null,null,0,0,null,0,0,"","","","","",""]
[null,3,13,"1989-03-13",null,null,0,0,null,null,0,0,null,null,0,0,null,null,0,0,null,null,0,0,null,null,0,0,null,null,0,0,null,null,0,0,null,null,0,0,null,null,0,0,null,null,0,0,null,null,0,0,null,0,0,"","","","","",""]
[null,3,14,"1989-03-14",null,null,0,0,null,null,0,0,null,null,0,0,null,null,0,0,null,null,0,0,null,null,0,0,null,null,0,0,null,null,0,0,null,null,0,0,null,null,0,0,null,null,0,0,null,null,0,0,null,0,0,"","","","","",""]
[null,3,15,"1989-03-15",null,null,0,0,null,null,0,0,null,null,0,0,null,null,0,0,null,null,0,0,null,null,0,0,null,null,0,0,null,null,0,0,null,null,0,0,null,null,0,0,null,null,0,0,null,null,0,0,null,0,0,"","","","","",""]
[null,3,16,"1989-03-16",null,null,0,0,null,null,0,0,null,null,0,0,null,null,0,0,null,null,0,0,null,null,0,0,null,null,0,0,null,null,0,0,null,null,0,0,null,null,0,0,null,null,0,0,null,null,0,0,null,0,0,"","","","","",""]
[null,3,17,"1989-03-17",null,null,0,0,null,null,0,0,null,null,0,0,null,null,0,0,null,null,0,0,null,null,0,0,null,null,0,0,null,null,0,0,null,null,0,0,null,null,0,0,null,null,0,0,null,null,0,0,null,0,0,"","","","","",""]
[null,3,18,"1989-03-18",null,null,0,0,null,null,0,0,null,null,0,0,null,null,0,0,null,null,0,0,null,null,0,0,null,null,0,0,null,null,0,0,null,null,0,0,null,null,0,0,null,null,0,0,null,null,0,0,null,0,0,"","","","","",""]
[null,3,19,"1989-03-19",null,null,0,0,null,null,0,0,null,null,0,0,null,null,0,0,null,null,0,0,null,null,0,0,null,null,0,0,null,null,0,0,null,null,0,0,null,null,0,0,null,null,0,0,null,null,0,0,null,0,0,"","","","","",""]
[null,3,20,"1989-03-20",null,null,0,0,null,null,0,0,null,null,0,0,null,null,0,0,null,null,0,0,null,null,0,0,null,null,0,0,null,null,0,0,null,null,0,0,null,null,0,0,null,null,0,0,null,null,0,0,null,0,0,"","","","","",""]
[null,3,21,"1989-03-21",null,null,0,0,null,null,0,0,null,null,0,0,null,null,0,0,null,null,0,0,null,null,0,0,null,null,0,0,null,null,0,0,null,null,0,0,null,null,0,0,null,null,0,0,null,null,0,0,null,0,0,"","","","","",""]
[null,3,22,"1989-03-22",null,null,0,0,null,null,0,0,null,null,0,0,null,null,0,0,null,null,0,0,null,null,0,0,null,null,0,0,null,null,0,0,null,null,0,0,null,null,0,0,null,null,0,0,null,null,0,0,null,0,0,"","","","","",""]
[null,3,23,"1989-03-23",null,null,0,0,null,null,0,0,null,null,0,0,null,null,0,0,null,null,0,0,null,null,0,0,null,null,0,0,null,null,0,0,null,null,0,0,null,null,0,0,null,null,0,0,null,null,0,0,null,0,0,"","","","","",""]
[null,3,24,"1989-03-24",null,null,0,0,null,null,0,0,null,null,0,0,null,null,0,0,null,null,0,0,null,null,0,0,null,null,0,0,null,null,0,0,null,null,0,0,null,null,0,0,null,null,0,0,null,null,0,0,null,0,0,"","","","","",""]
[null,3,25,"1989-03-25",null,null,0,0,null,null,0,0,null,null,0,0,null,null,0,0,null,null,0,0,null,null,0,0,null,null,0,0,null,null,0,0,null,null,0,0,null,null,0,0,null,null,0,0,null,null,0,0,null,0,0,"","","","","",""]
[null,3,26,"1989-03-26",null,null,0,0,null,null,0,0,null,null,0,0,null,null,0,0,null,null,0,0,null,null,0,0,null,null,0,0,null,null,0,0,null,null,0,0,null,null,0,0,null,null,0,0,null,null,0,0,null,0,0,"","","","","",""]
[null,3,27,"1989-03-27",null,null,0,0,null,null,0,0,null,null,0,0,null,null,0,0,null,null,0,0,null,null,0,0,null,null,0,0,null,null,0,0,null,null,0,0,null,null,0,0,null,null,0,0,null,null,0,0,null,0,0,"","","","","",""]
[null,3,28,"1989-03-28",null,null,0,0,null,null,0,0,null,null,0,0,null,null,0,0,null,null,0,0,null,null,0,0,null,null,0,0,null,null,0,0,null,null,0,0,null,null,0,0,null,null,0,0,null,null,0,0,null,0,0,"","","","","",""]
[null,3,29,"1989-03-29",null,null,0,0,null,null,0,0,null,null,0,0,null,null,0,0,null,null,0,0,null,null,0,0,null,null,0,0,null,null,0,0,null,null,0,0,null,null,0,0,null,null,0,0,null,null,0,0,null,0,0,"","","","","",""]
[null,3,30,"1989-03-30",null,null,0,0,null,null,0,0,null,null,0,0,null,null,0,0,null,null,0,0,null,null,0,0,null,null,0,0,null,null,0,0,null,null,0,0,null,null,0,0,null,null,0,0,null,null,0,0,null,0,0,"","","","","",""]
[null,3,31,"1989-03-31",null,null,0,0,null,null,0,0,null,null,0,0,null,null,0,0,null,null,0,0,null,null,0,0,null,null,0,0,null,null,0,0,null,null,0,0,null,null,0,0,null,null,0,0,null,null,0,0,null,0,0,"","","","","",""]

{"sheet":"出納簿 ","index":2,"n_rows":206,"n_cols":29,"rows_kept":206,"cut":false,"hidden":false,"merged":[[2,9,2,11],[3,4,3,6],[3,2,4,2],[3,3,4,3],[3,7,4,7],[3,8,4,8],[3,9,4,9],[3,10,4,10],[3,11,4,11]]}
[]
[null,{"$f":"メイン!D7+1988","v":1988}]
[null,null,null,null,null,null,null,null,null,{"$f":"IF(メイン!J7=\"\",\"\",メイン!J7)","v":""}]
[null,null,"月","日","摘　　　　　　要",null,null,"収入金額","支払金額","差引残高","領収書\n№","備　考",null,null,null,null,null,null,null,null,null,"令和",{"$f":"IF(メイン!D7=\"\",\"\",メイン!D7)","v":""},"年度",{"$f":"IF(メイン!C8=\"\",\"\",メイン!C8)","v":""},"年",{"$f":"IF(メイン!E8=\"\",\"\",メイン!E8)","v":""},"組","会計出納簿"]
[null,null,null,null,"入金","業者名","ワーク等の名称"]
[null,{"$f":"IF(COUNT(C6:D6)=0,\"\",IF(C6<4,DATE($B$2+1,C6,D6),DATE($B$2,C6,D6)))","v":""},null,null,{"$f":"IF(OR(B6=\"\",I6>0),\"\",IF(A6>=1,VLOOKUP(B6,集金台帳,58,FALSE),VLOOKUP(B6,集金台帳,55,FALSE)))","v":""},null,null,{"$f":"IF(OR(P6=0,I6>0,),\"\",IF(OR(A6=1,),Q6,P6))","v":""},null,{"$f":"IF(H6=\"\",IF(I6=\"\",\"\",H6-I6),H6-I6)","v":""},null,null,null,null,null,{"$f":"IF(B6=\"\",\"\",VLOOKUP(B6,集金台帳,54,FALSE))","v":""},{"$f":"IF(B6=\"\",\"\",VLOOKUP(B6,集金台帳,49,FALSE))","v":""}]
[null,"",null,null,"",null,null,"",null,{"$f":"IF(H7=\"\",IF(I7=\"\",\"\",J6-I7),J6+H7-I7)","v":""},null,null,null,null,null,"",""]
[null,"",null,null,"",null,null,"",null,"",null,null,null,null,null,"",""]
[null,"",null,null,"",null,null,"",null,"",null,null,null,null,null,"",""]
[null,"",null,null,"",null,null,"",null,"",null,null,null,null,null,"",""]
[null,"",null,null,"",null,null,"",null,"",null,null,null,null,null,"",""]
[null,"",null,null,"",null,null,"",null,"",null,null,null,null,null,"",""]
[null,"",null,null,"",null,null,"",null,"",null,null,null,null,null,"",""]
[null,"",null,null,"",null,null,"",null,"",null,null,null,null,null,"",""]
[null,"",null,null,"",null,null,"",null,"",null,null,null,null,null,"",""]
[null,"",null,null,"",null,null,"",null,"",null,null,null,null,null,"",""]
[null,"",null,null,"",null,null,"",null,"",null,null,null,null,null,"",""]
[null,"",null,null,"",null,null,"",null,"",null,null,null,null,null,"",""]
[null,"",null,null,"",null,null,"",null,"",null,null,null,null,null,"",""]
[null,"",null,null,"",null,null,"",null,"",null,null,null,null,null,"",""]
[null,"",null,null,"",null,null,"",null,"",null,null,null,null,null,"",""]
[null,"",null,null,"",null,null,"",null,"",null,null,null,null,null,"",""]
[null,"",null,null,"",null,null,"",null,"",null,null,null,null,null,"",""]
[null,"",null,null,"",null,null,"",null,"",null,null,null,null,null,"",""]
[null,"",null,null,"",null,null,"",null,"",null,null,null,null,null,"",""]
[null,"",null,null,"",null,null,"",null,"",null,null,null,null,null,"",""]
[null,"",null,null,"",null,null,"",null,"",null,null,null,null,null,"",""]
[null,"",null,null,"",null,null,"",null,"",null,null,null,null,null,"",""]
[null,"",null,null,"",null,null,"",null,"",null,null,null,null,null,"",""]
[null,"",null,null,"",null,null,"",null,"",null,null,null,null,null,"",""]
[null,"",null,null,"",null,null,"",null,"",null,null,null,null,null,"",""]
[null,"",null,null,"",null,null,"",null,"",null,null,null,null,null,"",""]
[null,"",null,null,"",null,null,"",null,"",null,null,null,null,null,"",""]
[null,"",null,null,"",null,null,"",null,"",null,null,null,null,null,"",""]
[null,"",null,null,"",null,null,"",null,"",null,null,null,null,null,"",""]
[null,"",null,null,"",null,null,"",null,"",null,null,null,null,null,"",""]
[null,"",null,null,"",null,null,"",null,"",null,null,null,null,null,"",""]
[null,"",null,null,"",null,null,"",null,"",null,null,null,null,null,"",""]
[null,"",null,null,"",null,null,"",null,"",null,null,null,null,null,"",""]
[null,"",null,null,"",null,null,"",null,"",null,null,null,null,null,"",""]
[null,"",null,null,"",null,null,"",null,"",null,null,null,null,null,"",""]
[null,"",null,null,"",null,null,"",null,"",null,null,null,null,null,"",""]
[null,"",null,null,"",null,null,"",null,"",null,null,null,null,null,"",""]
[null,"",null,null,"",null,null,"",null,"",null,null,null,null,null,"",""]
[null,"",null,null,"",null,null,"",null,"",null,null,null,null,null,"",""]
[null,"",null,null,"",null,null,"",null,"",null,null,null,null,null,"",""]
[null,"",null,null,"",null,null,"",null,"",null,null,null,null,null,"",""]
[null,"",null,null,"",null,null,"",null,"",null,null,null,null,null,"",""]
[null,"",null,null,"",null,null,"",null,"",null,null,null,null,null,"",""]
[null,"",null,null,"",null,null,"",null,"",null,null,null,null,null,"",""]
[null,"",null,null,"",null,null,"",null,"",null,null,null,null,null,"",""]
[null,"",null,null,"",null,null,"",null,"",null,null,null,null,null,"",""]
[null,"",null,null,"",null,null,"",null,"",null,null,null,null,null,"",""]
[null,"",null,null,"",null,null,"",null,"",null,null,null,null,null,"",""]
[null,"",null,null,"",null,null,"",null,"",null,null,null,null,null,"",""]
[null,"",null,null,"",null,null,"",null,"",null,null,null,null,null,"",""]
[null,{"$f":"B56","v":""},{"$f":"IF(C56=\"\",\"\",C56)","v":""},{"$f":"IF(D56=\"\",\"\",D56)","v":""},"前頁より",null,null,null,null,{"$f":"IF(J56=\"\",\"\",J56)","v":""},null,null,null,null,null,"",""]
[null,{"$f":"IF(COUNT(C58:D58)=0,\"\",IF(C58<4,DATE($B$2+1,C58,D58),DATE($B$2,C58,D58)))","v":""},null,null,{"$f":"IF(OR(B58=\"\",I58>0),\"\",IF(A58>=1,VLOOKUP(B58,集金台帳,58,FALSE),VLOOKUP(B58,集金台帳,55,FALSE)))","v":""},null,null,{"$f":"IF(OR(P58=0,I58>0,),\"\",IF(OR(A58=1,),Q58,P58))","v":""},null,{"$f":"IF(H58=\"\",IF(I58=\"\",\"\",J57-I58),J57+H58-I58)","v":""},null,null,null,null,null,"",""]
[null,"",null,null,"",null,null,"",null,"",null,null,null,null,null,"",""]
[null,"",null,null,"",null,null,"",null,"",null,null,null,null,null,"",""]
[null,"",null,null,"",null,null,"",null,"",null,null,null,null,null,"",""]
[null,"",null,null,"",null,null,"",null,"",null,null,null,null,null,"",""]
[null,"",null,null,"",null,null,"",null,"",null,null,null,null,null,"",""]
[null,"",null,null,"",null,null,"",null,"",null,null,null,null,null,"",""]
[null,"",null,null,"",null,null,"",null,"",null,null,null,null,null,"",""]
[null,"",null,null,"",null,null,"",null,"",null,null,null,null,null,"",""]
[null,"",null,null,"",null,null,"",null,"",null,null,null,null,null,"",""]
[null,"",null,null,"",null,null,"",null,"",null,null,null,null,null,"",""]
[null,"",null,null,"",null,null,"",null,"",null,null,null,null,null,"",""]
[null,"",null,null,"",null,null,"",null,"",null,null,null,null,null,"",""]
[null,"",null,null,"",null,null,"",null,"",null,null,null,null,null,"",""]
[null,"",null,null,"",null,null,"",null,"",null,null,null,null,null,"",""]
[null,"",null,null,"",null,null,"",null,"",null,null,null,null,null,"",""]
[null,"",null,null,"",null,null,"",null,"",null,null,null,null,null,"",""]
[null,"",null,null,"",null,null,"",null,"",null,null,null,null,null,"",""]
[null,"",null,null,"",null,null,"",null,"",null,null,null,null,null,"",""]
[null,"",null,null,"",null,null,"",null,"",null,null,null,null,null,"",""]
[null,"",null,null,"",null,null,"",null,"",null,null,null,null,null,"",""]
[null,"",null,null,"",null,null,"",null,"",null,null,null,null,null,"",""]
[null,"",null,null,"",null,null,"",null,"",null,null,null,null,null,"",""]
[null,"",null,null,"",null,null,"",null,"",null,null,null,null,null,"",""]
[null,"",null,null,"",null,null,"",null,"",null,null,null,null,null,"",""]
[null,"",null,null,"",null,null,"",null,"",null,null,null,null,null,"",""]
[null,"",null,null,"",null,null,"",null,"",null,null,null,null,null,"",""]
[null,"",null,null,"",null,null,"",null,"",null,null,null,null,null,"",""]
[null,"",null,null,"",null,null,"",null,"",null,null,null,null,null,"",""]
[null,"",null,null,"",null,null,"",null,"",null,null,null,null,null,"",""]
[null,"",null,null,"",null,null,"",null,"",null,null,null,null,null,"",""]
[null,"",null,null,"",null,null,"",null,"",null,null,null,null,null,"",""]
[null,"",null,null,"",null,null,"",null,"",null,null,null,null,null,"",""]
[null,"",null,null,"",null,null,"",null,"",null,null,null,null,null,"",""]
[null,"",null,null,"",null,null,"",null,"",null,null,null,null,null,"",""]
[null,"",null,null,"",null,null,"",null,"",null,null,null,null,null,"",""]
[null,"",null,null,"",null,null,"",null,"",null,null,null,null,null,"",""]
[null,"",null,null,"",null,null,"",null,"",null,null,null,null,null,"",""]
[null,"",null,null,"",null,null,"",null,"",null,null,null,null,null,"",""]
[null,"",null,null,"",null,null,"",null,"",null,null,null,null,null,"",""]
[null,"",null,null,"",null,null,"",null,"",null,null,null,null,null,"",""]
[null,"",null,null,"",null,null,"",null,"",null,null,null,null,null,"",""]
[null,"",null,null,"",null,null,"",null,"",null,null,null,null,null,"",""]
[null,"",null,null,"",null,null,"",null,"",null,null,null,null,null,"",""]
[null,"",null,null,"",null,null,"",null,"",null,null,null,null,null,"",""]
[null,"",null,null,"",null,null,"",null,"",null,null,null,null,null,"",""]
[null,"",null,null,"",null,null,"",null,"",null,null,null,null,null,"",""]
[null,"",null,null,"",null,null,"",null,"",null,null,null,null,null,"",""]
[null,"",null,null,"",null,null,"",null,"",null,null,null,null,null,"",""]
[null,{"$f":"B106","v":""},{"$f":"IF(C106=\"\",\"\",C106)","v":""},{"$f":"IF(D106=\"\",\"\",D106)","v":""},"前頁より",null,null,null,null,{"$f":"IF(J106=\"\",\"\",J106)","v":""},null,null,null,null,null,"",""]
[null,{"$f":"IF(COUNT(C108:D108)=0,\"\",IF(C108<4,DATE($B$2+1,C108,D108),DATE($B$2,C108,D108)))","v":""},null,null,{"$f":"IF(OR(B108=\"\",I108>0),\"\",IF(A108>=1,VLOOKUP(B108,集金台帳,58,FALSE),VLOOKUP(B108,集金台帳,55,FALSE)))","v":""},null,null,{"$f":"IF(OR(P108=0,I108>0,),\"\",IF(OR(A108=1,),Q108,P108))","v":""},null,{"$f":"IF(H108=\"\",IF(I108=\"\",\"\",J107-I108),J107+H108-I108)","v":""},null,null,null,null,null,"",""]
[null,"",null,null,"",null,null,"",null,"",null,null,null,null,null,"",""]
[null,"",null,null,"",null,null,"",null,"",null,null,null,null,null,"",""]
[null,"",null,null,"",null,null,"",null,"",null,null,null,null,null,"",""]
[null,"",null,null,"",null,null,"",null,"",null,null,null,null,null,"",""]
[null,"",null,null,"",null,null,"",null,"",null,null,null,null,null,"",""]
[null,"",null,null,"",null,null,"",null,"",null,null,null,null,null,"",""]
[null,"",null,null,"",null,null,"",null,"",null,null,null,null,null,"",""]
[null,"",null,null,"",null,null,"",null,"",null,null,null,null,null,"",""]
[null,"",null,null,"",null,null,"",null,"",null,null,null,null,null,"",""]
[null,"",null,null,"",null,null,"",null,"",null,null,null,null,null,"",""]
[null,"",null,null,"",null,null,"",null,"",null,null,null,null,null,"",""]
[null,"",null,null,"",null,null,"",null,"",null,null,null,null,null,"",""]
[null,"",null,null,"",null,null,"",null,"",null,null,null,null,null,"",""]
[null,"",null,null,"",null,null,"",null,"",null,null,null,null,null,"",""]
[null,"",null,null,"",null,null,"",null,"",null,null,null,null,null,"",""]
[null,"",null,null,"",null,null,"",null,"",null,null,null,null,null,"",""]
[null,"",null,null,"",null,null,"",null,"",null,null,null,null,null,"",""]
[null,"",null,null,"",null,null,"",null,"",null,null,null,null,null,"",""]
[null,"",null,null,"",null,null,"",null,"",null,null,null,null,null,"",""]
[null,"",null,null,"",null,null,"",null,"",null,null,null,null,null,"",""]
[null,"",null,null,"",null,null,"",null,"",null,null,null,null,null,"",""]
[null,"",null,null,"",null,null,"",null,"",null,null,null,null,null,"",""]
[null,"",null,null,"",null,null,"",null,"",null,null,null,null,null,"",""]
[null,"",null,null,"",null,null,"",null,"",null,null,null,null,null,"",""]
[null,"",null,null,"",null,null,"",null,"",null,null,null,null,null,"",""]
[null,"",null,null,"",null,null,"",null,"",null,null,null,null,null,"",""]
[null,"",null,null,"",null,null,"",null,"",null,null,null,null,null,"",""]
[null,"",null,null,"",null,null,"",null,"",null,null,null,null,null,"",""]
[null,"",null,null,"",null,null,"",null,"",null,null,null,null,null,"",""]
[null,"",null,null,"",null,null,"",null,"",null,null,null,null,null,"",""]
[null,"",null,null,"",null,null,"",null,"",null,null,null,null,null,"",""]
[null,"",null,null,"",null,null,"",null,"",null,null,null,null,null,"",""]
[null,"",null,null,"",null,null,"",null,"",null,null,null,null,null,"",""]
[null,"",null,null,"",null,null,"",null,"",null,null,null,null,null,"",""]
[null,"",null,null,"",null,null,"",null,"",null,null,null,null,null,"",""]
[null,"",null,null,"",null,null,"",null,"",null,null,null,null,null,"",""]
[null,"",null,null,"",null,null,"",null,"",null,null,null,null,null,"",""]
[null,"",null,null,"",null,null,"",null,"",null,null,null,null,null,"",""]
[null,"",null,null,"",null,null,"",null,"",null,null,null,null,null,"",""]
[null,"",null,null,"",null,null,"",null,"",null,null,null,null,null,"",""]
[null,"",null,null,"",null,null,"",null,"",null,null,null,null,null,"",""]
[null,"",null,null,"",null,null,"",null,"",null,null,null,null,null,"",""]
[null,"",null,null,"",null,null,"",null,"",null,null,null,null,null,"",""]
[null,"",null,null,"",null,null,"",null,"",null,null,null,null,null,"",""]
[null,"",null,null,"",null,null,"",null,"",null,null,null,null,null,"",""]
[null,"",null,null,"",null,null,"",null,"",null,null,null,null,null,"",""]
[null,"",null,null,"",null,null,"",null,"",null,null,null,null,null,"",""]
[null,"",null,null,"",null,null,"",null,"",null,null,null,null,null,"",""]
[null,{"$f":"B156","v":""},{"$f":"IF(C156=\"\",\"\",C156)","v":""},{"$f":"IF(D156=\"\",\"\",D156)","v":""},"前頁より",null,null,null,null,{"$f":"IF(J156=\"\",\"\",J156)","v":""},null,null,null,null,null,"",""]
[null,{"$f":"IF(COUNT(C158:D158)=0,\"\",IF(C158<4,DATE($B$2+1,C158,D158),DATE($B$2,C158,D158)))","v":""},null,null,{"$f":"IF(OR(B158=\"\",I158>0),\"\",IF(A158>=1,VLOOKUP(B158,集金台帳,58,FALSE),VLOOKUP(B158,集金台帳,55,FALSE)))","v":""},null,null,{"$f":"IF(OR(P158=0,I158>0,),\"\",IF(OR(A158=1,),Q158,P158))","v":""},null,{"$f":"IF(H158=\"\",IF(I158=\"\",\"\",J157-I158),J157+H158-I158)","v":""},null,null,null,null,null,"",""]
[null,"",null,null,"",null,null,"",null,"",null,null,null,null,null,"",""]
[null,"",null,null,"",null,null,"",null,"",null,null,null,null,null,"",""]
[null,"",null,null,"",null,null,"",null,"",null,null,null,null,null,"",""]
[null,"",null,null,"",null,null,"",null,"",null,null,null,null,null,"",""]
[null,"",null,null,"",null,null,"",null,"",null,null,null,null,null,"",""]
[null,"",null,null,"",null,null,"",null,"",null,null,null,null,null,"",""]
[null,"",null,null,"",null,null,"",null,"",null,null,null,null,null,"",""]
[null,"",null,null,"",null,null,"",null,"",null,null,null,null,null,"",""]
[null,"",null,null,"",null,null,"",null,"",null,null,null,null,null,"",""]
[null,"",null,null,"",null,null,"",null,"",null,null,null,null,null,"",""]
[null,"",null,null,"",null,null,"",null,"",null,null,null,null,null,"",""]
[null,"",null,null,"",null,null,"",null,"",null,null,null,null,null,"",""]
[null,"",null,null,"",null,null,"",null,"",null,null,null,null,null,"",""]
[null,"",null,null,"",null,null,"",null,"",null,null,null,null,null,"",""]
[null,"",null,null,"",null,null,"",null,"",null,null,null,null,null,"",""]
[null,"",null,null,"",null,null,"",null,"",null,null,null,null,null,"",""]
[null,"",null,null,"",null,null,"",null,"",null,null,null,null,null,"",""]
[null,"",null,null,"",null,null,"",null,"",null,null,null,null,null,"",""]
[null,"",null,null,"",null,null,"",null,"",null,null,null,null,null,"",""]
[null,"",null,null,"",null,null,"",null,"",null,null,null,null,null,"",""]
[null,"",null,null,"",null,null,"",null,"",null,null,null,null,null,"",""]
[null,"",null,null,"",null,null,"",null,"",null,null,null,null,null,"",""]
[null,"",null,null,"",null,null,"",null,"",null,null,null,null,null,"",""]
[null,"",null,null,"",null,null,"",null,"",null,null,null,null,null,"",""]
[null,"",null,null,"",null,null,"",null,"",null,null,null,null,null,"",""]
[null,"",null,null,"",null,null,"",null,"",null,null,null,null,null,"",""]
[null,"",null,null,"",null,null,"",null,"",null,null,null,null,null,"",""]
[null,"",null,null,"",null,null,"",null,"",null,null,null,null,null,"",""]
[null,"",null,null,"",null,null,"",null,"",null,null,null,null,null,"",""]
[null,"",null,null,"",null,null,"",null,"",null,null,null,null,null,"",""]
[null,"",null,null,"",null,null,"",null,"",null,null,null,null,null,"",""]
[null,"",null,null,"",null,null,"",null,"",null,null,null,null,null,"",""]
[null,"",null,null,"",null,null,"",null,"",null,null,null,null,null,"",""]
[null,"",null,null,"",null,null,"",null,"",null,null,null,null,null,"",""]
[null,"",null,null,"",null,null,"",null,"",null,null,null,null,null,"",""]
[null,"",null,null,"",null,null,"",null,"",null,null,null,null,null,"",""]
[null,"",null,null,"",null,null,"",null,"",null,null,null,null,null,"",""]
[null,"",null,null,"",null,null,"",null,"",null,null,null,null,null,"",""]
[null,"",null,null,"",null,null,"",null,"",null,null,null,null,null,"",""]
[null,"",null,null,"",null,null,"",null,"",null,null,null,null,null,"",""]
[null,"",null,null,"",null,null,"",null,"",null,null,null,null,null,"",""]
[null,"",null,null,"",null,null,"",null,"",null,null,null,null,null,"",""]
[null,"",null,null,"",null,null,"",null,"",null,null,null,null,null,"",""]
[null,"",null,null,"",null,null,"",null,"",null,null,null,null,null,"",""]
[null,"",null,null,"",null,null,"",null,"",null,null,null,null,null,"",""]
[null,"",null,null,"",null,null,"",null,"",null,null,null,null,null,"",""]
[null,"",null,null,"",null,null,"",null,"",null,null,null,null,null,"",""]
[null,"",null,null,"",null,null,"",null,"",null,null,null,null,null,"",""]

{"sheet":"1学期報告","index":3,"n_rows":64,"n_cols":44,"rows_kept":64,"cut":false,"hidden":false,"merged":[[7,13,7,17],[7,18,7,23],[13,7,13,12],[13,13,13,17],[13,18,13,23],[8,7,8,12],[8,13,8,17],[8,18,8,23],[9,7,9,12],[9,13,9,17],[9,18,9,23],[10,7,10,12],[10,13,10,17],[10,18,10,23],[14,7,14,12],[14,13,14,17],[14,18,14,23],[15,7,15,12],[15,13,15,17],[15,18,15,23],[16,7,16,12],[16,13,16,17],[16,18,16,23],[17,7,17,12],[17,13,17,17],[17,18,17,23],[18,7,18,12],[18,13,18,17],[18,18,18,23],[19,2,19,6],[19,7,19,12],[19,13,19,17],[19,18,19,23],[19,24,19,28],[19,29,19,34],[20,2,20,12],[20,13,20,23],[20,24,20,28],[20,29,20,34],[23,2,23,12],[23,13,23,18],[23,19,23,23],[23,24,23,28],[23,29,23,34],[24,2,24,12],[24,13,24,18],[24,19,24,23],[24,24,24,28],[24,29,24,34],[25,2,25,12],[25,13,25,18],[25,19,25,23],[25,24,25,28],[25,29,25,34],[26,2,26,12],[26,13,26,18],[26,19,26,23],[26,24,26,28],[26,29,26,34],[27,2,27,12],[27,13,27,18],[27,19,27,23],[27,24,27,28],[27,29,27,34],[28,2,28,12],[28,13,28,18],[28,19,28,23],[28,24,28,28],[28,29,28,34],[29,2,29,12],[29,13,29,18],[29,19,29,23],[29,24,29,28],[29,29,29,34],[30,2,30,12],[30,13,30,18],[30,19,30,23],[30,24,30,28],[30,29,30,34],[31,2,31,12],[31,13,31,18],[31,19,31,23],[31,24,31,28],[31,29,31,34],[32,2,32,12],[32,13,32,18],[32,19,32,23],[32,24,32,28],[32,29,32,34],[33,2,33,12],[33,13,33,18],[33,19,33,23],[33,24,33,28],[33,29,33,34],[34,2,34,12],[34,13,34,18],[34,19,34,23],[34,24,34,28],[34,29,34,34],[35,2,35,12],[35,13,35,18],[35,19,35,23],[35,24,35,28],[35,29,35,34],[36,2,36,12],[36,13,36,18],[36,19,36,23],[36,24,36,28],[36,29,36,34],[37,2,37,12],[37,13,37,18],[37,19,37,23],[37,24,37,28],[37,29,37,34],[38,2,38,12],[38,13,38,18],[38,19,38,23],[38,24,38,28],[38,29,38,34],[39,2,39,12],[39,13,39,18],[39,19,39,23],[39,24,39,28],[39,29,39,34],[40,2,40,12],[40,13,40,18],[40,19,40,23],[40,24,40,28],[40,29,40,34],[41,2,41,12],[41,13,41,18],[41,19,41,23],[41,24,41,28],[41,29,41,34],[44,29,44,34],[45,2,45,12],[45,13,45,18],[45,19,45,23],[45,24,45,28],[45,29,45,34],[42,2,42,12],[42,13,42,18],[42,19,42,23],[42,24,42,28],[42,29,42,34],[43,2,43,12],[43,13,43,18],[43,19,43,23],[43,24,43,28],[43,29,43,34],[53,9,53,13],[53,14,53,17],[53,18,53,23],[53,29,53,34],[54,9,54,13],[54,14,54,17],[54,18,54,23],[54,24,54,28],[54,29,54,34],[13,2,15,6],[13,24,15,28],[13,29,15,34],[16,2,18,6],[16,24,18,28],[16,29,18,34],[48,2,48,18],[48,19,48,23],[48,24,48,28],[48,29,48,34],[46,2,46,12],[46,13,46,18],[46,19,46,23],[46,24,46,28],[46,29,46,34],[47,2,47,12],[47,13,47,18],[47,19,47,23],[47,24,47,28],[47,29,47,34],[44,2,44,12],[44,13,44,18],[44,19,44,23],[44,24,44,28],[2,5,3,6],[2,7,3,8],[2,9,3,10],[2,11,3,12],[2,14,3,29],[7,2,9,6],[7,24,9,28],[7,29,9,34],[10,2,12,6],[10,24,12,28],[10,29,12,34],[11,7,11,12],[11,13,11,17],[11,18,11,23],[12,7,12,12],[12,13,12,17],[12,18,12,23],[6,2,6,6],[6,7,6,12],[6,13,6,17],[6,18,6,23],[6,24,6,28],[6,29,6,34],[7,7,7,12],[61,3,62,16],[61,18,62,20],[61,21,62,30],[61,31,62,32],[63,18,64,20],[63,21,64,30],[63,31,64,32],[56,4,56,19],[59,4,59,5],[59,6,59,7],[59,9,59,10],[59,12,59,13]]}
["保護者様"]
[]
[null,null,null,null,null,{"$f":"IF(メイン!C8=\"\",\"\",メイン!C8)","v":""},null,"年",null,{"$f":"IF(メイン!E8=\"\",\"\",メイン!E8)","v":""},null,"組",null,null,"１学期学級会計報告"]
[]
[]
[null,null,"１．収入"]
[null,null,"項　　目",null,null,null,null,"円",null,null,null,null,null,"人数",null,null,null,null,"合計",null,null,null,null,null,"総合計",null,null,null,null,"備　　考"]
[null,null,"４月集金",null,null,null,null,null,null,null,null,null,null,null,null,null,null,null,{"$f":"IF(COUNT(H8:R8)=0,\"\",H8*N8)","v":""},null,null,null,null,null,{"$f":"SUM(S8:S10)","v":0}]
[null,null,null,null,null,null,null,null,null,null,null,null,null,null,null,null,null,null,""]
[null,null,null,null,null,null,null,null,null,null,null,null,null,null,null,null,null,null,""]
[null,null,"５月集金",null,null,null,null,null,null,null,null,null,null,null,null,null,null,null,"",null,null,null,null,null,{"$f":"SUM(S11:S13)","v":0}]
[null,null,null,null,null,null,null,null,null,null,null,null,null,null,null,null,null,null,""]
[null,null,null,null,null,null,null,null,null,null,null,null,null,null,null,null,null,null,""]
[null,null,"６月集金",null,null,null,null,null,null,null,null,null,null,null,null,null,null,null,"",null,null,null,null,null,{"$f":"SUM(S14:S16)","v":0}]
[null,null,null,null,null,null,null,null,null,null,null,null,null,"",null,null,null,null,""]
[null,null,null,null,null,null,null,null,null,null,null,null,null,null,null,null,null,null,""]
[null,null,"７月集金",null,null,null,null,null,null,null,null,null,null,null,null,null,null,null,"",null,null,null,null,null,{"$f":"SUM(S17:S19)","v":0}]
[null,null,null,null,null,null,null,null,null,null,null,null,null,null,null,null,null,null,""]
[null,null,null,null,null,null,null,null,null,null,null,null,null,null,null,null,null,null,""]
[null,null,"転出生徒返金",null,null,null,null,null,null,null,null,null,null,null,null,null,null,null,"",null,null,null,null,null,{"$f":"IF(H20*N20=0,\"\",H20*N20)","v":""}]
[null,null,"合計",null,null,null,null,null,null,null,null,null,null,null,null,null,null,null,null,null,null,null,null,null,{"$f":"IF(COUNT(Y8:AC20)=0,\"\",SUM(Y8:AI20))","v":0}]
[]
[null,null,"２．支出"]
[null,null,"品名",null,null,null,null,null,null,null,null,null,null,"単　　価",null,null,null,null,null,"数　　量",null,null,null,null,"金　　額",null,null,null,null,"備　　考",null,null,null,null,null,null,null,"ここに入力↓"]
[null,1,{"$f":"IF(AL25=\"\",\"\",VLOOKUP(AL25,支払い状況!$H$5:$L$89,2,FALSE))","v":""},null,null,null,null,null,null,null,null,null,null,{"$f":"IF(AL25=\"\",\"\",VLOOKUP(AL25,支払い状況!$H$5:$L$89,3,FALSE))","v":""},null,null,null,null,null,{"$f":"IF(AL25=\"\",\"\",VLOOKUP(AL25,支払い状況!$H$5:$N$89,4,FALSE))","v":""},null,null,null,null,{"$f":"IF(AL25=\"\",\"\",VLOOKUP(AL25,支払い状況!$H$5:$O$89,5,FALSE))","v":""}]
[null,2,{"$f":"IF(AL26=\"\",\"\",VLOOKUP(AL26,支払い状況!$H$5:$L$89,2,FALSE))","v":""},null,null,null,null,null,null,null,null,null,null,{"$f":"IF(AL26=\"\",\"\",VLOOKUP(AL26,支払い状況!$H$5:$L$89,3,FALSE))","v":""},null,null,null,null,null,{"$f":"IF(AL26=\"\",\"\",VLOOKUP(AL26,支払い状況!$H$5:$N$89,4,FALSE))","v":""},null,null,null,null,{"$f":"IF(AL26=\"\",\"\",VLOOKUP(AL26,支払い状況!$H$5:$O$89,5,FALSE))","v":""}]
[null,3,{"$f":"IF(AL27=\"\",\"\",VLOOKUP(AL27,支払い状況!$H$5:$L$89,2,FALSE))","v":""},null,null,null,null,null,null,null,null,null,null,{"$f":"IF(AL27=\"\",\"\",VLOOKUP(AL27,支払い状況!$H$5:$L$89,3,FALSE))","v":""},null,null,null,null,null,{"$f":"IF(AL27=\"\",\"\",VLOOKUP(AL27,支払い状況!$H$5:$N$89,4,FALSE))","v":""},null,null,null,null,{"$f":"IF(AL27=\"\",\"\",VLOOKUP(AL27,支払い状況!$H$5:$O$89,5,FALSE))","v":""}]
[null,4,{"$f":"IF(AL28=\"\",\"\",VLOOKUP(AL28,支払い状況!$H$5:$L$89,2,FALSE))","v":""},null,null,null,null,null,null,null,null,null,null,{"$f":"IF(AL28=\"\",\"\",VLOOKUP(AL28,支払い状況!$H$5:$L$89,3,FALSE))","v":""},null,null,null,null,null,{"$f":"IF(AL28=\"\",\"\",VLOOKUP(AL28,支払い状況!$H$5:$N$89,4,FALSE))","v":""},null,null,null,null,{"$f":"IF(AL28=\"\",\"\",VLOOKUP(AL28,支払い状況!$H$5:$O$89,5,FALSE))","v":""}]
[null,5,{"$f":"IF(AL29=\"\",\"\",VLOOKUP(AL29,支払い状況!$H$5:$L$89,2,FALSE))","v":""},null,null,null,null,null,null,null,null,null,null,{"$f":"IF(AL29=\"\",\"\",VLOOKUP(AL29,支払い状況!$H$5:$L$89,3,FALSE))","v":""},null,null,null,null,null,{"$f":"IF(AL29=\"\",\"\",VLOOKUP(AL29,支払い状況!$H$5:$N$89,4,FALSE))","v":""},null,null,null,null,{"$f":"IF(AL29=\"\",\"\",VLOOKUP(AL29,支払い状況!$H$5:$O$89,5,FALSE))","v":""}]
[null,6,{"$f":"IF(AL30=\"\",\"\",VLOOKUP(AL30,支払い状況!$H$5:$L$89,2,FALSE))","v":""},null,null,null,null,null,null,null,null,null,null,{"$f":"IF(AL30=\"\",\"\",VLOOKUP(AL30,支払い状況!$H$5:$L$89,3,FALSE))","v":""},null,null,null,null,null,{"$f":"IF(AL30=\"\",\"\",VLOOKUP(AL30,支払い状況!$H$5:$N$89,4,FALSE))","v":""},null,null,null,null,{"$f":"IF(AL30=\"\",\"\",VLOOKUP(AL30,支払い状況!$H$5:$O$89,5,FALSE))","v":""}]
[null,7,{"$f":"IF(AL31=\"\",\"\",VLOOKUP(AL31,支払い状況!$H$5:$L$89,2,FALSE))","v":""},null,null,null,null,null,null,null,null,null,null,{"$f":"IF(AL31=\"\",\"\",VLOOKUP(AL31,支払い状況!$H$5:$L$89,3,FALSE))","v":""},null,null,null,null,null,{"$f":"IF(AL31=\"\",\"\",VLOOKUP(AL31,支払い状況!$H$5:$N$89,4,FALSE))","v":""},null,null,null,null,{"$f":"IF(AL31=\"\",\"\",VLOOKUP(AL31,支払い状況!$H$5:$O$89,5,FALSE))","v":""}]
[null,8,{"$f":"IF(AL32=\"\",\"\",VLOOKUP(AL32,支払い状況!$H$5:$L$89,2,FALSE))","v":""},null,null,null,null,null,null,null,null,null,null,{"$f":"IF(AL32=\"\",\"\",VLOOKUP(AL32,支払い状況!$H$5:$L$89,3,FALSE))","v":""},null,null,null,null,null,{"$f":"IF(AL32=\"\",\"\",VLOOKUP(AL32,支払い状況!$H$5:$N$89,4,FALSE))","v":""},null,null,null,null,{"$f":"IF(AL32=\"\",\"\",VLOOKUP(AL32,支払い状況!$H$5:$O$89,5,FALSE))","v":""}]
[null,9,{"$f":"IF(AL33=\"\",\"\",VLOOKUP(AL33,支払い状況!$H$5:$L$89,2,FALSE))","v":""},null,null,null,null,null,null,null,null,null,null,{"$f":"IF(AL33=\"\",\"\",VLOOKUP(AL33,支払い状況!$H$5:$L$89,3,FALSE))","v":""},null,null,null,null,null,{"$f":"IF(AL33=\"\",\"\",VLOOKUP(AL33,支払い状況!$H$5:$N$89,4,FALSE))","v":""},null,null,null,null,{"$f":"IF(AL33=\"\",\"\",VLOOKUP(AL33,支払い状況!$H$5:$O$89,5,FALSE))","v":""}]
[null,10,{"$f":"IF(AL34=\"\",\"\",VLOOKUP(AL34,支払い状況!$H$5:$L$89,2,FALSE))","v":""},null,null,null,null,null,null,null,null,null,null,{"$f":"IF(AL34=\"\",\"\",VLOOKUP(AL34,支払い状況!$H$5:$L$89,3,FALSE))","v":""},null,null,null,null,null,{"$f":"IF(AL34=\"\",\"\",VLOOKUP(AL34,支払い状況!$H$5:$N$89,4,FALSE))","v":""},null,null,null,null,{"$f":"IF(AL34=\"\",\"\",VLOOKUP(AL34,支払い状況!$H$5:$O$89,5,FALSE))","v":""}]
[null,11,{"$f":"IF(AL35=\"\",\"\",VLOOKUP(AL35,支払い状況!$H$5:$L$89,2,FALSE))","v":""},null,null,null,null,null,null,null,null,null,null,{"$f":"IF(AL35=\"\",\"\",VLOOKUP(AL35,支払い状況!$H$5:$L$89,3,FALSE))","v":""},null,null,null,null,null,{"$f":"IF(AL35=\"\",\"\",VLOOKUP(AL35,支払い状況!$H$5:$N$89,4,FALSE))","v":""},null,null,null,null,{"$f":"IF(AL35=\"\",\"\",VLOOKUP(AL35,支払い状況!$H$5:$O$89,5,FALSE))","v":""}]
[null,12,{"$f":"IF(AL36=\"\",\"\",VLOOKUP(AL36,支払い状況!$H$5:$L$89,2,FALSE))","v":""},null,null,null,null,null,null,null,null,null,null,{"$f":"IF(AL36=\"\",\"\",VLOOKUP(AL36,支払い状況!$H$5:$L$89,3,FALSE))","v":""},null,null,null,null,null,{"$f":"IF(AL36=\"\",\"\",VLOOKUP(AL36,支払い状況!$H$5:$N$89,4,FALSE))","v":""},null,null,null,null,{"$f":"IF(AL36=\"\",\"\",VLOOKUP(AL36,支払い状況!$H$5:$O$89,5,FALSE))","v":""}]
[null,13,{"$f":"IF(AL37=\"\",\"\",VLOOKUP(AL37,支払い状況!$H$5:$L$89,2,FALSE))","v":""},null,null,null,null,null,null,null,null,null,null,{"$f":"IF(AL37=\"\",\"\",VLOOKUP(AL37,支払い状況!$H$5:$L$89,3,FALSE))","v":""},null,null,null,null,null,{"$f":"IF(AL37=\"\",\"\",VLOOKUP(AL37,支払い状況!$H$5:$N$89,4,FALSE))","v":""},null,null,null,null,{"$f":"IF(AL37=\"\",\"\",VLOOKUP(AL37,支払い状況!$H$5:$O$89,5,FALSE))","v":""}]
[null,14,{"$f":"IF(AL38=\"\",\"\",VLOOKUP(AL38,支払い状況!$H$5:$L$89,2,FALSE))","v":""},null,null,null,null,null,null,null,null,null,null,{"$f":"IF(AL38=\"\",\"\",VLOOKUP(AL38,支払い状況!$H$5:$L$89,3,FALSE))","v":""},null,null,null,null,null,{"$f":"IF(AL38=\"\",\"\",VLOOKUP(AL38,支払い状況!$H$5:$N$89,4,FALSE))","v":""},null,null,null,null,{"$f":"IF(AL38=\"\",\"\",VLOOKUP(AL38,支払い状況!$H$5:$O$89,5,FALSE))","v":""}]
[null,15,{"$f":"IF(AL39=\"\",\"\",VLOOKUP(AL39,支払い状況!$H$5:$L$89,2,FALSE))","v":""},null,null,null,null,null,null,null,null,null,null,{"$f":"IF(AL39=\"\",\"\",VLOOKUP(AL39,支払い状況!$H$5:$L$89,3,FALSE))","v":""},null,null,null,null,null,{"$f":"IF(AL39=\"\",\"\",VLOOKUP(AL39,支払い状況!$H$5:$N$89,4,FALSE))","v":""},null,null,null,null,{"$f":"IF(AL39=\"\",\"\",VLOOKUP(AL39,支払い状況!$H$5:$O$89,5,FALSE))","v":""}]
[null,16,{"$f":"IF(AL40=\"\",\"\",VLOOKUP(AL40,支払い状況!$H$5:$L$89,2,FALSE))","v":""},null,null,null,null,null,null,null,null,null,null,{"$f":"IF(AL40=\"\",\"\",VLOOKUP(AL40,支払い状況!$H$5:$L$89,3,FALSE))","v":""},null,null,null,null,null,{"$f":"IF(AL40=\"\",\"\",VLOOKUP(AL40,支払い状況!$H$5:$N$89,4,FALSE))","v":""},null,null,null,null,{"$f":"IF(AL40=\"\",\"\",VLOOKUP(AL40,支払い状況!$H$5:$O$89,5,FALSE))","v":""}]
[null,17,{"$f":"IF(AL41=\"\",\"\",VLOOKUP(AL41,支払い状況!$H$5:$L$89,2,FALSE))","v":""},null,null,null,null,null,null,null,null,null,null,{"$f":"IF(AL41=\"\",\"\",VLOOKUP(AL41,支払い状況!$H$5:$L$89,3,FALSE))","v":""},null,null,null,null,null,{"$f":"IF(AL41=\"\",\"\",VLOOKUP(AL41,支払い状況!$H$5:$N$89,4,FALSE))","v":""},null,null,null,null,{"$f":"IF(AL41=\"\",\"\",VLOOKUP(AL41,支払い状況!$H$5:$O$89,5,FALSE))","v":""}]
[null,18,{"$f":"IF(AL42=\"\",\"\",VLOOKUP(AL42,支払い状況!$H$5:$L$89,2,FALSE))","v":""},null,null,null,null,null,null,null,null,null,null,{"$f":"IF(AL42=\"\",\"\",VLOOKUP(AL42,支払い状況!$H$5:$L$89,3,FALSE))","v":""},null,null,null,null,null,{"$f":"IF(AL42=\"\",\"\",VLOOKUP(AL42,支払い状況!$H$5:$N$89,4,FALSE))","v":""},null,null,null,null,{"$f":"IF(AL42=\"\",\"\",VLOOKUP(AL42,支払い状況!$H$5:$O$89,5,FALSE))","v":""}]
[null,19,{"$f":"IF(AL43=\"\",\"\",VLOOKUP(AL43,支払い状況!$H$5:$L$89,2,FALSE))","v":""},null,null,null,null,null,null,null,null,null,null,{"$f":"IF(AL43=\"\",\"\",VLOOKUP(AL43,支払い状況!$H$5:$L$89,3,FALSE))","v":""},null,null,null,null,null,{"$f":"IF(AL43=\"\",\"\",VLOOKUP(AL43,支払い状況!$H$5:$N$89,4,FALSE))","v":""},null,null,null,null,{"$f":"IF(AL43=\"\",\"\",VLOOKUP(AL43,支払い状況!$H$5:$O$89,5,FALSE))","v":""}]
[null,20,{"$f":"IF(AL44=\"\",\"\",VLOOKUP(AL44,支払い状況!$H$5:$L$89,2,FALSE))","v":""},null,null,null,null,null,null,null,null,null,null,{"$f":"IF(AL44=\"\",\"\",VLOOKUP(AL44,支払い状況!$H$5:$L$89,3,FALSE))","v":""},null,null,null,null,null,{"$f":"IF(AL44=\"\",\"\",VLOOKUP(AL44,支払い状況!$H$5:$N$89,4,FALSE))","v":""},null,null,null,null,{"$f":"IF(AL44=\"\",\"\",VLOOKUP(AL44,支払い状況!$H$5:$O$89,5,FALSE))","v":""}]
[null,21,{"$f":"IF(AL45=\"\",\"\",VLOOKUP(AL45,支払い状況!$H$5:$L$89,2,FALSE))","v":""},null,null,null,null,null,null,null,null,null,null,{"$f":"IF(AL45=\"\",\"\",VLOOKUP(AL45,支払い状況!$H$5:$L$89,3,FALSE))","v":""},null,null,null,null,null,{"$f":"IF(AL45=\"\",\"\",VLOOKUP(AL45,支払い状況!$H$5:$N$89,4,FALSE))","v":""},null,null,null,null,{"$f":"IF(AL45=\"\",\"\",VLOOKUP(AL45,支払い状況!$H$5:$O$89,5,FALSE))","v":""}]
[null,22,{"$f":"IF(AL46=\"\",\"\",VLOOKUP(AL46,支払い状況!$H$5:$L$89,2,FALSE))","v":""},null,null,null,null,null,null,null,null,null,null,{"$f":"IF(AL46=\"\",\"\",VLOOKUP(AL46,支払い状況!$H$5:$L$89,3,FALSE))","v":""},null,null,null,null,null,{"$f":"IF(AL46=\"\",\"\",VLOOKUP(AL46,支払い状況!$H$5:$N$89,4,FALSE))","v":""},null,null,null,null,{"$f":"IF(AL46=\"\",\"\",VLOOKUP(AL46,支払い状況!$H$5:$O$89,5,FALSE))","v":""}]
[null,23,{"$f":"IF(AL47=\"\",\"\",VLOOKUP(AL47,支払い状況!$H$5:$L$89,2,FALSE))","v":""},null,null,null,null,null,null,null,null,null,null,{"$f":"IF(AL47=\"\",\"\",VLOOKUP(AL47,支払い状況!$H$5:$L$89,3,FALSE))","v":""},null,null,null,null,null,{"$f":"IF(AL47=\"\",\"\",VLOOKUP(AL47,支払い状況!$H$5:$N$89,4,FALSE))","v":""},null,null,null,null,{"$f":"IF(AL47=\"\",\"\",VLOOKUP(AL47,支払い状況!$H$5:$O$89,5,FALSE))","v":""}]
[null,24,{"$f":"IF(AL48=\"\",\"\",VLOOKUP(AL48,支払い状況!$H$5:$L$89,2,FALSE))","v":""},null,null,null,null,null,null,null,null,null,null,{"$f":"IF(AL48=\"\",\"\",VLOOKUP(AL48,支払い状況!$H$5:$L$89,3,FALSE))","v":""},null,null,null,null,null,{"$f":"IF(AL48=\"\",\"\",VLOOKUP(AL48,支払い状況!$H$5:$N$89,4,FALSE))","v":""},null,null,null,null,{"$f":"IF(AL48=\"\",\"\",VLOOKUP(AL48,支払い状況!$H$5:$O$89,5,FALSE))","v":""}]
[null,null,"合　　計",null,null,null,null,null,null,null,null,null,null,null,null,null,null,null,null,null,null,null,null,null,{"$f":"IF(COUNT(Y25:AC48)=0,\"\",SUM(Y25:AC48))","v":""}]
[]
[]
[null,null,"３．差引残高"]
[]
[null,null,null,null,null,null,null,null,null,"収入合計",null,null,null,null,null,null,null,null,"支出合計",null,null,null,null,null,null,null,null,null,null,"残　　高"]
[null,null,null,null,null,null,null,null,null,{"$f":"Y21","v":0},null,null,null,null,"－",null,null,null,{"$f":"Y49","v":""},null,null,null,null,null,"＝",null,null,null,null,{"$f":"IF(AND(Y49=\"\",Y19=\"\"),\"\",J55-S55)","v":""}]
[]
[null,null,null,null,"残金は2学期に繰越しさせていただきます。"]
[null,null,null,null,"上記のとおり報告いたします。"]
[null,null,null,null,null,null,null,null,null,null,null,null,null,null,null,null,null,null,null,null,null,null,null,null,null,null,null,null,null,null,null,null,null,null,null,null,null,null,null,null,null,null,null,"残金は2学期に繰越しさせていただきます。"]
[null,null,null,null,"令和",null,null,null,"年",null,null,"月",null,null,"日"]
[]
[null,null,null,{"$f":"IF(メイン!J7=\"\",\"\",メイン!J7)","v":""},null,null,null,null,null,null,null,null,null,null,null,null,null,null,"校長",null,null,{"$f":"IF(メイン!J9=\"\",\"\",メイン!J9)","v":""},null,null,null,null,null,null,null,null,null,"印"]
[]
[null,null,null,null,null,null,null,null,null,null,null,null,null,null,null,null,null,null,"担任",null,null,{"$f":"IF(メイン!J8=\"\",\"\",メイン!J8)","v":""},null,null,null,null,null,null,null,null,null,"印"]

{"sheet":"2学期報告","index":4,"n_rows":65,"n_cols":44,"rows_kept":65,"cut":false,"hidden":false,"merged":[[7,13,7,17],[7,18,7,23],[13,7,13,12],[13,13,13,17],[13,18,13,23],[8,7,8,12],[8,13,8,17],[8,18,8,23],[9,7,9,12],[9,13,9,17],[9,18,9,23],[10,7,10,12],[10,13,10,17],[10,18,10,23],[14,7,14,12],[14,13,14,17],[14,18,14,23],[15,7,15,12],[15,13,15,17],[15,18,15,23],[16,7,16,12],[16,13,16,17],[16,18,16,23],[17,7,17,12],[17,13,17,17],[17,18,17,23],[18,7,18,12],[18,13,18,17],[18,18,18,23],[19,2,19,6],[19,7,19,12],[19,13,19,17],[19,18,19,23],[19,24,19,28],[19,29,19,34],[20,2,20,6],[20,7,20,12],[20,13,20,17],[20,18,20,23],[20,24,20,28],[20,29,20,34],[21,2,21,12],[21,13,21,23],[21,24,21,28],[21,29,21,34],[24,2,24,12],[24,13,24,18],[24,19,24,23],[24,24,24,28],[24,29,24,34],[25,2,25,12],[25,13,25,18],[25,19,25,23],[25,24,25,28],[25,29,25,34],[26,2,26,12],[26,13,26,18],[26,19,26,23],[26,24,26,28],[26,29,26,34],[27,2,27,12],[27,13,27,18],[27,19,27,23],[27,24,27,28],[27,29,27,34],[28,2,28,12],[28,13,28,18],[28,19,28,23],[28,24,28,28],[28,29,28,34],[29,2,29,12],[29,13,29,18],[29,19,29,23],[29,24,29,28],[29,29,29,34],[30,2,30,12],[30,13,30,18],[30,19,30,23],[30,24,30,28],[30,29,30,34],[31,2,31,12],[31,13,31,18],[31,19,31,23],[31,24,31,28],[31,29,31,34],[32,2,32,12],[32,13,32,18],[32,19,32,23],[32,24,32,28],[32,29,32,34],[33,2,33,12],[33,13,33,18],[33,19,33,23],[33,24,33,28],[33,29,33,34],[34,2,34,12],[34,13,34,18],[34,19,34,23],[34,24,34,28],[34,29,34,34],[35,2,35,12],[35,13,35,18],[35,19,35,23],[35,24,35,28],[35,29,35,34],[36,2,36,12],[36,13,36,18],[36,19,36,23],[36,24,36,28],[36,29,36,34],[37,2,37,12],[37,13,37,18],[37,19,37,23],[37,24,37,28],[37,29,37,34],[38,2,38,12],[38,13,38,18],[38,19,38,23],[38,24,38,28],[38,29,38,34],[39,2,39,12],[39,13,39,18],[39,19,39,23],[39,24,39,28],[39,29,39,34],[40,2,40,12],[40,13,40,18],[40,19,40,23],[40,24,40,28],[40,29,40,34],[41,2,41,12],[41,13,41,18],[41,19,41,23],[41,24,41,28],[41,29,41,34],[44,29,44,34],[45,2,45,12],[45,13,45,18],[45,19,45,23],[45,24,45,28],[45,29,45,34],[42,2,42,12],[42,13,42,18],[42,19,42,23],[42,24,42,28],[42,29,42,34],[43,2,43,12],[43,13,43,18],[43,19,43,23],[43,24,43,28],[43,29,43,34],[55,9,55,13],[55,14,55,17],[55,18,55,23],[55,24,55,28],[55,29,55,34],[48,2,48,12],[48,13,48,18],[48,19,48,23],[48,24,48,28],[48,29,48,34],[49,2,49,18],[49,19,49,23],[49,24,49,28],[49,29,49,34],[13,2,15,6],[13,24,15,28],[13,29,15,34],[16,2,18,6],[16,24,18,28],[16,29,18,34],[54,9,54,13],[54,14,54,17],[54,18,54,23],[54,29,54,34],[46,2,46,12],[46,13,46,18],[46,19,46,23],[46,24,46,28],[46,29,46,34],[47,2,47,12],[47,13,47,18],[47,19,47,23],[47,24,47,28],[47,29,47,34],[44,2,44,12],[44,13,44,18],[44,19,44,23],[44,24,44,28],[2,5,3,6],[2,7,3,8],[2,9,3,10],[2,11,3,12],[2,14,3,29],[7,2,9,6],[7,24,9,28],[7,29,9,34],[10,2,12,6],[10,24,12,28],[10,29,12,34],[11,7,11,12],[11,13,11,17],[11,18,11,23],[12,7,12,12],[12,13,12,17],[12,18,12,23],[6,2,6,6],[6,7,6,12],[6,13,6,17],[6,18,6,23],[6,24,6,28],[6,29,6,34],[7,7,7,12],[62,3,63,16],[62,18,63,20],[62,21,63,30],[62,31,63,32],[64,18,65,20],[64,21,65,30],[64,31,65,32],[57,4,57,19],[60,4,60,5],[60,6,60,7],[60,9,60,10],[60,12,60,13]]}
["保護者様"]
[]
[null,null,null,null,null,{"$f":"IF(メイン!C8=\"\",\"\",メイン!C8)","v":""},null,"年",null,{"$f":"IF(メイン!E8=\"\",\"\",メイン!E8)","v":""},null,"組",null,null,"２学期学級会計報告"]
[]
[]
[null,null,"１．収入"]
[null,null,"項　　目",null,null,null,null,"円",null,null,null,null,null,"人数",null,null,null,null,"合計",null,null,null,null,null,"総合計",null,null,null,null,"備　　考"]
[null,null,"９月集金",null,null,null,null,null,null,null,null,null,null,null,null,null,null,null,{"$f":"IF(COUNT(H8:R8)=0,\"\",H8*N8)","v":""},null,null,null,null,null,{"$f":"SUM(S8:S10)","v":0}]
[null,null,null,null,null,null,null,null,null,null,null,null,null,null,null,null,null,null,""]
[null,null,null,null,null,null,null,null,null,null,null,null,null,null,null,null,null,null,""]
[null,null,"１０月集金",null,null,null,null,null,null,null,null,null,null,null,null,null,null,null,"",null,null,null,null,null,{"$f":"SUM(S11:S13)","v":0}]
[null,null,null,null,null,null,null,null,null,null,null,null,null,null,null,null,null,null,""]
[null,null,null,null,null,null,null,null,null,null,null,null,null,null,null,null,null,null,""]
[null,null,"１１月集金",null,null,null,null,null,null,null,null,null,null,null,null,null,null,null,"",null,null,null,null,null,{"$f":"SUM(S14:S16)","v":0}]
[null,null,null,null,null,null,null,null,null,null,null,null,null,null,null,null,null,null,""]
[null,null,null,null,null,null,null,null,null,null,null,null,null,null,null,null,null,null,""]
[null,null,"１２月集金",null,null,null,null,null,null,null,null,null,null,null,null,null,null,null,"",null,null,null,null,null,{"$f":"SUM(S17:S19)","v":0}]
[null,null,null,null,null,null,null,null,null,null,null,null,null,null,null,null,null,null,""]
[null,null,null,null,null,null,null,null,null,null,null,null,null,null,null,null,null,null,""]
[null,null,"転出生徒返金",null,null,null,null,null,null,null,null,null,null,null,null,null,null,null,"",null,null,null,null,null,{"$f":"IF(H20*N20=0,\"\",H20*N20)","v":""}]
[null,null,"繰越",null,null,null,null,null,null,null,null,null,null,null,null,null,null,null,"",null,null,null,null,null,{"$f":"'1学期報告'!AD55","v":""}]
[null,null,"合計",null,null,null,null,null,null,null,null,null,null,null,null,null,null,null,null,null,null,null,null,null,{"$f":"IF(COUNT(Y8:AC21)=0,\"\",SUM(Y8:AI21))","v":0}]
[]
[null,null,"２．支出"]
[null,null,"品名",null,null,null,null,null,null,null,null,null,null,"単　　価",null,null,null,null,null,"数　　量",null,null,null,null,"金　　額",null,null,null,null,"備　　考"]
[null,1,{"$f":"IF(AL26=\"\",\"\",VLOOKUP(AL26,支払い状況!$H$5:$O$89,2,FALSE))","v":""},null,null,null,null,null,null,null,null,null,null,{"$f":"IF(AL26=\"\",\"\",VLOOKUP(AL26,支払い状況!$H$5:$O$89,3,FALSE))","v":""},null,null,null,null,null,{"$f":"IF(AL26=\"\",\"\",VLOOKUP(AL26,支払い状況!$H$5:$O$89,4,FALSE))","v":""},null,null,null,null,{"$f":"IF(AL26=\"\",\"\",VLOOKUP(AL26,支払い状況!$H$5:$O$89,5,FALSE))","v":""}]
[null,2,{"$f":"IF(AL27=\"\",\"\",VLOOKUP(AL27,支払い状況!$H$5:$O$89,2,FALSE))","v":""},null,null,null,null,null,null,null,null,null,null,{"$f":"IF(AL27=\"\",\"\",VLOOKUP(AL27,支払い状況!$H$5:$O$89,3,FALSE))","v":""},null,null,null,null,null,{"$f":"IF(AL27=\"\",\"\",VLOOKUP(AL27,支払い状況!$H$5:$O$89,4,FALSE))","v":""},null,null,null,null,{"$f":"IF(AL27=\"\",\"\",VLOOKUP(AL27,支払い状況!$H$5:$O$89,5,FALSE))","v":""}]
[null,3,{"$f":"IF(AL28=\"\",\"\",VLOOKUP(AL28,支払い状況!$H$5:$O$89,2,FALSE))","v":""},null,null,null,null,null,null,null,null,null,null,{"$f":"IF(AL28=\"\",\"\",VLOOKUP(AL28,支払い状況!$H$5:$O$89,3,FALSE))","v":""},null,null,null,null,null,{"$f":"IF(AL28=\"\",\"\",VLOOKUP(AL28,支払い状況!$H$5:$O$89,4,FALSE))","v":""},null,null,null,null,{"$f":"IF(AL28=\"\",\"\",VLOOKUP(AL28,支払い状況!$H$5:$O$89,5,FALSE))","v":""}]
[null,4,{"$f":"IF(AL29=\"\",\"\",VLOOKUP(AL29,支払い状況!$H$5:$O$89,2,FALSE))","v":""},null,null,null,null,null,null,null,null,null,null,{"$f":"IF(AL29=\"\",\"\",VLOOKUP(AL29,支払い状況!$H$5:$O$89,3,FALSE))","v":""},null,null,null,null,null,{"$f":"IF(AL29=\"\",\"\",VLOOKUP(AL29,支払い状況!$H$5:$O$89,4,FALSE))","v":""},null,null,null,null,{"$f":"IF(AL29=\"\",\"\",VLOOKUP(AL29,支払い状況!$H$5:$O$89,5,FALSE))","v":""}]
[null,5,{"$f":"IF(AL30=\"\",\"\",VLOOKUP(AL30,支払い状況!$H$5:$O$89,2,FALSE))","v":""},null,null,null,null,null,null,null,null,null,null,{"$f":"IF(AL30=\"\",\"\",VLOOKUP(AL30,支払い状況!$H$5:$O$89,3,FALSE))","v":""},null,null,null,null,null,{"$f":"IF(AL30=\"\",\"\",VLOOKUP(AL30,支払い状況!$H$5:$O$89,4,FALSE))","v":""},null,null,null,null,{"$f":"IF(AL30=\"\",\"\",VLOOKUP(AL30,支払い状況!$H$5:$O$89,5,FALSE))","v":""}]
[null,6,{"$f":"IF(AL31=\"\",\"\",VLOOKUP(AL31,支払い状況!$H$5:$O$89,2,FALSE))","v":""},null,null,null,null,null,null,null,null,null,null,{"$f":"IF(AL31=\"\",\"\",VLOOKUP(AL31,支払い状況!$H$5:$O$89,3,FALSE))","v":""},null,null,null,null,null,{"$f":"IF(AL31=\"\",\"\",VLOOKUP(AL31,支払い状況!$H$5:$O$89,4,FALSE))","v":""},null,null,null,null,{"$f":"IF(AL31=\"\",\"\",VLOOKUP(AL31,支払い状況!$H$5:$O$89,5,FALSE))","v":""}]
[null,7,{"$f":"IF(AL32=\"\",\"\",VLOOKUP(AL32,支払い状況!$H$5:$O$89,2,FALSE))","v":""},null,null,null,null,null,null,null,null,null,null,{"$f":"IF(AL32=\"\",\"\",VLOOKUP(AL32,支払い状況!$H$5:$O$89,3,FALSE))","v":""},null,null,null,null,null,{"$f":"IF(AL32=\"\",\"\",VLOOKUP(AL32,支払い状況!$H$5:$O$89,4,FALSE))","v":""},null,null,null,null,{"$f":"IF(AL32=\"\",\"\",VLOOKUP(AL32,支払い状況!$H$5:$O$89,5,FALSE))","v":""}]
[null,8,{"$f":"IF(AL33=\"\",\"\",VLOOKUP(AL33,支払い状況!$H$5:$O$89,2,FALSE))","v":""},null,null,null,null,null,null,null,null,null,null,{"$f":"IF(AL33=\"\",\"\",VLOOKUP(AL33,支払い状況!$H$5:$O$89,3,FALSE))","v":""},null,null,null,null,null,{"$f":"IF(AL33=\"\",\"\",VLOOKUP(AL33,支払い状況!$H$5:$O$89,4,FALSE))","v":""},null,null,null,null,{"$f":"IF(AL33=\"\",\"\",VLOOKUP(AL33,支払い状況!$H$5:$O$89,5,FALSE))","v":""}]
[null,9,{"$f":"IF(AL34=\"\",\"\",VLOOKUP(AL34,支払い状況!$H$5:$O$89,2,FALSE))","v":""},null,null,null,null,null,null,null,null,null,null,{"$f":"IF(AL34=\"\",\"\",VLOOKUP(AL34,支払い状況!$H$5:$O$89,3,FALSE))","v":""},null,null,null,null,null,{"$f":"IF(AL34=\"\",\"\",VLOOKUP(AL34,支払い状況!$H$5:$O$89,4,FALSE))","v":""},null,null,null,null,{"$f":"IF(AL34=\"\",\"\",VLOOKUP(AL34,支払い状況!$H$5:$O$89,5,FALSE))","v":""}]
[null,10,{"$f":"IF(AL35=\"\",\"\",VLOOKUP(AL35,支払い状況!$H$5:$O$89,2,FALSE))","v":""},null,null,null,null,null,null,null,null,null,null,{"$f":"IF(AL35=\"\",\"\",VLOOKUP(AL35,支払い状況!$H$5:$O$89,3,FALSE))","v":""},null,null,null,null,null,{"$f":"IF(AL35=\"\",\"\",VLOOKUP(AL35,支払い状況!$H$5:$O$89,4,FALSE))","v":""},null,null,null,null,{"$f":"IF(AL35=\"\",\"\",VLOOKUP(AL35,支払い状況!$H$5:$O$89,5,FALSE))","v":""}]
[null,11,{"$f":"IF(AL36=\"\",\"\",VLOOKUP(AL36,支払い状況!$H$5:$O$89,2,FALSE))","v":""},null,null,null,null,null,null,null,null,null,null,{"$f":"IF(AL36=\"\",\"\",VLOOKUP(AL36,支払い状況!$H$5:$O$89,3,FALSE))","v":""},null,null,null,null,null,{"$f":"IF(AL36=\"\",\"\",VLOOKUP(AL36,支払い状況!$H$5:$O$89,4,FALSE))","v":""},null,null,null,null,{"$f":"IF(AL36=\"\",\"\",VLOOKUP(AL36,支払い状況!$H$5:$O$89,5,FALSE))","v":""}]
[null,12,{"$f":"IF(AL37=\"\",\"\",VLOOKUP(AL37,支払い状況!$H$5:$O$89,2,FALSE))","v":""},null,null,null,null,null,null,null,null,null,null,{"$f":"IF(AL37=\"\",\"\",VLOOKUP(AL37,支払い状況!$H$5:$O$89,3,FALSE))","v":""},null,null,null,null,null,{"$f":"IF(AL37=\"\",\"\",VLOOKUP(AL37,支払い状況!$H$5:$O$89,4,FALSE))","v":""},null,null,null,null,{"$f":"IF(AL37=\"\",\"\",VLOOKUP(AL37,支払い状況!$H$5:$O$89,5,FALSE))","v":""}]
[null,13,{"$f":"IF(AL38=\"\",\"\",VLOOKUP(AL38,支払い状況!$H$5:$O$89,2,FALSE))","v":""},null,null,null,null,null,null,null,null,null,null,{"$f":"IF(AL38=\"\",\"\",VLOOKUP(AL38,支払い状況!$H$5:$O$89,3,FALSE))","v":""},null,null,null,null,null,{"$f":"IF(AL38=\"\",\"\",VLOOKUP(AL38,支払い状況!$H$5:$O$89,4,FALSE))","v":""},null,null,null,null,{"$f":"IF(AL38=\"\",\"\",VLOOKUP(AL38,支払い状況!$H$5:$O$89,5,FALSE))","v":""}]
[null,14,{"$f":"IF(AL39=\"\",\"\",VLOOKUP(AL39,支払い状況!$H$5:$O$89,2,FALSE))","v":""},null,null,null,null,null,null,null,null,null,null,{"$f":"IF(AL39=\"\",\"\",VLOOKUP(AL39,支払い状況!$H$5:$O$89,3,FALSE))","v":""},null,null,null,null,null,{"$f":"IF(AL39=\"\",\"\",VLOOKUP(AL39,支払い状況!$H$5:$O$89,4,FALSE))","v":""},null,null,null,null,{"$f":"IF(AL39=\"\",\"\",VLOOKUP(AL39,支払い状況!$H$5:$O$89,5,FALSE))","v":""}]
[null,15,{"$f":"IF(AL40=\"\",\"\",VLOOKUP(AL40,支払い状況!$H$5:$O$89,2,FALSE))","v":""},null,null,null,null,null,null,null,null,null,null,{"$f":"IF(AL40=\"\",\"\",VLOOKUP(AL40,支払い状況!$H$5:$O$89,3,FALSE))","v":""},null,null,null,null,null,{"$f":"IF(AL40=\"\",\"\",VLOOKUP(AL40,支払い状況!$H$5:$O$89,4,FALSE))","v":""},null,null,null,null,{"$f":"IF(AL40=\"\",\"\",VLOOKUP(AL40,支払い状況!$H$5:$O$89,5,FALSE))","v":""}]
[null,16,{"$f":"IF(AL41=\"\",\"\",VLOOKUP(AL41,支払い状況!$H$5:$O$89,2,FALSE))","v":""},null,null,null,null,null,null,null,null,null,null,{"$f":"IF(AL41=\"\",\"\",VLOOKUP(AL41,支払い状況!$H$5:$O$89,3,FALSE))","v":""},null,null,null,null,null,{"$f":"IF(AL41=\"\",\"\",VLOOKUP(AL41,支払い状況!$H$5:$O$89,4,FALSE))","v":""},null,null,null,null,{"$f":"IF(AL41=\"\",\"\",VLOOKUP(AL41,支払い状況!$H$5:$O$89,5,FALSE))","v":""}]
[null,17,{"$f":"IF(AL42=\"\",\"\",VLOOKUP(AL42,支払い状況!$H$5:$O$89,2,FALSE))","v":""},null,null,null,null,null,null,null,null,null,null,{"$f":"IF(AL42=\"\",\"\",VLOOKUP(AL42,支払い状況!$H$5:$O$89,3,FALSE))","v":""},null,null,null,null,null,{"$f":"IF(AL42=\"\",\"\",VLOOKUP(AL42,支払い状況!$H$5:$O$89,4,FALSE))","v":""},null,null,null,null,{"$f":"IF(AL42=\"\",\"\",VLOOKUP(AL42,支払い状況!$H$5:$O$89,5,FALSE))","v":""}]
[null,18,{"$f":"IF(AL43=\"\",\"\",VLOOKUP(AL43,支払い状況!$H$5:$O$89,2,FALSE))","v":""},null,null,null,null,null,null,null,null,null,null,{"$f":"IF(AL43=\"\",\"\",VLOOKUP(AL43,支払い状況!$H$5:$O$89,3,FALSE))","v":""},null,null,null,null,null,{"$f":"IF(AL43=\"\",\"\",VLOOKUP(AL43,支払い状況!$H$5:$O$89,4,FALSE))","v":""},null,null,null,null,{"$f":"IF(AL43=\"\",\"\",VLOOKUP(AL43,支払い状況!$H$5:$O$89,5,FALSE))","v":""}]
[null,19,{"$f":"IF(AL44=\"\",\"\",VLOOKUP(AL44,支払い状況!$H$5:$O$89,2,FALSE))","v":""},null,null,null,null,null,null,null,null,null,null,{"$f":"IF(AL44=\"\",\"\",VLOOKUP(AL44,支払い状況!$H$5:$O$89,3,FALSE))","v":""},null,null,null,null,null,{"$f":"IF(AL44=\"\",\"\",VLOOKUP(AL44,支払い状況!$H$5:$O$89,4,FALSE))","v":""},null,null,null,null,{"$f":"IF(AL44=\"\",\"\",VLOOKUP(AL44,支払い状況!$H$5:$O$89,5,FALSE))","v":""}]
[null,20,{"$f":"IF(AL45=\"\",\"\",VLOOKUP(AL45,支払い状況!$H$5:$O$89,2,FALSE))","v":""},null,null,null,null,null,null,null,null,null,null,{"$f":"IF(AL45=\"\",\"\",VLOOKUP(AL45,支払い状況!$H$5:$O$89,3,FALSE))","v":""},null,null,null,null,null,{"$f":"IF(AL45=\"\",\"\",VLOOKUP(AL45,支払い状況!$H$5:$O$89,4,FALSE))","v":""},null,null,null,null,{"$f":"IF(AL45=\"\",\"\",VLOOKUP(AL45,支払い状況!$H$5:$O$89,5,FALSE))","v":""}]
[null,21,{"$f":"IF(AL46=\"\",\"\",VLOOKUP(AL46,支払い状況!$H$5:$O$89,2,FALSE))","v":""},null,null,null,null,null,null,null,null,null,null,{"$f":"IF(AL46=\"\",\"\",VLOOKUP(AL46,支払い状況!$H$5:$O$89,3,FALSE))","v":""},null,null,null,null,null,{"$f":"IF(AL46=\"\",\"\",VLOOKUP(AL46,支払い状況!$H$5:$O$89,4,FALSE))","v":""},null,null,null,null,{"$f":"IF(AL46=\"\",\"\",VLOOKUP(AL46,支払い状況!$H$5:$O$89,5,FALSE))","v":""}]
[null,22,{"$f":"IF(AL47=\"\",\"\",VLOOKUP(AL47,支払い状況!$H$5:$O$89,2,FALSE))","v":""},null,null,null,null,null,null,null,null,null,null,{"$f":"IF(AL47=\"\",\"\",VLOOKUP(AL47,支払い状況!$H$5:$O$89,3,FALSE))","v":""},null,null,null,null,null,{"$f":"IF(AL47=\"\",\"\",VLOOKUP(AL47,支払い状況!$H$5:$O$89,4,FALSE))","v":""},null,null,null,null,{"$f":"IF(AL47=\"\",\"\",VLOOKUP(AL47,支払い状況!$H$5:$O$89,5,FALSE))","v":""}]
[null,23,{"$f":"IF(AL48=\"\",\"\",VLOOKUP(AL48,支払い状況!$H$5:$O$89,2,FALSE))","v":""},null,null,null,null,null,null,null,null,null,null,{"$f":"IF(AL48=\"\",\"\",VLOOKUP(AL48,支払い状況!$H$5:$O$89,3,FALSE))","v":""},null,null,null,null,null,{"$f":"IF(AL48=\"\",\"\",VLOOKUP(AL48,支払い状況!$H$5:$O$89,4,FALSE))","v":""},null,null,null,null,{"$f":"IF(AL48=\"\",\"\",VLOOKUP(AL48,支払い状況!$H$5:$O$89,5,FALSE))","v":""}]
[null,24,{"$f":"IF(AL49=\"\",\"\",VLOOKUP(AL49,支払い状況!$H$5:$O$89,2,FALSE))","v":""},null,null,null,null,null,null,null,null,null,null,{"$f":"IF(AL49=\"\",\"\",VLOOKUP(AL49,支払い状況!$H$5:$O$89,3,FALSE))","v":""},null,null,null,null,null,{"$f":"IF(AL49=\"\",\"\",VLOOKUP(AL49,支払い状況!$H$5:$O$89,4,FALSE))","v":""},null,null,null,null,{"$f":"IF(AL49=\"\",\"\",VLOOKUP(AL49,支払い状況!$H$5:$O$89,5,FALSE))","v":""}]
[null,null,"合　　計",null,null,null,null,null,null,null,null,null,null,null,null,null,null,null,null,null,null,null,null,null,{"$f":"IF(COUNT(Y26:AC49)=0,\"\",SUM(Y26:AC49))","v":""}]
[]
[]
[null,null,"３．差引残高"]
[]
[null,null,null,null,null,null,null,null,null,"収入合計",null,null,null,null,null,null,null,null,"支出合計",null,null,null,null,null,null,null,null,null,null,"残　　高"]
[null,null,null,null,null,null,null,null,null,{"$f":"Y22","v":0},null,null,null,null,"－",null,null,null,{"$f":"Y50","v":""},null,null,null,null,null,"＝",null,null,null,null,{"$f":"IF(AND(Y50=\"\",Y19=\"\"),\"\",J56-S56)","v":""}]
[]
[]
[null,null,null,null,"上記のとおり報告いたします。"]
[null,null,null,null,null,null,null,null,null,null,null,null,null,null,null,null,null,null,null,null,null,null,null,null,null,null,null,null,null,null,null,null,null,null,null,null,null,null,null,null,null,null,null,"残金は3学期に繰越しさせていただきます。"]
[null,null,null,null,"令和",null,null,null,"年",null,null,"月",null,null,"日"]
[]
[null,null,null,{"$f":"IF(メイン!J7=\"\",\"\",メイン!J7)","v":""},null,null,null,null,null,null,null,null,null,null,null,null,null,null,"校長",null,null,{"$f":"IF(メイン!J9=\"\",\"\",メイン!J9)","v":""},null,null,null,null,null,null,null,null,null,"印"]
[]
[null,null,null,null,null,null,null,null,null,null,null,null,null,null,null,null,null,null,"担任",null,null,{"$f":"IF(メイン!J8=\"\",\"\",メイン!J8)","v":""},null,null,null,null,null,null,null,null,null,"印"]

{"sheet":"3学期報告","index":5,"n_rows":65,"n_cols":44,"rows_kept":65,"cut":false,"hidden":false,"merged":[[7,13,7,17],[7,18,7,23],[13,7,13,12],[13,13,13,17],[13,18,13,23],[8,7,8,12],[8,13,8,17],[8,18,8,23],[9,7,9,12],[9,13,9,17],[9,18,9,23],[10,7,10,12],[10,13,10,17],[10,18,10,23],[14,7,14,12],[14,13,14,17],[14,18,14,23],[15,7,15,12],[15,13,15,17],[15,18,15,23],[16,7,16,12],[16,13,16,17],[16,18,16,23],[17,7,17,12],[17,13,17,17],[17,18,17,23],[18,7,18,12],[18,13,18,17],[18,18,18,23],[19,2,19,6],[19,7,19,12],[19,13,19,17],[19,18,19,23],[19,24,19,28],[19,29,19,34],[20,2,20,6],[20,7,20,12],[20,13,20,17],[20,18,20,23],[20,24,20,28],[20,29,20,34],[21,2,21,12],[21,13,21,23],[21,24,21,28],[21,29,21,34],[24,2,24,12],[24,13,24,18],[24,19,24,23],[24,24,24,28],[24,29,24,34],[25,2,25,12],[25,13,25,18],[25,19,25,23],[25,24,25,28],[25,29,25,34],[26,2,26,12],[26,13,26,18],[26,19,26,23],[26,24,26,28],[26,29,26,34],[27,2,27,12],[27,13,27,18],[27,19,27,23],[27,24,27,28],[27,29,27,34],[28,2,28,12],[28,13,28,18],[28,19,28,23],[28,24,28,28],[28,29,28,34],[29,2,29,12],[29,13,29,18],[29,19,29,23],[29,24,29,28],[29,29,29,34],[30,2,30,12],[30,13,30,18],[30,19,30,23],[30,24,30,28],[30,29,30,34],[31,2,31,12],[31,13,31,18],[31,19,31,23],[31,24,31,28],[31,29,31,34],[32,2,32,12],[32,13,32,18],[32,19,32,23],[32,24,32,28],[32,29,32,34],[33,2,33,12],[33,13,33,18],[33,19,33,23],[33,24,33,28],[33,29,33,34],[34,2,34,12],[34,13,34,18],[34,19,34,23],[34,24,34,28],[34,29,34,34],[35,2,35,12],[35,13,35,18],[35,19,35,23],[35,24,35,28],[35,29,35,34],[36,2,36,12],[36,13,36,18],[36,19,36,23],[36,24,36,28],[36,29,36,34],[37,2,37,12],[37,13,37,18],[37,19,37,23],[37,24,37,28],[37,29,37,34],[38,2,38,12],[38,13,38,18],[38,19,38,23],[38,24,38,28],[38,29,38,34],[39,2,39,12],[39,13,39,18],[39,19,39,23],[39,24,39,28],[39,29,39,34],[40,2,40,12],[40,13,40,18],[40,19,40,23],[40,24,40,28],[40,29,40,34],[41,2,41,12],[41,13,41,18],[41,19,41,23],[41,24,41,28],[41,29,41,34],[44,29,44,34],[45,2,45,12],[45,13,45,18],[45,19,45,23],[45,24,45,28],[45,29,45,34],[42,2,42,12],[42,13,42,18],[42,19,42,23],[42,24,42,28],[42,29,42,34],[43,2,43,12],[43,13,43,18],[43,19,43,23],[43,24,43,28],[43,29,43,34],[55,9,55,13],[55,14,55,17],[55,18,55,23],[55,24,55,28],[55,29,55,34],[48,2,48,12],[48,13,48,18],[48,19,48,23],[48,24,48,28],[48,29,48,34],[49,2,49,18],[49,19,49,23],[49,24,49,28],[49,29,49,34],[13,2,15,6],[13,24,15,28],[13,29,15,34],[16,2,18,6],[16,24,18,28],[16,29,18,34],[54,9,54,13],[54,14,54,17],[54,18,54,23],[54,29,54,34],[46,2,46,12],[46,13,46,18],[46,19,46,23],[46,24,46,28],[46,29,46,34],[47,2,47,12],[47,13,47,18],[47,19,47,23],[47,24,47,28],[47,29,47,34],[44,2,44,12],[44,13,44,18],[44,19,44,23],[44,24,44,28],[2,5,3,6],[2,7,3,8],[2,9,3,10],[2,11,3,12],[2,14,3,29],[7,2,9,6],[7,24,9,28],[7,29,9,34],[10,2,12,6],[10,24,12,28],[10,29,12,34],[11,7,11,12],[11,13,11,17],[11,18,11,23],[12,7,12,12],[12,13,12,17],[12,18,12,23],[6,2,6,6],[6,7,6,12],[6,13,6,17],[6,18,6,23],[6,24,6,28],[6,29,6,34],[7,7,7,12],[62,3,63,16],[62,18,63,20],[62,21,63,30],[62,31,63,32],[64,18,65,20],[64,21,65,30],[64,31,65,32],[57,4,57,19],[60,4,60,5],[60,6,60,7],[60,9,60,10],[60,12,60,13]]}
["保護者様"]
[]
[null,null,null,null,null,{"$f":"IF(メイン!C8=\"\",\"\",メイン!C8)","v":""},null,"年",null,{"$f":"IF(メイン!E8=\"\",\"\",メイン!E8)","v":""},null,"組",null,null,"３学期学級会計報告"]
[]
[]
[null,null,"１．収入"]
[null,null,"項　　目",null,null,null,null,"円",null,null,null,null,null,"人数",null,null,null,null,"合計",null,null,null,null,null,"総合計",null,null,null,null,"備　　考"]
[null,null,"１月集金",null,null,null,null,null,null,null,null,null,null,null,null,null,null,null,{"$f":"IF(COUNT(H8:R8)=0,\"\",H8*N8)","v":""},null,null,null,null,null,{"$f":"SUM(S8:S10)","v":0}]
[null,null,null,null,null,null,null,null,null,null,null,null,null,null,null,null,null,null,""]
[null,null,null,null,null,null,null,null,null,null,null,null,null,null,null,null,null,null,""]
[null,null,"２月集金",null,null,null,null,null,null,null,null,null,null,null,null,null,null,null,"",null,null,null,null,null,{"$f":"SUM(S11:S13)","v":0}]
[null,null,null,null,null,null,null,null,null,null,null,null,null,null,null,null,null,null,""]
[null,null,null,null,null,null,null,null,null,null,null,null,null,null,null,null,null,null,""]
[null,null,"３月集金",null,null,null,null,null,null,null,null,null,null,null,null,null,null,null,"",null,null,null,null,null,{"$f":"SUM(S14:S16)","v":0}]
[null,null,null,null,null,null,null,null,null,null,null,null,null,null,null,null,null,null,""]
[null,null,null,null,null,null,null,null,null,null,null,null,null,null,null,null,null,null,""]
[null,null,null,null,null,null,null,null,null,null,null,null,null,null,null,null,null,null,"",null,null,null,null,null,{"$f":"SUM(S17:S19)","v":0}]
[null,null,null,null,null,null,null,null,null,null,null,null,null,null,null,null,null,null,""]
[null,null,null,null,null,null,null,null,null,null,null,null,null,null,null,null,null,null,""]
[null,null,"転出生徒返金",null,null,null,null,null,null,null,null,null,null,null,null,null,null,null,"",null,null,null,null,null,{"$f":"IF(H20*N20=0,\"\",H20*N20)","v":""}]
[null,null,"繰越",null,null,null,null,null,null,null,null,null,null,null,null,null,null,null,"",null,null,null,null,null,{"$f":"'2学期報告'!AD56","v":""}]
[null,null,"合計",null,null,null,null,null,null,null,null,null,null,null,null,null,null,null,null,null,null,null,null,null,{"$f":"IF(COUNT(Y8:AC21)=0,\"\",SUM(Y8:AI21))","v":0}]
[]
[null,null,"２．支出"]
[null,null,"品名",null,null,null,null,null,null,null,null,null,null,"単　　価",null,null,null,null,null,"数　　量",null,null,null,null,"金　　額",null,null,null,null,"備　　考",null,null,null,null,null,null,null,"ここに入力↓"]
[null,1,{"$f":"IF(AL26=\"\",\"\",VLOOKUP(AL26,支払い状況!$H$5:$O$89,2,FALSE))","v":""},null,null,null,null,null,null,null,null,null,null,{"$f":"IF(AL26=\"\",\"\",VLOOKUP(AL26,支払い状況!$H$5:$O$89,3,FALSE))","v":""},null,null,null,null,null,{"$f":"IF(AL26=\"\",\"\",VLOOKUP(AL26,支払い状況!$H$5:$N$89,4,FALSE))","v":""},null,null,null,null,{"$f":"IF(AL26=\"\",\"\",VLOOKUP(AL26,支払い状況!$H$5:$N$89,5,FALSE))","v":""}]
[null,2,{"$f":"IF(AL27=\"\",\"\",VLOOKUP(AL27,支払い状況!$H$5:$O$89,2,FALSE))","v":""},null,null,null,null,null,null,null,null,null,null,{"$f":"IF(AL27=\"\",\"\",VLOOKUP(AL27,支払い状況!$H$5:$O$89,3,FALSE))","v":""},null,null,null,null,null,{"$f":"IF(AL27=\"\",\"\",VLOOKUP(AL27,支払い状況!$H$5:$N$89,4,FALSE))","v":""},null,null,null,null,{"$f":"IF(AL27=\"\",\"\",VLOOKUP(AL27,支払い状況!$H$5:$N$89,5,FALSE))","v":""}]
[null,3,{"$f":"IF(AL28=\"\",\"\",VLOOKUP(AL28,支払い状況!$H$5:$O$89,2,FALSE))","v":""},null,null,null,null,null,null,null,null,null,null,{"$f":"IF(AL28=\"\",\"\",VLOOKUP(AL28,支払い状況!$H$5:$O$89,3,FALSE))","v":""},null,null,null,null,null,{"$f":"IF(AL28=\"\",\"\",VLOOKUP(AL28,支払い状況!$H$5:$N$89,4,FALSE))","v":""},null,null,null,null,{"$f":"IF(AL28=\"\",\"\",VLOOKUP(AL28,支払い状況!$H$5:$N$89,5,FALSE))","v":""}]
[null,4,{"$f":"IF(AL29=\"\",\"\",VLOOKUP(AL29,支払い状況!$H$5:$O$89,2,FALSE))","v":""},null,null,null,null,null,null,null,null,null,null,{"$f":"IF(AL29=\"\",\"\",VLOOKUP(AL29,支払い状況!$H$5:$O$89,3,FALSE))","v":""},null,null,null,null,null,{"$f":"IF(AL29=\"\",\"\",VLOOKUP(AL29,支払い状況!$H$5:$N$89,4,FALSE))","v":""},null,null,null,null,{"$f":"IF(AL29=\"\",\"\",VLOOKUP(AL29,支払い状況!$H$5:$N$89,5,FALSE))","v":""}]
[null,5,{"$f":"IF(AL30=\"\",\"\",VLOOKUP(AL30,支払い状況!$H$5:$O$89,2,FALSE))","v":""},null,null,null,null,null,null,null,null,null,null,{"$f":"IF(AL30=\"\",\"\",VLOOKUP(AL30,支払い状況!$H$5:$O$89,3,FALSE))","v":""},null,null,null,null,null,{"$f":"IF(AL30=\"\",\"\",VLOOKUP(AL30,支払い状況!$H$5:$N$89,4,FALSE))","v":""},null,null,null,null,{"$f":"IF(AL30=\"\",\"\",VLOOKUP(AL30,支払い状況!$H$5:$N$89,5,FALSE))","v":""}]
[null,6,{"$f":"IF(AL31=\"\",\"\",VLOOKUP(AL31,支払い状況!$H$5:$O$89,2,FALSE))","v":""},null,null,null,null,null,null,null,null,null,null,{"$f":"IF(AL31=\"\",\"\",VLOOKUP(AL31,支払い状況!$H$5:$O$89,3,FALSE))","v":""},null,null,null,null,null,{"$f":"IF(AL31=\"\",\"\",VLOOKUP(AL31,支払い状況!$H$5:$N$89,4,FALSE))","v":""},null,null,null,null,{"$f":"IF(AL31=\"\",\"\",VLOOKUP(AL31,支払い状況!$H$5:$N$89,5,FALSE))","v":""}]
[null,7,{"$f":"IF(AL32=\"\",\"\",VLOOKUP(AL32,支払い状況!$H$5:$O$89,2,FALSE))","v":""},null,null,null,null,null,null,null,null,null,null,{"$f":"IF(AL32=\"\",\"\",VLOOKUP(AL32,支払い状況!$H$5:$O$89,3,FALSE))","v":""},null,null,null,null,null,{"$f":"IF(AL32=\"\",\"\",VLOOKUP(AL32,支払い状況!$H$5:$N$89,4,FALSE))","v":""},null,null,null,null,{"$f":"IF(AL32=\"\",\"\",VLOOKUP(AL32,支払い状況!$H$5:$N$89,5,FALSE))","v":""}]
[null,8,{"$f":"IF(AL33=\"\",\"\",VLOOKUP(AL33,支払い状況!$H$5:$O$89,2,FALSE))","v":""},null,null,null,null,null,null,null,null,null,null,{"$f":"IF(AL33=\"\",\"\",VLOOKUP(AL33,支払い状況!$H$5:$O$89,3,FALSE))","v":""},null,null,null,null,null,{"$f":"IF(AL33=\"\",\"\",VLOOKUP(AL33,支払い状況!$H$5:$N$89,4,FALSE))","v":""},null,null,null,null,{"$f":"IF(AL33=\"\",\"\",VLOOKUP(AL33,支払い状況!$H$5:$N$89,5,FALSE))","v":""}]
[null,9,{"$f":"IF(AL34=\"\",\"\",VLOOKUP(AL34,支払い状況!$H$5:$O$89,2,FALSE))","v":""},null,null,null,null,null,null,null,null,null,null,{"$f":"IF(AL34=\"\",\"\",VLOOKUP(AL34,支払い状況!$H$5:$O$89,3,FALSE))","v":""},null,null,null,null,null,{"$f":"IF(AL34=\"\",\"\",VLOOKUP(AL34,支払い状況!$H$5:$N$89,4,FALSE))","v":""},null,null,null,null,{"$f":"IF(AL34=\"\",\"\",VLOOKUP(AL34,支払い状況!$H$5:$N$89,5,FALSE))","v":""}]
[null,10,{"$f":"IF(AL35=\"\",\"\",VLOOKUP(AL35,支払い状況!$H$5:$O$89,2,FALSE))","v":""},null,null,null,null,null,null,null,null,null,null,{"$f":"IF(AL35=\"\",\"\",VLOOKUP(AL35,支払い状況!$H$5:$O$89,3,FALSE))","v":""},null,null,null,null,null,{"$f":"IF(AL35=\"\",\"\",VLOOKUP(AL35,支払い状況!$H$5:$N$89,4,FALSE))","v":""},null,null,null,null,{"$f":"IF(AL35=\"\",\"\",VLOOKUP(AL35,支払い状況!$H$5:$N$89,5,FALSE))","v":""}]
[null,11,{"$f":"IF(AL36=\"\",\"\",VLOOKUP(AL36,支払い状況!$H$5:$O$89,2,FALSE))","v":""},null,null,null,null,null,null,null,null,null,null,{"$f":"IF(AL36=\"\",\"\",VLOOKUP(AL36,支払い状況!$H$5:$O$89,3,FALSE))","v":""},null,null,null,null,null,{"$f":"IF(AL36=\"\",\"\",VLOOKUP(AL36,支払い状況!$H$5:$N$89,4,FALSE))","v":""},null,null,null,null,{"$f":"IF(AL36=\"\",\"\",VLOOKUP(AL36,支払い状況!$H$5:$N$89,5,FALSE))","v":""}]
[null,12,{"$f":"IF(AL37=\"\",\"\",VLOOKUP(AL37,支払い状況!$H$5:$O$89,2,FALSE))","v":""},null,null,null,null,null,null,null,null,null,null,{"$f":"IF(AL37=\"\",\"\",VLOOKUP(AL37,支払い状況!$H$5:$O$89,3,FALSE))","v":""},null,null,null,null,null,{"$f":"IF(AL37=\"\",\"\",VLOOKUP(AL37,支払い状況!$H$5:$N$89,4,FALSE))","v":""},null,null,null,null,{"$f":"IF(AL37=\"\",\"\",VLOOKUP(AL37,支払い状況!$H$5:$N$89,5,FALSE))","v":""}]
[null,13,{"$f":"IF(AL38=\"\",\"\",VLOOKUP(AL38,支払い状況!$H$5:$O$89,2,FALSE))","v":""},null,null,null,null,null,null,null,null,null,null,{"$f":"IF(AL38=\"\",\"\",VLOOKUP(AL38,支払い状況!$H$5:$O$89,3,FALSE))","v":""},null,null,null,null,null,{"$f":"IF(AL38=\"\",\"\",VLOOKUP(AL38,支払い状況!$H$5:$N$89,4,FALSE))","v":""},null,null,null,null,{"$f":"IF(AL38=\"\",\"\",VLOOKUP(AL38,支払い状況!$H$5:$N$89,5,FALSE))","v":""}]
[null,14,{"$f":"IF(AL39=\"\",\"\",VLOOKUP(AL39,支払い状況!$H$5:$O$89,2,FALSE))","v":""},null,null,null,null,null,null,null,null,null,null,{"$f":"IF(AL39=\"\",\"\",VLOOKUP(AL39,支払い状況!$H$5:$O$89,3,FALSE))","v":""},null,null,null,null,null,{"$f":"IF(AL39=\"\",\"\",VLOOKUP(AL39,支払い状況!$H$5:$N$89,4,FALSE))","v":""},null,null,null,null,{"$f":"IF(AL39=\"\",\"\",VLOOKUP(AL39,支払い状況!$H$5:$N$89,5,FALSE))","v":""}]
[null,15,{"$f":"IF(AL40=\"\",\"\",VLOOKUP(AL40,支払い状況!$H$5:$O$89,2,FALSE))","v":""},null,null,null,null,null,null,null,null,null,null,{"$f":"IF(AL40=\"\",\"\",VLOOKUP(AL40,支払い状況!$H$5:$O$89,3,FALSE))","v":""},null,null,null,null,null,{"$f":"IF(AL40=\"\",\"\",VLOOKUP(AL40,支払い状況!$H$5:$N$89,4,FALSE))","v":""},null,null,null,null,{"$f":"IF(AL40=\"\",\"\",VLOOKUP(AL40,支払い状況!$H$5:$N$89,5,FALSE))","v":""}]
[null,16,{"$f":"IF(AL41=\"\",\"\",VLOOKUP(AL41,支払い状況!$H$5:$O$89,2,FALSE))","v":""},null,null,null,null,null,null,null,null,null,null,{"$f":"IF(AL41=\"\",\"\",VLOOKUP(AL41,支払い状況!$H$5:$O$89,3,FALSE))","v":""},null,null,null,null,null,{"$f":"IF(AL41=\"\",\"\",VLOOKUP(AL41,支払い状況!$H$5:$N$89,4,FALSE))","v":""},null,null,null,null,{"$f":"IF(AL41=\"\",\"\",VLOOKUP(AL41,支払い状況!$H$5:$N$89,5,FALSE))","v":""}]
[null,17,{"$f":"IF(AL42=\"\",\"\",VLOOKUP(AL42,支払い状況!$H$5:$O$89,2,FALSE))","v":""},null,null,null,null,null,null,null,null,null,null,{"$f":"IF(AL42=\"\",\"\",VLOOKUP(AL42,支払い状況!$H$5:$O$89,3,FALSE))","v":""},null,null,null,null,null,{"$f":"IF(AL42=\"\",\"\",VLOOKUP(AL42,支払い状況!$H$5:$N$89,4,FALSE))","v":""},null,null,null,null,{"$f":"IF(AL42=\"\",\"\",VLOOKUP(AL42,支払い状況!$H$5:$N$89,5,FALSE))","v":""}]
[null,18,{"$f":"IF(AL43=\"\",\"\",VLOOKUP(AL43,支払い状況!$H$5:$O$89,2,FALSE))","v":""},null,null,null,null,null,null,null,null,null,null,{"$f":"IF(AL43=\"\",\"\",VLOOKUP(AL43,支払い状況!$H$5:$O$89,3,FALSE))","v":""},null,null,null,null,null,{"$f":"IF(AL43=\"\",\"\",VLOOKUP(AL43,支払い状況!$H$5:$N$89,4,FALSE))","v":""},null,null,null,null,{"$f":"IF(AL43=\"\",\"\",VLOOKUP(AL43,支払い状況!$H$5:$N$89,5,FALSE))","v":""}]
[null,19,{"$f":"IF(AL44=\"\",\"\",VLOOKUP(AL44,支払い状況!$H$5:$O$89,2,FALSE))","v":""},null,null,null,null,null,null,null,null,null,null,{"$f":"IF(AL44=\"\",\"\",VLOOKUP(AL44,支払い状況!$H$5:$O$89,3,FALSE))","v":""},null,null,null,null,null,{"$f":"IF(AL44=\"\",\"\",VLOOKUP(AL44,支払い状況!$H$5:$N$89,4,FALSE))","v":""},null,null,null,null,{"$f":"IF(AL44=\"\",\"\",VLOOKUP(AL44,支払い状況!$H$5:$N$89,5,FALSE))","v":""}]
[null,20,{"$f":"IF(AL45=\"\",\"\",VLOOKUP(AL45,支払い状況!$H$5:$O$89,2,FALSE))","v":""},null,null,null,null,null,null,null,null,null,null,{"$f":"IF(AL45=\"\",\"\",VLOOKUP(AL45,支払い状況!$H$5:$O$89,3,FALSE))","v":""},null,null,null,null,null,{"$f":"IF(AL45=\"\",\"\",VLOOKUP(AL45,支払い状況!$H$5:$N$89,4,FALSE))","v":""},null,null,null,null,{"$f":"IF(AL45=\"\",\"\",VLOOKUP(AL45,支払い状況!$H$5:$N$89,5,FALSE))","v":""}]
[null,21,{"$f":"IF(AL46=\"\",\"\",VLOOKUP(AL46,支払い状況!$H$5:$O$89,2,FALSE))","v":""},null,null,null,null,null,null,null,null,null,null,{"$f":"IF(AL46=\"\",\"\",VLOOKUP(AL46,支払い状況!$H$5:$O$89,3,FALSE))","v":""},null,null,null,null,null,{"$f":"IF(AL46=\"\",\"\",VLOOKUP(AL46,支払い状況!$H$5:$N$89,4,FALSE))","v":""},null,null,null,null,{"$f":"IF(AL46=\"\",\"\",VLOOKUP(AL46,支払い状況!$H$5:$N$89,5,FALSE))","v":""}]
[null,22,{"$f":"IF(AL47=\"\",\"\",VLOOKUP(AL47,支払い状況!$H$5:$O$89,2,FALSE))","v":""},null,null,null,null,null,null,null,null,null,null,{"$f":"IF(AL47=\"\",\"\",VLOOKUP(AL47,支払い状況!$H$5:$O$89,3,FALSE))","v":""},null,null,null,null,null,{"$f":"IF(AL47=\"\",\"\",VLOOKUP(AL47,支払い状況!$H$5:$N$89,4,FALSE))","v":""},null,null,null,null,{"$f":"IF(AL47=\"\",\"\",VLOOKUP(AL47,支払い状況!$H$5:$N$89,5,FALSE))","v":""}]
[null,23,{"$f":"IF(AL48=\"\",\"\",VLOOKUP(AL48,支払い状況!$H$5:$O$89,2,FALSE))","v":""},null,null,null,null,null,null,null,null,null,null,{"$f":"IF(AL48=\"\",\"\",VLOOKUP(AL48,支払い状況!$H$5:$O$89,3,FALSE))","v":""},null,null,null,null,null,{"$f":"IF(AL48=\"\",\"\",VLOOKUP(AL48,支払い状況!$H$5:$N$89,4,FALSE))","v":""},null,null,null,null,{"$f":"IF(AL48=\"\",\"\",VLOOKUP(AL48,支払い状況!$H$5:$N$89,5,FALSE))","v":""}]
[null,24,{"$f":"IF(AL49=\"\",\"\",VLOOKUP(AL49,支払い状況!$H$5:$O$89,2,FALSE))","v":""},null,null,null,null,null,null,null,null,null,null,{"$f":"IF(AL49=\"\",\"\",VLOOKUP(AL49,支払い状況!$H$5:$O$89,3,FALSE))","v":""},null,null,null,null,null,{"$f":"IF(AL49=\"\",\"\",VLOOKUP(AL49,支払い状況!$H$5:$N$89,4,FALSE))","v":""},null,null,null,null,{"$f":"IF(AL49=\"\",\"\",VLOOKUP(AL49,支払い状況!$H$5:$N$89,5,FALSE))","v":""}]
[null,null,"合　　計",null,null,null,null,null,null,null,null,null,null,null,null,null,null,null,null,null,null,null,null,null,{"$f":"IF(COUNT(Y26:AC49)=0,\"\",SUM(Y26:AC49))","v":""}]
[]
[]
[null,null,"３．差引残高"]
[]
[null,null,null,null,null,null,null,null,null,"収入合計",null,null,null,null,null,null,null,null,"支出合計",null,null,null,null,null,null,null,null,null,null,"残　　高"]
[null,null,null,null,null,null,null,null,null,{"$f":"Y22","v":0},null,null,null,null,"－",null,null,null,{"$f":"Y50","v":""},null,null,null,null,null,"＝",null,null,null,null,{"$f":"IF(AND(Y50=\"\",Y19=\"\"),\"\",J56-S56)","v":""}]
[]
[]
[null,null,null,null,"上記のとおり報告いたします。"]
[null,null,null,null,null,null,null,null,null,null,null,null,null,null,null,null,null,null,null,null,null,null,null,null,null,null,null,null,null,null,null,null,null,null,null,null,null,null,null,null,null,null,null,"残金は2学期に繰越しさせていただきます。"]
[null,null,null,null,"令和",null,null,null,"年",null,null,"月",null,null,"日"]
[]
[null,null,null,{"$f":"IF(メイン!J7=\"\",\"\",メイン!J7)","v":""},null,null,null,null,null,null,null,null,null,null,null,null,null,null,"校長",null,null,{"$f":"IF(メイン!J9=\"\",\"\",メイン!J9)","v":""},null,null,null,null,null,null,null,null,null,"印"]
[]
[null,null,null,null,null,null,null,null,null,null,null,null,null,null,null,null,null,null,"担任",null,null,{"$f":"IF(メイン!J8=\"\",\"\",メイン!J8)","v":""},null,null,null,null,null,null,null,null,null,"印"]

{"sheet":"1学期報告保護者","index":6,"n_rows":64,"n_cols":44,"rows_kept":64,"cut":false,"hidden":false,"merged":[[7,13,7,17],[7,18,7,23],[13,7,13,12],[13,13,13,17],[13,18,13,23],[8,7,8,12],[8,13,8,17],[8,18,8,23],[9,7,9,12],[9,13,9,17],[9,18,9,23],[10,7,10,12],[10,13,10,17],[10,18,10,23],[14,7,14,12],[14,13,14,17],[14,18,14,23],[15,7,15,12],[15,13,15,17],[15,18,15,23],[16,7,16,12],[16,13,16,17],[16,18,16,23],[17,7,17,12],[17,13,17,17],[17,18,17,23],[18,7,18,12],[18,13,18,17],[18,18,18,23],[19,2,19,6],[19,7,19,12],[19,13,19,17],[19,18,19,23],[19,24,19,28],[19,29,19,34],[20,2,20,12],[20,13,20,23],[20,24,20,28],[20,29,20,34],[23,2,23,12],[23,13,23,18],[23,19,23,23],[23,24,23,28],[23,29,23,34],[24,2,24,12],[24,13,24,18],[24,19,24,23],[24,24,24,28],[24,29,24,34],[25,2,25,12],[25,13,25,18],[25,19,25,23],[25,24,25,28],[25,29,25,34],[26,2,26,12],[26,13,26,18],[26,19,26,23],[26,24,26,28],[26,29,26,34],[27,2,27,12],[27,13,27,18],[27,19,27,23],[27,24,27,28],[27,29,27,34],[28,2,28,12],[28,13,28,18],[28,19,28,23],[28,24,28,28],[28,29,28,34],[29,2,29,12],[29,13,29,18],[29,19,29,23],[29,24,29,28],[29,29,29,34],[30,2,30,12],[30,13,30,18],[30,19,30,23],[30,24,30,28],[30,29,30,34],[31,2,31,12],[31,13,31,18],[31,19,31,23],[31,24,31,28],[31,29,31,34],[32,2,32,12],[32,13,32,18],[32,19,32,23],[32,24,32,28],[32,29,32,34],[33,2,33,12],[33,13,33,18],[33,19,33,23],[33,24,33,28],[33,29,33,34],[34,2,34,12],[34,13,34,18],[34,19,34,23],[34,24,34,28],[34,29,34,34],[35,2,35,12],[35,13,35,18],[35,19,35,23],[35,24,35,28],[35,29,35,34],[36,2,36,12],[36,13,36,18],[36,19,36,23],[36,24,36,28],[36,29,36,34],[37,2,37,12],[37,13,37,18],[37,19,37,23],[37,24,37,28],[37,29,37,34],[38,2,38,12],[38,13,38,18],[38,19,38,23],[38,24,38,28],[38,29,38,34],[39,2,39,12],[39,13,39,18],[39,19,39,23],[39,24,39,28],[39,29,39,34],[40,2,40,12],[40,13,40,18],[40,19,40,23],[40,24,40,28],[40,29,40,34],[41,2,41,12],[41,13,41,18],[41,19,41,23],[41,24,41,28],[41,29,41,34],[44,29,44,34],[45,2,45,12],[45,13,45,18],[45,19,45,23],[45,24,45,28],[45,29,45,34],[42,2,42,12],[42,13,42,18],[42,19,42,23],[42,24,42,28],[42,29,42,34],[43,2,43,12],[43,13,43,18],[43,19,43,23],[43,24,43,28],[43,29,43,34],[53,9,53,13],[53,14,53,17],[53,18,53,23],[53,29,53,34],[54,9,54,13],[54,14,54,17],[54,18,54,23],[54,24,54,28],[54,29,54,34],[13,2,15,6],[13,24,15,28],[13,29,15,34],[16,2,18,6],[16,24,18,28],[16,29,18,34],[48,2,48,18],[48,19,48,23],[48,24,48,28],[48,29,48,34],[46,2,46,12],[46,13,46,18],[46,19,46,23],[46,24,46,28],[46,29,46,34],[47,2,47,12],[47,13,47,18],[47,19,47,23],[47,24,47,28],[47,29,47,34],[44,2,44,12],[44,13,44,18],[44,19,44,23],[44,24,44,28],[2,5,3,6],[2,7,3,8],[2,9,3,10],[2,11,3,12],[2,14,3,29],[7,2,9,6],[7,24,9,28],[7,29,9,34],[10,2,12,6],[10,24,12,28],[10,29,12,34],[11,7,11,12],[11,13,11,17],[11,18,11,23],[12,7,12,12],[12,13,12,17],[12,18,12,23],[6,2,6,6],[6,7,6,12],[6,13,6,17],[6,18,6,23],[6,24,6,28],[6,29,6,34],[7,7,7,12],[61,3,62,16],[61,18,62,20],[61,21,62,30],[61,31,62,32],[63,18,64,20],[63,21,64,30],[63,31,64,32],[56,4,56,19],[59,4,59,5],[59,6,59,7],[59,9,59,10],[59,12,59,13]]}
["保護者様"]
[]
[null,null,null,null,null,{"$f":"IF(メイン!C8=\"\",\"\",メイン!C8)","v":""},null,"年",null,{"$f":"IF(メイン!E8=\"\",\"\",メイン!E8)","v":""},null,"組",null,null,"１学期学級会計報告（保護者用）"]
[]
[]
[null,null,"１．収入"]
[null,null,"項　　目",null,null,null,null,"円",null,null,null,null,null,"人数",null,null,null,null,"合計",null,null,null,null,null,"総合計",null,null,null,null,"備　　考"]
[null,null,"４月集金",null,null,null,null,null,null,null,null,null,null,null,null,null,null,null,null,null,null,null,null,null,{"$f":"'1学期報告'!Y8:AC10","v":0}]
[]
[]
[null,null,"５月集金",null,null,null,null,null,null,null,null,null,null,null,null,null,null,null,null,null,null,null,null,null,{"$f":"'1学期報告'!Y11:AC13","v":0}]
[]
[]
[null,null,"６月集金",null,null,null,null,null,null,null,null,null,null,null,null,null,null,null,null,null,null,null,null,null,{"$f":"'1学期報告'!Y14:AC16","v":0}]
[]
[]
[null,null,"７月集金",null,null,null,null,null,null,null,null,null,null,null,null,null,null,null,null,null,null,null,null,null,{"$f":"'1学期報告'!Y17:AC19","v":0}]
[]
[]
[null,null,"転出生徒返金",null,null,null,null,null,null,null,null,null,null,null,null,null,null,null,{"$f":"IF(COUNT(H20:R20)=0,\"\",H20*N20)","v":""},null,null,null,null,null,{"$f":"'1学期報告'!Y20:AC20","v":""}]
[null,null,"合計",null,null,null,null,null,null,null,null,null,null,null,null,null,null,null,null,null,null,null,null,null,{"$f":"IF(COUNT(Y8:AC20)=0,\"\",SUM(Y8:AI20))","v":0}]
[]
[null,null,"２．支出"]
[null,null,"品名",null,null,null,null,null,null,null,null,null,null,"単　　価",null,null,null,null,null,"数　　量",null,null,null,null,"金　　額",null,null,null,null,"備　　考"]
[null,1,{"$f":"'1学期報告'!C25:M25","v":""},null,null,null,null,null,null,null,null,null,null,null,null,null,null,null,null,null,null,null,null,null,{"$f":"'1学期報告'!Y25:AC25","v":""}]
[null,2,{"$f":"'1学期報告'!C26:M26","v":""},null,null,null,null,null,null,null,null,null,null,null,null,null,null,null,null,null,null,null,null,null,{"$f":"'1学期報告'!Y26:AC26","v":""}]
[null,3,{"$f":"'1学期報告'!C27:M27","v":""},null,null,null,null,null,null,null,null,null,null,null,null,null,null,null,null,null,null,null,null,null,{"$f":"'1学期報告'!Y27:AC27","v":""}]
[null,4,{"$f":"'1学期報告'!C28:M28","v":""},null,null,null,null,null,null,null,null,null,null,null,null,null,null,null,null,null,null,null,null,null,{"$f":"'1学期報告'!Y28:AC28","v":""}]
[null,5,{"$f":"'1学期報告'!C29:M29","v":""},null,null,null,null,null,null,null,null,null,null,null,null,null,null,null,null,null,null,null,null,null,{"$f":"'1学期報告'!Y29:AC29","v":""}]
[null,6,{"$f":"'1学期報告'!C30:M30","v":""},null,null,null,null,null,null,null,null,null,null,null,null,null,null,null,null,null,null,null,null,null,{"$f":"'1学期報告'!Y30:AC30","v":""}]
[null,7,{"$f":"'1学期報告'!C31:M31","v":""},null,null,null,null,null,null,null,null,null,null,{"$f":"IF(AL31=\"\",\"\",VLOOKUP(AL31,支払い状況!$H$5:$L$89,3,FALSE))","v":""},null,null,null,null,null,{"$f":"IF(AL31=\"\",\"\",VLOOKUP(AL31,支払い状況!$H$5:$N$89,4,FALSE))","v":""},null,null,null,null,{"$f":"'1学期報告'!Y31:AC31","v":""}]
[null,8,{"$f":"'1学期報告'!C32:M32","v":""},null,null,null,null,null,null,null,null,null,null,{"$f":"IF(AL32=\"\",\"\",VLOOKUP(AL32,支払い状況!$H$5:$L$89,3,FALSE))","v":""},null,null,null,null,null,{"$f":"IF(AL32=\"\",\"\",VLOOKUP(AL32,支払い状況!$H$5:$N$89,4,FALSE))","v":""},null,null,null,null,{"$f":"'1学期報告'!Y32:AC32","v":""}]
[null,9,{"$f":"'1学期報告'!C33:M33","v":""},null,null,null,null,null,null,null,null,null,null,{"$f":"IF(AL33=\"\",\"\",VLOOKUP(AL33,支払い状況!$H$5:$L$89,3,FALSE))","v":""},null,null,null,null,null,{"$f":"IF(AL33=\"\",\"\",VLOOKUP(AL33,支払い状況!$H$5:$N$89,4,FALSE))","v":""},null,null,null,null,{"$f":"'1学期報告'!Y33:AC33","v":""}]
[null,10,{"$f":"'1学期報告'!C34:M34","v":""},null,null,null,null,null,null,null,null,null,null,{"$f":"IF(AL34=\"\",\"\",VLOOKUP(AL34,支払い状況!$H$5:$L$89,3,FALSE))","v":""},null,null,null,null,null,{"$f":"IF(AL34=\"\",\"\",VLOOKUP(AL34,支払い状況!$H$5:$N$89,4,FALSE))","v":""},null,null,null,null,{"$f":"'1学期報告'!Y34:AC34","v":""}]
[null,11,{"$f":"'1学期報告'!C35:M35","v":""},null,null,null,null,null,null,null,null,null,null,{"$f":"IF(AL35=\"\",\"\",VLOOKUP(AL35,支払い状況!$H$5:$L$89,3,FALSE))","v":""},null,null,null,null,null,{"$f":"IF(AL35=\"\",\"\",VLOOKUP(AL35,支払い状況!$H$5:$N$89,4,FALSE))","v":""},null,null,null,null,{"$f":"'1学期報告'!Y35:AC35","v":""}]
[null,12,{"$f":"'1学期報告'!C36:M36","v":""},null,null,null,null,null,null,null,null,null,null,{"$f":"IF(AL36=\"\",\"\",VLOOKUP(AL36,支払い状況!$H$5:$L$89,3,FALSE))","v":""},null,null,null,null,null,{"$f":"IF(AL36=\"\",\"\",VLOOKUP(AL36,支払い状況!$H$5:$N$89,4,FALSE))","v":""},null,null,null,null,{"$f":"'1学期報告'!Y36:AC36","v":""}]
[null,13,{"$f":"'1学期報告'!C37:M37","v":""},null,null,null,null,null,null,null,null,null,null,{"$f":"IF(AL37=\"\",\"\",VLOOKUP(AL37,支払い状況!$H$5:$L$89,3,FALSE))","v":""},null,null,null,null,null,{"$f":"IF(AL37=\"\",\"\",VLOOKUP(AL37,支払い状況!$H$5:$N$89,4,FALSE))","v":""},null,null,null,null,{"$f":"'1学期報告'!Y37:AC37","v":""}]
[null,14,{"$f":"'1学期報告'!C38:M38","v":""},null,null,null,null,null,null,null,null,null,null,{"$f":"IF(AL38=\"\",\"\",VLOOKUP(AL38,支払い状況!$H$5:$L$89,3,FALSE))","v":""},null,null,null,null,null,{"$f":"IF(AL38=\"\",\"\",VLOOKUP(AL38,支払い状況!$H$5:$N$89,4,FALSE))","v":""},null,null,null,null,{"$f":"'1学期報告'!Y38:AC38","v":""}]
[null,15,{"$f":"'1学期報告'!C39:M39","v":""},null,null,null,null,null,null,null,null,null,null,{"$f":"IF(AL39=\"\",\"\",VLOOKUP(AL39,支払い状況!$H$5:$L$89,3,FALSE))","v":""},null,null,null,null,null,{"$f":"IF(AL39=\"\",\"\",VLOOKUP(AL39,支払い状況!$H$5:$N$89,4,FALSE))","v":""},null,null,null,null,{"$f":"'1学期報告'!Y39:AC39","v":""}]
[null,16,{"$f":"'1学期報告'!C40:M40","v":""},null,null,null,null,null,null,null,null,null,null,{"$f":"IF(AL40=\"\",\"\",VLOOKUP(AL40,支払い状況!$H$5:$L$89,3,FALSE))","v":""},null,null,null,null,null,{"$f":"IF(AL40=\"\",\"\",VLOOKUP(AL40,支払い状況!$H$5:$N$89,4,FALSE))","v":""},null,null,null,null,{"$f":"'1学期報告'!Y40:AC40","v":""}]
[null,17,{"$f":"'1学期報告'!C41:M41","v":""},null,null,null,null,null,null,null,null,null,null,{"$f":"IF(AL41=\"\",\"\",VLOOKUP(AL41,支払い状況!$H$5:$L$89,3,FALSE))","v":""},null,null,null,null,null,{"$f":"IF(AL41=\"\",\"\",VLOOKUP(AL41,支払い状況!$H$5:$N$89,4,FALSE))","v":""},null,null,null,null,{"$f":"'1学期報告'!Y41:AC41","v":""}]
[null,18,{"$f":"'1学期報告'!C42:M42","v":""},null,null,null,null,null,null,null,null,null,null,{"$f":"IF(AL42=\"\",\"\",VLOOKUP(AL42,支払い状況!$H$5:$L$89,3,FALSE))","v":""},null,null,null,null,null,{"$f":"IF(AL42=\"\",\"\",VLOOKUP(AL42,支払い状況!$H$5:$N$89,4,FALSE))","v":""},null,null,null,null,{"$f":"'1学期報告'!Y42:AC42","v":""}]
[null,19,{"$f":"'1学期報告'!C43:M43","v":""},null,null,null,null,null,null,null,null,null,null,{"$f":"IF(AL43=\"\",\"\",VLOOKUP(AL43,支払い状況!$H$5:$L$89,3,FALSE))","v":""},null,null,null,null,null,{"$f":"IF(AL43=\"\",\"\",VLOOKUP(AL43,支払い状況!$H$5:$N$89,4,FALSE))","v":""},null,null,null,null,{"$f":"'1学期報告'!Y43:AC43","v":""}]
[null,20,{"$f":"'1学期報告'!C44:M44","v":""},null,null,null,null,null,null,null,null,null,null,{"$f":"IF(AL44=\"\",\"\",VLOOKUP(AL44,支払い状況!$H$5:$L$89,3,FALSE))","v":""},null,null,null,null,null,{"$f":"IF(AL44=\"\",\"\",VLOOKUP(AL44,支払い状況!$H$5:$N$89,4,FALSE))","v":""},null,null,null,null,{"$f":"'1学期報告'!Y44:AC44","v":""}]
[null,21,{"$f":"'1学期報告'!C45:M45","v":""},null,null,null,null,null,null,null,null,null,null,{"$f":"IF(AL45=\"\",\"\",VLOOKUP(AL45,支払い状況!$H$5:$L$89,3,FALSE))","v":""},null,null,null,null,null,{"$f":"IF(AL45=\"\",\"\",VLOOKUP(AL45,支払い状況!$H$5:$N$89,4,FALSE))","v":""},null,null,null,null,{"$f":"'1学期報告'!Y45:AC45","v":""}]
[null,22,{"$f":"'1学期報告'!C46:M46","v":""},null,null,null,null,null,null,null,null,null,null,{"$f":"IF(AL46=\"\",\"\",VLOOKUP(AL46,支払い状況!$H$5:$L$89,3,FALSE))","v":""},null,null,null,null,null,{"$f":"IF(AL46=\"\",\"\",VLOOKUP(AL46,支払い状況!$H$5:$N$89,4,FALSE))","v":""},null,null,null,null,{"$f":"'1学期報告'!Y46:AC46","v":""}]
[null,23,{"$f":"'1学期報告'!C47:M47","v":""},null,null,null,null,null,null,null,null,null,null,{"$f":"IF(AL47=\"\",\"\",VLOOKUP(AL47,支払い状況!$H$5:$L$89,3,FALSE))","v":""},null,null,null,null,null,{"$f":"IF(AL47=\"\",\"\",VLOOKUP(AL47,支払い状況!$H$5:$N$89,4,FALSE))","v":""},null,null,null,null,{"$f":"'1学期報告'!Y47:AC47","v":""}]
[null,24,{"$f":"'1学期報告'!C48:M48","v":""},null,null,null,null,null,null,null,null,null,null,{"$f":"IF(AL48=\"\",\"\",VLOOKUP(AL48,支払い状況!$H$5:$L$89,3,FALSE))","v":""},null,null,null,null,null,{"$f":"IF(AL48=\"\",\"\",VLOOKUP(AL48,支払い状況!$H$5:$N$89,4,FALSE))","v":""},null,null,null,null,{"$f":"'1学期報告'!Y48:AC48","v":""}]
[null,null,"合　　計",null,null,null,null,null,null,null,null,null,null,null,null,null,null,null,null,null,null,null,null,null,{"$f":"IF(COUNT(Y25:AC48)=0,\"\",SUM(Y25:AC48))","v":""}]
[]
[]
[null,null,"３．差引残高"]
[]
[null,null,null,null,null,null,null,null,null,"収入合計",null,null,null,null,null,null,null,null,"支出合計",null,null,null,null,null,null,null,null,null,null,"残　　高"]
[null,null,null,null,null,null,null,null,null,{"$f":"Y21","v":0},null,null,null,null,"－",null,null,null,{"$f":"Y49","v":""},null,null,null,null,null,"＝",null,null,null,null,{"$f":"IF(AND(Y49=\"\",Y19=\"\"),\"\",J55-S55)","v":""}]
[]
[null,null,null,null,"残金は2学期に繰越しさせていただきます。"]
[null,null,null,null,"上記のとおり報告いたします。"]
[null,null,null,null,null,null,null,null,null,null,null,null,null,null,null,null,null,null,null,null,null,null,null,null,null,null,null,null,null,null,null,null,null,null,null,null,null,null,null,null,null,null,null,"残金は2学期に繰越しさせていただきます。"]
[null,null,null,null,"令和",null,{"$f":"'1学期報告'!G60:H60","v":0},null,"年",{"$f":"'1学期報告'!J60:K60","v":0},null,"月",{"$f":"'1学期報告'!M60:N60","v":0},null,"日"]
[]
[null,null,null,{"$f":"IF(メイン!J7=\"\",\"\",メイン!J7)","v":""},null,null,null,null,null,null,null,null,null,null,null,null,null,null,"校長",null,null,{"$f":"IF(メイン!J9=\"\",\"\",メイン!J9)","v":""},null,null,null,null,null,null,null,null,null,"印"]
[]
[null,null,null,null,null,null,null,null,null,null,null,null,null,null,null,null,null,null,"担任",null,null,{"$f":"IF(メイン!J8=\"\",\"\",メイン!J8)","v":""},null,null,null,null,null,null,null,null,null,"印"]

{"sheet":"2学期報告保護者","index":7,"n_rows":65,"n_cols":44,"rows_kept":65,"cut":false,"hidden":false,"merged":[[7,13,7,17],[7,18,7,23],[13,7,13,12],[13,13,13,17],[13,18,13,23],[8,7,8,12],[8,13,8,17],[8,18,8,23],[9,7,9,12],[9,13,9,17],[9,18,9,23],[10,7,10,12],[10,13,10,17],[10,18,10,23],[14,7,14,12],[14,13,14,17],[14,18,14,23],[15,7,15,12],[15,13,15,17],[15,18,15,23],[16,7,16,12],[16,13,16,17],[16,18,16,23],[17,7,17,12],[17,13,17,17],[17,18,17,23],[18,7,18,12],[18,13,18,17],[18,18,18,23],[19,2,19,6],[19,7,19,12],[19,13,19,17],[19,18,19,23],[19,24,19,28],[19,29,19,34],[20,2,20,6],[20,7,20,12],[20,13,20,17],[20,18,20,23],[20,24,20,28],[20,29,20,34],[21,2,21,12],[21,13,21,23],[21,24,21,28],[21,29,21,34],[24,2,24,12],[24,13,24,18],[24,19,24,23],[24,24,24,28],[24,29,24,34],[25,2,25,12],[25,13,25,18],[25,19,25,23],[25,24,25,28],[25,29,25,34],[26,2,26,12],[26,13,26,18],[26,19,26,23],[26,24,26,28],[26,29,26,34],[27,2,27,12],[27,13,27,18],[27,19,27,23],[27,24,27,28],[27,29,27,34],[28,2,28,12],[28,13,28,18],[28,19,28,23],[28,24,28,28],[28,29,28,34],[29,2,29,12],[29,13,29,18],[29,19,29,23],[29,24,29,28],[29,29,29,34],[30,2,30,12],[30,13,30,18],[30,19,30,23],[30,24,30,28],[30,29,30,34],[31,2,31,12],[31,13,31,18],[31,19,31,23],[31,24,31,28],[31,29,31,34],[32,2,32,12],[32,13,32,18],[32,19,32,23],[32,24,32,28],[32,29,32,34],[33,2,33,12],[33,13,33,18],[33,19,33,23],[33,24,33,28],[33,29,33,34],[34,2,34,12],[34,13,34,18],[34,19,34,23],[34,24,34,28],[34,29,34,34],[35,2,35,12],[35,13,35,18],[35,19,35,23],[35,24,35,28],[35,29,35,34],[36,2,36,12],[36,13,36,18],[36,19,36,23],[36,24,36,28],[36,29,36,34],[37,2,37,12],[37,13,37,18],[37,19,37,23],[37,24,37,28],[37,29,37,34],[38,2,38,12],[38,13,38,18],[38,19,38,23],[38,24,38,28],[38,29,38,34],[39,2,39,12],[39,13,39,18],[39,19,39,23],[39,24,39,28],[39,29,39,34],[40,2,40,12],[40,13,40,18],[40,19,40,23],[40,24,40,28],[40,29,40,34],[41,2,41,12],[41,13,41,18],[41,19,41,23],[41,24,41,28],[41,29,41,34],[44,29,44,34],[45,2,45,12],[45,13,45,18],[45,19,45,23],[45,24,45,28],[45,29,45,34],[42,2,42,12],[42,13,42,18],[42,19,42,23],[42,24,42,28],[42,29,42,34],[43,2,43,12],[43,13,43,18],[43,19,43,23],[43,24,43,28],[43,29,43,34],[55,9,55,13],[55,14,55,17],[55,18,55,23],[55,24,55,28],[55,29,55,34],[48,2,48,12],[48,13,48,18],[48,19,48,23],[48,24,48,28],[48,29,48,34],[49,2,49,18],[49,19,49,23],[49,24,49,28],[49,29,49,34],[13,2,15,6],[13,24,15,28],[13,29,15,34],[16,2,18,6],[16,24,18,28],[16,29,18,34],[54,9,54,13],[54,14,54,17],[54,18,54,23],[54,29,54,34],[46,2,46,12],[46,13,46,18],[46,19,46,23],[46,24,46,28],[46,29,46,34],[47,2,47,12],[47,13,47,18],[47,19,47,23],[47,24,47,28],[47,29,47,34],[44,2,44,12],[44,13,44,18],[44,19,44,23],[44,24,44,28],[2,5,3,6],[2,7,3,8],[2,9,3,10],[2,11,3,12],[2,14,3,29],[7,2,9,6],[7,24,9,28],[7,29,9,34],[10,2,12,6],[10,24,12,28],[10,29,12,34],[11,7,11,12],[11,13,11,17],[11,18,11,23],[12,7,12,12],[12,13,12,17],[12,18,12,23],[6,2,6,6],[6,7,6,12],[6,13,6,17],[6,18,6,23],[6,24,6,28],[6,29,6,34],[7,7,7,12],[62,3,63,16],[62,18,63,20],[62,21,63,30],[62,31,63,32],[64,18,65,20],[64,21,65,30],[64,31,65,32],[57,4,57,19],[60,4,60,5],[60,6,60,7],[60,9,60,10],[60,12,60,13]]}
["保護者様"]
[]
[null,null,null,null,null,{"$f":"IF(メイン!C8=\"\",\"\",メイン!C8)","v":""},null,"年",null,{"$f":"IF(メイン!E8=\"\",\"\",メイン!E8)","v":""},null,"組",null,null,"２学期学級会計報告"]
[]
[]
[null,null,"１．収入"]
[null,null,"項　　目",null,null,null,null,"円",null,null,null,null,null,"人数",null,null,null,null,"合計",null,null,null,null,null,"総合計",null,null,null,null,"備　　考"]
[null,null,"９月集金",null,null,null,null,null,null,null,null,null,null,null,null,null,null,null,null,null,null,null,null,null,{"$f":"'2学期報告'!Y8:AC10","v":0}]
[]
[]
[null,null,"１０月集金",null,null,null,null,null,null,null,null,null,null,null,null,null,null,null,null,null,null,null,null,null,{"$f":"'2学期報告'!Y11:AC13","v":0}]
[]
[]
[null,null,"１１月集金",null,null,null,null,null,null,null,null,null,null,null,null,null,null,null,null,null,null,null,null,null,{"$f":"'2学期報告'!Y14:AC16","v":0}]
[]
[]
[null,null,"１２月集金",null,null,null,null,null,null,null,null,null,null,null,null,null,null,null,null,null,null,null,null,null,{"$f":"'2学期報告'!Y17:AC19","v":0}]
[]
[]
[null,null,"転出生徒返金",null,null,null,null,null,null,null,null,null,null,null,null,null,null,null,null,null,null,null,null,null,{"$f":"'2学期報告'!Y20:AC20","v":""}]
[null,null,"繰越",null,null,null,null,null,null,null,null,null,null,null,null,null,null,null,null,null,null,null,null,null,{"$f":"'2学期報告'!Y21:AC21","v":""}]
[null,null,"合計",null,null,null,null,null,null,null,null,null,null,null,null,null,null,null,null,null,null,null,null,null,{"$f":"IF(COUNT(Y8:AC21)=0,\"\",SUM(Y8:AI21))","v":0}]
[]
[null,null,"２．支出"]
[null,null,"品名",null,null,null,null,null,null,null,null,null,null,"単　　価",null,null,null,null,null,"数　　量",null,null,null,null,"金　　額",null,null,null,null,"備　　考"]
[null,1,{"$f":"'2学期報告'!C26:M26","v":""},null,null,null,null,null,null,null,null,null,null,null,null,null,null,null,null,null,null,null,null,null,{"$f":"'2学期報告'!Y26:AC26","v":""}]
[null,2,{"$f":"'2学期報告'!C27:M27","v":""},null,null,null,null,null,null,null,null,null,null,null,null,null,null,null,null,null,null,null,null,null,{"$f":"'2学期報告'!Y27:AC27","v":""}]
[null,3,{"$f":"'2学期報告'!C28:M28","v":""},null,null,null,null,null,null,null,null,null,null,null,null,null,null,null,null,null,null,null,null,null,{"$f":"'2学期報告'!Y28:AC28","v":""}]
[null,4,{"$f":"'2学期報告'!C29:M29","v":""},null,null,null,null,null,null,null,null,null,null,null,null,null,null,null,null,null,null,null,null,null,{"$f":"'2学期報告'!Y29:AC29","v":""}]
[null,5,{"$f":"'2学期報告'!C30:M30","v":""},null,null,null,null,null,null,null,null,null,null,null,null,null,null,null,null,null,null,null,null,null,{"$f":"'2学期報告'!Y30:AC30","v":""}]
[null,6,{"$f":"'2学期報告'!C31:M31","v":""},null,null,null,null,null,null,null,null,null,null,null,null,null,null,null,null,null,null,null,null,null,{"$f":"'2学期報告'!Y31:AC31","v":""}]
[null,7,{"$f":"'2学期報告'!C32:M32","v":""},null,null,null,null,null,null,null,null,null,null,null,null,null,null,null,null,null,null,null,null,null,{"$f":"'2学期報告'!Y32:AC32","v":""}]
[null,8,{"$f":"'2学期報告'!C33:M33","v":""},null,null,null,null,null,null,null,null,null,null,null,null,null,null,null,null,null,null,null,null,null,{"$f":"'2学期報告'!Y33:AC33","v":""}]
[null,9,{"$f":"'2学期報告'!C34:M34","v":""},null,null,null,null,null,null,null,null,null,null,null,null,null,null,null,null,null,null,null,null,null,{"$f":"'2学期報告'!Y34:AC34","v":""}]
[null,10,{"$f":"'2学期報告'!C35:M35","v":""},null,null,null,null,null,null,null,null,null,null,null,null,null,null,null,null,null,null,null,null,null,{"$f":"'2学期報告'!Y35:AC35","v":""}]
[null,11,{"$f":"'2学期報告'!C36:M36","v":""},null,null,null,null,null,null,null,null,null,null,null,null,null,null,null,null,null,null,null,null,null,{"$f":"'2学期報告'!Y36:AC36","v":""}]
[null,12,{"$f":"'2学期報告'!C37:M37","v":""},null,null,null,null,null,null,null,null,null,null,null,null,null,null,null,null,null,null,null,null,null,{"$f":"'2学期報告'!Y37:AC37","v":""}]
[null,13,{"$f":"'2学期報告'!C38:M38","v":""},null,null,null,null,null,null,null,null,null,null,null,null,null,null,null,null,null,null,null,null,null,{"$f":"'2学期報告'!Y38:AC38","v":""}]
[null,14,{"$f":"'2学期報告'!C39:M39","v":""},null,null,null,null,null,null,null,null,null,null,null,null,null,null,null,null,null,null,null,null,null,{"$f":"'2学期報告'!Y39:AC39","v":""}]
[null,15,{"$f":"'2学期報告'!C40:M40","v":""},null,null,null,null,null,null,null,null,null,null,null,null,null,null,null,null,null,null,null,null,null,{"$f":"'2学期報告'!Y40:AC40","v":""}]
[null,16,{"$f":"'2学期報告'!C41:M41","v":""},null,null,null,null,null,null,null,null,null,null,null,null,null,null,null,null,null,null,null,null,null,{"$f":"'2学期報告'!Y41:AC41","v":""}]
[null,17,{"$f":"'2学期報告'!C42:M42","v":""},null,null,null,null,null,null,null,null,null,null,null,null,null,null,null,null,null,null,null,null,null,{"$f":"'2学期報告'!Y42:AC42","v":""}]
[null,18,{"$f":"'2学期報告'!C43:M43","v":""},null,null,null,null,null,null,null,null,null,null,null,null,null,null,null,null,null,null,null,null,null,{"$f":"'2学期報告'!Y43:AC43","v":""}]
[null,19,{"$f":"'2学期報告'!C44:M44","v":""},null,null,null,null,null,null,null,null,null,null,null,null,null,null,null,null,null,null,null,null,null,{"$f":"'2学期報告'!Y44:AC44","v":""}]
[null,20,{"$f":"'2学期報告'!C45:M45","v":""},null,null,null,null,null,null,null,null,null,null,null,null,null,null,null,null,null,null,null,null,null,{"$f":"'2学期報告'!Y45:AC45","v":""}]
[null,21,{"$f":"'2学期報告'!C46:M46","v":""},null,null,null,null,null,null,null,null,null,null,null,null,null,null,null,null,null,null,null,null,null,{"$f":"'2学期報告'!Y46:AC46","v":""}]
[null,22,{"$f":"'2学期報告'!C47:M47","v":""},null,null,null,null,null,null,null,null,null,null,null,null,null,null,null,null,null,null,null,null,null,{"$f":"'2学期報告'!Y47:AC47","v":""}]
[null,23,{"$f":"'2学期報告'!C48:M48","v":""},null,null,null,null,null,null,null,null,null,null,null,null,null,null,null,null,null,null,null,null,null,{"$f":"'2学期報告'!Y48:AC48","v":""}]
[null,24,{"$f":"'2学期報告'!C49:M49","v":""},null,null,null,null,null,null,null,null,null,null,null,null,null,null,null,null,null,null,null,null,null,{"$f":"'2学期報告'!Y49:AC49","v":""}]
[null,null,"合　　計",null,null,null,null,null,null,null,null,null,null,null,null,null,null,null,null,null,null,null,null,null,{"$f":"'2学期報告'!Y50:AC50","v":""}]
[]
[]
[null,null,"３．差引残高"]
[]
[null,null,null,null,null,null,null,null,null,"収入合計",null,null,null,null,null,null,null,null,"支出合計",null,null,null,null,null,null,null,null,null,null,"残　　高"]
[null,null,null,null,null,null,null,null,null,{"$f":"Y22","v":0},null,null,null,null,"－",null,null,null,{"$f":"Y50","v":""},null,null,null,null,null,"＝",null,null,null,null,{"$f":"IF(AND(Y50=\"\",Y19=\"\"),\"\",J56-S56)","v":""}]
[]
[]
[null,null,null,null,"上記のとおり報告いたします。"]
[null,null,null,null,null,null,null,null,null,null,null,null,null,null,null,null,null,null,null,null,null,null,null,null,null,null,null,null,null,null,null,null,null,null,null,null,null,null,null,null,null,null,null,"残金は3学期に繰越しさせていただきます。"]
[null,null,null,null,"令和",null,{"$f":"'2学期報告'!G61","v":0},null,"年",{"$f":"'2学期報告'!J61","v":0},null,"月",{"$f":"'2学期報告'!M61","v":0},null,"日"]
[]
[null,null,null,{"$f":"IF(メイン!J7=\"\",\"\",メイン!J7)","v":""},null,null,null,null,null,null,null,null,null,null,null,null,null,null,"校長",null,null,{"$f":"IF(メイン!J9=\"\",\"\",メイン!J9)","v":""},null,null,null,null,null,null,null,null,null,"印"]
[]
[null,null,null,null,null,null,null,null,null,null,null,null,null,null,null,null,null,null,"担任",null,null,{"$f":"IF(メイン!J8=\"\",\"\",メイン!J8)","v":""},null,null,null,null,null,null,null,null,null,"印"]

{"sheet":"3学期報告保護者","index":8,"n_rows":65,"n_cols":44,"rows_kept":65,"cut":false,"hidden":false,"merged":[[7,13,7,17],[7,18,7,23],[13,7,13,12],[13,13,13,17],[13,18,13,23],[8,7,8,12],[8,13,8,17],[8,18,8,23],[9,7,9,12],[9,13,9,17],[9,18,9,23],[10,7,10,12],[10,13,10,17],[10,18,10,23],[14,7,14,12],[14,13,14,17],[14,18,14,23],[15,7,15,12],[15,13,15,17],[15,18,15,23],[16,7,16,12],[16,13,16,17],[16,18,16,23],[17,7,17,12],[17,13,17,17],[17,18,17,23],[18,7,18,12],[18,13,18,17],[18,18,18,23],[19,2,19,6],[19,7,19,12],[19,13,19,17],[19,18,19,23],[19,24,19,28],[19,29,19,34],[20,2,20,6],[20,7,20,12],[20,13,20,17],[20,18,20,23],[20,24,20,28],[20,29,20,34],[21,2,21,12],[21,13,21,23],[21,24,21,28],[21,29,21,34],[24,2,24,12],[24,13,24,18],[24,19,24,23],[24,24,24,28],[24,29,24,34],[25,2,25,12],[25,13,25,18],[25,19,25,23],[25,24,25,28],[25,29,25,34],[26,2,26,12],[26,13,26,18],[26,19,26,23],[26,24,26,28],[26,29,26,34],[27,2,27,12],[27,13,27,18],[27,19,27,23],[27,24,27,28],[27,29,27,34],[28,2,28,12],[28,13,28,18],[28,19,28,23],[28,24,28,28],[28,29,28,34],[29,2,29,12],[29,13,29,18],[29,19,29,23],[29,24,29,28],[29,29,29,34],[30,2,30,12],[30,13,30,18],[30,19,30,23],[30,24,30,28],[30,29,30,34],[31,2,31,12],[31,13,31,18],[31,19,31,23],[31,24,31,28],[31,29,31,34],[32,2,32,12],[32,13,32,18],[32,19,32,23],[32,24,32,28],[32,29,32,34],[33,2,33,12],[33,13,33,18],[33,19,33,23],[33,24,33,28],[33,29,33,34],[34,2,34,12],[34,13,34,18],[34,19,34,23],[34,24,34,28],[34,29,34,34],[35,2,35,12],[35,13,35,18],[35,19,35,23],[35,24,35,28],[35,29,35,34],[36,2,36,12],[36,13,36,18],[36,19,36,23],[36,24,36,28],[36,29,36,34],[37,2,37,12],[37,13,37,18],[37,19,37,23],[37,24,37,28],[37,29,37,34],[38,2,38,12],[38,13,38,18],[38,19,38,23],[38,24,38,28],[38,29,38,34],[39,2,39,12],[39,13,39,18],[39,19,39,23],[39,24,39,28],[39,29,39,34],[40,2,40,12],[40,13,40,18],[40,19,40,23],[40,24,40,28],[40,29,40,34],[41,2,41,12],[41,13,41,18],[41,19,41,23],[41,24,41,28],[41,29,41,34],[44,29,44,34],[45,2,45,12],[45,13,45,18],[45,19,45,23],[45,24,45,28],[45,29,45,34],[42,2,42,12],[42,13,42,18],[42,19,42,23],[42,24,42,28],[42,29,42,34],[43,2,43,12],[43,13,43,18],[43,19,43,23],[43,24,43,28],[43,29,43,34],[55,9,55,13],[55,14,55,17],[55,18,55,23],[55,24,55,28],[55,29,55,34],[48,2,48,12],[48,13,48,18],[48,19,48,23],[48,24,48,28],[48,29,48,34],[49,2,49,18],[49,19,49,23],[49,24,49,28],[49,29,49,34],[13,2,15,6],[13,24,15,28],[13,29,15,34],[16,2,18,6],[16,24,18,28],[16,29,18,34],[54,9,54,13],[54,14,54,17],[54,18,54,23],[54,29,54,34],[46,2,46,12],[46,13,46,18],[46,19,46,23],[46,24,46,28],[46,29,46,34],[47,2,47,12],[47,13,47,18],[47,19,47,23],[47,24,47,28],[47,29,47,34],[44,2,44,12],[44,13,44,18],[44,19,44,23],[44,24,44,28],[2,5,3,6],[2,7,3,8],[2,9,3,10],[2,11,3,12],[2,14,3,29],[7,2,9,6],[7,24,9,28],[7,29,9,34],[10,2,12,6],[10,24,12,28],[10,29,12,34],[11,7,11,12],[11,13,11,17],[11,18,11,23],[12,7,12,12],[12,13,12,17],[12,18,12,23],[6,2,6,6],[6,7,6,12],[6,13,6,17],[6,18,6,23],[6,24,6,28],[6,29,6,34],[7,7,7,12],[62,3,63,16],[62,18,63,20],[62,21,63,30],[62,31,63,32],[64,18,65,20],[64,21,65,30],[64,31,65,32],[57,4,57,19],[60,4,60,5],[60,6,60,7],[60,9,60,10],[60,12,60,13]]}
["保護者様"]
[]
[null,null,null,null,null,{"$f":"IF(メイン!C8=\"\",\"\",メイン!C8)","v":""},null,"年",null,{"$f":"IF(メイン!E8=\"\",\"\",メイン!E8)","v":""},null,"組",null,null,"３学期学級会計報告"]
[]
[]
[null,null,"１．収入"]
[null,null,"項　　目",null,null,null,null,"円",null,null,null,null,null,"人数",null,null,null,null,"合計",null,null,null,null,null,"総合計",null,null,null,null,"備　　考"]
[null,null,"１月集金",null,null,null,null,null,null,null,null,null,null,null,null,null,null,null,null,null,null,null,null,null,{"$f":"'3学期報告'!Y8:AC10","v":0}]
[]
[]
[null,null,"２月集金",null,null,null,null,null,null,null,null,null,null,null,null,null,null,null,null,null,null,null,null,null,{"$f":"'3学期報告'!Y11:AC13","v":0}]
[]
[]
[null,null,"３月集金",null,null,null,null,null,null,null,null,null,null,null,null,null,null,null,null,null,null,null,null,null,{"$f":"'3学期報告'!Y14:AC16","v":0}]
[]
[]
[]
[]
[]
[null,null,"転出生徒返金",null,null,null,null,null,null,null,null,null,null,null,null,null,null,null,null,null,null,null,null,null,{"$f":"'3学期報告'!Y20:AC20","v":""}]
[null,null,"繰越",null,null,null,null,null,null,null,null,null,null,null,null,null,null,null,null,null,null,null,null,null,{"$f":"'2学期報告'!Y21:AC21","v":""}]
[null,null,"合計",null,null,null,null,null,null,null,null,null,null,null,null,null,null,null,null,null,null,null,null,null,{"$f":"IF(COUNT(Y8:AC21)=0,\"\",SUM(Y8:AI21))","v":0}]
[]
[null,null,"２．支出"]
[null,null,"品名",null,null,null,null,null,null,null,null,null,null,"単　　価",null,null,null,null,null,"数　　量",null,null,null,null,"金　　額",null,null,null,null,"備　　考",null,null,null,null,null,null,null,"ここに入力↓"]
[null,1,{"$f":"'3学期報告'!C26:M26","v":""},null,null,null,null,null,null,null,null,null,null,null,null,null,null,null,null,null,null,null,null,null,{"$f":"'3学期報告'!Y26:AC26","v":""}]
[null,2,{"$f":"'3学期報告'!C27:M27","v":""},null,null,null,null,null,null,null,null,null,null,null,null,null,null,null,null,null,null,null,null,null,{"$f":"'3学期報告'!Y27:AC27","v":""}]
[null,3,{"$f":"'3学期報告'!C28:M28","v":""},null,null,null,null,null,null,null,null,null,null,null,null,null,null,null,null,null,null,null,null,null,{"$f":"'3学期報告'!Y28:AC28","v":""}]
[null,4,{"$f":"'3学期報告'!C29:M29","v":""},null,null,null,null,null,null,null,null,null,null,null,null,null,null,null,null,null,null,null,null,null,{"$f":"'3学期報告'!Y29:AC29","v":""}]
[null,5,{"$f":"'3学期報告'!C30:M30","v":""},null,null,null,null,null,null,null,null,null,null,null,null,null,null,null,null,null,null,null,null,null,{"$f":"'3学期報告'!Y30:AC30","v":""}]
[null,6,{"$f":"'3学期報告'!C31:M31","v":""},null,null,null,null,null,null,null,null,null,null,null,null,null,null,null,null,null,null,null,null,null,{"$f":"'3学期報告'!Y31:AC31","v":""}]
[null,7,{"$f":"'3学期報告'!C32:M32","v":""},null,null,null,null,null,null,null,null,null,null,null,null,null,null,null,null,null,null,null,null,null,{"$f":"'3学期報告'!Y32:AC32","v":""}]
[null,8,{"$f":"'3学期報告'!C33:M33","v":""},null,null,null,null,null,null,null,null,null,null,null,null,null,null,null,null,null,null,null,null,null,{"$f":"'3学期報告'!Y33:AC33","v":""}]
[null,9,{"$f":"'3学期報告'!C34:M34","v":""},null,null,null,null,null,null,null,null,null,null,null,null,null,null,null,null,null,null,null,null,null,{"$f":"'3学期報告'!Y34:AC34","v":""}]
[null,10,{"$f":"'3学期報告'!C35:M35","v":""},null,null,null,null,null,null,null,null,null,null,null,null,null,null,null,null,null,null,null,null,null,{"$f":"'3学期報告'!Y35:AC35","v":""}]
[null,11,{"$f":"'3学期報告'!C36:M36","v":""},null,null,null,null,null,null,null,null,null,null,null,null,null,null,null,null,null,null,null,null,null,{"$f":"'3学期報告'!Y36:AC36","v":""}]
[null,12,{"$f":"'3学期報告'!C37:M37","v":""},null,null,null,null,null,null,null,null,null,null,null,null,null,null,null,null,null,null,null,null,null,{"$f":"'3学期報告'!Y37:AC37","v":""}]
[null,13,{"$f":"'3学期報告'!C38:M38","v":""},null,null,null,null,null,null,null,null,null,null,null,null,null,null,null,null,null,null,null,null,null,{"$f":"'3学期報告'!Y38:AC38","v":""}]
[null,14,{"$f":"'3学期報告'!C39:M39","v":""},null,null,null,null,null,null,null,null,null,null,null,null,null,null,null,null,null,null,null,null,null,{"$f":"'3学期報告'!Y39:AC39","v":""}]
[null,15,{"$f":"'3学期報告'!C40:M40","v":""},null,null,null,null,null,null,null,null,null,null,null,null,null,null,null,null,null,null,null,null,null,{"$f":"'3学期報告'!Y40:AC40","v":""}]
[null,16,{"$f":"'3学期報告'!C41:M41","v":""},null,null,null,null,null,null,null,null,null,null,null,null,null,null,null,null,null,null,null,null,null,{"$f":"'3学期報告'!Y41:AC41","v":""}]
[null,17,{"$f":"'3学期報告'!C42:M42","v":""},null,null,null,null,null,null,null,null,null,null,null,null,null,null,null,null,null,null,null,null,null,{"$f":"'3学期報告'!Y42:AC42","v":""}]
[null,18,{"$f":"'3学期報告'!C43:M43","v":""},null,null,null,null,null,null,null,null,null,null,null,null,null,null,null,null,null,null,null,null,null,{"$f":"'3学期報告'!Y43:AC43","v":""}]
[null,19,{"$f":"'3学期報告'!C44:M44","v":""},null,null,null,null,null,null,null,null,null,null,null,null,null,null,null,null,null,null,null,null,null,{"$f":"'3学期報告'!Y44:AC44","v":""}]
[null,20,{"$f":"'3学期報告'!C45:M45","v":""},null,null,null,null,null,null,null,null,null,null,null,null,null,null,null,null,null,null,null,null,null,{"$f":"'3学期報告'!Y45:AC45","v":""}]
[null,21,{"$f":"'3学期報告'!C46:M46","v":""},null,null,null,null,null,null,null,null,null,null,null,null,null,null,null,null,null,null,null,null,null,{"$f":"'3学期報告'!Y46:AC46","v":""}]
[null,22,{"$f":"'3学期報告'!C47:M47","v":""},null,null,null,null,null,null,null,null,null,null,null,null,null,null,null,null,null,null,null,null,null,{"$f":"'3学期報告'!Y47:AC47","v":""}]
[null,23,{"$f":"'3学期報告'!C48:M48","v":""},null,null,null,null,null,null,null,null,null,null,null,null,null,null,null,null,null,null,null,null,null,{"$f":"'3学期報告'!Y48:AC48","v":""}]
[null,24,{"$f":"'3学期報告'!C49:M49","v":""},null,null,null,null,null,null,null,null,null,null,null,null,null,null,null,null,null,null,null,null,null,{"$f":"'3学期報告'!Y49:AC49","v":""}]
[null,null,"合　　計",null,null,null,null,null,null,null,null,null,null,null,null,null,null,null,null,null,null,null,null,null,{"$f":"IF(COUNT(Y26:AC49)=0,\"\",SUM(Y26:AC49))","v":""}]
[]
[]
[null,null,"３．差引残高"]
[]
[null,null,null,null,null,null,null,null,null,"収入合計",null,null,null,null,null,null,null,null,"支出合計",null,null,null,null,null,null,null,null,null,null,"残　　高"]
[null,null,null,null,null,null,null,null,null,{"$f":"Y22","v":0},null,null,null,null,"－",null,null,null,{"$f":"Y50","v":""},null,null,null,null,null,"＝",null,null,null,null,{"$f":"IF(AND(Y50=\"\",Y19=\"\"),\"\",J56-S56)","v":""}]
[]
[]
[null,null,null,null,"上記のとおり報告いたします。"]
[null,null,null,null,null,null,null,null,null,null,null,null,null,null,null,null,null,null,null,null,null,null,null,null,null,null,null,null,null,null,null,null,null,null,null,null,null,null,null,null,null,null,null,"残金は2学期に繰越しさせていただきます。"]
[null,null,null,null,"令和",null,{"$f":"'3学期報告'!G61","v":0},null,"年",{"$f":"'3学期報告'!J61","v":0},null,"月",{"$f":"'3学期報告'!M61","v":0},null,"日"]
[]
[null,null,null,{"$f":"IF(メイン!J7=\"\",\"\",メイン!J7)","v":""},null,null,null,null,null,null,null,null,null,null,null,null,null,null,"校長",null,null,{"$f":"IF(メイン!J9=\"\",\"\",メイン!J9)","v":""},null,null,null,null,null,null,null,null,null,"印"]
[]
[null,null,null,null,null,null,null,null,null,null,null,null,null,null,null,null,null,null,"担任",null,null,{"$f":"IF(メイン!J8=\"\",\"\",メイン!J8)","v":""},null,null,null,null,null,null,null,null,null,"印"]

{"sheet":"支払い状況","index":9,"n_rows":89,"n_cols":15,"rows_kept":89,"cut":false,"hidden":false,"merged":[]}
[]
[]
[]
[null,"業者名","支払い予定額","支払額","未払い額","備考",null,"番号","ワーク等の名称","単価","数量","支払い予定額","支払額","未払い額","備考"]
[null,null,null,{"$f":"SUMIFS('出納簿 '!$I$6:$I$106,'出納簿 '!$F$6:$F$106,B5)","v":0},{"$f":"C5-D5","v":0},null,null,1,null,null,null,{"$f":"J5*K5","v":0},{"$f":"SUMIFS('出納簿 '!$I$6:$I$106,'出納簿 '!$G$6:$G$106,I5)","v":0},{"$f":"IF(COUNT(L5-M5)=0,\"\",L5-M5)","v":0}]
[null,null,null,{"$f":"SUMIFS('出納簿 '!$I$6:$I$106,'出納簿 '!$F$6:$F$106,B6)","v":0},0,null,null,2,null,null,null,0,{"$f":"SUMIFS('出納簿 '!$I$6:$I$106,'出納簿 '!$G$6:$G$106,I6)","v":0},0]
[null,null,null,{"$f":"SUMIFS('出納簿 '!$I$6:$I$106,'出納簿 '!$F$6:$F$106,B7)","v":0},0,null,null,3,null,null,null,0,{"$f":"SUMIFS('出納簿 '!$I$6:$I$106,'出納簿 '!$G$6:$G$106,I7)","v":0},0]
[null,null,null,{"$f":"SUMIFS('出納簿 '!$I$6:$I$106,'出納簿 '!$F$6:$F$106,B8)","v":0},0,null,null,4,null,null,null,0,{"$f":"SUMIFS('出納簿 '!$I$6:$I$106,'出納簿 '!$G$6:$G$106,I8)","v":0},0]
[null,null,null,{"$f":"SUMIFS('出納簿 '!$I$6:$I$106,'出納簿 '!$F$6:$F$106,B9)","v":0},0,null,null,5,null,null,null,0,{"$f":"SUMIFS('出納簿 '!$I$6:$I$106,'出納簿 '!$G$6:$G$106,I9)","v":0},0]
[null,null,null,{"$f":"SUMIFS('出納簿 '!$I$6:$I$106,'出納簿 '!$F$6:$F$106,B10)","v":0},0,null,null,6,null,null,null,0,{"$f":"SUMIFS('出納簿 '!$I$6:$I$106,'出納簿 '!$G$6:$G$106,I10)","v":0},0]
[null,null,null,{"$f":"SUMIFS('出納簿 '!$I$6:$I$106,'出納簿 '!$F$6:$F$106,B11)","v":0},0,null,null,7,null,null,null,0,{"$f":"SUMIFS('出納簿 '!$I$6:$I$106,'出納簿 '!$G$6:$G$106,I11)","v":0},0]
[null,null,null,{"$f":"SUMIFS('出納簿 '!$I$6:$I$106,'出納簿 '!$F$6:$F$106,B12)","v":0},0,null,null,8,null,null,null,0,{"$f":"SUMIFS('出納簿 '!$I$6:$I$106,'出納簿 '!$G$6:$G$106,I12)","v":0},0]
[null,null,null,{"$f":"SUMIFS('出納簿 '!$I$6:$I$106,'出納簿 '!$F$6:$F$106,B13)","v":0},0,null,null,9,null,null,null,0,{"$f":"SUMIFS('出納簿 '!$I$6:$I$106,'出納簿 '!$G$6:$G$106,I13)","v":0},0]
[null,null,null,{"$f":"SUMIFS('出納簿 '!$I$6:$I$106,'出納簿 '!$F$6:$F$106,B14)","v":0},0,null,null,10,null,null,null,0,{"$f":"SUMIFS('出納簿 '!$I$6:$I$106,'出納簿 '!$G$6:$G$106,I14)","v":0},0]
[null,null,null,{"$f":"SUMIFS('出納簿 '!$I$6:$I$106,'出納簿 '!$F$6:$F$106,B15)","v":0},0,null,null,11,null,null,null,0,{"$f":"SUMIFS('出納簿 '!$I$6:$I$106,'出納簿 '!$G$6:$G$106,I15)","v":0},0]
[null,null,null,{"$f":"SUMIFS('出納簿 '!$I$6:$I$106,'出納簿 '!$F$6:$F$106,B16)","v":0},0,null,null,12,null,null,null,0,{"$f":"SUMIFS('出納簿 '!$I$6:$I$106,'出納簿 '!$G$6:$G$106,I16)","v":0},0]
[null,null,null,{"$f":"SUMIFS('出納簿 '!$I$6:$I$106,'出納簿 '!$F$6:$F$106,B17)","v":0},0,null,null,13,null,null,null,0,{"$f":"SUMIFS('出納簿 '!$I$6:$I$106,'出納簿 '!$G$6:$G$106,I17)","v":0},0]
[null,null,null,{"$f":"SUMIFS('出納簿 '!$I$6:$I$106,'出納簿 '!$F$6:$F$106,B18)","v":0},0,null,null,14,null,null,null,0,{"$f":"SUMIFS('出納簿 '!$I$6:$I$106,'出納簿 '!$G$6:$G$106,I18)","v":0},0]
[null,null,null,{"$f":"SUMIFS('出納簿 '!$I$6:$I$106,'出納簿 '!$F$6:$F$106,B19)","v":0},0,null,null,15,null,null,null,0,{"$f":"SUMIFS('出納簿 '!$I$6:$I$106,'出納簿 '!$G$6:$G$106,I19)","v":0},0]
[null,null,null,{"$f":"SUMIFS('出納簿 '!$I$6:$I$106,'出納簿 '!$F$6:$F$106,B20)","v":0},0,null,null,16,null,null,null,0,{"$f":"SUMIFS('出納簿 '!$I$6:$I$106,'出納簿 '!$G$6:$G$106,I20)","v":0},0]
[null,null,null,{"$f":"SUMIFS('出納簿 '!$I$6:$I$106,'出納簿 '!$F$6:$F$106,B21)","v":0},0,null,null,17,null,null,null,0,{"$f":"SUMIFS('出納簿 '!$I$6:$I$106,'出納簿 '!$G$6:$G$106,I21)","v":0},0]
[null,null,null,{"$f":"SUMIFS('出納簿 '!$I$6:$I$106,'出納簿 '!$F$6:$F$106,B22)","v":0},0,null,null,18,null,null,null,0,{"$f":"SUMIFS('出納簿 '!$I$6:$I$106,'出納簿 '!$G$6:$G$106,I22)","v":0},0]
[null,null,null,{"$f":"SUMIFS('出納簿 '!$I$6:$I$106,'出納簿 '!$F$6:$F$106,B23)","v":0},0,null,null,19,null,null,null,0,{"$f":"SUMIFS('出納簿 '!$I$6:$I$106,'出納簿 '!$G$6:$G$106,I23)","v":0},0]
[null,null,null,{"$f":"SUMIFS('出納簿 '!$I$6:$I$106,'出納簿 '!$F$6:$F$106,B24)","v":0},0,null,null,20,null,null,null,0,{"$f":"SUMIFS('出納簿 '!$I$6:$I$106,'出納簿 '!$G$6:$G$106,I24)","v":0},0]
[null,null,null,{"$f":"SUMIFS('出納簿 '!$I$6:$I$106,'出納簿 '!$F$6:$F$106,B25)","v":0},0,null,null,21,null,null,null,0,{"$f":"SUMIFS('出納簿 '!$I$6:$I$106,'出納簿 '!$G$6:$G$106,I25)","v":0},0]
[null,null,null,{"$f":"SUMIFS('出納簿 '!$I$6:$I$106,'出納簿 '!$F$6:$F$106,B26)","v":0},0,null,null,22,null,null,null,0,{"$f":"SUMIFS('出納簿 '!$I$6:$I$106,'出納簿 '!$G$6:$G$106,I26)","v":0},0]
[null,null,null,{"$f":"SUMIFS('出納簿 '!$I$6:$I$106,'出納簿 '!$F$6:$F$106,B27)","v":0},0,null,null,23,null,null,null,0,{"$f":"SUMIFS('出納簿 '!$I$6:$I$106,'出納簿 '!$G$6:$G$106,I27)","v":0},0]
[null,null,null,{"$f":"SUMIFS('出納簿 '!$I$6:$I$106,'出納簿 '!$F$6:$F$106,B28)","v":0},0,null,null,24,null,null,null,0,{"$f":"SUMIFS('出納簿 '!$I$6:$I$106,'出納簿 '!$G$6:$G$106,I28)","v":0},0]
[null,null,null,{"$f":"SUMIFS('出納簿 '!$I$6:$I$106,'出納簿 '!$F$6:$F$106,B29)","v":0},0,null,null,25,null,null,null,0,{"$f":"SUMIFS('出納簿 '!$I$6:$I$106,'出納簿 '!$G$6:$G$106,I29)","v":0},0]
[null,null,null,{"$f":"SUMIFS('出納簿 '!$I$6:$I$106,'出納簿 '!$F$6:$F$106,B30)","v":0},0,null,null,26,null,null,null,0,{"$f":"SUMIFS('出納簿 '!$I$6:$I$106,'出納簿 '!$G$6:$G$106,I30)","v":0},0]
[null,null,null,{"$f":"SUMIFS('出納簿 '!$I$6:$I$106,'出納簿 '!$F$6:$F$106,B31)","v":0},0,null,null,27,null,null,null,0,{"$f":"SUMIFS('出納簿 '!$I$6:$I$106,'出納簿 '!$G$6:$G$106,I31)","v":0},0]
[null,null,null,{"$f":"SUMIFS('出納簿 '!$I$6:$I$106,'出納簿 '!$F$6:$F$106,B32)","v":0},0,null,null,28,null,null,null,0,{"$f":"SUMIFS('出納簿 '!$I$6:$I$106,'出納簿 '!$G$6:$G$106,I32)","v":0},0]
[null,null,null,{"$f":"SUMIFS('出納簿 '!$I$6:$I$106,'出納簿 '!$F$6:$F$106,B33)","v":0},0,null,null,29,null,null,null,0,{"$f":"SUMIFS('出納簿 '!$I$6:$I$106,'出納簿 '!$G$6:$G$106,I33)","v":0},0]
[null,null,null,{"$f":"SUMIFS('出納簿 '!$I$6:$I$106,'出納簿 '!$F$6:$F$106,B34)","v":0},0,null,null,30,null,null,null,0,{"$f":"SUMIFS('出納簿 '!$I$6:$I$106,'出納簿 '!$G$6:$G$106,I34)","v":0},0]
[null,null,null,null,null,null,null,31,null,null,null,0,{"$f":"SUMIFS('出納簿 '!$I$6:$I$106,'出納簿 '!$G$6:$G$106,I35)","v":0},0]
[null,null,null,null,null,null,null,32,null,null,null,0,{"$f":"SUMIFS('出納簿 '!$I$6:$I$106,'出納簿 '!$G$6:$G$106,I36)","v":0},0]
[null,null,null,null,null,null,null,33,null,null,null,0,{"$f":"SUMIFS('出納簿 '!$I$6:$I$106,'出納簿 '!$G$6:$G$106,I37)","v":0},0]
[null,null,null,null,null,null,null,34,null,null,null,0,{"$f":"SUMIFS('出納簿 '!$I$6:$I$106,'出納簿 '!$G$6:$G$106,I38)","v":0},0]
[null,null,null,null,null,null,null,35,null,null,null,0,{"$f":"SUMIFS('出納簿 '!$I$6:$I$106,'出納簿 '!$G$6:$G$106,I39)","v":0},0]
[null,null,null,null,null,null,null,36,null,null,null,0,{"$f":"SUMIFS('出納簿 '!$I$6:$I$106,'出納簿 '!$G$6:$G$106,I40)","v":0},0]
[null,null,null,null,null,null,null,37,null,null,null,0,{"$f":"SUMIFS('出納簿 '!$I$6:$I$106,'出納簿 '!$G$6:$G$106,I41)","v":0},0]
[null,null,null,null,null,null,null,38,null,null,null,0,{"$f":"SUMIFS('出納簿 '!$I$6:$I$106,'出納簿 '!$G$6:$G$106,I42)","v":0},0]
[null,null,null,null,null,null,null,39,null,null,null,0,{"$f":"SUMIFS('出納簿 '!$I$6:$I$106,'出納簿 '!$G$6:$G$106,I43)","v":0},0]
[null,null,null,null,null,null,null,40,null,null,null,0,{"$f":"SUMIFS('出納簿 '!$I$6:$I$106,'出納簿 '!$G$6:$G$106,I44)","v":0},0]
[null,null,null,null,null,null,null,41,null,null,null,0,{"$f":"SUMIFS('出納簿 '!$I$6:$I$106,'出納簿 '!$G$6:$G$106,I45)","v":0},0]
[null,null,null,null,null,null,null,42,null,null,null,0,{"$f":"SUMIFS('出納簿 '!$I$6:$I$106,'出納簿 '!$G$6:$G$106,I46)","v":0},0]
[null,null,null,null,null,null,null,43,null,null,null,0,{"$f":"SUMIFS('出納簿 '!$I$6:$I$106,'出納簿 '!$G$6:$G$106,I47)","v":0},0]
[null,null,null,null,null,null,null,44,null,null,null,0,{"$f":"SUMIFS('出納簿 '!$I$6:$I$106,'出納簿 '!$G$6:$G$106,I48)","v":0},0]
[null,null,null,null,null,null,null,45,null,null,null,0,{"$f":"SUMIFS('出納簿 '!$I$6:$I$106,'出納簿 '!$G$6:$G$106,I49)","v":0},0]
[null,null,null,null,null,null,null,46,null,null,null,0,{"$f":"SUMIFS('出納簿 '!$I$6:$I$106,'出納簿 '!$G$6:$G$106,I50)","v":0},0]
[null,null,null,null,null,null,null,47,null,null,null,0,{"$f":"SUMIFS('出納簿 '!$I$6:$I$106,'出納簿 '!$G$6:$G$106,I51)","v":0},0]
[null,null,null,null,null,null,null,48,null,null,null,0,{"$f":"SUMIFS('出納簿 '!$I$6:$I$106,'出納簿 '!$G$6:$G$106,I52)","v":0},0]
[null,null,null,null,null,null,null,49,null,null,null,0,{"$f":"SUMIFS('出納簿 '!$I$6:$I$106,'出納簿 '!$G$6:$G$106,I53)","v":0},0]
[null,null,null,null,null,null,null,50,null,null,null,0,{"$f":"SUMIFS('出納簿 '!$I$6:$I$106,'出納簿 '!$G$6:$G$106,I54)","v":0},0]
[null,null,null,null,null,null,null,51,null,null,null,0,{"$f":"SUMIFS('出納簿 '!$I$6:$I$106,'出納簿 '!$G$6:$G$106,I55)","v":0},0]
[null,null,null,null,null,null,null,52,null,null,null,0,{"$f":"SUMIFS('出納簿 '!$I$6:$I$106,'出納簿 '!$G$6:$G$106,I56)","v":0},0]
[null,null,null,null,null,null,null,53,null,null,null,0,{"$f":"SUMIFS('出納簿 '!$I$6:$I$106,'出納簿 '!$G$6:$G$106,I57)","v":0},0]
[null,null,null,null,null,null,null,54,null,null,null,0,{"$f":"SUMIFS('出納簿 '!$I$6:$I$106,'出納簿 '!$G$6:$G$106,I58)","v":0},0]
[null,null,null,null,null,null,null,55,null,null,null,0,{"$f":"SUMIFS('出納簿 '!$I$6:$I$106,'出納簿 '!$G$6:$G$106,I59)","v":0},0]
[null,null,null,null,null,null,null,56,null,null,null,0,{"$f":"SUMIFS('出納簿 '!$I$6:$I$106,'出納簿 '!$G$6:$G$106,I60)","v":0},0]
[null,null,null,null,null,null,null,57,null,null,null,0,{"$f":"SUMIFS('出納簿 '!$I$6:$I$106,'出納簿 '!$G$6:$G$106,I61)","v":0},0]
[null,null,null,null,null,null,null,58,null,null,null,0,{"$f":"SUMIFS('出納簿 '!$I$6:$I$106,'出納簿 '!$G$6:$G$106,I62)","v":0},0]
[null,null,null,null,null,null,null,59,null,null,null,0,{"$f":"SUMIFS('出納簿 '!$I$6:$I$106,'出納簿 '!$G$6:$G$106,I63)","v":0},0]
[null,null,null,null,null,null,null,60,null,null,null,0,{"$f":"SUMIFS('出納簿 '!$I$6:$I$106,'出納簿 '!$G$6:$G$106,I64)","v":0},0]
[null,null,null,null,null,null,null,61,null,null,null,0,{"$f":"SUMIFS('出納簿 '!$I$6:$I$106,'出納簿 '!$G$6:$G$106,I65)","v":0},0]
[null,null,null,null,null,null,null,62,null,null,null,0,{"$f":"SUMIFS('出納簿 '!$I$6:$I$106,'出納簿 '!$G$6:$G$106,I66)","v":0},0]
[null,null,null,null,null,null,null,63,null,null,null,0,{"$f":"SUMIFS('出納簿 '!$I$6:$I$106,'出納簿 '!$G$6:$G$106,I67)","v":0},0]
[null,null,null,null,null,null,null,64,null,null,null,0,{"$f":"SUMIFS('出納簿 '!$I$6:$I$106,'出納簿 '!$G$6:$G$106,I68)","v":0},0]
[null,null,null,null,null,null,null,65,null,null,null,0,{"$f":"SUMIFS('出納簿 '!$I$6:$I$106,'出納簿 '!$G$6:$G$106,I69)","v":0},0]
[null,null,null,null,null,null,null,66,null,null,null,0,{"$f":"SUMIFS('出納簿 '!$I$6:$I$106,'出納簿 '!$G$6:$G$106,I70)","v":0},0]
[null,null,null,null,null,null,null,67,null,null,null,0,{"$f":"SUMIFS('出納簿 '!$I$6:$I$106,'出納簿 '!$G$6:$G$106,I71)","v":0},0]
[null,null,null,null,null,null,null,68,null,null,null,0,{"$f":"SUMIFS('出納簿 '!$I$6:$I$106,'出納簿 '!$G$6:$G$106,I72)","v":0},0]
[null,null,null,null,null,null,null,69,null,null,null,0,{"$f":"SUMIFS('出納簿 '!$I$6:$I$106,'出納簿 '!$G$6:$G$106,I73)","v":0},0]
[null,null,null,null,null,null,null,70,null,null,null,0,{"$f":"SUMIFS('出納簿 '!$I$6:$I$106,'出納簿 '!$G$6:$G$106,I74)","v":0},0]
[null,null,null,null,null,null,null,71,null,null,null,0,{"$f":"SUMIFS('出納簿 '!$I$6:$I$106,'出納簿 '!$G$6:$G$106,I75)","v":0},0]
[null,null,null,null,null,null,null,72,null,null,null,0,{"$f":"SUMIFS('出納簿 '!$I$6:$I$106,'出納簿 '!$G$6:$G$106,I76)","v":0},0]
[null,null,null,null,null,null,null,73,null,null,null,0,{"$f":"SUMIFS('出納簿 '!$I$6:$I$106,'出納簿 '!$G$6:$G$106,I77)","v":0},0]
[null,null,null,null,null,null,null,74,null,null,null,0,{"$f":"SUMIFS('出納簿 '!$I$6:$I$106,'出納簿 '!$G$6:$G$106,I78)","v":0},0]
[null,null,null,null,null,null,null,75,null,null,null,0,{"$f":"SUMIFS('出納簿 '!$I$6:$I$106,'出納簿 '!$G$6:$G$106,I79)","v":0},0]
[null,null,null,null,null,null,null,76,null,null,null,0,{"$f":"SUMIFS('出納簿 '!$I$6:$I$106,'出納簿 '!$G$6:$G$106,I80)","v":0},0]
[null,null,null,null,null,null,null,77,null,null,null,0,{"$f":"SUMIFS('出納簿 '!$I$6:$I$106,'出納簿 '!$G$6:$G$106,I81)","v":0},0]
[null,null,null,null,null,null,null,78,null,null,null,0,{"$f":"SUMIFS('出納簿 '!$I$6:$I$106,'出納簿 '!$G$6:$G$106,I82)","v":0},0]
[null,null,null,null,null,null,null,79,null,null,null,0,{"$f":"SUMIFS('出納簿 '!$I$6:$I$106,'出納簿 '!$G$6:$G$106,I83)","v":0},0]
[null,null,null,null,null,null,null,80,null,null,null,0,{"$f":"SUMIFS('出納簿 '!$I$6:$I$106,'出納簿 '!$G$6:$G$106,I84)","v":0},0]
[null,null,null,null,null,null,null,81,null,null,null,0,{"$f":"SUMIFS('出納簿 '!$I$6:$I$106,'出納簿 '!$G$6:$G$106,I85)","v":0},0]
[null,null,null,null,null,null,null,82,null,null,null,0,{"$f":"SUMIFS('出納簿 '!$I$6:$I$106,'出納簿 '!$G$6:$G$106,I86)","v":0},0]
[null,null,null,null,null,null,null,83,null,null,null,0,{"$f":"SUMIFS('出納簿 '!$I$6:$I$106,'出納簿 '!$G$6:$G$106,I87)","v":0},0]
[null,null,null,null,null,null,null,84,null,null,null,0,{"$f":"SUMIFS('出納簿 '!$I$6:$I$106,'出納簿 '!$G$6:$G$106,I88)","v":0},0]
[null,null,null,null,null,null,null,85,null,null,null,0,{"$f":"SUMIFS('出納簿 '!$I$6:$I$106,'出納簿 '!$G$6:$G$106,I89)","v":0},0]

{"sheet":"次年度集金計画","index":10,"n_rows":14,"n_cols":38,"rows_kept":14,"cut":false,"hidden":false,"merged":[[2,37,2,38],[3,1,3,3],[3,4,3,6],[3,7,3,9],[3,10,3,12],[3,13,3,15],[3,16,3,18],[3,19,3,21],[3,22,3,24],[3,25,3,27],[3,28,3,30],[3,31,3,33],[3,34,3,36],[3,37,3,38],[2,1,2,3],[2,4,2,6],[2,7,2,9],[2,10,2,12],[2,13,2,15],[2,16,2,18],[2,19,2,21],[2,22,2,24],[2,25,2,27],[5,10,5,11],[5,13,5,14],[5,16,5,17],[5,19,5,20],[5,22,5,23],[5,25,5,26],[2,28,2,30],[2,31,2,33],[2,34,2,36],[7,16,7,17],[7,19,7,20],[7,22,7,23],[7,25,7,26],[5,28,5,29],[5,31,5,32],[5,34,5,35],[5,37,5,38],[6,1,6,2],[6,4,6,5],[6,7,6,8],[6,10,6,11],[6,13,6,14],[6,16,6,17],[6,19,6,20],[6,22,6,23],[6,25,6,26],[6,28,6,29],[6,31,6,32],[6,34,6,35],[6,37,6,38],[5,1,5,2],[5,4,5,5],[5,7,5,8],[9,22,9,23],[9,25,9,26],[7,28,7,29],[7,31,7,32],[7,34,7,35],[7,37,7,38],[8,1,8,2],[8,4,8,5],[8,7,8,8],[8,10,8,11],[8,13,8,14],[8,16,8,17],[8,19,8,20],[8,22,8,23],[8,25,8,26],[8,28,8,29],[8,31,8,32],[8,34,8,35],[8,37,8,38],[7,1,7,2],[7,4,7,5],[7,7,7,8],[7,10,7,11],[7,13,7,14],[9,28,9,29],[9,31,9,32],[9,34,9,35],[9,37,9,38],[10,1,10,2],[10,4,10,5],[10,7,10,8],[10,10,10,11],[10,13,10,14],[10,16,10,17],[10,19,10,20],[10,22,10,23],[10,25,10,26],[10,28,10,29],[10,31,10,32],[10,34,10,35],[10,37,10,38],[9,1,9,2],[9,4,9,5],[9,7,9,8],[9,10,9,11],[9,13,9,14],[9,16,9,17],[9,19,9,20],[11,1,11,2],[11,4,11,5],[11,7,11,8],[11,10,11,11],[11,13,11,14],[11,16,11,17],[11,19,11,20],[11,22,11,23],[11,25,11,26],[11,28,11,29],[11,31,11,32],[11,34,11,35],[11,37,11,38],[12,8,12,9],[12,13,12,14],[12,16,12,17],[12,19,12,20],[12,22,12,23],[12,25,12,26],[12,28,12,29],[12,31,12,32],[12,34,12,35],[12,37,12,38]]}
["様式２"]
["令和",{"$f":"メイン!D7","v":0},"年度",null,{"$f":"メイン!C8","v":0},"学年",null,null,null,null,null,null,null,null,"次年度学級会計集金計画　参考資料"]
[null,"4月",null,null,"5月",null,null,"6月",null,null,"7月",null,null,"8月",null,null,"9月",null,null,"10月",null,null,"11月",null,null,"12月",null,null,"1月",null,null,"2月",null,null,"3月",null,null,"合計"]
["集金金額\n（1人あたり）",null,null,null,null,null,null,null,null,null,null,null,null,null,null,null,null,null,null,null,null,null,null,null,null,null,null,null,null,null,null,null,null,null,null,null,null,0]
[]
["支出予定金額\n（1人あたり）",{"$f":"SUM(D7:D12)","v":0},null,"単価",{"$f":"SUM(G7:G12)","v":0},null,"単価",{"$f":"SUM(J7:J12)","v":0},null,"単価",{"$f":"SUM(M7:M12)","v":0},null,"単価",{"$f":"SUM(P7:P12)","v":0},null,"単価",{"$f":"SUM(S7:S12)","v":0},null,"単価",{"$f":"SUM(V7:V12)","v":0},null,"単価",{"$f":"SUM(Y7:Y12)","v":0},null,"単価",{"$f":"SUM(AB7:AB12)","v":0},null,"単価",{"$f":"SUM(AE7:AE12)","v":0},null,"単価",{"$f":"SUM(AH7:AH12)","v":0},null,"単価",{"$f":"SUM(AK7:AK12)","v":0},null,"単価",{"$f":"SUM(AN7:AN12)","v":0}]
["内訳",{"$f":"IF('４月集金一覧'!$C$4=0,\"\",'４月集金一覧'!$C$4)","v":""},{"$f":"IF('４月集金一覧'!C$4=0,\"\",'４月集金一覧'!C$4)","v":""},{"$f":"'４月集金一覧'!$C$47","v":""},{"$f":"IF('５月集金一覧'!$C$4=0,\"\",'５月集金一覧'!$C$4)","v":""},{"$f":"IF('４月集金一覧'!F$4=0,\"\",'４月集金一覧'!F$4)","v":""},{"$f":"'５月集金一覧'!$C$47","v":""},{"$f":"IF('６月集金一覧'!$C$4=0,\"\",'６月集金一覧'!$C$4)","v":""},{"$f":"IF('４月集金一覧'!I$4=0,\"\",'４月集金一覧'!I$4)","v":"備考"},{"$f":"'６月集金一覧'!$C$47","v":""},{"$f":"IF('７月集金一覧'!$C$4=0,\"\",'７月集金一覧'!$C$4)","v":""},{"$f":"IF('４月集金一覧'!L$4=0,\"\",'４月集金一覧'!L$4)","v":""},{"$f":"'７月集金一覧'!$C$47","v":""},null,null,null,{"$f":"IF('９月集金一覧'!$C$4=0,\"\",'９月集金一覧'!$C$4)","v":""},{"$f":"IF('４月集金一覧'!R$4=0,\"\",'４月集金一覧'!R$4)","v":""},{"$f":"'９月集金一覧'!$C$47","v":""},{"$f":"IF('１０月集金一覧'!$C$4=0,\"\",'１０月集金一覧'!$C$4)","v":""},{"$f":"IF('４月集金一覧'!U$4=0,\"\",'４月集金一覧'!U$4)","v":""},{"$f":"'１０月集金一覧'!$C$47","v":""},{"$f":"IF('１１月集金一覧'!$C$4=0,\"\",'１１月集金一覧'!$C$4)","v":""},{"$f":"IF('４月集金一覧'!X$4=0,\"\",'４月集金一覧'!X$4)","v":""},{"$f":"'１１月集金一覧'!$C$47","v":""},{"$f":"IF('１２月集金一覧'!$C$4=0,\"\",'１２月集金一覧'!$C$4)","v":""},{"$f":"IF('４月集金一覧'!AA$4=0,\"\",'４月集金一覧'!AA$4)","v":""},{"$f":"'１２月集金一覧'!$C$47","v":""},{"$f":"IF('１月集金一覧'!$C$4=0,\"\",'１月集金一覧'!$C$4)","v":""},{"$f":"IF('４月集金一覧'!AD$4=0,\"\",'４月集金一覧'!AD$4)","v":""},{"$f":"'１月集金一覧'!$C$47","v":""},{"$f":"IF('２月集金一覧'!$C$4=0,\"\",'２月集金一覧'!$C$4)","v":""},{"$f":"IF('４月集金一覧'!AG$4=0,\"\",'４月集金一覧'!AG$4)","v":""},{"$f":"'２月集金一覧'!$C$47","v":""},{"$f":"IF('３月集金一覧'!$C$4=0,\"\",'３月集金一覧'!$C$4)","v":""},{"$f":"IF('４月集金一覧'!AJ$4=0,\"\",'４月集金一覧'!AJ$4)","v":""},{"$f":"'３月集金一覧'!$C$47","v":""}]
[null,{"$f":"IF('４月集金一覧'!$D$4=0,\"\",'４月集金一覧'!$D$4)","v":""},{"$f":"IF('４月集金一覧'!D$4=0,\"\",'４月集金一覧'!D$4)","v":""},{"$f":"'４月集金一覧'!$D$47","v":""},{"$f":"IF('５月集金一覧'!$D$4=0,\"\",'５月集金一覧'!$D$4)","v":""},{"$f":"IF('４月集金一覧'!G$4=0,\"\",'４月集金一覧'!G$4)","v":""},{"$f":"'５月集金一覧'!$D$47","v":""},{"$f":"IF('６月集金一覧'!$D$4=0,\"\",'６月集金一覧'!$D$4)","v":""},{"$f":"IF('４月集金一覧'!J$4=0,\"\",'４月集金一覧'!J$4)","v":""},{"$f":"'６月集金一覧'!$D$47","v":""},{"$f":"IF('７月集金一覧'!$D$4=0,\"\",'７月集金一覧'!$D$4)","v":""},{"$f":"IF('４月集金一覧'!M$4=0,\"\",'４月集金一覧'!M$4)","v":""},{"$f":"'７月集金一覧'!$D$47","v":""},null,null,null,{"$f":"IF('９月集金一覧'!$D$4=0,\"\",'９月集金一覧'!$D$4)","v":""},{"$f":"IF('４月集金一覧'!S$4=0,\"\",'４月集金一覧'!S$4)","v":""},{"$f":"'９月集金一覧'!$D$47","v":""},{"$f":"IF('１０月集金一覧'!$D$4=0,\"\",'１０月集金一覧'!$D$4)","v":""},{"$f":"IF('４月集金一覧'!V$4=0,\"\",'４月集金一覧'!V$4)","v":""},{"$f":"'１０月集金一覧'!$D$47","v":""},{"$f":"IF('１１月集金一覧'!$D$4=0,\"\",'１１月集金一覧'!$D$4)","v":""},{"$f":"IF('４月集金一覧'!Y$4=0,\"\",'４月集金一覧'!Y$4)","v":""},{"$f":"'１１月集金一覧'!$D$47","v":""},{"$f":"IF('１２月集金一覧'!$D$4=0,\"\",'１２月集金一覧'!$D$4)","v":""},{"$f":"IF('４月集金一覧'!AB$4=0,\"\",'４月集金一覧'!AB$4)","v":""},{"$f":"'１２月集金一覧'!$D$47","v":""},{"$f":"IF('１月集金一覧'!$D$4=0,\"\",'１月集金一覧'!$D$4)","v":""},{"$f":"IF('４月集金一覧'!AE$4=0,\"\",'４月集金一覧'!AE$4)","v":""},{"$f":"'１月集金一覧'!$D$47","v":""},{"$f":"IF('２月集金一覧'!$D$4=0,\"\",'２月集金一覧'!$D$4)","v":""},{"$f":"IF('４月集金一覧'!AH$4=0,\"\",'４月集金一覧'!AH$4)","v":""},{"$f":"'２月集金一覧'!$D$47","v":""},{"$f":"IF('３月集金一覧'!$D$4=0,\"\",'３月集金一覧'!$D$4)","v":""},{"$f":"IF('４月集金一覧'!AK$4=0,\"\",'４月集金一覧'!AK$4)","v":""},{"$f":"'３月集金一覧'!$D$47","v":""}]
[null,{"$f":"IF('４月集金一覧'!$E$4=0,\"\",'４月集金一覧'!$E$4)","v":""},{"$f":"IF('４月集金一覧'!E$4=0,\"\",'４月集金一覧'!E$4)","v":""},{"$f":"'４月集金一覧'!$E$47","v":""},{"$f":"IF('５月集金一覧'!$E$4=0,\"\",'５月集金一覧'!$E$4)","v":""},{"$f":"IF('４月集金一覧'!H$4=0,\"\",'４月集金一覧'!H$4)","v":"個人計"},{"$f":"'５月集金一覧'!$E$47","v":""},{"$f":"IF('６月集金一覧'!$E$4=0,\"\",'６月集金一覧'!$E$4)","v":""},{"$f":"IF('４月集金一覧'!K$4=0,\"\",'４月集金一覧'!K$4)","v":""},{"$f":"'６月集金一覧'!$E$47","v":""},{"$f":"IF('７月集金一覧'!$E$4=0,\"\",'７月集金一覧'!$E$4)","v":""},{"$f":"IF('４月集金一覧'!N$4=0,\"\",'４月集金一覧'!N$4)","v":""},{"$f":"'７月集金一覧'!$E$47","v":""},null,null,null,{"$f":"IF('９月集金一覧'!$E$4=0,\"\",'９月集金一覧'!$E$4)","v":""},{"$f":"IF('４月集金一覧'!T$4=0,\"\",'４月集金一覧'!T$4)","v":""},{"$f":"'９月集金一覧'!$E$47","v":""},{"$f":"IF('１０月集金一覧'!$E$4=0,\"\",'１０月集金一覧'!$E$4)","v":""},{"$f":"IF('４月集金一覧'!W$4=0,\"\",'４月集金一覧'!W$4)","v":""},{"$f":"'１０月集金一覧'!$E$47","v":""},{"$f":"IF('１１月集金一覧'!$E$4=0,\"\",'１１月集金一覧'!$E$4)","v":""},{"$f":"IF('４月集金一覧'!Z$4=0,\"\",'４月集金一覧'!Z$4)","v":""},{"$f":"'１１月集金一覧'!$E$47","v":""},{"$f":"IF('１２月集金一覧'!$E$4=0,\"\",'１２月集金一覧'!$E$4)","v":""},{"$f":"IF('４月集金一覧'!AC$4=0,\"\",'４月集金一覧'!AC$4)","v":""},{"$f":"'１２月集金一覧'!$E$47","v":""},{"$f":"IF('１月集金一覧'!$E$4=0,\"\",'１月集金一覧'!$E$4)","v":""},{"$f":"IF('４月集金一覧'!AF$4=0,\"\",'４月集金一覧'!AF$4)","v":""},{"$f":"'１月集金一覧'!$E$47","v":""},{"$f":"IF('２月集金一覧'!$E$4=0,\"\",'２月集金一覧'!$E$4)","v":""},{"$f":"IF('４月集金一覧'!AI$4=0,\"\",'４月集金一覧'!AI$4)","v":""},{"$f":"'２月集金一覧'!$E$47","v":""},{"$f":"IF('３月集金一覧'!$E$4=0,\"\",'３月集金一覧'!$E$4)","v":""},{"$f":"IF('４月集金一覧'!AL$4=0,\"\",'４月集金一覧'!AL$4)","v":""},{"$f":"'３月集金一覧'!$E$47","v":""}]
[null,{"$f":"IF('４月集金一覧'!$F$4=0,\"\",'４月集金一覧'!$F$4)","v":""},{"$f":"IF('４月集金一覧'!F$4=0,\"\",'４月集金一覧'!F$4)","v":""},{"$f":"'４月集金一覧'!$F$47","v":""},{"$f":"IF('５月集金一覧'!$F$4=0,\"\",'５月集金一覧'!$F$4)","v":""},{"$f":"IF('４月集金一覧'!I$4=0,\"\",'４月集金一覧'!I$4)","v":"備考"},{"$f":"'５月集金一覧'!$F$47","v":""},{"$f":"IF('６月集金一覧'!$F$4=0,\"\",'６月集金一覧'!$F$4)","v":""},{"$f":"IF('４月集金一覧'!L$4=0,\"\",'４月集金一覧'!L$4)","v":""},{"$f":"'６月集金一覧'!$F$47","v":""},{"$f":"IF('７月集金一覧'!$F$4=0,\"\",'７月集金一覧'!$F$4)","v":""},{"$f":"IF('４月集金一覧'!O$4=0,\"\",'４月集金一覧'!O$4)","v":""},{"$f":"'７月集金一覧'!$F$47","v":""},null,null,null,{"$f":"IF('９月集金一覧'!$F$4=0,\"\",'９月集金一覧'!$F$4)","v":""},{"$f":"IF('４月集金一覧'!U$4=0,\"\",'４月集金一覧'!U$4)","v":""},{"$f":"'９月集金一覧'!$F$47","v":""},{"$f":"IF('１０月集金一覧'!$F$4=0,\"\",'１０月集金一覧'!$F$4)","v":""},{"$f":"IF('４月集金一覧'!X$4=0,\"\",'４月集金一覧'!X$4)","v":""},{"$f":"'１０月集金一覧'!$F$47","v":""},{"$f":"IF('１１月集金一覧'!$F$4=0,\"\",'１１月集金一覧'!$F$4)","v":""},{"$f":"IF('４月集金一覧'!AA$4=0,\"\",'４月集金一覧'!AA$4)","v":""},{"$f":"'１１月集金一覧'!$F$47","v":""},{"$f":"IF('１２月集金一覧'!$F$4=0,\"\",'１２月集金一覧'!$F$4)","v":""},{"$f":"IF('４月集金一覧'!AD$4=0,\"\",'４月集金一覧'!AD$4)","v":""},{"$f":"'１２月集金一覧'!$F$47","v":""},{"$f":"IF('１月集金一覧'!$F$4=0,\"\",'１月集金一覧'!$F$4)","v":""},{"$f":"IF('４月集金一覧'!AG$4=0,\"\",'４月集金一覧'!AG$4)","v":""},{"$f":"'１月集金一覧'!$F$47","v":""},{"$f":"IF('２月集金一覧'!$F$4=0,\"\",'２月集金一覧'!$F$4)","v":""},{"$f":"IF('４月集金一覧'!AJ$4=0,\"\",'４月集金一覧'!AJ$4)","v":""},{"$f":"'２月集金一覧'!$F$47","v":""},{"$f":"IF('３月集金一覧'!$F$4=0,\"\",'３月集金一覧'!$F$4)","v":""},{"$f":"IF('４月集金一覧'!AM$4=0,\"\",'４月集金一覧'!AM$4)","v":""},{"$f":"'３月集金一覧'!$F$47","v":""}]
[null,{"$f":"IF('４月集金一覧'!$G$4=0,\"\",'４月集金一覧'!$G$4)","v":""},{"$f":"IF('４月集金一覧'!G$4=0,\"\",'４月集金一覧'!G$4)","v":""},{"$f":"'４月集金一覧'!$G$47","v":""},{"$f":"IF('５月集金一覧'!$G$4=0,\"\",'５月集金一覧'!$G$4)","v":""},{"$f":"IF('４月集金一覧'!J$4=0,\"\",'４月集金一覧'!J$4)","v":""},{"$f":"'５月集金一覧'!$G$47","v":""},{"$f":"IF('６月集金一覧'!$G$4=0,\"\",'６月集金一覧'!$G$4)","v":""},{"$f":"IF('４月集金一覧'!M$4=0,\"\",'４月集金一覧'!M$4)","v":""},{"$f":"'６月集金一覧'!$G$47","v":""},{"$f":"IF('７月集金一覧'!$G$4=0,\"\",'７月集金一覧'!$G$4)","v":""},{"$f":"IF('４月集金一覧'!P$4=0,\"\",'４月集金一覧'!P$4)","v":""},{"$f":"'７月集金一覧'!$G$47","v":""},null,null,null,{"$f":"IF('９月集金一覧'!$G$4=0,\"\",'９月集金一覧'!$G$4)","v":""},{"$f":"IF('４月集金一覧'!V$4=0,\"\",'４月集金一覧'!V$4)","v":""},{"$f":"'９月集金一覧'!$G$47","v":""},{"$f":"IF('１０月集金一覧'!$G$4=0,\"\",'１０月集金一覧'!$G$4)","v":""},{"$f":"IF('４月集金一覧'!Y$4=0,\"\",'４月集金一覧'!Y$4)","v":""},{"$f":"'１０月集金一覧'!$G$47","v":""},{"$f":"IF('１１月集金一覧'!$G$4=0,\"\",'１１月集金一覧'!$G$4)","v":""},{"$f":"IF('４月集金一覧'!AB$4=0,\"\",'４月集金一覧'!AB$4)","v":""},{"$f":"'１１月集金一覧'!$G$47","v":""},{"$f":"IF('１２月集金一覧'!$G$4=0,\"\",'１２月集金一覧'!$G$4)","v":""},{"$f":"IF('４月集金一覧'!AE$4=0,\"\",'４月集金一覧'!AE$4)","v":""},{"$f":"'１２月集金一覧'!$G$47","v":""},{"$f":"IF('１月集金一覧'!$G$4=0,\"\",'１月集金一覧'!$G$4)","v":""},{"$f":"IF('４月集金一覧'!AH$4=0,\"\",'４月集金一覧'!AH$4)","v":""},{"$f":"'１月集金一覧'!$G$47","v":""},{"$f":"IF('２月集金一覧'!$G$4=0,\"\",'２月集金一覧'!$G$4)","v":""},{"$f":"IF('４月集金一覧'!AK$4=0,\"\",'４月集金一覧'!AK$4)","v":""},{"$f":"'２月集金一覧'!$G$47","v":""},{"$f":"IF('３月集金一覧'!$G$4=0,\"\",'３月集金一覧'!$G$4)","v":""},{"$f":"IF('４月集金一覧'!AN$4=0,\"\",'４月集金一覧'!AN$4)","v":""},{"$f":"'３月集金一覧'!$G$47","v":""}]
[]
["集金予定合計額　",{"$f":"AL4","v":0},"円×",null,null,"人",null,"＝",0,null,"円"]
["連絡事項"]

{"sheet":"月別集金内訳","index":11,"n_rows":1,"n_cols":1,"rows_kept":1,"cut":false,"hidden":false,"merged":[[0,0,0,11]]}
["個別集金一覧表　"]

{"sheet":"４月集金一覧","index":12,"n_rows":47,"n_cols":9,"rows_kept":47,"cut":false,"hidden":false,"merged":[[1,1,1,7],[2,7,2,8]]}
[null,"令和",{"$f":"IF(メイン!D7=0,\"\",メイン!D7)","v":""},"年度",{"$f":"IF(メイン!C8=0,\"\",メイン!C8)","v":""},"年",{"$f":"IF(メイン!E8=0,\"\",メイン!E8)","v":""},"組"]
[null,"集金個別一覧表　４月分"]
[]
["番号","氏　　名",null,null,null,null,null,"個人計","備考"]
[1,{"$f":"IF(集金台帳４０人分!D6=\"\",\"\",集金台帳４０人分!D6)","v":""},null,null,null,null,null,{"$f":"SUM(C5:G5)","v":0}]
[2,{"$f":"IF(集金台帳４０人分!D7=\"\",\"\",集金台帳４０人分!D7)","v":""},null,null,null,null,null,0]
[3,{"$f":"IF(集金台帳４０人分!D8=\"\",\"\",集金台帳４０人分!D8)","v":""},null,null,null,null,null,0]
[4,{"$f":"IF(集金台帳４０人分!D9=\"\",\"\",集金台帳４０人分!D9)","v":""},null,null,null,null,null,0]
[5,{"$f":"IF(集金台帳４０人分!D10=\"\",\"\",集金台帳４０人分!D10)","v":""},null,null,null,null,null,0]
[6,{"$f":"IF(集金台帳４０人分!D11=\"\",\"\",集金台帳４０人分!D11)","v":""},null,null,null,null,null,0]
[7,{"$f":"IF(集金台帳４０人分!D12=\"\",\"\",集金台帳４０人分!D12)","v":""},null,null,null,null,null,0]
[8,{"$f":"IF(集金台帳４０人分!D13=\"\",\"\",集金台帳４０人分!D13)","v":""},null,null,null,null,null,0]
[9,{"$f":"IF(集金台帳４０人分!D14=\"\",\"\",集金台帳４０人分!D14)","v":""},null,null,null,null,null,0]
[10,{"$f":"IF(集金台帳４０人分!D15=\"\",\"\",集金台帳４０人分!D15)","v":""},null,null,null,null,null,0]
[11,{"$f":"IF(集金台帳４０人分!D16=\"\",\"\",集金台帳４０人分!D16)","v":""},null,null,null,null,null,0]
[12,{"$f":"IF(集金台帳４０人分!D17=\"\",\"\",集金台帳４０人分!D17)","v":""},null,null,null,null,null,0]
[13,{"$f":"IF(集金台帳４０人分!D18=\"\",\"\",集金台帳４０人分!D18)","v":""},null,null,null,null,null,0]
[14,{"$f":"IF(集金台帳４０人分!D19=\"\",\"\",集金台帳４０人分!D19)","v":""},null,null,null,null,null,0]
[15,{"$f":"IF(集金台帳４０人分!D20=\"\",\"\",集金台帳４０人分!D20)","v":""},null,null,null,null,null,0]
[16,{"$f":"IF(集金台帳４０人分!D21=\"\",\"\",集金台帳４０人分!D21)","v":""},null,null,null,null,null,0]
[17,{"$f":"IF(集金台帳４０人分!D22=\"\",\"\",集金台帳４０人分!D22)","v":""},null,null,null,null,null,0]
[18,{"$f":"IF(集金台帳４０人分!D23=\"\",\"\",集金台帳４０人分!D23)","v":""},null,null,null,null,null,0]
[19,{"$f":"IF(集金台帳４０人分!D24=\"\",\"\",集金台帳４０人分!D24)","v":""},null,null,null,null,null,0]
[20,{"$f":"IF(集金台帳４０人分!D25=\"\",\"\",集金台帳４０人分!D25)","v":""},null,null,null,null,null,0]
[21,{"$f":"IF(集金台帳４０人分!D26=\"\",\"\",集金台帳４０人分!D26)","v":""},null,null,null,null,null,0]
[22,{"$f":"IF(集金台帳４０人分!D27=\"\",\"\",集金台帳４０人分!D27)","v":""},null,null,null,null,null,0]
[23,{"$f":"IF(集金台帳４０人分!D28=\"\",\"\",集金台帳４０人分!D28)","v":""},null,null,null,null,null,0]
[24,{"$f":"IF(集金台帳４０人分!D29=\"\",\"\",集金台帳４０人分!D29)","v":""},null,null,null,null,null,0]
[25,{"$f":"IF(集金台帳４０人分!D30=\"\",\"\",集金台帳４０人分!D30)","v":""},null,null,null,null,null,0]
[26,{"$f":"IF(集金台帳４０人分!D31=\"\",\"\",集金台帳４０人分!D31)","v":""},null,null,null,null,null,0]
[27,{"$f":"IF(集金台帳４０人分!D32=\"\",\"\",集金台帳４０人分!D32)","v":""},null,null,null,null,null,0]
[28,{"$f":"IF(集金台帳４０人分!D33=\"\",\"\",集金台帳４０人分!D33)","v":""},null,null,null,null,null,0]
[29,{"$f":"IF(集金台帳４０人分!D34=\"\",\"\",集金台帳４０人分!D34)","v":""},null,null,null,null,null,0]
[30,{"$f":"IF(集金台帳４０人分!D35=\"\",\"\",集金台帳４０人分!D35)","v":""},null,null,null,null,null,0]
[31,{"$f":"IF(集金台帳４０人分!D36=\"\",\"\",集金台帳４０人分!D36)","v":""},null,null,null,null,null,0]
[32,{"$f":"IF(集金台帳４０人分!D37=\"\",\"\",集金台帳４０人分!D37)","v":""},null,null,null,null,null,0]
[33,{"$f":"IF(集金台帳４０人分!D38=\"\",\"\",集金台帳４０人分!D38)","v":""},null,null,null,null,null,0]
[34,{"$f":"IF(集金台帳４０人分!D39=\"\",\"\",集金台帳４０人分!D39)","v":""},null,null,null,null,null,0]
[35,{"$f":"IF(集金台帳４０人分!D40=\"\",\"\",集金台帳４０人分!D40)","v":""},null,null,null,null,null,0]
[36,{"$f":"IF(集金台帳４０人分!D41=\"\",\"\",集金台帳４０人分!D41)","v":""},null,null,null,null,null,0]
[37,{"$f":"IF(集金台帳４０人分!D42=\"\",\"\",集金台帳４０人分!D42)","v":""},null,null,null,null,null,0]
[38,{"$f":"IF(集金台帳４０人分!D43=\"\",\"\",集金台帳４０人分!D43)","v":""},null,null,null,null,null,0]
[39,{"$f":"IF(集金台帳４０人分!D44=\"\",\"\",集金台帳４０人分!D44)","v":""},null,null,null,null,null,0]
[40,{"$f":"IF(集金台帳４０人分!D45=\"\",\"\",集金台帳４０人分!D45)","v":""},null,null,null,null,null,0]
[null,null,{"$f":"IF(C4=\"\",\"\",C4)","v":""},{"$f":"IF(D4=\"\",\"\",D4)","v":""},{"$f":"IF(E4=\"\",\"\",E4)","v":""},{"$f":"IF(F4=\"\",\"\",F4)","v":""},{"$f":"IF(G4=\"\",\"\",G4)","v":""},"集金合計"]
[null,null,{"$f":"SUM(C5:C44)","v":0},0,0,0,0,0]
[null,"最頻値",{"$f":"IFERROR(MODE(C5:C44),\"\")","v":""},{"$f":"IFERROR(MODE(D5:D44),\"\")","v":""},{"$f":"IFERROR(MODE(E5:E44),\"\")","v":""},{"$f":"IFERROR(MODE(F5:F44),\"\")","v":""},{"$f":"IFERROR(MODE(G5:G44),\"\")","v":""}]

{"sheet":"５月集金一覧","index":13,"n_rows":47,"n_cols":9,"rows_kept":47,"cut":false,"hidden":false,"merged":[[1,1,1,7],[2,7,2,8]]}
[null,"令和",{"$f":"IF(メイン!D7=0,\"\",メイン!D7)","v":""},"年度",{"$f":"IF(メイン!C8=0,\"\",メイン!C8)","v":""},"年",{"$f":"IF(メイン!E8=0,\"\",メイン!E8)","v":""},"組"]
[null,"集金個別一覧表　５月分"]
[]
["番号","氏　　名",null,null,null,null,null,"個人計","備考"]
[1,{"$f":"IF(集金台帳４０人分!D6=\"\",\"\",集金台帳４０人分!D6)","v":""},null,null,null,null,null,{"$f":"SUM(C5:G5)","v":0}]
[2,{"$f":"IF(集金台帳４０人分!D7=\"\",\"\",集金台帳４０人分!D7)","v":""},null,null,null,null,null,0]
[3,{"$f":"IF(集金台帳４０人分!D8=\"\",\"\",集金台帳４０人分!D8)","v":""},null,null,null,null,null,0]
[4,{"$f":"IF(集金台帳４０人分!D9=\"\",\"\",集金台帳４０人分!D9)","v":""},null,null,null,null,null,0]
[5,{"$f":"IF(集金台帳４０人分!D10=\"\",\"\",集金台帳４０人分!D10)","v":""},null,null,null,null,null,0]
[6,{"$f":"IF(集金台帳４０人分!D11=\"\",\"\",集金台帳４０人分!D11)","v":""},null,null,null,null,null,0]
[7,{"$f":"IF(集金台帳４０人分!D12=\"\",\"\",集金台帳４０人分!D12)","v":""},null,null,null,null,null,0]
[8,{"$f":"IF(集金台帳４０人分!D13=\"\",\"\",集金台帳４０人分!D13)","v":""},null,null,null,null,null,0]
[9,{"$f":"IF(集金台帳４０人分!D14=\"\",\"\",集金台帳４０人分!D14)","v":""},null,null,null,null,null,0]
[10,{"$f":"IF(集金台帳４０人分!D15=\"\",\"\",集金台帳４０人分!D15)","v":""},null,null,null,null,null,0]
[11,{"$f":"IF(集金台帳４０人分!D16=\"\",\"\",集金台帳４０人分!D16)","v":""},null,null,null,null,null,0]
[12,{"$f":"IF(集金台帳４０人分!D17=\"\",\"\",集金台帳４０人分!D17)","v":""},null,null,null,null,null,0]
[13,{"$f":"IF(集金台帳４０人分!D18=\"\",\"\",集金台帳４０人分!D18)","v":""},null,null,null,null,null,0]
[14,{"$f":"IF(集金台帳４０人分!D19=\"\",\"\",集金台帳４０人分!D19)","v":""},null,null,null,null,null,0]
[15,{"$f":"IF(集金台帳４０人分!D20=\"\",\"\",集金台帳４０人分!D20)","v":""},null,null,null,null,null,0]
[16,{"$f":"IF(集金台帳４０人分!D21=\"\",\"\",集金台帳４０人分!D21)","v":""},null,null,null,null,null,0]
[17,{"$f":"IF(集金台帳４０人分!D22=\"\",\"\",集金台帳４０人分!D22)","v":""},null,null,null,null,null,0]
[18,{"$f":"IF(集金台帳４０人分!D23=\"\",\"\",集金台帳４０人分!D23)","v":""},null,null,null,null,null,0]
[19,{"$f":"IF(集金台帳４０人分!D24=\"\",\"\",集金台帳４０人分!D24)","v":""},null,null,null,null,null,0]
[20,{"$f":"IF(集金台帳４０人分!D25=\"\",\"\",集金台帳４０人分!D25)","v":""},null,null,null,null,null,0]
[21,{"$f":"IF(集金台帳４０人分!D26=\"\",\"\",集金台帳４０人分!D26)","v":""},null,null,null,null,null,0]
[22,{"$f":"IF(集金台帳４０人分!D27=\"\",\"\",集金台帳４０人分!D27)","v":""},null,null,null,null,null,0]
[23,{"$f":"IF(集金台帳４０人分!D28=\"\",\"\",集金台帳４０人分!D28)","v":""},null,null,null,null,null,0]
[24,{"$f":"IF(集金台帳４０人分!D29=\"\",\"\",集金台帳４０人分!D29)","v":""},null,null,null,null,null,0]
[25,{"$f":"IF(集金台帳４０人分!D30=\"\",\"\",集金台帳４０人分!D30)","v":""},null,null,null,null,null,0]
[26,{"$f":"IF(集金台帳４０人分!D31=\"\",\"\",集金台帳４０人分!D31)","v":""},null,null,null,null,null,0]
[27,{"$f":"IF(集金台帳４０人分!D32=\"\",\"\",集金台帳４０人分!D32)","v":""},null,null,null,null,null,0]
[28,{"$f":"IF(集金台帳４０人分!D33=\"\",\"\",集金台帳４０人分!D33)","v":""},null,null,null,null,null,0]
[29,{"$f":"IF(集金台帳４０人分!D34=\"\",\"\",集金台帳４０人分!D34)","v":""},null,null,null,null,null,0]
[30,{"$f":"IF(集金台帳４０人分!D35=\"\",\"\",集金台帳４０人分!D35)","v":""},null,null,null,null,null,0]
[31,{"$f":"IF(集金台帳４０人分!D36=\"\",\"\",集金台帳４０人分!D36)","v":""},null,null,null,null,null,0]
[32,{"$f":"IF(集金台帳４０人分!D37=\"\",\"\",集金台帳４０人分!D37)","v":""},null,null,null,null,null,0]
[33,{"$f":"IF(集金台帳４０人分!D38=\"\",\"\",集金台帳４０人分!D38)","v":""},null,null,null,null,null,0]
[34,{"$f":"IF(集金台帳４０人分!D39=\"\",\"\",集金台帳４０人分!D39)","v":""},null,null,null,null,null,0]
[35,{"$f":"IF(集金台帳４０人分!D40=\"\",\"\",集金台帳４０人分!D40)","v":""},null,null,null,null,null,0]
[36,{"$f":"IF(集金台帳４０人分!D41=\"\",\"\",集金台帳４０人分!D41)","v":""},null,null,null,null,null,0]
[37,{"$f":"IF(集金台帳４０人分!D42=\"\",\"\",集金台帳４０人分!D42)","v":""},null,null,null,null,null,0]
[38,{"$f":"IF(集金台帳４０人分!D43=\"\",\"\",集金台帳４０人分!D43)","v":""},null,null,null,null,null,0]
[39,{"$f":"IF(集金台帳４０人分!D44=\"\",\"\",集金台帳４０人分!D44)","v":""},null,null,null,null,null,0]
[40,{"$f":"IF(集金台帳４０人分!D45=\"\",\"\",集金台帳４０人分!D45)","v":""},null,null,null,null,null,0]
[null,null,{"$f":"IF(C4=\"\",\"\",C4)","v":""},{"$f":"IF(D4=\"\",\"\",D4)","v":""},{"$f":"IF(E4=\"\",\"\",E4)","v":""},{"$f":"IF(F4=\"\",\"\",F4)","v":""},{"$f":"IF(G4=\"\",\"\",G4)","v":""},"集金合計"]
[null,null,{"$f":"SUM(C5:C44)","v":0},0,0,0,0,0]
[null,"頻出",{"$f":"IFERROR(MODE(C5:C44),\"\")","v":""},{"$f":"IFERROR(MODE(D5:D44),\"\")","v":""},{"$f":"IFERROR(MODE(E5:E44),\"\")","v":""},{"$f":"IFERROR(MODE(F5:F44),\"\")","v":""},{"$f":"IFERROR(MODE(G5:G44),\"\")","v":""}]

{"sheet":"６月集金一覧","index":14,"n_rows":47,"n_cols":9,"rows_kept":47,"cut":false,"hidden":false,"merged":[[1,1,1,7],[2,7,2,8]]}
[null,"令和",{"$f":"IF(メイン!D7=0,\"\",メイン!D7)","v":""},"年度",{"$f":"IF(メイン!C8=0,\"\",メイン!C8)","v":""},"年",{"$f":"IF(メイン!E8=0,\"\",メイン!E8)","v":""},"組"]
[null,"集金個別一覧表　６月分"]
[]
["番号","氏　　名",null,null,null,null,null,"個人計","備考"]
[1,{"$f":"IF(集金台帳４０人分!D6=\"\",\"\",集金台帳４０人分!D6)","v":""},null,null,null,null,null,{"$f":"SUM(C5:G5)","v":0}]
[2,{"$f":"IF(集金台帳４０人分!D7=\"\",\"\",集金台帳４０人分!D7)","v":""},null,null,null,null,null,0]
[3,{"$f":"IF(集金台帳４０人分!D8=\"\",\"\",集金台帳４０人分!D8)","v":""},null,null,null,null,null,0]
[4,{"$f":"IF(集金台帳４０人分!D9=\"\",\"\",集金台帳４０人分!D9)","v":""},null,null,null,null,null,0]
[5,{"$f":"IF(集金台帳４０人分!D10=\"\",\"\",集金台帳４０人分!D10)","v":""},null,null,null,null,null,0]
[6,{"$f":"IF(集金台帳４０人分!D11=\"\",\"\",集金台帳４０人分!D11)","v":""},null,null,null,null,null,0]
[7,{"$f":"IF(集金台帳４０人分!D12=\"\",\"\",集金台帳４０人分!D12)","v":""},null,null,null,null,null,0]
[8,{"$f":"IF(集金台帳４０人分!D13=\"\",\"\",集金台帳４０人分!D13)","v":""},null,null,null,null,null,0]
[9,{"$f":"IF(集金台帳４０人分!D14=\"\",\"\",集金台帳４０人分!D14)","v":""},null,null,null,null,null,0]
[10,{"$f":"IF(集金台帳４０人分!D15=\"\",\"\",集金台帳４０人分!D15)","v":""},null,null,null,null,null,0]
[11,{"$f":"IF(集金台帳４０人分!D16=\"\",\"\",集金台帳４０人分!D16)","v":""},null,null,null,null,null,0]
[12,{"$f":"IF(集金台帳４０人分!D17=\"\",\"\",集金台帳４０人分!D17)","v":""},null,null,null,null,null,0]
[13,{"$f":"IF(集金台帳４０人分!D18=\"\",\"\",集金台帳４０人分!D18)","v":""},null,null,null,null,null,0]
[14,{"$f":"IF(集金台帳４０人分!D19=\"\",\"\",集金台帳４０人分!D19)","v":""},null,null,null,null,null,0]
[15,{"$f":"IF(集金台帳４０人分!D20=\"\",\"\",集金台帳４０人分!D20)","v":""},null,null,null,null,null,0]
[16,{"$f":"IF(集金台帳４０人分!D21=\"\",\"\",集金台帳４０人分!D21)","v":""},null,null,null,null,null,0]
[17,{"$f":"IF(集金台帳４０人分!D22=\"\",\"\",集金台帳４０人分!D22)","v":""},null,null,null,null,null,0]
[18,{"$f":"IF(集金台帳４０人分!D23=\"\",\"\",集金台帳４０人分!D23)","v":""},null,null,null,null,null,0]
[19,{"$f":"IF(集金台帳４０人分!D24=\"\",\"\",集金台帳４０人分!D24)","v":""},null,null,null,null,null,0]
[20,{"$f":"IF(集金台帳４０人分!D25=\"\",\"\",集金台帳４０人分!D25)","v":""},null,null,null,null,null,0]
[21,{"$f":"IF(集金台帳４０人分!D26=\"\",\"\",集金台帳４０人分!D26)","v":""},null,null,null,null,null,0]
[22,{"$f":"IF(集金台帳４０人分!D27=\"\",\"\",集金台帳４０人分!D27)","v":""},null,null,null,null,null,0]
[23,{"$f":"IF(集金台帳４０人分!D28=\"\",\"\",集金台帳４０人分!D28)","v":""},null,null,null,null,null,0]
[24,{"$f":"IF(集金台帳４０人分!D29=\"\",\"\",集金台帳４０人分!D29)","v":""},null,null,null,null,null,0]
[25,{"$f":"IF(集金台帳４０人分!D30=\"\",\"\",集金台帳４０人分!D30)","v":""},null,null,null,null,null,0]
[26,{"$f":"IF(集金台帳４０人分!D31=\"\",\"\",集金台帳４０人分!D31)","v":""},null,null,null,null,null,0]
[27,{"$f":"IF(集金台帳４０人分!D32=\"\",\"\",集金台帳４０人分!D32)","v":""},null,null,null,null,null,0]
[28,{"$f":"IF(集金台帳４０人分!D33=\"\",\"\",集金台帳４０人分!D33)","v":""},null,null,null,null,null,0]
[29,{"$f":"IF(集金台帳４０人分!D34=\"\",\"\",集金台帳４０人分!D34)","v":""},null,null,null,null,null,0]
[30,{"$f":"IF(集金台帳４０人分!D35=\"\",\"\",集金台帳４０人分!D35)","v":""},null,null,null,null,null,0]
[31,{"$f":"IF(集金台帳４０人分!D36=\"\",\"\",集金台帳４０人分!D36)","v":""},null,null,null,null,null,0]
[32,{"$f":"IF(集金台帳４０人分!D37=\"\",\"\",集金台帳４０人分!D37)","v":""},null,null,null,null,null,0]
[33,{"$f":"IF(集金台帳４０人分!D38=\"\",\"\",集金台帳４０人分!D38)","v":""},null,null,null,null,null,0]
[34,{"$f":"IF(集金台帳４０人分!D39=\"\",\"\",集金台帳４０人分!D39)","v":""},null,null,null,null,null,0]
[35,{"$f":"IF(集金台帳４０人分!D40=\"\",\"\",集金台帳４０人分!D40)","v":""},null,null,null,null,null,0]
[36,{"$f":"IF(集金台帳４０人分!D41=\"\",\"\",集金台帳４０人分!D41)","v":""},null,null,null,null,null,0]
[37,{"$f":"IF(集金台帳４０人分!D42=\"\",\"\",集金台帳４０人分!D42)","v":""},null,null,null,null,null,0]
[38,{"$f":"IF(集金台帳４０人分!D43=\"\",\"\",集金台帳４０人分!D43)","v":""},null,null,null,null,null,0]
[39,{"$f":"IF(集金台帳４０人分!D44=\"\",\"\",集金台帳４０人分!D44)","v":""},null,null,null,null,null,0]
[40,{"$f":"IF(集金台帳４０人分!D45=\"\",\"\",集金台帳４０人分!D45)","v":""},null,null,null,null,null,0]
[null,null,{"$f":"IF(C4=\"\",\"\",C4)","v":""},{"$f":"IF(D4=\"\",\"\",D4)","v":""},{"$f":"IF(E4=\"\",\"\",E4)","v":""},{"$f":"IF(F4=\"\",\"\",F4)","v":""},{"$f":"IF(G4=\"\",\"\",G4)","v":""},"集金合計"]
[null,null,{"$f":"SUM(C5:C44)","v":0},0,0,0,0,0]
[null,"頻出",{"$f":"IFERROR(MODE(C5:C44),\"\")","v":""},{"$f":"IFERROR(MODE(D5:D44),\"\")","v":""},{"$f":"IFERROR(MODE(E5:E44),\"\")","v":""},{"$f":"IFERROR(MODE(F5:F44),\"\")","v":""},{"$f":"IFERROR(MODE(G5:G44),\"\")","v":""}]

{"sheet":"７月集金一覧","index":15,"n_rows":47,"n_cols":9,"rows_kept":47,"cut":false,"hidden":false,"merged":[[1,1,1,7],[2,7,2,8]]}
[null,"令和",{"$f":"IF(メイン!D7=0,\"\",メイン!D7)","v":""},"年度",{"$f":"IF(メイン!C8=0,\"\",メイン!C8)","v":""},"年",{"$f":"IF(メイン!E8=0,\"\",メイン!E8)","v":""},"組"]
[null,"集金個別一覧表　７月分"]
[]
["番号","氏　　名",null,null,null,null,null,"個人計","備考"]
[1,{"$f":"IF(集金台帳４０人分!D6=\"\",\"\",集金台帳４０人分!D6)","v":""},null,null,null,null,null,{"$f":"SUM(C5:G5)","v":0}]
[2,{"$f":"IF(集金台帳４０人分!D7=\"\",\"\",集金台帳４０人分!D7)","v":""},null,null,null,null,null,0]
[3,{"$f":"IF(集金台帳４０人分!D8=\"\",\"\",集金台帳４０人分!D8)","v":""},null,null,null,null,null,0]
[4,{"$f":"IF(集金台帳４０人分!D9=\"\",\"\",集金台帳４０人分!D9)","v":""},null,null,null,null,null,0]
[5,{"$f":"IF(集金台帳４０人分!D10=\"\",\"\",集金台帳４０人分!D10)","v":""},null,null,null,null,null,0]
[6,{"$f":"IF(集金台帳４０人分!D11=\"\",\"\",集金台帳４０人分!D11)","v":""},null,null,null,null,null,0]
[7,{"$f":"IF(集金台帳４０人分!D12=\"\",\"\",集金台帳４０人分!D12)","v":""},null,null,null,null,null,0]
[8,{"$f":"IF(集金台帳４０人分!D13=\"\",\"\",集金台帳４０人分!D13)","v":""},null,null,null,null,null,0]
[9,{"$f":"IF(集金台帳４０人分!D14=\"\",\"\",集金台帳４０人分!D14)","v":""},null,null,null,null,null,0]
[10,{"$f":"IF(集金台帳４０人分!D15=\"\",\"\",集金台帳４０人分!D15)","v":""},null,null,null,null,null,0]
[11,{"$f":"IF(集金台帳４０人分!D16=\"\",\"\",集金台帳４０人分!D16)","v":""},null,null,null,null,null,0]
[12,{"$f":"IF(集金台帳４０人分!D17=\"\",\"\",集金台帳４０人分!D17)","v":""},null,null,null,null,null,0]
[13,{"$f":"IF(集金台帳４０人分!D18=\"\",\"\",集金台帳４０人分!D18)","v":""},null,null,null,null,null,0]
[14,{"$f":"IF(集金台帳４０人分!D19=\"\",\"\",集金台帳４０人分!D19)","v":""},null,null,null,null,null,0]
[15,{"$f":"IF(集金台帳４０人分!D20=\"\",\"\",集金台帳４０人分!D20)","v":""},null,null,null,null,null,0]
[16,{"$f":"IF(集金台帳４０人分!D21=\"\",\"\",集金台帳４０人分!D21)","v":""},null,null,null,null,null,0]
[17,{"$f":"IF(集金台帳４０人分!D22=\"\",\"\",集金台帳４０人分!D22)","v":""},null,null,null,null,null,0]
[18,{"$f":"IF(集金台帳４０人分!D23=\"\",\"\",集金台帳４０人分!D23)","v":""},null,null,null,null,null,0]
[19,{"$f":"IF(集金台帳４０人分!D24=\"\",\"\",集金台帳４０人分!D24)","v":""},null,null,null,null,null,0]
[20,{"$f":"IF(集金台帳４０人分!D25=\"\",\"\",集金台帳４０人分!D25)","v":""},null,null,null,null,null,0]
[21,{"$f":"IF(集金台帳４０人分!D26=\"\",\"\",集金台帳４０人分!D26)","v":""},null,null,null,null,null,0]
[22,{"$f":"IF(集金台帳４０人分!D27=\"\",\"\",集金台帳４０人分!D27)","v":""},null,null,null,null,null,0]
[23,{"$f":"IF(集金台帳４０人分!D28=\"\",\"\",集金台帳４０人分!D28)","v":""},null,null,null,null,null,0]
[24,{"$f":"IF(集金台帳４０人分!D29=\"\",\"\",集金台帳４０人分!D29)","v":""},null,null,null,null,null,0]
[25,{"$f":"IF(集金台帳４０人分!D30=\"\",\"\",集金台帳４０人分!D30)","v":""},null,null,null,null,null,0]
[26,{"$f":"IF(集金台帳４０人分!D31=\"\",\"\",集金台帳４０人分!D31)","v":""},null,null,null,null,null,0]
[27,{"$f":"IF(集金台帳４０人分!D32=\"\",\"\",集金台帳４０人分!D32)","v":""},null,null,null,null,null,0]
[28,{"$f":"IF(集金台帳４０人分!D33=\"\",\"\",集金台帳４０人分!D33)","v":""},null,null,null,null,null,0]
[29,{"$f":"IF(集金台帳４０人分!D34=\"\",\"\",集金台帳４０人分!D34)","v":""},null,null,null,null,null,0]
[30,{"$f":"IF(集金台帳４０人分!D35=\"\",\"\",集金台帳４０人分!D35)","v":""},null,null,null,null,null,0]
[31,{"$f":"IF(集金台帳４０人分!D36=\"\",\"\",集金台帳４０人分!D36)","v":""},null,null,null,null,null,0]
[32,{"$f":"IF(集金台帳４０人分!D37=\"\",\"\",集金台帳４０人分!D37)","v":""},null,null,null,null,null,0]
[33,{"$f":"IF(集金台帳４０人分!D38=\"\",\"\",集金台帳４０人分!D38)","v":""},null,null,null,null,null,0]
[34,{"$f":"IF(集金台帳４０人分!D39=\"\",\"\",集金台帳４０人分!D39)","v":""},null,null,null,null,null,0]
[35,{"$f":"IF(集金台帳４０人分!D40=\"\",\"\",集金台帳４０人分!D40)","v":""},null,null,null,null,null,0]
[36,{"$f":"IF(集金台帳４０人分!D41=\"\",\"\",集金台帳４０人分!D41)","v":""},null,null,null,null,null,0]
[37,{"$f":"IF(集金台帳４０人分!D42=\"\",\"\",集金台帳４０人分!D42)","v":""},null,null,null,null,null,0]
[38,{"$f":"IF(集金台帳４０人分!D43=\"\",\"\",集金台帳４０人分!D43)","v":""},null,null,null,null,null,0]
[39,{"$f":"IF(集金台帳４０人分!D44=\"\",\"\",集金台帳４０人分!D44)","v":""},null,null,null,null,null,0]
[40,{"$f":"IF(集金台帳４０人分!D45=\"\",\"\",集金台帳４０人分!D45)","v":""},null,null,null,null,null,0]
[null,null,{"$f":"IF(C4=\"\",\"\",C4)","v":""},{"$f":"IF(D4=\"\",\"\",D4)","v":""},{"$f":"IF(E4=\"\",\"\",E4)","v":""},{"$f":"IF(F4=\"\",\"\",F4)","v":""},{"$f":"IF(G4=\"\",\"\",G4)","v":""},"集金合計"]
[null,null,{"$f":"SUM(C5:C44)","v":0},0,0,0,0,0]
[null,"頻出",{"$f":"IFERROR(MODE(C5:C44),\"\")","v":""},{"$f":"IFERROR(MODE(D5:D44),\"\")","v":""},{"$f":"IFERROR(MODE(E5:E44),\"\")","v":""},{"$f":"IFERROR(MODE(F5:F44),\"\")","v":""},{"$f":"IFERROR(MODE(G5:G44),\"\")","v":""}]

{"sheet":"９月集金一覧","index":16,"n_rows":47,"n_cols":9,"rows_kept":47,"cut":false,"hidden":false,"merged":[[1,1,1,7],[2,7,2,8]]}
[null,"令和",{"$f":"IF(メイン!D7=0,\"\",メイン!D7)","v":""},"年度",{"$f":"IF(メイン!C8=0,\"\",メイン!C8)","v":""},"年",{"$f":"IF(メイン!E8=0,\"\",メイン!E8)","v":""},"組"]
[null,"集金個別一覧表　９月分"]
[]
["番号","氏　　名",null,null,null,null,null,"個人計","備考"]
[1,{"$f":"IF(集金台帳４０人分!D6=\"\",\"\",集金台帳４０人分!D6)","v":""},null,null,null,null,null,{"$f":"SUM(C5:G5)","v":0}]
[2,{"$f":"IF(集金台帳４０人分!D7=\"\",\"\",集金台帳４０人分!D7)","v":""},null,null,null,null,null,0]
[3,{"$f":"IF(集金台帳４０人分!D8=\"\",\"\",集金台帳４０人分!D8)","v":""},null,null,null,null,null,0]
[4,{"$f":"IF(集金台帳４０人分!D9=\"\",\"\",集金台帳４０人分!D9)","v":""},null,null,null,null,null,0]
[5,{"$f":"IF(集金台帳４０人分!D10=\"\",\"\",集金台帳４０人分!D10)","v":""},null,null,null,null,null,0]
[6,{"$f":"IF(集金台帳４０人分!D11=\"\",\"\",集金台帳４０人分!D11)","v":""},null,null,null,null,null,0]
[7,{"$f":"IF(集金台帳４０人分!D12=\"\",\"\",集金台帳４０人分!D12)","v":""},null,null,null,null,null,0]
[8,{"$f":"IF(集金台帳４０人分!D13=\"\",\"\",集金台帳４０人分!D13)","v":""},null,null,null,null,null,0]
[9,{"$f":"IF(集金台帳４０人分!D14=\"\",\"\",集金台帳４０人分!D14)","v":""},null,null,null,null,null,0]
[10,{"$f":"IF(集金台帳４０人分!D15=\"\",\"\",集金台帳４０人分!D15)","v":""},null,null,null,null,null,0]
[11,{"$f":"IF(集金台帳４０人分!D16=\"\",\"\",集金台帳４０人分!D16)","v":""},null,null,null,null,null,0]
[12,{"$f":"IF(集金台帳４０人分!D17=\"\",\"\",集金台帳４０人分!D17)","v":""},null,null,null,null,null,0]
[13,{"$f":"IF(集金台帳４０人分!D18=\"\",\"\",集金台帳４０人分!D18)","v":""},null,null,null,null,null,0]
[14,{"$f":"IF(集金台帳４０人分!D19=\"\",\"\",集金台帳４０人分!D19)","v":""},null,null,null,null,null,0]
[15,{"$f":"IF(集金台帳４０人分!D20=\"\",\"\",集金台帳４０人分!D20)","v":""},null,null,null,null,null,0]
[16,{"$f":"IF(集金台帳４０人分!D21=\"\",\"\",集金台帳４０人分!D21)","v":""},null,null,null,null,null,0]
[17,{"$f":"IF(集金台帳４０人分!D22=\"\",\"\",集金台帳４０人分!D22)","v":""},null,null,null,null,null,0]
[18,{"$f":"IF(集金台帳４０人分!D23=\"\",\"\",集金台帳４０人分!D23)","v":""},null,null,null,null,null,0]
[19,{"$f":"IF(集金台帳４０人分!D24=\"\",\"\",集金台帳４０人分!D24)","v":""},null,null,null,null,null,0]
[20,{"$f":"IF(集金台帳４０人分!D25=\"\",\"\",集金台帳４０人分!D25)","v":""},null,null,null,null,null,0]
[21,{"$f":"IF(集金台帳４０人分!D26=\"\",\"\",集金台帳４０人分!D26)","v":""},null,null,null,null,null,0]
[22,{"$f":"IF(集金台帳４０人分!D27=\"\",\"\",集金台帳４０人分!D27)","v":""},null,null,null,null,null,0]
[23,{"$f":"IF(集金台帳４０人分!D28=\"\",\"\",集金台帳４０人分!D28)","v":""},null,null,null,null,null,0]
[24,{"$f":"IF(集金台帳４０人分!D29=\"\",\"\",集金台帳４０人分!D29)","v":""},null,null,null,null,null,0]
[25,{"$f":"IF(集金台帳４０人分!D30=\"\",\"\",集金台帳４０人分!D30)","v":""},null,null,null,null,null,0]
[26,{"$f":"IF(集金台帳４０人分!D31=\"\",\"\",集金台帳４０人分!D31)","v":""},null,null,null,null,null,0]
[27,{"$f":"IF(集金台帳４０人分!D32=\"\",\"\",集金台帳４０人分!D32)","v":""},null,null,null,null,null,0]
[28,{"$f":"IF(集金台帳４０人分!D33=\"\",\"\",集金台帳４０人分!D33)","v":""},null,null,null,null,null,0]
[29,{"$f":"IF(集金台帳４０人分!D34=\"\",\"\",集金台帳４０人分!D34)","v":""},null,null,null,null,null,0]
[30,{"$f":"IF(集金台帳４０人分!D35=\"\",\"\",集金台帳４０人分!D35)","v":""},null,null,null,null,null,0]
[31,{"$f":"IF(集金台帳４０人分!D36=\"\",\"\",集金台帳４０人分!D36)","v":""},null,null,null,null,null,0]
[32,{"$f":"IF(集金台帳４０人分!D37=\"\",\"\",集金台帳４０人分!D37)","v":""},null,null,null,null,null,0]
[33,{"$f":"IF(集金台帳４０人分!D38=\"\",\"\",集金台帳４０人分!D38)","v":""},null,null,null,null,null,0]
[34,{"$f":"IF(集金台帳４０人分!D39=\"\",\"\",集金台帳４０人分!D39)","v":""},null,null,null,null,null,0]
[35,{"$f":"IF(集金台帳４０人分!D40=\"\",\"\",集金台帳４０人分!D40)","v":""},null,null,null,null,null,0]
[36,{"$f":"IF(集金台帳４０人分!D41=\"\",\"\",集金台帳４０人分!D41)","v":""},null,null,null,null,null,0]
[37,{"$f":"IF(集金台帳４０人分!D42=\"\",\"\",集金台帳４０人分!D42)","v":""},null,null,null,null,null,0]
[38,{"$f":"IF(集金台帳４０人分!D43=\"\",\"\",集金台帳４０人分!D43)","v":""},null,null,null,null,null,0]
[39,{"$f":"IF(集金台帳４０人分!D44=\"\",\"\",集金台帳４０人分!D44)","v":""},null,null,null,null,null,0]
[40,{"$f":"IF(集金台帳４０人分!D45=\"\",\"\",集金台帳４０人分!D45)","v":""},null,null,null,null,null,0]
[null,null,{"$f":"IF(C4=\"\",\"\",C4)","v":""},{"$f":"IF(D4=\"\",\"\",D4)","v":""},{"$f":"IF(E4=\"\",\"\",E4)","v":""},{"$f":"IF(F4=\"\",\"\",F4)","v":""},{"$f":"IF(G4=\"\",\"\",G4)","v":""},"集金合計"]
[null,null,{"$f":"SUM(C5:C44)","v":0},0,0,0,0,0]
[null,"頻出",{"$f":"IFERROR(MODE(C5:C44),\"\")","v":""},{"$f":"IFERROR(MODE(D5:D44),\"\")","v":""},{"$f":"IFERROR(MODE(E5:E44),\"\")","v":""},{"$f":"IFERROR(MODE(F5:F44),\"\")","v":""},{"$f":"IFERROR(MODE(G5:G44),\"\")","v":""}]

{"sheet":"１０月集金一覧","index":17,"n_rows":47,"n_cols":9,"rows_kept":47,"cut":false,"hidden":false,"merged":[[1,1,1,7],[2,7,2,8]]}
[null,"令和",{"$f":"IF(メイン!D7=0,\"\",メイン!D7)","v":""},"年度",{"$f":"IF(メイン!C8=0,\"\",メイン!C8)","v":""},"年",{"$f":"IF(メイン!E8=0,\"\",メイン!E8)","v":""},"組"]
[null,"集金個別一覧表　１０月分"]
[]
["番号","氏　　名",null,null,null,null,null,"個人計","備考"]
[1,{"$f":"IF(集金台帳４０人分!D6=\"\",\"\",集金台帳４０人分!D6)","v":""},null,null,null,null,null,{"$f":"SUM(C5:G5)","v":0}]
[2,{"$f":"IF(集金台帳４０人分!D7=\"\",\"\",集金台帳４０人分!D7)","v":""},null,null,null,null,null,0]
[3,{"$f":"IF(集金台帳４０人分!D8=\"\",\"\",集金台帳４０人分!D8)","v":""},null,null,null,null,null,0]
[4,{"$f":"IF(集金台帳４０人分!D9=\"\",\"\",集金台帳４０人分!D9)","v":""},null,null,null,null,null,0]
[5,{"$f":"IF(集金台帳４０人分!D10=\"\",\"\",集金台帳４０人分!D10)","v":""},null,null,null,null,null,0]
[6,{"$f":"IF(集金台帳４０人分!D11=\"\",\"\",集金台帳４０人分!D11)","v":""},null,null,null,null,null,0]
[7,{"$f":"IF(集金台帳４０人分!D12=\"\",\"\",集金台帳４０人分!D12)","v":""},null,null,null,null,null,0]
[8,{"$f":"IF(集金台帳４０人分!D13=\"\",\"\",集金台帳４０人分!D13)","v":""},null,null,null,null,null,0]
[9,{"$f":"IF(集金台帳４０人分!D14=\"\",\"\",集金台帳４０人分!D14)","v":""},null,null,null,null,null,0]
[10,{"$f":"IF(集金台帳４０人分!D15=\"\",\"\",集金台帳４０人分!D15)","v":""},null,null,null,null,null,0]
[11,{"$f":"IF(集金台帳４０人分!D16=\"\",\"\",集金台帳４０人分!D16)","v":""},null,null,null,null,null,0]
[12,{"$f":"IF(集金台帳４０人分!D17=\"\",\"\",集金台帳４０人分!D17)","v":""},null,null,null,null,null,0]
[13,{"$f":"IF(集金台帳４０人分!D18=\"\",\"\",集金台帳４０人分!D18)","v":""},null,null,null,null,null,0]
[14,{"$f":"IF(集金台帳４０人分!D19=\"\",\"\",集金台帳４０人分!D19)","v":""},null,null,null,null,null,0]
[15,{"$f":"IF(集金台帳４０人分!D20=\"\",\"\",集金台帳４０人分!D20)","v":""},null,null,null,null,null,0]
[16,{"$f":"IF(集金台帳４０人分!D21=\"\",\"\",集金台帳４０人分!D21)","v":""},null,null,null,null,null,0]
[17,{"$f":"IF(集金台帳４０人分!D22=\"\",\"\",集金台帳４０人分!D22)","v":""},null,null,null,null,null,0]
[18,{"$f":"IF(集金台帳４０人分!D23=\"\",\"\",集金台帳４０人分!D23)","v":""},null,null,null,null,null,0]
[19,{"$f":"IF(集金台帳４０人分!D24=\"\",\"\",集金台帳４０人分!D24)","v":""},null,null,null,null,null,0]
[20,{"$f":"IF(集金台帳４０人分!D25=\"\",\"\",集金台帳４０人分!D25)","v":""},null,null,null,null,null,0]
[21,{"$f":"IF(集金台帳４０人分!D26=\"\",\"\",集金台帳４０人分!D26)","v":""},null,null,null,null,null,0]
[22,{"$f":"IF(集金台帳４０人分!D27=\"\",\"\",集金台帳４０人分!D27)","v":""},null,null,null,null,null,0]
[23,{"$f":"IF(集金台帳４０人分!D28=\"\",\"\",集金台帳４０人分!D28)","v":""},null,null,null,null,null,0]
[24,{"$f":"IF(集金台帳４０人分!D29=\"\",\"\",集金台帳４０人分!D29)","v":""},null,null,null,null,null,0]
[25,{"$f":"IF(集金台帳４０人分!D30=\"\",\"\",集金台帳４０人分!D30)","v":""},null,null,null,null,null,0]
[26,{"$f":"IF(集金台帳４０人分!D31=\"\",\"\",集金台帳４０人分!D31)","v":""},null,null,null,null,null,0]
[27,{"$f":"IF(集金台帳４０人分!D32=\"\",\"\",集金台帳４０人分!D32)","v":""},null,null,null,null,null,0]
[28,{"$f":"IF(集金台帳４０人分!D33=\"\",\"\",集金台帳４０人分!D33)","v":""},null,null,null,null,null,0]
[29,{"$f":"IF(集金台帳４０人分!D34=\"\",\"\",集金台帳４０人分!D34)","v":""},null,null,null,null,null,0]
[30,{"$f":"IF(集金台帳４０人分!D35=\"\",\"\",集金台帳４０人分!D35)","v":""},null,null,null,null,null,0]
[31,{"$f":"IF(集金台帳４０人分!D36=\"\",\"\",集金台帳４０人分!D36)","v":""},null,null,null,null,null,0]
[32,{"$f":"IF(集金台帳４０人分!D37=\"\",\"\",集金台帳４０人分!D37)","v":""},null,null,null,null,null,0]
[33,{"$f":"IF(集金台帳４０人分!D38=\"\",\"\",集金台帳４０人分!D38)","v":""},null,null,null,null,null,0]
[34,{"$f":"IF(集金台帳４０人分!D39=\"\",\"\",集金台帳４０人分!D39)","v":""},null,null,null,null,null,0]
[35,{"$f":"IF(集金台帳４０人分!D40=\"\",\"\",集金台帳４０人分!D40)","v":""},null,null,null,null,null,0]
[36,{"$f":"IF(集金台帳４０人分!D41=\"\",\"\",集金台帳４０人分!D41)","v":""},null,null,null,null,null,0]
[37,{"$f":"IF(集金台帳４０人分!D42=\"\",\"\",集金台帳４０人分!D42)","v":""},null,null,null,null,null,0]
[38,{"$f":"IF(集金台帳４０人分!D43=\"\",\"\",集金台帳４０人分!D43)","v":""},null,null,null,null,null,0]
[39,{"$f":"IF(集金台帳４０人分!D44=\"\",\"\",集金台帳４０人分!D44)","v":""},null,null,null,null,null,0]
[40,{"$f":"IF(集金台帳４０人分!D45=\"\",\"\",集金台帳４０人分!D45)","v":""},null,null,null,null,null,0]
[null,null,{"$f":"IF(C4=\"\",\"\",C4)","v":""},{"$f":"IF(D4=\"\",\"\",D4)","v":""},{"$f":"IF(E4=\"\",\"\",E4)","v":""},{"$f":"IF(F4=\"\",\"\",F4)","v":""},{"$f":"IF(G4=\"\",\"\",G4)","v":""},"集金合計"]
[null,null,{"$f":"SUM(C5:C44)","v":0},0,0,0,0,0]
[null,"頻出",{"$f":"IFERROR(MODE(C5:C44),\"\")","v":""},{"$f":"IFERROR(MODE(D5:D44),\"\")","v":""},{"$f":"IFERROR(MODE(E5:E44),\"\")","v":""},{"$f":"IFERROR(MODE(F5:F44),\"\")","v":""},{"$f":"IFERROR(MODE(G5:G44),\"\")","v":""}]

{"sheet":"１１月集金一覧","index":18,"n_rows":47,"n_cols":9,"rows_kept":47,"cut":false,"hidden":false,"merged":[[1,1,1,7],[2,7,2,8]]}
[null,"令和",{"$f":"IF(メイン!D7=0,\"\",メイン!D7)","v":""},"年度",{"$f":"IF(メイン!C8=0,\"\",メイン!C8)","v":""},"年",{"$f":"IF(メイン!E8=0,\"\",メイン!E8)","v":""},"組"]
[null,"集金個別一覧表　１１月分"]
[]
["番号","氏　　名",null,null,null,null,null,"個人計","備考"]
[1,{"$f":"IF(集金台帳４０人分!D6=\"\",\"\",集金台帳４０人分!D6)","v":""},null,null,null,null,null,{"$f":"SUM(C5:G5)","v":0}]
[2,{"$f":"IF(集金台帳４０人分!D7=\"\",\"\",集金台帳４０人分!D7)","v":""},null,null,null,null,null,0]
[3,{"$f":"IF(集金台帳４０人分!D8=\"\",\"\",集金台帳４０人分!D8)","v":""},null,null,null,null,null,0]
[4,{"$f":"IF(集金台帳４０人分!D9=\"\",\"\",集金台帳４０人分!D9)","v":""},null,null,null,null,null,0]
[5,{"$f":"IF(集金台帳４０人分!D10=\"\",\"\",集金台帳４０人分!D10)","v":""},null,null,null,null,null,0]
[6,{"$f":"IF(集金台帳４０人分!D11=\"\",\"\",集金台帳４０人分!D11)","v":""},null,null,null,null,null,0]
[7,{"$f":"IF(集金台帳４０人分!D12=\"\",\"\",集金台帳４０人分!D12)","v":""},null,null,null,null,null,0]
[8,{"$f":"IF(集金台帳４０人分!D13=\"\",\"\",集金台帳４０人分!D13)","v":""},null,null,null,null,null,0]
[9,{"$f":"IF(集金台帳４０人分!D14=\"\",\"\",集金台帳４０人分!D14)","v":""},null,null,null,null,null,0]
[10,{"$f":"IF(集金台帳４０人分!D15=\"\",\"\",集金台帳４０人分!D15)","v":""},null,null,null,null,null,0]
[11,{"$f":"IF(集金台帳４０人分!D16=\"\",\"\",集金台帳４０人分!D16)","v":""},null,null,null,null,null,0]
[12,{"$f":"IF(集金台帳４０人分!D17=\"\",\"\",集金台帳４０人分!D17)","v":""},null,null,null,null,null,0]
[13,{"$f":"IF(集金台帳４０人分!D18=\"\",\"\",集金台帳４０人分!D18)","v":""},null,null,null,null,null,0]
[14,{"$f":"IF(集金台帳４０人分!D19=\"\",\"\",集金台帳４０人分!D19)","v":""},null,null,null,null,null,0]
[15,{"$f":"IF(集金台帳４０人分!D20=\"\",\"\",集金台帳４０人分!D20)","v":""},null,null,null,null,null,0]
[16,{"$f":"IF(集金台帳４０人分!D21=\"\",\"\",集金台帳４０人分!D21)","v":""},null,null,null,null,null,0]
[17,{"$f":"IF(集金台帳４０人分!D22=\"\",\"\",集金台帳４０人分!D22)","v":""},null,null,null,null,null,0]
[18,{"$f":"IF(集金台帳４０人分!D23=\"\",\"\",集金台帳４０人分!D23)","v":""},null,null,null,null,null,0]
[19,{"$f":"IF(集金台帳４０人分!D24=\"\",\"\",集金台帳４０人分!D24)","v":""},null,null,null,null,null,0]
[20,{"$f":"IF(集金台帳４０人分!D25=\"\",\"\",集金台帳４０人分!D25)","v":""},null,null,null,null,null,0]
[21,{"$f":"IF(集金台帳４０人分!D26=\"\",\"\",集金台帳４０人分!D26)","v":""},null,null,null,null,null,0]
[22,{"$f":"IF(集金台帳４０人分!D27=\"\",\"\",集金台帳４０人分!D27)","v":""},null,null,null,null,null,0]
[23,{"$f":"IF(集金台帳４０人分!D28=\"\",\"\",集金台帳４０人分!D28)","v":""},null,null,null,null,null,0]
[24,{"$f":"IF(集金台帳４０人分!D29=\"\",\"\",集金台帳４０人分!D29)","v":""},null,null,null,null,null,0]
[25,{"$f":"IF(集金台帳４０人分!D30=\"\",\"\",集金台帳４０人分!D30)","v":""},null,null,null,null,null,0]
[26,{"$f":"IF(集金台帳４０人分!D31=\"\",\"\",集金台帳４０人分!D31)","v":""},null,null,null,null,null,0]
[27,{"$f":"IF(集金台帳４０人分!D32=\"\",\"\",集金台帳４０人分!D32)","v":""},null,null,null,null,null,0]
[28,{"$f":"IF(集金台帳４０人分!D33=\"\",\"\",集金台帳４０人分!D33)","v":""},null,null,null,null,null,0]
[29,{"$f":"IF(集金台帳４０人分!D34=\"\",\"\",集金台帳４０人分!D34)","v":""},null,null,null,null,null,0]
[30,{"$f":"IF(集金台帳４０人分!D35=\"\",\"\",集金台帳４０人分!D35)","v":""},null,null,null,null,null,0]
[31,{"$f":"IF(集金台帳４０人分!D36=\"\",\"\",集金台帳４０人分!D36)","v":""},null,null,null,null,null,0]
[32,{"$f":"IF(集金台帳４０人分!D37=\"\",\"\",集金台帳４０人分!D37)","v":""},null,null,null,null,null,0]
[33,{"$f":"IF(集金台帳４０人分!D38=\"\",\"\",集金台帳４０人分!D38)","v":""},null,null,null,null,null,0]
[34,{"$f":"IF(集金台帳４０人分!D39=\"\",\"\",集金台帳４０人分!D39)","v":""},null,null,null,null,null,0]
[35,{"$f":"IF(集金台帳４０人分!D40=\"\",\"\",集金台帳４０人分!D40)","v":""},null,null,null,null,null,0]
[36,{"$f":"IF(集金台帳４０人分!D41=\"\",\"\",集金台帳４０人分!D41)","v":""},null,null,null,null,null,0]
[37,{"$f":"IF(集金台帳４０人分!D42=\"\",\"\",集金台帳４０人分!D42)","v":""},null,null,null,null,null,0]
[38,{"$f":"IF(集金台帳４０人分!D43=\"\",\"\",集金台帳４０人分!D43)","v":""},null,null,null,null,null,0]
[39,{"$f":"IF(集金台帳４０人分!D44=\"\",\"\",集金台帳４０人分!D44)","v":""},null,null,null,null,null,0]
[40,{"$f":"IF(集金台帳４０人分!D45=\"\",\"\",集金台帳４０人分!D45)","v":""},null,null,null,null,null,0]
[null,null,{"$f":"IF(C4=\"\",\"\",C4)","v":""},{"$f":"IF(D4=\"\",\"\",D4)","v":""},{"$f":"IF(E4=\"\",\"\",E4)","v":""},{"$f":"IF(F4=\"\",\"\",F4)","v":""},{"$f":"IF(G4=\"\",\"\",G4)","v":""},"集金合計"]
[null,null,{"$f":"SUM(C5:C44)","v":0},0,0,0,0,0]
[null,"頻出",{"$f":"IFERROR(MODE(C5:C44),\"\")","v":""},{"$f":"IFERROR(MODE(D5:D44),\"\")","v":""},{"$f":"IFERROR(MODE(E5:E44),\"\")","v":""},{"$f":"IFERROR(MODE(F5:F44),\"\")","v":""},{"$f":"IFERROR(MODE(G5:G44),\"\")","v":""}]

{"sheet":"１２月集金一覧","index":19,"n_rows":47,"n_cols":9,"rows_kept":47,"cut":false,"hidden":false,"merged":[[1,1,1,7],[2,7,2,8]]}
[null,"令和",{"$f":"IF(メイン!D7=0,\"\",メイン!D7)","v":""},"年度",{"$f":"IF(メイン!C8=0,\"\",メイン!C8)","v":""},"年",{"$f":"IF(メイン!E8=0,\"\",メイン!E8)","v":""},"組"]
[null,"集金個別一覧表　１２月分"]
[]
["番号","氏　　名",null,null,null,null,null,"個人計","備考"]
[1,{"$f":"IF(集金台帳４０人分!D6=\"\",\"\",集金台帳４０人分!D6)","v":""},null,null,null,null,null,{"$f":"SUM(C5:G5)","v":0}]
[2,{"$f":"IF(集金台帳４０人分!D7=\"\",\"\",集金台帳４０人分!D7)","v":""},null,null,null,null,null,0]
[3,{"$f":"IF(集金台帳４０人分!D8=\"\",\"\",集金台帳４０人分!D8)","v":""},null,null,null,null,null,0]
[4,{"$f":"IF(集金台帳４０人分!D9=\"\",\"\",集金台帳４０人分!D9)","v":""},null,null,null,null,null,0]
[5,{"$f":"IF(集金台帳４０人分!D10=\"\",\"\",集金台帳４０人分!D10)","v":""},null,null,null,null,null,0]
[6,{"$f":"IF(集金台帳４０人分!D11=\"\",\"\",集金台帳４０人分!D11)","v":""},null,null,null,null,null,0]
[7,{"$f":"IF(集金台帳４０人分!D12=\"\",\"\",集金台帳４０人分!D12)","v":""},null,null,null,null,null,0]
[8,{"$f":"IF(集金台帳４０人分!D13=\"\",\"\",集金台帳４０人分!D13)","v":""},null,null,null,null,null,0]
[9,{"$f":"IF(集金台帳４０人分!D14=\"\",\"\",集金台帳４０人分!D14)","v":""},null,null,null,null,null,0]
[10,{"$f":"IF(集金台帳４０人分!D15=\"\",\"\",集金台帳４０人分!D15)","v":""},null,null,null,null,null,0]
[11,{"$f":"IF(集金台帳４０人分!D16=\"\",\"\",集金台帳４０人分!D16)","v":""},null,null,null,null,null,0]
[12,{"$f":"IF(集金台帳４０人分!D17=\"\",\"\",集金台帳４０人分!D17)","v":""},null,null,null,null,null,0]
[13,{"$f":"IF(集金台帳４０人分!D18=\"\",\"\",集金台帳４０人分!D18)","v":""},null,null,null,null,null,0]
[14,{"$f":"IF(集金台帳４０人分!D19=\"\",\"\",集金台帳４０人分!D19)","v":""},null,null,null,null,null,0]
[15,{"$f":"IF(集金台帳４０人分!D20=\"\",\"\",集金台帳４０人分!D20)","v":""},null,null,null,null,null,0]
[16,{"$f":"IF(集金台帳４０人分!D21=\"\",\"\",集金台帳４０人分!D21)","v":""},null,null,null,null,null,0]
[17,{"$f":"IF(集金台帳４０人分!D22=\"\",\"\",集金台帳４０人分!D22)","v":""},null,null,null,null,null,0]
[18,{"$f":"IF(集金台帳４０人分!D23=\"\",\"\",集金台帳４０人分!D23)","v":""},null,null,null,null,null,0]
[19,{"$f":"IF(集金台帳４０人分!D24=\"\",\"\",集金台帳４０人分!D24)","v":""},null,null,null,null,null,0]
[20,{"$f":"IF(集金台帳４０人分!D25=\"\",\"\",集金台帳４０人分!D25)","v":""},null,null,null,null,null,0]
[21,{"$f":"IF(集金台帳４０人分!D26=\"\",\"\",集金台帳４０人分!D26)","v":""},null,null,null,null,null,0]
[22,{"$f":"IF(集金台帳４０人分!D27=\"\",\"\",集金台帳４０人分!D27)","v":""},null,null,null,null,null,0]
[23,{"$f":"IF(集金台帳４０人分!D28=\"\",\"\",集金台帳４０人分!D28)","v":""},null,null,null,null,null,0]
[24,{"$f":"IF(集金台帳４０人分!D29=\"\",\"\",集金台帳４０人分!D29)","v":""},null,null,null,null,null,0]
[25,{"$f":"IF(集金台帳４０人分!D30=\"\",\"\",集金台帳４０人分!D30)","v":""},null,null,null,null,null,0]
[26,{"$f":"IF(集金台帳４０人分!D31=\"\",\"\",集金台帳４０人分!D31)","v":""},null,null,null,null,null,0]
[27,{"$f":"IF(集金台帳４０人分!D32=\"\",\"\",集金台帳４０人分!D32)","v":""},null,null,null,null,null,0]
[28,{"$f":"IF(集金台帳４０人分!D33=\"\",\"\",集金台帳４０人分!D33)","v":""},null,null,null,null,null,0]
[29,{"$f":"IF(集金台帳４０人分!D34=\"\",\"\",集金台帳４０人分!D34)","v":""},null,null,null,null,null,0]
[30,{"$f":"IF(集金台帳４０人分!D35=\"\",\"\",集金台帳４０人分!D35)","v":""},null,null,null,null,null,0]
[31,{"$f":"IF(集金台帳４０人分!D36=\"\",\"\",集金台帳４０人分!D36)","v":""},null,null,null,null,null,0]
[32,{"$f":"IF(集金台帳４０人分!D37=\"\",\"\",集金台帳４０人分!D37)","v":""},null,null,null,null,null,0]
[33,{"$f":"IF(集金台帳４０人分!D38=\"\",\"\",集金台帳４０人分!D38)","v":""},null,null,null,null,null,0]
[34,{"$f":"IF(集金台帳４０人分!D39=\"\",\"\",集金台帳４０人分!D39)","v":""},null,null,null,null,null,0]
[35,{"$f":"IF(集金台帳４０人分!D40=\"\",\"\",集金台帳４０人分!D40)","v":""},null,null,null,null,null,0]
[36,{"$f":"IF(集金台帳４０人分!D41=\"\",\"\",集金台帳４０人分!D41)","v":""},null,null,null,null,null,0]
[37,{"$f":"IF(集金台帳４０人分!D42=\"\",\"\",集金台帳４０人分!D42)","v":""},null,null,null,null,null,0]
[38,{"$f":"IF(集金台帳４０人分!D43=\"\",\"\",集金台帳４０人分!D43)","v":""},null,null,null,null,null,0]
[39,{"$f":"IF(集金台帳４０人分!D44=\"\",\"\",集金台帳４０人分!D44)","v":""},null,null,null,null,null,0]
[40,{"$f":"IF(集金台帳４０人分!D45=\"\",\"\",集金台帳４０人分!D45)","v":""},null,null,null,null,null,0]
[null,null,{"$f":"IF(C4=\"\",\"\",C4)","v":""},{"$f":"IF(D4=\"\",\"\",D4)","v":""},{"$f":"IF(E4=\"\",\"\",E4)","v":""},{"$f":"IF(F4=\"\",\"\",F4)","v":""},{"$f":"IF(G4=\"\",\"\",G4)","v":""},"集金合計"]
[null,null,{"$f":"SUM(C5:C44)","v":0},0,0,0,0,0]
[null,"頻出",{"$f":"IFERROR(MODE(C5:C44),\"\")","v":""},{"$f":"IFERROR(MODE(D5:D44),\"\")","v":""},{"$f":"IFERROR(MODE(E5:E44),\"\")","v":""},{"$f":"IFERROR(MODE(F5:F44),\"\")","v":""},{"$f":"IFERROR(MODE(G5:G44),\"\")","v":""}]

{"sheet":"１月集金一覧","index":20,"n_rows":47,"n_cols":9,"rows_kept":47,"cut":false,"hidden":false,"merged":[[1,1,1,7],[2,7,2,8]]}
[null,"令和",{"$f":"IF(メイン!D7=0,\"\",メイン!D7)","v":""},"年度",{"$f":"IF(メイン!C8=0,\"\",メイン!C8)","v":""},"年",{"$f":"IF(メイン!E8=0,\"\",メイン!E8)","v":""},"組"]
[null,"集金個別一覧表　１月分"]
[]
["番号","氏　　名",null,null,null,null,null,"個人計","備考"]
[1,{"$f":"IF(集金台帳４０人分!D6=\"\",\"\",集金台帳４０人分!D6)","v":""},null,null,null,null,null,{"$f":"SUM(C5:G5)","v":0}]
[2,{"$f":"IF(集金台帳４０人分!D7=\"\",\"\",集金台帳４０人分!D7)","v":""},null,null,null,null,null,0]
[3,{"$f":"IF(集金台帳４０人分!D8=\"\",\"\",集金台帳４０人分!D8)","v":""},null,null,null,null,null,0]
[4,{"$f":"IF(集金台帳４０人分!D9=\"\",\"\",集金台帳４０人分!D9)","v":""},null,null,null,null,null,0]
[5,{"$f":"IF(集金台帳４０人分!D10=\"\",\"\",集金台帳４０人分!D10)","v":""},null,null,null,null,null,0]
[6,{"$f":"IF(集金台帳４０人分!D11=\"\",\"\",集金台帳４０人分!D11)","v":""},null,null,null,null,null,0]
[7,{"$f":"IF(集金台帳４０人分!D12=\"\",\"\",集金台帳４０人分!D12)","v":""},null,null,null,null,null,0]
[8,{"$f":"IF(集金台帳４０人分!D13=\"\",\"\",集金台帳４０人分!D13)","v":""},null,null,null,null,null,0]
[9,{"$f":"IF(集金台帳４０人分!D14=\"\",\"\",集金台帳４０人分!D14)","v":""},null,null,null,null,null,0]
[10,{"$f":"IF(集金台帳４０人分!D15=\"\",\"\",集金台帳４０人分!D15)","v":""},null,null,null,null,null,0]
[11,{"$f":"IF(集金台帳４０人分!D16=\"\",\"\",集金台帳４０人分!D16)","v":""},null,null,null,null,null,0]
[12,{"$f":"IF(集金台帳４０人分!D17=\"\",\"\",集金台帳４０人分!D17)","v":""},null,null,null,null,null,0]
[13,{"$f":"IF(集金台帳４０人分!D18=\"\",\"\",集金台帳４０人分!D18)","v":""},null,null,null,null,null,0]
[14,{"$f":"IF(集金台帳４０人分!D19=\"\",\"\",集金台帳４０人分!D19)","v":""},null,null,null,null,null,0]
[15,{"$f":"IF(集金台帳４０人分!D20=\"\",\"\",集金台帳４０人分!D20)","v":""},null,null,null,null,null,0]
[16,{"$f":"IF(集金台帳４０人分!D21=\"\",\"\",集金台帳４０人分!D21)","v":""},null,null,null,null,null,0]
[17,{"$f":"IF(集金台帳４０人分!D22=\"\",\"\",集金台帳４０人分!D22)","v":""},null,null,null,null,null,0]
[18,{"$f":"IF(集金台帳４０人分!D23=\"\",\"\",集金台帳４０人分!D23)","v":""},null,null,null,null,null,0]
[19,{"$f":"IF(集金台帳４０人分!D24=\"\",\"\",集金台帳４０人分!D24)","v":""},null,null,null,null,null,0]
[20,{"$f":"IF(集金台帳４０人分!D25=\"\",\"\",集金台帳４０人分!D25)","v":""},null,null,null,null,null,0]
[21,{"$f":"IF(集金台帳４０人分!D26=\"\",\"\",集金台帳４０人分!D26)","v":""},null,null,null,null,null,0]
[22,{"$f":"IF(集金台帳４０人分!D27=\"\",\"\",集金台帳４０人分!D27)","v":""},null,null,null,null,null,0]
[23,{"$f":"IF(集金台帳４０人分!D28=\"\",\"\",集金台帳４０人分!D28)","v":""},null,null,null,null,null,0]
[24,{"$f":"IF(集金台帳４０人分!D29=\"\",\"\",集金台帳４０人分!D29)","v":""},null,null,null,null,null,0]
[25,{"$f":"IF(集金台帳４０人分!D30=\"\",\"\",集金台帳４０人分!D30)","v":""},null,null,null,null,null,0]
[26,{"$f":"IF(集金台帳４０人分!D31=\"\",\"\",集金台帳４０人分!D31)","v":""},null,null,null,null,null,0]
[27,{"$f":"IF(集金台帳４０人分!D32=\"\",\"\",集金台帳４０人分!D32)","v":""},null,null,null,null,null,0]
[28,{"$f":"IF(集金台帳４０人分!D33=\"\",\"\",集金台帳４０人分!D33)","v":""},null,null,null,null,null,0]
[29,{"$f":"IF(集金台帳４０人分!D34=\"\",\"\",集金台帳４０人分!D34)","v":""},null,null,null,null,null,0]
[30,{"$f":"IF(集金台帳４０人分!D35=\"\",\"\",集金台帳４０人分!D35)","v":""},null,null,null,null,null,0]
[31,{"$f":"IF(集金台帳４０人分!D36=\"\",\"\",集金台帳４０人分!D36)","v":""},null,null,null,null,null,0]
[32,{"$f":"IF(集金台帳４０人分!D37=\"\",\"\",集金台帳４０人分!D37)","v":""},null,null,null,null,null,0]
[33,{"$f":"IF(集金台帳４０人分!D38=\"\",\"\",集金台帳４０人分!D38)","v":""},null,null,null,null,null,0]
[34,{"$f":"IF(集金台帳４０人分!D39=\"\",\"\",集金台帳４０人分!D39)","v":""},null,null,null,null,null,0]
[35,{"$f":"IF(集金台帳４０人分!D40=\"\",\"\",集金台帳４０人分!D40)","v":""},null,null,null,null,null,0]
[36,{"$f":"IF(集金台帳４０人分!D41=\"\",\"\",集金台帳４０人分!D41)","v":""},null,null,null,null,null,0]
[37,{"$f":"IF(集金台帳４０人分!D42=\"\",\"\",集金台帳４０人分!D42)","v":""},null,null,null,null,null,0]
[38,{"$f":"IF(集金台帳４０人分!D43=\"\",\"\",集金台帳４０人分!D43)","v":""},null,null,null,null,null,0]
[39,{"$f":"IF(集金台帳４０人分!D44=\"\",\"\",集金台帳４０人分!D44)","v":""},null,null,null,null,null,0]
[40,{"$f":"IF(集金台帳４０人分!D45=\"\",\"\",集金台帳４０人分!D45)","v":""},null,null,null,null,null,0]
[null,null,{"$f":"IF(C4=\"\",\"\",C4)","v":""},{"$f":"IF(D4=\"\",\"\",D4)","v":""},{"$f":"IF(E4=\"\",\"\",E4)","v":""},{"$f":"IF(F4=\"\",\"\",F4)","v":""},{"$f":"IF(G4=\"\",\"\",G4)","v":""},"集金合計"]
[null,null,{"$f":"SUM(C5:C44)","v":0},0,0,0,0,0]
[null,"頻出",{"$f":"IFERROR(MODE(C5:C44),\"\")","v":""},{"$f":"IFERROR(MODE(D5:D44),\"\")","v":""},{"$f":"IFERROR(MODE(E5:E44),\"\")","v":""},{"$f":"IFERROR(MODE(F5:F44),\"\")","v":""},{"$f":"IFERROR(MODE(G5:G44),\"\")","v":""}]

{"sheet":"２月集金一覧","index":21,"n_rows":47,"n_cols":9,"rows_kept":47,"cut":false,"hidden":false,"merged":[[1,1,1,7],[2,7,2,8]]}
[null,"令和",{"$f":"IF(メイン!D7=0,\"\",メイン!D7)","v":""},"年度",{"$f":"IF(メイン!C8=0,\"\",メイン!C8)","v":""},"年",{"$f":"IF(メイン!E8=0,\"\",メイン!E8)","v":""},"組"]
[null,"集金個別一覧表　２月分"]
[]
["番号","氏　　名",null,null,null,null,null,"個人計","備考"]
[1,{"$f":"IF(集金台帳４０人分!D6=\"\",\"\",集金台帳４０人分!D6)","v":""},null,null,null,null,null,{"$f":"SUM(C5:G5)","v":0}]
[2,{"$f":"IF(集金台帳４０人分!D7=\"\",\"\",集金台帳４０人分!D7)","v":""},null,null,null,null,null,0]
[3,{"$f":"IF(集金台帳４０人分!D8=\"\",\"\",集金台帳４０人分!D8)","v":""},null,null,null,null,null,0]
[4,{"$f":"IF(集金台帳４０人分!D9=\"\",\"\",集金台帳４０人分!D9)","v":""},null,null,null,null,null,0]
[5,{"$f":"IF(集金台帳４０人分!D10=\"\",\"\",集金台帳４０人分!D10)","v":""},null,null,null,null,null,0]
[6,{"$f":"IF(集金台帳４０人分!D11=\"\",\"\",集金台帳４０人分!D11)","v":""},null,null,null,null,null,0]
[7,{"$f":"IF(集金台帳４０人分!D12=\"\",\"\",集金台帳４０人分!D12)","v":""},null,null,null,null,null,0]
[8,{"$f":"IF(集金台帳４０人分!D13=\"\",\"\",集金台帳４０人分!D13)","v":""},null,null,null,null,null,0]
[9,{"$f":"IF(集金台帳４０人分!D14=\"\",\"\",集金台帳４０人分!D14)","v":""},null,null,null,null,null,0]
[10,{"$f":"IF(集金台帳４０人分!D15=\"\",\"\",集金台帳４０人分!D15)","v":""},null,null,null,null,null,0]
[11,{"$f":"IF(集金台帳４０人分!D16=\"\",\"\",集金台帳４０人分!D16)","v":""},null,null,null,null,null,0]
[12,{"$f":"IF(集金台帳４０人分!D17=\"\",\"\",集金台帳４０人分!D17)","v":""},null,null,null,null,null,0]
[13,{"$f":"IF(集金台帳４０人分!D18=\"\",\"\",集金台帳４０人分!D18)","v":""},null,null,null,null,null,0]
[14,{"$f":"IF(集金台帳４０人分!D19=\"\",\"\",集金台帳４０人分!D19)","v":""},null,null,null,null,null,0]
[15,{"$f":"IF(集金台帳４０人分!D20=\"\",\"\",集金台帳４０人分!D20)","v":""},null,null,null,null,null,0]
[16,{"$f":"IF(集金台帳４０人分!D21=\"\",\"\",集金台帳４０人分!D21)","v":""},null,null,null,null,null,0]
[17,{"$f":"IF(集金台帳４０人分!D22=\"\",\"\",集金台帳４０人分!D22)","v":""},null,null,null,null,null,0]
[18,{"$f":"IF(集金台帳４０人分!D23=\"\",\"\",集金台帳４０人分!D23)","v":""},null,null,null,null,null,0]
[19,{"$f":"IF(集金台帳４０人分!D24=\"\",\"\",集金台帳４０人分!D24)","v":""},null,null,null,null,null,0]
[20,{"$f":"IF(集金台帳４０人分!D25=\"\",\"\",集金台帳４０人分!D25)","v":""},null,null,null,null,null,0]
[21,{"$f":"IF(集金台帳４０人分!D26=\"\",\"\",集金台帳４０人分!D26)","v":""},null,null,null,null,null,0]
[22,{"$f":"IF(集金台帳４０人分!D27=\"\",\"\",集金台帳４０人分!D27)","v":""},null,null,null,null,null,0]
[23,{"$f":"IF(集金台帳４０人分!D28=\"\",\"\",集金台帳４０人分!D28)","v":""},null,null,null,null,null,0]
[24,{"$f":"IF(集金台帳４０人分!D29=\"\",\"\",集金台帳４０人分!D29)","v":""},null,null,null,null,null,0]
[25,{"$f":"IF(集金台帳４０人分!D30=\"\",\"\",集金台帳４０人分!D30)","v":""},null,null,null,null,null,0]
[26,{"$f":"IF(集金台帳４０人分!D31=\"\",\"\",集金台帳４０人分!D31)","v":""},null,null,null,null,null,0]
[27,{"$f":"IF(集金台帳４０人分!D32=\"\",\"\",集金台帳４０人分!D32)","v":""},null,null,null,null,null,0]
[28,{"$f":"IF(集金台帳４０人分!D33=\"\",\"\",集金台帳４０人分!D33)","v":""},null,null,null,null,null,0]
[29,{"$f":"IF(集金台帳４０人分!D34=\"\",\"\",集金台帳４０人分!D34)","v":""},null,null,null,null,null,0]
[30,{"$f":"IF(集金台帳４０人分!D35=\"\",\"\",集金台帳４０人分!D35)","v":""},null,null,null,null,null,0]
[31,{"$f":"IF(集金台帳４０人分!D36=\"\",\"\",集金台帳４０人分!D36)","v":""},null,null,null,null,null,0]
[32,{"$f":"IF(集金台帳４０人分!D37=\"\",\"\",集金台帳４０人分!D37)","v":""},null,null,null,null,null,0]
[33,{"$f":"IF(集金台帳４０人分!D38=\"\",\"\",集金台帳４０人分!D38)","v":""},null,null,null,null,null,0]
[34,{"$f":"IF(集金台帳４０人分!D39=\"\",\"\",集金台帳４０人分!D39)","v":""},null,null,null,null,null,0]
[35,{"$f":"IF(集金台帳４０人分!D40=\"\",\"\",集金台帳４０人分!D40)","v":""},null,null,null,null,null,0]
[36,{"$f":"IF(集金台帳４０人分!D41=\"\",\"\",集金台帳４０人分!D41)","v":""},null,null,null,null,null,0]
[37,{"$f":"IF(集金台帳４０人分!D42=\"\",\"\",集金台帳４０人分!D42)","v":""},null,null,null,null,null,0]
[38,{"$f":"IF(集金台帳４０人分!D43=\"\",\"\",集金台帳４０人分!D43)","v":""},null,null,null,null,null,0]
[39,{"$f":"IF(集金台帳４０人分!D44=\"\",\"\",集金台帳４０人分!D44)","v":""},null,null,null,null,null,0]
[40,{"$f":"IF(集金台帳４０人分!D45=\"\",\"\",集金台帳４０人分!D45)","v":""},null,null,null,null,null,0]
[null,null,{"$f":"IF(C4=\"\",\"\",C4)","v":""},{"$f":"IF(D4=\"\",\"\",D4)","v":""},{"$f":"IF(E4=\"\",\"\",E4)","v":""},{"$f":"IF(F4=\"\",\"\",F4)","v":""},{"$f":"IF(G4=\"\",\"\",G4)","v":""},"集金合計"]
[null,null,{"$f":"SUM(C5:C44)","v":0},0,0,0,0,0]
[null,"頻出",{"$f":"IFERROR(MODE(C5:C44),\"\")","v":""},{"$f":"IFERROR(MODE(D5:D44),\"\")","v":""},{"$f":"IFERROR(MODE(E5:E44),\"\")","v":""},{"$f":"IFERROR(MODE(F5:F44),\"\")","v":""},{"$f":"IFERROR(MODE(G5:G44),\"\")","v":""}]

{"sheet":"３月集金一覧","index":22,"n_rows":47,"n_cols":9,"rows_kept":47,"cut":false,"hidden":false,"merged":[[1,1,1,7],[2,7,2,8]]}
[null,"令和",{"$f":"IF(メイン!D7=0,\"\",メイン!D7)","v":""},"年度",{"$f":"IF(メイン!C8=0,\"\",メイン!C8)","v":""},"年",{"$f":"IF(メイン!E8=0,\"\",メイン!E8)","v":""},"組"]
[null,"集金個別一覧表　３月分"]
[]
["番号","氏　　名",null,null,null,null,null,"個人計","備考"]
[1,{"$f":"IF(集金台帳４０人分!D6=\"\",\"\",集金台帳４０人分!D6)","v":""},null,null,null,null,null,{"$f":"SUM(C5:G5)","v":0}]
[2,{"$f":"IF(集金台帳４０人分!D7=\"\",\"\",集金台帳４０人分!D7)","v":""},null,null,null,null,null,0]
[3,{"$f":"IF(集金台帳４０人分!D8=\"\",\"\",集金台帳４０人分!D8)","v":""},null,null,null,null,null,0]
[4,{"$f":"IF(集金台帳４０人分!D9=\"\",\"\",集金台帳４０人分!D9)","v":""},null,null,null,null,null,0]
[5,{"$f":"IF(集金台帳４０人分!D10=\"\",\"\",集金台帳４０人分!D10)","v":""},null,null,null,null,null,0]
[6,{"$f":"IF(集金台帳４０人分!D11=\"\",\"\",集金台帳４０人分!D11)","v":""},null,null,null,null,null,0]
[7,{"$f":"IF(集金台帳４０人分!D12=\"\",\"\",集金台帳４０人分!D12)","v":""},null,null,null,null,null,0]
[8,{"$f":"IF(集金台帳４０人分!D13=\"\",\"\",集金台帳４０人分!D13)","v":""},null,null,null,null,null,0]
[9,{"$f":"IF(集金台帳４０人分!D14=\"\",\"\",集金台帳４０人分!D14)","v":""},null,null,null,null,null,0]
[10,{"$f":"IF(集金台帳４０人分!D15=\"\",\"\",集金台帳４０人分!D15)","v":""},null,null,null,null,null,0]
[11,{"$f":"IF(集金台帳４０人分!D16=\"\",\"\",集金台帳４０人分!D16)","v":""},null,null,null,null,null,0]
[12,{"$f":"IF(集金台帳４０人分!D17=\"\",\"\",集金台帳４０人分!D17)","v":""},null,null,null,null,null,0]
[13,{"$f":"IF(集金台帳４０人分!D18=\"\",\"\",集金台帳４０人分!D18)","v":""},null,null,null,null,null,0]
[14,{"$f":"IF(集金台帳４０人分!D19=\"\",\"\",集金台帳４０人分!D19)","v":""},null,null,null,null,null,0]
[15,{"$f":"IF(集金台帳４０人分!D20=\"\",\"\",集金台帳４０人分!D20)","v":""},null,null,null,null,null,0]
[16,{"$f":"IF(集金台帳４０人分!D21=\"\",\"\",集金台帳４０人分!D21)","v":""},null,null,null,null,null,0]
[17,{"$f":"IF(集金台帳４０人分!D22=\"\",\"\",集金台帳４０人分!D22)","v":""},null,null,null,null,null,0]
[18,{"$f":"IF(集金台帳４０人分!D23=\"\",\"\",集金台帳４０人分!D23)","v":""},null,null,null,null,null,0]
[19,{"$f":"IF(集金台帳４０人分!D24=\"\",\"\",集金台帳４０人分!D24)","v":""},null,null,null,null,null,0]
[20,{"$f":"IF(集金台帳４０人分!D25=\"\",\"\",集金台帳４０人分!D25)","v":""},null,null,null,null,null,0]
[21,{"$f":"IF(集金台帳４０人分!D26=\"\",\"\",集金台帳４０人分!D26)","v":""},null,null,null,null,null,0]
[22,{"$f":"IF(集金台帳４０人分!D27=\"\",\"\",集金台帳４０人分!D27)","v":""},null,null,null,null,null,0]
[23,{"$f":"IF(集金台帳４０人分!D28=\"\",\"\",集金台帳４０人分!D28)","v":""},null,null,null,null,null,0]
[24,{"$f":"IF(集金台帳４０人分!D29=\"\",\"\",集金台帳４０人分!D29)","v":""},null,null,null,null,null,0]
[25,{"$f":"IF(集金台帳４０人分!D30=\"\",\"\",集金台帳４０人分!D30)","v":""},null,null,null,null,null,0]
[26,{"$f":"IF(集金台帳４０人分!D31=\"\",\"\",集金台帳４０人分!D31)","v":""},null,null,null,null,null,0]
[27,{"$f":"IF(集金台帳４０人分!D32=\"\",\"\",集金台帳４０人分!D32)","v":""},null,null,null,null,null,0]
[28,{"$f":"IF(集金台帳４０人分!D33=\"\",\"\",集金台帳４０人分!D33)","v":""},null,null,null,null,null,0]
[29,{"$f":"IF(集金台帳４０人分!D34=\"\",\"\",集金台帳４０人分!D34)","v":""},null,null,null,null,null,0]
[30,{"$f":"IF(集金台帳４０人分!D35=\"\",\"\",集金台帳４０人分!D35)","v":""},null,null,null,null,null,0]
[31,{"$f":"IF(集金台帳４０人分!D36=\"\",\"\",集金台帳４０人分!D36)","v":""},null,null,null,null,null,0]
[32,{"$f":"IF(集金台帳４０人分!D37=\"\",\"\",集金台帳４０人分!D37)","v":""},null,null,null,null,null,0]
[33,{"$f":"IF(集金台帳４０人分!D38=\"\",\"\",集金台帳４０人分!D38)","v":""},null,null,null,null,null,0]
[34,{"$f":"IF(集金台帳４０人分!D39=\"\",\"\",集金台帳４０人分!D39)","v":""},null,null,null,null,null,0]
[35,{"$f":"IF(集金台帳４０人分!D40=\"\",\"\",集金台帳４０人分!D40)","v":""},null,null,null,null,null,0]
[36,{"$f":"IF(集金台帳４０人分!D41=\"\",\"\",集金台帳４０人分!D41)","v":""},null,null,null,null,null,0]
[37,{"$f":"IF(集金台帳４０人分!D42=\"\",\"\",集金台帳４０人分!D42)","v":""},null,null,null,null,null,0]
[38,{"$f":"IF(集金台帳４０人分!D43=\"\",\"\",集金台帳４０人分!D43)","v":""},null,null,null,null,null,0]
[39,{"$f":"IF(集金台帳４０人分!D44=\"\",\"\",集金台帳４０人分!D44)","v":""},null,null,null,null,null,0]
[40,{"$f":"IF(集金台帳４０人分!D45=\"\",\"\",集金台帳４０人分!D45)","v":""},null,null,null,null,null,0]
[null,null,{"$f":"IF(C4=\"\",\"\",C4)","v":""},{"$f":"IF(D4=\"\",\"\",D4)","v":""},{"$f":"IF(E4=\"\",\"\",E4)","v":""},{"$f":"IF(F4=\"\",\"\",F4)","v":""},{"$f":"IF(G4=\"\",\"\",G4)","v":""},"集金合計"]
[null,null,{"$f":"SUM(C5:C44)","v":0},0,0,0,0,0]
[null,"頻出",{"$f":"IFERROR(MODE(C5:C44),\"\")","v":""},{"$f":"IFERROR(MODE(D5:D44),\"\")","v":""},{"$f":"IFERROR(MODE(E5:E44),\"\")","v":""},{"$f":"IFERROR(MODE(F5:F44),\"\")","v":""},{"$f":"IFERROR(MODE(G5:G44),\"\")","v":""}]

{"sheet":"4月個票","index":23,"n_rows":46,"n_cols":15,"rows_kept":46,"cut":false,"hidden":false,"merged":[]}
[null,"令和",{"$f":"メイン!D7","v":0},"年度",{"$f":"メイン!C8","v":0},"年",{"$f":"メイン!E8","v":0},"組"]
[1,3,4,5,6,7,8,null,1,3,4,5,6,7,8]
["番号",{"$f":"IF('４月集金一覧'!C$4=\"\",\"\",'４月集金一覧'!C$4)","v":""},{"$f":"IF('４月集金一覧'!$D$4=\"\",\"\",'４月集金一覧'!D$4)","v":""},{"$f":"IF('４月集金一覧'!E$4=\"\",\"\",'４月集金一覧'!E$4)","v":""},{"$f":"IF('４月集金一覧'!F$4=\"\",\"\",'４月集金一覧'!F$4)","v":""},{"$f":"IF('４月集金一覧'!G$4=\"\",\"\",'４月集金一覧'!G$4)","v":""},"個人計",null,"番号",{"$f":"IF('４月集金一覧'!C$4=\"\",\"\",'４月集金一覧'!C$4)","v":""},{"$f":"IF('４月集金一覧'!D$4=\"\",\"\",'４月集金一覧'!D$4)","v":""},{"$f":"IF('４月集金一覧'!E$4=\"\",\"\",'４月集金一覧'!E$4)","v":""},{"$f":"IF('４月集金一覧'!F$4=\"\",\"\",'４月集金一覧'!F$4)","v":""},{"$f":"IF('４月集金一覧'!G$4=\"\",\"\",'４月集金一覧'!G$4)","v":""},"個人計"]
[1,{"$f":"VLOOKUP($A4,'４月集金一覧'!$A$4:$H$44,B$2,FALSE)","v":0},{"$f":"VLOOKUP($A4,'４月集金一覧'!$A$4:$H$44,C$2,FALSE)","v":0},{"$f":"VLOOKUP($A4,'４月集金一覧'!$A$4:$H$44,D$2,FALSE)","v":0},{"$f":"VLOOKUP($A4,'４月集金一覧'!$A$4:$H$44,E$2,FALSE)","v":0},{"$f":"VLOOKUP($A4,'４月集金一覧'!$A$4:$H$44,F$2,FALSE)","v":0},{"$f":"VLOOKUP($A4,'４月集金一覧'!$A$4:$H$44,G$2,FALSE)","v":0},null,23,{"$f":"VLOOKUP($I4,'４月集金一覧'!$A$4:$H$44,J$2,FALSE)","v":0},{"$f":"VLOOKUP($I4,'４月集金一覧'!$A$4:$H$44,K$2,FALSE)","v":0},{"$f":"VLOOKUP($I4,'４月集金一覧'!$A$4:$H$44,L$2,FALSE)","v":0},{"$f":"VLOOKUP($I4,'４月集金一覧'!$A$4:$H$44,M$2,FALSE)","v":0},{"$f":"VLOOKUP($I4,'４月集金一覧'!$A$4:$H$44,N$2,FALSE)","v":0},{"$f":"VLOOKUP($I4,'４月集金一覧'!$A$4:$H$44,O$2,FALSE)","v":0}]
["番号",{"$f":"IF('４月集金一覧'!C$4=\"\",\"\",'４月集金一覧'!C$4)","v":""},{"$f":"IF('４月集金一覧'!D$4=\"\",\"\",'４月集金一覧'!D$4)","v":""},{"$f":"IF('４月集金一覧'!E$4=\"\",\"\",'４月集金一覧'!E$4)","v":""},{"$f":"IF('４月集金一覧'!F$4=\"\",\"\",'４月集金一覧'!F$4)","v":""},{"$f":"IF('４月集金一覧'!G$4=\"\",\"\",'４月集金一覧'!G$4)","v":""},"個人計",null,"番号",{"$f":"IF('４月集金一覧'!C$4=\"\",\"\",'４月集金一覧'!C$4)","v":""},{"$f":"IF('４月集金一覧'!D$4=\"\",\"\",'４月集金一覧'!D$4)","v":""},{"$f":"IF('４月集金一覧'!E$4=\"\",\"\",'４月集金一覧'!E$4)","v":""},{"$f":"IF('４月集金一覧'!F$4=\"\",\"\",'４月集金一覧'!F$4)","v":""},{"$f":"IF('４月集金一覧'!G$4=\"\",\"\",'４月集金一覧'!G$4)","v":""},"個人計"]
[2,{"$f":"VLOOKUP($A6,'４月集金一覧'!$A$4:$H$44,B$2,FALSE)","v":0},{"$f":"VLOOKUP($A6,'４月集金一覧'!$A$4:$H$44,C$2,FALSE)","v":0},{"$f":"VLOOKUP($A6,'４月集金一覧'!$A$4:$H$44,D$2,FALSE)","v":0},{"$f":"VLOOKUP($A6,'４月集金一覧'!$A$4:$H$44,E$2,FALSE)","v":0},{"$f":"VLOOKUP($A6,'４月集金一覧'!$A$4:$H$44,F$2,FALSE)","v":0},{"$f":"VLOOKUP($A6,'４月集金一覧'!$A$4:$H$44,G$2,FALSE)","v":0},null,24,{"$f":"VLOOKUP($I6,'４月集金一覧'!$A$4:$H$44,J$2,FALSE)","v":0},{"$f":"VLOOKUP($I6,'４月集金一覧'!$A$4:$H$44,K$2,FALSE)","v":0},{"$f":"VLOOKUP($I6,'４月集金一覧'!$A$4:$H$44,L$2,FALSE)","v":0},{"$f":"VLOOKUP($I6,'４月集金一覧'!$A$4:$H$44,M$2,FALSE)","v":0},{"$f":"VLOOKUP($I6,'４月集金一覧'!$A$4:$H$44,N$2,FALSE)","v":0},{"$f":"VLOOKUP($I6,'４月集金一覧'!$A$4:$H$44,O$2,FALSE)","v":0}]
["番号",{"$f":"IF('４月集金一覧'!C$4=\"\",\"\",'４月集金一覧'!C$4)","v":""},{"$f":"IF('４月集金一覧'!D$4=\"\",\"\",'４月集金一覧'!D$4)","v":""},{"$f":"IF('４月集金一覧'!E$4=\"\",\"\",'４月集金一覧'!E$4)","v":""},{"$f":"IF('４月集金一覧'!F$4=\"\",\"\",'４月集金一覧'!F$4)","v":""},{"$f":"IF('４月集金一覧'!G$4=\"\",\"\",'４月集金一覧'!G$4)","v":""},"個人計",null,"番号",{"$f":"IF('４月集金一覧'!C$4=\"\",\"\",'４月集金一覧'!C$4)","v":""},{"$f":"IF('４月集金一覧'!D$4=\"\",\"\",'４月集金一覧'!D$4)","v":""},{"$f":"IF('４月集金一覧'!E$4=\"\",\"\",'４月集金一覧'!E$4)","v":""},{"$f":"IF('４月集金一覧'!F$4=\"\",\"\",'４月集金一覧'!F$4)","v":""},{"$f":"IF('４月集金一覧'!G$4=\"\",\"\",'４月集金一覧'!G$4)","v":""},"個人計"]
[3,{"$f":"VLOOKUP($A8,'４月集金一覧'!$A$4:$H$44,B$2,FALSE)","v":0},{"$f":"VLOOKUP($A8,'４月集金一覧'!$A$4:$H$44,C$2,FALSE)","v":0},{"$f":"VLOOKUP($A8,'４月集金一覧'!$A$4:$H$44,D$2,FALSE)","v":0},{"$f":"VLOOKUP($A8,'４月集金一覧'!$A$4:$H$44,E$2,FALSE)","v":0},{"$f":"VLOOKUP($A8,'４月集金一覧'!$A$4:$H$44,F$2,FALSE)","v":0},{"$f":"VLOOKUP($A8,'４月集金一覧'!$A$4:$H$44,G$2,FALSE)","v":0},null,25,{"$f":"VLOOKUP($I8,'４月集金一覧'!$A$4:$H$44,J$2,FALSE)","v":0},{"$f":"VLOOKUP($I8,'４月集金一覧'!$A$4:$H$44,K$2,FALSE)","v":0},{"$f":"VLOOKUP($I8,'４月集金一覧'!$A$4:$H$44,L$2,FALSE)","v":0},{"$f":"VLOOKUP($I8,'４月集金一覧'!$A$4:$H$44,M$2,FALSE)","v":0},{"$f":"VLOOKUP($I8,'４月集金一覧'!$A$4:$H$44,N$2,FALSE)","v":0},{"$f":"VLOOKUP($I8,'４月集金一覧'!$A$4:$H$44,O$2,FALSE)","v":0}]
["番号",{"$f":"IF('４月集金一覧'!C$4=\"\",\"\",'４月集金一覧'!C$4)","v":""},{"$f":"IF('４月集金一覧'!D$4=\"\",\"\",'４月集金一覧'!D$4)","v":""},{"$f":"IF('４月集金一覧'!E$4=\"\",\"\",'４月集金一覧'!E$4)","v":""},{"$f":"IF('４月集金一覧'!F$4=\"\",\"\",'４月集金一覧'!F$4)","v":""},{"$f":"IF('４月集金一覧'!G$4=\"\",\"\",'４月集金一覧'!G$4)","v":""},"個人計",null,"番号",{"$f":"IF('４月集金一覧'!C$4=\"\",\"\",'４月集金一覧'!C$4)","v":""},{"$f":"IF('４月集金一覧'!D$4=\"\",\"\",'４月集金一覧'!D$4)","v":""},{"$f":"IF('４月集金一覧'!E$4=\"\",\"\",'４月集金一覧'!E$4)","v":""},{"$f":"IF('４月集金一覧'!F$4=\"\",\"\",'４月集金一覧'!F$4)","v":""},{"$f":"IF('４月集金一覧'!G$4=\"\",\"\",'４月集金一覧'!G$4)","v":""},"個人計"]
[4,{"$f":"VLOOKUP($A10,'４月集金一覧'!$A$4:$H$44,B$2,FALSE)","v":0},{"$f":"VLOOKUP($A10,'４月集金一覧'!$A$4:$H$44,C$2,FALSE)","v":0},{"$f":"VLOOKUP($A10,'４月集金一覧'!$A$4:$H$44,D$2,FALSE)","v":0},{"$f":"VLOOKUP($A10,'４月集金一覧'!$A$4:$H$44,E$2,FALSE)","v":0},{"$f":"VLOOKUP($A10,'４月集金一覧'!$A$4:$H$44,F$2,FALSE)","v":0},{"$f":"VLOOKUP($A10,'４月集金一覧'!$A$4:$H$44,G$2,FALSE)","v":0},null,26,{"$f":"VLOOKUP($I10,'４月集金一覧'!$A$4:$H$44,J$2,FALSE)","v":0},{"$f":"VLOOKUP($I10,'４月集金一覧'!$A$4:$H$44,K$2,FALSE)","v":0},{"$f":"VLOOKUP($I10,'４月集金一覧'!$A$4:$H$44,L$2,FALSE)","v":0},{"$f":"VLOOKUP($I10,'４月集金一覧'!$A$4:$H$44,M$2,FALSE)","v":0},{"$f":"VLOOKUP($I10,'４月集金一覧'!$A$4:$H$44,N$2,FALSE)","v":0},{"$f":"VLOOKUP($I10,'４月集金一覧'!$A$4:$H$44,O$2,FALSE)","v":0}]
["番号",{"$f":"IF('４月集金一覧'!C$4=\"\",\"\",'４月集金一覧'!C$4)","v":""},{"$f":"IF('４月集金一覧'!D$4=\"\",\"\",'４月集金一覧'!D$4)","v":""},{"$f":"IF('４月集金一覧'!E$4=\"\",\"\",'４月集金一覧'!E$4)","v":""},{"$f":"IF('４月集金一覧'!F$4=\"\",\"\",'４月集金一覧'!F$4)","v":""},{"$f":"IF('４月集金一覧'!G$4=\"\",\"\",'４月集金一覧'!G$4)","v":""},"個人計",null,"番号",{"$f":"IF('４月集金一覧'!C$4=\"\",\"\",'４月集金一覧'!C$4)","v":""},{"$f":"IF('４月集金一覧'!D$4=\"\",\"\",'４月集金一覧'!D$4)","v":""},{"$f":"IF('４月集金一覧'!E$4=\"\",\"\",'４月集金一覧'!E$4)","v":""},{"$f":"IF('４月集金一覧'!F$4=\"\",\"\",'４月集金一覧'!F$4)","v":""},{"$f":"IF('４月集金一覧'!G$4=\"\",\"\",'４月集金一覧'!G$4)","v":""},"個人計"]
[5,{"$f":"VLOOKUP($A12,'４月集金一覧'!$A$4:$H$44,B$2,FALSE)","v":0},{"$f":"VLOOKUP($A12,'４月集金一覧'!$A$4:$H$44,C$2,FALSE)","v":0},{"$f":"VLOOKUP($A12,'４月集金一覧'!$A$4:$H$44,D$2,FALSE)","v":0},{"$f":"VLOOKUP($A12,'４月集金一覧'!$A$4:$H$44,E$2,FALSE)","v":0},{"$f":"VLOOKUP($A12,'４月集金一覧'!$A$4:$H$44,F$2,FALSE)","v":0},{"$f":"VLOOKUP($A12,'４月集金一覧'!$A$4:$H$44,G$2,FALSE)","v":0},null,27,{"$f":"VLOOKUP($I12,'４月集金一覧'!$A$4:$H$44,J$2,FALSE)","v":0},{"$f":"VLOOKUP($I12,'４月集金一覧'!$A$4:$H$44,K$2,FALSE)","v":0},{"$f":"VLOOKUP($I12,'４月集金一覧'!$A$4:$H$44,L$2,FALSE)","v":0},{"$f":"VLOOKUP($I12,'４月集金一覧'!$A$4:$H$44,M$2,FALSE)","v":0},{"$f":"VLOOKUP($I12,'４月集金一覧'!$A$4:$H$44,N$2,FALSE)","v":0},{"$f":"VLOOKUP($I12,'４月集金一覧'!$A$4:$H$44,O$2,FALSE)","v":0}]
["番号",{"$f":"IF('４月集金一覧'!C$4=\"\",\"\",'４月集金一覧'!C$4)","v":""},{"$f":"IF('４月集金一覧'!D$4=\"\",\"\",'４月集金一覧'!D$4)","v":""},{"$f":"IF('４月集金一覧'!E$4=\"\",\"\",'４月集金一覧'!E$4)","v":""},{"$f":"IF('４月集金一覧'!F$4=\"\",\"\",'４月集金一覧'!F$4)","v":""},{"$f":"IF('４月集金一覧'!G$4=\"\",\"\",'４月集金一覧'!G$4)","v":""},"個人計",null,"番号",{"$f":"IF('４月集金一覧'!C$4=\"\",\"\",'４月集金一覧'!C$4)","v":""},{"$f":"IF('４月集金一覧'!D$4=\"\",\"\",'４月集金一覧'!D$4)","v":""},{"$f":"IF('４月集金一覧'!E$4=\"\",\"\",'４月集金一覧'!E$4)","v":""},{"$f":"IF('４月集金一覧'!F$4=\"\",\"\",'４月集金一覧'!F$4)","v":""},{"$f":"IF('４月集金一覧'!G$4=\"\",\"\",'４月集金一覧'!G$4)","v":""},"個人計"]
[6,{"$f":"VLOOKUP($A14,'４月集金一覧'!$A$4:$H$44,B$2,FALSE)","v":0},{"$f":"VLOOKUP($A14,'４月集金一覧'!$A$4:$H$44,C$2,FALSE)","v":0},{"$f":"VLOOKUP($A14,'４月集金一覧'!$A$4:$H$44,D$2,FALSE)","v":0},{"$f":"VLOOKUP($A14,'４月集金一覧'!$A$4:$H$44,E$2,FALSE)","v":0},{"$f":"VLOOKUP($A14,'４月集金一覧'!$A$4:$H$44,F$2,FALSE)","v":0},{"$f":"VLOOKUP($A14,'４月集金一覧'!$A$4:$H$44,G$2,FALSE)","v":0},null,28,{"$f":"VLOOKUP($I14,'４月集金一覧'!$A$4:$H$44,J$2,FALSE)","v":0},{"$f":"VLOOKUP($I14,'４月集金一覧'!$A$4:$H$44,K$2,FALSE)","v":0},{"$f":"VLOOKUP($I14,'４月集金一覧'!$A$4:$H$44,L$2,FALSE)","v":0},{"$f":"VLOOKUP($I14,'４月集金一覧'!$A$4:$H$44,M$2,FALSE)","v":0},{"$f":"VLOOKUP($I14,'４月集金一覧'!$A$4:$H$44,N$2,FALSE)","v":0},{"$f":"VLOOKUP($I14,'４月集金一覧'!$A$4:$H$44,O$2,FALSE)","v":0}]
["番号",{"$f":"IF('４月集金一覧'!C$4=\"\",\"\",'４月集金一覧'!C$4)","v":""},{"$f":"IF('４月集金一覧'!D$4=\"\",\"\",'４月集金一覧'!D$4)","v":""},{"$f":"IF('４月集金一覧'!E$4=\"\",\"\",'４月集金一覧'!E$4)","v":""},{"$f":"IF('４月集金一覧'!F$4=\"\",\"\",'４月集金一覧'!F$4)","v":""},{"$f":"IF('４月集金一覧'!G$4=\"\",\"\",'４月集金一覧'!G$4)","v":""},"個人計",null,"番号",{"$f":"IF('４月集金一覧'!C$4=\"\",\"\",'４月集金一覧'!C$4)","v":""},{"$f":"IF('４月集金一覧'!D$4=\"\",\"\",'４月集金一覧'!D$4)","v":""},{"$f":"IF('４月集金一覧'!E$4=\"\",\"\",'４月集金一覧'!E$4)","v":""},{"$f":"IF('４月集金一覧'!F$4=\"\",\"\",'４月集金一覧'!F$4)","v":""},{"$f":"IF('４月集金一覧'!G$4=\"\",\"\",'４月集金一覧'!G$4)","v":""},"個人計"]
[7,{"$f":"VLOOKUP($A16,'４月集金一覧'!$A$4:$H$44,B$2,FALSE)","v":0},{"$f":"VLOOKUP($A16,'４月集金一覧'!$A$4:$H$44,C$2,FALSE)","v":0},{"$f":"VLOOKUP($A16,'４月集金一覧'!$A$4:$H$44,D$2,FALSE)","v":0},{"$f":"VLOOKUP($A16,'４月集金一覧'!$A$4:$H$44,E$2,FALSE)","v":0},{"$f":"VLOOKUP($A16,'４月集金一覧'!$A$4:$H$44,F$2,FALSE)","v":0},{"$f":"VLOOKUP($A16,'４月集金一覧'!$A$4:$H$44,G$2,FALSE)","v":0},null,29,{"$f":"VLOOKUP($I16,'４月集金一覧'!$A$4:$H$44,J$2,FALSE)","v":0},{"$f":"VLOOKUP($I16,'４月集金一覧'!$A$4:$H$44,K$2,FALSE)","v":0},{"$f":"VLOOKUP($I16,'４月集金一覧'!$A$4:$H$44,L$2,FALSE)","v":0},{"$f":"VLOOKUP($I16,'４月集金一覧'!$A$4:$H$44,M$2,FALSE)","v":0},{"$f":"VLOOKUP($I16,'４月集金一覧'!$A$4:$H$44,N$2,FALSE)","v":0},{"$f":"VLOOKUP($I16,'４月集金一覧'!$A$4:$H$44,O$2,FALSE)","v":0}]
["番号",{"$f":"IF('４月集金一覧'!C$4=\"\",\"\",'４月集金一覧'!C$4)","v":""},{"$f":"IF('４月集金一覧'!D$4=\"\",\"\",'４月集金一覧'!D$4)","v":""},{"$f":"IF('４月集金一覧'!E$4=\"\",\"\",'４月集金一覧'!E$4)","v":""},{"$f":"IF('４月集金一覧'!F$4=\"\",\"\",'４月集金一覧'!F$4)","v":""},{"$f":"IF('４月集金一覧'!G$4=\"\",\"\",'４月集金一覧'!G$4)","v":""},"個人計",null,"番号",{"$f":"IF('４月集金一覧'!C$4=\"\",\"\",'４月集金一覧'!C$4)","v":""},{"$f":"IF('４月集金一覧'!D$4=\"\",\"\",'４月集金一覧'!D$4)","v":""},{"$f":"IF('４月集金一覧'!E$4=\"\",\"\",'４月集金一覧'!E$4)","v":""},{"$f":"IF('４月集金一覧'!F$4=\"\",\"\",'４月集金一覧'!F$4)","v":""},{"$f":"IF('４月集金一覧'!G$4=\"\",\"\",'４月集金一覧'!G$4)","v":""},"個人計"]
[8,{"$f":"VLOOKUP($A18,'４月集金一覧'!$A$4:$H$44,B$2,FALSE)","v":0},{"$f":"VLOOKUP($A18,'４月集金一覧'!$A$4:$H$44,C$2,FALSE)","v":0},{"$f":"VLOOKUP($A18,'４月集金一覧'!$A$4:$H$44,D$2,FALSE)","v":0},{"$f":"VLOOKUP($A18,'４月集金一覧'!$A$4:$H$44,E$2,FALSE)","v":0},{"$f":"VLOOKUP($A18,'４月集金一覧'!$A$4:$H$44,F$2,FALSE)","v":0},{"$f":"VLOOKUP($A18,'４月集金一覧'!$A$4:$H$44,G$2,FALSE)","v":0},null,30,{"$f":"VLOOKUP($I18,'４月集金一覧'!$A$4:$H$44,J$2,FALSE)","v":0},{"$f":"VLOOKUP($I18,'４月集金一覧'!$A$4:$H$44,K$2,FALSE)","v":0},{"$f":"VLOOKUP($I18,'４月集金一覧'!$A$4:$H$44,L$2,FALSE)","v":0},{"$f":"VLOOKUP($I18,'４月集金一覧'!$A$4:$H$44,M$2,FALSE)","v":0},{"$f":"VLOOKUP($I18,'４月集金一覧'!$A$4:$H$44,N$2,FALSE)","v":0},{"$f":"VLOOKUP($I18,'４月集金一覧'!$A$4:$H$44,O$2,FALSE)","v":0}]
["番号",{"$f":"IF('４月集金一覧'!C$4=\"\",\"\",'４月集金一覧'!C$4)","v":""},{"$f":"IF('４月集金一覧'!D$4=\"\",\"\",'４月集金一覧'!D$4)","v":""},{"$f":"IF('４月集金一覧'!E$4=\"\",\"\",'４月集金一覧'!E$4)","v":""},{"$f":"IF('４月集金一覧'!F$4=\"\",\"\",'４月集金一覧'!F$4)","v":""},{"$f":"IF('４月集金一覧'!G$4=\"\",\"\",'４月集金一覧'!G$4)","v":""},"個人計",null,"番号",{"$f":"IF('４月集金一覧'!C$4=\"\",\"\",'４月集金一覧'!C$4)","v":""},{"$f":"IF('４月集金一覧'!D$4=\"\",\"\",'４月集金一覧'!D$4)","v":""},{"$f":"IF('４月集金一覧'!E$4=\"\",\"\",'４月集金一覧'!E$4)","v":""},{"$f":"IF('４月集金一覧'!F$4=\"\",\"\",'４月集金一覧'!F$4)","v":""},{"$f":"IF('４月集金一覧'!G$4=\"\",\"\",'４月集金一覧'!G$4)","v":""},"個人計"]
[9,{"$f":"VLOOKUP($A20,'４月集金一覧'!$A$4:$H$44,B$2,FALSE)","v":0},{"$f":"VLOOKUP($A20,'４月集金一覧'!$A$4:$H$44,C$2,FALSE)","v":0},{"$f":"VLOOKUP($A20,'４月集金一覧'!$A$4:$H$44,D$2,FALSE)","v":0},{"$f":"VLOOKUP($A20,'４月集金一覧'!$A$4:$H$44,E$2,FALSE)","v":0},{"$f":"VLOOKUP($A20,'４月集金一覧'!$A$4:$H$44,F$2,FALSE)","v":0},{"$f":"VLOOKUP($A20,'４月集金一覧'!$A$4:$H$44,G$2,FALSE)","v":0},null,31,{"$f":"VLOOKUP($I20,'４月集金一覧'!$A$4:$H$44,J$2,FALSE)","v":0},{"$f":"VLOOKUP($I20,'４月集金一覧'!$A$4:$H$44,K$2,FALSE)","v":0},{"$f":"VLOOKUP($I20,'４月集金一覧'!$A$4:$H$44,L$2,FALSE)","v":0},{"$f":"VLOOKUP($I20,'４月集金一覧'!$A$4:$H$44,M$2,FALSE)","v":0},{"$f":"VLOOKUP($I20,'４月集金一覧'!$A$4:$H$44,N$2,FALSE)","v":0},{"$f":"VLOOKUP($I20,'４月集金一覧'!$A$4:$H$44,O$2,FALSE)","v":0}]
["番号",{"$f":"IF('４月集金一覧'!C$4=\"\",\"\",'４月集金一覧'!C$4)","v":""},{"$f":"IF('４月集金一覧'!D$4=\"\",\"\",'４月集金一覧'!D$4)","v":""},{"$f":"IF('４月集金一覧'!E$4=\"\",\"\",'４月集金一覧'!E$4)","v":""},{"$f":"IF('４月集金一覧'!F$4=\"\",\"\",'４月集金一覧'!F$4)","v":""},{"$f":"IF('４月集金一覧'!G$4=\"\",\"\",'４月集金一覧'!G$4)","v":""},"個人計",null,"番号",{"$f":"IF('４月集金一覧'!C$4=\"\",\"\",'４月集金一覧'!C$4)","v":""},{"$f":"IF('４月集金一覧'!D$4=\"\",\"\",'４月集金一覧'!D$4)","v":""},{"$f":"IF('４月集金一覧'!E$4=\"\",\"\",'４月集金一覧'!E$4)","v":""},{"$f":"IF('４月集金一覧'!F$4=\"\",\"\",'４月集金一覧'!F$4)","v":""},{"$f":"IF('４月集金一覧'!G$4=\"\",\"\",'４月集金一覧'!G$4)","v":""},"個人計"]
[10,{"$f":"VLOOKUP($A22,'４月集金一覧'!$A$4:$H$44,B$2,FALSE)","v":0},{"$f":"VLOOKUP($A22,'４月集金一覧'!$A$4:$H$44,C$2,FALSE)","v":0},{"$f":"VLOOKUP($A22,'４月集金一覧'!$A$4:$H$44,D$2,FALSE)","v":0},{"$f":"VLOOKUP($A22,'４月集金一覧'!$A$4:$H$44,E$2,FALSE)","v":0},{"$f":"VLOOKUP($A22,'４月集金一覧'!$A$4:$H$44,F$2,FALSE)","v":0},{"$f":"VLOOKUP($A22,'４月集金一覧'!$A$4:$H$44,G$2,FALSE)","v":0},null,32,{"$f":"VLOOKUP($I22,'４月集金一覧'!$A$4:$H$44,J$2,FALSE)","v":0},{"$f":"VLOOKUP($I22,'４月集金一覧'!$A$4:$H$44,K$2,FALSE)","v":0},{"$f":"VLOOKUP($I22,'４月集金一覧'!$A$4:$H$44,L$2,FALSE)","v":0},{"$f":"VLOOKUP($I22,'４月集金一覧'!$A$4:$H$44,M$2,FALSE)","v":0},{"$f":"VLOOKUP($I22,'４月集金一覧'!$A$4:$H$44,N$2,FALSE)","v":0},{"$f":"VLOOKUP($I22,'４月集金一覧'!$A$4:$H$44,O$2,FALSE)","v":0}]
["番号",{"$f":"IF('４月集金一覧'!C$4=\"\",\"\",'４月集金一覧'!C$4)","v":""},{"$f":"IF('４月集金一覧'!D$4=\"\",\"\",'４月集金一覧'!D$4)","v":""},{"$f":"IF('４月集金一覧'!E$4=\"\",\"\",'４月集金一覧'!E$4)","v":""},{"$f":"IF('４月集金一覧'!F$4=\"\",\"\",'４月集金一覧'!F$4)","v":""},{"$f":"IF('４月集金一覧'!G$4=\"\",\"\",'４月集金一覧'!G$4)","v":""},"個人計",null,"番号",{"$f":"IF('４月集金一覧'!C$4=\"\",\"\",'４月集金一覧'!C$4)","v":""},{"$f":"IF('４月集金一覧'!D$4=\"\",\"\",'４月集金一覧'!D$4)","v":""},{"$f":"IF('４月集金一覧'!E$4=\"\",\"\",'４月集金一覧'!E$4)","v":""},{"$f":"IF('４月集金一覧'!F$4=\"\",\"\",'４月集金一覧'!F$4)","v":""},{"$f":"IF('４月集金一覧'!G$4=\"\",\"\",'４月集金一覧'!G$4)","v":""},"個人計"]
[11,{"$f":"VLOOKUP($A24,'４月集金一覧'!$A$4:$H$44,B$2,FALSE)","v":0},{"$f":"VLOOKUP($A24,'４月集金一覧'!$A$4:$H$44,C$2,FALSE)","v":0},{"$f":"VLOOKUP($A24,'４月集金一覧'!$A$4:$H$44,D$2,FALSE)","v":0},{"$f":"VLOOKUP($A24,'４月集金一覧'!$A$4:$H$44,E$2,FALSE)","v":0},{"$f":"VLOOKUP($A24,'４月集金一覧'!$A$4:$H$44,F$2,FALSE)","v":0},{"$f":"VLOOKUP($A24,'４月集金一覧'!$A$4:$H$44,G$2,FALSE)","v":0},null,33,{"$f":"VLOOKUP($I24,'４月集金一覧'!$A$4:$H$44,J$2,FALSE)","v":0},{"$f":"VLOOKUP($I24,'４月集金一覧'!$A$4:$H$44,K$2,FALSE)","v":0},{"$f":"VLOOKUP($I24,'４月集金一覧'!$A$4:$H$44,L$2,FALSE)","v":0},{"$f":"VLOOKUP($I24,'４月集金一覧'!$A$4:$H$44,M$2,FALSE)","v":0},{"$f":"VLOOKUP($I24,'４月集金一覧'!$A$4:$H$44,N$2,FALSE)","v":0},{"$f":"VLOOKUP($I24,'４月集金一覧'!$A$4:$H$44,O$2,FALSE)","v":0}]
["番号",{"$f":"IF('４月集金一覧'!C$4=\"\",\"\",'４月集金一覧'!C$4)","v":""},{"$f":"IF('４月集金一覧'!D$4=\"\",\"\",'４月集金一覧'!D$4)","v":""},{"$f":"IF('４月集金一覧'!E$4=\"\",\"\",'４月集金一覧'!E$4)","v":""},{"$f":"IF('４月集金一覧'!F$4=\"\",\"\",'４月集金一覧'!F$4)","v":""},{"$f":"IF('４月集金一覧'!G$4=\"\",\"\",'４月集金一覧'!G$4)","v":""},"個人計",null,"番号",{"$f":"IF('４月集金一覧'!C$4=\"\",\"\",'４月集金一覧'!C$4)","v":""},{"$f":"IF('４月集金一覧'!D$4=\"\",\"\",'４月集金一覧'!D$4)","v":""},{"$f":"IF('４月集金一覧'!E$4=\"\",\"\",'４月集金一覧'!E$4)","v":""},{"$f":"IF('４月集金一覧'!F$4=\"\",\"\",'４月集金一覧'!F$4)","v":""},{"$f":"IF('４月集金一覧'!G$4=\"\",\"\",'４月集金一覧'!G$4)","v":""},"個人計"]
[12,{"$f":"VLOOKUP($A26,'４月集金一覧'!$A$4:$H$44,B$2,FALSE)","v":0},{"$f":"VLOOKUP($A26,'４月集金一覧'!$A$4:$H$44,C$2,FALSE)","v":0},{"$f":"VLOOKUP($A26,'４月集金一覧'!$A$4:$H$44,D$2,FALSE)","v":0},{"$f":"VLOOKUP($A26,'４月集金一覧'!$A$4:$H$44,E$2,FALSE)","v":0},{"$f":"VLOOKUP($A26,'４月集金一覧'!$A$4:$H$44,F$2,FALSE)","v":0},{"$f":"VLOOKUP($A26,'４月集金一覧'!$A$4:$H$44,G$2,FALSE)","v":0},null,34,{"$f":"VLOOKUP($I26,'４月集金一覧'!$A$4:$H$44,J$2,FALSE)","v":0},{"$f":"VLOOKUP($I26,'４月集金一覧'!$A$4:$H$44,K$2,FALSE)","v":0},{"$f":"VLOOKUP($I26,'４月集金一覧'!$A$4:$H$44,L$2,FALSE)","v":0},{"$f":"VLOOKUP($I26,'４月集金一覧'!$A$4:$H$44,M$2,FALSE)","v":0},{"$f":"VLOOKUP($I26,'４月集金一覧'!$A$4:$H$44,N$2,FALSE)","v":0},{"$f":"VLOOKUP($I26,'４月集金一覧'!$A$4:$H$44,O$2,FALSE)","v":0}]
["番号",{"$f":"IF('４月集金一覧'!C$4=\"\",\"\",'４月集金一覧'!C$4)","v":""},{"$f":"IF('４月集金一覧'!D$4=\"\",\"\",'４月集金一覧'!D$4)","v":""},{"$f":"IF('４月集金一覧'!E$4=\"\",\"\",'４月集金一覧'!E$4)","v":""},{"$f":"IF('４月集金一覧'!F$4=\"\",\"\",'４月集金一覧'!F$4)","v":""},{"$f":"IF('４月集金一覧'!G$4=\"\",\"\",'４月集金一覧'!G$4)","v":""},"個人計",null,"番号",{"$f":"IF('４月集金一覧'!C$4=\"\",\"\",'４月集金一覧'!C$4)","v":""},{"$f":"IF('４月集金一覧'!D$4=\"\",\"\",'４月集金一覧'!D$4)","v":""},{"$f":"IF('４月集金一覧'!E$4=\"\",\"\",'４月集金一覧'!E$4)","v":""},{"$f":"IF('４月集金一覧'!F$4=\"\",\"\",'４月集金一覧'!F$4)","v":""},{"$f":"IF('４月集金一覧'!G$4=\"\",\"\",'４月集金一覧'!G$4)","v":""},"個人計"]
[13,{"$f":"VLOOKUP($A28,'４月集金一覧'!$A$4:$H$44,B$2,FALSE)","v":0},{"$f":"VLOOKUP($A28,'４月集金一覧'!$A$4:$H$44,C$2,FALSE)","v":0},{"$f":"VLOOKUP($A28,'４月集金一覧'!$A$4:$H$44,D$2,FALSE)","v":0},{"$f":"VLOOKUP($A28,'４月集金一覧'!$A$4:$H$44,E$2,FALSE)","v":0},{"$f":"VLOOKUP($A28,'４月集金一覧'!$A$4:$H$44,F$2,FALSE)","v":0},{"$f":"VLOOKUP($A28,'４月集金一覧'!$A$4:$H$44,G$2,FALSE)","v":0},null,35,{"$f":"VLOOKUP($I28,'４月集金一覧'!$A$4:$H$44,J$2,FALSE)","v":0},{"$f":"VLOOKUP($I28,'４月集金一覧'!$A$4:$H$44,K$2,FALSE)","v":0},{"$f":"VLOOKUP($I28,'４月集金一覧'!$A$4:$H$44,L$2,FALSE)","v":0},{"$f":"VLOOKUP($I28,'４月集金一覧'!$A$4:$H$44,M$2,FALSE)","v":0},{"$f":"VLOOKUP($I28,'４月集金一覧'!$A$4:$H$44,N$2,FALSE)","v":0},{"$f":"VLOOKUP($I28,'４月集金一覧'!$A$4:$H$44,O$2,FALSE)","v":0}]
["番号",{"$f":"IF('４月集金一覧'!C$4=\"\",\"\",'４月集金一覧'!C$4)","v":""},{"$f":"IF('４月集金一覧'!D$4=\"\",\"\",'４月集金一覧'!D$4)","v":""},{"$f":"IF('４月集金一覧'!E$4=\"\",\"\",'４月集金一覧'!E$4)","v":""},{"$f":"IF('４月集金一覧'!F$4=\"\",\"\",'４月集金一覧'!F$4)","v":""},{"$f":"IF('４月集金一覧'!G$4=\"\",\"\",'４月集金一覧'!G$4)","v":""},"個人計",null,"番号",{"$f":"IF('４月集金一覧'!C$4=\"\",\"\",'４月集金一覧'!C$4)","v":""},{"$f":"IF('４月集金一覧'!D$4=\"\",\"\",'４月集金一覧'!D$4)","v":""},{"$f":"IF('４月集金一覧'!E$4=\"\",\"\",'４月集金一覧'!E$4)","v":""},{"$f":"IF('４月集金一覧'!F$4=\"\",\"\",'４月集金一覧'!F$4)","v":""},{"$f":"IF('４月集金一覧'!G$4=\"\",\"\",'４月集金一覧'!G$4)","v":""},"個人計"]
[14,{"$f":"VLOOKUP($A30,'４月集金一覧'!$A$4:$H$44,B$2,FALSE)","v":0},{"$f":"VLOOKUP($A30,'４月集金一覧'!$A$4:$H$44,C$2,FALSE)","v":0},{"$f":"VLOOKUP($A30,'４月集金一覧'!$A$4:$H$44,D$2,FALSE)","v":0},{"$f":"VLOOKUP($A30,'４月集金一覧'!$A$4:$H$44,E$2,FALSE)","v":0},{"$f":"VLOOKUP($A30,'４月集金一覧'!$A$4:$H$44,F$2,FALSE)","v":0},{"$f":"VLOOKUP($A30,'４月集金一覧'!$A$4:$H$44,G$2,FALSE)","v":0},null,36,{"$f":"VLOOKUP($I30,'４月集金一覧'!$A$4:$H$44,J$2,FALSE)","v":0},{"$f":"VLOOKUP($I30,'４月集金一覧'!$A$4:$H$44,K$2,FALSE)","v":0},{"$f":"VLOOKUP($I30,'４月集金一覧'!$A$4:$H$44,L$2,FALSE)","v":0},{"$f":"VLOOKUP($I30,'４月集金一覧'!$A$4:$H$44,M$2,FALSE)","v":0},{"$f":"VLOOKUP($I30,'４月集金一覧'!$A$4:$H$44,N$2,FALSE)","v":0},{"$f":"VLOOKUP($I30,'４月集金一覧'!$A$4:$H$44,O$2,FALSE)","v":0}]
["番号",{"$f":"IF('４月集金一覧'!C$4=\"\",\"\",'４月集金一覧'!C$4)","v":""},{"$f":"IF('４月集金一覧'!D$4=\"\",\"\",'４月集金一覧'!D$4)","v":""},{"$f":"IF('４月集金一覧'!E$4=\"\",\"\",'４月集金一覧'!E$4)","v":""},{"$f":"IF('４月集金一覧'!F$4=\"\",\"\",'４月集金一覧'!F$4)","v":""},{"$f":"IF('４月集金一覧'!G$4=\"\",\"\",'４月集金一覧'!G$4)","v":""},"個人計",null,"番号",{"$f":"IF('４月集金一覧'!C$4=\"\",\"\",'４月集金一覧'!C$4)","v":""},{"$f":"IF('４月集金一覧'!D$4=\"\",\"\",'４月集金一覧'!D$4)","v":""},{"$f":"IF('４月集金一覧'!E$4=\"\",\"\",'４月集金一覧'!E$4)","v":""},{"$f":"IF('４月集金一覧'!F$4=\"\",\"\",'４月集金一覧'!F$4)","v":""},{"$f":"IF('４月集金一覧'!G$4=\"\",\"\",'４月集金一覧'!G$4)","v":""},"個人計"]
[15,{"$f":"VLOOKUP($A32,'４月集金一覧'!$A$4:$H$44,B$2,FALSE)","v":0},{"$f":"VLOOKUP($A32,'４月集金一覧'!$A$4:$H$44,C$2,FALSE)","v":0},{"$f":"VLOOKUP($A32,'４月集金一覧'!$A$4:$H$44,D$2,FALSE)","v":0},{"$f":"VLOOKUP($A32,'４月集金一覧'!$A$4:$H$44,E$2,FALSE)","v":0},{"$f":"VLOOKUP($A32,'４月集金一覧'!$A$4:$H$44,F$2,FALSE)","v":0},{"$f":"VLOOKUP($A32,'４月集金一覧'!$A$4:$H$44,G$2,FALSE)","v":0},null,37,{"$f":"VLOOKUP($I32,'４月集金一覧'!$A$4:$H$44,J$2,FALSE)","v":0},{"$f":"VLOOKUP($I32,'４月集金一覧'!$A$4:$H$44,K$2,FALSE)","v":0},{"$f":"VLOOKUP($I32,'４月集金一覧'!$A$4:$H$44,L$2,FALSE)","v":0},{"$f":"VLOOKUP($I32,'４月集金一覧'!$A$4:$H$44,M$2,FALSE)","v":0},{"$f":"VLOOKUP($I32,'４月集金一覧'!$A$4:$H$44,N$2,FALSE)","v":0},{"$f":"VLOOKUP($I32,'４月集金一覧'!$A$4:$H$44,O$2,FALSE)","v":0}]
["番号",{"$f":"IF('４月集金一覧'!C$4=\"\",\"\",'４月集金一覧'!C$4)","v":""},{"$f":"IF('４月集金一覧'!D$4=\"\",\"\",'４月集金一覧'!D$4)","v":""},{"$f":"IF('４月集金一覧'!E$4=\"\",\"\",'４月集金一覧'!E$4)","v":""},{"$f":"IF('４月集金一覧'!F$4=\"\",\"\",'４月集金一覧'!F$4)","v":""},{"$f":"IF('４月集金一覧'!G$4=\"\",\"\",'４月集金一覧'!G$4)","v":""},"個人計",null,"番号",{"$f":"IF('４月集金一覧'!C$4=\"\",\"\",'４月集金一覧'!C$4)","v":""},{"$f":"IF('４月集金一覧'!D$4=\"\",\"\",'４月集金一覧'!D$4)","v":""},{"$f":"IF('４月集金一覧'!E$4=\"\",\"\",'４月集金一覧'!E$4)","v":""},{"$f":"IF('４月集金一覧'!F$4=\"\",\"\",'４月集金一覧'!F$4)","v":""},{"$f":"IF('４月集金一覧'!G$4=\"\",\"\",'４月集金一覧'!G$4)","v":""},"個人計"]
[16,{"$f":"VLOOKUP($A34,'４月集金一覧'!$A$4:$H$44,B$2,FALSE)","v":0},{"$f":"VLOOKUP($A34,'４月集金一覧'!$A$4:$H$44,C$2,FALSE)","v":0},{"$f":"VLOOKUP($A34,'４月集金一覧'!$A$4:$H$44,D$2,FALSE)","v":0},{"$f":"VLOOKUP($A34,'４月集金一覧'!$A$4:$H$44,E$2,FALSE)","v":0},{"$f":"VLOOKUP($A34,'４月集金一覧'!$A$4:$H$44,F$2,FALSE)","v":0},{"$f":"VLOOKUP($A34,'４月集金一覧'!$A$4:$H$44,G$2,FALSE)","v":0},null,38,{"$f":"VLOOKUP($I34,'４月集金一覧'!$A$4:$H$44,J$2,FALSE)","v":0},{"$f":"VLOOKUP($I34,'４月集金一覧'!$A$4:$H$44,K$2,FALSE)","v":0},{"$f":"VLOOKUP($I34,'４月集金一覧'!$A$4:$H$44,L$2,FALSE)","v":0},{"$f":"VLOOKUP($I34,'４月集金一覧'!$A$4:$H$44,M$2,FALSE)","v":0},{"$f":"VLOOKUP($I34,'４月集金一覧'!$A$4:$H$44,N$2,FALSE)","v":0},{"$f":"VLOOKUP($I34,'４月集金一覧'!$A$4:$H$44,O$2,FALSE)","v":0}]
["番号",{"$f":"IF('４月集金一覧'!C$4=\"\",\"\",'４月集金一覧'!C$4)","v":""},{"$f":"IF('４月集金一覧'!D$4=\"\",\"\",'４月集金一覧'!D$4)","v":""},{"$f":"IF('４月集金一覧'!E$4=\"\",\"\",'４月集金一覧'!E$4)","v":""},{"$f":"IF('４月集金一覧'!F$4=\"\",\"\",'４月集金一覧'!F$4)","v":""},{"$f":"IF('４月集金一覧'!G$4=\"\",\"\",'４月集金一覧'!G$4)","v":""},"個人計",null,"番号",{"$f":"IF('４月集金一覧'!C$4=\"\",\"\",'４月集金一覧'!C$4)","v":""},{"$f":"IF('４月集金一覧'!D$4=\"\",\"\",'４月集金一覧'!D$4)","v":""},{"$f":"IF('４月集金一覧'!E$4=\"\",\"\",'４月集金一覧'!E$4)","v":""},{"$f":"IF('４月集金一覧'!F$4=\"\",\"\",'４月集金一覧'!F$4)","v":""},{"$f":"IF('４月集金一覧'!G$4=\"\",\"\",'４月集金一覧'!G$4)","v":""},"個人計"]
[17,{"$f":"VLOOKUP($A36,'４月集金一覧'!$A$4:$H$44,B$2,FALSE)","v":0},{"$f":"VLOOKUP($A36,'４月集金一覧'!$A$4:$H$44,C$2,FALSE)","v":0},{"$f":"VLOOKUP($A36,'４月集金一覧'!$A$4:$H$44,D$2,FALSE)","v":0},{"$f":"VLOOKUP($A36,'４月集金一覧'!$A$4:$H$44,E$2,FALSE)","v":0},{"$f":"VLOOKUP($A36,'４月集金一覧'!$A$4:$H$44,F$2,FALSE)","v":0},{"$f":"VLOOKUP($A36,'４月集金一覧'!$A$4:$H$44,G$2,FALSE)","v":0},null,39,{"$f":"VLOOKUP($I36,'４月集金一覧'!$A$4:$H$44,J$2,FALSE)","v":0},{"$f":"VLOOKUP($I36,'４月集金一覧'!$A$4:$H$44,K$2,FALSE)","v":0},{"$f":"VLOOKUP($I36,'４月集金一覧'!$A$4:$H$44,L$2,FALSE)","v":0},{"$f":"VLOOKUP($I36,'４月集金一覧'!$A$4:$H$44,M$2,FALSE)","v":0},{"$f":"VLOOKUP($I36,'４月集金一覧'!$A$4:$H$44,N$2,FALSE)","v":0},{"$f":"VLOOKUP($I36,'４月集金一覧'!$A$4:$H$44,O$2,FALSE)","v":0}]
["番号",{"$f":"IF('４月集金一覧'!C$4=\"\",\"\",'４月集金一覧'!C$4)","v":""},{"$f":"IF('４月集金一覧'!D$4=\"\",\"\",'４月集金一覧'!D$4)","v":""},{"$f":"IF('４月集金一覧'!E$4=\"\",\"\",'４月集金一覧'!E$4)","v":""},{"$f":"IF('４月集金一覧'!F$4=\"\",\"\",'４月集金一覧'!F$4)","v":""},{"$f":"IF('４月集金一覧'!G$4=\"\",\"\",'４月集金一覧'!G$4)","v":""},"個人計",null,"番号",{"$f":"IF('４月集金一覧'!C$4=\"\",\"\",'４月集金一覧'!C$4)","v":""},{"$f":"IF('４月集金一覧'!D$4=\"\",\"\",'４月集金一覧'!D$4)","v":""},{"$f":"IF('４月集金一覧'!E$4=\"\",\"\",'４月集金一覧'!E$4)","v":""},{"$f":"IF('４月集金一覧'!F$4=\"\",\"\",'４月集金一覧'!F$4)","v":""},{"$f":"IF('４月集金一覧'!G$4=\"\",\"\",'４月集金一覧'!G$4)","v":""},"個人計"]
[18,{"$f":"VLOOKUP($A38,'４月集金一覧'!$A$4:$H$44,B$2,FALSE)","v":0},{"$f":"VLOOKUP($A38,'４月集金一覧'!$A$4:$H$44,C$2,FALSE)","v":0},{"$f":"VLOOKUP($A38,'４月集金一覧'!$A$4:$H$44,D$2,FALSE)","v":0},{"$f":"VLOOKUP($A38,'４月集金一覧'!$A$4:$H$44,E$2,FALSE)","v":0},{"$f":"VLOOKUP($A38,'４月集金一覧'!$A$4:$H$44,F$2,FALSE)","v":0},{"$f":"VLOOKUP($A38,'４月集金一覧'!$A$4:$H$44,G$2,FALSE)","v":0},null,40,{"$f":"VLOOKUP($I38,'４月集金一覧'!$A$4:$H$44,J$2,FALSE)","v":0},{"$f":"VLOOKUP($I38,'４月集金一覧'!$A$4:$H$44,K$2,FALSE)","v":0},{"$f":"VLOOKUP($I38,'４月集金一覧'!$A$4:$H$44,L$2,FALSE)","v":0},{"$f":"VLOOKUP($I38,'４月集金一覧'!$A$4:$H$44,M$2,FALSE)","v":0},{"$f":"VLOOKUP($I38,'４月集金一覧'!$A$4:$H$44,N$2,FALSE)","v":0},{"$f":"VLOOKUP($I38,'４月集金一覧'!$A$4:$H$44,O$2,FALSE)","v":0}]
["番号",{"$f":"IF('４月集金一覧'!C$4=\"\",\"\",'４月集金一覧'!C$4)","v":""},{"$f":"IF('４月集金一覧'!D$4=\"\",\"\",'４月集金一覧'!D$4)","v":""},{"$f":"IF('４月集金一覧'!E$4=\"\",\"\",'４月集金一覧'!E$4)","v":""},{"$f":"IF('４月集金一覧'!F$4=\"\",\"\",'４月集金一覧'!F$4)","v":""},{"$f":"IF('４月集金一覧'!G$4=\"\",\"\",'４月集金一覧'!G$4)","v":""},"個人計"]
[19,{"$f":"VLOOKUP($A40,'４月集金一覧'!$A$4:$H$44,B$2,FALSE)","v":0},{"$f":"VLOOKUP($A40,'４月集金一覧'!$A$4:$H$44,C$2,FALSE)","v":0},{"$f":"VLOOKUP($A40,'４月集金一覧'!$A$4:$H$44,D$2,FALSE)","v":0},{"$f":"VLOOKUP($A40,'４月集金一覧'!$A$4:$H$44,E$2,FALSE)","v":0},{"$f":"VLOOKUP($A40,'４月集金一覧'!$A$4:$H$44,F$2,FALSE)","v":0},{"$f":"VLOOKUP($A40,'４月集金一覧'!$A$4:$H$44,G$2,FALSE)","v":0}]
["番号",{"$f":"IF('４月集金一覧'!C$4=\"\",\"\",'４月集金一覧'!C$4)","v":""},{"$f":"IF('４月集金一覧'!D$4=\"\",\"\",'４月集金一覧'!D$4)","v":""},{"$f":"IF('４月集金一覧'!E$4=\"\",\"\",'４月集金一覧'!E$4)","v":""},{"$f":"IF('４月集金一覧'!F$4=\"\",\"\",'４月集金一覧'!F$4)","v":""},{"$f":"IF('４月集金一覧'!G$4=\"\",\"\",'４月集金一覧'!G$4)","v":""},"個人計"]
[20,{"$f":"VLOOKUP($A42,'４月集金一覧'!$A$4:$H$44,B$2,FALSE)","v":0},{"$f":"VLOOKUP($A42,'４月集金一覧'!$A$4:$H$44,C$2,FALSE)","v":0},{"$f":"VLOOKUP($A42,'４月集金一覧'!$A$4:$H$44,D$2,FALSE)","v":0},{"$f":"VLOOKUP($A42,'４月集金一覧'!$A$4:$H$44,E$2,FALSE)","v":0},{"$f":"VLOOKUP($A42,'４月集金一覧'!$A$4:$H$44,F$2,FALSE)","v":0},{"$f":"VLOOKUP($A42,'４月集金一覧'!$A$4:$H$44,G$2,FALSE)","v":0}]
["番号",{"$f":"IF('４月集金一覧'!C$4=\"\",\"\",'４月集金一覧'!C$4)","v":""},{"$f":"IF('４月集金一覧'!D$4=\"\",\"\",'４月集金一覧'!D$4)","v":""},{"$f":"IF('４月集金一覧'!E$4=\"\",\"\",'４月集金一覧'!E$4)","v":""},{"$f":"IF('４月集金一覧'!F$4=\"\",\"\",'４月集金一覧'!F$4)","v":""},{"$f":"IF('４月集金一覧'!G$4=\"\",\"\",'４月集金一覧'!G$4)","v":""},"個人計"]
[21,{"$f":"VLOOKUP($A44,'４月集金一覧'!$A$4:$H$44,B$2,FALSE)","v":0},{"$f":"VLOOKUP($A44,'４月集金一覧'!$A$4:$H$44,C$2,FALSE)","v":0},{"$f":"VLOOKUP($A44,'４月集金一覧'!$A$4:$H$44,D$2,FALSE)","v":0},{"$f":"VLOOKUP($A44,'４月集金一覧'!$A$4:$H$44,E$2,FALSE)","v":0},{"$f":"VLOOKUP($A44,'４月集金一覧'!$A$4:$H$44,F$2,FALSE)","v":0},{"$f":"VLOOKUP($A44,'４月集金一覧'!$A$4:$H$44,G$2,FALSE)","v":0}]
["番号",{"$f":"IF('４月集金一覧'!C$4=\"\",\"\",'４月集金一覧'!C$4)","v":""},{"$f":"IF('４月集金一覧'!D$4=\"\",\"\",'４月集金一覧'!D$4)","v":""},{"$f":"IF('４月集金一覧'!E$4=\"\",\"\",'４月集金一覧'!E$4)","v":""},{"$f":"IF('４月集金一覧'!F$4=\"\",\"\",'４月集金一覧'!F$4)","v":""},{"$f":"IF('４月集金一覧'!G$4=\"\",\"\",'４月集金一覧'!G$4)","v":""},"個人計"]
[22,{"$f":"VLOOKUP($A46,'４月集金一覧'!$A$4:$H$44,B$2,FALSE)","v":0},{"$f":"VLOOKUP($A46,'４月集金一覧'!$A$4:$H$44,C$2,FALSE)","v":0},{"$f":"VLOOKUP($A46,'４月集金一覧'!$A$4:$H$44,D$2,FALSE)","v":0},{"$f":"VLOOKUP($A46,'４月集金一覧'!$A$4:$H$44,E$2,FALSE)","v":0},{"$f":"VLOOKUP($A46,'４月集金一覧'!$A$4:$H$44,F$2,FALSE)","v":0},{"$f":"VLOOKUP($A46,'４月集金一覧'!$A$4:$H$44,G$2,FALSE)","v":0}]

{"sheet":"5月個票","index":24,"n_rows":46,"n_cols":15,"rows_kept":46,"cut":false,"hidden":false,"merged":[]}
[null,"令和",{"$f":"メイン!D7","v":0},"年度",{"$f":"メイン!C8","v":0},"年",{"$f":"メイン!E8","v":0},"組"]
[1,3,4,5,6,7,8,null,1,3,4,5,6,7,8]
["番号",{"$f":"IF('５月集金一覧'!C$4=\"\",\"\",'５月集金一覧'!C$4)","v":""},{"$f":"IF('５月集金一覧'!$D$4=\"\",\"\",'５月集金一覧'!D$4)","v":""},{"$f":"IF('５月集金一覧'!E$4=\"\",\"\",'５月集金一覧'!E$4)","v":""},{"$f":"IF('５月集金一覧'!F$4=\"\",\"\",'５月集金一覧'!F$4)","v":""},{"$f":"IF('５月集金一覧'!G$4=\"\",\"\",'５月集金一覧'!G$4)","v":""},"個人計",null,"番号",{"$f":"IF('５月集金一覧'!C$4=\"\",\"\",'５月集金一覧'!C$4)","v":""},{"$f":"IF('５月集金一覧'!D$4=\"\",\"\",'５月集金一覧'!D$4)","v":""},{"$f":"IF('５月集金一覧'!E$4=\"\",\"\",'５月集金一覧'!E$4)","v":""},{"$f":"IF('５月集金一覧'!F$4=\"\",\"\",'５月集金一覧'!F$4)","v":""},{"$f":"IF('５月集金一覧'!G$4=\"\",\"\",'５月集金一覧'!G$4)","v":""},"個人計"]
[1,{"$f":"VLOOKUP($A4,'５月集金一覧'!$A$4:$H$44,B$2,FALSE)","v":0},{"$f":"VLOOKUP($A4,'５月集金一覧'!$A$4:$H$44,C$2,FALSE)","v":0},{"$f":"VLOOKUP($A4,'５月集金一覧'!$A$4:$H$44,D$2,FALSE)","v":0},{"$f":"VLOOKUP($A4,'５月集金一覧'!$A$4:$H$44,E$2,FALSE)","v":0},{"$f":"VLOOKUP($A4,'５月集金一覧'!$A$4:$H$44,F$2,FALSE)","v":0},{"$f":"VLOOKUP($A4,'５月集金一覧'!$A$4:$H$44,G$2,FALSE)","v":0},null,23,{"$f":"VLOOKUP($I4,'５月集金一覧'!$A$4:$H$44,J$2,FALSE)","v":0},{"$f":"VLOOKUP($I4,'５月集金一覧'!$A$4:$H$44,K$2,FALSE)","v":0},{"$f":"VLOOKUP($I4,'５月集金一覧'!$A$4:$H$44,L$2,FALSE)","v":0},{"$f":"VLOOKUP($I4,'５月集金一覧'!$A$4:$H$44,M$2,FALSE)","v":0},{"$f":"VLOOKUP($I4,'５月集金一覧'!$A$4:$H$44,N$2,FALSE)","v":0},{"$f":"VLOOKUP($I4,'５月集金一覧'!$A$4:$H$44,O$2,FALSE)","v":0}]
["番号",{"$f":"IF('５月集金一覧'!C$4=\"\",\"\",'５月集金一覧'!C$4)","v":""},{"$f":"IF('５月集金一覧'!D$4=\"\",\"\",'５月集金一覧'!D$4)","v":""},{"$f":"IF('５月集金一覧'!E$4=\"\",\"\",'５月集金一覧'!E$4)","v":""},{"$f":"IF('５月集金一覧'!F$4=\"\",\"\",'５月集金一覧'!F$4)","v":""},{"$f":"IF('５月集金一覧'!G$4=\"\",\"\",'５月集金一覧'!G$4)","v":""},"個人計",null,"番号",{"$f":"IF('５月集金一覧'!C$4=\"\",\"\",'５月集金一覧'!C$4)","v":""},{"$f":"IF('５月集金一覧'!D$4=\"\",\"\",'５月集金一覧'!D$4)","v":""},{"$f":"IF('５月集金一覧'!E$4=\"\",\"\",'５月集金一覧'!E$4)","v":""},{"$f":"IF('５月集金一覧'!F$4=\"\",\"\",'５月集金一覧'!F$4)","v":""},{"$f":"IF('５月集金一覧'!G$4=\"\",\"\",'５月集金一覧'!G$4)","v":""},"個人計"]
[2,{"$f":"VLOOKUP($A6,'５月集金一覧'!$A$4:$H$44,B$2,FALSE)","v":0},{"$f":"VLOOKUP($A6,'５月集金一覧'!$A$4:$H$44,C$2,FALSE)","v":0},{"$f":"VLOOKUP($A6,'５月集金一覧'!$A$4:$H$44,D$2,FALSE)","v":0},{"$f":"VLOOKUP($A6,'５月集金一覧'!$A$4:$H$44,E$2,FALSE)","v":0},{"$f":"VLOOKUP($A6,'５月集金一覧'!$A$4:$H$44,F$2,FALSE)","v":0},{"$f":"VLOOKUP($A6,'５月集金一覧'!$A$4:$H$44,G$2,FALSE)","v":0},null,24,{"$f":"VLOOKUP($I6,'５月集金一覧'!$A$4:$H$44,J$2,FALSE)","v":0},{"$f":"VLOOKUP($I6,'５月集金一覧'!$A$4:$H$44,K$2,FALSE)","v":0},{"$f":"VLOOKUP($I6,'５月集金一覧'!$A$4:$H$44,L$2,FALSE)","v":0},{"$f":"VLOOKUP($I6,'５月集金一覧'!$A$4:$H$44,M$2,FALSE)","v":0},{"$f":"VLOOKUP($I6,'５月集金一覧'!$A$4:$H$44,N$2,FALSE)","v":0},{"$f":"VLOOKUP($I6,'５月集金一覧'!$A$4:$H$44,O$2,FALSE)","v":0}]
["番号",{"$f":"IF('５月集金一覧'!C$4=\"\",\"\",'５月集金一覧'!C$4)","v":""},{"$f":"IF('５月集金一覧'!D$4=\"\",\"\",'５月集金一覧'!D$4)","v":""},{"$f":"IF('５月集金一覧'!E$4=\"\",\"\",'５月集金一覧'!E$4)","v":""},{"$f":"IF('５月集金一覧'!F$4=\"\",\"\",'５月集金一覧'!F$4)","v":""},{"$f":"IF('５月集金一覧'!G$4=\"\",\"\",'５月集金一覧'!G$4)","v":""},"個人計",null,"番号",{"$f":"IF('５月集金一覧'!C$4=\"\",\"\",'５月集金一覧'!C$4)","v":""},{"$f":"IF('５月集金一覧'!D$4=\"\",\"\",'５月集金一覧'!D$4)","v":""},{"$f":"IF('５月集金一覧'!E$4=\"\",\"\",'５月集金一覧'!E$4)","v":""},{"$f":"IF('５月集金一覧'!F$4=\"\",\"\",'５月集金一覧'!F$4)","v":""},{"$f":"IF('５月集金一覧'!G$4=\"\",\"\",'５月集金一覧'!G$4)","v":""},"個人計"]
[3,{"$f":"VLOOKUP($A8,'５月集金一覧'!$A$4:$H$44,B$2,FALSE)","v":0},{"$f":"VLOOKUP($A8,'５月集金一覧'!$A$4:$H$44,C$2,FALSE)","v":0},{"$f":"VLOOKUP($A8,'５月集金一覧'!$A$4:$H$44,D$2,FALSE)","v":0},{"$f":"VLOOKUP($A8,'５月集金一覧'!$A$4:$H$44,E$2,FALSE)","v":0},{"$f":"VLOOKUP($A8,'５月集金一覧'!$A$4:$H$44,F$2,FALSE)","v":0},{"$f":"VLOOKUP($A8,'５月集金一覧'!$A$4:$H$44,G$2,FALSE)","v":0},null,25,{"$f":"VLOOKUP($I8,'５月集金一覧'!$A$4:$H$44,J$2,FALSE)","v":0},{"$f":"VLOOKUP($I8,'５月集金一覧'!$A$4:$H$44,K$2,FALSE)","v":0},{"$f":"VLOOKUP($I8,'５月集金一覧'!$A$4:$H$44,L$2,FALSE)","v":0},{"$f":"VLOOKUP($I8,'５月集金一覧'!$A$4:$H$44,M$2,FALSE)","v":0},{"$f":"VLOOKUP($I8,'５月集金一覧'!$A$4:$H$44,N$2,FALSE)","v":0},{"$f":"VLOOKUP($I8,'５月集金一覧'!$A$4:$H$44,O$2,FALSE)","v":0}]
["番号",{"$f":"IF('５月集金一覧'!C$4=\"\",\"\",'５月集金一覧'!C$4)","v":""},{"$f":"IF('５月集金一覧'!D$4=\"\",\"\",'５月集金一覧'!D$4)","v":""},{"$f":"IF('５月集金一覧'!E$4=\"\",\"\",'５月集金一覧'!E$4)","v":""},{"$f":"IF('５月集金一覧'!F$4=\"\",\"\",'５月集金一覧'!F$4)","v":""},{"$f":"IF('５月集金一覧'!G$4=\"\",\"\",'５月集金一覧'!G$4)","v":""},"個人計",null,"番号",{"$f":"IF('５月集金一覧'!C$4=\"\",\"\",'５月集金一覧'!C$4)","v":""},{"$f":"IF('５月集金一覧'!D$4=\"\",\"\",'５月集金一覧'!D$4)","v":""},{"$f":"IF('５月集金一覧'!E$4=\"\",\"\",'５月集金一覧'!E$4)","v":""},{"$f":"IF('５月集金一覧'!F$4=\"\",\"\",'５月集金一覧'!F$4)","v":""},{"$f":"IF('５月集金一覧'!G$4=\"\",\"\",'５月集金一覧'!G$4)","v":""},"個人計"]
[4,{"$f":"VLOOKUP($A10,'５月集金一覧'!$A$4:$H$44,B$2,FALSE)","v":0},{"$f":"VLOOKUP($A10,'５月集金一覧'!$A$4:$H$44,C$2,FALSE)","v":0},{"$f":"VLOOKUP($A10,'５月集金一覧'!$A$4:$H$44,D$2,FALSE)","v":0},{"$f":"VLOOKUP($A10,'５月集金一覧'!$A$4:$H$44,E$2,FALSE)","v":0},{"$f":"VLOOKUP($A10,'５月集金一覧'!$A$4:$H$44,F$2,FALSE)","v":0},{"$f":"VLOOKUP($A10,'５月集金一覧'!$A$4:$H$44,G$2,FALSE)","v":0},null,26,{"$f":"VLOOKUP($I10,'５月集金一覧'!$A$4:$H$44,J$2,FALSE)","v":0},{"$f":"VLOOKUP($I10,'５月集金一覧'!$A$4:$H$44,K$2,FALSE)","v":0},{"$f":"VLOOKUP($I10,'５月集金一覧'!$A$4:$H$44,L$2,FALSE)","v":0},{"$f":"VLOOKUP($I10,'５月集金一覧'!$A$4:$H$44,M$2,FALSE)","v":0},{"$f":"VLOOKUP($I10,'５月集金一覧'!$A$4:$H$44,N$2,FALSE)","v":0},{"$f":"VLOOKUP($I10,'５月集金一覧'!$A$4:$H$44,O$2,FALSE)","v":0}]
["番号",{"$f":"IF('５月集金一覧'!C$4=\"\",\"\",'５月集金一覧'!C$4)","v":""},{"$f":"IF('５月集金一覧'!D$4=\"\",\"\",'５月集金一覧'!D$4)","v":""},{"$f":"IF('５月集金一覧'!E$4=\"\",\"\",'５月集金一覧'!E$4)","v":""},{"$f":"IF('５月集金一覧'!F$4=\"\",\"\",'５月集金一覧'!F$4)","v":""},{"$f":"IF('５月集金一覧'!G$4=\"\",\"\",'５月集金一覧'!G$4)","v":""},"個人計",null,"番号",{"$f":"IF('５月集金一覧'!C$4=\"\",\"\",'５月集金一覧'!C$4)","v":""},{"$f":"IF('５月集金一覧'!D$4=\"\",\"\",'５月集金一覧'!D$4)","v":""},{"$f":"IF('５月集金一覧'!E$4=\"\",\"\",'５月集金一覧'!E$4)","v":""},{"$f":"IF('５月集金一覧'!F$4=\"\",\"\",'５月集金一覧'!F$4)","v":""},{"$f":"IF('５月集金一覧'!G$4=\"\",\"\",'５月集金一覧'!G$4)","v":""},"個人計"]
[5,{"$f":"VLOOKUP($A12,'５月集金一覧'!$A$4:$H$44,B$2,FALSE)","v":0},{"$f":"VLOOKUP($A12,'５月集金一覧'!$A$4:$H$44,C$2,FALSE)","v":0},{"$f":"VLOOKUP($A12,'５月集金一覧'!$A$4:$H$44,D$2,FALSE)","v":0},{"$f":"VLOOKUP($A12,'５月集金一覧'!$A$4:$H$44,E$2,FALSE)","v":0},{"$f":"VLOOKUP($A12,'５月集金一覧'!$A$4:$H$44,F$2,FALSE)","v":0},{"$f":"VLOOKUP($A12,'５月集金一覧'!$A$4:$H$44,G$2,FALSE)","v":0},null,27,{"$f":"VLOOKUP($I12,'５月集金一覧'!$A$4:$H$44,J$2,FALSE)","v":0},{"$f":"VLOOKUP($I12,'５月集金一覧'!$A$4:$H$44,K$2,FALSE)","v":0},{"$f":"VLOOKUP($I12,'５月集金一覧'!$A$4:$H$44,L$2,FALSE)","v":0},{"$f":"VLOOKUP($I12,'５月集金一覧'!$A$4:$H$44,M$2,FALSE)","v":0},{"$f":"VLOOKUP($I12,'５月集金一覧'!$A$4:$H$44,N$2,FALSE)","v":0},{"$f":"VLOOKUP($I12,'５月集金一覧'!$A$4:$H$44,O$2,FALSE)","v":0}]
["番号",{"$f":"IF('５月集金一覧'!C$4=\"\",\"\",'５月集金一覧'!C$4)","v":""},{"$f":"IF('５月集金一覧'!D$4=\"\",\"\",'５月集金一覧'!D$4)","v":""},{"$f":"IF('５月集金一覧'!E$4=\"\",\"\",'５月集金一覧'!E$4)","v":""},{"$f":"IF('５月集金一覧'!F$4=\"\",\"\",'５月集金一覧'!F$4)","v":""},{"$f":"IF('５月集金一覧'!G$4=\"\",\"\",'５月集金一覧'!G$4)","v":""},"個人計",null,"番号",{"$f":"IF('５月集金一覧'!C$4=\"\",\"\",'５月集金一覧'!C$4)","v":""},{"$f":"IF('５月集金一覧'!D$4=\"\",\"\",'５月集金一覧'!D$4)","v":""},{"$f":"IF('５月集金一覧'!E$4=\"\",\"\",'５月集金一覧'!E$4)","v":""},{"$f":"IF('５月集金一覧'!F$4=\"\",\"\",'５月集金一覧'!F$4)","v":""},{"$f":"IF('５月集金一覧'!G$4=\"\",\"\",'５月集金一覧'!G$4)","v":""},"個人計"]
[6,{"$f":"VLOOKUP($A14,'５月集金一覧'!$A$4:$H$44,B$2,FALSE)","v":0},{"$f":"VLOOKUP($A14,'５月集金一覧'!$A$4:$H$44,C$2,FALSE)","v":0},{"$f":"VLOOKUP($A14,'５月集金一覧'!$A$4:$H$44,D$2,FALSE)","v":0},{"$f":"VLOOKUP($A14,'５月集金一覧'!$A$4:$H$44,E$2,FALSE)","v":0},{"$f":"VLOOKUP($A14,'５月集金一覧'!$A$4:$H$44,F$2,FALSE)","v":0},{"$f":"VLOOKUP($A14,'５月集金一覧'!$A$4:$H$44,G$2,FALSE)","v":0},null,28,{"$f":"VLOOKUP($I14,'５月集金一覧'!$A$4:$H$44,J$2,FALSE)","v":0},{"$f":"VLOOKUP($I14,'５月集金一覧'!$A$4:$H$44,K$2,FALSE)","v":0},{"$f":"VLOOKUP($I14,'５月集金一覧'!$A$4:$H$44,L$2,FALSE)","v":0},{"$f":"VLOOKUP($I14,'５月集金一覧'!$A$4:$H$44,M$2,FALSE)","v":0},{"$f":"VLOOKUP($I14,'５月集金一覧'!$A$4:$H$44,N$2,FALSE)","v":0},{"$f":"VLOOKUP($I14,'５月集金一覧'!$A$4:$H$44,O$2,FALSE)","v":0}]
["番号",{"$f":"IF('５月集金一覧'!C$4=\"\",\"\",'５月集金一覧'!C$4)","v":""},{"$f":"IF('５月集金一覧'!D$4=\"\",\"\",'５月集金一覧'!D$4)","v":""},{"$f":"IF('５月集金一覧'!E$4=\"\",\"\",'５月集金一覧'!E$4)","v":""},{"$f":"IF('５月集金一覧'!F$4=\"\",\"\",'５月集金一覧'!F$4)","v":""},{"$f":"IF('５月集金一覧'!G$4=\"\",\"\",'５月集金一覧'!G$4)","v":""},"個人計",null,"番号",{"$f":"IF('５月集金一覧'!C$4=\"\",\"\",'５月集金一覧'!C$4)","v":""},{"$f":"IF('５月集金一覧'!D$4=\"\",\"\",'５月集金一覧'!D$4)","v":""},{"$f":"IF('５月集金一覧'!E$4=\"\",\"\",'５月集金一覧'!E$4)","v":""},{"$f":"IF('５月集金一覧'!F$4=\"\",\"\",'５月集金一覧'!F$4)","v":""},{"$f":"IF('５月集金一覧'!G$4=\"\",\"\",'５月集金一覧'!G$4)","v":""},"個人計"]
[7,{"$f":"VLOOKUP($A16,'５月集金一覧'!$A$4:$H$44,B$2,FALSE)","v":0},{"$f":"VLOOKUP($A16,'５月集金一覧'!$A$4:$H$44,C$2,FALSE)","v":0},{"$f":"VLOOKUP($A16,'５月集金一覧'!$A$4:$H$44,D$2,FALSE)","v":0},{"$f":"VLOOKUP($A16,'５月集金一覧'!$A$4:$H$44,E$2,FALSE)","v":0},{"$f":"VLOOKUP($A16,'５月集金一覧'!$A$4:$H$44,F$2,FALSE)","v":0},{"$f":"VLOOKUP($A16,'５月集金一覧'!$A$4:$H$44,G$2,FALSE)","v":0},null,29,{"$f":"VLOOKUP($I16,'５月集金一覧'!$A$4:$H$44,J$2,FALSE)","v":0},{"$f":"VLOOKUP($I16,'５月集金一覧'!$A$4:$H$44,K$2,FALSE)","v":0},{"$f":"VLOOKUP($I16,'５月集金一覧'!$A$4:$H$44,L$2,FALSE)","v":0},{"$f":"VLOOKUP($I16,'５月集金一覧'!$A$4:$H$44,M$2,FALSE)","v":0},{"$f":"VLOOKUP($I16,'５月集金一覧'!$A$4:$H$44,N$2,FALSE)","v":0},{"$f":"VLOOKUP($I16,'５月集金一覧'!$A$4:$H$44,O$2,FALSE)","v":0}]
["番号",{"$f":"IF('５月集金一覧'!C$4=\"\",\"\",'５月集金一覧'!C$4)","v":""},{"$f":"IF('５月集金一覧'!D$4=\"\",\"\",'５月集金一覧'!D$4)","v":""},{"$f":"IF('５月集金一覧'!E$4=\"\",\"\",'５月集金一覧'!E$4)","v":""},{"$f":"IF('５月集金一覧'!F$4=\"\",\"\",'５月集金一覧'!F$4)","v":""},{"$f":"IF('５月集金一覧'!G$4=\"\",\"\",'５月集金一覧'!G$4)","v":""},"個人計",null,"番号",{"$f":"IF('５月集金一覧'!C$4=\"\",\"\",'５月集金一覧'!C$4)","v":""},{"$f":"IF('５月集金一覧'!D$4=\"\",\"\",'５月集金一覧'!D$4)","v":""},{"$f":"IF('５月集金一覧'!E$4=\"\",\"\",'５月集金一覧'!E$4)","v":""},{"$f":"IF('５月集金一覧'!F$4=\"\",\"\",'５月集金一覧'!F$4)","v":""},{"$f":"IF('５月集金一覧'!G$4=\"\",\"\",'５月集金一覧'!G$4)","v":""},"個人計"]
[8,{"$f":"VLOOKUP($A18,'５月集金一覧'!$A$4:$H$44,B$2,FALSE)","v":0},{"$f":"VLOOKUP($A18,'５月集金一覧'!$A$4:$H$44,C$2,FALSE)","v":0},{"$f":"VLOOKUP($A18,'５月集金一覧'!$A$4:$H$44,D$2,FALSE)","v":0},{"$f":"VLOOKUP($A18,'５月集金一覧'!$A$4:$H$44,E$2,FALSE)","v":0},{"$f":"VLOOKUP($A18,'５月集金一覧'!$A$4:$H$44,F$2,FALSE)","v":0},{"$f":"VLOOKUP($A18,'５月集金一覧'!$A$4:$H$44,G$2,FALSE)","v":0},null,30,{"$f":"VLOOKUP($I18,'５月集金一覧'!$A$4:$H$44,J$2,FALSE)","v":0},{"$f":"VLOOKUP($I18,'５月集金一覧'!$A$4:$H$44,K$2,FALSE)","v":0},{"$f":"VLOOKUP($I18,'５月集金一覧'!$A$4:$H$44,L$2,FALSE)","v":0},{"$f":"VLOOKUP($I18,'５月集金一覧'!$A$4:$H$44,M$2,FALSE)","v":0},{"$f":"VLOOKUP($I18,'５月集金一覧'!$A$4:$H$44,N$2,FALSE)","v":0},{"$f":"VLOOKUP($I18,'５月集金一覧'!$A$4:$H$44,O$2,FALSE)","v":0}]
["番号",{"$f":"IF('５月集金一覧'!C$4=\"\",\"\",'５月集金一覧'!C$4)","v":""},{"$f":"IF('５月集金一覧'!D$4=\"\",\"\",'５月集金一覧'!D$4)","v":""},{"$f":"IF('５月集金一覧'!E$4=\"\",\"\",'５月集金一覧'!E$4)","v":""},{"$f":"IF('５月集金一覧'!F$4=\"\",\"\",'５月集金一覧'!F$4)","v":""},{"$f":"IF('５月集金一覧'!G$4=\"\",\"\",'５月集金一覧'!G$4)","v":""},"個人計",null,"番号",{"$f":"IF('５月集金一覧'!C$4=\"\",\"\",'５月集金一覧'!C$4)","v":""},{"$f":"IF('５月集金一覧'!D$4=\"\",\"\",'５月集金一覧'!D$4)","v":""},{"$f":"IF('５月集金一覧'!E$4=\"\",\"\",'５月集金一覧'!E$4)","v":""},{"$f":"IF('５月集金一覧'!F$4=\"\",\"\",'５月集金一覧'!F$4)","v":""},{"$f":"IF('５月集金一覧'!G$4=\"\",\"\",'５月集金一覧'!G$4)","v":""},"個人計"]
[9,{"$f":"VLOOKUP($A20,'５月集金一覧'!$A$4:$H$44,B$2,FALSE)","v":0},{"$f":"VLOOKUP($A20,'５月集金一覧'!$A$4:$H$44,C$2,FALSE)","v":0},{"$f":"VLOOKUP($A20,'５月集金一覧'!$A$4:$H$44,D$2,FALSE)","v":0},{"$f":"VLOOKUP($A20,'５月集金一覧'!$A$4:$H$44,E$2,FALSE)","v":0},{"$f":"VLOOKUP($A20,'５月集金一覧'!$A$4:$H$44,F$2,FALSE)","v":0},{"$f":"VLOOKUP($A20,'５月集金一覧'!$A$4:$H$44,G$2,FALSE)","v":0},null,31,{"$f":"VLOOKUP($I20,'５月集金一覧'!$A$4:$H$44,J$2,FALSE)","v":0},{"$f":"VLOOKUP($I20,'５月集金一覧'!$A$4:$H$44,K$2,FALSE)","v":0},{"$f":"VLOOKUP($I20,'５月集金一覧'!$A$4:$H$44,L$2,FALSE)","v":0},{"$f":"VLOOKUP($I20,'５月集金一覧'!$A$4:$H$44,M$2,FALSE)","v":0},{"$f":"VLOOKUP($I20,'５月集金一覧'!$A$4:$H$44,N$2,FALSE)","v":0},{"$f":"VLOOKUP($I20,'５月集金一覧'!$A$4:$H$44,O$2,FALSE)","v":0}]
["番号",{"$f":"IF('５月集金一覧'!C$4=\"\",\"\",'５月集金一覧'!C$4)","v":""},{"$f":"IF('５月集金一覧'!D$4=\"\",\"\",'５月集金一覧'!D$4)","v":""},{"$f":"IF('５月集金一覧'!E$4=\"\",\"\",'５月集金一覧'!E$4)","v":""},{"$f":"IF('５月集金一覧'!F$4=\"\",\"\",'５月集金一覧'!F$4)","v":""},{"$f":"IF('５月集金一覧'!G$4=\"\",\"\",'５月集金一覧'!G$4)","v":""},"個人計",null,"番号",{"$f":"IF('５月集金一覧'!C$4=\"\",\"\",'５月集金一覧'!C$4)","v":""},{"$f":"IF('５月集金一覧'!D$4=\"\",\"\",'５月集金一覧'!D$4)","v":""},{"$f":"IF('５月集金一覧'!E$4=\"\",\"\",'５月集金一覧'!E$4)","v":""},{"$f":"IF('５月集金一覧'!F$4=\"\",\"\",'５月集金一覧'!F$4)","v":""},{"$f":"IF('５月集金一覧'!G$4=\"\",\"\",'５月集金一覧'!G$4)","v":""},"個人計"]
[10,{"$f":"VLOOKUP($A22,'５月集金一覧'!$A$4:$H$44,B$2,FALSE)","v":0},{"$f":"VLOOKUP($A22,'５月集金一覧'!$A$4:$H$44,C$2,FALSE)","v":0},{"$f":"VLOOKUP($A22,'５月集金一覧'!$A$4:$H$44,D$2,FALSE)","v":0},{"$f":"VLOOKUP($A22,'５月集金一覧'!$A$4:$H$44,E$2,FALSE)","v":0},{"$f":"VLOOKUP($A22,'５月集金一覧'!$A$4:$H$44,F$2,FALSE)","v":0},{"$f":"VLOOKUP($A22,'５月集金一覧'!$A$4:$H$44,G$2,FALSE)","v":0},null,32,{"$f":"VLOOKUP($I22,'５月集金一覧'!$A$4:$H$44,J$2,FALSE)","v":0},{"$f":"VLOOKUP($I22,'５月集金一覧'!$A$4:$H$44,K$2,FALSE)","v":0},{"$f":"VLOOKUP($I22,'５月集金一覧'!$A$4:$H$44,L$2,FALSE)","v":0},{"$f":"VLOOKUP($I22,'５月集金一覧'!$A$4:$H$44,M$2,FALSE)","v":0},{"$f":"VLOOKUP($I22,'５月集金一覧'!$A$4:$H$44,N$2,FALSE)","v":0},{"$f":"VLOOKUP($I22,'５月集金一覧'!$A$4:$H$44,O$2,FALSE)","v":0}]
["番号",{"$f":"IF('５月集金一覧'!C$4=\"\",\"\",'５月集金一覧'!C$4)","v":""},{"$f":"IF('５月集金一覧'!D$4=\"\",\"\",'５月集金一覧'!D$4)","v":""},{"$f":"IF('５月集金一覧'!E$4=\"\",\"\",'５月集金一覧'!E$4)","v":""},{"$f":"IF('５月集金一覧'!F$4=\"\",\"\",'５月集金一覧'!F$4)","v":""},{"$f":"IF('５月集金一覧'!G$4=\"\",\"\",'５月集金一覧'!G$4)","v":""},"個人計",null,"番号",{"$f":"IF('５月集金一覧'!C$4=\"\",\"\",'５月集金一覧'!C$4)","v":""},{"$f":"IF('５月集金一覧'!D$4=\"\",\"\",'５月集金一覧'!D$4)","v":""},{"$f":"IF('５月集金一覧'!E$4=\"\",\"\",'５月集金一覧'!E$4)","v":""},{"$f":"IF('５月集金一覧'!F$4=\"\",\"\",'５月集金一覧'!F$4)","v":""},{"$f":"IF('５月集金一覧'!G$4=\"\",\"\",'５月集金一覧'!G$4)","v":""},"個人計"]
[11,{"$f":"VLOOKUP($A24,'５月集金一覧'!$A$4:$H$44,B$2,FALSE)","v":0},{"$f":"VLOOKUP($A24,'５月集金一覧'!$A$4:$H$44,C$2,FALSE)","v":0},{"$f":"VLOOKUP($A24,'５月集金一覧'!$A$4:$H$44,D$2,FALSE)","v":0},{"$f":"VLOOKUP($A24,'５月集金一覧'!$A$4:$H$44,E$2,FALSE)","v":0},{"$f":"VLOOKUP($A24,'５月集金一覧'!$A$4:$H$44,F$2,FALSE)","v":0},{"$f":"VLOOKUP($A24,'５月集金一覧'!$A$4:$H$44,G$2,FALSE)","v":0},null,33,{"$f":"VLOOKUP($I24,'５月集金一覧'!$A$4:$H$44,J$2,FALSE)","v":0},{"$f":"VLOOKUP($I24,'５月集金一覧'!$A$4:$H$44,K$2,FALSE)","v":0},{"$f":"VLOOKUP($I24,'５月集金一覧'!$A$4:$H$44,L$2,FALSE)","v":0},{"$f":"VLOOKUP($I24,'５月集金一覧'!$A$4:$H$44,M$2,FALSE)","v":0},{"$f":"VLOOKUP($I24,'５月集金一覧'!$A$4:$H$44,N$2,FALSE)","v":0},{"$f":"VLOOKUP($I24,'５月集金一覧'!$A$4:$H$44,O$2,FALSE)","v":0}]
["番号",{"$f":"IF('５月集金一覧'!C$4=\"\",\"\",'５月集金一覧'!C$4)","v":""},{"$f":"IF('５月集金一覧'!D$4=\"\",\"\",'５月集金一覧'!D$4)","v":""},{"$f":"IF('５月集金一覧'!E$4=\"\",\"\",'５月集金一覧'!E$4)","v":""},{"$f":"IF('５月集金一覧'!F$4=\"\",\"\",'５月集金一覧'!F$4)","v":""},{"$f":"IF('５月集金一覧'!G$4=\"\",\"\",'５月集金一覧'!G$4)","v":""},"個人計",null,"番号",{"$f":"IF('５月集金一覧'!C$4=\"\",\"\",'５月集金一覧'!C$4)","v":""},{"$f":"IF('５月集金一覧'!D$4=\"\",\"\",'５月集金一覧'!D$4)","v":""},{"$f":"IF('５月集金一覧'!E$4=\"\",\"\",'５月集金一覧'!E$4)","v":""},{"$f":"IF('５月集金一覧'!F$4=\"\",\"\",'５月集金一覧'!F$4)","v":""},{"$f":"IF('５月集金一覧'!G$4=\"\",\"\",'５月集金一覧'!G$4)","v":""},"個人計"]
[12,{"$f":"VLOOKUP($A26,'５月集金一覧'!$A$4:$H$44,B$2,FALSE)","v":0},{"$f":"VLOOKUP($A26,'５月集金一覧'!$A$4:$H$44,C$2,FALSE)","v":0},{"$f":"VLOOKUP($A26,'５月集金一覧'!$A$4:$H$44,D$2,FALSE)","v":0},{"$f":"VLOOKUP($A26,'５月集金一覧'!$A$4:$H$44,E$2,FALSE)","v":0},{"$f":"VLOOKUP($A26,'５月集金一覧'!$A$4:$H$44,F$2,FALSE)","v":0},{"$f":"VLOOKUP($A26,'５月集金一覧'!$A$4:$H$44,G$2,FALSE)","v":0},null,34,{"$f":"VLOOKUP($I26,'５月集金一覧'!$A$4:$H$44,J$2,FALSE)","v":0},{"$f":"VLOOKUP($I26,'５月集金一覧'!$A$4:$H$44,K$2,FALSE)","v":0},{"$f":"VLOOKUP($I26,'５月集金一覧'!$A$4:$H$44,L$2,FALSE)","v":0},{"$f":"VLOOKUP($I26,'５月集金一覧'!$A$4:$H$44,M$2,FALSE)","v":0},{"$f":"VLOOKUP($I26,'５月集金一覧'!$A$4:$H$44,N$2,FALSE)","v":0},{"$f":"VLOOKUP($I26,'５月集金一覧'!$A$4:$H$44,O$2,FALSE)","v":0}]
["番号",{"$f":"IF('５月集金一覧'!C$4=\"\",\"\",'５月集金一覧'!C$4)","v":""},{"$f":"IF('５月集金一覧'!D$4=\"\",\"\",'５月集金一覧'!D$4)","v":""},{"$f":"IF('５月集金一覧'!E$4=\"\",\"\",'５月集金一覧'!E$4)","v":""},{"$f":"IF('５月集金一覧'!F$4=\"\",\"\",'５月集金一覧'!F$4)","v":""},{"$f":"IF('５月集金一覧'!G$4=\"\",\"\",'５月集金一覧'!G$4)","v":""},"個人計",null,"番号",{"$f":"IF('５月集金一覧'!C$4=\"\",\"\",'５月集金一覧'!C$4)","v":""},{"$f":"IF('５月集金一覧'!D$4=\"\",\"\",'５月集金一覧'!D$4)","v":""},{"$f":"IF('５月集金一覧'!E$4=\"\",\"\",'５月集金一覧'!E$4)","v":""},{"$f":"IF('５月集金一覧'!F$4=\"\",\"\",'５月集金一覧'!F$4)","v":""},{"$f":"IF('５月集金一覧'!G$4=\"\",\"\",'５月集金一覧'!G$4)","v":""},"個人計"]
[13,{"$f":"VLOOKUP($A28,'５月集金一覧'!$A$4:$H$44,B$2,FALSE)","v":0},{"$f":"VLOOKUP($A28,'５月集金一覧'!$A$4:$H$44,C$2,FALSE)","v":0},{"$f":"VLOOKUP($A28,'５月集金一覧'!$A$4:$H$44,D$2,FALSE)","v":0},{"$f":"VLOOKUP($A28,'５月集金一覧'!$A$4:$H$44,E$2,FALSE)","v":0},{"$f":"VLOOKUP($A28,'５月集金一覧'!$A$4:$H$44,F$2,FALSE)","v":0},{"$f":"VLOOKUP($A28,'５月集金一覧'!$A$4:$H$44,G$2,FALSE)","v":0},null,35,{"$f":"VLOOKUP($I28,'５月集金一覧'!$A$4:$H$44,J$2,FALSE)","v":0},{"$f":"VLOOKUP($I28,'５月集金一覧'!$A$4:$H$44,K$2,FALSE)","v":0},{"$f":"VLOOKUP($I28,'５月集金一覧'!$A$4:$H$44,L$2,FALSE)","v":0},{"$f":"VLOOKUP($I28,'５月集金一覧'!$A$4:$H$44,M$2,FALSE)","v":0},{"$f":"VLOOKUP($I28,'５月集金一覧'!$A$4:$H$44,N$2,FALSE)","v":0},{"$f":"VLOOKUP($I28,'５月集金一覧'!$A$4:$H$44,O$2,FALSE)","v":0}]
["番号",{"$f":"IF('５月集金一覧'!C$4=\"\",\"\",'５月集金一覧'!C$4)","v":""},{"$f":"IF('５月集金一覧'!D$4=\"\",\"\",'５月集金一覧'!D$4)","v":""},{"$f":"IF('５月集金一覧'!E$4=\"\",\"\",'５月集金一覧'!E$4)","v":""},{"$f":"IF('５月集金一覧'!F$4=\"\",\"\",'５月集金一覧'!F$4)","v":""},{"$f":"IF('５月集金一覧'!G$4=\"\",\"\",'５月集金一覧'!G$4)","v":""},"個人計",null,"番号",{"$f":"IF('５月集金一覧'!C$4=\"\",\"\",'５月集金一覧'!C$4)","v":""},{"$f":"IF('５月集金一覧'!D$4=\"\",\"\",'５月集金一覧'!D$4)","v":""},{"$f":"IF('５月集金一覧'!E$4=\"\",\"\",'５月集金一覧'!E$4)","v":""},{"$f":"IF('５月集金一覧'!F$4=\"\",\"\",'５月集金一覧'!F$4)","v":""},{"$f":"IF('５月集金一覧'!G$4=\"\",\"\",'５月集金一覧'!G$4)","v":""},"個人計"]
[14,{"$f":"VLOOKUP($A30,'５月集金一覧'!$A$4:$H$44,B$2,FALSE)","v":0},{"$f":"VLOOKUP($A30,'５月集金一覧'!$A$4:$H$44,C$2,FALSE)","v":0},{"$f":"VLOOKUP($A30,'５月集金一覧'!$A$4:$H$44,D$2,FALSE)","v":0},{"$f":"VLOOKUP($A30,'５月集金一覧'!$A$4:$H$44,E$2,FALSE)","v":0},{"$f":"VLOOKUP($A30,'５月集金一覧'!$A$4:$H$44,F$2,FALSE)","v":0},{"$f":"VLOOKUP($A30,'５月集金一覧'!$A$4:$H$44,G$2,FALSE)","v":0},null,36,{"$f":"VLOOKUP($I30,'５月集金一覧'!$A$4:$H$44,J$2,FALSE)","v":0},{"$f":"VLOOKUP($I30,'５月集金一覧'!$A$4:$H$44,K$2,FALSE)","v":0},{"$f":"VLOOKUP($I30,'５月集金一覧'!$A$4:$H$44,L$2,FALSE)","v":0},{"$f":"VLOOKUP($I30,'５月集金一覧'!$A$4:$H$44,M$2,FALSE)","v":0},{"$f":"VLOOKUP($I30,'５月集金一覧'!$A$4:$H$44,N$2,FALSE)","v":0},{"$f":"VLOOKUP($I30,'５月集金一覧'!$A$4:$H$44,O$2,FALSE)","v":0}]
["番号",{"$f":"IF('５月集金一覧'!C$4=\"\",\"\",'５月集金一覧'!C$4)","v":""},{"$f":"IF('５月集金一覧'!D$4=\"\",\"\",'５月集金一覧'!D$4)","v":""},{"$f":"IF('５月集金一覧'!E$4=\"\",\"\",'５月集金一覧'!E$4)","v":""},{"$f":"IF('５月集金一覧'!F$4=\"\",\"\",'５月集金一覧'!F$4)","v":""},{"$f":"IF('５月集金一覧'!G$4=\"\",\"\",'５月集金一覧'!G$4)","v":""},"個人計",null,"番号",{"$f":"IF('５月集金一覧'!C$4=\"\",\"\",'５月集金一覧'!C$4)","v":""},{"$f":"IF('５月集金一覧'!D$4=\"\",\"\",'５月集金一覧'!D$4)","v":""},{"$f":"IF('５月集金一覧'!E$4=\"\",\"\",'５月集金一覧'!E$4)","v":""},{"$f":"IF('５月集金一覧'!F$4=\"\",\"\",'５月集金一覧'!F$4)","v":""},{"$f":"IF('５月集金一覧'!G$4=\"\",\"\",'５月集金一覧'!G$4)","v":""},"個人計"]
[15,{"$f":"VLOOKUP($A32,'５月集金一覧'!$A$4:$H$44,B$2,FALSE)","v":0},{"$f":"VLOOKUP($A32,'５月集金一覧'!$A$4:$H$44,C$2,FALSE)","v":0},{"$f":"VLOOKUP($A32,'５月集金一覧'!$A$4:$H$44,D$2,FALSE)","v":0},{"$f":"VLOOKUP($A32,'５月集金一覧'!$A$4:$H$44,E$2,FALSE)","v":0},{"$f":"VLOOKUP($A32,'５月集金一覧'!$A$4:$H$44,F$2,FALSE)","v":0},{"$f":"VLOOKUP($A32,'５月集金一覧'!$A$4:$H$44,G$2,FALSE)","v":0},null,37,{"$f":"VLOOKUP($I32,'５月集金一覧'!$A$4:$H$44,J$2,FALSE)","v":0},{"$f":"VLOOKUP($I32,'５月集金一覧'!$A$4:$H$44,K$2,FALSE)","v":0},{"$f":"VLOOKUP($I32,'５月集金一覧'!$A$4:$H$44,L$2,FALSE)","v":0},{"$f":"VLOOKUP($I32,'５月集金一覧'!$A$4:$H$44,M$2,FALSE)","v":0},{"$f":"VLOOKUP($I32,'５月集金一覧'!$A$4:$H$44,N$2,FALSE)","v":0},{"$f":"VLOOKUP($I32,'５月集金一覧'!$A$4:$H$44,O$2,FALSE)","v":0}]
["番号",{"$f":"IF('５月集金一覧'!C$4=\"\",\"\",'５月集金一覧'!C$4)","v":""},{"$f":"IF('５月集金一覧'!D$4=\"\",\"\",'５月集金一覧'!D$4)","v":""},{"$f":"IF('５月集金一覧'!E$4=\"\",\"\",'５月集金一覧'!E$4)","v":""},{"$f":"IF('５月集金一覧'!F$4=\"\",\"\",'５月集金一覧'!F$4)","v":""},{"$f":"IF('５月集金一覧'!G$4=\"\",\"\",'５月集金一覧'!G$4)","v":""},"個人計",null,"番号",{"$f":"IF('５月集金一覧'!C$4=\"\",\"\",'５月集金一覧'!C$4)","v":""},{"$f":"IF('５月集金一覧'!D$4=\"\",\"\",'５月集金一覧'!D$4)","v":""},{"$f":"IF('５月集金一覧'!E$4=\"\",\"\",'５月集金一覧'!E$4)","v":""},{"$f":"IF('５月集金一覧'!F$4=\"\",\"\",'５月集金一覧'!F$4)","v":""},{"$f":"IF('５月集金一覧'!G$4=\"\",\"\",'５月集金一覧'!G$4)","v":""},"個人計"]
[16,{"$f":"VLOOKUP($A34,'５月集金一覧'!$A$4:$H$44,B$2,FALSE)","v":0},{"$f":"VLOOKUP($A34,'５月集金一覧'!$A$4:$H$44,C$2,FALSE)","v":0},{"$f":"VLOOKUP($A34,'５月集金一覧'!$A$4:$H$44,D$2,FALSE)","v":0},{"$f":"VLOOKUP($A34,'５月集金一覧'!$A$4:$H$44,E$2,FALSE)","v":0},{"$f":"VLOOKUP($A34,'５月集金一覧'!$A$4:$H$44,F$2,FALSE)","v":0},{"$f":"VLOOKUP($A34,'５月集金一覧'!$A$4:$H$44,G$2,FALSE)","v":0},null,38,{"$f":"VLOOKUP($I34,'５月集金一覧'!$A$4:$H$44,J$2,FALSE)","v":0},{"$f":"VLOOKUP($I34,'５月集金一覧'!$A$4:$H$44,K$2,FALSE)","v":0},{"$f":"VLOOKUP($I34,'５月集金一覧'!$A$4:$H$44,L$2,FALSE)","v":0},{"$f":"VLOOKUP($I34,'５月集金一覧'!$A$4:$H$44,M$2,FALSE)","v":0},{"$f":"VLOOKUP($I34,'５月集金一覧'!$A$4:$H$44,N$2,FALSE)","v":0},{"$f":"VLOOKUP($I34,'５月集金一覧'!$A$4:$H$44,O$2,FALSE)","v":0}]
["番号",{"$f":"IF('５月集金一覧'!C$4=\"\",\"\",'５月集金一覧'!C$4)","v":""},{"$f":"IF('５月集金一覧'!D$4=\"\",\"\",'５月集金一覧'!D$4)","v":""},{"$f":"IF('５月集金一覧'!E$4=\"\",\"\",'５月集金一覧'!E$4)","v":""},{"$f":"IF('５月集金一覧'!F$4=\"\",\"\",'５月集金一覧'!F$4)","v":""},{"$f":"IF('５月集金一覧'!G$4=\"\",\"\",'５月集金一覧'!G$4)","v":""},"個人計",null,"番号",{"$f":"IF('５月集金一覧'!C$4=\"\",\"\",'５月集金一覧'!C$4)","v":""},{"$f":"IF('５月集金一覧'!D$4=\"\",\"\",'５月集金一覧'!D$4)","v":""},{"$f":"IF('５月集金一覧'!E$4=\"\",\"\",'５月集金一覧'!E$4)","v":""},{"$f":"IF('５月集金一覧'!F$4=\"\",\"\",'５月集金一覧'!F$4)","v":""},{"$f":"IF('５月集金一覧'!G$4=\"\",\"\",'５月集金一覧'!G$4)","v":""},"個人計"]
[17,{"$f":"VLOOKUP($A36,'５月集金一覧'!$A$4:$H$44,B$2,FALSE)","v":0},{"$f":"VLOOKUP($A36,'５月集金一覧'!$A$4:$H$44,C$2,FALSE)","v":0},{"$f":"VLOOKUP($A36,'５月集金一覧'!$A$4:$H$44,D$2,FALSE)","v":0},{"$f":"VLOOKUP($A36,'５月集金一覧'!$A$4:$H$44,E$2,FALSE)","v":0},{"$f":"VLOOKUP($A36,'５月集金一覧'!$A$4:$H$44,F$2,FALSE)","v":0},{"$f":"VLOOKUP($A36,'５月集金一覧'!$A$4:$H$44,G$2,FALSE)","v":0},null,39,{"$f":"VLOOKUP($I36,'５月集金一覧'!$A$4:$H$44,J$2,FALSE)","v":0},{"$f":"VLOOKUP($I36,'５月集金一覧'!$A$4:$H$44,K$2,FALSE)","v":0},{"$f":"VLOOKUP($I36,'５月集金一覧'!$A$4:$H$44,L$2,FALSE)","v":0},{"$f":"VLOOKUP($I36,'５月集金一覧'!$A$4:$H$44,M$2,FALSE)","v":0},{"$f":"VLOOKUP($I36,'５月集金一覧'!$A$4:$H$44,N$2,FALSE)","v":0},{"$f":"VLOOKUP($I36,'５月集金一覧'!$A$4:$H$44,O$2,FALSE)","v":0}]
["番号",{"$f":"IF('５月集金一覧'!C$4=\"\",\"\",'５月集金一覧'!C$4)","v":""},{"$f":"IF('５月集金一覧'!D$4=\"\",\"\",'５月集金一覧'!D$4)","v":""},{"$f":"IF('５月集金一覧'!E$4=\"\",\"\",'５月集金一覧'!E$4)","v":""},{"$f":"IF('５月集金一覧'!F$4=\"\",\"\",'５月集金一覧'!F$4)","v":""},{"$f":"IF('５月集金一覧'!G$4=\"\",\"\",'５月集金一覧'!G$4)","v":""},"個人計",null,"番号",{"$f":"IF('５月集金一覧'!C$4=\"\",\"\",'５月集金一覧'!C$4)","v":""},{"$f":"IF('５月集金一覧'!D$4=\"\",\"\",'５月集金一覧'!D$4)","v":""},{"$f":"IF('５月集金一覧'!E$4=\"\",\"\",'５月集金一覧'!E$4)","v":""},{"$f":"IF('５月集金一覧'!F$4=\"\",\"\",'５月集金一覧'!F$4)","v":""},{"$f":"IF('５月集金一覧'!G$4=\"\",\"\",'５月集金一覧'!G$4)","v":""},"個人計"]
[18,{"$f":"VLOOKUP($A38,'５月集金一覧'!$A$4:$H$44,B$2,FALSE)","v":0},{"$f":"VLOOKUP($A38,'５月集金一覧'!$A$4:$H$44,C$2,FALSE)","v":0},{"$f":"VLOOKUP($A38,'５月集金一覧'!$A$4:$H$44,D$2,FALSE)","v":0},{"$f":"VLOOKUP($A38,'５月集金一覧'!$A$4:$H$44,E$2,FALSE)","v":0},{"$f":"VLOOKUP($A38,'５月集金一覧'!$A$4:$H$44,F$2,FALSE)","v":0},{"$f":"VLOOKUP($A38,'５月集金一覧'!$A$4:$H$44,G$2,FALSE)","v":0},null,40,{"$f":"VLOOKUP($I38,'５月集金一覧'!$A$4:$H$44,J$2,FALSE)","v":0},{"$f":"VLOOKUP($I38,'５月集金一覧'!$A$4:$H$44,K$2,FALSE)","v":0},{"$f":"VLOOKUP($I38,'５月集金一覧'!$A$4:$H$44,L$2,FALSE)","v":0},{"$f":"VLOOKUP($I38,'５月集金一覧'!$A$4:$H$44,M$2,FALSE)","v":0},{"$f":"VLOOKUP($I38,'５月集金一覧'!$A$4:$H$44,N$2,FALSE)","v":0},{"$f":"VLOOKUP($I38,'５月集金一覧'!$A$4:$H$44,O$2,FALSE)","v":0}]
["番号",{"$f":"IF('５月集金一覧'!C$4=\"\",\"\",'５月集金一覧'!C$4)","v":""},{"$f":"IF('５月集金一覧'!D$4=\"\",\"\",'５月集金一覧'!D$4)","v":""},{"$f":"IF('５月集金一覧'!E$4=\"\",\"\",'５月集金一覧'!E$4)","v":""},{"$f":"IF('５月集金一覧'!F$4=\"\",\"\",'５月集金一覧'!F$4)","v":""},{"$f":"IF('５月集金一覧'!G$4=\"\",\"\",'５月集金一覧'!G$4)","v":""},"個人計"]
[19,{"$f":"VLOOKUP($A40,'５月集金一覧'!$A$4:$H$44,B$2,FALSE)","v":0},{"$f":"VLOOKUP($A40,'５月集金一覧'!$A$4:$H$44,C$2,FALSE)","v":0},{"$f":"VLOOKUP($A40,'５月集金一覧'!$A$4:$H$44,D$2,FALSE)","v":0},{"$f":"VLOOKUP($A40,'５月集金一覧'!$A$4:$H$44,E$2,FALSE)","v":0},{"$f":"VLOOKUP($A40,'５月集金一覧'!$A$4:$H$44,F$2,FALSE)","v":0},{"$f":"VLOOKUP($A40,'５月集金一覧'!$A$4:$H$44,G$2,FALSE)","v":0}]
["番号",{"$f":"IF('５月集金一覧'!C$4=\"\",\"\",'５月集金一覧'!C$4)","v":""},{"$f":"IF('５月集金一覧'!D$4=\"\",\"\",'５月集金一覧'!D$4)","v":""},{"$f":"IF('５月集金一覧'!E$4=\"\",\"\",'５月集金一覧'!E$4)","v":""},{"$f":"IF('５月集金一覧'!F$4=\"\",\"\",'５月集金一覧'!F$4)","v":""},{"$f":"IF('５月集金一覧'!G$4=\"\",\"\",'５月集金一覧'!G$4)","v":""},"個人計"]
[20,{"$f":"VLOOKUP($A42,'５月集金一覧'!$A$4:$H$44,B$2,FALSE)","v":0},{"$f":"VLOOKUP($A42,'５月集金一覧'!$A$4:$H$44,C$2,FALSE)","v":0},{"$f":"VLOOKUP($A42,'５月集金一覧'!$A$4:$H$44,D$2,FALSE)","v":0},{"$f":"VLOOKUP($A42,'５月集金一覧'!$A$4:$H$44,E$2,FALSE)","v":0},{"$f":"VLOOKUP($A42,'５月集金一覧'!$A$4:$H$44,F$2,FALSE)","v":0},{"$f":"VLOOKUP($A42,'５月集金一覧'!$A$4:$H$44,G$2,FALSE)","v":0}]
["番号",{"$f":"IF('５月集金一覧'!C$4=\"\",\"\",'５月集金一覧'!C$4)","v":""},{"$f":"IF('５月集金一覧'!D$4=\"\",\"\",'５月集金一覧'!D$4)","v":""},{"$f":"IF('５月集金一覧'!E$4=\"\",\"\",'５月集金一覧'!E$4)","v":""},{"$f":"IF('５月集金一覧'!F$4=\"\",\"\",'５月集金一覧'!F$4)","v":""},{"$f":"IF('５月集金一覧'!G$4=\"\",\"\",'５月集金一覧'!G$4)","v":""},"個人計"]
[21,{"$f":"VLOOKUP($A44,'５月集金一覧'!$A$4:$H$44,B$2,FALSE)","v":0},{"$f":"VLOOKUP($A44,'５月集金一覧'!$A$4:$H$44,C$2,FALSE)","v":0},{"$f":"VLOOKUP($A44,'５月集金一覧'!$A$4:$H$44,D$2,FALSE)","v":0},{"$f":"VLOOKUP($A44,'５月集金一覧'!$A$4:$H$44,E$2,FALSE)","v":0},{"$f":"VLOOKUP($A44,'５月集金一覧'!$A$4:$H$44,F$2,FALSE)","v":0},{"$f":"VLOOKUP($A44,'５月集金一覧'!$A$4:$H$44,G$2,FALSE)","v":0}]
["番号",{"$f":"IF('５月集金一覧'!C$4=\"\",\"\",'５月集金一覧'!C$4)","v":""},{"$f":"IF('５月集金一覧'!D$4=\"\",\"\",'５月集金一覧'!D$4)","v":""},{"$f":"IF('５月集金一覧'!E$4=\"\",\"\",'５月集金一覧'!E$4)","v":""},{"$f":"IF('５月集金一覧'!F$4=\"\",\"\",'５月集金一覧'!F$4)","v":""},{"$f":"IF('５月集金一覧'!G$4=\"\",\"\",'５月集金一覧'!G$4)","v":""},"個人計"]
[22,{"$f":"VLOOKUP($A46,'５月集金一覧'!$A$4:$H$44,B$2,FALSE)","v":0},{"$f":"VLOOKUP($A46,'５月集金一覧'!$A$4:$H$44,C$2,FALSE)","v":0},{"$f":"VLOOKUP($A46,'５月集金一覧'!$A$4:$H$44,D$2,FALSE)","v":0},{"$f":"VLOOKUP($A46,'５月集金一覧'!$A$4:$H$44,E$2,FALSE)","v":0},{"$f":"VLOOKUP($A46,'５月集金一覧'!$A$4:$H$44,F$2,FALSE)","v":0},{"$f":"VLOOKUP($A46,'５月集金一覧'!$A$4:$H$44,G$2,FALSE)","v":0}]

{"sheet":"6月個票","index":25,"n_rows":46,"n_cols":15,"rows_kept":46,"cut":false,"hidden":false,"merged":[]}
[null,"令和",{"$f":"メイン!D7","v":0},"年度",{"$f":"メイン!C8","v":0},"年",{"$f":"メイン!E8","v":0},"組"]
[1,3,4,5,6,7,8,null,1,3,4,5,6,7,8]
["番号",{"$f":"IF('６月集金一覧'!C$4=\"\",\"\",'６月集金一覧'!C$4)","v":""},{"$f":"IF('６月集金一覧'!$D$4=\"\",\"\",'６月集金一覧'!D$4)","v":""},{"$f":"IF('６月集金一覧'!E$4=\"\",\"\",'６月集金一覧'!E$4)","v":""},{"$f":"IF('６月集金一覧'!F$4=\"\",\"\",'６月集金一覧'!F$4)","v":""},{"$f":"IF('６月集金一覧'!G$4=\"\",\"\",'６月集金一覧'!G$4)","v":""},"個人計",null,"番号",{"$f":"IF('６月集金一覧'!C$4=\"\",\"\",'６月集金一覧'!C$4)","v":""},{"$f":"IF('６月集金一覧'!D$4=\"\",\"\",'６月集金一覧'!D$4)","v":""},{"$f":"IF('６月集金一覧'!E$4=\"\",\"\",'６月集金一覧'!E$4)","v":""},{"$f":"IF('６月集金一覧'!F$4=\"\",\"\",'６月集金一覧'!F$4)","v":""},{"$f":"IF('６月集金一覧'!G$4=\"\",\"\",'６月集金一覧'!G$4)","v":""},"個人計"]
[1,{"$f":"VLOOKUP($A4,'６月集金一覧'!$A$4:$H$44,B$2,FALSE)","v":0},{"$f":"VLOOKUP($A4,'６月集金一覧'!$A$4:$H$44,C$2,FALSE)","v":0},{"$f":"VLOOKUP($A4,'６月集金一覧'!$A$4:$H$44,D$2,FALSE)","v":0},{"$f":"VLOOKUP($A4,'６月集金一覧'!$A$4:$H$44,E$2,FALSE)","v":0},{"$f":"VLOOKUP($A4,'６月集金一覧'!$A$4:$H$44,F$2,FALSE)","v":0},{"$f":"VLOOKUP($A4,'６月集金一覧'!$A$4:$H$44,G$2,FALSE)","v":0},null,23,{"$f":"VLOOKUP($I4,'６月集金一覧'!$A$4:$H$44,J$2,FALSE)","v":0},{"$f":"VLOOKUP($I4,'６月集金一覧'!$A$4:$H$44,K$2,FALSE)","v":0},{"$f":"VLOOKUP($I4,'６月集金一覧'!$A$4:$H$44,L$2,FALSE)","v":0},{"$f":"VLOOKUP($I4,'６月集金一覧'!$A$4:$H$44,M$2,FALSE)","v":0},{"$f":"VLOOKUP($I4,'６月集金一覧'!$A$4:$H$44,N$2,FALSE)","v":0},{"$f":"VLOOKUP($I4,'６月集金一覧'!$A$4:$H$44,O$2,FALSE)","v":0}]
["番号",{"$f":"IF('６月集金一覧'!C$4=\"\",\"\",'６月集金一覧'!C$4)","v":""},{"$f":"IF('６月集金一覧'!D$4=\"\",\"\",'６月集金一覧'!D$4)","v":""},{"$f":"IF('６月集金一覧'!E$4=\"\",\"\",'６月集金一覧'!E$4)","v":""},{"$f":"IF('６月集金一覧'!F$4=\"\",\"\",'６月集金一覧'!F$4)","v":""},{"$f":"IF('６月集金一覧'!G$4=\"\",\"\",'６月集金一覧'!G$4)","v":""},"個人計",null,"番号",{"$f":"IF('６月集金一覧'!C$4=\"\",\"\",'６月集金一覧'!C$4)","v":""},{"$f":"IF('６月集金一覧'!D$4=\"\",\"\",'６月集金一覧'!D$4)","v":""},{"$f":"IF('６月集金一覧'!E$4=\"\",\"\",'６月集金一覧'!E$4)","v":""},{"$f":"IF('６月集金一覧'!F$4=\"\",\"\",'６月集金一覧'!F$4)","v":""},{"$f":"IF('６月集金一覧'!G$4=\"\",\"\",'６月集金一覧'!G$4)","v":""},"個人計"]
[2,{"$f":"VLOOKUP($A6,'６月集金一覧'!$A$4:$H$44,B$2,FALSE)","v":0},{"$f":"VLOOKUP($A6,'６月集金一覧'!$A$4:$H$44,C$2,FALSE)","v":0},{"$f":"VLOOKUP($A6,'６月集金一覧'!$A$4:$H$44,D$2,FALSE)","v":0},{"$f":"VLOOKUP($A6,'６月集金一覧'!$A$4:$H$44,E$2,FALSE)","v":0},{"$f":"VLOOKUP($A6,'６月集金一覧'!$A$4:$H$44,F$2,FALSE)","v":0},{"$f":"VLOOKUP($A6,'６月集金一覧'!$A$4:$H$44,G$2,FALSE)","v":0},null,24,{"$f":"VLOOKUP($I6,'６月集金一覧'!$A$4:$H$44,J$2,FALSE)","v":0},{"$f":"VLOOKUP($I6,'６月集金一覧'!$A$4:$H$44,K$2,FALSE)","v":0},{"$f":"VLOOKUP($I6,'６月集金一覧'!$A$4:$H$44,L$2,FALSE)","v":0},{"$f":"VLOOKUP($I6,'６月集金一覧'!$A$4:$H$44,M$2,FALSE)","v":0},{"$f":"VLOOKUP($I6,'６月集金一覧'!$A$4:$H$44,N$2,FALSE)","v":0},{"$f":"VLOOKUP($I6,'６月集金一覧'!$A$4:$H$44,O$2,FALSE)","v":0}]
["番号",{"$f":"IF('６月集金一覧'!C$4=\"\",\"\",'６月集金一覧'!C$4)","v":""},{"$f":"IF('６月集金一覧'!D$4=\"\",\"\",'６月集金一覧'!D$4)","v":""},{"$f":"IF('６月集金一覧'!E$4=\"\",\"\",'６月集金一覧'!E$4)","v":""},{"$f":"IF('６月集金一覧'!F$4=\"\",\"\",'６月集金一覧'!F$4)","v":""},{"$f":"IF('６月集金一覧'!G$4=\"\",\"\",'６月集金一覧'!G$4)","v":""},"個人計",null,"番号",{"$f":"IF('６月集金一覧'!C$4=\"\",\"\",'６月集金一覧'!C$4)","v":""},{"$f":"IF('６月集金一覧'!D$4=\"\",\"\",'６月集金一覧'!D$4)","v":""},{"$f":"IF('６月集金一覧'!E$4=\"\",\"\",'６月集金一覧'!E$4)","v":""},{"$f":"IF('６月集金一覧'!F$4=\"\",\"\",'６月集金一覧'!F$4)","v":""},{"$f":"IF('６月集金一覧'!G$4=\"\",\"\",'６月集金一覧'!G$4)","v":""},"個人計"]
[3,{"$f":"VLOOKUP($A8,'６月集金一覧'!$A$4:$H$44,B$2,FALSE)","v":0},{"$f":"VLOOKUP($A8,'６月集金一覧'!$A$4:$H$44,C$2,FALSE)","v":0},{"$f":"VLOOKUP($A8,'６月集金一覧'!$A$4:$H$44,D$2,FALSE)","v":0},{"$f":"VLOOKUP($A8,'６月集金一覧'!$A$4:$H$44,E$2,FALSE)","v":0},{"$f":"VLOOKUP($A8,'６月集金一覧'!$A$4:$H$44,F$2,FALSE)","v":0},{"$f":"VLOOKUP($A8,'６月集金一覧'!$A$4:$H$44,G$2,FALSE)","v":0},null,25,{"$f":"VLOOKUP($I8,'６月集金一覧'!$A$4:$H$44,J$2,FALSE)","v":0},{"$f":"VLOOKUP($I8,'６月集金一覧'!$A$4:$H$44,K$2,FALSE)","v":0},{"$f":"VLOOKUP($I8,'６月集金一覧'!$A$4:$H$44,L$2,FALSE)","v":0},{"$f":"VLOOKUP($I8,'６月集金一覧'!$A$4:$H$44,M$2,FALSE)","v":0},{"$f":"VLOOKUP($I8,'６月集金一覧'!$A$4:$H$44,N$2,FALSE)","v":0},{"$f":"VLOOKUP($I8,'６月集金一覧'!$A$4:$H$44,O$2,FALSE)","v":0}]
["番号",{"$f":"IF('６月集金一覧'!C$4=\"\",\"\",'６月集金一覧'!C$4)","v":""},{"$f":"IF('６月集金一覧'!D$4=\"\",\"\",'６月集金一覧'!D$4)","v":""},{"$f":"IF('６月集金一覧'!E$4=\"\",\"\",'６月集金一覧'!E$4)","v":""},{"$f":"IF('６月集金一覧'!F$4=\"\",\"\",'６月集金一覧'!F$4)","v":""},{"$f":"IF('６月集金一覧'!G$4=\"\",\"\",'６月集金一覧'!G$4)","v":""},"個人計",null,"番号",{"$f":"IF('６月集金一覧'!C$4=\"\",\"\",'６月集金一覧'!C$4)","v":""},{"$f":"IF('６月集金一覧'!D$4=\"\",\"\",'６月集金一覧'!D$4)","v":""},{"$f":"IF('６月集金一覧'!E$4=\"\",\"\",'６月集金一覧'!E$4)","v":""},{"$f":"IF('６月集金一覧'!F$4=\"\",\"\",'６月集金一覧'!F$4)","v":""},{"$f":"IF('６月集金一覧'!G$4=\"\",\"\",'６月集金一覧'!G$4)","v":""},"個人計"]
[4,{"$f":"VLOOKUP($A10,'６月集金一覧'!$A$4:$H$44,B$2,FALSE)","v":0},{"$f":"VLOOKUP($A10,'６月集金一覧'!$A$4:$H$44,C$2,FALSE)","v":0},{"$f":"VLOOKUP($A10,'６月集金一覧'!$A$4:$H$44,D$2,FALSE)","v":0},{"$f":"VLOOKUP($A10,'６月集金一覧'!$A$4:$H$44,E$2,FALSE)","v":0},{"$f":"VLOOKUP($A10,'６月集金一覧'!$A$4:$H$44,F$2,FALSE)","v":0},{"$f":"VLOOKUP($A10,'６月集金一覧'!$A$4:$H$44,G$2,FALSE)","v":0},null,26,{"$f":"VLOOKUP($I10,'６月集金一覧'!$A$4:$H$44,J$2,FALSE)","v":0},{"$f":"VLOOKUP($I10,'６月集金一覧'!$A$4:$H$44,K$2,FALSE)","v":0},{"$f":"VLOOKUP($I10,'６月集金一覧'!$A$4:$H$44,L$2,FALSE)","v":0},{"$f":"VLOOKUP($I10,'６月集金一覧'!$A$4:$H$44,M$2,FALSE)","v":0},{"$f":"VLOOKUP($I10,'６月集金一覧'!$A$4:$H$44,N$2,FALSE)","v":0},{"$f":"VLOOKUP($I10,'６月集金一覧'!$A$4:$H$44,O$2,FALSE)","v":0}]
["番号",{"$f":"IF('６月集金一覧'!C$4=\"\",\"\",'６月集金一覧'!C$4)","v":""},{"$f":"IF('６月集金一覧'!D$4=\"\",\"\",'６月集金一覧'!D$4)","v":""},{"$f":"IF('６月集金一覧'!E$4=\"\",\"\",'６月集金一覧'!E$4)","v":""},{"$f":"IF('６月集金一覧'!F$4=\"\",\"\",'６月集金一覧'!F$4)","v":""},{"$f":"IF('６月集金一覧'!G$4=\"\",\"\",'６月集金一覧'!G$4)","v":""},"個人計",null,"番号",{"$f":"IF('６月集金一覧'!C$4=\"\",\"\",'６月集金一覧'!C$4)","v":""},{"$f":"IF('６月集金一覧'!D$4=\"\",\"\",'６月集金一覧'!D$4)","v":""},{"$f":"IF('６月集金一覧'!E$4=\"\",\"\",'６月集金一覧'!E$4)","v":""},{"$f":"IF('６月集金一覧'!F$4=\"\",\"\",'６月集金一覧'!F$4)","v":""},{"$f":"IF('６月集金一覧'!G$4=\"\",\"\",'６月集金一覧'!G$4)","v":""},"個人計"]
[5,{"$f":"VLOOKUP($A12,'６月集金一覧'!$A$4:$H$44,B$2,FALSE)","v":0},{"$f":"VLOOKUP($A12,'６月集金一覧'!$A$4:$H$44,C$2,FALSE)","v":0},{"$f":"VLOOKUP($A12,'６月集金一覧'!$A$4:$H$44,D$2,FALSE)","v":0},{"$f":"VLOOKUP($A12,'６月集金一覧'!$A$4:$H$44,E$2,FALSE)","v":0},{"$f":"VLOOKUP($A12,'６月集金一覧'!$A$4:$H$44,F$2,FALSE)","v":0},{"$f":"VLOOKUP($A12,'６月集金一覧'!$A$4:$H$44,G$2,FALSE)","v":0},null,27,{"$f":"VLOOKUP($I12,'６月集金一覧'!$A$4:$H$44,J$2,FALSE)","v":0},{"$f":"VLOOKUP($I12,'６月集金一覧'!$A$4:$H$44,K$2,FALSE)","v":0},{"$f":"VLOOKUP($I12,'６月集金一覧'!$A$4:$H$44,L$2,FALSE)","v":0},{"$f":"VLOOKUP($I12,'６月集金一覧'!$A$4:$H$44,M$2,FALSE)","v":0},{"$f":"VLOOKUP($I12,'６月集金一覧'!$A$4:$H$44,N$2,FALSE)","v":0},{"$f":"VLOOKUP($I12,'６月集金一覧'!$A$4:$H$44,O$2,FALSE)","v":0}]
["番号",{"$f":"IF('６月集金一覧'!C$4=\"\",\"\",'６月集金一覧'!C$4)","v":""},{"$f":"IF('６月集金一覧'!D$4=\"\",\"\",'６月集金一覧'!D$4)","v":""},{"$f":"IF('６月集金一覧'!E$4=\"\",\"\",'６月集金一覧'!E$4)","v":""},{"$f":"IF('６月集金一覧'!F$4=\"\",\"\",'６月集金一覧'!F$4)","v":""},{"$f":"IF('６月集金一覧'!G$4=\"\",\"\",'６月集金一覧'!G$4)","v":""},"個人計",null,"番号",{"$f":"IF('６月集金一覧'!C$4=\"\",\"\",'６月集金一覧'!C$4)","v":""},{"$f":"IF('６月集金一覧'!D$4=\"\",\"\",'６月集金一覧'!D$4)","v":""},{"$f":"IF('６月集金一覧'!E$4=\"\",\"\",'６月集金一覧'!E$4)","v":""},{"$f":"IF('６月集金一覧'!F$4=\"\",\"\",'６月集金一覧'!F$4)","v":""},{"$f":"IF('６月集金一覧'!G$4=\"\",\"\",'６月集金一覧'!G$4)","v":""},"個人計"]
[6,{"$f":"VLOOKUP($A14,'６月集金一覧'!$A$4:$H$44,B$2,FALSE)","v":0},{"$f":"VLOOKUP($A14,'６月集金一覧'!$A$4:$H$44,C$2,FALSE)","v":0},{"$f":"VLOOKUP($A14,'６月集金一覧'!$A$4:$H$44,D$2,FALSE)","v":0},{"$f":"VLOOKUP($A14,'６月集金一覧'!$A$4:$H$44,E$2,FALSE)","v":0},{"$f":"VLOOKUP($A14,'６月集金一覧'!$A$4:$H$44,F$2,FALSE)","v":0},{"$f":"VLOOKUP($A14,'６月集金一覧'!$A$4:$H$44,G$2,FALSE)","v":0},null,28,{"$f":"VLOOKUP($I14,'６月集金一覧'!$A$4:$H$44,J$2,FALSE)","v":0},{"$f":"VLOOKUP($I14,'６月集金一覧'!$A$4:$H$44,K$2,FALSE)","v":0},{"$f":"VLOOKUP($I14,'６月集金一覧'!$A$4:$H$44,L$2,FALSE)","v":0},{"$f":"VLOOKUP($I14,'６月集金一覧'!$A$4:$H$44,M$2,FALSE)","v":0},{"$f":"VLOOKUP($I14,'６月集金一覧'!$A$4:$H$44,N$2,FALSE)","v":0},{"$f":"VLOOKUP($I14,'６月集金一覧'!$A$4:$H$44,O$2,FALSE)","v":0}]
["番号",{"$f":"IF('６月集金一覧'!C$4=\"\",\"\",'６月集金一覧'!C$4)","v":""},{"$f":"IF('６月集金一覧'!D$4=\"\",\"\",'６月集金一覧'!D$4)","v":""},{"$f":"IF('６月集金一覧'!E$4=\"\",\"\",'６月集金一覧'!E$4)","v":""},{"$f":"IF('６月集金一覧'!F$4=\"\",\"\",'６月集金一覧'!F$4)","v":""},{"$f":"IF('６月集金一覧'!G$4=\"\",\"\",'６月集金一覧'!G$4)","v":""},"個人計",null,"番号",{"$f":"IF('６月集金一覧'!C$4=\"\",\"\",'６月集金一覧'!C$4)","v":""},{"$f":"IF('６月集金一覧'!D$4=\"\",\"\",'６月集金一覧'!D$4)","v":""},{"$f":"IF('６月集金一覧'!E$4=\"\",\"\",'６月集金一覧'!E$4)","v":""},{"$f":"IF('６月集金一覧'!F$4=\"\",\"\",'６月集金一覧'!F$4)","v":""},{"$f":"IF('６月集金一覧'!G$4=\"\",\"\",'６月集金一覧'!G$4)","v":""},"個人計"]
[7,{"$f":"VLOOKUP($A16,'６月集金一覧'!$A$4:$H$44,B$2,FALSE)","v":0},{"$f":"VLOOKUP($A16,'６月集金一覧'!$A$4:$H$44,C$2,FALSE)","v":0},{"$f":"VLOOKUP($A16,'６月集金一覧'!$A$4:$H$44,D$2,FALSE)","v":0},{"$f":"VLOOKUP($A16,'６月集金一覧'!$A$4:$H$44,E$2,FALSE)","v":0},{"$f":"VLOOKUP($A16,'６月集金一覧'!$A$4:$H$44,F$2,FALSE)","v":0},{"$f":"VLOOKUP($A16,'６月集金一覧'!$A$4:$H$44,G$2,FALSE)","v":0},null,29,{"$f":"VLOOKUP($I16,'６月集金一覧'!$A$4:$H$44,J$2,FALSE)","v":0},{"$f":"VLOOKUP($I16,'６月集金一覧'!$A$4:$H$44,K$2,FALSE)","v":0},{"$f":"VLOOKUP($I16,'６月集金一覧'!$A$4:$H$44,L$2,FALSE)","v":0},{"$f":"VLOOKUP($I16,'６月集金一覧'!$A$4:$H$44,M$2,FALSE)","v":0},{"$f":"VLOOKUP($I16,'６月集金一覧'!$A$4:$H$44,N$2,FALSE)","v":0},{"$f":"VLOOKUP($I16,'６月集金一覧'!$A$4:$H$44,O$2,FALSE)","v":0}]
["番号",{"$f":"IF('６月集金一覧'!C$4=\"\",\"\",'６月集金一覧'!C$4)","v":""},{"$f":"IF('６月集金一覧'!D$4=\"\",\"\",'６月集金一覧'!D$4)","v":""},{"$f":"IF('６月集金一覧'!E$4=\"\",\"\",'６月集金一覧'!E$4)","v":""},{"$f":"IF('６月集金一覧'!F$4=\"\",\"\",'６月集金一覧'!F$4)","v":""},{"$f":"IF('６月集金一覧'!G$4=\"\",\"\",'６月集金一覧'!G$4)","v":""},"個人計",null,"番号",{"$f":"IF('６月集金一覧'!C$4=\"\",\"\",'６月集金一覧'!C$4)","v":""},{"$f":"IF('６月集金一覧'!D$4=\"\",\"\",'６月集金一覧'!D$4)","v":""},{"$f":"IF('６月集金一覧'!E$4=\"\",\"\",'６月集金一覧'!E$4)","v":""},{"$f":"IF('６月集金一覧'!F$4=\"\",\"\",'６月集金一覧'!F$4)","v":""},{"$f":"IF('６月集金一覧'!G$4=\"\",\"\",'６月集金一覧'!G$4)","v":""},"個人計"]
[8,{"$f":"VLOOKUP($A18,'６月集金一覧'!$A$4:$H$44,B$2,FALSE)","v":0},{"$f":"VLOOKUP($A18,'６月集金一覧'!$A$4:$H$44,C$2,FALSE)","v":0},{"$f":"VLOOKUP($A18,'６月集金一覧'!$A$4:$H$44,D$2,FALSE)","v":0},{"$f":"VLOOKUP($A18,'６月集金一覧'!$A$4:$H$44,E$2,FALSE)","v":0},{"$f":"VLOOKUP($A18,'６月集金一覧'!$A$4:$H$44,F$2,FALSE)","v":0},{"$f":"VLOOKUP($A18,'６月集金一覧'!$A$4:$H$44,G$2,FALSE)","v":0},null,30,{"$f":"VLOOKUP($I18,'６月集金一覧'!$A$4:$H$44,J$2,FALSE)","v":0},{"$f":"VLOOKUP($I18,'６月集金一覧'!$A$4:$H$44,K$2,FALSE)","v":0},{"$f":"VLOOKUP($I18,'６月集金一覧'!$A$4:$H$44,L$2,FALSE)","v":0},{"$f":"VLOOKUP($I18,'６月集金一覧'!$A$4:$H$44,M$2,FALSE)","v":0},{"$f":"VLOOKUP($I18,'６月集金一覧'!$A$4:$H$44,N$2,FALSE)","v":0},{"$f":"VLOOKUP($I18,'６月集金一覧'!$A$4:$H$44,O$2,FALSE)","v":0}]
["番号",{"$f":"IF('６月集金一覧'!C$4=\"\",\"\",'６月集金一覧'!C$4)","v":""},{"$f":"IF('６月集金一覧'!D$4=\"\",\"\",'６月集金一覧'!D$4)","v":""},{"$f":"IF('６月集金一覧'!E$4=\"\",\"\",'６月集金一覧'!E$4)","v":""},{"$f":"IF('６月集金一覧'!F$4=\"\",\"\",'６月集金一覧'!F$4)","v":""},{"$f":"IF('６月集金一覧'!G$4=\"\",\"\",'６月集金一覧'!G$4)","v":""},"個人計",null,"番号",{"$f":"IF('６月集金一覧'!C$4=\"\",\"\",'６月集金一覧'!C$4)","v":""},{"$f":"IF('６月集金一覧'!D$4=\"\",\"\",'６月集金一覧'!D$4)","v":""},{"$f":"IF('６月集金一覧'!E$4=\"\",\"\",'６月集金一覧'!E$4)","v":""},{"$f":"IF('６月集金一覧'!F$4=\"\",\"\",'６月集金一覧'!F$4)","v":""},{"$f":"IF('６月集金一覧'!G$4=\"\",\"\",'６月集金一覧'!G$4)","v":""},"個人計"]
[9,{"$f":"VLOOKUP($A20,'６月集金一覧'!$A$4:$H$44,B$2,FALSE)","v":0},{"$f":"VLOOKUP($A20,'６月集金一覧'!$A$4:$H$44,C$2,FALSE)","v":0},{"$f":"VLOOKUP($A20,'６月集金一覧'!$A$4:$H$44,D$2,FALSE)","v":0},{"$f":"VLOOKUP($A20,'６月集金一覧'!$A$4:$H$44,E$2,FALSE)","v":0},{"$f":"VLOOKUP($A20,'６月集金一覧'!$A$4:$H$44,F$2,FALSE)","v":0},{"$f":"VLOOKUP($A20,'６月集金一覧'!$A$4:$H$44,G$2,FALSE)","v":0},null,31,{"$f":"VLOOKUP($I20,'６月集金一覧'!$A$4:$H$44,J$2,FALSE)","v":0},{"$f":"VLOOKUP($I20,'６月集金一覧'!$A$4:$H$44,K$2,FALSE)","v":0},{"$f":"VLOOKUP($I20,'６月集金一覧'!$A$4:$H$44,L$2,FALSE)","v":0},{"$f":"VLOOKUP($I20,'６月集金一覧'!$A$4:$H$44,M$2,FALSE)","v":0},{"$f":"VLOOKUP($I20,'６月集金一覧'!$A$4:$H$44,N$2,FALSE)","v":0},{"$f":"VLOOKUP($I20,'６月集金一覧'!$A$4:$H$44,O$2,FALSE)","v":0}]
["番号",{"$f":"IF('６月集金一覧'!C$4=\"\",\"\",'６月集金一覧'!C$4)","v":""},{"$f":"IF('６月集金一覧'!D$4=\"\",\"\",'６月集金一覧'!D$4)","v":""},{"$f":"IF('６月集金一覧'!E$4=\"\",\"\",'６月集金一覧'!E$4)","v":""},{"$f":"IF('６月集金一覧'!F$4=\"\",\"\",'６月集金一覧'!F$4)","v":""},{"$f":"IF('６月集金一覧'!G$4=\"\",\"\",'６月集金一覧'!G$4)","v":""},"個人計",null,"番号",{"$f":"IF('６月集金一覧'!C$4=\"\",\"\",'６月集金一覧'!C$4)","v":""},{"$f":"IF('６月集金一覧'!D$4=\"\",\"\",'６月集金一覧'!D$4)","v":""},{"$f":"IF('６月集金一覧'!E$4=\"\",\"\",'６月集金一覧'!E$4)","v":""},{"$f":"IF('６月集金一覧'!F$4=\"\",\"\",'６月集金一覧'!F$4)","v":""},{"$f":"IF('６月集金一覧'!G$4=\"\",\"\",'６月集金一覧'!G$4)","v":""},"個人計"]
[10,{"$f":"VLOOKUP($A22,'６月集金一覧'!$A$4:$H$44,B$2,FALSE)","v":0},{"$f":"VLOOKUP($A22,'６月集金一覧'!$A$4:$H$44,C$2,FALSE)","v":0},{"$f":"VLOOKUP($A22,'６月集金一覧'!$A$4:$H$44,D$2,FALSE)","v":0},{"$f":"VLOOKUP($A22,'６月集金一覧'!$A$4:$H$44,E$2,FALSE)","v":0},{"$f":"VLOOKUP($A22,'６月集金一覧'!$A$4:$H$44,F$2,FALSE)","v":0},{"$f":"VLOOKUP($A22,'６月集金一覧'!$A$4:$H$44,G$2,FALSE)","v":0},null,32,{"$f":"VLOOKUP($I22,'６月集金一覧'!$A$4:$H$44,J$2,FALSE)","v":0},{"$f":"VLOOKUP($I22,'６月集金一覧'!$A$4:$H$44,K$2,FALSE)","v":0},{"$f":"VLOOKUP($I22,'６月集金一覧'!$A$4:$H$44,L$2,FALSE)","v":0},{"$f":"VLOOKUP($I22,'６月集金一覧'!$A$4:$H$44,M$2,FALSE)","v":0},{"$f":"VLOOKUP($I22,'６月集金一覧'!$A$4:$H$44,N$2,FALSE)","v":0},{"$f":"VLOOKUP($I22,'６月集金一覧'!$A$4:$H$44,O$2,FALSE)","v":0}]
["番号",{"$f":"IF('６月集金一覧'!C$4=\"\",\"\",'６月集金一覧'!C$4)","v":""},{"$f":"IF('６月集金一覧'!D$4=\"\",\"\",'６月集金一覧'!D$4)","v":""},{"$f":"IF('６月集金一覧'!E$4=\"\",\"\",'６月集金一覧'!E$4)","v":""},{"$f":"IF('６月集金一覧'!F$4=\"\",\"\",'６月集金一覧'!F$4)","v":""},{"$f":"IF('６月集金一覧'!G$4=\"\",\"\",'６月集金一覧'!G$4)","v":""},"個人計",null,"番号",{"$f":"IF('６月集金一覧'!C$4=\"\",\"\",'６月集金一覧'!C$4)","v":""},{"$f":"IF('６月集金一覧'!D$4=\"\",\"\",'６月集金一覧'!D$4)","v":""},{"$f":"IF('６月集金一覧'!E$4=\"\",\"\",'６月集金一覧'!E$4)","v":""},{"$f":"IF('６月集金一覧'!F$4=\"\",\"\",'６月集金一覧'!F$4)","v":""},{"$f":"IF('６月集金一覧'!G$4=\"\",\"\",'６月集金一覧'!G$4)","v":""},"個人計"]
[11,{"$f":"VLOOKUP($A24,'６月集金一覧'!$A$4:$H$44,B$2,FALSE)","v":0},{"$f":"VLOOKUP($A24,'６月集金一覧'!$A$4:$H$44,C$2,FALSE)","v":0},{"$f":"VLOOKUP($A24,'６月集金一覧'!$A$4:$H$44,D$2,FALSE)","v":0},{"$f":"VLOOKUP($A24,'６月集金一覧'!$A$4:$H$44,E$2,FALSE)","v":0},{"$f":"VLOOKUP($A24,'６月集金一覧'!$A$4:$H$44,F$2,FALSE)","v":0},{"$f":"VLOOKUP($A24,'６月集金一覧'!$A$4:$H$44,G$2,FALSE)","v":0},null,33,{"$f":"VLOOKUP($I24,'６月集金一覧'!$A$4:$H$44,J$2,FALSE)","v":0},{"$f":"VLOOKUP($I24,'６月集金一覧'!$A$4:$H$44,K$2,FALSE)","v":0},{"$f":"VLOOKUP($I24,'６月集金一覧'!$A$4:$H$44,L$2,FALSE)","v":0},{"$f":"VLOOKUP($I24,'６月集金一覧'!$A$4:$H$44,M$2,FALSE)","v":0},{"$f":"VLOOKUP($I24,'６月集金一覧'!$A$4:$H$44,N$2,FALSE)","v":0},{"$f":"VLOOKUP($I24,'６月集金一覧'!$A$4:$H$44,O$2,FALSE)","v":0}]
["番号",{"$f":"IF('６月集金一覧'!C$4=\"\",\"\",'６月集金一覧'!C$4)","v":""},{"$f":"IF('６月集金一覧'!D$4=\"\",\"\",'６月集金一覧'!D$4)","v":""},{"$f":"IF('６月集金一覧'!E$4=\"\",\"\",'６月集金一覧'!E$4)","v":""},{"$f":"IF('６月集金一覧'!F$4=\"\",\"\",'６月集金一覧'!F$4)","v":""},{"$f":"IF('６月集金一覧'!G$4=\"\",\"\",'６月集金一覧'!G$4)","v":""},"個人計",null,"番号",{"$f":"IF('６月集金一覧'!C$4=\"\",\"\",'６月集金一覧'!C$4)","v":""},{"$f":"IF('６月集金一覧'!D$4=\"\",\"\",'６月集金一覧'!D$4)","v":""},{"$f":"IF('６月集金一覧'!E$4=\"\",\"\",'６月集金一覧'!E$4)","v":""},{"$f":"IF('６月集金一覧'!F$4=\"\",\"\",'６月集金一覧'!F$4)","v":""},{"$f":"IF('６月集金一覧'!G$4=\"\",\"\",'６月集金一覧'!G$4)","v":""},"個人計"]
[12,{"$f":"VLOOKUP($A26,'６月集金一覧'!$A$4:$H$44,B$2,FALSE)","v":0},{"$f":"VLOOKUP($A26,'６月集金一覧'!$A$4:$H$44,C$2,FALSE)","v":0},{"$f":"VLOOKUP($A26,'６月集金一覧'!$A$4:$H$44,D$2,FALSE)","v":0},{"$f":"VLOOKUP($A26,'６月集金一覧'!$A$4:$H$44,E$2,FALSE)","v":0},{"$f":"VLOOKUP($A26,'６月集金一覧'!$A$4:$H$44,F$2,FALSE)","v":0},{"$f":"VLOOKUP($A26,'６月集金一覧'!$A$4:$H$44,G$2,FALSE)","v":0},null,34,{"$f":"VLOOKUP($I26,'６月集金一覧'!$A$4:$H$44,J$2,FALSE)","v":0},{"$f":"VLOOKUP($I26,'６月集金一覧'!$A$4:$H$44,K$2,FALSE)","v":0},{"$f":"VLOOKUP($I26,'６月集金一覧'!$A$4:$H$44,L$2,FALSE)","v":0},{"$f":"VLOOKUP($I26,'６月集金一覧'!$A$4:$H$44,M$2,FALSE)","v":0},{"$f":"VLOOKUP($I26,'６月集金一覧'!$A$4:$H$44,N$2,FALSE)","v":0},{"$f":"VLOOKUP($I26,'６月集金一覧'!$A$4:$H$44,O$2,FALSE)","v":0}]
["番号",{"$f":"IF('６月集金一覧'!C$4=\"\",\"\",'６月集金一覧'!C$4)","v":""},{"$f":"IF('６月集金一覧'!D$4=\"\",\"\",'６月集金一覧'!D$4)","v":""},{"$f":"IF('６月集金一覧'!E$4=\"\",\"\",'６月集金一覧'!E$4)","v":""},{"$f":"IF('６月集金一覧'!F$4=\"\",\"\",'６月集金一覧'!F$4)","v":""},{"$f":"IF('６月集金一覧'!G$4=\"\",\"\",'６月集金一覧'!G$4)","v":""},"個人計",null,"番号",{"$f":"IF('６月集金一覧'!C$4=\"\",\"\",'６月集金一覧'!C$4)","v":""},{"$f":"IF('６月集金一覧'!D$4=\"\",\"\",'６月集金一覧'!D$4)","v":""},{"$f":"IF('６月集金一覧'!E$4=\"\",\"\",'６月集金一覧'!E$4)","v":""},{"$f":"IF('６月集金一覧'!F$4=\"\",\"\",'６月集金一覧'!F$4)","v":""},{"$f":"IF('６月集金一覧'!G$4=\"\",\"\",'６月集金一覧'!G$4)","v":""},"個人計"]
[13,{"$f":"VLOOKUP($A28,'６月集金一覧'!$A$4:$H$44,B$2,FALSE)","v":0},{"$f":"VLOOKUP($A28,'６月集金一覧'!$A$4:$H$44,C$2,FALSE)","v":0},{"$f":"VLOOKUP($A28,'６月集金一覧'!$A$4:$H$44,D$2,FALSE)","v":0},{"$f":"VLOOKUP($A28,'６月集金一覧'!$A$4:$H$44,E$2,FALSE)","v":0},{"$f":"VLOOKUP($A28,'６月集金一覧'!$A$4:$H$44,F$2,FALSE)","v":0},{"$f":"VLOOKUP($A28,'６月集金一覧'!$A$4:$H$44,G$2,FALSE)","v":0},null,35,{"$f":"VLOOKUP($I28,'６月集金一覧'!$A$4:$H$44,J$2,FALSE)","v":0},{"$f":"VLOOKUP($I28,'６月集金一覧'!$A$4:$H$44,K$2,FALSE)","v":0},{"$f":"VLOOKUP($I28,'６月集金一覧'!$A$4:$H$44,L$2,FALSE)","v":0},{"$f":"VLOOKUP($I28,'６月集金一覧'!$A$4:$H$44,M$2,FALSE)","v":0},{"$f":"VLOOKUP($I28,'６月集金一覧'!$A$4:$H$44,N$2,FALSE)","v":0},{"$f":"VLOOKUP($I28,'６月集金一覧'!$A$4:$H$44,O$2,FALSE)","v":0}]
["番号",{"$f":"IF('６月集金一覧'!C$4=\"\",\"\",'６月集金一覧'!C$4)","v":""},{"$f":"IF('６月集金一覧'!D$4=\"\",\"\",'６月集金一覧'!D$4)","v":""},{"$f":"IF('６月集金一覧'!E$4=\"\",\"\",'６月集金一覧'!E$4)","v":""},{"$f":"IF('６月集金一覧'!F$4=\"\",\"\",'６月集金一覧'!F$4)","v":""},{"$f":"IF('６月集金一覧'!G$4=\"\",\"\",'６月集金一覧'!G$4)","v":""},"個人計",null,"番号",{"$f":"IF('６月集金一覧'!C$4=\"\",\"\",'６月集金一覧'!C$4)","v":""},{"$f":"IF('６月集金一覧'!D$4=\"\",\"\",'６月集金一覧'!D$4)","v":""},{"$f":"IF('６月集金一覧'!E$4=\"\",\"\",'６月集金一覧'!E$4)","v":""},{"$f":"IF('６月集金一覧'!F$4=\"\",\"\",'６月集金一覧'!F$4)","v":""},{"$f":"IF('６月集金一覧'!G$4=\"\",\"\",'６月集金一覧'!G$4)","v":""},"個人計"]
[14,{"$f":"VLOOKUP($A30,'６月集金一覧'!$A$4:$H$44,B$2,FALSE)","v":0},{"$f":"VLOOKUP($A30,'６月集金一覧'!$A$4:$H$44,C$2,FALSE)","v":0},{"$f":"VLOOKUP($A30,'６月集金一覧'!$A$4:$H$44,D$2,FALSE)","v":0},{"$f":"VLOOKUP($A30,'６月集金一覧'!$A$4:$H$44,E$2,FALSE)","v":0},{"$f":"VLOOKUP($A30,'６月集金一覧'!$A$4:$H$44,F$2,FALSE)","v":0},{"$f":"VLOOKUP($A30,'６月集金一覧'!$A$4:$H$44,G$2,FALSE)","v":0},null,36,{"$f":"VLOOKUP($I30,'６月集金一覧'!$A$4:$H$44,J$2,FALSE)","v":0},{"$f":"VLOOKUP($I30,'６月集金一覧'!$A$4:$H$44,K$2,FALSE)","v":0},{"$f":"VLOOKUP($I30,'６月集金一覧'!$A$4:$H$44,L$2,FALSE)","v":0},{"$f":"VLOOKUP($I30,'６月集金一覧'!$A$4:$H$44,M$2,FALSE)","v":0},{"$f":"VLOOKUP($I30,'６月集金一覧'!$A$4:$H$44,N$2,FALSE)","v":0},{"$f":"VLOOKUP($I30,'６月集金一覧'!$A$4:$H$44,O$2,FALSE)","v":0}]
["番号",{"$f":"IF('６月集金一覧'!C$4=\"\",\"\",'６月集金一覧'!C$4)","v":""},{"$f":"IF('６月集金一覧'!D$4=\"\",\"\",'６月集金一覧'!D$4)","v":""},{"$f":"IF('６月集金一覧'!E$4=\"\",\"\",'６月集金一覧'!E$4)","v":""},{"$f":"IF('６月集金一覧'!F$4=\"\",\"\",'６月集金一覧'!F$4)","v":""},{"$f":"IF('６月集金一覧'!G$4=\"\",\"\",'６月集金一覧'!G$4)","v":""},"個人計",null,"番号",{"$f":"IF('６月集金一覧'!C$4=\"\",\"\",'６月集金一覧'!C$4)","v":""},{"$f":"IF('６月集金一覧'!D$4=\"\",\"\",'６月集金一覧'!D$4)","v":""},{"$f":"IF('６月集金一覧'!E$4=\"\",\"\",'６月集金一覧'!E$4)","v":""},{"$f":"IF('６月集金一覧'!F$4=\"\",\"\",'６月集金一覧'!F$4)","v":""},{"$f":"IF('６月集金一覧'!G$4=\"\",\"\",'６月集金一覧'!G$4)","v":""},"個人計"]
[15,{"$f":"VLOOKUP($A32,'６月集金一覧'!$A$4:$H$44,B$2,FALSE)","v":0},{"$f":"VLOOKUP($A32,'６月集金一覧'!$A$4:$H$44,C$2,FALSE)","v":0},{"$f":"VLOOKUP($A32,'６月集金一覧'!$A$4:$H$44,D$2,FALSE)","v":0},{"$f":"VLOOKUP($A32,'６月集金一覧'!$A$4:$H$44,E$2,FALSE)","v":0},{"$f":"VLOOKUP($A32,'６月集金一覧'!$A$4:$H$44,F$2,FALSE)","v":0},{"$f":"VLOOKUP($A32,'６月集金一覧'!$A$4:$H$44,G$2,FALSE)","v":0},null,37,{"$f":"VLOOKUP($I32,'６月集金一覧'!$A$4:$H$44,J$2,FALSE)","v":0},{"$f":"VLOOKUP($I32,'６月集金一覧'!$A$4:$H$44,K$2,FALSE)","v":0},{"$f":"VLOOKUP($I32,'６月集金一覧'!$A$4:$H$44,L$2,FALSE)","v":0},{"$f":"VLOOKUP($I32,'６月集金一覧'!$A$4:$H$44,M$2,FALSE)","v":0},{"$f":"VLOOKUP($I32,'６月集金一覧'!$A$4:$H$44,N$2,FALSE)","v":0},{"$f":"VLOOKUP($I32,'６月集金一覧'!$A$4:$H$44,O$2,FALSE)","v":0}]
["番号",{"$f":"IF('６月集金一覧'!C$4=\"\",\"\",'６月集金一覧'!C$4)","v":""},{"$f":"IF('６月集金一覧'!D$4=\"\",\"\",'６月集金一覧'!D$4)","v":""},{"$f":"IF('６月集金一覧'!E$4=\"\",\"\",'６月集金一覧'!E$4)","v":""},{"$f":"IF('６月集金一覧'!F$4=\"\",\"\",'６月集金一覧'!F$4)","v":""},{"$f":"IF('６月集金一覧'!G$4=\"\",\"\",'６月集金一覧'!G$4)","v":""},"個人計",null,"番号",{"$f":"IF('６月集金一覧'!C$4=\"\",\"\",'６月集金一覧'!C$4)","v":""},{"$f":"IF('６月集金一覧'!D$4=\"\",\"\",'６月集金一覧'!D$4)","v":""},{"$f":"IF('６月集金一覧'!E$4=\"\",\"\",'６月集金一覧'!E$4)","v":""},{"$f":"IF('６月集金一覧'!F$4=\"\",\"\",'６月集金一覧'!F$4)","v":""},{"$f":"IF('６月集金一覧'!G$4=\"\",\"\",'６月集金一覧'!G$4)","v":""},"個人計"]
[16,{"$f":"VLOOKUP($A34,'６月集金一覧'!$A$4:$H$44,B$2,FALSE)","v":0},{"$f":"VLOOKUP($A34,'６月集金一覧'!$A$4:$H$44,C$2,FALSE)","v":0},{"$f":"VLOOKUP($A34,'６月集金一覧'!$A$4:$H$44,D$2,FALSE)","v":0},{"$f":"VLOOKUP($A34,'６月集金一覧'!$A$4:$H$44,E$2,FALSE)","v":0},{"$f":"VLOOKUP($A34,'６月集金一覧'!$A$4:$H$44,F$2,FALSE)","v":0},{"$f":"VLOOKUP($A34,'６月集金一覧'!$A$4:$H$44,G$2,FALSE)","v":0},null,38,{"$f":"VLOOKUP($I34,'６月集金一覧'!$A$4:$H$44,J$2,FALSE)","v":0},{"$f":"VLOOKUP($I34,'６月集金一覧'!$A$4:$H$44,K$2,FALSE)","v":0},{"$f":"VLOOKUP($I34,'６月集金一覧'!$A$4:$H$44,L$2,FALSE)","v":0},{"$f":"VLOOKUP($I34,'６月集金一覧'!$A$4:$H$44,M$2,FALSE)","v":0},{"$f":"VLOOKUP($I34,'６月集金一覧'!$A$4:$H$44,N$2,FALSE)","v":0},{"$f":"VLOOKUP($I34,'６月集金一覧'!$A$4:$H$44,O$2,FALSE)","v":0}]
["番号",{"$f":"IF('６月集金一覧'!C$4=\"\",\"\",'６月集金一覧'!C$4)","v":""},{"$f":"IF('６月集金一覧'!D$4=\"\",\"\",'６月集金一覧'!D$4)","v":""},{"$f":"IF('６月集金一覧'!E$4=\"\",\"\",'６月集金一覧'!E$4)","v":""},{"$f":"IF('６月集金一覧'!F$4=\"\",\"\",'６月集金一覧'!F$4)","v":""},{"$f":"IF('６月集金一覧'!G$4=\"\",\"\",'６月集金一覧'!G$4)","v":""},"個人計",null,"番号",{"$f":"IF('６月集金一覧'!C$4=\"\",\"\",'６月集金一覧'!C$4)","v":""},{"$f":"IF('６月集金一覧'!D$4=\"\",\"\",'６月集金一覧'!D$4)","v":""},{"$f":"IF('６月集金一覧'!E$4=\"\",\"\",'６月集金一覧'!E$4)","v":""},{"$f":"IF('６月集金一覧'!F$4=\"\",\"\",'６月集金一覧'!F$4)","v":""},{"$f":"IF('６月集金一覧'!G$4=\"\",\"\",'６月集金一覧'!G$4)","v":""},"個人計"]
[17,{"$f":"VLOOKUP($A36,'６月集金一覧'!$A$4:$H$44,B$2,FALSE)","v":0},{"$f":"VLOOKUP($A36,'６月集金一覧'!$A$4:$H$44,C$2,FALSE)","v":0},{"$f":"VLOOKUP($A36,'６月集金一覧'!$A$4:$H$44,D$2,FALSE)","v":0},{"$f":"VLOOKUP($A36,'６月集金一覧'!$A$4:$H$44,E$2,FALSE)","v":0},{"$f":"VLOOKUP($A36,'６月集金一覧'!$A$4:$H$44,F$2,FALSE)","v":0},{"$f":"VLOOKUP($A36,'６月集金一覧'!$A$4:$H$44,G$2,FALSE)","v":0},null,39,{"$f":"VLOOKUP($I36,'６月集金一覧'!$A$4:$H$44,J$2,FALSE)","v":0},{"$f":"VLOOKUP($I36,'６月集金一覧'!$A$4:$H$44,K$2,FALSE)","v":0},{"$f":"VLOOKUP($I36,'６月集金一覧'!$A$4:$H$44,L$2,FALSE)","v":0},{"$f":"VLOOKUP($I36,'６月集金一覧'!$A$4:$H$44,M$2,FALSE)","v":0},{"$f":"VLOOKUP($I36,'６月集金一覧'!$A$4:$H$44,N$2,FALSE)","v":0},{"$f":"VLOOKUP($I36,'６月集金一覧'!$A$4:$H$44,O$2,FALSE)","v":0}]
["番号",{"$f":"IF('６月集金一覧'!C$4=\"\",\"\",'６月集金一覧'!C$4)","v":""},{"$f":"IF('６月集金一覧'!D$4=\"\",\"\",'６月集金一覧'!D$4)","v":""},{"$f":"IF('６月集金一覧'!E$4=\"\",\"\",'６月集金一覧'!E$4)","v":""},{"$f":"IF('６月集金一覧'!F$4=\"\",\"\",'６月集金一覧'!F$4)","v":""},{"$f":"IF('６月集金一覧'!G$4=\"\",\"\",'６月集金一覧'!G$4)","v":""},"個人計",null,"番号",{"$f":"IF('６月集金一覧'!C$4=\"\",\"\",'６月集金一覧'!C$4)","v":""},{"$f":"IF('６月集金一覧'!D$4=\"\",\"\",'６月集金一覧'!D$4)","v":""},{"$f":"IF('６月集金一覧'!E$4=\"\",\"\",'６月集金一覧'!E$4)","v":""},{"$f":"IF('６月集金一覧'!F$4=\"\",\"\",'６月集金一覧'!F$4)","v":""},{"$f":"IF('６月集金一覧'!G$4=\"\",\"\",'６月集金一覧'!G$4)","v":""},"個人計"]
[18,{"$f":"VLOOKUP($A38,'６月集金一覧'!$A$4:$H$44,B$2,FALSE)","v":0},{"$f":"VLOOKUP($A38,'６月集金一覧'!$A$4:$H$44,C$2,FALSE)","v":0},{"$f":"VLOOKUP($A38,'６月集金一覧'!$A$4:$H$44,D$2,FALSE)","v":0},{"$f":"VLOOKUP($A38,'６月集金一覧'!$A$4:$H$44,E$2,FALSE)","v":0},{"$f":"VLOOKUP($A38,'６月集金一覧'!$A$4:$H$44,F$2,FALSE)","v":0},{"$f":"VLOOKUP($A38,'６月集金一覧'!$A$4:$H$44,G$2,FALSE)","v":0},null,40,{"$f":"VLOOKUP($I38,'６月集金一覧'!$A$4:$H$44,J$2,FALSE)","v":0},{"$f":"VLOOKUP($I38,'６月集金一覧'!$A$4:$H$44,K$2,FALSE)","v":0},{"$f":"VLOOKUP($I38,'６月集金一覧'!$A$4:$H$44,L$2,FALSE)","v":0},{"$f":"VLOOKUP($I38,'６月集金一覧'!$A$4:$H$44,M$2,FALSE)","v":0},{"$f":"VLOOKUP($I38,'６月集金一覧'!$A$4:$H$44,N$2,FALSE)","v":0},{"$f":"VLOOKUP($I38,'６月集金一覧'!$A$4:$H$44,O$2,FALSE)","v":0}]
["番号",{"$f":"IF('６月集金一覧'!C$4=\"\",\"\",'６月集金一覧'!C$4)","v":""},{"$f":"IF('６月集金一覧'!D$4=\"\",\"\",'６月集金一覧'!D$4)","v":""},{"$f":"IF('６月集金一覧'!E$4=\"\",\"\",'６月集金一覧'!E$4)","v":""},{"$f":"IF('６月集金一覧'!F$4=\"\",\"\",'６月集金一覧'!F$4)","v":""},{"$f":"IF('６月集金一覧'!G$4=\"\",\"\",'６月集金一覧'!G$4)","v":""},"個人計"]
[19,{"$f":"VLOOKUP($A40,'６月集金一覧'!$A$4:$H$44,B$2,FALSE)","v":0},{"$f":"VLOOKUP($A40,'６月集金一覧'!$A$4:$H$44,C$2,FALSE)","v":0},{"$f":"VLOOKUP($A40,'６月集金一覧'!$A$4:$H$44,D$2,FALSE)","v":0},{"$f":"VLOOKUP($A40,'６月集金一覧'!$A$4:$H$44,E$2,FALSE)","v":0},{"$f":"VLOOKUP($A40,'６月集金一覧'!$A$4:$H$44,F$2,FALSE)","v":0},{"$f":"VLOOKUP($A40,'６月集金一覧'!$A$4:$H$44,G$2,FALSE)","v":0}]
["番号",{"$f":"IF('６月集金一覧'!C$4=\"\",\"\",'６月集金一覧'!C$4)","v":""},{"$f":"IF('６月集金一覧'!D$4=\"\",\"\",'６月集金一覧'!D$4)","v":""},{"$f":"IF('６月集金一覧'!E$4=\"\",\"\",'６月集金一覧'!E$4)","v":""},{"$f":"IF('６月集金一覧'!F$4=\"\",\"\",'６月集金一覧'!F$4)","v":""},{"$f":"IF('６月集金一覧'!G$4=\"\",\"\",'６月集金一覧'!G$4)","v":""},"個人計"]
[20,{"$f":"VLOOKUP($A42,'６月集金一覧'!$A$4:$H$44,B$2,FALSE)","v":0},{"$f":"VLOOKUP($A42,'６月集金一覧'!$A$4:$H$44,C$2,FALSE)","v":0},{"$f":"VLOOKUP($A42,'６月集金一覧'!$A$4:$H$44,D$2,FALSE)","v":0},{"$f":"VLOOKUP($A42,'６月集金一覧'!$A$4:$H$44,E$2,FALSE)","v":0},{"$f":"VLOOKUP($A42,'６月集金一覧'!$A$4:$H$44,F$2,FALSE)","v":0},{"$f":"VLOOKUP($A42,'６月集金一覧'!$A$4:$H$44,G$2,FALSE)","v":0}]
["番号",{"$f":"IF('６月集金一覧'!C$4=\"\",\"\",'６月集金一覧'!C$4)","v":""},{"$f":"IF('６月集金一覧'!D$4=\"\",\"\",'６月集金一覧'!D$4)","v":""},{"$f":"IF('６月集金一覧'!E$4=\"\",\"\",'６月集金一覧'!E$4)","v":""},{"$f":"IF('６月集金一覧'!F$4=\"\",\"\",'６月集金一覧'!F$4)","v":""},{"$f":"IF('６月集金一覧'!G$4=\"\",\"\",'６月集金一覧'!G$4)","v":""},"個人計"]
[21,{"$f":"VLOOKUP($A44,'６月集金一覧'!$A$4:$H$44,B$2,FALSE)","v":0},{"$f":"VLOOKUP($A44,'６月集金一覧'!$A$4:$H$44,C$2,FALSE)","v":0},{"$f":"VLOOKUP($A44,'６月集金一覧'!$A$4:$H$44,D$2,FALSE)","v":0},{"$f":"VLOOKUP($A44,'６月集金一覧'!$A$4:$H$44,E$2,FALSE)","v":0},{"$f":"VLOOKUP($A44,'６月集金一覧'!$A$4:$H$44,F$2,FALSE)","v":0},{"$f":"VLOOKUP($A44,'６月集金一覧'!$A$4:$H$44,G$2,FALSE)","v":0}]
["番号",{"$f":"IF('６月集金一覧'!C$4=\"\",\"\",'６月集金一覧'!C$4)","v":""},{"$f":"IF('６月集金一覧'!D$4=\"\",\"\",'６月集金一覧'!D$4)","v":""},{"$f":"IF('６月集金一覧'!E$4=\"\",\"\",'６月集金一覧'!E$4)","v":""},{"$f":"IF('６月集金一覧'!F$4=\"\",\"\",'６月集金一覧'!F$4)","v":""},{"$f":"IF('６月集金一覧'!G$4=\"\",\"\",'６月集金一覧'!G$4)","v":""},"個人計"]
[22,{"$f":"VLOOKUP($A46,'６月集金一覧'!$A$4:$H$44,B$2,FALSE)","v":0},{"$f":"VLOOKUP($A46,'６月集金一覧'!$A$4:$H$44,C$2,FALSE)","v":0},{"$f":"VLOOKUP($A46,'６月集金一覧'!$A$4:$H$44,D$2,FALSE)","v":0},{"$f":"VLOOKUP($A46,'６月集金一覧'!$A$4:$H$44,E$2,FALSE)","v":0},{"$f":"VLOOKUP($A46,'６月集金一覧'!$A$4:$H$44,F$2,FALSE)","v":0},{"$f":"VLOOKUP($A46,'６月集金一覧'!$A$4:$H$44,G$2,FALSE)","v":0}]

{"sheet":"7月個票","index":26,"n_rows":46,"n_cols":15,"rows_kept":46,"cut":false,"hidden":false,"merged":[]}
[null,"令和",{"$f":"メイン!D7","v":0},"年度",{"$f":"メイン!C8","v":0},"年",{"$f":"メイン!E8","v":0},"組"]
[1,3,4,5,6,7,8,null,1,3,4,5,6,7,8]
["番号",{"$f":"IF('７月集金一覧'!C$4=\"\",\"\",'７月集金一覧'!C$4)","v":""},{"$f":"IF('７月集金一覧'!$D$4=\"\",\"\",'７月集金一覧'!D$4)","v":""},{"$f":"IF('７月集金一覧'!E$4=\"\",\"\",'７月集金一覧'!E$4)","v":""},{"$f":"IF('７月集金一覧'!F$4=\"\",\"\",'７月集金一覧'!F$4)","v":""},{"$f":"IF('７月集金一覧'!G$4=\"\",\"\",'７月集金一覧'!G$4)","v":""},"個人計",null,"番号",{"$f":"IF('７月集金一覧'!C$4=\"\",\"\",'７月集金一覧'!C$4)","v":""},{"$f":"IF('７月集金一覧'!D$4=\"\",\"\",'７月集金一覧'!D$4)","v":""},{"$f":"IF('７月集金一覧'!E$4=\"\",\"\",'７月集金一覧'!E$4)","v":""},{"$f":"IF('７月集金一覧'!F$4=\"\",\"\",'７月集金一覧'!F$4)","v":""},{"$f":"IF('７月集金一覧'!G$4=\"\",\"\",'７月集金一覧'!G$4)","v":""},"個人計"]
[1,{"$f":"VLOOKUP($A4,'７月集金一覧'!$A$4:$H$44,B$2,FALSE)","v":0},{"$f":"VLOOKUP($A4,'７月集金一覧'!$A$4:$H$44,C$2,FALSE)","v":0},{"$f":"VLOOKUP($A4,'７月集金一覧'!$A$4:$H$44,D$2,FALSE)","v":0},{"$f":"VLOOKUP($A4,'７月集金一覧'!$A$4:$H$44,E$2,FALSE)","v":0},{"$f":"VLOOKUP($A4,'７月集金一覧'!$A$4:$H$44,F$2,FALSE)","v":0},{"$f":"VLOOKUP($A4,'７月集金一覧'!$A$4:$H$44,G$2,FALSE)","v":0},null,23,{"$f":"VLOOKUP($I4,'７月集金一覧'!$A$4:$H$44,J$2,FALSE)","v":0},{"$f":"VLOOKUP($I4,'７月集金一覧'!$A$4:$H$44,K$2,FALSE)","v":0},{"$f":"VLOOKUP($I4,'７月集金一覧'!$A$4:$H$44,L$2,FALSE)","v":0},{"$f":"VLOOKUP($I4,'７月集金一覧'!$A$4:$H$44,M$2,FALSE)","v":0},{"$f":"VLOOKUP($I4,'７月集金一覧'!$A$4:$H$44,N$2,FALSE)","v":0},{"$f":"VLOOKUP($I4,'７月集金一覧'!$A$4:$H$44,O$2,FALSE)","v":0}]
["番号",{"$f":"IF('７月集金一覧'!C$4=\"\",\"\",'７月集金一覧'!C$4)","v":""},{"$f":"IF('７月集金一覧'!D$4=\"\",\"\",'７月集金一覧'!D$4)","v":""},{"$f":"IF('７月集金一覧'!E$4=\"\",\"\",'７月集金一覧'!E$4)","v":""},{"$f":"IF('７月集金一覧'!F$4=\"\",\"\",'７月集金一覧'!F$4)","v":""},{"$f":"IF('７月集金一覧'!G$4=\"\",\"\",'７月集金一覧'!G$4)","v":""},"個人計",null,"番号",{"$f":"IF('７月集金一覧'!C$4=\"\",\"\",'７月集金一覧'!C$4)","v":""},{"$f":"IF('７月集金一覧'!D$4=\"\",\"\",'７月集金一覧'!D$4)","v":""},{"$f":"IF('７月集金一覧'!E$4=\"\",\"\",'７月集金一覧'!E$4)","v":""},{"$f":"IF('７月集金一覧'!F$4=\"\",\"\",'７月集金一覧'!F$4)","v":""},{"$f":"IF('７月集金一覧'!G$4=\"\",\"\",'７月集金一覧'!G$4)","v":""},"個人計"]
[2,{"$f":"VLOOKUP($A6,'７月集金一覧'!$A$4:$H$44,B$2,FALSE)","v":0},{"$f":"VLOOKUP($A6,'７月集金一覧'!$A$4:$H$44,C$2,FALSE)","v":0},{"$f":"VLOOKUP($A6,'７月集金一覧'!$A$4:$H$44,D$2,FALSE)","v":0},{"$f":"VLOOKUP($A6,'７月集金一覧'!$A$4:$H$44,E$2,FALSE)","v":0},{"$f":"VLOOKUP($A6,'７月集金一覧'!$A$4:$H$44,F$2,FALSE)","v":0},{"$f":"VLOOKUP($A6,'７月集金一覧'!$A$4:$H$44,G$2,FALSE)","v":0},null,24,{"$f":"VLOOKUP($I6,'７月集金一覧'!$A$4:$H$44,J$2,FALSE)","v":0},{"$f":"VLOOKUP($I6,'７月集金一覧'!$A$4:$H$44,K$2,FALSE)","v":0},{"$f":"VLOOKUP($I6,'７月集金一覧'!$A$4:$H$44,L$2,FALSE)","v":0},{"$f":"VLOOKUP($I6,'７月集金一覧'!$A$4:$H$44,M$2,FALSE)","v":0},{"$f":"VLOOKUP($I6,'７月集金一覧'!$A$4:$H$44,N$2,FALSE)","v":0},{"$f":"VLOOKUP($I6,'７月集金一覧'!$A$4:$H$44,O$2,FALSE)","v":0}]
["番号",{"$f":"IF('７月集金一覧'!C$4=\"\",\"\",'７月集金一覧'!C$4)","v":""},{"$f":"IF('７月集金一覧'!D$4=\"\",\"\",'７月集金一覧'!D$4)","v":""},{"$f":"IF('７月集金一覧'!E$4=\"\",\"\",'７月集金一覧'!E$4)","v":""},{"$f":"IF('７月集金一覧'!F$4=\"\",\"\",'７月集金一覧'!F$4)","v":""},{"$f":"IF('７月集金一覧'!G$4=\"\",\"\",'７月集金一覧'!G$4)","v":""},"個人計",null,"番号",{"$f":"IF('７月集金一覧'!C$4=\"\",\"\",'７月集金一覧'!C$4)","v":""},{"$f":"IF('７月集金一覧'!D$4=\"\",\"\",'７月集金一覧'!D$4)","v":""},{"$f":"IF('７月集金一覧'!E$4=\"\",\"\",'７月集金一覧'!E$4)","v":""},{"$f":"IF('７月集金一覧'!F$4=\"\",\"\",'７月集金一覧'!F$4)","v":""},{"$f":"IF('７月集金一覧'!G$4=\"\",\"\",'７月集金一覧'!G$4)","v":""},"個人計"]
[3,{"$f":"VLOOKUP($A8,'７月集金一覧'!$A$4:$H$44,B$2,FALSE)","v":0},{"$f":"VLOOKUP($A8,'７月集金一覧'!$A$4:$H$44,C$2,FALSE)","v":0},{"$f":"VLOOKUP($A8,'７月集金一覧'!$A$4:$H$44,D$2,FALSE)","v":0},{"$f":"VLOOKUP($A8,'７月集金一覧'!$A$4:$H$44,E$2,FALSE)","v":0},{"$f":"VLOOKUP($A8,'７月集金一覧'!$A$4:$H$44,F$2,FALSE)","v":0},{"$f":"VLOOKUP($A8,'７月集金一覧'!$A$4:$H$44,G$2,FALSE)","v":0},null,25,{"$f":"VLOOKUP($I8,'７月集金一覧'!$A$4:$H$44,J$2,FALSE)","v":0},{"$f":"VLOOKUP($I8,'７月集金一覧'!$A$4:$H$44,K$2,FALSE)","v":0},{"$f":"VLOOKUP($I8,'７月集金一覧'!$A$4:$H$44,L$2,FALSE)","v":0},{"$f":"VLOOKUP($I8,'７月集金一覧'!$A$4:$H$44,M$2,FALSE)","v":0},{"$f":"VLOOKUP($I8,'７月集金一覧'!$A$4:$H$44,N$2,FALSE)","v":0},{"$f":"VLOOKUP($I8,'７月集金一覧'!$A$4:$H$44,O$2,FALSE)","v":0}]
["番号",{"$f":"IF('７月集金一覧'!C$4=\"\",\"\",'７月集金一覧'!C$4)","v":""},{"$f":"IF('７月集金一覧'!D$4=\"\",\"\",'７月集金一覧'!D$4)","v":""},{"$f":"IF('７月集金一覧'!E$4=\"\",\"\",'７月集金一覧'!E$4)","v":""},{"$f":"IF('７月集金一覧'!F$4=\"\",\"\",'７月集金一覧'!F$4)","v":""},{"$f":"IF('７月集金一覧'!G$4=\"\",\"\",'７月集金一覧'!G$4)","v":""},"個人計",null,"番号",{"$f":"IF('７月集金一覧'!C$4=\"\",\"\",'７月集金一覧'!C$4)","v":""},{"$f":"IF('７月集金一覧'!D$4=\"\",\"\",'７月集金一覧'!D$4)","v":""},{"$f":"IF('７月集金一覧'!E$4=\"\",\"\",'７月集金一覧'!E$4)","v":""},{"$f":"IF('７月集金一覧'!F$4=\"\",\"\",'７月集金一覧'!F$4)","v":""},{"$f":"IF('７月集金一覧'!G$4=\"\",\"\",'７月集金一覧'!G$4)","v":""},"個人計"]
[4,{"$f":"VLOOKUP($A10,'７月集金一覧'!$A$4:$H$44,B$2,FALSE)","v":0},{"$f":"VLOOKUP($A10,'７月集金一覧'!$A$4:$H$44,C$2,FALSE)","v":0},{"$f":"VLOOKUP($A10,'７月集金一覧'!$A$4:$H$44,D$2,FALSE)","v":0},{"$f":"VLOOKUP($A10,'７月集金一覧'!$A$4:$H$44,E$2,FALSE)","v":0},{"$f":"VLOOKUP($A10,'７月集金一覧'!$A$4:$H$44,F$2,FALSE)","v":0},{"$f":"VLOOKUP($A10,'７月集金一覧'!$A$4:$H$44,G$2,FALSE)","v":0},null,26,{"$f":"VLOOKUP($I10,'７月集金一覧'!$A$4:$H$44,J$2,FALSE)","v":0},{"$f":"VLOOKUP($I10,'７月集金一覧'!$A$4:$H$44,K$2,FALSE)","v":0},{"$f":"VLOOKUP($I10,'７月集金一覧'!$A$4:$H$44,L$2,FALSE)","v":0},{"$f":"VLOOKUP($I10,'７月集金一覧'!$A$4:$H$44,M$2,FALSE)","v":0},{"$f":"VLOOKUP($I10,'７月集金一覧'!$A$4:$H$44,N$2,FALSE)","v":0},{"$f":"VLOOKUP($I10,'７月集金一覧'!$A$4:$H$44,O$2,FALSE)","v":0}]
["番号",{"$f":"IF('７月集金一覧'!C$4=\"\",\"\",'７月集金一覧'!C$4)","v":""},{"$f":"IF('７月集金一覧'!D$4=\"\",\"\",'７月集金一覧'!D$4)","v":""},{"$f":"IF('７月集金一覧'!E$4=\"\",\"\",'７月集金一覧'!E$4)","v":""},{"$f":"IF('７月集金一覧'!F$4=\"\",\"\",'７月集金一覧'!F$4)","v":""},{"$f":"IF('７月集金一覧'!G$4=\"\",\"\",'７月集金一覧'!G$4)","v":""},"個人計",null,"番号",{"$f":"IF('７月集金一覧'!C$4=\"\",\"\",'７月集金一覧'!C$4)","v":""},{"$f":"IF('７月集金一覧'!D$4=\"\",\"\",'７月集金一覧'!D$4)","v":""},{"$f":"IF('７月集金一覧'!E$4=\"\",\"\",'７月集金一覧'!E$4)","v":""},{"$f":"IF('７月集金一覧'!F$4=\"\",\"\",'７月集金一覧'!F$4)","v":""},{"$f":"IF('７月集金一覧'!G$4=\"\",\"\",'７月集金一覧'!G$4)","v":""},"個人計"]
[5,{"$f":"VLOOKUP($A12,'７月集金一覧'!$A$4:$H$44,B$2,FALSE)","v":0},{"$f":"VLOOKUP($A12,'７月集金一覧'!$A$4:$H$44,C$2,FALSE)","v":0},{"$f":"VLOOKUP($A12,'７月集金一覧'!$A$4:$H$44,D$2,FALSE)","v":0},{"$f":"VLOOKUP($A12,'７月集金一覧'!$A$4:$H$44,E$2,FALSE)","v":0},{"$f":"VLOOKUP($A12,'７月集金一覧'!$A$4:$H$44,F$2,FALSE)","v":0},{"$f":"VLOOKUP($A12,'７月集金一覧'!$A$4:$H$44,G$2,FALSE)","v":0},null,27,{"$f":"VLOOKUP($I12,'７月集金一覧'!$A$4:$H$44,J$2,FALSE)","v":0},{"$f":"VLOOKUP($I12,'７月集金一覧'!$A$4:$H$44,K$2,FALSE)","v":0},{"$f":"VLOOKUP($I12,'７月集金一覧'!$A$4:$H$44,L$2,FALSE)","v":0},{"$f":"VLOOKUP($I12,'７月集金一覧'!$A$4:$H$44,M$2,FALSE)","v":0},{"$f":"VLOOKUP($I12,'７月集金一覧'!$A$4:$H$44,N$2,FALSE)","v":0},{"$f":"VLOOKUP($I12,'７月集金一覧'!$A$4:$H$44,O$2,FALSE)","v":0}]
["番号",{"$f":"IF('７月集金一覧'!C$4=\"\",\"\",'７月集金一覧'!C$4)","v":""},{"$f":"IF('７月集金一覧'!D$4=\"\",\"\",'７月集金一覧'!D$4)","v":""},{"$f":"IF('７月集金一覧'!E$4=\"\",\"\",'７月集金一覧'!E$4)","v":""},{"$f":"IF('７月集金一覧'!F$4=\"\",\"\",'７月集金一覧'!F$4)","v":""},{"$f":"IF('７月集金一覧'!G$4=\"\",\"\",'７月集金一覧'!G$4)","v":""},"個人計",null,"番号",{"$f":"IF('７月集金一覧'!C$4=\"\",\"\",'７月集金一覧'!C$4)","v":""},{"$f":"IF('７月集金一覧'!D$4=\"\",\"\",'７月集金一覧'!D$4)","v":""},{"$f":"IF('７月集金一覧'!E$4=\"\",\"\",'７月集金一覧'!E$4)","v":""},{"$f":"IF('７月集金一覧'!F$4=\"\",\"\",'７月集金一覧'!F$4)","v":""},{"$f":"IF('７月集金一覧'!G$4=\"\",\"\",'７月集金一覧'!G$4)","v":""},"個人計"]
[6,{"$f":"VLOOKUP($A14,'７月集金一覧'!$A$4:$H$44,B$2,FALSE)","v":0},{"$f":"VLOOKUP($A14,'７月集金一覧'!$A$4:$H$44,C$2,FALSE)","v":0},{"$f":"VLOOKUP($A14,'７月集金一覧'!$A$4:$H$44,D$2,FALSE)","v":0},{"$f":"VLOOKUP($A14,'７月集金一覧'!$A$4:$H$44,E$2,FALSE)","v":0},{"$f":"VLOOKUP($A14,'７月集金一覧'!$A$4:$H$44,F$2,FALSE)","v":0},{"$f":"VLOOKUP($A14,'７月集金一覧'!$A$4:$H$44,G$2,FALSE)","v":0},null,28,{"$f":"VLOOKUP($I14,'７月集金一覧'!$A$4:$H$44,J$2,FALSE)","v":0},{"$f":"VLOOKUP($I14,'７月集金一覧'!$A$4:$H$44,K$2,FALSE)","v":0},{"$f":"VLOOKUP($I14,'７月集金一覧'!$A$4:$H$44,L$2,FALSE)","v":0},{"$f":"VLOOKUP($I14,'７月集金一覧'!$A$4:$H$44,M$2,FALSE)","v":0},{"$f":"VLOOKUP($I14,'７月集金一覧'!$A$4:$H$44,N$2,FALSE)","v":0},{"$f":"VLOOKUP($I14,'７月集金一覧'!$A$4:$H$44,O$2,FALSE)","v":0}]
["番号",{"$f":"IF('７月集金一覧'!C$4=\"\",\"\",'７月集金一覧'!C$4)","v":""},{"$f":"IF('７月集金一覧'!D$4=\"\",\"\",'７月集金一覧'!D$4)","v":""},{"$f":"IF('７月集金一覧'!E$4=\"\",\"\",'７月集金一覧'!E$4)","v":""},{"$f":"IF('７月集金一覧'!F$4=\"\",\"\",'７月集金一覧'!F$4)","v":""},{"$f":"IF('７月集金一覧'!G$4=\"\",\"\",'７月集金一覧'!G$4)","v":""},"個人計",null,"番号",{"$f":"IF('７月集金一覧'!C$4=\"\",\"\",'７月集金一覧'!C$4)","v":""},{"$f":"IF('７月集金一覧'!D$4=\"\",\"\",'７月集金一覧'!D$4)","v":""},{"$f":"IF('７月集金一覧'!E$4=\"\",\"\",'７月集金一覧'!E$4)","v":""},{"$f":"IF('７月集金一覧'!F$4=\"\",\"\",'７月集金一覧'!F$4)","v":""},{"$f":"IF('７月集金一覧'!G$4=\"\",\"\",'７月集金一覧'!G$4)","v":""},"個人計"]
[7,{"$f":"VLOOKUP($A16,'７月集金一覧'!$A$4:$H$44,B$2,FALSE)","v":0},{"$f":"VLOOKUP($A16,'７月集金一覧'!$A$4:$H$44,C$2,FALSE)","v":0},{"$f":"VLOOKUP($A16,'７月集金一覧'!$A$4:$H$44,D$2,FALSE)","v":0},{"$f":"VLOOKUP($A16,'７月集金一覧'!$A$4:$H$44,E$2,FALSE)","v":0},{"$f":"VLOOKUP($A16,'７月集金一覧'!$A$4:$H$44,F$2,FALSE)","v":0},{"$f":"VLOOKUP($A16,'７月集金一覧'!$A$4:$H$44,G$2,FALSE)","v":0},null,29,{"$f":"VLOOKUP($I16,'７月集金一覧'!$A$4:$H$44,J$2,FALSE)","v":0},{"$f":"VLOOKUP($I16,'７月集金一覧'!$A$4:$H$44,K$2,FALSE)","v":0},{"$f":"VLOOKUP($I16,'７月集金一覧'!$A$4:$H$44,L$2,FALSE)","v":0},{"$f":"VLOOKUP($I16,'７月集金一覧'!$A$4:$H$44,M$2,FALSE)","v":0},{"$f":"VLOOKUP($I16,'７月集金一覧'!$A$4:$H$44,N$2,FALSE)","v":0},{"$f":"VLOOKUP($I16,'７月集金一覧'!$A$4:$H$44,O$2,FALSE)","v":0}]
["番号",{"$f":"IF('７月集金一覧'!C$4=\"\",\"\",'７月集金一覧'!C$4)","v":""},{"$f":"IF('７月集金一覧'!D$4=\"\",\"\",'７月集金一覧'!D$4)","v":""},{"$f":"IF('７月集金一覧'!E$4=\"\",\"\",'７月集金一覧'!E$4)","v":""},{"$f":"IF('７月集金一覧'!F$4=\"\",\"\",'７月集金一覧'!F$4)","v":""},{"$f":"IF('７月集金一覧'!G$4=\"\",\"\",'７月集金一覧'!G$4)","v":""},"個人計",null,"番号",{"$f":"IF('７月集金一覧'!C$4=\"\",\"\",'７月集金一覧'!C$4)","v":""},{"$f":"IF('７月集金一覧'!D$4=\"\",\"\",'７月集金一覧'!D$4)","v":""},{"$f":"IF('７月集金一覧'!E$4=\"\",\"\",'７月集金一覧'!E$4)","v":""},{"$f":"IF('７月集金一覧'!F$4=\"\",\"\",'７月集金一覧'!F$4)","v":""},{"$f":"IF('７月集金一覧'!G$4=\"\",\"\",'７月集金一覧'!G$4)","v":""},"個人計"]
[8,{"$f":"VLOOKUP($A18,'７月集金一覧'!$A$4:$H$44,B$2,FALSE)","v":0},{"$f":"VLOOKUP($A18,'７月集金一覧'!$A$4:$H$44,C$2,FALSE)","v":0},{"$f":"VLOOKUP($A18,'７月集金一覧'!$A$4:$H$44,D$2,FALSE)","v":0},{"$f":"VLOOKUP($A18,'７月集金一覧'!$A$4:$H$44,E$2,FALSE)","v":0},{"$f":"VLOOKUP($A18,'７月集金一覧'!$A$4:$H$44,F$2,FALSE)","v":0},{"$f":"VLOOKUP($A18,'７月集金一覧'!$A$4:$H$44,G$2,FALSE)","v":0},null,30,{"$f":"VLOOKUP($I18,'７月集金一覧'!$A$4:$H$44,J$2,FALSE)","v":0},{"$f":"VLOOKUP($I18,'７月集金一覧'!$A$4:$H$44,K$2,FALSE)","v":0},{"$f":"VLOOKUP($I18,'７月集金一覧'!$A$4:$H$44,L$2,FALSE)","v":0},{"$f":"VLOOKUP($I18,'７月集金一覧'!$A$4:$H$44,M$2,FALSE)","v":0},{"$f":"VLOOKUP($I18,'７月集金一覧'!$A$4:$H$44,N$2,FALSE)","v":0},{"$f":"VLOOKUP($I18,'７月集金一覧'!$A$4:$H$44,O$2,FALSE)","v":0}]
["番号",{"$f":"IF('７月集金一覧'!C$4=\"\",\"\",'７月集金一覧'!C$4)","v":""},{"$f":"IF('７月集金一覧'!D$4=\"\",\"\",'７月集金一覧'!D$4)","v":""},{"$f":"IF('７月集金一覧'!E$4=\"\",\"\",'７月集金一覧'!E$4)","v":""},{"$f":"IF('７月集金一覧'!F$4=\"\",\"\",'７月集金一覧'!F$4)","v":""},{"$f":"IF('７月集金一覧'!G$4=\"\",\"\",'７月集金一覧'!G$4)","v":""},"個人計",null,"番号",{"$f":"IF('７月集金一覧'!C$4=\"\",\"\",'７月集金一覧'!C$4)","v":""},{"$f":"IF('７月集金一覧'!D$4=\"\",\"\",'７月集金一覧'!D$4)","v":""},{"$f":"IF('７月集金一覧'!E$4=\"\",\"\",'７月集金一覧'!E$4)","v":""},{"$f":"IF('７月集金一覧'!F$4=\"\",\"\",'７月集金一覧'!F$4)","v":""},{"$f":"IF('７月集金一覧'!G$4=\"\",\"\",'７月集金一覧'!G$4)","v":""},"個人計"]
[9,{"$f":"VLOOKUP($A20,'７月集金一覧'!$A$4:$H$44,B$2,FALSE)","v":0},{"$f":"VLOOKUP($A20,'７月集金一覧'!$A$4:$H$44,C$2,FALSE)","v":0},{"$f":"VLOOKUP($A20,'７月集金一覧'!$A$4:$H$44,D$2,FALSE)","v":0},{"$f":"VLOOKUP($A20,'７月集金一覧'!$A$4:$H$44,E$2,FALSE)","v":0},{"$f":"VLOOKUP($A20,'７月集金一覧'!$A$4:$H$44,F$2,FALSE)","v":0},{"$f":"VLOOKUP($A20,'７月集金一覧'!$A$4:$H$44,G$2,FALSE)","v":0},null,31,{"$f":"VLOOKUP($I20,'７月集金一覧'!$A$4:$H$44,J$2,FALSE)","v":0},{"$f":"VLOOKUP($I20,'７月集金一覧'!$A$4:$H$44,K$2,FALSE)","v":0},{"$f":"VLOOKUP($I20,'７月集金一覧'!$A$4:$H$44,L$2,FALSE)","v":0},{"$f":"VLOOKUP($I20,'７月集金一覧'!$A$4:$H$44,M$2,FALSE)","v":0},{"$f":"VLOOKUP($I20,'７月集金一覧'!$A$4:$H$44,N$2,FALSE)","v":0},{"$f":"VLOOKUP($I20,'７月集金一覧'!$A$4:$H$44,O$2,FALSE)","v":0}]
["番号",{"$f":"IF('７月集金一覧'!C$4=\"\",\"\",'７月集金一覧'!C$4)","v":""},{"$f":"IF('７月集金一覧'!D$4=\"\",\"\",'７月集金一覧'!D$4)","v":""},{"$f":"IF('７月集金一覧'!E$4=\"\",\"\",'７月集金一覧'!E$4)","v":""},{"$f":"IF('７月集金一覧'!F$4=\"\",\"\",'７月集金一覧'!F$4)","v":""},{"$f":"IF('７月集金一覧'!G$4=\"\",\"\",'７月集金一覧'!G$4)","v":""},"個人計",null,"番号",{"$f":"IF('７月集金一覧'!C$4=\"\",\"\",'７月集金一覧'!C$4)","v":""},{"$f":"IF('７月集金一覧'!D$4=\"\",\"\",'７月集金一覧'!D$4)","v":""},{"$f":"IF('７月集金一覧'!E$4=\"\",\"\",'７月集金一覧'!E$4)","v":""},{"$f":"IF('７月集金一覧'!F$4=\"\",\"\",'７月集金一覧'!F$4)","v":""},{"$f":"IF('７月集金一覧'!G$4=\"\",\"\",'７月集金一覧'!G$4)","v":""},"個人計"]
[10,{"$f":"VLOOKUP($A22,'７月集金一覧'!$A$4:$H$44,B$2,FALSE)","v":0},{"$f":"VLOOKUP($A22,'７月集金一覧'!$A$4:$H$44,C$2,FALSE)","v":0},{"$f":"VLOOKUP($A22,'７月集金一覧'!$A$4:$H$44,D$2,FALSE)","v":0},{"$f":"VLOOKUP($A22,'７月集金一覧'!$A$4:$H$44,E$2,FALSE)","v":0},{"$f":"VLOOKUP($A22,'７月集金一覧'!$A$4:$H$44,F$2,FALSE)","v":0},{"$f":"VLOOKUP($A22,'７月集金一覧'!$A$4:$H$44,G$2,FALSE)","v":0},null,32,{"$f":"VLOOKUP($I22,'７月集金一覧'!$A$4:$H$44,J$2,FALSE)","v":0},{"$f":"VLOOKUP($I22,'７月集金一覧'!$A$4:$H$44,K$2,FALSE)","v":0},{"$f":"VLOOKUP($I22,'７月集金一覧'!$A$4:$H$44,L$2,FALSE)","v":0},{"$f":"VLOOKUP($I22,'７月集金一覧'!$A$4:$H$44,M$2,FALSE)","v":0},{"$f":"VLOOKUP($I22,'７月集金一覧'!$A$4:$H$44,N$2,FALSE)","v":0},{"$f":"VLOOKUP($I22,'７月集金一覧'!$A$4:$H$44,O$2,FALSE)","v":0}]
["番号",{"$f":"IF('７月集金一覧'!C$4=\"\",\"\",'７月集金一覧'!C$4)","v":""},{"$f":"IF('７月集金一覧'!D$4=\"\",\"\",'７月集金一覧'!D$4)","v":""},{"$f":"IF('７月集金一覧'!E$4=\"\",\"\",'７月集金一覧'!E$4)","v":""},{"$f":"IF('７月集金一覧'!F$4=\"\",\"\",'７月集金一覧'!F$4)","v":""},{"$f":"IF('７月集金一覧'!G$4=\"\",\"\",'７月集金一覧'!G$4)","v":""},"個人計",null,"番号",{"$f":"IF('７月集金一覧'!C$4=\"\",\"\",'７月集金一覧'!C$4)","v":""},{"$f":"IF('７月集金一覧'!D$4=\"\",\"\",'７月集金一覧'!D$4)","v":""},{"$f":"IF('７月集金一覧'!E$4=\"\",\"\",'７月集金一覧'!E$4)","v":""},{"$f":"IF('７月集金一覧'!F$4=\"\",\"\",'７月集金一覧'!F$4)","v":""},{"$f":"IF('７月集金一覧'!G$4=\"\",\"\",'７月集金一覧'!G$4)","v":""},"個人計"]
[11,{"$f":"VLOOKUP($A24,'７月集金一覧'!$A$4:$H$44,B$2,FALSE)","v":0},{"$f":"VLOOKUP($A24,'７月集金一覧'!$A$4:$H$44,C$2,FALSE)","v":0},{"$f":"VLOOKUP($A24,'７月集金一覧'!$A$4:$H$44,D$2,FALSE)","v":0},{"$f":"VLOOKUP($A24,'７月集金一覧'!$A$4:$H$44,E$2,FALSE)","v":0},{"$f":"VLOOKUP($A24,'７月集金一覧'!$A$4:$H$44,F$2,FALSE)","v":0},{"$f":"VLOOKUP($A24,'７月集金一覧'!$A$4:$H$44,G$2,FALSE)","v":0},null,33,{"$f":"VLOOKUP($I24,'７月集金一覧'!$A$4:$H$44,J$2,FALSE)","v":0},{"$f":"VLOOKUP($I24,'７月集金一覧'!$A$4:$H$44,K$2,FALSE)","v":0},{"$f":"VLOOKUP($I24,'７月集金一覧'!$A$4:$H$44,L$2,FALSE)","v":0},{"$f":"VLOOKUP($I24,'７月集金一覧'!$A$4:$H$44,M$2,FALSE)","v":0},{"$f":"VLOOKUP($I24,'７月集金一覧'!$A$4:$H$44,N$2,FALSE)","v":0},{"$f":"VLOOKUP($I24,'７月集金一覧'!$A$4:$H$44,O$2,FALSE)","v":0}]
["番号",{"$f":"IF('７月集金一覧'!C$4=\"\",\"\",'７月集金一覧'!C$4)","v":""},{"$f":"IF('７月集金一覧'!D$4=\"\",\"\",'７月集金一覧'!D$4)","v":""},{"$f":"IF('７月集金一覧'!E$4=\"\",\"\",'７月集金一覧'!E$4)","v":""},{"$f":"IF('７月集金一覧'!F$4=\"\",\"\",'７月集金一覧'!F$4)","v":""},{"$f":"IF('７月集金一覧'!G$4=\"\",\"\",'７月集金一覧'!G$4)","v":""},"個人計",null,"番号",{"$f":"IF('７月集金一覧'!C$4=\"\",\"\",'７月集金一覧'!C$4)","v":""},{"$f":"IF('７月集金一覧'!D$4=\"\",\"\",'７月集金一覧'!D$4)","v":""},{"$f":"IF('７月集金一覧'!E$4=\"\",\"\",'７月集金一覧'!E$4)","v":""},{"$f":"IF('７月集金一覧'!F$4=\"\",\"\",'７月集金一覧'!F$4)","v":""},{"$f":"IF('７月集金一覧'!G$4=\"\",\"\",'７月集金一覧'!G$4)","v":""},"個人計"]
[12,{"$f":"VLOOKUP($A26,'７月集金一覧'!$A$4:$H$44,B$2,FALSE)","v":0},{"$f":"VLOOKUP($A26,'７月集金一覧'!$A$4:$H$44,C$2,FALSE)","v":0},{"$f":"VLOOKUP($A26,'７月集金一覧'!$A$4:$H$44,D$2,FALSE)","v":0},{"$f":"VLOOKUP($A26,'７月集金一覧'!$A$4:$H$44,E$2,FALSE)","v":0},{"$f":"VLOOKUP($A26,'７月集金一覧'!$A$4:$H$44,F$2,FALSE)","v":0},{"$f":"VLOOKUP($A26,'７月集金一覧'!$A$4:$H$44,G$2,FALSE)","v":0},null,34,{"$f":"VLOOKUP($I26,'７月集金一覧'!$A$4:$H$44,J$2,FALSE)","v":0},{"$f":"VLOOKUP($I26,'７月集金一覧'!$A$4:$H$44,K$2,FALSE)","v":0},{"$f":"VLOOKUP($I26,'７月集金一覧'!$A$4:$H$44,L$2,FALSE)","v":0},{"$f":"VLOOKUP($I26,'７月集金一覧'!$A$4:$H$44,M$2,FALSE)","v":0},{"$f":"VLOOKUP($I26,'７月集金一覧'!$A$4:$H$44,N$2,FALSE)","v":0},{"$f":"VLOOKUP($I26,'７月集金一覧'!$A$4:$H$44,O$2,FALSE)","v":0}]
["番号",{"$f":"IF('７月集金一覧'!C$4=\"\",\"\",'７月集金一覧'!C$4)","v":""},{"$f":"IF('７月集金一覧'!D$4=\"\",\"\",'７月集金一覧'!D$4)","v":""},{"$f":"IF('７月集金一覧'!E$4=\"\",\"\",'７月集金一覧'!E$4)","v":""},{"$f":"IF('７月集金一覧'!F$4=\"\",\"\",'７月集金一覧'!F$4)","v":""},{"$f":"IF('７月集金一覧'!G$4=\"\",\"\",'７月集金一覧'!G$4)","v":""},"個人計",null,"番号",{"$f":"IF('７月集金一覧'!C$4=\"\",\"\",'７月集金一覧'!C$4)","v":""},{"$f":"IF('７月集金一覧'!D$4=\"\",\"\",'７月集金一覧'!D$4)","v":""},{"$f":"IF('７月集金一覧'!E$4=\"\",\"\",'７月集金一覧'!E$4)","v":""},{"$f":"IF('７月集金一覧'!F$4=\"\",\"\",'７月集金一覧'!F$4)","v":""},{"$f":"IF('７月集金一覧'!G$4=\"\",\"\",'７月集金一覧'!G$4)","v":""},"個人計"]
[13,{"$f":"VLOOKUP($A28,'７月集金一覧'!$A$4:$H$44,B$2,FALSE)","v":0},{"$f":"VLOOKUP($A28,'７月集金一覧'!$A$4:$H$44,C$2,FALSE)","v":0},{"$f":"VLOOKUP($A28,'７月集金一覧'!$A$4:$H$44,D$2,FALSE)","v":0},{"$f":"VLOOKUP($A28,'７月集金一覧'!$A$4:$H$44,E$2,FALSE)","v":0},{"$f":"VLOOKUP($A28,'７月集金一覧'!$A$4:$H$44,F$2,FALSE)","v":0},{"$f":"VLOOKUP($A28,'７月集金一覧'!$A$4:$H$44,G$2,FALSE)","v":0},null,35,{"$f":"VLOOKUP($I28,'７月集金一覧'!$A$4:$H$44,J$2,FALSE)","v":0},{"$f":"VLOOKUP($I28,'７月集金一覧'!$A$4:$H$44,K$2,FALSE)","v":0},{"$f":"VLOOKUP($I28,'７月集金一覧'!$A$4:$H$44,L$2,FALSE)","v":0},{"$f":"VLOOKUP($I28,'７月集金一覧'!$A$4:$H$44,M$2,FALSE)","v":0},{"$f":"VLOOKUP($I28,'７月集金一覧'!$A$4:$H$44,N$2,FALSE)","v":0},{"$f":"VLOOKUP($I28,'７月集金一覧'!$A$4:$H$44,O$2,FALSE)","v":0}]
["番号",{"$f":"IF('７月集金一覧'!C$4=\"\",\"\",'７月集金一覧'!C$4)","v":""},{"$f":"IF('７月集金一覧'!D$4=\"\",\"\",'７月集金一覧'!D$4)","v":""},{"$f":"IF('７月集金一覧'!E$4=\"\",\"\",'７月集金一覧'!E$4)","v":""},{"$f":"IF('７月集金一覧'!F$4=\"\",\"\",'７月集金一覧'!F$4)","v":""},{"$f":"IF('７月集金一覧'!G$4=\"\",\"\",'７月集金一覧'!G$4)","v":""},"個人計",null,"番号",{"$f":"IF('７月集金一覧'!C$4=\"\",\"\",'７月集金一覧'!C$4)","v":""},{"$f":"IF('７月集金一覧'!D$4=\"\",\"\",'７月集金一覧'!D$4)","v":""},{"$f":"IF('７月集金一覧'!E$4=\"\",\"\",'７月集金一覧'!E$4)","v":""},{"$f":"IF('７月集金一覧'!F$4=\"\",\"\",'７月集金一覧'!F$4)","v":""},{"$f":"IF('７月集金一覧'!G$4=\"\",\"\",'７月集金一覧'!G$4)","v":""},"個人計"]
[14,{"$f":"VLOOKUP($A30,'７月集金一覧'!$A$4:$H$44,B$2,FALSE)","v":0},{"$f":"VLOOKUP($A30,'７月集金一覧'!$A$4:$H$44,C$2,FALSE)","v":0},{"$f":"VLOOKUP($A30,'７月集金一覧'!$A$4:$H$44,D$2,FALSE)","v":0},{"$f":"VLOOKUP($A30,'７月集金一覧'!$A$4:$H$44,E$2,FALSE)","v":0},{"$f":"VLOOKUP($A30,'７月集金一覧'!$A$4:$H$44,F$2,FALSE)","v":0},{"$f":"VLOOKUP($A30,'７月集金一覧'!$A$4:$H$44,G$2,FALSE)","v":0},null,36,{"$f":"VLOOKUP($I30,'７月集金一覧'!$A$4:$H$44,J$2,FALSE)","v":0},{"$f":"VLOOKUP($I30,'７月集金一覧'!$A$4:$H$44,K$2,FALSE)","v":0},{"$f":"VLOOKUP($I30,'７月集金一覧'!$A$4:$H$44,L$2,FALSE)","v":0},{"$f":"VLOOKUP($I30,'７月集金一覧'!$A$4:$H$44,M$2,FALSE)","v":0},{"$f":"VLOOKUP($I30,'７月集金一覧'!$A$4:$H$44,N$2,FALSE)","v":0},{"$f":"VLOOKUP($I30,'７月集金一覧'!$A$4:$H$44,O$2,FALSE)","v":0}]
["番号",{"$f":"IF('７月集金一覧'!C$4=\"\",\"\",'７月集金一覧'!C$4)","v":""},{"$f":"IF('７月集金一覧'!D$4=\"\",\"\",'７月集金一覧'!D$4)","v":""},{"$f":"IF('７月集金一覧'!E$4=\"\",\"\",'７月集金一覧'!E$4)","v":""},{"$f":"IF('７月集金一覧'!F$4=\"\",\"\",'７月集金一覧'!F$4)","v":""},{"$f":"IF('７月集金一覧'!G$4=\"\",\"\",'７月集金一覧'!G$4)","v":""},"個人計",null,"番号",{"$f":"IF('７月集金一覧'!C$4=\"\",\"\",'７月集金一覧'!C$4)","v":""},{"$f":"IF('７月集金一覧'!D$4=\"\",\"\",'７月集金一覧'!D$4)","v":""},{"$f":"IF('７月集金一覧'!E$4=\"\",\"\",'７月集金一覧'!E$4)","v":""},{"$f":"IF('７月集金一覧'!F$4=\"\",\"\",'７月集金一覧'!F$4)","v":""},{"$f":"IF('７月集金一覧'!G$4=\"\",\"\",'７月集金一覧'!G$4)","v":""},"個人計"]
[15,{"$f":"VLOOKUP($A32,'７月集金一覧'!$A$4:$H$44,B$2,FALSE)","v":0},{"$f":"VLOOKUP($A32,'７月集金一覧'!$A$4:$H$44,C$2,FALSE)","v":0},{"$f":"VLOOKUP($A32,'７月集金一覧'!$A$4:$H$44,D$2,FALSE)","v":0},{"$f":"VLOOKUP($A32,'７月集金一覧'!$A$4:$H$44,E$2,FALSE)","v":0},{"$f":"VLOOKUP($A32,'７月集金一覧'!$A$4:$H$44,F$2,FALSE)","v":0},{"$f":"VLOOKUP($A32,'７月集金一覧'!$A$4:$H$44,G$2,FALSE)","v":0},null,37,{"$f":"VLOOKUP($I32,'７月集金一覧'!$A$4:$H$44,J$2,FALSE)","v":0},{"$f":"VLOOKUP($I32,'７月集金一覧'!$A$4:$H$44,K$2,FALSE)","v":0},{"$f":"VLOOKUP($I32,'７月集金一覧'!$A$4:$H$44,L$2,FALSE)","v":0},{"$f":"VLOOKUP($I32,'７月集金一覧'!$A$4:$H$44,M$2,FALSE)","v":0},{"$f":"VLOOKUP($I32,'７月集金一覧'!$A$4:$H$44,N$2,FALSE)","v":0},{"$f":"VLOOKUP($I32,'７月集金一覧'!$A$4:$H$44,O$2,FALSE)","v":0}]
["番号",{"$f":"IF('７月集金一覧'!C$4=\"\",\"\",'７月集金一覧'!C$4)","v":""},{"$f":"IF('７月集金一覧'!D$4=\"\",\"\",'７月集金一覧'!D$4)","v":""},{"$f":"IF('７月集金一覧'!E$4=\"\",\"\",'７月集金一覧'!E$4)","v":""},{"$f":"IF('７月集金一覧'!F$4=\"\",\"\",'７月集金一覧'!F$4)","v":""},{"$f":"IF('７月集金一覧'!G$4=\"\",\"\",'７月集金一覧'!G$4)","v":""},"個人計",null,"番号",{"$f":"IF('７月集金一覧'!C$4=\"\",\"\",'７月集金一覧'!C$4)","v":""},{"$f":"IF('７月集金一覧'!D$4=\"\",\"\",'７月集金一覧'!D$4)","v":""},{"$f":"IF('７月集金一覧'!E$4=\"\",\"\",'７月集金一覧'!E$4)","v":""},{"$f":"IF('７月集金一覧'!F$4=\"\",\"\",'７月集金一覧'!F$4)","v":""},{"$f":"IF('７月集金一覧'!G$4=\"\",\"\",'７月集金一覧'!G$4)","v":""},"個人計"]
[16,{"$f":"VLOOKUP($A34,'７月集金一覧'!$A$4:$H$44,B$2,FALSE)","v":0},{"$f":"VLOOKUP($A34,'７月集金一覧'!$A$4:$H$44,C$2,FALSE)","v":0},{"$f":"VLOOKUP($A34,'７月集金一覧'!$A$4:$H$44,D$2,FALSE)","v":0},{"$f":"VLOOKUP($A34,'７月集金一覧'!$A$4:$H$44,E$2,FALSE)","v":0},{"$f":"VLOOKUP($A34,'７月集金一覧'!$A$4:$H$44,F$2,FALSE)","v":0},{"$f":"VLOOKUP($A34,'７月集金一覧'!$A$4:$H$44,G$2,FALSE)","v":0},null,38,{"$f":"VLOOKUP($I34,'７月集金一覧'!$A$4:$H$44,J$2,FALSE)","v":0},{"$f":"VLOOKUP($I34,'７月集金一覧'!$A$4:$H$44,K$2,FALSE)","v":0},{"$f":"VLOOKUP($I34,'７月集金一覧'!$A$4:$H$44,L$2,FALSE)","v":0},{"$f":"VLOOKUP($I34,'７月集金一覧'!$A$4:$H$44,M$2,FALSE)","v":0},{"$f":"VLOOKUP($I34,'７月集金一覧'!$A$4:$H$44,N$2,FALSE)","v":0},{"$f":"VLOOKUP($I34,'７月集金一覧'!$A$4:$H$44,O$2,FALSE)","v":0}]
["番号",{"$f":"IF('７月集金一覧'!C$4=\"\",\"\",'７月集金一覧'!C$4)","v":""},{"$f":"IF('７月集金一覧'!D$4=\"\",\"\",'７月集金一覧'!D$4)","v":""},{"$f":"IF('７月集金一覧'!E$4=\"\",\"\",'７月集金一覧'!E$4)","v":""},{"$f":"IF('７月集金一覧'!F$4=\"\",\"\",'７月集金一覧'!F$4)","v":""},{"$f":"IF('７月集金一覧'!G$4=\"\",\"\",'７月集金一覧'!G$4)","v":""},"個人計",null,"番号",{"$f":"IF('７月集金一覧'!C$4=\"\",\"\",'７月集金一覧'!C$4)","v":""},{"$f":"IF('７月集金一覧'!D$4=\"\",\"\",'７月集金一覧'!D$4)","v":""},{"$f":"IF('７月集金一覧'!E$4=\"\",\"\",'７月集金一覧'!E$4)","v":""},{"$f":"IF('７月集金一覧'!F$4=\"\",\"\",'７月集金一覧'!F$4)","v":""},{"$f":"IF('７月集金一覧'!G$4=\"\",\"\",'７月集金一覧'!G$4)","v":""},"個人計"]
[17,{"$f":"VLOOKUP($A36,'７月集金一覧'!$A$4:$H$44,B$2,FALSE)","v":0},{"$f":"VLOOKUP($A36,'７月集金一覧'!$A$4:$H$44,C$2,FALSE)","v":0},{"$f":"VLOOKUP($A36,'７月集金一覧'!$A$4:$H$44,D$2,FALSE)","v":0},{"$f":"VLOOKUP($A36,'７月集金一覧'!$A$4:$H$44,E$2,FALSE)","v":0},{"$f":"VLOOKUP($A36,'７月集金一覧'!$A$4:$H$44,F$2,FALSE)","v":0},{"$f":"VLOOKUP($A36,'７月集金一覧'!$A$4:$H$44,G$2,FALSE)","v":0},null,39,{"$f":"VLOOKUP($I36,'７月集金一覧'!$A$4:$H$44,J$2,FALSE)","v":0},{"$f":"VLOOKUP($I36,'７月集金一覧'!$A$4:$H$44,K$2,FALSE)","v":0},{"$f":"VLOOKUP($I36,'７月集金一覧'!$A$4:$H$44,L$2,FALSE)","v":0},{"$f":"VLOOKUP($I36,'７月集金一覧'!$A$4:$H$44,M$2,FALSE)","v":0},{"$f":"VLOOKUP($I36,'７月集金一覧'!$A$4:$H$44,N$2,FALSE)","v":0},{"$f":"VLOOKUP($I36,'７月集金一覧'!$A$4:$H$44,O$2,FALSE)","v":0}]
["番号",{"$f":"IF('７月集金一覧'!C$4=\"\",\"\",'７月集金一覧'!C$4)","v":""},{"$f":"IF('７月集金一覧'!D$4=\"\",\"\",'７月集金一覧'!D$4)","v":""},{"$f":"IF('７月集金一覧'!E$4=\"\",\"\",'７月集金一覧'!E$4)","v":""},{"$f":"IF('７月集金一覧'!F$4=\"\",\"\",'７月集金一覧'!F$4)","v":""},{"$f":"IF('７月集金一覧'!G$4=\"\",\"\",'７月集金一覧'!G$4)","v":""},"個人計",null,"番号",{"$f":"IF('７月集金一覧'!C$4=\"\",\"\",'７月集金一覧'!C$4)","v":""},{"$f":"IF('７月集金一覧'!D$4=\"\",\"\",'７月集金一覧'!D$4)","v":""},{"$f":"IF('７月集金一覧'!E$4=\"\",\"\",'７月集金一覧'!E$4)","v":""},{"$f":"IF('７月集金一覧'!F$4=\"\",\"\",'７月集金一覧'!F$4)","v":""},{"$f":"IF('７月集金一覧'!G$4=\"\",\"\",'７月集金一覧'!G$4)","v":""},"個人計"]
[18,{"$f":"VLOOKUP($A38,'７月集金一覧'!$A$4:$H$44,B$2,FALSE)","v":0},{"$f":"VLOOKUP($A38,'７月集金一覧'!$A$4:$H$44,C$2,FALSE)","v":0},{"$f":"VLOOKUP($A38,'７月集金一覧'!$A$4:$H$44,D$2,FALSE)","v":0},{"$f":"VLOOKUP($A38,'７月集金一覧'!$A$4:$H$44,E$2,FALSE)","v":0},{"$f":"VLOOKUP($A38,'７月集金一覧'!$A$4:$H$44,F$2,FALSE)","v":0},{"$f":"VLOOKUP($A38,'７月集金一覧'!$A$4:$H$44,G$2,FALSE)","v":0},null,40,{"$f":"VLOOKUP($I38,'７月集金一覧'!$A$4:$H$44,J$2,FALSE)","v":0},{"$f":"VLOOKUP($I38,'７月集金一覧'!$A$4:$H$44,K$2,FALSE)","v":0},{"$f":"VLOOKUP($I38,'７月集金一覧'!$A$4:$H$44,L$2,FALSE)","v":0},{"$f":"VLOOKUP($I38,'７月集金一覧'!$A$4:$H$44,M$2,FALSE)","v":0},{"$f":"VLOOKUP($I38,'７月集金一覧'!$A$4:$H$44,N$2,FALSE)","v":0},{"$f":"VLOOKUP($I38,'７月集金一覧'!$A$4:$H$44,O$2,FALSE)","v":0}]
["番号",{"$f":"IF('７月集金一覧'!C$4=\"\",\"\",'７月集金一覧'!C$4)","v":""},{"$f":"IF('７月集金一覧'!D$4=\"\",\"\",'７月集金一覧'!D$4)","v":""},{"$f":"IF('７月集金一覧'!E$4=\"\",\"\",'７月集金一覧'!E$4)","v":""},{"$f":"IF('７月集金一覧'!F$4=\"\",\"\",'７月集金一覧'!F$4)","v":""},{"$f":"IF('７月集金一覧'!G$4=\"\",\"\",'７月集金一覧'!G$4)","v":""},"個人計"]
[19,{"$f":"VLOOKUP($A40,'７月集金一覧'!$A$4:$H$44,B$2,FALSE)","v":0},{"$f":"VLOOKUP($A40,'７月集金一覧'!$A$4:$H$44,C$2,FALSE)","v":0},{"$f":"VLOOKUP($A40,'７月集金一覧'!$A$4:$H$44,D$2,FALSE)","v":0},{"$f":"VLOOKUP($A40,'７月集金一覧'!$A$4:$H$44,E$2,FALSE)","v":0},{"$f":"VLOOKUP($A40,'７月集金一覧'!$A$4:$H$44,F$2,FALSE)","v":0},{"$f":"VLOOKUP($A40,'７月集金一覧'!$A$4:$H$44,G$2,FALSE)","v":0}]
["番号",{"$f":"IF('７月集金一覧'!C$4=\"\",\"\",'７月集金一覧'!C$4)","v":""},{"$f":"IF('７月集金一覧'!D$4=\"\",\"\",'７月集金一覧'!D$4)","v":""},{"$f":"IF('７月集金一覧'!E$4=\"\",\"\",'７月集金一覧'!E$4)","v":""},{"$f":"IF('７月集金一覧'!F$4=\"\",\"\",'７月集金一覧'!F$4)","v":""},{"$f":"IF('７月集金一覧'!G$4=\"\",\"\",'７月集金一覧'!G$4)","v":""},"個人計"]
[20,{"$f":"VLOOKUP($A42,'７月集金一覧'!$A$4:$H$44,B$2,FALSE)","v":0},{"$f":"VLOOKUP($A42,'７月集金一覧'!$A$4:$H$44,C$2,FALSE)","v":0},{"$f":"VLOOKUP($A42,'７月集金一覧'!$A$4:$H$44,D$2,FALSE)","v":0},{"$f":"VLOOKUP($A42,'７月集金一覧'!$A$4:$H$44,E$2,FALSE)","v":0},{"$f":"VLOOKUP($A42,'７月集金一覧'!$A$4:$H$44,F$2,FALSE)","v":0},{"$f":"VLOOKUP($A42,'７月集金一覧'!$A$4:$H$44,G$2,FALSE)","v":0}]
["番号",{"$f":"IF('７月集金一覧'!C$4=\"\",\"\",'７月集金一覧'!C$4)","v":""},{"$f":"IF('７月集金一覧'!D$4=\"\",\"\",'７月集金一覧'!D$4)","v":""},{"$f":"IF('７月集金一覧'!E$4=\"\",\"\",'７月集金一覧'!E$4)","v":""},{"$f":"IF('７月集金一覧'!F$4=\"\",\"\",'７月集金一覧'!F$4)","v":""},{"$f":"IF('７月集金一覧'!G$4=\"\",\"\",'７月集金一覧'!G$4)","v":""},"個人計"]
[21,{"$f":"VLOOKUP($A44,'７月集金一覧'!$A$4:$H$44,B$2,FALSE)","v":0},{"$f":"VLOOKUP($A44,'７月集金一覧'!$A$4:$H$44,C$2,FALSE)","v":0},{"$f":"VLOOKUP($A44,'７月集金一覧'!$A$4:$H$44,D$2,FALSE)","v":0},{"$f":"VLOOKUP($A44,'７月集金一覧'!$A$4:$H$44,E$2,FALSE)","v":0},{"$f":"VLOOKUP($A44,'７月集金一覧'!$A$4:$H$44,F$2,FALSE)","v":0},{"$f":"VLOOKUP($A44,'７月集金一覧'!$A$4:$H$44,G$2,FALSE)","v":0}]
["番号",{"$f":"IF('７月集金一覧'!C$4=\"\",\"\",'７月集金一覧'!C$4)","v":""},{"$f":"IF('７月集金一覧'!D$4=\"\",\"\",'７月集金一覧'!D$4)","v":""},{"$f":"IF('７月集金一覧'!E$4=\"\",\"\",'７月集金一覧'!E$4)","v":""},{"$f":"IF('７月集金一覧'!F$4=\"\",\"\",'７月集金一覧'!F$4)","v":""},{"$f":"IF('７月集金一覧'!G$4=\"\",\"\",'７月集金一覧'!G$4)","v":""},"個人計"]
[22,{"$f":"VLOOKUP($A46,'７月集金一覧'!$A$4:$H$44,B$2,FALSE)","v":0},{"$f":"VLOOKUP($A46,'７月集金一覧'!$A$4:$H$44,C$2,FALSE)","v":0},{"$f":"VLOOKUP($A46,'７月集金一覧'!$A$4:$H$44,D$2,FALSE)","v":0},{"$f":"VLOOKUP($A46,'７月集金一覧'!$A$4:$H$44,E$2,FALSE)","v":0},{"$f":"VLOOKUP($A46,'７月集金一覧'!$A$4:$H$44,F$2,FALSE)","v":0},{"$f":"VLOOKUP($A46,'７月集金一覧'!$A$4:$H$44,G$2,FALSE)","v":0}]

{"sheet":"9月個票","index":27,"n_rows":46,"n_cols":15,"rows_kept":46,"cut":false,"hidden":false,"merged":[]}
[null,"令和",{"$f":"メイン!D7","v":0},"年度",{"$f":"メイン!C8","v":0},"年",{"$f":"メイン!E8","v":0},"組"]
[1,3,4,5,6,7,8,null,1,3,4,5,6,7,8]
["番号",{"$f":"IF('９月集金一覧'!C$4=\"\",\"\",'９月集金一覧'!C$4)","v":""},{"$f":"IF('９月集金一覧'!$D$4=\"\",\"\",'９月集金一覧'!D$4)","v":""},{"$f":"IF('９月集金一覧'!E$4=\"\",\"\",'９月集金一覧'!E$4)","v":""},{"$f":"IF('９月集金一覧'!F$4=\"\",\"\",'９月集金一覧'!F$4)","v":""},{"$f":"IF('９月集金一覧'!G$4=\"\",\"\",'９月集金一覧'!G$4)","v":""},"個人計",null,"番号",{"$f":"IF('９月集金一覧'!C$4=\"\",\"\",'９月集金一覧'!C$4)","v":""},{"$f":"IF('９月集金一覧'!D$4=\"\",\"\",'９月集金一覧'!D$4)","v":""},{"$f":"IF('９月集金一覧'!E$4=\"\",\"\",'９月集金一覧'!E$4)","v":""},{"$f":"IF('９月集金一覧'!F$4=\"\",\"\",'９月集金一覧'!F$4)","v":""},{"$f":"IF('９月集金一覧'!G$4=\"\",\"\",'９月集金一覧'!G$4)","v":""},"個人計"]
[1,{"$f":"VLOOKUP($A4,'９月集金一覧'!$A$4:$H$44,B$2,FALSE)","v":0},{"$f":"VLOOKUP($A4,'９月集金一覧'!$A$4:$H$44,C$2,FALSE)","v":0},{"$f":"VLOOKUP($A4,'９月集金一覧'!$A$4:$H$44,D$2,FALSE)","v":0},{"$f":"VLOOKUP($A4,'９月集金一覧'!$A$4:$H$44,E$2,FALSE)","v":0},{"$f":"VLOOKUP($A4,'９月集金一覧'!$A$4:$H$44,F$2,FALSE)","v":0},{"$f":"VLOOKUP($A4,'９月集金一覧'!$A$4:$H$44,G$2,FALSE)","v":0},null,23,{"$f":"VLOOKUP($I4,'９月集金一覧'!$A$4:$H$44,J$2,FALSE)","v":0},{"$f":"VLOOKUP($I4,'９月集金一覧'!$A$4:$H$44,K$2,FALSE)","v":0},{"$f":"VLOOKUP($I4,'９月集金一覧'!$A$4:$H$44,L$2,FALSE)","v":0},{"$f":"VLOOKUP($I4,'９月集金一覧'!$A$4:$H$44,M$2,FALSE)","v":0},{"$f":"VLOOKUP($I4,'９月集金一覧'!$A$4:$H$44,N$2,FALSE)","v":0},{"$f":"VLOOKUP($I4,'９月集金一覧'!$A$4:$H$44,O$2,FALSE)","v":0}]
["番号",{"$f":"IF('９月集金一覧'!C$4=\"\",\"\",'９月集金一覧'!C$4)","v":""},{"$f":"IF('９月集金一覧'!D$4=\"\",\"\",'９月集金一覧'!D$4)","v":""},{"$f":"IF('９月集金一覧'!E$4=\"\",\"\",'９月集金一覧'!E$4)","v":""},{"$f":"IF('９月集金一覧'!F$4=\"\",\"\",'９月集金一覧'!F$4)","v":""},{"$f":"IF('９月集金一覧'!G$4=\"\",\"\",'９月集金一覧'!G$4)","v":""},"個人計",null,"番号",{"$f":"IF('９月集金一覧'!C$4=\"\",\"\",'９月集金一覧'!C$4)","v":""},{"$f":"IF('９月集金一覧'!D$4=\"\",\"\",'９月集金一覧'!D$4)","v":""},{"$f":"IF('９月集金一覧'!E$4=\"\",\"\",'９月集金一覧'!E$4)","v":""},{"$f":"IF('９月集金一覧'!F$4=\"\",\"\",'９月集金一覧'!F$4)","v":""},{"$f":"IF('９月集金一覧'!G$4=\"\",\"\",'９月集金一覧'!G$4)","v":""},"個人計"]
[2,{"$f":"VLOOKUP($A6,'９月集金一覧'!$A$4:$H$44,B$2,FALSE)","v":0},{"$f":"VLOOKUP($A6,'９月集金一覧'!$A$4:$H$44,C$2,FALSE)","v":0},{"$f":"VLOOKUP($A6,'９月集金一覧'!$A$4:$H$44,D$2,FALSE)","v":0},{"$f":"VLOOKUP($A6,'９月集金一覧'!$A$4:$H$44,E$2,FALSE)","v":0},{"$f":"VLOOKUP($A6,'９月集金一覧'!$A$4:$H$44,F$2,FALSE)","v":0},{"$f":"VLOOKUP($A6,'９月集金一覧'!$A$4:$H$44,G$2,FALSE)","v":0},null,24,{"$f":"VLOOKUP($I6,'９月集金一覧'!$A$4:$H$44,J$2,FALSE)","v":0},{"$f":"VLOOKUP($I6,'９月集金一覧'!$A$4:$H$44,K$2,FALSE)","v":0},{"$f":"VLOOKUP($I6,'９月集金一覧'!$A$4:$H$44,L$2,FALSE)","v":0},{"$f":"VLOOKUP($I6,'９月集金一覧'!$A$4:$H$44,M$2,FALSE)","v":0},{"$f":"VLOOKUP($I6,'９月集金一覧'!$A$4:$H$44,N$2,FALSE)","v":0},{"$f":"VLOOKUP($I6,'９月集金一覧'!$A$4:$H$44,O$2,FALSE)","v":0}]
["番号",{"$f":"IF('９月集金一覧'!C$4=\"\",\"\",'９月集金一覧'!C$4)","v":""},{"$f":"IF('９月集金一覧'!D$4=\"\",\"\",'９月集金一覧'!D$4)","v":""},{"$f":"IF('９月集金一覧'!E$4=\"\",\"\",'９月集金一覧'!E$4)","v":""},{"$f":"IF('９月集金一覧'!F$4=\"\",\"\",'９月集金一覧'!F$4)","v":""},{"$f":"IF('９月集金一覧'!G$4=\"\",\"\",'９月集金一覧'!G$4)","v":""},"個人計",null,"番号",{"$f":"IF('９月集金一覧'!C$4=\"\",\"\",'９月集金一覧'!C$4)","v":""},{"$f":"IF('９月集金一覧'!D$4=\"\",\"\",'９月集金一覧'!D$4)","v":""},{"$f":"IF('９月集金一覧'!E$4=\"\",\"\",'９月集金一覧'!E$4)","v":""},{"$f":"IF('９月集金一覧'!F$4=\"\",\"\",'９月集金一覧'!F$4)","v":""},{"$f":"IF('９月集金一覧'!G$4=\"\",\"\",'９月集金一覧'!G$4)","v":""},"個人計"]
[3,{"$f":"VLOOKUP($A8,'９月集金一覧'!$A$4:$H$44,B$2,FALSE)","v":0},{"$f":"VLOOKUP($A8,'９月集金一覧'!$A$4:$H$44,C$2,FALSE)","v":0},{"$f":"VLOOKUP($A8,'９月集金一覧'!$A$4:$H$44,D$2,FALSE)","v":0},{"$f":"VLOOKUP($A8,'９月集金一覧'!$A$4:$H$44,E$2,FALSE)","v":0},{"$f":"VLOOKUP($A8,'９月集金一覧'!$A$4:$H$44,F$2,FALSE)","v":0},{"$f":"VLOOKUP($A8,'９月集金一覧'!$A$4:$H$44,G$2,FALSE)","v":0},null,25,{"$f":"VLOOKUP($I8,'９月集金一覧'!$A$4:$H$44,J$2,FALSE)","v":0},{"$f":"VLOOKUP($I8,'９月集金一覧'!$A$4:$H$44,K$2,FALSE)","v":0},{"$f":"VLOOKUP($I8,'９月集金一覧'!$A$4:$H$44,L$2,FALSE)","v":0},{"$f":"VLOOKUP($I8,'９月集金一覧'!$A$4:$H$44,M$2,FALSE)","v":0},{"$f":"VLOOKUP($I8,'９月集金一覧'!$A$4:$H$44,N$2,FALSE)","v":0},{"$f":"VLOOKUP($I8,'９月集金一覧'!$A$4:$H$44,O$2,FALSE)","v":0}]
["番号",{"$f":"IF('９月集金一覧'!C$4=\"\",\"\",'９月集金一覧'!C$4)","v":""},{"$f":"IF('９月集金一覧'!D$4=\"\",\"\",'９月集金一覧'!D$4)","v":""},{"$f":"IF('９月集金一覧'!E$4=\"\",\"\",'９月集金一覧'!E$4)","v":""},{"$f":"IF('９月集金一覧'!F$4=\"\",\"\",'９月集金一覧'!F$4)","v":""},{"$f":"IF('９月集金一覧'!G$4=\"\",\"\",'９月集金一覧'!G$4)","v":""},"個人計",null,"番号",{"$f":"IF('９月集金一覧'!C$4=\"\",\"\",'９月集金一覧'!C$4)","v":""},{"$f":"IF('９月集金一覧'!D$4=\"\",\"\",'９月集金一覧'!D$4)","v":""},{"$f":"IF('９月集金一覧'!E$4=\"\",\"\",'９月集金一覧'!E$4)","v":""},{"$f":"IF('９月集金一覧'!F$4=\"\",\"\",'９月集金一覧'!F$4)","v":""},{"$f":"IF('９月集金一覧'!G$4=\"\",\"\",'９月集金一覧'!G$4)","v":""},"個人計"]
[4,{"$f":"VLOOKUP($A10,'９月集金一覧'!$A$4:$H$44,B$2,FALSE)","v":0},{"$f":"VLOOKUP($A10,'９月集金一覧'!$A$4:$H$44,C$2,FALSE)","v":0},{"$f":"VLOOKUP($A10,'９月集金一覧'!$A$4:$H$44,D$2,FALSE)","v":0},{"$f":"VLOOKUP($A10,'９月集金一覧'!$A$4:$H$44,E$2,FALSE)","v":0},{"$f":"VLOOKUP($A10,'９月集金一覧'!$A$4:$H$44,F$2,FALSE)","v":0},{"$f":"VLOOKUP($A10,'９月集金一覧'!$A$4:$H$44,G$2,FALSE)","v":0},null,26,{"$f":"VLOOKUP($I10,'９月集金一覧'!$A$4:$H$44,J$2,FALSE)","v":0},{"$f":"VLOOKUP($I10,'９月集金一覧'!$A$4:$H$44,K$2,FALSE)","v":0},{"$f":"VLOOKUP($I10,'９月集金一覧'!$A$4:$H$44,L$2,FALSE)","v":0},{"$f":"VLOOKUP($I10,'９月集金一覧'!$A$4:$H$44,M$2,FALSE)","v":0},{"$f":"VLOOKUP($I10,'９月集金一覧'!$A$4:$H$44,N$2,FALSE)","v":0},{"$f":"VLOOKUP($I10,'９月集金一覧'!$A$4:$H$44,O$2,FALSE)","v":0}]
["番号",{"$f":"IF('９月集金一覧'!C$4=\"\",\"\",'９月集金一覧'!C$4)","v":""},{"$f":"IF('９月集金一覧'!D$4=\"\",\"\",'９月集金一覧'!D$4)","v":""},{"$f":"IF('９月集金一覧'!E$4=\"\",\"\",'９月集金一覧'!E$4)","v":""},{"$f":"IF('９月集金一覧'!F$4=\"\",\"\",'９月集金一覧'!F$4)","v":""},{"$f":"IF('９月集金一覧'!G$4=\"\",\"\",'９月集金一覧'!G$4)","v":""},"個人計",null,"番号",{"$f":"IF('９月集金一覧'!C$4=\"\",\"\",'９月集金一覧'!C$4)","v":""},{"$f":"IF('９月集金一覧'!D$4=\"\",\"\",'９月集金一覧'!D$4)","v":""},{"$f":"IF('９月集金一覧'!E$4=\"\",\"\",'９月集金一覧'!E$4)","v":""},{"$f":"IF('９月集金一覧'!F$4=\"\",\"\",'９月集金一覧'!F$4)","v":""},{"$f":"IF('９月集金一覧'!G$4=\"\",\"\",'９月集金一覧'!G$4)","v":""},"個人計"]
[5,{"$f":"VLOOKUP($A12,'９月集金一覧'!$A$4:$H$44,B$2,FALSE)","v":0},{"$f":"VLOOKUP($A12,'９月集金一覧'!$A$4:$H$44,C$2,FALSE)","v":0},{"$f":"VLOOKUP($A12,'９月集金一覧'!$A$4:$H$44,D$2,FALSE)","v":0},{"$f":"VLOOKUP($A12,'９月集金一覧'!$A$4:$H$44,E$2,FALSE)","v":0},{"$f":"VLOOKUP($A12,'９月集金一覧'!$A$4:$H$44,F$2,FALSE)","v":0},{"$f":"VLOOKUP($A12,'９月集金一覧'!$A$4:$H$44,G$2,FALSE)","v":0},null,27,{"$f":"VLOOKUP($I12,'９月集金一覧'!$A$4:$H$44,J$2,FALSE)","v":0},{"$f":"VLOOKUP($I12,'９月集金一覧'!$A$4:$H$44,K$2,FALSE)","v":0},{"$f":"VLOOKUP($I12,'９月集金一覧'!$A$4:$H$44,L$2,FALSE)","v":0},{"$f":"VLOOKUP($I12,'９月集金一覧'!$A$4:$H$44,M$2,FALSE)","v":0},{"$f":"VLOOKUP($I12,'９月集金一覧'!$A$4:$H$44,N$2,FALSE)","v":0},{"$f":"VLOOKUP($I12,'９月集金一覧'!$A$4:$H$44,O$2,FALSE)","v":0}]
["番号",{"$f":"IF('９月集金一覧'!C$4=\"\",\"\",'９月集金一覧'!C$4)","v":""},{"$f":"IF('９月集金一覧'!D$4=\"\",\"\",'９月集金一覧'!D$4)","v":""},{"$f":"IF('９月集金一覧'!E$4=\"\",\"\",'９月集金一覧'!E$4)","v":""},{"$f":"IF('９月集金一覧'!F$4=\"\",\"\",'９月集金一覧'!F$4)","v":""},{"$f":"IF('９月集金一覧'!G$4=\"\",\"\",'９月集金一覧'!G$4)","v":""},"個人計",null,"番号",{"$f":"IF('９月集金一覧'!C$4=\"\",\"\",'９月集金一覧'!C$4)","v":""},{"$f":"IF('９月集金一覧'!D$4=\"\",\"\",'９月集金一覧'!D$4)","v":""},{"$f":"IF('９月集金一覧'!E$4=\"\",\"\",'９月集金一覧'!E$4)","v":""},{"$f":"IF('９月集金一覧'!F$4=\"\",\"\",'９月集金一覧'!F$4)","v":""},{"$f":"IF('９月集金一覧'!G$4=\"\",\"\",'９月集金一覧'!G$4)","v":""},"個人計"]
[6,{"$f":"VLOOKUP($A14,'９月集金一覧'!$A$4:$H$44,B$2,FALSE)","v":0},{"$f":"VLOOKUP($A14,'９月集金一覧'!$A$4:$H$44,C$2,FALSE)","v":0},{"$f":"VLOOKUP($A14,'９月集金一覧'!$A$4:$H$44,D$2,FALSE)","v":0},{"$f":"VLOOKUP($A14,'９月集金一覧'!$A$4:$H$44,E$2,FALSE)","v":0},{"$f":"VLOOKUP($A14,'９月集金一覧'!$A$4:$H$44,F$2,FALSE)","v":0},{"$f":"VLOOKUP($A14,'９月集金一覧'!$A$4:$H$44,G$2,FALSE)","v":0},null,28,{"$f":"VLOOKUP($I14,'９月集金一覧'!$A$4:$H$44,J$2,FALSE)","v":0},{"$f":"VLOOKUP($I14,'９月集金一覧'!$A$4:$H$44,K$2,FALSE)","v":0},{"$f":"VLOOKUP($I14,'９月集金一覧'!$A$4:$H$44,L$2,FALSE)","v":0},{"$f":"VLOOKUP($I14,'９月集金一覧'!$A$4:$H$44,M$2,FALSE)","v":0},{"$f":"VLOOKUP($I14,'９月集金一覧'!$A$4:$H$44,N$2,FALSE)","v":0},{"$f":"VLOOKUP($I14,'９月集金一覧'!$A$4:$H$44,O$2,FALSE)","v":0}]
["番号",{"$f":"IF('９月集金一覧'!C$4=\"\",\"\",'９月集金一覧'!C$4)","v":""},{"$f":"IF('９月集金一覧'!D$4=\"\",\"\",'９月集金一覧'!D$4)","v":""},{"$f":"IF('９月集金一覧'!E$4=\"\",\"\",'９月集金一覧'!E$4)","v":""},{"$f":"IF('９月集金一覧'!F$4=\"\",\"\",'９月集金一覧'!F$4)","v":""},{"$f":"IF('９月集金一覧'!G$4=\"\",\"\",'９月集金一覧'!G$4)","v":""},"個人計",null,"番号",{"$f":"IF('９月集金一覧'!C$4=\"\",\"\",'９月集金一覧'!C$4)","v":""},{"$f":"IF('９月集金一覧'!D$4=\"\",\"\",'９月集金一覧'!D$4)","v":""},{"$f":"IF('９月集金一覧'!E$4=\"\",\"\",'９月集金一覧'!E$4)","v":""},{"$f":"IF('９月集金一覧'!F$4=\"\",\"\",'９月集金一覧'!F$4)","v":""},{"$f":"IF('９月集金一覧'!G$4=\"\",\"\",'９月集金一覧'!G$4)","v":""},"個人計"]
[7,{"$f":"VLOOKUP($A16,'９月集金一覧'!$A$4:$H$44,B$2,FALSE)","v":0},{"$f":"VLOOKUP($A16,'９月集金一覧'!$A$4:$H$44,C$2,FALSE)","v":0},{"$f":"VLOOKUP($A16,'９月集金一覧'!$A$4:$H$44,D$2,FALSE)","v":0},{"$f":"VLOOKUP($A16,'９月集金一覧'!$A$4:$H$44,E$2,FALSE)","v":0},{"$f":"VLOOKUP($A16,'９月集金一覧'!$A$4:$H$44,F$2,FALSE)","v":0},{"$f":"VLOOKUP($A16,'９月集金一覧'!$A$4:$H$44,G$2,FALSE)","v":0},null,29,{"$f":"VLOOKUP($I16,'９月集金一覧'!$A$4:$H$44,J$2,FALSE)","v":0},{"$f":"VLOOKUP($I16,'９月集金一覧'!$A$4:$H$44,K$2,FALSE)","v":0},{"$f":"VLOOKUP($I16,'９月集金一覧'!$A$4:$H$44,L$2,FALSE)","v":0},{"$f":"VLOOKUP($I16,'９月集金一覧'!$A$4:$H$44,M$2,FALSE)","v":0},{"$f":"VLOOKUP($I16,'９月集金一覧'!$A$4:$H$44,N$2,FALSE)","v":0},{"$f":"VLOOKUP($I16,'９月集金一覧'!$A$4:$H$44,O$2,FALSE)","v":0}]
["番号",{"$f":"IF('９月集金一覧'!C$4=\"\",\"\",'９月集金一覧'!C$4)","v":""},{"$f":"IF('９月集金一覧'!D$4=\"\",\"\",'９月集金一覧'!D$4)","v":""},{"$f":"IF('９月集金一覧'!E$4=\"\",\"\",'９月集金一覧'!E$4)","v":""},{"$f":"IF('９月集金一覧'!F$4=\"\",\"\",'９月集金一覧'!F$4)","v":""},{"$f":"IF('９月集金一覧'!G$4=\"\",\"\",'９月集金一覧'!G$4)","v":""},"個人計",null,"番号",{"$f":"IF('９月集金一覧'!C$4=\"\",\"\",'９月集金一覧'!C$4)","v":""},{"$f":"IF('９月集金一覧'!D$4=\"\",\"\",'９月集金一覧'!D$4)","v":""},{"$f":"IF('９月集金一覧'!E$4=\"\",\"\",'９月集金一覧'!E$4)","v":""},{"$f":"IF('９月集金一覧'!F$4=\"\",\"\",'９月集金一覧'!F$4)","v":""},{"$f":"IF('９月集金一覧'!G$4=\"\",\"\",'９月集金一覧'!G$4)","v":""},"個人計"]
[8,{"$f":"VLOOKUP($A18,'９月集金一覧'!$A$4:$H$44,B$2,FALSE)","v":0},{"$f":"VLOOKUP($A18,'９月集金一覧'!$A$4:$H$44,C$2,FALSE)","v":0},{"$f":"VLOOKUP($A18,'９月集金一覧'!$A$4:$H$44,D$2,FALSE)","v":0},{"$f":"VLOOKUP($A18,'９月集金一覧'!$A$4:$H$44,E$2,FALSE)","v":0},{"$f":"VLOOKUP($A18,'９月集金一覧'!$A$4:$H$44,F$2,FALSE)","v":0},{"$f":"VLOOKUP($A18,'９月集金一覧'!$A$4:$H$44,G$2,FALSE)","v":0},null,30,{"$f":"VLOOKUP($I18,'９月集金一覧'!$A$4:$H$44,J$2,FALSE)","v":0},{"$f":"VLOOKUP($I18,'９月集金一覧'!$A$4:$H$44,K$2,FALSE)","v":0},{"$f":"VLOOKUP($I18,'９月集金一覧'!$A$4:$H$44,L$2,FALSE)","v":0},{"$f":"VLOOKUP($I18,'９月集金一覧'!$A$4:$H$44,M$2,FALSE)","v":0},{"$f":"VLOOKUP($I18,'９月集金一覧'!$A$4:$H$44,N$2,FALSE)","v":0},{"$f":"VLOOKUP($I18,'９月集金一覧'!$A$4:$H$44,O$2,FALSE)","v":0}]
["番号",{"$f":"IF('９月集金一覧'!C$4=\"\",\"\",'９月集金一覧'!C$4)","v":""},{"$f":"IF('９月集金一覧'!D$4=\"\",\"\",'９月集金一覧'!D$4)","v":""},{"$f":"IF('９月集金一覧'!E$4=\"\",\"\",'９月集金一覧'!E$4)","v":""},{"$f":"IF('９月集金一覧'!F$4=\"\",\"\",'９月集金一覧'!F$4)","v":""},{"$f":"IF('９月集金一覧'!G$4=\"\",\"\",'９月集金一覧'!G$4)","v":""},"個人計",null,"番号",{"$f":"IF('９月集金一覧'!C$4=\"\",\"\",'９月集金一覧'!C$4)","v":""},{"$f":"IF('９月集金一覧'!D$4=\"\",\"\",'９月集金一覧'!D$4)","v":""},{"$f":"IF('９月集金一覧'!E$4=\"\",\"\",'９月集金一覧'!E$4)","v":""},{"$f":"IF('９月集金一覧'!F$4=\"\",\"\",'９月集金一覧'!F$4)","v":""},{"$f":"IF('９月集金一覧'!G$4=\"\",\"\",'９月集金一覧'!G$4)","v":""},"個人計"]
[9,{"$f":"VLOOKUP($A20,'９月集金一覧'!$A$4:$H$44,B$2,FALSE)","v":0},{"$f":"VLOOKUP($A20,'９月集金一覧'!$A$4:$H$44,C$2,FALSE)","v":0},{"$f":"VLOOKUP($A20,'９月集金一覧'!$A$4:$H$44,D$2,FALSE)","v":0},{"$f":"VLOOKUP($A20,'９月集金一覧'!$A$4:$H$44,E$2,FALSE)","v":0},{"$f":"VLOOKUP($A20,'９月集金一覧'!$A$4:$H$44,F$2,FALSE)","v":0},{"$f":"VLOOKUP($A20,'９月集金一覧'!$A$4:$H$44,G$2,FALSE)","v":0},null,31,{"$f":"VLOOKUP($I20,'９月集金一覧'!$A$4:$H$44,J$2,FALSE)","v":0},{"$f":"VLOOKUP($I20,'９月集金一覧'!$A$4:$H$44,K$2,FALSE)","v":0},{"$f":"VLOOKUP($I20,'９月集金一覧'!$A$4:$H$44,L$2,FALSE)","v":0},{"$f":"VLOOKUP($I20,'９月集金一覧'!$A$4:$H$44,M$2,FALSE)","v":0},{"$f":"VLOOKUP($I20,'９月集金一覧'!$A$4:$H$44,N$2,FALSE)","v":0},{"$f":"VLOOKUP($I20,'９月集金一覧'!$A$4:$H$44,O$2,FALSE)","v":0}]
["番号",{"$f":"IF('９月集金一覧'!C$4=\"\",\"\",'９月集金一覧'!C$4)","v":""},{"$f":"IF('９月集金一覧'!D$4=\"\",\"\",'９月集金一覧'!D$4)","v":""},{"$f":"IF('９月集金一覧'!E$4=\"\",\"\",'９月集金一覧'!E$4)","v":""},{"$f":"IF('９月集金一覧'!F$4=\"\",\"\",'９月集金一覧'!F$4)","v":""},{"$f":"IF('９月集金一覧'!G$4=\"\",\"\",'９月集金一覧'!G$4)","v":""},"個人計",null,"番号",{"$f":"IF('９月集金一覧'!C$4=\"\",\"\",'９月集金一覧'!C$4)","v":""},{"$f":"IF('９月集金一覧'!D$4=\"\",\"\",'９月集金一覧'!D$4)","v":""},{"$f":"IF('９月集金一覧'!E$4=\"\",\"\",'９月集金一覧'!E$4)","v":""},{"$f":"IF('９月集金一覧'!F$4=\"\",\"\",'９月集金一覧'!F$4)","v":""},{"$f":"IF('９月集金一覧'!G$4=\"\",\"\",'９月集金一覧'!G$4)","v":""},"個人計"]
[10,{"$f":"VLOOKUP($A22,'９月集金一覧'!$A$4:$H$44,B$2,FALSE)","v":0},{"$f":"VLOOKUP($A22,'９月集金一覧'!$A$4:$H$44,C$2,FALSE)","v":0},{"$f":"VLOOKUP($A22,'９月集金一覧'!$A$4:$H$44,D$2,FALSE)","v":0},{"$f":"VLOOKUP($A22,'９月集金一覧'!$A$4:$H$44,E$2,FALSE)","v":0},{"$f":"VLOOKUP($A22,'９月集金一覧'!$A$4:$H$44,F$2,FALSE)","v":0},{"$f":"VLOOKUP($A22,'９月集金一覧'!$A$4:$H$44,G$2,FALSE)","v":0},null,32,{"$f":"VLOOKUP($I22,'９月集金一覧'!$A$4:$H$44,J$2,FALSE)","v":0},{"$f":"VLOOKUP($I22,'９月集金一覧'!$A$4:$H$44,K$2,FALSE)","v":0},{"$f":"VLOOKUP($I22,'９月集金一覧'!$A$4:$H$44,L$2,FALSE)","v":0},{"$f":"VLOOKUP($I22,'９月集金一覧'!$A$4:$H$44,M$2,FALSE)","v":0},{"$f":"VLOOKUP($I22,'９月集金一覧'!$A$4:$H$44,N$2,FALSE)","v":0},{"$f":"VLOOKUP($I22,'９月集金一覧'!$A$4:$H$44,O$2,FALSE)","v":0}]
["番号",{"$f":"IF('９月集金一覧'!C$4=\"\",\"\",'９月集金一覧'!C$4)","v":""},{"$f":"IF('９月集金一覧'!D$4=\"\",\"\",'９月集金一覧'!D$4)","v":""},{"$f":"IF('９月集金一覧'!E$4=\"\",\"\",'９月集金一覧'!E$4)","v":""},{"$f":"IF('９月集金一覧'!F$4=\"\",\"\",'９月集金一覧'!F$4)","v":""},{"$f":"IF('９月集金一覧'!G$4=\"\",\"\",'９月集金一覧'!G$4)","v":""},"個人計",null,"番号",{"$f":"IF('９月集金一覧'!C$4=\"\",\"\",'９月集金一覧'!C$4)","v":""},{"$f":"IF('９月集金一覧'!D$4=\"\",\"\",'９月集金一覧'!D$4)","v":""},{"$f":"IF('９月集金一覧'!E$4=\"\",\"\",'９月集金一覧'!E$4)","v":""},{"$f":"IF('９月集金一覧'!F$4=\"\",\"\",'９月集金一覧'!F$4)","v":""},{"$f":"IF('９月集金一覧'!G$4=\"\",\"\",'９月集金一覧'!G$4)","v":""},"個人計"]
[11,{"$f":"VLOOKUP($A24,'９月集金一覧'!$A$4:$H$44,B$2,FALSE)","v":0},{"$f":"VLOOKUP($A24,'９月集金一覧'!$A$4:$H$44,C$2,FALSE)","v":0},{"$f":"VLOOKUP($A24,'９月集金一覧'!$A$4:$H$44,D$2,FALSE)","v":0},{"$f":"VLOOKUP($A24,'９月集金一覧'!$A$4:$H$44,E$2,FALSE)","v":0},{"$f":"VLOOKUP($A24,'９月集金一覧'!$A$4:$H$44,F$2,FALSE)","v":0},{"$f":"VLOOKUP($A24,'９月集金一覧'!$A$4:$H$44,G$2,FALSE)","v":0},null,33,{"$f":"VLOOKUP($I24,'９月集金一覧'!$A$4:$H$44,J$2,FALSE)","v":0},{"$f":"VLOOKUP($I24,'９月集金一覧'!$A$4:$H$44,K$2,FALSE)","v":0},{"$f":"VLOOKUP($I24,'９月集金一覧'!$A$4:$H$44,L$2,FALSE)","v":0},{"$f":"VLOOKUP($I24,'９月集金一覧'!$A$4:$H$44,M$2,FALSE)","v":0},{"$f":"VLOOKUP($I24,'９月集金一覧'!$A$4:$H$44,N$2,FALSE)","v":0},{"$f":"VLOOKUP($I24,'９月集金一覧'!$A$4:$H$44,O$2,FALSE)","v":0}]
["番号",{"$f":"IF('９月集金一覧'!C$4=\"\",\"\",'９月集金一覧'!C$4)","v":""},{"$f":"IF('９月集金一覧'!D$4=\"\",\"\",'９月集金一覧'!D$4)","v":""},{"$f":"IF('９月集金一覧'!E$4=\"\",\"\",'９月集金一覧'!E$4)","v":""},{"$f":"IF('９月集金一覧'!F$4=\"\",\"\",'９月集金一覧'!F$4)","v":""},{"$f":"IF('９月集金一覧'!G$4=\"\",\"\",'９月集金一覧'!G$4)","v":""},"個人計",null,"番号",{"$f":"IF('９月集金一覧'!C$4=\"\",\"\",'９月集金一覧'!C$4)","v":""},{"$f":"IF('９月集金一覧'!D$4=\"\",\"\",'９月集金一覧'!D$4)","v":""},{"$f":"IF('９月集金一覧'!E$4=\"\",\"\",'９月集金一覧'!E$4)","v":""},{"$f":"IF('９月集金一覧'!F$4=\"\",\"\",'９月集金一覧'!F$4)","v":""},{"$f":"IF('９月集金一覧'!G$4=\"\",\"\",'９月集金一覧'!G$4)","v":""},"個人計"]
[12,{"$f":"VLOOKUP($A26,'９月集金一覧'!$A$4:$H$44,B$2,FALSE)","v":0},{"$f":"VLOOKUP($A26,'９月集金一覧'!$A$4:$H$44,C$2,FALSE)","v":0},{"$f":"VLOOKUP($A26,'９月集金一覧'!$A$4:$H$44,D$2,FALSE)","v":0},{"$f":"VLOOKUP($A26,'９月集金一覧'!$A$4:$H$44,E$2,FALSE)","v":0},{"$f":"VLOOKUP($A26,'９月集金一覧'!$A$4:$H$44,F$2,FALSE)","v":0},{"$f":"VLOOKUP($A26,'９月集金一覧'!$A$4:$H$44,G$2,FALSE)","v":0},null,34,{"$f":"VLOOKUP($I26,'９月集金一覧'!$A$4:$H$44,J$2,FALSE)","v":0},{"$f":"VLOOKUP($I26,'９月集金一覧'!$A$4:$H$44,K$2,FALSE)","v":0},{"$f":"VLOOKUP($I26,'９月集金一覧'!$A$4:$H$44,L$2,FALSE)","v":0},{"$f":"VLOOKUP($I26,'９月集金一覧'!$A$4:$H$44,M$2,FALSE)","v":0},{"$f":"VLOOKUP($I26,'９月集金一覧'!$A$4:$H$44,N$2,FALSE)","v":0},{"$f":"VLOOKUP($I26,'９月集金一覧'!$A$4:$H$44,O$2,FALSE)","v":0}]
["番号",{"$f":"IF('９月集金一覧'!C$4=\"\",\"\",'９月集金一覧'!C$4)","v":""},{"$f":"IF('９月集金一覧'!D$4=\"\",\"\",'９月集金一覧'!D$4)","v":""},{"$f":"IF('９月集金一覧'!E$4=\"\",\"\",'９月集金一覧'!E$4)","v":""},{"$f":"IF('９月集金一覧'!F$4=\"\",\"\",'９月集金一覧'!F$4)","v":""},{"$f":"IF('９月集金一覧'!G$4=\"\",\"\",'９月集金一覧'!G$4)","v":""},"個人計",null,"番号",{"$f":"IF('９月集金一覧'!C$4=\"\",\"\",'９月集金一覧'!C$4)","v":""},{"$f":"IF('９月集金一覧'!D$4=\"\",\"\",'９月集金一覧'!D$4)","v":""},{"$f":"IF('９月集金一覧'!E$4=\"\",\"\",'９月集金一覧'!E$4)","v":""},{"$f":"IF('９月集金一覧'!F$4=\"\",\"\",'９月集金一覧'!F$4)","v":""},{"$f":"IF('９月集金一覧'!G$4=\"\",\"\",'９月集金一覧'!G$4)","v":""},"個人計"]
[13,{"$f":"VLOOKUP($A28,'９月集金一覧'!$A$4:$H$44,B$2,FALSE)","v":0},{"$f":"VLOOKUP($A28,'９月集金一覧'!$A$4:$H$44,C$2,FALSE)","v":0},{"$f":"VLOOKUP($A28,'９月集金一覧'!$A$4:$H$44,D$2,FALSE)","v":0},{"$f":"VLOOKUP($A28,'９月集金一覧'!$A$4:$H$44,E$2,FALSE)","v":0},{"$f":"VLOOKUP($A28,'９月集金一覧'!$A$4:$H$44,F$2,FALSE)","v":0},{"$f":"VLOOKUP($A28,'９月集金一覧'!$A$4:$H$44,G$2,FALSE)","v":0},null,35,{"$f":"VLOOKUP($I28,'９月集金一覧'!$A$4:$H$44,J$2,FALSE)","v":0},{"$f":"VLOOKUP($I28,'９月集金一覧'!$A$4:$H$44,K$2,FALSE)","v":0},{"$f":"VLOOKUP($I28,'９月集金一覧'!$A$4:$H$44,L$2,FALSE)","v":0},{"$f":"VLOOKUP($I28,'９月集金一覧'!$A$4:$H$44,M$2,FALSE)","v":0},{"$f":"VLOOKUP($I28,'９月集金一覧'!$A$4:$H$44,N$2,FALSE)","v":0},{"$f":"VLOOKUP($I28,'９月集金一覧'!$A$4:$H$44,O$2,FALSE)","v":0}]
["番号",{"$f":"IF('９月集金一覧'!C$4=\"\",\"\",'９月集金一覧'!C$4)","v":""},{"$f":"IF('９月集金一覧'!D$4=\"\",\"\",'９月集金一覧'!D$4)","v":""},{"$f":"IF('９月集金一覧'!E$4=\"\",\"\",'９月集金一覧'!E$4)","v":""},{"$f":"IF('９月集金一覧'!F$4=\"\",\"\",'９月集金一覧'!F$4)","v":""},{"$f":"IF('９月集金一覧'!G$4=\"\",\"\",'９月集金一覧'!G$4)","v":""},"個人計",null,"番号",{"$f":"IF('９月集金一覧'!C$4=\"\",\"\",'９月集金一覧'!C$4)","v":""},{"$f":"IF('９月集金一覧'!D$4=\"\",\"\",'９月集金一覧'!D$4)","v":""},{"$f":"IF('９月集金一覧'!E$4=\"\",\"\",'９月集金一覧'!E$4)","v":""},{"$f":"IF('９月集金一覧'!F$4=\"\",\"\",'９月集金一覧'!F$4)","v":""},{"$f":"IF('９月集金一覧'!G$4=\"\",\"\",'９月集金一覧'!G$4)","v":""},"個人計"]
[14,{"$f":"VLOOKUP($A30,'９月集金一覧'!$A$4:$H$44,B$2,FALSE)","v":0},{"$f":"VLOOKUP($A30,'９月集金一覧'!$A$4:$H$44,C$2,FALSE)","v":0},{"$f":"VLOOKUP($A30,'９月集金一覧'!$A$4:$H$44,D$2,FALSE)","v":0},{"$f":"VLOOKUP($A30,'９月集金一覧'!$A$4:$H$44,E$2,FALSE)","v":0},{"$f":"VLOOKUP($A30,'９月集金一覧'!$A$4:$H$44,F$2,FALSE)","v":0},{"$f":"VLOOKUP($A30,'９月集金一覧'!$A$4:$H$44,G$2,FALSE)","v":0},null,36,{"$f":"VLOOKUP($I30,'９月集金一覧'!$A$4:$H$44,J$2,FALSE)","v":0},{"$f":"VLOOKUP($I30,'９月集金一覧'!$A$4:$H$44,K$2,FALSE)","v":0},{"$f":"VLOOKUP($I30,'９月集金一覧'!$A$4:$H$44,L$2,FALSE)","v":0},{"$f":"VLOOKUP($I30,'９月集金一覧'!$A$4:$H$44,M$2,FALSE)","v":0},{"$f":"VLOOKUP($I30,'９月集金一覧'!$A$4:$H$44,N$2,FALSE)","v":0},{"$f":"VLOOKUP($I30,'９月集金一覧'!$A$4:$H$44,O$2,FALSE)","v":0}]
["番号",{"$f":"IF('９月集金一覧'!C$4=\"\",\"\",'９月集金一覧'!C$4)","v":""},{"$f":"IF('９月集金一覧'!D$4=\"\",\"\",'９月集金一覧'!D$4)","v":""},{"$f":"IF('９月集金一覧'!E$4=\"\",\"\",'９月集金一覧'!E$4)","v":""},{"$f":"IF('９月集金一覧'!F$4=\"\",\"\",'９月集金一覧'!F$4)","v":""},{"$f":"IF('９月集金一覧'!G$4=\"\",\"\",'９月集金一覧'!G$4)","v":""},"個人計",null,"番号",{"$f":"IF('９月集金一覧'!C$4=\"\",\"\",'９月集金一覧'!C$4)","v":""},{"$f":"IF('９月集金一覧'!D$4=\"\",\"\",'９月集金一覧'!D$4)","v":""},{"$f":"IF('９月集金一覧'!E$4=\"\",\"\",'９月集金一覧'!E$4)","v":""},{"$f":"IF('９月集金一覧'!F$4=\"\",\"\",'９月集金一覧'!F$4)","v":""},{"$f":"IF('９月集金一覧'!G$4=\"\",\"\",'９月集金一覧'!G$4)","v":""},"個人計"]
[15,{"$f":"VLOOKUP($A32,'９月集金一覧'!$A$4:$H$44,B$2,FALSE)","v":0},{"$f":"VLOOKUP($A32,'９月集金一覧'!$A$4:$H$44,C$2,FALSE)","v":0},{"$f":"VLOOKUP($A32,'９月集金一覧'!$A$4:$H$44,D$2,FALSE)","v":0},{"$f":"VLOOKUP($A32,'９月集金一覧'!$A$4:$H$44,E$2,FALSE)","v":0},{"$f":"VLOOKUP($A32,'９月集金一覧'!$A$4:$H$44,F$2,FALSE)","v":0},{"$f":"VLOOKUP($A32,'９月集金一覧'!$A$4:$H$44,G$2,FALSE)","v":0},null,37,{"$f":"VLOOKUP($I32,'９月集金一覧'!$A$4:$H$44,J$2,FALSE)","v":0},{"$f":"VLOOKUP($I32,'９月集金一覧'!$A$4:$H$44,K$2,FALSE)","v":0},{"$f":"VLOOKUP($I32,'９月集金一覧'!$A$4:$H$44,L$2,FALSE)","v":0},{"$f":"VLOOKUP($I32,'９月集金一覧'!$A$4:$H$44,M$2,FALSE)","v":0},{"$f":"VLOOKUP($I32,'９月集金一覧'!$A$4:$H$44,N$2,FALSE)","v":0},{"$f":"VLOOKUP($I32,'９月集金一覧'!$A$4:$H$44,O$2,FALSE)","v":0}]
["番号",{"$f":"IF('９月集金一覧'!C$4=\"\",\"\",'９月集金一覧'!C$4)","v":""},{"$f":"IF('９月集金一覧'!D$4=\"\",\"\",'９月集金一覧'!D$4)","v":""},{"$f":"IF('９月集金一覧'!E$4=\"\",\"\",'９月集金一覧'!E$4)","v":""},{"$f":"IF('９月集金一覧'!F$4=\"\",\"\",'９月集金一覧'!F$4)","v":""},{"$f":"IF('９月集金一覧'!G$4=\"\",\"\",'９月集金一覧'!G$4)","v":""},"個人計",null,"番号",{"$f":"IF('９月集金一覧'!C$4=\"\",\"\",'９月集金一覧'!C$4)","v":""},{"$f":"IF('９月集金一覧'!D$4=\"\",\"\",'９月集金一覧'!D$4)","v":""},{"$f":"IF('９月集金一覧'!E$4=\"\",\"\",'９月集金一覧'!E$4)","v":""},{"$f":"IF('９月集金一覧'!F$4=\"\",\"\",'９月集金一覧'!F$4)","v":""},{"$f":"IF('９月集金一覧'!G$4=\"\",\"\",'９月集金一覧'!G$4)","v":""},"個人計"]
[16,{"$f":"VLOOKUP($A34,'９月集金一覧'!$A$4:$H$44,B$2,FALSE)","v":0},{"$f":"VLOOKUP($A34,'９月集金一覧'!$A$4:$H$44,C$2,FALSE)","v":0},{"$f":"VLOOKUP($A34,'９月集金一覧'!$A$4:$H$44,D$2,FALSE)","v":0},{"$f":"VLOOKUP($A34,'９月集金一覧'!$A$4:$H$44,E$2,FALSE)","v":0},{"$f":"VLOOKUP($A34,'９月集金一覧'!$A$4:$H$44,F$2,FALSE)","v":0},{"$f":"VLOOKUP($A34,'９月集金一覧'!$A$4:$H$44,G$2,FALSE)","v":0},null,38,{"$f":"VLOOKUP($I34,'９月集金一覧'!$A$4:$H$44,J$2,FALSE)","v":0},{"$f":"VLOOKUP($I34,'９月集金一覧'!$A$4:$H$44,K$2,FALSE)","v":0},{"$f":"VLOOKUP($I34,'９月集金一覧'!$A$4:$H$44,L$2,FALSE)","v":0},{"$f":"VLOOKUP($I34,'９月集金一覧'!$A$4:$H$44,M$2,FALSE)","v":0},{"$f":"VLOOKUP($I34,'９月集金一覧'!$A$4:$H$44,N$2,FALSE)","v":0},{"$f":"VLOOKUP($I34,'９月集金一覧'!$A$4:$H$44,O$2,FALSE)","v":0}]
["番号",{"$f":"IF('９月集金一覧'!C$4=\"\",\"\",'９月集金一覧'!C$4)","v":""},{"$f":"IF('９月集金一覧'!D$4=\"\",\"\",'９月集金一覧'!D$4)","v":""},{"$f":"IF('９月集金一覧'!E$4=\"\",\"\",'９月集金一覧'!E$4)","v":""},{"$f":"IF('９月集金一覧'!F$4=\"\",\"\",'９月集金一覧'!F$4)","v":""},{"$f":"IF('９月集金一覧'!G$4=\"\",\"\",'９月集金一覧'!G$4)","v":""},"個人計",null,"番号",{"$f":"IF('９月集金一覧'!C$4=\"\",\"\",'９月集金一覧'!C$4)","v":""},{"$f":"IF('９月集金一覧'!D$4=\"\",\"\",'９月集金一覧'!D$4)","v":""},{"$f":"IF('９月集金一覧'!E$4=\"\",\"\",'９月集金一覧'!E$4)","v":""},{"$f":"IF('９月集金一覧'!F$4=\"\",\"\",'９月集金一覧'!F$4)","v":""},{"$f":"IF('９月集金一覧'!G$4=\"\",\"\",'９月集金一覧'!G$4)","v":""},"個人計"]
[17,{"$f":"VLOOKUP($A36,'９月集金一覧'!$A$4:$H$44,B$2,FALSE)","v":0},{"$f":"VLOOKUP($A36,'９月集金一覧'!$A$4:$H$44,C$2,FALSE)","v":0},{"$f":"VLOOKUP($A36,'９月集金一覧'!$A$4:$H$44,D$2,FALSE)","v":0},{"$f":"VLOOKUP($A36,'９月集金一覧'!$A$4:$H$44,E$2,FALSE)","v":0},{"$f":"VLOOKUP($A36,'９月集金一覧'!$A$4:$H$44,F$2,FALSE)","v":0},{"$f":"VLOOKUP($A36,'９月集金一覧'!$A$4:$H$44,G$2,FALSE)","v":0},null,39,{"$f":"VLOOKUP($I36,'９月集金一覧'!$A$4:$H$44,J$2,FALSE)","v":0},{"$f":"VLOOKUP($I36,'９月集金一覧'!$A$4:$H$44,K$2,FALSE)","v":0},{"$f":"VLOOKUP($I36,'９月集金一覧'!$A$4:$H$44,L$2,FALSE)","v":0},{"$f":"VLOOKUP($I36,'９月集金一覧'!$A$4:$H$44,M$2,FALSE)","v":0},{"$f":"VLOOKUP($I36,'９月集金一覧'!$A$4:$H$44,N$2,FALSE)","v":0},{"$f":"VLOOKUP($I36,'９月集金一覧'!$A$4:$H$44,O$2,FALSE)","v":0}]
["番号",{"$f":"IF('９月集金一覧'!C$4=\"\",\"\",'９月集金一覧'!C$4)","v":""},{"$f":"IF('９月集金一覧'!D$4=\"\",\"\",'９月集金一覧'!D$4)","v":""},{"$f":"IF('９月集金一覧'!E$4=\"\",\"\",'９月集金一覧'!E$4)","v":""},{"$f":"IF('９月集金一覧'!F$4=\"\",\"\",'９月集金一覧'!F$4)","v":""},{"$f":"IF('９月集金一覧'!G$4=\"\",\"\",'９月集金一覧'!G$4)","v":""},"個人計",null,"番号",{"$f":"IF('９月集金一覧'!C$4=\"\",\"\",'９月集金一覧'!C$4)","v":""},{"$f":"IF('９月集金一覧'!D$4=\"\",\"\",'９月集金一覧'!D$4)","v":""},{"$f":"IF('９月集金一覧'!E$4=\"\",\"\",'９月集金一覧'!E$4)","v":""},{"$f":"IF('９月集金一覧'!F$4=\"\",\"\",'９月集金一覧'!F$4)","v":""},{"$f":"IF('９月集金一覧'!G$4=\"\",\"\",'９月集金一覧'!G$4)","v":""},"個人計"]
[18,{"$f":"VLOOKUP($A38,'９月集金一覧'!$A$4:$H$44,B$2,FALSE)","v":0},{"$f":"VLOOKUP($A38,'９月集金一覧'!$A$4:$H$44,C$2,FALSE)","v":0},{"$f":"VLOOKUP($A38,'９月集金一覧'!$A$4:$H$44,D$2,FALSE)","v":0},{"$f":"VLOOKUP($A38,'９月集金一覧'!$A$4:$H$44,E$2,FALSE)","v":0},{"$f":"VLOOKUP($A38,'９月集金一覧'!$A$4:$H$44,F$2,FALSE)","v":0},{"$f":"VLOOKUP($A38,'９月集金一覧'!$A$4:$H$44,G$2,FALSE)","v":0},null,40,{"$f":"VLOOKUP($I38,'９月集金一覧'!$A$4:$H$44,J$2,FALSE)","v":0},{"$f":"VLOOKUP($I38,'９月集金一覧'!$A$4:$H$44,K$2,FALSE)","v":0},{"$f":"VLOOKUP($I38,'９月集金一覧'!$A$4:$H$44,L$2,FALSE)","v":0},{"$f":"VLOOKUP($I38,'９月集金一覧'!$A$4:$H$44,M$2,FALSE)","v":0},{"$f":"VLOOKUP($I38,'９月集金一覧'!$A$4:$H$44,N$2,FALSE)","v":0},{"$f":"VLOOKUP($I38,'９月集金一覧'!$A$4:$H$44,O$2,FALSE)","v":0}]
["番号",{"$f":"IF('９月集金一覧'!C$4=\"\",\"\",'９月集金一覧'!C$4)","v":""},{"$f":"IF('９月集金一覧'!D$4=\"\",\"\",'９月集金一覧'!D$4)","v":""},{"$f":"IF('９月集金一覧'!E$4=\"\",\"\",'９月集金一覧'!E$4)","v":""},{"$f":"IF('９月集金一覧'!F$4=\"\",\"\",'９月集金一覧'!F$4)","v":""},{"$f":"IF('９月集金一覧'!G$4=\"\",\"\",'９月集金一覧'!G$4)","v":""},"個人計"]
[19,{"$f":"VLOOKUP($A40,'９月集金一覧'!$A$4:$H$44,B$2,FALSE)","v":0},{"$f":"VLOOKUP($A40,'９月集金一覧'!$A$4:$H$44,C$2,FALSE)","v":0},{"$f":"VLOOKUP($A40,'９月集金一覧'!$A$4:$H$44,D$2,FALSE)","v":0},{"$f":"VLOOKUP($A40,'９月集金一覧'!$A$4:$H$44,E$2,FALSE)","v":0},{"$f":"VLOOKUP($A40,'９月集金一覧'!$A$4:$H$44,F$2,FALSE)","v":0},{"$f":"VLOOKUP($A40,'９月集金一覧'!$A$4:$H$44,G$2,FALSE)","v":0}]
["番号",{"$f":"IF('９月集金一覧'!C$4=\"\",\"\",'９月集金一覧'!C$4)","v":""},{"$f":"IF('９月集金一覧'!D$4=\"\",\"\",'９月集金一覧'!D$4)","v":""},{"$f":"IF('９月集金一覧'!E$4=\"\",\"\",'９月集金一覧'!E$4)","v":""},{"$f":"IF('９月集金一覧'!F$4=\"\",\"\",'９月集金一覧'!F$4)","v":""},{"$f":"IF('９月集金一覧'!G$4=\"\",\"\",'９月集金一覧'!G$4)","v":""},"個人計"]
[20,{"$f":"VLOOKUP($A42,'９月集金一覧'!$A$4:$H$44,B$2,FALSE)","v":0},{"$f":"VLOOKUP($A42,'９月集金一覧'!$A$4:$H$44,C$2,FALSE)","v":0},{"$f":"VLOOKUP($A42,'９月集金一覧'!$A$4:$H$44,D$2,FALSE)","v":0},{"$f":"VLOOKUP($A42,'９月集金一覧'!$A$4:$H$44,E$2,FALSE)","v":0},{"$f":"VLOOKUP($A42,'９月集金一覧'!$A$4:$H$44,F$2,FALSE)","v":0},{"$f":"VLOOKUP($A42,'９月集金一覧'!$A$4:$H$44,G$2,FALSE)","v":0}]
["番号",{"$f":"IF('９月集金一覧'!C$4=\"\",\"\",'９月集金一覧'!C$4)","v":""},{"$f":"IF('９月集金一覧'!D$4=\"\",\"\",'９月集金一覧'!D$4)","v":""},{"$f":"IF('９月集金一覧'!E$4=\"\",\"\",'９月集金一覧'!E$4)","v":""},{"$f":"IF('９月集金一覧'!F$4=\"\",\"\",'９月集金一覧'!F$4)","v":""},{"$f":"IF('９月集金一覧'!G$4=\"\",\"\",'９月集金一覧'!G$4)","v":""},"個人計"]
[21,{"$f":"VLOOKUP($A44,'９月集金一覧'!$A$4:$H$44,B$2,FALSE)","v":0},{"$f":"VLOOKUP($A44,'９月集金一覧'!$A$4:$H$44,C$2,FALSE)","v":0},{"$f":"VLOOKUP($A44,'９月集金一覧'!$A$4:$H$44,D$2,FALSE)","v":0},{"$f":"VLOOKUP($A44,'９月集金一覧'!$A$4:$H$44,E$2,FALSE)","v":0},{"$f":"VLOOKUP($A44,'９月集金一覧'!$A$4:$H$44,F$2,FALSE)","v":0},{"$f":"VLOOKUP($A44,'９月集金一覧'!$A$4:$H$44,G$2,FALSE)","v":0}]
["番号",{"$f":"IF('９月集金一覧'!C$4=\"\",\"\",'９月集金一覧'!C$4)","v":""},{"$f":"IF('９月集金一覧'!D$4=\"\",\"\",'９月集金一覧'!D$4)","v":""},{"$f":"IF('９月集金一覧'!E$4=\"\",\"\",'９月集金一覧'!E$4)","v":""},{"$f":"IF('９月集金一覧'!F$4=\"\",\"\",'９月集金一覧'!F$4)","v":""},{"$f":"IF('９月集金一覧'!G$4=\"\",\"\",'９月集金一覧'!G$4)","v":""},"個人計"]
[22,{"$f":"VLOOKUP($A46,'９月集金一覧'!$A$4:$H$44,B$2,FALSE)","v":0},{"$f":"VLOOKUP($A46,'９月集金一覧'!$A$4:$H$44,C$2,FALSE)","v":0},{"$f":"VLOOKUP($A46,'９月集金一覧'!$A$4:$H$44,D$2,FALSE)","v":0},{"$f":"VLOOKUP($A46,'９月集金一覧'!$A$4:$H$44,E$2,FALSE)","v":0},{"$f":"VLOOKUP($A46,'９月集金一覧'!$A$4:$H$44,F$2,FALSE)","v":0},{"$f":"VLOOKUP($A46,'９月集金一覧'!$A$4:$H$44,G$2,FALSE)","v":0}]

{"sheet":"10月個票","index":28,"n_rows":46,"n_cols":15,"rows_kept":46,"cut":false,"hidden":false,"merged":[]}
[null,"令和",{"$f":"メイン!D7","v":0},"年度",{"$f":"メイン!C8","v":0},"年",{"$f":"メイン!E8","v":0},"組"]
[1,3,4,5,6,7,8,null,1,3,4,5,6,7,8]
["番号",{"$f":"IF('１０月集金一覧'!C$4=\"\",\"\",'１０月集金一覧'!C$4)","v":""},{"$f":"IF('１０月集金一覧'!$D$4=\"\",\"\",'１０月集金一覧'!D$4)","v":""},{"$f":"IF('１０月集金一覧'!E$4=\"\",\"\",'１０月集金一覧'!E$4)","v":""},{"$f":"IF('１０月集金一覧'!F$4=\"\",\"\",'１０月集金一覧'!F$4)","v":""},{"$f":"IF('１０月集金一覧'!G$4=\"\",\"\",'１０月集金一覧'!G$4)","v":""},"個人計",null,"番号",{"$f":"IF('１０月集金一覧'!C$4=\"\",\"\",'１０月集金一覧'!C$4)","v":""},{"$f":"IF('１０月集金一覧'!D$4=\"\",\"\",'１０月集金一覧'!D$4)","v":""},{"$f":"IF('１０月集金一覧'!E$4=\"\",\"\",'１０月集金一覧'!E$4)","v":""},{"$f":"IF('１０月集金一覧'!F$4=\"\",\"\",'１０月集金一覧'!F$4)","v":""},{"$f":"IF('１０月集金一覧'!G$4=\"\",\"\",'１０月集金一覧'!G$4)","v":""},"個人計"]
[1,{"$f":"VLOOKUP($A4,'１０月集金一覧'!$A$4:$H$44,B$2,FALSE)","v":0},{"$f":"VLOOKUP($A4,'１０月集金一覧'!$A$4:$H$44,C$2,FALSE)","v":0},{"$f":"VLOOKUP($A4,'１０月集金一覧'!$A$4:$H$44,D$2,FALSE)","v":0},{"$f":"VLOOKUP($A4,'１０月集金一覧'!$A$4:$H$44,E$2,FALSE)","v":0},{"$f":"VLOOKUP($A4,'１０月集金一覧'!$A$4:$H$44,F$2,FALSE)","v":0},{"$f":"VLOOKUP($A4,'１０月集金一覧'!$A$4:$H$44,G$2,FALSE)","v":0},null,23,{"$f":"VLOOKUP($I4,'１０月集金一覧'!$A$4:$H$44,J$2,FALSE)","v":0},{"$f":"VLOOKUP($I4,'１０月集金一覧'!$A$4:$H$44,K$2,FALSE)","v":0},{"$f":"VLOOKUP($I4,'１０月集金一覧'!$A$4:$H$44,L$2,FALSE)","v":0},{"$f":"VLOOKUP($I4,'１０月集金一覧'!$A$4:$H$44,M$2,FALSE)","v":0},{"$f":"VLOOKUP($I4,'１０月集金一覧'!$A$4:$H$44,N$2,FALSE)","v":0},{"$f":"VLOOKUP($I4,'１０月集金一覧'!$A$4:$H$44,O$2,FALSE)","v":0}]
["番号",{"$f":"IF('１０月集金一覧'!C$4=\"\",\"\",'１０月集金一覧'!C$4)","v":""},{"$f":"IF('１０月集金一覧'!D$4=\"\",\"\",'１０月集金一覧'!D$4)","v":""},{"$f":"IF('１０月集金一覧'!E$4=\"\",\"\",'１０月集金一覧'!E$4)","v":""},{"$f":"IF('１０月集金一覧'!F$4=\"\",\"\",'１０月集金一覧'!F$4)","v":""},{"$f":"IF('１０月集金一覧'!G$4=\"\",\"\",'１０月集金一覧'!G$4)","v":""},"個人計",null,"番号",{"$f":"IF('１０月集金一覧'!C$4=\"\",\"\",'１０月集金一覧'!C$4)","v":""},{"$f":"IF('１０月集金一覧'!D$4=\"\",\"\",'１０月集金一覧'!D$4)","v":""},{"$f":"IF('１０月集金一覧'!E$4=\"\",\"\",'１０月集金一覧'!E$4)","v":""},{"$f":"IF('１０月集金一覧'!F$4=\"\",\"\",'１０月集金一覧'!F$4)","v":""},{"$f":"IF('１０月集金一覧'!G$4=\"\",\"\",'１０月集金一覧'!G$4)","v":""},"個人計"]
[2,{"$f":"VLOOKUP($A6,'１０月集金一覧'!$A$4:$H$44,B$2,FALSE)","v":0},{"$f":"VLOOKUP($A6,'１０月集金一覧'!$A$4:$H$44,C$2,FALSE)","v":0},{"$f":"VLOOKUP($A6,'１０月集金一覧'!$A$4:$H$44,D$2,FALSE)","v":0},{"$f":"VLOOKUP($A6,'１０月集金一覧'!$A$4:$H$44,E$2,FALSE)","v":0},{"$f":"VLOOKUP($A6,'１０月集金一覧'!$A$4:$H$44,F$2,FALSE)","v":0},{"$f":"VLOOKUP($A6,'１０月集金一覧'!$A$4:$H$44,G$2,FALSE)","v":0},null,24,{"$f":"VLOOKUP($I6,'１０月集金一覧'!$A$4:$H$44,J$2,FALSE)","v":0},{"$f":"VLOOKUP($I6,'１０月集金一覧'!$A$4:$H$44,K$2,FALSE)","v":0},{"$f":"VLOOKUP($I6,'１０月集金一覧'!$A$4:$H$44,L$2,FALSE)","v":0},{"$f":"VLOOKUP($I6,'１０月集金一覧'!$A$4:$H$44,M$2,FALSE)","v":0},{"$f":"VLOOKUP($I6,'１０月集金一覧'!$A$4:$H$44,N$2,FALSE)","v":0},{"$f":"VLOOKUP($I6,'１０月集金一覧'!$A$4:$H$44,O$2,FALSE)","v":0}]
["番号",{"$f":"IF('１０月集金一覧'!C$4=\"\",\"\",'１０月集金一覧'!C$4)","v":""},{"$f":"IF('１０月集金一覧'!D$4=\"\",\"\",'１０月集金一覧'!D$4)","v":""},{"$f":"IF('１０月集金一覧'!E$4=\"\",\"\",'１０月集金一覧'!E$4)","v":""},{"$f":"IF('１０月集金一覧'!F$4=\"\",\"\",'１０月集金一覧'!F$4)","v":""},{"$f":"IF('１０月集金一覧'!G$4=\"\",\"\",'１０月集金一覧'!G$4)","v":""},"個人計",null,"番号",{"$f":"IF('１０月集金一覧'!C$4=\"\",\"\",'１０月集金一覧'!C$4)","v":""},{"$f":"IF('１０月集金一覧'!D$4=\"\",\"\",'１０月集金一覧'!D$4)","v":""},{"$f":"IF('１０月集金一覧'!E$4=\"\",\"\",'１０月集金一覧'!E$4)","v":""},{"$f":"IF('１０月集金一覧'!F$4=\"\",\"\",'１０月集金一覧'!F$4)","v":""},{"$f":"IF('１０月集金一覧'!G$4=\"\",\"\",'１０月集金一覧'!G$4)","v":""},"個人計"]
[3,{"$f":"VLOOKUP($A8,'１０月集金一覧'!$A$4:$H$44,B$2,FALSE)","v":0},{"$f":"VLOOKUP($A8,'１０月集金一覧'!$A$4:$H$44,C$2,FALSE)","v":0},{"$f":"VLOOKUP($A8,'１０月集金一覧'!$A$4:$H$44,D$2,FALSE)","v":0},{"$f":"VLOOKUP($A8,'１０月集金一覧'!$A$4:$H$44,E$2,FALSE)","v":0},{"$f":"VLOOKUP($A8,'１０月集金一覧'!$A$4:$H$44,F$2,FALSE)","v":0},{"$f":"VLOOKUP($A8,'１０月集金一覧'!$A$4:$H$44,G$2,FALSE)","v":0},null,25,{"$f":"VLOOKUP($I8,'１０月集金一覧'!$A$4:$H$44,J$2,FALSE)","v":0},{"$f":"VLOOKUP($I8,'１０月集金一覧'!$A$4:$H$44,K$2,FALSE)","v":0},{"$f":"VLOOKUP($I8,'１０月集金一覧'!$A$4:$H$44,L$2,FALSE)","v":0},{"$f":"VLOOKUP($I8,'１０月集金一覧'!$A$4:$H$44,M$2,FALSE)","v":0},{"$f":"VLOOKUP($I8,'１０月集金一覧'!$A$4:$H$44,N$2,FALSE)","v":0},{"$f":"VLOOKUP($I8,'１０月集金一覧'!$A$4:$H$44,O$2,FALSE)","v":0}]
["番号",{"$f":"IF('１０月集金一覧'!C$4=\"\",\"\",'１０月集金一覧'!C$4)","v":""},{"$f":"IF('１０月集金一覧'!D$4=\"\",\"\",'１０月集金一覧'!D$4)","v":""},{"$f":"IF('１０月集金一覧'!E$4=\"\",\"\",'１０月集金一覧'!E$4)","v":""},{"$f":"IF('１０月集金一覧'!F$4=\"\",\"\",'１０月集金一覧'!F$4)","v":""},{"$f":"IF('１０月集金一覧'!G$4=\"\",\"\",'１０月集金一覧'!G$4)","v":""},"個人計",null,"番号",{"$f":"IF('１０月集金一覧'!C$4=\"\",\"\",'１０月集金一覧'!C$4)","v":""},{"$f":"IF('１０月集金一覧'!D$4=\"\",\"\",'１０月集金一覧'!D$4)","v":""},{"$f":"IF('１０月集金一覧'!E$4=\"\",\"\",'１０月集金一覧'!E$4)","v":""},{"$f":"IF('１０月集金一覧'!F$4=\"\",\"\",'１０月集金一覧'!F$4)","v":""},{"$f":"IF('１０月集金一覧'!G$4=\"\",\"\",'１０月集金一覧'!G$4)","v":""},"個人計"]
[4,{"$f":"VLOOKUP($A10,'１０月集金一覧'!$A$4:$H$44,B$2,FALSE)","v":0},{"$f":"VLOOKUP($A10,'１０月集金一覧'!$A$4:$H$44,C$2,FALSE)","v":0},{"$f":"VLOOKUP($A10,'１０月集金一覧'!$A$4:$H$44,D$2,FALSE)","v":0},{"$f":"VLOOKUP($A10,'１０月集金一覧'!$A$4:$H$44,E$2,FALSE)","v":0},{"$f":"VLOOKUP($A10,'１０月集金一覧'!$A$4:$H$44,F$2,FALSE)","v":0},{"$f":"VLOOKUP($A10,'１０月集金一覧'!$A$4:$H$44,G$2,FALSE)","v":0},null,26,{"$f":"VLOOKUP($I10,'１０月集金一覧'!$A$4:$H$44,J$2,FALSE)","v":0},{"$f":"VLOOKUP($I10,'１０月集金一覧'!$A$4:$H$44,K$2,FALSE)","v":0},{"$f":"VLOOKUP($I10,'１０月集金一覧'!$A$4:$H$44,L$2,FALSE)","v":0},{"$f":"VLOOKUP($I10,'１０月集金一覧'!$A$4:$H$44,M$2,FALSE)","v":0},{"$f":"VLOOKUP($I10,'１０月集金一覧'!$A$4:$H$44,N$2,FALSE)","v":0},{"$f":"VLOOKUP($I10,'１０月集金一覧'!$A$4:$H$44,O$2,FALSE)","v":0}]
["番号",{"$f":"IF('１０月集金一覧'!C$4=\"\",\"\",'１０月集金一覧'!C$4)","v":""},{"$f":"IF('１０月集金一覧'!D$4=\"\",\"\",'１０月集金一覧'!D$4)","v":""},{"$f":"IF('１０月集金一覧'!E$4=\"\",\"\",'１０月集金一覧'!E$4)","v":""},{"$f":"IF('１０月集金一覧'!F$4=\"\",\"\",'１０月集金一覧'!F$4)","v":""},{"$f":"IF('１０月集金一覧'!G$4=\"\",\"\",'１０月集金一覧'!G$4)","v":""},"個人計",null,"番号",{"$f":"IF('１０月集金一覧'!C$4=\"\",\"\",'１０月集金一覧'!C$4)","v":""},{"$f":"IF('１０月集金一覧'!D$4=\"\",\"\",'１０月集金一覧'!D$4)","v":""},{"$f":"IF('１０月集金一覧'!E$4=\"\",\"\",'１０月集金一覧'!E$4)","v":""},{"$f":"IF('１０月集金一覧'!F$4=\"\",\"\",'１０月集金一覧'!F$4)","v":""},{"$f":"IF('１０月集金一覧'!G$4=\"\",\"\",'１０月集金一覧'!G$4)","v":""},"個人計"]
[5,{"$f":"VLOOKUP($A12,'１０月集金一覧'!$A$4:$H$44,B$2,FALSE)","v":0},{"$f":"VLOOKUP($A12,'１０月集金一覧'!$A$4:$H$44,C$2,FALSE)","v":0},{"$f":"VLOOKUP($A12,'１０月集金一覧'!$A$4:$H$44,D$2,FALSE)","v":0},{"$f":"VLOOKUP($A12,'１０月集金一覧'!$A$4:$H$44,E$2,FALSE)","v":0},{"$f":"VLOOKUP($A12,'１０月集金一覧'!$A$4:$H$44,F$2,FALSE)","v":0},{"$f":"VLOOKUP($A12,'１０月集金一覧'!$A$4:$H$44,G$2,FALSE)","v":0},null,27,{"$f":"VLOOKUP($I12,'１０月集金一覧'!$A$4:$H$44,J$2,FALSE)","v":0},{"$f":"VLOOKUP($I12,'１０月集金一覧'!$A$4:$H$44,K$2,FALSE)","v":0},{"$f":"VLOOKUP($I12,'１０月集金一覧'!$A$4:$H$44,L$2,FALSE)","v":0},{"$f":"VLOOKUP($I12,'１０月集金一覧'!$A$4:$H$44,M$2,FALSE)","v":0},{"$f":"VLOOKUP($I12,'１０月集金一覧'!$A$4:$H$44,N$2,FALSE)","v":0},{"$f":"VLOOKUP($I12,'１０月集金一覧'!$A$4:$H$44,O$2,FALSE)","v":0}]
["番号",{"$f":"IF('１０月集金一覧'!C$4=\"\",\"\",'１０月集金一覧'!C$4)","v":""},{"$f":"IF('１０月集金一覧'!D$4=\"\",\"\",'１０月集金一覧'!D$4)","v":""},{"$f":"IF('１０月集金一覧'!E$4=\"\",\"\",'１０月集金一覧'!E$4)","v":""},{"$f":"IF('１０月集金一覧'!F$4=\"\",\"\",'１０月集金一覧'!F$4)","v":""},{"$f":"IF('１０月集金一覧'!G$4=\"\",\"\",'１０月集金一覧'!G$4)","v":""},"個人計",null,"番号",{"$f":"IF('１０月集金一覧'!C$4=\"\",\"\",'１０月集金一覧'!C$4)","v":""},{"$f":"IF('１０月集金一覧'!D$4=\"\",\"\",'１０月集金一覧'!D$4)","v":""},{"$f":"IF('１０月集金一覧'!E$4=\"\",\"\",'１０月集金一覧'!E$4)","v":""},{"$f":"IF('１０月集金一覧'!F$4=\"\",\"\",'１０月集金一覧'!F$4)","v":""},{"$f":"IF('１０月集金一覧'!G$4=\"\",\"\",'１０月集金一覧'!G$4)","v":""},"個人計"]
[6,{"$f":"VLOOKUP($A14,'１０月集金一覧'!$A$4:$H$44,B$2,FALSE)","v":0},{"$f":"VLOOKUP($A14,'１０月集金一覧'!$A$4:$H$44,C$2,FALSE)","v":0},{"$f":"VLOOKUP($A14,'１０月集金一覧'!$A$4:$H$44,D$2,FALSE)","v":0},{"$f":"VLOOKUP($A14,'１０月集金一覧'!$A$4:$H$44,E$2,FALSE)","v":0},{"$f":"VLOOKUP($A14,'１０月集金一覧'!$A$4:$H$44,F$2,FALSE)","v":0},{"$f":"VLOOKUP($A14,'１０月集金一覧'!$A$4:$H$44,G$2,FALSE)","v":0},null,28,{"$f":"VLOOKUP($I14,'１０月集金一覧'!$A$4:$H$44,J$2,FALSE)","v":0},{"$f":"VLOOKUP($I14,'１０月集金一覧'!$A$4:$H$44,K$2,FALSE)","v":0},{"$f":"VLOOKUP($I14,'１０月集金一覧'!$A$4:$H$44,L$2,FALSE)","v":0},{"$f":"VLOOKUP($I14,'１０月集金一覧'!$A$4:$H$44,M$2,FALSE)","v":0},{"$f":"VLOOKUP($I14,'１０月集金一覧'!$A$4:$H$44,N$2,FALSE)","v":0},{"$f":"VLOOKUP($I14,'１０月集金一覧'!$A$4:$H$44,O$2,FALSE)","v":0}]
["番号",{"$f":"IF('１０月集金一覧'!C$4=\"\",\"\",'１０月集金一覧'!C$4)","v":""},{"$f":"IF('１０月集金一覧'!D$4=\"\",\"\",'１０月集金一覧'!D$4)","v":""},{"$f":"IF('１０月集金一覧'!E$4=\"\",\"\",'１０月集金一覧'!E$4)","v":""},{"$f":"IF('１０月集金一覧'!F$4=\"\",\"\",'１０月集金一覧'!F$4)","v":""},{"$f":"IF('１０月集金一覧'!G$4=\"\",\"\",'１０月集金一覧'!G$4)","v":""},"個人計",null,"番号",{"$f":"IF('１０月集金一覧'!C$4=\"\",\"\",'１０月集金一覧'!C$4)","v":""},{"$f":"IF('１０月集金一覧'!D$4=\"\",\"\",'１０月集金一覧'!D$4)","v":""},{"$f":"IF('１０月集金一覧'!E$4=\"\",\"\",'１０月集金一覧'!E$4)","v":""},{"$f":"IF('１０月集金一覧'!F$4=\"\",\"\",'１０月集金一覧'!F$4)","v":""},{"$f":"IF('１０月集金一覧'!G$4=\"\",\"\",'１０月集金一覧'!G$4)","v":""},"個人計"]
[7,{"$f":"VLOOKUP($A16,'１０月集金一覧'!$A$4:$H$44,B$2,FALSE)","v":0},{"$f":"VLOOKUP($A16,'１０月集金一覧'!$A$4:$H$44,C$2,FALSE)","v":0},{"$f":"VLOOKUP($A16,'１０月集金一覧'!$A$4:$H$44,D$2,FALSE)","v":0},{"$f":"VLOOKUP($A16,'１０月集金一覧'!$A$4:$H$44,E$2,FALSE)","v":0},{"$f":"VLOOKUP($A16,'１０月集金一覧'!$A$4:$H$44,F$2,FALSE)","v":0},{"$f":"VLOOKUP($A16,'１０月集金一覧'!$A$4:$H$44,G$2,FALSE)","v":0},null,29,{"$f":"VLOOKUP($I16,'１０月集金一覧'!$A$4:$H$44,J$2,FALSE)","v":0},{"$f":"VLOOKUP($I16,'１０月集金一覧'!$A$4:$H$44,K$2,FALSE)","v":0},{"$f":"VLOOKUP($I16,'１０月集金一覧'!$A$4:$H$44,L$2,FALSE)","v":0},{"$f":"VLOOKUP($I16,'１０月集金一覧'!$A$4:$H$44,M$2,FALSE)","v":0},{"$f":"VLOOKUP($I16,'１０月集金一覧'!$A$4:$H$44,N$2,FALSE)","v":0},{"$f":"VLOOKUP($I16,'１０月集金一覧'!$A$4:$H$44,O$2,FALSE)","v":0}]
["番号",{"$f":"IF('１０月集金一覧'!C$4=\"\",\"\",'１０月集金一覧'!C$4)","v":""},{"$f":"IF('１０月集金一覧'!D$4=\"\",\"\",'１０月集金一覧'!D$4)","v":""},{"$f":"IF('１０月集金一覧'!E$4=\"\",\"\",'１０月集金一覧'!E$4)","v":""},{"$f":"IF('１０月集金一覧'!F$4=\"\",\"\",'１０月集金一覧'!F$4)","v":""},{"$f":"IF('１０月集金一覧'!G$4=\"\",\"\",'１０月集金一覧'!G$4)","v":""},"個人計",null,"番号",{"$f":"IF('１０月集金一覧'!C$4=\"\",\"\",'１０月集金一覧'!C$4)","v":""},{"$f":"IF('１０月集金一覧'!D$4=\"\",\"\",'１０月集金一覧'!D$4)","v":""},{"$f":"IF('１０月集金一覧'!E$4=\"\",\"\",'１０月集金一覧'!E$4)","v":""},{"$f":"IF('１０月集金一覧'!F$4=\"\",\"\",'１０月集金一覧'!F$4)","v":""},{"$f":"IF('１０月集金一覧'!G$4=\"\",\"\",'１０月集金一覧'!G$4)","v":""},"個人計"]
[8,{"$f":"VLOOKUP($A18,'１０月集金一覧'!$A$4:$H$44,B$2,FALSE)","v":0},{"$f":"VLOOKUP($A18,'１０月集金一覧'!$A$4:$H$44,C$2,FALSE)","v":0},{"$f":"VLOOKUP($A18,'１０月集金一覧'!$A$4:$H$44,D$2,FALSE)","v":0},{"$f":"VLOOKUP($A18,'１０月集金一覧'!$A$4:$H$44,E$2,FALSE)","v":0},{"$f":"VLOOKUP($A18,'１０月集金一覧'!$A$4:$H$44,F$2,FALSE)","v":0},{"$f":"VLOOKUP($A18,'１０月集金一覧'!$A$4:$H$44,G$2,FALSE)","v":0},null,30,{"$f":"VLOOKUP($I18,'１０月集金一覧'!$A$4:$H$44,J$2,FALSE)","v":0},{"$f":"VLOOKUP($I18,'１０月集金一覧'!$A$4:$H$44,K$2,FALSE)","v":0},{"$f":"VLOOKUP($I18,'１０月集金一覧'!$A$4:$H$44,L$2,FALSE)","v":0},{"$f":"VLOOKUP($I18,'１０月集金一覧'!$A$4:$H$44,M$2,FALSE)","v":0},{"$f":"VLOOKUP($I18,'１０月集金一覧'!$A$4:$H$44,N$2,FALSE)","v":0},{"$f":"VLOOKUP($I18,'１０月集金一覧'!$A$4:$H$44,O$2,FALSE)","v":0}]
["番号",{"$f":"IF('１０月集金一覧'!C$4=\"\",\"\",'１０月集金一覧'!C$4)","v":""},{"$f":"IF('１０月集金一覧'!D$4=\"\",\"\",'１０月集金一覧'!D$4)","v":""},{"$f":"IF('１０月集金一覧'!E$4=\"\",\"\",'１０月集金一覧'!E$4)","v":""},{"$f":"IF('１０月集金一覧'!F$4=\"\",\"\",'１０月集金一覧'!F$4)","v":""},{"$f":"IF('１０月集金一覧'!G$4=\"\",\"\",'１０月集金一覧'!G$4)","v":""},"個人計",null,"番号",{"$f":"IF('１０月集金一覧'!C$4=\"\",\"\",'１０月集金一覧'!C$4)","v":""},{"$f":"IF('１０月集金一覧'!D$4=\"\",\"\",'１０月集金一覧'!D$4)","v":""},{"$f":"IF('１０月集金一覧'!E$4=\"\",\"\",'１０月集金一覧'!E$4)","v":""},{"$f":"IF('１０月集金一覧'!F$4=\"\",\"\",'１０月集金一覧'!F$4)","v":""},{"$f":"IF('１０月集金一覧'!G$4=\"\",\"\",'１０月集金一覧'!G$4)","v":""},"個人計"]
[9,{"$f":"VLOOKUP($A20,'１０月集金一覧'!$A$4:$H$44,B$2,FALSE)","v":0},{"$f":"VLOOKUP($A20,'１０月集金一覧'!$A$4:$H$44,C$2,FALSE)","v":0},{"$f":"VLOOKUP($A20,'１０月集金一覧'!$A$4:$H$44,D$2,FALSE)","v":0},{"$f":"VLOOKUP($A20,'１０月集金一覧'!$A$4:$H$44,E$2,FALSE)","v":0},{"$f":"VLOOKUP($A20,'１０月集金一覧'!$A$4:$H$44,F$2,FALSE)","v":0},{"$f":"VLOOKUP($A20,'１０月集金一覧'!$A$4:$H$44,G$2,FALSE)","v":0},null,31,{"$f":"VLOOKUP($I20,'１０月集金一覧'!$A$4:$H$44,J$2,FALSE)","v":0},{"$f":"VLOOKUP($I20,'１０月集金一覧'!$A$4:$H$44,K$2,FALSE)","v":0},{"$f":"VLOOKUP($I20,'１０月集金一覧'!$A$4:$H$44,L$2,FALSE)","v":0},{"$f":"VLOOKUP($I20,'１０月集金一覧'!$A$4:$H$44,M$2,FALSE)","v":0},{"$f":"VLOOKUP($I20,'１０月集金一覧'!$A$4:$H$44,N$2,FALSE)","v":0},{"$f":"VLOOKUP($I20,'１０月集金一覧'!$A$4:$H$44,O$2,FALSE)","v":0}]
["番号",{"$f":"IF('１０月集金一覧'!C$4=\"\",\"\",'１０月集金一覧'!C$4)","v":""},{"$f":"IF('１０月集金一覧'!D$4=\"\",\"\",'１０月集金一覧'!D$4)","v":""},{"$f":"IF('１０月集金一覧'!E$4=\"\",\"\",'１０月集金一覧'!E$4)","v":""},{"$f":"IF('１０月集金一覧'!F$4=\"\",\"\",'１０月集金一覧'!F$4)","v":""},{"$f":"IF('１０月集金一覧'!G$4=\"\",\"\",'１０月集金一覧'!G$4)","v":""},"個人計",null,"番号",{"$f":"IF('１０月集金一覧'!C$4=\"\",\"\",'１０月集金一覧'!C$4)","v":""},{"$f":"IF('１０月集金一覧'!D$4=\"\",\"\",'１０月集金一覧'!D$4)","v":""},{"$f":"IF('１０月集金一覧'!E$4=\"\",\"\",'１０月集金一覧'!E$4)","v":""},{"$f":"IF('１０月集金一覧'!F$4=\"\",\"\",'１０月集金一覧'!F$4)","v":""},{"$f":"IF('１０月集金一覧'!G$4=\"\",\"\",'１０月集金一覧'!G$4)","v":""},"個人計"]
[10,{"$f":"VLOOKUP($A22,'１０月集金一覧'!$A$4:$H$44,B$2,FALSE)","v":0},{"$f":"VLOOKUP($A22,'１０月集金一覧'!$A$4:$H$44,C$2,FALSE)","v":0},{"$f":"VLOOKUP($A22,'１０月集金一覧'!$A$4:$H$44,D$2,FALSE)","v":0},{"$f":"VLOOKUP($A22,'１０月集金一覧'!$A$4:$H$44,E$2,FALSE)","v":0},{"$f":"VLOOKUP($A22,'１０月集金一覧'!$A$4:$H$44,F$2,FALSE)","v":0},{"$f":"VLOOKUP($A22,'１０月集金一覧'!$A$4:$H$44,G$2,FALSE)","v":0},null,32,{"$f":"VLOOKUP($I22,'１０月集金一覧'!$A$4:$H$44,J$2,FALSE)","v":0},{"$f":"VLOOKUP($I22,'１０月集金一覧'!$A$4:$H$44,K$2,FALSE)","v":0},{"$f":"VLOOKUP($I22,'１０月集金一覧'!$A$4:$H$44,L$2,FALSE)","v":0},{"$f":"VLOOKUP($I22,'１０月集金一覧'!$A$4:$H$44,M$2,FALSE)","v":0},{"$f":"VLOOKUP($I22,'１０月集金一覧'!$A$4:$H$44,N$2,FALSE)","v":0},{"$f":"VLOOKUP($I22,'１０月集金一覧'!$A$4:$H$44,O$2,FALSE)","v":0}]
["番号",{"$f":"IF('１０月集金一覧'!C$4=\"\",\"\",'１０月集金一覧'!C$4)","v":""},{"$f":"IF('１０月集金一覧'!D$4=\"\",\"\",'１０月集金一覧'!D$4)","v":""},{"$f":"IF('１０月集金一覧'!E$4=\"\",\"\",'１０月集金一覧'!E$4)","v":""},{"$f":"IF('１０月集金一覧'!F$4=\"\",\"\",'１０月集金一覧'!F$4)","v":""},{"$f":"IF('１０月集金一覧'!G$4=\"\",\"\",'１０月集金一覧'!G$4)","v":""},"個人計",null,"番号",{"$f":"IF('１０月集金一覧'!C$4=\"\",\"\",'１０月集金一覧'!C$4)","v":""},{"$f":"IF('１０月集金一覧'!D$4=\"\",\"\",'１０月集金一覧'!D$4)","v":""},{"$f":"IF('１０月集金一覧'!E$4=\"\",\"\",'１０月集金一覧'!E$4)","v":""},{"$f":"IF('１０月集金一覧'!F$4=\"\",\"\",'１０月集金一覧'!F$4)","v":""},{"$f":"IF('１０月集金一覧'!G$4=\"\",\"\",'１０月集金一覧'!G$4)","v":""},"個人計"]
[11,{"$f":"VLOOKUP($A24,'１０月集金一覧'!$A$4:$H$44,B$2,FALSE)","v":0},{"$f":"VLOOKUP($A24,'１０月集金一覧'!$A$4:$H$44,C$2,FALSE)","v":0},{"$f":"VLOOKUP($A24,'１０月集金一覧'!$A$4:$H$44,D$2,FALSE)","v":0},{"$f":"VLOOKUP($A24,'１０月集金一覧'!$A$4:$H$44,E$2,FALSE)","v":0},{"$f":"VLOOKUP($A24,'１０月集金一覧'!$A$4:$H$44,F$2,FALSE)","v":0},{"$f":"VLOOKUP($A24,'１０月集金一覧'!$A$4:$H$44,G$2,FALSE)","v":0},null,33,{"$f":"VLOOKUP($I24,'１０月集金一覧'!$A$4:$H$44,J$2,FALSE)","v":0},{"$f":"VLOOKUP($I24,'１０月集金一覧'!$A$4:$H$44,K$2,FALSE)","v":0},{"$f":"VLOOKUP($I24,'１０月集金一覧'!$A$4:$H$44,L$2,FALSE)","v":0},{"$f":"VLOOKUP($I24,'１０月集金一覧'!$A$4:$H$44,M$2,FALSE)","v":0},{"$f":"VLOOKUP($I24,'１０月集金一覧'!$A$4:$H$44,N$2,FALSE)","v":0},{"$f":"VLOOKUP($I24,'１０月集金一覧'!$A$4:$H$44,O$2,FALSE)","v":0}]
["番号",{"$f":"IF('１０月集金一覧'!C$4=\"\",\"\",'１０月集金一覧'!C$4)","v":""},{"$f":"IF('１０月集金一覧'!D$4=\"\",\"\",'１０月集金一覧'!D$4)","v":""},{"$f":"IF('１０月集金一覧'!E$4=\"\",\"\",'１０月集金一覧'!E$4)","v":""},{"$f":"IF('１０月集金一覧'!F$4=\"\",\"\",'１０月集金一覧'!F$4)","v":""},{"$f":"IF('１０月集金一覧'!G$4=\"\",\"\",'１０月集金一覧'!G$4)","v":""},"個人計",null,"番号",{"$f":"IF('１０月集金一覧'!C$4=\"\",\"\",'１０月集金一覧'!C$4)","v":""},{"$f":"IF('１０月集金一覧'!D$4=\"\",\"\",'１０月集金一覧'!D$4)","v":""},{"$f":"IF('１０月集金一覧'!E$4=\"\",\"\",'１０月集金一覧'!E$4)","v":""},{"$f":"IF('１０月集金一覧'!F$4=\"\",\"\",'１０月集金一覧'!F$4)","v":""},{"$f":"IF('１０月集金一覧'!G$4=\"\",\"\",'１０月集金一覧'!G$4)","v":""},"個人計"]
[12,{"$f":"VLOOKUP($A26,'１０月集金一覧'!$A$4:$H$44,B$2,FALSE)","v":0},{"$f":"VLOOKUP($A26,'１０月集金一覧'!$A$4:$H$44,C$2,FALSE)","v":0},{"$f":"VLOOKUP($A26,'１０月集金一覧'!$A$4:$H$44,D$2,FALSE)","v":0},{"$f":"VLOOKUP($A26,'１０月集金一覧'!$A$4:$H$44,E$2,FALSE)","v":0},{"$f":"VLOOKUP($A26,'１０月集金一覧'!$A$4:$H$44,F$2,FALSE)","v":0},{"$f":"VLOOKUP($A26,'１０月集金一覧'!$A$4:$H$44,G$2,FALSE)","v":0},null,34,{"$f":"VLOOKUP($I26,'１０月集金一覧'!$A$4:$H$44,J$2,FALSE)","v":0},{"$f":"VLOOKUP($I26,'１０月集金一覧'!$A$4:$H$44,K$2,FALSE)","v":0},{"$f":"VLOOKUP($I26,'１０月集金一覧'!$A$4:$H$44,L$2,FALSE)","v":0},{"$f":"VLOOKUP($I26,'１０月集金一覧'!$A$4:$H$44,M$2,FALSE)","v":0},{"$f":"VLOOKUP($I26,'１０月集金一覧'!$A$4:$H$44,N$2,FALSE)","v":0},{"$f":"VLOOKUP($I26,'１０月集金一覧'!$A$4:$H$44,O$2,FALSE)","v":0}]
["番号",{"$f":"IF('１０月集金一覧'!C$4=\"\",\"\",'１０月集金一覧'!C$4)","v":""},{"$f":"IF('１０月集金一覧'!D$4=\"\",\"\",'１０月集金一覧'!D$4)","v":""},{"$f":"IF('１０月集金一覧'!E$4=\"\",\"\",'１０月集金一覧'!E$4)","v":""},{"$f":"IF('１０月集金一覧'!F$4=\"\",\"\",'１０月集金一覧'!F$4)","v":""},{"$f":"IF('１０月集金一覧'!G$4=\"\",\"\",'１０月集金一覧'!G$4)","v":""},"個人計",null,"番号",{"$f":"IF('１０月集金一覧'!C$4=\"\",\"\",'１０月集金一覧'!C$4)","v":""},{"$f":"IF('１０月集金一覧'!D$4=\"\",\"\",'１０月集金一覧'!D$4)","v":""},{"$f":"IF('１０月集金一覧'!E$4=\"\",\"\",'１０月集金一覧'!E$4)","v":""},{"$f":"IF('１０月集金一覧'!F$4=\"\",\"\",'１０月集金一覧'!F$4)","v":""},{"$f":"IF('１０月集金一覧'!G$4=\"\",\"\",'１０月集金一覧'!G$4)","v":""},"個人計"]
[13,{"$f":"VLOOKUP($A28,'１０月集金一覧'!$A$4:$H$44,B$2,FALSE)","v":0},{"$f":"VLOOKUP($A28,'１０月集金一覧'!$A$4:$H$44,C$2,FALSE)","v":0},{"$f":"VLOOKUP($A28,'１０月集金一覧'!$A$4:$H$44,D$2,FALSE)","v":0},{"$f":"VLOOKUP($A28,'１０月集金一覧'!$A$4:$H$44,E$2,FALSE)","v":0},{"$f":"VLOOKUP($A28,'１０月集金一覧'!$A$4:$H$44,F$2,FALSE)","v":0},{"$f":"VLOOKUP($A28,'１０月集金一覧'!$A$4:$H$44,G$2,FALSE)","v":0},null,35,{"$f":"VLOOKUP($I28,'１０月集金一覧'!$A$4:$H$44,J$2,FALSE)","v":0},{"$f":"VLOOKUP($I28,'１０月集金一覧'!$A$4:$H$44,K$2,FALSE)","v":0},{"$f":"VLOOKUP($I28,'１０月集金一覧'!$A$4:$H$44,L$2,FALSE)","v":0},{"$f":"VLOOKUP($I28,'１０月集金一覧'!$A$4:$H$44,M$2,FALSE)","v":0},{"$f":"VLOOKUP($I28,'１０月集金一覧'!$A$4:$H$44,N$2,FALSE)","v":0},{"$f":"VLOOKUP($I28,'１０月集金一覧'!$A$4:$H$44,O$2,FALSE)","v":0}]
["番号",{"$f":"IF('１０月集金一覧'!C$4=\"\",\"\",'１０月集金一覧'!C$4)","v":""},{"$f":"IF('１０月集金一覧'!D$4=\"\",\"\",'１０月集金一覧'!D$4)","v":""},{"$f":"IF('１０月集金一覧'!E$4=\"\",\"\",'１０月集金一覧'!E$4)","v":""},{"$f":"IF('１０月集金一覧'!F$4=\"\",\"\",'１０月集金一覧'!F$4)","v":""},{"$f":"IF('１０月集金一覧'!G$4=\"\",\"\",'１０月集金一覧'!G$4)","v":""},"個人計",null,"番号",{"$f":"IF('１０月集金一覧'!C$4=\"\",\"\",'１０月集金一覧'!C$4)","v":""},{"$f":"IF('１０月集金一覧'!D$4=\"\",\"\",'１０月集金一覧'!D$4)","v":""},{"$f":"IF('１０月集金一覧'!E$4=\"\",\"\",'１０月集金一覧'!E$4)","v":""},{"$f":"IF('１０月集金一覧'!F$4=\"\",\"\",'１０月集金一覧'!F$4)","v":""},{"$f":"IF('１０月集金一覧'!G$4=\"\",\"\",'１０月集金一覧'!G$4)","v":""},"個人計"]
[14,{"$f":"VLOOKUP($A30,'１０月集金一覧'!$A$4:$H$44,B$2,FALSE)","v":0},{"$f":"VLOOKUP($A30,'１０月集金一覧'!$A$4:$H$44,C$2,FALSE)","v":0},{"$f":"VLOOKUP($A30,'１０月集金一覧'!$A$4:$H$44,D$2,FALSE)","v":0},{"$f":"VLOOKUP($A30,'１０月集金一覧'!$A$4:$H$44,E$2,FALSE)","v":0},{"$f":"VLOOKUP($A30,'１０月集金一覧'!$A$4:$H$44,F$2,FALSE)","v":0},{"$f":"VLOOKUP($A30,'１０月集金一覧'!$A$4:$H$44,G$2,FALSE)","v":0},null,36,{"$f":"VLOOKUP($I30,'１０月集金一覧'!$A$4:$H$44,J$2,FALSE)","v":0},{"$f":"VLOOKUP($I30,'１０月集金一覧'!$A$4:$H$44,K$2,FALSE)","v":0},{"$f":"VLOOKUP($I30,'１０月集金一覧'!$A$4:$H$44,L$2,FALSE)","v":0},{"$f":"VLOOKUP($I30,'１０月集金一覧'!$A$4:$H$44,M$2,FALSE)","v":0},{"$f":"VLOOKUP($I30,'１０月集金一覧'!$A$4:$H$44,N$2,FALSE)","v":0},{"$f":"VLOOKUP($I30,'１０月集金一覧'!$A$4:$H$44,O$2,FALSE)","v":0}]
["番号",{"$f":"IF('１０月集金一覧'!C$4=\"\",\"\",'１０月集金一覧'!C$4)","v":""},{"$f":"IF('１０月集金一覧'!D$4=\"\",\"\",'１０月集金一覧'!D$4)","v":""},{"$f":"IF('１０月集金一覧'!E$4=\"\",\"\",'１０月集金一覧'!E$4)","v":""},{"$f":"IF('１０月集金一覧'!F$4=\"\",\"\",'１０月集金一覧'!F$4)","v":""},{"$f":"IF('１０月集金一覧'!G$4=\"\",\"\",'１０月集金一覧'!G$4)","v":""},"個人計",null,"番号",{"$f":"IF('１０月集金一覧'!C$4=\"\",\"\",'１０月集金一覧'!C$4)","v":""},{"$f":"IF('１０月集金一覧'!D$4=\"\",\"\",'１０月集金一覧'!D$4)","v":""},{"$f":"IF('１０月集金一覧'!E$4=\"\",\"\",'１０月集金一覧'!E$4)","v":""},{"$f":"IF('１０月集金一覧'!F$4=\"\",\"\",'１０月集金一覧'!F$4)","v":""},{"$f":"IF('１０月集金一覧'!G$4=\"\",\"\",'１０月集金一覧'!G$4)","v":""},"個人計"]
[15,{"$f":"VLOOKUP($A32,'１０月集金一覧'!$A$4:$H$44,B$2,FALSE)","v":0},{"$f":"VLOOKUP($A32,'１０月集金一覧'!$A$4:$H$44,C$2,FALSE)","v":0},{"$f":"VLOOKUP($A32,'１０月集金一覧'!$A$4:$H$44,D$2,FALSE)","v":0},{"$f":"VLOOKUP($A32,'１０月集金一覧'!$A$4:$H$44,E$2,FALSE)","v":0},{"$f":"VLOOKUP($A32,'１０月集金一覧'!$A$4:$H$44,F$2,FALSE)","v":0},{"$f":"VLOOKUP($A32,'１０月集金一覧'!$A$4:$H$44,G$2,FALSE)","v":0},null,37,{"$f":"VLOOKUP($I32,'１０月集金一覧'!$A$4:$H$44,J$2,FALSE)","v":0},{"$f":"VLOOKUP($I32,'１０月集金一覧'!$A$4:$H$44,K$2,FALSE)","v":0},{"$f":"VLOOKUP($I32,'１０月集金一覧'!$A$4:$H$44,L$2,FALSE)","v":0},{"$f":"VLOOKUP($I32,'１０月集金一覧'!$A$4:$H$44,M$2,FALSE)","v":0},{"$f":"VLOOKUP($I32,'１０月集金一覧'!$A$4:$H$44,N$2,FALSE)","v":0},{"$f":"VLOOKUP($I32,'１０月集金一覧'!$A$4:$H$44,O$2,FALSE)","v":0}]
["番号",{"$f":"IF('１０月集金一覧'!C$4=\"\",\"\",'１０月集金一覧'!C$4)","v":""},{"$f":"IF('１０月集金一覧'!D$4=\"\",\"\",'１０月集金一覧'!D$4)","v":""},{"$f":"IF('１０月集金一覧'!E$4=\"\",\"\",'１０月集金一覧'!E$4)","v":""},{"$f":"IF('１０月集金一覧'!F$4=\"\",\"\",'１０月集金一覧'!F$4)","v":""},{"$f":"IF('１０月集金一覧'!G$4=\"\",\"\",'１０月集金一覧'!G$4)","v":""},"個人計",null,"番号",{"$f":"IF('１０月集金一覧'!C$4=\"\",\"\",'１０月集金一覧'!C$4)","v":""},{"$f":"IF('１０月集金一覧'!D$4=\"\",\"\",'１０月集金一覧'!D$4)","v":""},{"$f":"IF('１０月集金一覧'!E$4=\"\",\"\",'１０月集金一覧'!E$4)","v":""},{"$f":"IF('１０月集金一覧'!F$4=\"\",\"\",'１０月集金一覧'!F$4)","v":""},{"$f":"IF('１０月集金一覧'!G$4=\"\",\"\",'１０月集金一覧'!G$4)","v":""},"個人計"]
[16,{"$f":"VLOOKUP($A34,'１０月集金一覧'!$A$4:$H$44,B$2,FALSE)","v":0},{"$f":"VLOOKUP($A34,'１０月集金一覧'!$A$4:$H$44,C$2,FALSE)","v":0},{"$f":"VLOOKUP($A34,'１０月集金一覧'!$A$4:$H$44,D$2,FALSE)","v":0},{"$f":"VLOOKUP($A34,'１０月集金一覧'!$A$4:$H$44,E$2,FALSE)","v":0},{"$f":"VLOOKUP($A34,'１０月集金一覧'!$A$4:$H$44,F$2,FALSE)","v":0},{"$f":"VLOOKUP($A34,'１０月集金一覧'!$A$4:$H$44,G$2,FALSE)","v":0},null,38,{"$f":"VLOOKUP($I34,'１０月集金一覧'!$A$4:$H$44,J$2,FALSE)","v":0},{"$f":"VLOOKUP($I34,'１０月集金一覧'!$A$4:$H$44,K$2,FALSE)","v":0},{"$f":"VLOOKUP($I34,'１０月集金一覧'!$A$4:$H$44,L$2,FALSE)","v":0},{"$f":"VLOOKUP($I34,'１０月集金一覧'!$A$4:$H$44,M$2,FALSE)","v":0},{"$f":"VLOOKUP($I34,'１０月集金一覧'!$A$4:$H$44,N$2,FALSE)","v":0},{"$f":"VLOOKUP($I34,'１０月集金一覧'!$A$4:$H$44,O$2,FALSE)","v":0}]
["番号",{"$f":"IF('１０月集金一覧'!C$4=\"\",\"\",'１０月集金一覧'!C$4)","v":""},{"$f":"IF('１０月集金一覧'!D$4=\"\",\"\",'１０月集金一覧'!D$4)","v":""},{"$f":"IF('１０月集金一覧'!E$4=\"\",\"\",'１０月集金一覧'!E$4)","v":""},{"$f":"IF('１０月集金一覧'!F$4=\"\",\"\",'１０月集金一覧'!F$4)","v":""},{"$f":"IF('１０月集金一覧'!G$4=\"\",\"\",'１０月集金一覧'!G$4)","v":""},"個人計",null,"番号",{"$f":"IF('１０月集金一覧'!C$4=\"\",\"\",'１０月集金一覧'!C$4)","v":""},{"$f":"IF('１０月集金一覧'!D$4=\"\",\"\",'１０月集金一覧'!D$4)","v":""},{"$f":"IF('１０月集金一覧'!E$4=\"\",\"\",'１０月集金一覧'!E$4)","v":""},{"$f":"IF('１０月集金一覧'!F$4=\"\",\"\",'１０月集金一覧'!F$4)","v":""},{"$f":"IF('１０月集金一覧'!G$4=\"\",\"\",'１０月集金一覧'!G$4)","v":""},"個人計"]
[17,{"$f":"VLOOKUP($A36,'１０月集金一覧'!$A$4:$H$44,B$2,FALSE)","v":0},{"$f":"VLOOKUP($A36,'１０月集金一覧'!$A$4:$H$44,C$2,FALSE)","v":0},{"$f":"VLOOKUP($A36,'１０月集金一覧'!$A$4:$H$44,D$2,FALSE)","v":0},{"$f":"VLOOKUP($A36,'１０月集金一覧'!$A$4:$H$44,E$2,FALSE)","v":0},{"$f":"VLOOKUP($A36,'１０月集金一覧'!$A$4:$H$44,F$2,FALSE)","v":0},{"$f":"VLOOKUP($A36,'１０月集金一覧'!$A$4:$H$44,G$2,FALSE)","v":0},null,39,{"$f":"VLOOKUP($I36,'１０月集金一覧'!$A$4:$H$44,J$2,FALSE)","v":0},{"$f":"VLOOKUP($I36,'１０月集金一覧'!$A$4:$H$44,K$2,FALSE)","v":0},{"$f":"VLOOKUP($I36,'１０月集金一覧'!$A$4:$H$44,L$2,FALSE)","v":0},{"$f":"VLOOKUP($I36,'１０月集金一覧'!$A$4:$H$44,M$2,FALSE)","v":0},{"$f":"VLOOKUP($I36,'１０月集金一覧'!$A$4:$H$44,N$2,FALSE)","v":0},{"$f":"VLOOKUP($I36,'１０月集金一覧'!$A$4:$H$44,O$2,FALSE)","v":0}]
["番号",{"$f":"IF('１０月集金一覧'!C$4=\"\",\"\",'１０月集金一覧'!C$4)","v":""},{"$f":"IF('１０月集金一覧'!D$4=\"\",\"\",'１０月集金一覧'!D$4)","v":""},{"$f":"IF('１０月集金一覧'!E$4=\"\",\"\",'１０月集金一覧'!E$4)","v":""},{"$f":"IF('１０月集金一覧'!F$4=\"\",\"\",'１０月集金一覧'!F$4)","v":""},{"$f":"IF('１０月集金一覧'!G$4=\"\",\"\",'１０月集金一覧'!G$4)","v":""},"個人計",null,"番号",{"$f":"IF('１０月集金一覧'!C$4=\"\",\"\",'１０月集金一覧'!C$4)","v":""},{"$f":"IF('１０月集金一覧'!D$4=\"\",\"\",'１０月集金一覧'!D$4)","v":""},{"$f":"IF('１０月集金一覧'!E$4=\"\",\"\",'１０月集金一覧'!E$4)","v":""},{"$f":"IF('１０月集金一覧'!F$4=\"\",\"\",'１０月集金一覧'!F$4)","v":""},{"$f":"IF('１０月集金一覧'!G$4=\"\",\"\",'１０月集金一覧'!G$4)","v":""},"個人計"]
[18,{"$f":"VLOOKUP($A38,'１０月集金一覧'!$A$4:$H$44,B$2,FALSE)","v":0},{"$f":"VLOOKUP($A38,'１０月集金一覧'!$A$4:$H$44,C$2,FALSE)","v":0},{"$f":"VLOOKUP($A38,'１０月集金一覧'!$A$4:$H$44,D$2,FALSE)","v":0},{"$f":"VLOOKUP($A38,'１０月集金一覧'!$A$4:$H$44,E$2,FALSE)","v":0},{"$f":"VLOOKUP($A38,'１０月集金一覧'!$A$4:$H$44,F$2,FALSE)","v":0},{"$f":"VLOOKUP($A38,'１０月集金一覧'!$A$4:$H$44,G$2,FALSE)","v":0},null,40,{"$f":"VLOOKUP($I38,'１０月集金一覧'!$A$4:$H$44,J$2,FALSE)","v":0},{"$f":"VLOOKUP($I38,'１０月集金一覧'!$A$4:$H$44,K$2,FALSE)","v":0},{"$f":"VLOOKUP($I38,'１０月集金一覧'!$A$4:$H$44,L$2,FALSE)","v":0},{"$f":"VLOOKUP($I38,'１０月集金一覧'!$A$4:$H$44,M$2,FALSE)","v":0},{"$f":"VLOOKUP($I38,'１０月集金一覧'!$A$4:$H$44,N$2,FALSE)","v":0},{"$f":"VLOOKUP($I38,'１０月集金一覧'!$A$4:$H$44,O$2,FALSE)","v":0}]
["番号",{"$f":"IF('１０月集金一覧'!C$4=\"\",\"\",'１０月集金一覧'!C$4)","v":""},{"$f":"IF('１０月集金一覧'!D$4=\"\",\"\",'１０月集金一覧'!D$4)","v":""},{"$f":"IF('１０月集金一覧'!E$4=\"\",\"\",'１０月集金一覧'!E$4)","v":""},{"$f":"IF('１０月集金一覧'!F$4=\"\",\"\",'１０月集金一覧'!F$4)","v":""},{"$f":"IF('１０月集金一覧'!G$4=\"\",\"\",'１０月集金一覧'!G$4)","v":""},"個人計"]
[19,{"$f":"VLOOKUP($A40,'１０月集金一覧'!$A$4:$H$44,B$2,FALSE)","v":0},{"$f":"VLOOKUP($A40,'１０月集金一覧'!$A$4:$H$44,C$2,FALSE)","v":0},{"$f":"VLOOKUP($A40,'１０月集金一覧'!$A$4:$H$44,D$2,FALSE)","v":0},{"$f":"VLOOKUP($A40,'１０月集金一覧'!$A$4:$H$44,E$2,FALSE)","v":0},{"$f":"VLOOKUP($A40,'１０月集金一覧'!$A$4:$H$44,F$2,FALSE)","v":0},{"$f":"VLOOKUP($A40,'１０月集金一覧'!$A$4:$H$44,G$2,FALSE)","v":0}]
["番号",{"$f":"IF('１０月集金一覧'!C$4=\"\",\"\",'１０月集金一覧'!C$4)","v":""},{"$f":"IF('１０月集金一覧'!D$4=\"\",\"\",'１０月集金一覧'!D$4)","v":""},{"$f":"IF('１０月集金一覧'!E$4=\"\",\"\",'１０月集金一覧'!E$4)","v":""},{"$f":"IF('１０月集金一覧'!F$4=\"\",\"\",'１０月集金一覧'!F$4)","v":""},{"$f":"IF('１０月集金一覧'!G$4=\"\",\"\",'１０月集金一覧'!G$4)","v":""},"個人計"]
[20,{"$f":"VLOOKUP($A42,'１０月集金一覧'!$A$4:$H$44,B$2,FALSE)","v":0},{"$f":"VLOOKUP($A42,'１０月集金一覧'!$A$4:$H$44,C$2,FALSE)","v":0},{"$f":"VLOOKUP($A42,'１０月集金一覧'!$A$4:$H$44,D$2,FALSE)","v":0},{"$f":"VLOOKUP($A42,'１０月集金一覧'!$A$4:$H$44,E$2,FALSE)","v":0},{"$f":"VLOOKUP($A42,'１０月集金一覧'!$A$4:$H$44,F$2,FALSE)","v":0},{"$f":"VLOOKUP($A42,'１０月集金一覧'!$A$4:$H$44,G$2,FALSE)","v":0}]
["番号",{"$f":"IF('１０月集金一覧'!C$4=\"\",\"\",'１０月集金一覧'!C$4)","v":""},{"$f":"IF('１０月集金一覧'!D$4=\"\",\"\",'１０月集金一覧'!D$4)","v":""},{"$f":"IF('１０月集金一覧'!E$4=\"\",\"\",'１０月集金一覧'!E$4)","v":""},{"$f":"IF('１０月集金一覧'!F$4=\"\",\"\",'１０月集金一覧'!F$4)","v":""},{"$f":"IF('１０月集金一覧'!G$4=\"\",\"\",'１０月集金一覧'!G$4)","v":""},"個人計"]
[21,{"$f":"VLOOKUP($A44,'１０月集金一覧'!$A$4:$H$44,B$2,FALSE)","v":0},{"$f":"VLOOKUP($A44,'１０月集金一覧'!$A$4:$H$44,C$2,FALSE)","v":0},{"$f":"VLOOKUP($A44,'１０月集金一覧'!$A$4:$H$44,D$2,FALSE)","v":0},{"$f":"VLOOKUP($A44,'１０月集金一覧'!$A$4:$H$44,E$2,FALSE)","v":0},{"$f":"VLOOKUP($A44,'１０月集金一覧'!$A$4:$H$44,F$2,FALSE)","v":0},{"$f":"VLOOKUP($A44,'１０月集金一覧'!$A$4:$H$44,G$2,FALSE)","v":0}]
["番号",{"$f":"IF('１０月集金一覧'!C$4=\"\",\"\",'１０月集金一覧'!C$4)","v":""},{"$f":"IF('１０月集金一覧'!D$4=\"\",\"\",'１０月集金一覧'!D$4)","v":""},{"$f":"IF('１０月集金一覧'!E$4=\"\",\"\",'１０月集金一覧'!E$4)","v":""},{"$f":"IF('１０月集金一覧'!F$4=\"\",\"\",'１０月集金一覧'!F$4)","v":""},{"$f":"IF('１０月集金一覧'!G$4=\"\",\"\",'１０月集金一覧'!G$4)","v":""},"個人計"]
[22,{"$f":"VLOOKUP($A46,'１０月集金一覧'!$A$4:$H$44,B$2,FALSE)","v":0},{"$f":"VLOOKUP($A46,'１０月集金一覧'!$A$4:$H$44,C$2,FALSE)","v":0},{"$f":"VLOOKUP($A46,'１０月集金一覧'!$A$4:$H$44,D$2,FALSE)","v":0},{"$f":"VLOOKUP($A46,'１０月集金一覧'!$A$4:$H$44,E$2,FALSE)","v":0},{"$f":"VLOOKUP($A46,'１０月集金一覧'!$A$4:$H$44,F$2,FALSE)","v":0},{"$f":"VLOOKUP($A46,'１０月集金一覧'!$A$4:$H$44,G$2,FALSE)","v":0}]

{"sheet":"11月個票","index":29,"n_rows":46,"n_cols":15,"rows_kept":46,"cut":false,"hidden":false,"merged":[]}
[null,"令和",{"$f":"メイン!D7","v":0},"年度",{"$f":"メイン!C8","v":0},"年",{"$f":"メイン!E8","v":0},"組"]
[1,3,4,5,6,7,8,null,1,3,4,5,6,7,8]
["番号",{"$f":"IF('１１月集金一覧'!C$4=\"\",\"\",'１１月集金一覧'!C$4)","v":""},{"$f":"IF('１１月集金一覧'!$D$4=\"\",\"\",'１１月集金一覧'!D$4)","v":""},{"$f":"IF('１１月集金一覧'!E$4=\"\",\"\",'１１月集金一覧'!E$4)","v":""},{"$f":"IF('１１月集金一覧'!F$4=\"\",\"\",'１１月集金一覧'!F$4)","v":""},{"$f":"IF('１１月集金一覧'!G$4=\"\",\"\",'１１月集金一覧'!G$4)","v":""},"個人計",null,"番号",{"$f":"IF('１１月集金一覧'!C$4=\"\",\"\",'１１月集金一覧'!C$4)","v":""},{"$f":"IF('１１月集金一覧'!D$4=\"\",\"\",'１１月集金一覧'!D$4)","v":""},{"$f":"IF('１１月集金一覧'!E$4=\"\",\"\",'１１月集金一覧'!E$4)","v":""},{"$f":"IF('１１月集金一覧'!F$4=\"\",\"\",'１１月集金一覧'!F$4)","v":""},{"$f":"IF('１１月集金一覧'!G$4=\"\",\"\",'１１月集金一覧'!G$4)","v":""},"個人計"]
[1,{"$f":"VLOOKUP($A4,'１１月集金一覧'!$A$4:$H$44,B$2,FALSE)","v":0},{"$f":"VLOOKUP($A4,'１１月集金一覧'!$A$4:$H$44,C$2,FALSE)","v":0},{"$f":"VLOOKUP($A4,'１１月集金一覧'!$A$4:$H$44,D$2,FALSE)","v":0},{"$f":"VLOOKUP($A4,'１１月集金一覧'!$A$4:$H$44,E$2,FALSE)","v":0},{"$f":"VLOOKUP($A4,'１１月集金一覧'!$A$4:$H$44,F$2,FALSE)","v":0},{"$f":"VLOOKUP($A4,'１１月集金一覧'!$A$4:$H$44,G$2,FALSE)","v":0},null,23,{"$f":"VLOOKUP($I4,'１１月集金一覧'!$A$4:$H$44,J$2,FALSE)","v":0},{"$f":"VLOOKUP($I4,'１１月集金一覧'!$A$4:$H$44,K$2,FALSE)","v":0},{"$f":"VLOOKUP($I4,'１１月集金一覧'!$A$4:$H$44,L$2,FALSE)","v":0},{"$f":"VLOOKUP($I4,'１１月集金一覧'!$A$4:$H$44,M$2,FALSE)","v":0},{"$f":"VLOOKUP($I4,'１１月集金一覧'!$A$4:$H$44,N$2,FALSE)","v":0},{"$f":"VLOOKUP($I4,'１１月集金一覧'!$A$4:$H$44,O$2,FALSE)","v":0}]
["番号",{"$f":"IF('１１月集金一覧'!C$4=\"\",\"\",'１１月集金一覧'!C$4)","v":""},{"$f":"IF('１１月集金一覧'!D$4=\"\",\"\",'１１月集金一覧'!D$4)","v":""},{"$f":"IF('１１月集金一覧'!E$4=\"\",\"\",'１１月集金一覧'!E$4)","v":""},{"$f":"IF('１１月集金一覧'!F$4=\"\",\"\",'１１月集金一覧'!F$4)","v":""},{"$f":"IF('１１月集金一覧'!G$4=\"\",\"\",'１１月集金一覧'!G$4)","v":""},"個人計",null,"番号",{"$f":"IF('１１月集金一覧'!C$4=\"\",\"\",'１１月集金一覧'!C$4)","v":""},{"$f":"IF('１１月集金一覧'!D$4=\"\",\"\",'１１月集金一覧'!D$4)","v":""},{"$f":"IF('１１月集金一覧'!E$4=\"\",\"\",'１１月集金一覧'!E$4)","v":""},{"$f":"IF('１１月集金一覧'!F$4=\"\",\"\",'１１月集金一覧'!F$4)","v":""},{"$f":"IF('１１月集金一覧'!G$4=\"\",\"\",'１１月集金一覧'!G$4)","v":""},"個人計"]
[2,{"$f":"VLOOKUP($A6,'１１月集金一覧'!$A$4:$H$44,B$2,FALSE)","v":0},{"$f":"VLOOKUP($A6,'１１月集金一覧'!$A$4:$H$44,C$2,FALSE)","v":0},{"$f":"VLOOKUP($A6,'１１月集金一覧'!$A$4:$H$44,D$2,FALSE)","v":0},{"$f":"VLOOKUP($A6,'１１月集金一覧'!$A$4:$H$44,E$2,FALSE)","v":0},{"$f":"VLOOKUP($A6,'１１月集金一覧'!$A$4:$H$44,F$2,FALSE)","v":0},{"$f":"VLOOKUP($A6,'１１月集金一覧'!$A$4:$H$44,G$2,FALSE)","v":0},null,24,{"$f":"VLOOKUP($I6,'１１月集金一覧'!$A$4:$H$44,J$2,FALSE)","v":0},{"$f":"VLOOKUP($I6,'１１月集金一覧'!$A$4:$H$44,K$2,FALSE)","v":0},{"$f":"VLOOKUP($I6,'１１月集金一覧'!$A$4:$H$44,L$2,FALSE)","v":0},{"$f":"VLOOKUP($I6,'１１月集金一覧'!$A$4:$H$44,M$2,FALSE)","v":0},{"$f":"VLOOKUP($I6,'１１月集金一覧'!$A$4:$H$44,N$2,FALSE)","v":0},{"$f":"VLOOKUP($I6,'１１月集金一覧'!$A$4:$H$44,O$2,FALSE)","v":0}]
["番号",{"$f":"IF('１１月集金一覧'!C$4=\"\",\"\",'１１月集金一覧'!C$4)","v":""},{"$f":"IF('１１月集金一覧'!D$4=\"\",\"\",'１１月集金一覧'!D$4)","v":""},{"$f":"IF('１１月集金一覧'!E$4=\"\",\"\",'１１月集金一覧'!E$4)","v":""},{"$f":"IF('１１月集金一覧'!F$4=\"\",\"\",'１１月集金一覧'!F$4)","v":""},{"$f":"IF('１１月集金一覧'!G$4=\"\",\"\",'１１月集金一覧'!G$4)","v":""},"個人計",null,"番号",{"$f":"IF('１１月集金一覧'!C$4=\"\",\"\",'１１月集金一覧'!C$4)","v":""},{"$f":"IF('１１月集金一覧'!D$4=\"\",\"\",'１１月集金一覧'!D$4)","v":""},{"$f":"IF('１１月集金一覧'!E$4=\"\",\"\",'１１月集金一覧'!E$4)","v":""},{"$f":"IF('１１月集金一覧'!F$4=\"\",\"\",'１１月集金一覧'!F$4)","v":""},{"$f":"IF('１１月集金一覧'!G$4=\"\",\"\",'１１月集金一覧'!G$4)","v":""},"個人計"]
[3,{"$f":"VLOOKUP($A8,'１１月集金一覧'!$A$4:$H$44,B$2,FALSE)","v":0},{"$f":"VLOOKUP($A8,'１１月集金一覧'!$A$4:$H$44,C$2,FALSE)","v":0},{"$f":"VLOOKUP($A8,'１１月集金一覧'!$A$4:$H$44,D$2,FALSE)","v":0},{"$f":"VLOOKUP($A8,'１１月集金一覧'!$A$4:$H$44,E$2,FALSE)","v":0},{"$f":"VLOOKUP($A8,'１１月集金一覧'!$A$4:$H$44,F$2,FALSE)","v":0},{"$f":"VLOOKUP($A8,'１１月集金一覧'!$A$4:$H$44,G$2,FALSE)","v":0},null,25,{"$f":"VLOOKUP($I8,'１１月集金一覧'!$A$4:$H$44,J$2,FALSE)","v":0},{"$f":"VLOOKUP($I8,'１１月集金一覧'!$A$4:$H$44,K$2,FALSE)","v":0},{"$f":"VLOOKUP($I8,'１１月集金一覧'!$A$4:$H$44,L$2,FALSE)","v":0},{"$f":"VLOOKUP($I8,'１１月集金一覧'!$A$4:$H$44,M$2,FALSE)","v":0},{"$f":"VLOOKUP($I8,'１１月集金一覧'!$A$4:$H$44,N$2,FALSE)","v":0},{"$f":"VLOOKUP($I8,'１１月集金一覧'!$A$4:$H$44,O$2,FALSE)","v":0}]
["番号",{"$f":"IF('１１月集金一覧'!C$4=\"\",\"\",'１１月集金一覧'!C$4)","v":""},{"$f":"IF('１１月集金一覧'!D$4=\"\",\"\",'１１月集金一覧'!D$4)","v":""},{"$f":"IF('１１月集金一覧'!E$4=\"\",\"\",'１１月集金一覧'!E$4)","v":""},{"$f":"IF('１１月集金一覧'!F$4=\"\",\"\",'１１月集金一覧'!F$4)","v":""},{"$f":"IF('１１月集金一覧'!G$4=\"\",\"\",'１１月集金一覧'!G$4)","v":""},"個人計",null,"番号",{"$f":"IF('１１月集金一覧'!C$4=\"\",\"\",'１１月集金一覧'!C$4)","v":""},{"$f":"IF('１１月集金一覧'!D$4=\"\",\"\",'１１月集金一覧'!D$4)","v":""},{"$f":"IF('１１月集金一覧'!E$4=\"\",\"\",'１１月集金一覧'!E$4)","v":""},{"$f":"IF('１１月集金一覧'!F$4=\"\",\"\",'１１月集金一覧'!F$4)","v":""},{"$f":"IF('１１月集金一覧'!G$4=\"\",\"\",'１１月集金一覧'!G$4)","v":""},"個人計"]
[4,{"$f":"VLOOKUP($A10,'１１月集金一覧'!$A$4:$H$44,B$2,FALSE)","v":0},{"$f":"VLOOKUP($A10,'１１月集金一覧'!$A$4:$H$44,C$2,FALSE)","v":0},{"$f":"VLOOKUP($A10,'１１月集金一覧'!$A$4:$H$44,D$2,FALSE)","v":0},{"$f":"VLOOKUP($A10,'１１月集金一覧'!$A$4:$H$44,E$2,FALSE)","v":0},{"$f":"VLOOKUP($A10,'１１月集金一覧'!$A$4:$H$44,F$2,FALSE)","v":0},{"$f":"VLOOKUP($A10,'１１月集金一覧'!$A$4:$H$44,G$2,FALSE)","v":0},null,26,{"$f":"VLOOKUP($I10,'１１月集金一覧'!$A$4:$H$44,J$2,FALSE)","v":0},{"$f":"VLOOKUP($I10,'１１月集金一覧'!$A$4:$H$44,K$2,FALSE)","v":0},{"$f":"VLOOKUP($I10,'１１月集金一覧'!$A$4:$H$44,L$2,FALSE)","v":0},{"$f":"VLOOKUP($I10,'１１月集金一覧'!$A$4:$H$44,M$2,FALSE)","v":0},{"$f":"VLOOKUP($I10,'１１月集金一覧'!$A$4:$H$44,N$2,FALSE)","v":0},{"$f":"VLOOKUP($I10,'１１月集金一覧'!$A$4:$H$44,O$2,FALSE)","v":0}]
["番号",{"$f":"IF('１１月集金一覧'!C$4=\"\",\"\",'１１月集金一覧'!C$4)","v":""},{"$f":"IF('１１月集金一覧'!D$4=\"\",\"\",'１１月集金一覧'!D$4)","v":""},{"$f":"IF('１１月集金一覧'!E$4=\"\",\"\",'１１月集金一覧'!E$4)","v":""},{"$f":"IF('１１月集金一覧'!F$4=\"\",\"\",'１１月集金一覧'!F$4)","v":""},{"$f":"IF('１１月集金一覧'!G$4=\"\",\"\",'１１月集金一覧'!G$4)","v":""},"個人計",null,"番号",{"$f":"IF('１１月集金一覧'!C$4=\"\",\"\",'１１月集金一覧'!C$4)","v":""},{"$f":"IF('１１月集金一覧'!D$4=\"\",\"\",'１１月集金一覧'!D$4)","v":""},{"$f":"IF('１１月集金一覧'!E$4=\"\",\"\",'１１月集金一覧'!E$4)","v":""},{"$f":"IF('１１月集金一覧'!F$4=\"\",\"\",'１１月集金一覧'!F$4)","v":""},{"$f":"IF('１１月集金一覧'!G$4=\"\",\"\",'１１月集金一覧'!G$4)","v":""},"個人計"]
[5,{"$f":"VLOOKUP($A12,'１１月集金一覧'!$A$4:$H$44,B$2,FALSE)","v":0},{"$f":"VLOOKUP($A12,'１１月集金一覧'!$A$4:$H$44,C$2,FALSE)","v":0},{"$f":"VLOOKUP($A12,'１１月集金一覧'!$A$4:$H$44,D$2,FALSE)","v":0},{"$f":"VLOOKUP($A12,'１１月集金一覧'!$A$4:$H$44,E$2,FALSE)","v":0},{"$f":"VLOOKUP($A12,'１１月集金一覧'!$A$4:$H$44,F$2,FALSE)","v":0},{"$f":"VLOOKUP($A12,'１１月集金一覧'!$A$4:$H$44,G$2,FALSE)","v":0},null,27,{"$f":"VLOOKUP($I12,'１１月集金一覧'!$A$4:$H$44,J$2,FALSE)","v":0},{"$f":"VLOOKUP($I12,'１１月集金一覧'!$A$4:$H$44,K$2,FALSE)","v":0},{"$f":"VLOOKUP($I12,'１１月集金一覧'!$A$4:$H$44,L$2,FALSE)","v":0},{"$f":"VLOOKUP($I12,'１１月集金一覧'!$A$4:$H$44,M$2,FALSE)","v":0},{"$f":"VLOOKUP($I12,'１１月集金一覧'!$A$4:$H$44,N$2,FALSE)","v":0},{"$f":"VLOOKUP($I12,'１１月集金一覧'!$A$4:$H$44,O$2,FALSE)","v":0}]
["番号",{"$f":"IF('１１月集金一覧'!C$4=\"\",\"\",'１１月集金一覧'!C$4)","v":""},{"$f":"IF('１１月集金一覧'!D$4=\"\",\"\",'１１月集金一覧'!D$4)","v":""},{"$f":"IF('１１月集金一覧'!E$4=\"\",\"\",'１１月集金一覧'!E$4)","v":""},{"$f":"IF('１１月集金一覧'!F$4=\"\",\"\",'１１月集金一覧'!F$4)","v":""},{"$f":"IF('１１月集金一覧'!G$4=\"\",\"\",'１１月集金一覧'!G$4)","v":""},"個人計",null,"番号",{"$f":"IF('１１月集金一覧'!C$4=\"\",\"\",'１１月集金一覧'!C$4)","v":""},{"$f":"IF('１１月集金一覧'!D$4=\"\",\"\",'１１月集金一覧'!D$4)","v":""},{"$f":"IF('１１月集金一覧'!E$4=\"\",\"\",'１１月集金一覧'!E$4)","v":""},{"$f":"IF('１１月集金一覧'!F$4=\"\",\"\",'１１月集金一覧'!F$4)","v":""},{"$f":"IF('１１月集金一覧'!G$4=\"\",\"\",'１１月集金一覧'!G$4)","v":""},"個人計"]
[6,{"$f":"VLOOKUP($A14,'１１月集金一覧'!$A$4:$H$44,B$2,FALSE)","v":0},{"$f":"VLOOKUP($A14,'１１月集金一覧'!$A$4:$H$44,C$2,FALSE)","v":0},{"$f":"VLOOKUP($A14,'１１月集金一覧'!$A$4:$H$44,D$2,FALSE)","v":0},{"$f":"VLOOKUP($A14,'１１月集金一覧'!$A$4:$H$44,E$2,FALSE)","v":0},{"$f":"VLOOKUP($A14,'１１月集金一覧'!$A$4:$H$44,F$2,FALSE)","v":0},{"$f":"VLOOKUP($A14,'１１月集金一覧'!$A$4:$H$44,G$2,FALSE)","v":0},null,28,{"$f":"VLOOKUP($I14,'１１月集金一覧'!$A$4:$H$44,J$2,FALSE)","v":0},{"$f":"VLOOKUP($I14,'１１月集金一覧'!$A$4:$H$44,K$2,FALSE)","v":0},{"$f":"VLOOKUP($I14,'１１月集金一覧'!$A$4:$H$44,L$2,FALSE)","v":0},{"$f":"VLOOKUP($I14,'１１月集金一覧'!$A$4:$H$44,M$2,FALSE)","v":0},{"$f":"VLOOKUP($I14,'１１月集金一覧'!$A$4:$H$44,N$2,FALSE)","v":0},{"$f":"VLOOKUP($I14,'１１月集金一覧'!$A$4:$H$44,O$2,FALSE)","v":0}]
["番号",{"$f":"IF('１１月集金一覧'!C$4=\"\",\"\",'１１月集金一覧'!C$4)","v":""},{"$f":"IF('１１月集金一覧'!D$4=\"\",\"\",'１１月集金一覧'!D$4)","v":""},{"$f":"IF('１１月集金一覧'!E$4=\"\",\"\",'１１月集金一覧'!E$4)","v":""},{"$f":"IF('１１月集金一覧'!F$4=\"\",\"\",'１１月集金一覧'!F$4)","v":""},{"$f":"IF('１１月集金一覧'!G$4=\"\",\"\",'１１月集金一覧'!G$4)","v":""},"個人計",null,"番号",{"$f":"IF('１１月集金一覧'!C$4=\"\",\"\",'１１月集金一覧'!C$4)","v":""},{"$f":"IF('１１月集金一覧'!D$4=\"\",\"\",'１１月集金一覧'!D$4)","v":""},{"$f":"IF('１１月集金一覧'!E$4=\"\",\"\",'１１月集金一覧'!E$4)","v":""},{"$f":"IF('１１月集金一覧'!F$4=\"\",\"\",'１１月集金一覧'!F$4)","v":""},{"$f":"IF('１１月集金一覧'!G$4=\"\",\"\",'１１月集金一覧'!G$4)","v":""},"個人計"]
[7,{"$f":"VLOOKUP($A16,'１１月集金一覧'!$A$4:$H$44,B$2,FALSE)","v":0},{"$f":"VLOOKUP($A16,'１１月集金一覧'!$A$4:$H$44,C$2,FALSE)","v":0},{"$f":"VLOOKUP($A16,'１１月集金一覧'!$A$4:$H$44,D$2,FALSE)","v":0},{"$f":"VLOOKUP($A16,'１１月集金一覧'!$A$4:$H$44,E$2,FALSE)","v":0},{"$f":"VLOOKUP($A16,'１１月集金一覧'!$A$4:$H$44,F$2,FALSE)","v":0},{"$f":"VLOOKUP($A16,'１１月集金一覧'!$A$4:$H$44,G$2,FALSE)","v":0},null,29,{"$f":"VLOOKUP($I16,'１１月集金一覧'!$A$4:$H$44,J$2,FALSE)","v":0},{"$f":"VLOOKUP($I16,'１１月集金一覧'!$A$4:$H$44,K$2,FALSE)","v":0},{"$f":"VLOOKUP($I16,'１１月集金一覧'!$A$4:$H$44,L$2,FALSE)","v":0},{"$f":"VLOOKUP($I16,'１１月集金一覧'!$A$4:$H$44,M$2,FALSE)","v":0},{"$f":"VLOOKUP($I16,'１１月集金一覧'!$A$4:$H$44,N$2,FALSE)","v":0},{"$f":"VLOOKUP($I16,'１１月集金一覧'!$A$4:$H$44,O$2,FALSE)","v":0}]
["番号",{"$f":"IF('１１月集金一覧'!C$4=\"\",\"\",'１１月集金一覧'!C$4)","v":""},{"$f":"IF('１１月集金一覧'!D$4=\"\",\"\",'１１月集金一覧'!D$4)","v":""},{"$f":"IF('１１月集金一覧'!E$4=\"\",\"\",'１１月集金一覧'!E$4)","v":""},{"$f":"IF('１１月集金一覧'!F$4=\"\",\"\",'１１月集金一覧'!F$4)","v":""},{"$f":"IF('１１月集金一覧'!G$4=\"\",\"\",'１１月集金一覧'!G$4)","v":""},"個人計",null,"番号",{"$f":"IF('１１月集金一覧'!C$4=\"\",\"\",'１１月集金一覧'!C$4)","v":""},{"$f":"IF('１１月集金一覧'!D$4=\"\",\"\",'１１月集金一覧'!D$4)","v":""},{"$f":"IF('１１月集金一覧'!E$4=\"\",\"\",'１１月集金一覧'!E$4)","v":""},{"$f":"IF('１１月集金一覧'!F$4=\"\",\"\",'１１月集金一覧'!F$4)","v":""},{"$f":"IF('１１月集金一覧'!G$4=\"\",\"\",'１１月集金一覧'!G$4)","v":""},"個人計"]
[8,{"$f":"VLOOKUP($A18,'１１月集金一覧'!$A$4:$H$44,B$2,FALSE)","v":0},{"$f":"VLOOKUP($A18,'１１月集金一覧'!$A$4:$H$44,C$2,FALSE)","v":0},{"$f":"VLOOKUP($A18,'１１月集金一覧'!$A$4:$H$44,D$2,FALSE)","v":0},{"$f":"VLOOKUP($A18,'１１月集金一覧'!$A$4:$H$44,E$2,FALSE)","v":0},{"$f":"VLOOKUP($A18,'１１月集金一覧'!$A$4:$H$44,F$2,FALSE)","v":0},{"$f":"VLOOKUP($A18,'１１月集金一覧'!$A$4:$H$44,G$2,FALSE)","v":0},null,30,{"$f":"VLOOKUP($I18,'１１月集金一覧'!$A$4:$H$44,J$2,FALSE)","v":0},{"$f":"VLOOKUP($I18,'１１月集金一覧'!$A$4:$H$44,K$2,FALSE)","v":0},{"$f":"VLOOKUP($I18,'１１月集金一覧'!$A$4:$H$44,L$2,FALSE)","v":0},{"$f":"VLOOKUP($I18,'１１月集金一覧'!$A$4:$H$44,M$2,FALSE)","v":0},{"$f":"VLOOKUP($I18,'１１月集金一覧'!$A$4:$H$44,N$2,FALSE)","v":0},{"$f":"VLOOKUP($I18,'１１月集金一覧'!$A$4:$H$44,O$2,FALSE)","v":0}]
["番号",{"$f":"IF('１１月集金一覧'!C$4=\"\",\"\",'１１月集金一覧'!C$4)","v":""},{"$f":"IF('１１月集金一覧'!D$4=\"\",\"\",'１１月集金一覧'!D$4)","v":""},{"$f":"IF('１１月集金一覧'!E$4=\"\",\"\",'１１月集金一覧'!E$4)","v":""},{"$f":"IF('１１月集金一覧'!F$4=\"\",\"\",'１１月集金一覧'!F$4)","v":""},{"$f":"IF('１１月集金一覧'!G$4=\"\",\"\",'１１月集金一覧'!G$4)","v":""},"個人計",null,"番号",{"$f":"IF('１１月集金一覧'!C$4=\"\",\"\",'１１月集金一覧'!C$4)","v":""},{"$f":"IF('１１月集金一覧'!D$4=\"\",\"\",'１１月集金一覧'!D$4)","v":""},{"$f":"IF('１１月集金一覧'!E$4=\"\",\"\",'１１月集金一覧'!E$4)","v":""},{"$f":"IF('１１月集金一覧'!F$4=\"\",\"\",'１１月集金一覧'!F$4)","v":""},{"$f":"IF('１１月集金一覧'!G$4=\"\",\"\",'１１月集金一覧'!G$4)","v":""},"個人計"]
[9,{"$f":"VLOOKUP($A20,'１１月集金一覧'!$A$4:$H$44,B$2,FALSE)","v":0},{"$f":"VLOOKUP($A20,'１１月集金一覧'!$A$4:$H$44,C$2,FALSE)","v":0},{"$f":"VLOOKUP($A20,'１１月集金一覧'!$A$4:$H$44,D$2,FALSE)","v":0},{"$f":"VLOOKUP($A20,'１１月集金一覧'!$A$4:$H$44,E$2,FALSE)","v":0},{"$f":"VLOOKUP($A20,'１１月集金一覧'!$A$4:$H$44,F$2,FALSE)","v":0},{"$f":"VLOOKUP($A20,'１１月集金一覧'!$A$4:$H$44,G$2,FALSE)","v":0},null,31,{"$f":"VLOOKUP($I20,'１１月集金一覧'!$A$4:$H$44,J$2,FALSE)","v":0},{"$f":"VLOOKUP($I20,'１１月集金一覧'!$A$4:$H$44,K$2,FALSE)","v":0},{"$f":"VLOOKUP($I20,'１１月集金一覧'!$A$4:$H$44,L$2,FALSE)","v":0},{"$f":"VLOOKUP($I20,'１１月集金一覧'!$A$4:$H$44,M$2,FALSE)","v":0},{"$f":"VLOOKUP($I20,'１１月集金一覧'!$A$4:$H$44,N$2,FALSE)","v":0},{"$f":"VLOOKUP($I20,'１１月集金一覧'!$A$4:$H$44,O$2,FALSE)","v":0}]
["番号",{"$f":"IF('１１月集金一覧'!C$4=\"\",\"\",'１１月集金一覧'!C$4)","v":""},{"$f":"IF('１１月集金一覧'!D$4=\"\",\"\",'１１月集金一覧'!D$4)","v":""},{"$f":"IF('１１月集金一覧'!E$4=\"\",\"\",'１１月集金一覧'!E$4)","v":""},{"$f":"IF('１１月集金一覧'!F$4=\"\",\"\",'１１月集金一覧'!F$4)","v":""},{"$f":"IF('１１月集金一覧'!G$4=\"\",\"\",'１１月集金一覧'!G$4)","v":""},"個人計",null,"番号",{"$f":"IF('１１月集金一覧'!C$4=\"\",\"\",'１１月集金一覧'!C$4)","v":""},{"$f":"IF('１１月集金一覧'!D$4=\"\",\"\",'１１月集金一覧'!D$4)","v":""},{"$f":"IF('１１月集金一覧'!E$4=\"\",\"\",'１１月集金一覧'!E$4)","v":""},{"$f":"IF('１１月集金一覧'!F$4=\"\",\"\",'１１月集金一覧'!F$4)","v":""},{"$f":"IF('１１月集金一覧'!G$4=\"\",\"\",'１１月集金一覧'!G$4)","v":""},"個人計"]
[10,{"$f":"VLOOKUP($A22,'１１月集金一覧'!$A$4:$H$44,B$2,FALSE)","v":0},{"$f":"VLOOKUP($A22,'１１月集金一覧'!$A$4:$H$44,C$2,FALSE)","v":0},{"$f":"VLOOKUP($A22,'１１月集金一覧'!$A$4:$H$44,D$2,FALSE)","v":0},{"$f":"VLOOKUP($A22,'１１月集金一覧'!$A$4:$H$44,E$2,FALSE)","v":0},{"$f":"VLOOKUP($A22,'１１月集金一覧'!$A$4:$H$44,F$2,FALSE)","v":0},{"$f":"VLOOKUP($A22,'１１月集金一覧'!$A$4:$H$44,G$2,FALSE)","v":0},null,32,{"$f":"VLOOKUP($I22,'１１月集金一覧'!$A$4:$H$44,J$2,FALSE)","v":0},{"$f":"VLOOKUP($I22,'１１月集金一覧'!$A$4:$H$44,K$2,FALSE)","v":0},{"$f":"VLOOKUP($I22,'１１月集金一覧'!$A$4:$H$44,L$2,FALSE)","v":0},{"$f":"VLOOKUP($I22,'１１月集金一覧'!$A$4:$H$44,M$2,FALSE)","v":0},{"$f":"VLOOKUP($I22,'１１月集金一覧'!$A$4:$H$44,N$2,FALSE)","v":0},{"$f":"VLOOKUP($I22,'１１月集金一覧'!$A$4:$H$44,O$2,FALSE)","v":0}]
["番号",{"$f":"IF('１１月集金一覧'!C$4=\"\",\"\",'１１月集金一覧'!C$4)","v":""},{"$f":"IF('１１月集金一覧'!D$4=\"\",\"\",'１１月集金一覧'!D$4)","v":""},{"$f":"IF('１１月集金一覧'!E$4=\"\",\"\",'１１月集金一覧'!E$4)","v":""},{"$f":"IF('１１月集金一覧'!F$4=\"\",\"\",'１１月集金一覧'!F$4)","v":""},{"$f":"IF('１１月集金一覧'!G$4=\"\",\"\",'１１月集金一覧'!G$4)","v":""},"個人計",null,"番号",{"$f":"IF('１１月集金一覧'!C$4=\"\",\"\",'１１月集金一覧'!C$4)","v":""},{"$f":"IF('１１月集金一覧'!D$4=\"\",\"\",'１１月集金一覧'!D$4)","v":""},{"$f":"IF('１１月集金一覧'!E$4=\"\",\"\",'１１月集金一覧'!E$4)","v":""},{"$f":"IF('１１月集金一覧'!F$4=\"\",\"\",'１１月集金一覧'!F$4)","v":""},{"$f":"IF('１１月集金一覧'!G$4=\"\",\"\",'１１月集金一覧'!G$4)","v":""},"個人計"]
[11,{"$f":"VLOOKUP($A24,'１１月集金一覧'!$A$4:$H$44,B$2,FALSE)","v":0},{"$f":"VLOOKUP($A24,'１１月集金一覧'!$A$4:$H$44,C$2,FALSE)","v":0},{"$f":"VLOOKUP($A24,'１１月集金一覧'!$A$4:$H$44,D$2,FALSE)","v":0},{"$f":"VLOOKUP($A24,'１１月集金一覧'!$A$4:$H$44,E$2,FALSE)","v":0},{"$f":"VLOOKUP($A24,'１１月集金一覧'!$A$4:$H$44,F$2,FALSE)","v":0},{"$f":"VLOOKUP($A24,'１１月集金一覧'!$A$4:$H$44,G$2,FALSE)","v":0},null,33,{"$f":"VLOOKUP($I24,'１１月集金一覧'!$A$4:$H$44,J$2,FALSE)","v":0},{"$f":"VLOOKUP($I24,'１１月集金一覧'!$A$4:$H$44,K$2,FALSE)","v":0},{"$f":"VLOOKUP($I24,'１１月集金一覧'!$A$4:$H$44,L$2,FALSE)","v":0},{"$f":"VLOOKUP($I24,'１１月集金一覧'!$A$4:$H$44,M$2,FALSE)","v":0},{"$f":"VLOOKUP($I24,'１１月集金一覧'!$A$4:$H$44,N$2,FALSE)","v":0},{"$f":"VLOOKUP($I24,'１１月集金一覧'!$A$4:$H$44,O$2,FALSE)","v":0}]
["番号",{"$f":"IF('１１月集金一覧'!C$4=\"\",\"\",'１１月集金一覧'!C$4)","v":""},{"$f":"IF('１１月集金一覧'!D$4=\"\",\"\",'１１月集金一覧'!D$4)","v":""},{"$f":"IF('１１月集金一覧'!E$4=\"\",\"\",'１１月集金一覧'!E$4)","v":""},{"$f":"IF('１１月集金一覧'!F$4=\"\",\"\",'１１月集金一覧'!F$4)","v":""},{"$f":"IF('１１月集金一覧'!G$4=\"\",\"\",'１１月集金一覧'!G$4)","v":""},"個人計",null,"番号",{"$f":"IF('１１月集金一覧'!C$4=\"\",\"\",'１１月集金一覧'!C$4)","v":""},{"$f":"IF('１１月集金一覧'!D$4=\"\",\"\",'１１月集金一覧'!D$4)","v":""},{"$f":"IF('１１月集金一覧'!E$4=\"\",\"\",'１１月集金一覧'!E$4)","v":""},{"$f":"IF('１１月集金一覧'!F$4=\"\",\"\",'１１月集金一覧'!F$4)","v":""},{"$f":"IF('１１月集金一覧'!G$4=\"\",\"\",'１１月集金一覧'!G$4)","v":""},"個人計"]
[12,{"$f":"VLOOKUP($A26,'１１月集金一覧'!$A$4:$H$44,B$2,FALSE)","v":0},{"$f":"VLOOKUP($A26,'１１月集金一覧'!$A$4:$H$44,C$2,FALSE)","v":0},{"$f":"VLOOKUP($A26,'１１月集金一覧'!$A$4:$H$44,D$2,FALSE)","v":0},{"$f":"VLOOKUP($A26,'１１月集金一覧'!$A$4:$H$44,E$2,FALSE)","v":0},{"$f":"VLOOKUP($A26,'１１月集金一覧'!$A$4:$H$44,F$2,FALSE)","v":0},{"$f":"VLOOKUP($A26,'１１月集金一覧'!$A$4:$H$44,G$2,FALSE)","v":0},null,34,{"$f":"VLOOKUP($I26,'１１月集金一覧'!$A$4:$H$44,J$2,FALSE)","v":0},{"$f":"VLOOKUP($I26,'１１月集金一覧'!$A$4:$H$44,K$2,FALSE)","v":0},{"$f":"VLOOKUP($I26,'１１月集金一覧'!$A$4:$H$44,L$2,FALSE)","v":0},{"$f":"VLOOKUP($I26,'１１月集金一覧'!$A$4:$H$44,M$2,FALSE)","v":0},{"$f":"VLOOKUP($I26,'１１月集金一覧'!$A$4:$H$44,N$2,FALSE)","v":0},{"$f":"VLOOKUP($I26,'１１月集金一覧'!$A$4:$H$44,O$2,FALSE)","v":0}]
["番号",{"$f":"IF('１１月集金一覧'!C$4=\"\",\"\",'１１月集金一覧'!C$4)","v":""},{"$f":"IF('１１月集金一覧'!D$4=\"\",\"\",'１１月集金一覧'!D$4)","v":""},{"$f":"IF('１１月集金一覧'!E$4=\"\",\"\",'１１月集金一覧'!E$4)","v":""},{"$f":"IF('１１月集金一覧'!F$4=\"\",\"\",'１１月集金一覧'!F$4)","v":""},{"$f":"IF('１１月集金一覧'!G$4=\"\",\"\",'１１月集金一覧'!G$4)","v":""},"個人計",null,"番号",{"$f":"IF('１１月集金一覧'!C$4=\"\",\"\",'１１月集金一覧'!C$4)","v":""},{"$f":"IF('１１月集金一覧'!D$4=\"\",\"\",'１１月集金一覧'!D$4)","v":""},{"$f":"IF('１１月集金一覧'!E$4=\"\",\"\",'１１月集金一覧'!E$4)","v":""},{"$f":"IF('１１月集金一覧'!F$4=\"\",\"\",'１１月集金一覧'!F$4)","v":""},{"$f":"IF('１１月集金一覧'!G$4=\"\",\"\",'１１月集金一覧'!G$4)","v":""},"個人計"]
[13,{"$f":"VLOOKUP($A28,'１１月集金一覧'!$A$4:$H$44,B$2,FALSE)","v":0},{"$f":"VLOOKUP($A28,'１１月集金一覧'!$A$4:$H$44,C$2,FALSE)","v":0},{"$f":"VLOOKUP($A28,'１１月集金一覧'!$A$4:$H$44,D$2,FALSE)","v":0},{"$f":"VLOOKUP($A28,'１１月集金一覧'!$A$4:$H$44,E$2,FALSE)","v":0},{"$f":"VLOOKUP($A28,'１１月集金一覧'!$A$4:$H$44,F$2,FALSE)","v":0},{"$f":"VLOOKUP($A28,'１１月集金一覧'!$A$4:$H$44,G$2,FALSE)","v":0},null,35,{"$f":"VLOOKUP($I28,'１１月集金一覧'!$A$4:$H$44,J$2,FALSE)","v":0},{"$f":"VLOOKUP($I28,'１１月集金一覧'!$A$4:$H$44,K$2,FALSE)","v":0},{"$f":"VLOOKUP($I28,'１１月集金一覧'!$A$4:$H$44,L$2,FALSE)","v":0},{"$f":"VLOOKUP($I28,'１１月集金一覧'!$A$4:$H$44,M$2,FALSE)","v":0},{"$f":"VLOOKUP($I28,'１１月集金一覧'!$A$4:$H$44,N$2,FALSE)","v":0},{"$f":"VLOOKUP($I28,'１１月集金一覧'!$A$4:$H$44,O$2,FALSE)","v":0}]
["番号",{"$f":"IF('１１月集金一覧'!C$4=\"\",\"\",'１１月集金一覧'!C$4)","v":""},{"$f":"IF('１１月集金一覧'!D$4=\"\",\"\",'１１月集金一覧'!D$4)","v":""},{"$f":"IF('１１月集金一覧'!E$4=\"\",\"\",'１１月集金一覧'!E$4)","v":""},{"$f":"IF('１１月集金一覧'!F$4=\"\",\"\",'１１月集金一覧'!F$4)","v":""},{"$f":"IF('１１月集金一覧'!G$4=\"\",\"\",'１１月集金一覧'!G$4)","v":""},"個人計",null,"番号",{"$f":"IF('１１月集金一覧'!C$4=\"\",\"\",'１１月集金一覧'!C$4)","v":""},{"$f":"IF('１１月集金一覧'!D$4=\"\",\"\",'１１月集金一覧'!D$4)","v":""},{"$f":"IF('１１月集金一覧'!E$4=\"\",\"\",'１１月集金一覧'!E$4)","v":""},{"$f":"IF('１１月集金一覧'!F$4=\"\",\"\",'１１月集金一覧'!F$4)","v":""},{"$f":"IF('１１月集金一覧'!G$4=\"\",\"\",'１１月集金一覧'!G$4)","v":""},"個人計"]
[14,{"$f":"VLOOKUP($A30,'１１月集金一覧'!$A$4:$H$44,B$2,FALSE)","v":0},{"$f":"VLOOKUP($A30,'１１月集金一覧'!$A$4:$H$44,C$2,FALSE)","v":0},{"$f":"VLOOKUP($A30,'１１月集金一覧'!$A$4:$H$44,D$2,FALSE)","v":0},{"$f":"VLOOKUP($A30,'１１月集金一覧'!$A$4:$H$44,E$2,FALSE)","v":0},{"$f":"VLOOKUP($A30,'１１月集金一覧'!$A$4:$H$44,F$2,FALSE)","v":0},{"$f":"VLOOKUP($A30,'１１月集金一覧'!$A$4:$H$44,G$2,FALSE)","v":0},null,36,{"$f":"VLOOKUP($I30,'１１月集金一覧'!$A$4:$H$44,J$2,FALSE)","v":0},{"$f":"VLOOKUP($I30,'１１月集金一覧'!$A$4:$H$44,K$2,FALSE)","v":0},{"$f":"VLOOKUP($I30,'１１月集金一覧'!$A$4:$H$44,L$2,FALSE)","v":0},{"$f":"VLOOKUP($I30,'１１月集金一覧'!$A$4:$H$44,M$2,FALSE)","v":0},{"$f":"VLOOKUP($I30,'１１月集金一覧'!$A$4:$H$44,N$2,FALSE)","v":0},{"$f":"VLOOKUP($I30,'１１月集金一覧'!$A$4:$H$44,O$2,FALSE)","v":0}]
["番号",{"$f":"IF('１１月集金一覧'!C$4=\"\",\"\",'１１月集金一覧'!C$4)","v":""},{"$f":"IF('１１月集金一覧'!D$4=\"\",\"\",'１１月集金一覧'!D$4)","v":""},{"$f":"IF('１１月集金一覧'!E$4=\"\",\"\",'１１月集金一覧'!E$4)","v":""},{"$f":"IF('１１月集金一覧'!F$4=\"\",\"\",'１１月集金一覧'!F$4)","v":""},{"$f":"IF('１１月集金一覧'!G$4=\"\",\"\",'１１月集金一覧'!G$4)","v":""},"個人計",null,"番号",{"$f":"IF('１１月集金一覧'!C$4=\"\",\"\",'１１月集金一覧'!C$4)","v":""},{"$f":"IF('１１月集金一覧'!D$4=\"\",\"\",'１１月集金一覧'!D$4)","v":""},{"$f":"IF('１１月集金一覧'!E$4=\"\",\"\",'１１月集金一覧'!E$4)","v":""},{"$f":"IF('１１月集金一覧'!F$4=\"\",\"\",'１１月集金一覧'!F$4)","v":""},{"$f":"IF('１１月集金一覧'!G$4=\"\",\"\",'１１月集金一覧'!G$4)","v":""},"個人計"]
[15,{"$f":"VLOOKUP($A32,'１１月集金一覧'!$A$4:$H$44,B$2,FALSE)","v":0},{"$f":"VLOOKUP($A32,'１１月集金一覧'!$A$4:$H$44,C$2,FALSE)","v":0},{"$f":"VLOOKUP($A32,'１１月集金一覧'!$A$4:$H$44,D$2,FALSE)","v":0},{"$f":"VLOOKUP($A32,'１１月集金一覧'!$A$4:$H$44,E$2,FALSE)","v":0},{"$f":"VLOOKUP($A32,'１１月集金一覧'!$A$4:$H$44,F$2,FALSE)","v":0},{"$f":"VLOOKUP($A32,'１１月集金一覧'!$A$4:$H$44,G$2,FALSE)","v":0},null,37,{"$f":"VLOOKUP($I32,'１１月集金一覧'!$A$4:$H$44,J$2,FALSE)","v":0},{"$f":"VLOOKUP($I32,'１１月集金一覧'!$A$4:$H$44,K$2,FALSE)","v":0},{"$f":"VLOOKUP($I32,'１１月集金一覧'!$A$4:$H$44,L$2,FALSE)","v":0},{"$f":"VLOOKUP($I32,'１１月集金一覧'!$A$4:$H$44,M$2,FALSE)","v":0},{"$f":"VLOOKUP($I32,'１１月集金一覧'!$A$4:$H$44,N$2,FALSE)","v":0},{"$f":"VLOOKUP($I32,'１１月集金一覧'!$A$4:$H$44,O$2,FALSE)","v":0}]
["番号",{"$f":"IF('１１月集金一覧'!C$4=\"\",\"\",'１１月集金一覧'!C$4)","v":""},{"$f":"IF('１１月集金一覧'!D$4=\"\",\"\",'１１月集金一覧'!D$4)","v":""},{"$f":"IF('１１月集金一覧'!E$4=\"\",\"\",'１１月集金一覧'!E$4)","v":""},{"$f":"IF('１１月集金一覧'!F$4=\"\",\"\",'１１月集金一覧'!F$4)","v":""},{"$f":"IF('１１月集金一覧'!G$4=\"\",\"\",'１１月集金一覧'!G$4)","v":""},"個人計",null,"番号",{"$f":"IF('１１月集金一覧'!C$4=\"\",\"\",'１１月集金一覧'!C$4)","v":""},{"$f":"IF('１１月集金一覧'!D$4=\"\",\"\",'１１月集金一覧'!D$4)","v":""},{"$f":"IF('１１月集金一覧'!E$4=\"\",\"\",'１１月集金一覧'!E$4)","v":""},{"$f":"IF('１１月集金一覧'!F$4=\"\",\"\",'１１月集金一覧'!F$4)","v":""},{"$f":"IF('１１月集金一覧'!G$4=\"\",\"\",'１１月集金一覧'!G$4)","v":""},"個人計"]
[16,{"$f":"VLOOKUP($A34,'１１月集金一覧'!$A$4:$H$44,B$2,FALSE)","v":0},{"$f":"VLOOKUP($A34,'１１月集金一覧'!$A$4:$H$44,C$2,FALSE)","v":0},{"$f":"VLOOKUP($A34,'１１月集金一覧'!$A$4:$H$44,D$2,FALSE)","v":0},{"$f":"VLOOKUP($A34,'１１月集金一覧'!$A$4:$H$44,E$2,FALSE)","v":0},{"$f":"VLOOKUP($A34,'１１月集金一覧'!$A$4:$H$44,F$2,FALSE)","v":0},{"$f":"VLOOKUP($A34,'１１月集金一覧'!$A$4:$H$44,G$2,FALSE)","v":0},null,38,{"$f":"VLOOKUP($I34,'１１月集金一覧'!$A$4:$H$44,J$2,FALSE)","v":0},{"$f":"VLOOKUP($I34,'１１月集金一覧'!$A$4:$H$44,K$2,FALSE)","v":0},{"$f":"VLOOKUP($I34,'１１月集金一覧'!$A$4:$H$44,L$2,FALSE)","v":0},{"$f":"VLOOKUP($I34,'１１月集金一覧'!$A$4:$H$44,M$2,FALSE)","v":0},{"$f":"VLOOKUP($I34,'１１月集金一覧'!$A$4:$H$44,N$2,FALSE)","v":0},{"$f":"VLOOKUP($I34,'１１月集金一覧'!$A$4:$H$44,O$2,FALSE)","v":0}]
["番号",{"$f":"IF('１１月集金一覧'!C$4=\"\",\"\",'１１月集金一覧'!C$4)","v":""},{"$f":"IF('１１月集金一覧'!D$4=\"\",\"\",'１１月集金一覧'!D$4)","v":""},{"$f":"IF('１１月集金一覧'!E$4=\"\",\"\",'１１月集金一覧'!E$4)","v":""},{"$f":"IF('１１月集金一覧'!F$4=\"\",\"\",'１１月集金一覧'!F$4)","v":""},{"$f":"IF('１１月集金一覧'!G$4=\"\",\"\",'１１月集金一覧'!G$4)","v":""},"個人計",null,"番号",{"$f":"IF('１１月集金一覧'!C$4=\"\",\"\",'１１月集金一覧'!C$4)","v":""},{"$f":"IF('１１月集金一覧'!D$4=\"\",\"\",'１１月集金一覧'!D$4)","v":""},{"$f":"IF('１１月集金一覧'!E$4=\"\",\"\",'１１月集金一覧'!E$4)","v":""},{"$f":"IF('１１月集金一覧'!F$4=\"\",\"\",'１１月集金一覧'!F$4)","v":""},{"$f":"IF('１１月集金一覧'!G$4=\"\",\"\",'１１月集金一覧'!G$4)","v":""},"個人計"]
[17,{"$f":"VLOOKUP($A36,'１１月集金一覧'!$A$4:$H$44,B$2,FALSE)","v":0},{"$f":"VLOOKUP($A36,'１１月集金一覧'!$A$4:$H$44,C$2,FALSE)","v":0},{"$f":"VLOOKUP($A36,'１１月集金一覧'!$A$4:$H$44,D$2,FALSE)","v":0},{"$f":"VLOOKUP($A36,'１１月集金一覧'!$A$4:$H$44,E$2,FALSE)","v":0},{"$f":"VLOOKUP($A36,'１１月集金一覧'!$A$4:$H$44,F$2,FALSE)","v":0},{"$f":"VLOOKUP($A36,'１１月集金一覧'!$A$4:$H$44,G$2,FALSE)","v":0},null,39,{"$f":"VLOOKUP($I36,'１１月集金一覧'!$A$4:$H$44,J$2,FALSE)","v":0},{"$f":"VLOOKUP($I36,'１１月集金一覧'!$A$4:$H$44,K$2,FALSE)","v":0},{"$f":"VLOOKUP($I36,'１１月集金一覧'!$A$4:$H$44,L$2,FALSE)","v":0},{"$f":"VLOOKUP($I36,'１１月集金一覧'!$A$4:$H$44,M$2,FALSE)","v":0},{"$f":"VLOOKUP($I36,'１１月集金一覧'!$A$4:$H$44,N$2,FALSE)","v":0},{"$f":"VLOOKUP($I36,'１１月集金一覧'!$A$4:$H$44,O$2,FALSE)","v":0}]
["番号",{"$f":"IF('１１月集金一覧'!C$4=\"\",\"\",'１１月集金一覧'!C$4)","v":""},{"$f":"IF('１１月集金一覧'!D$4=\"\",\"\",'１１月集金一覧'!D$4)","v":""},{"$f":"IF('１１月集金一覧'!E$4=\"\",\"\",'１１月集金一覧'!E$4)","v":""},{"$f":"IF('１１月集金一覧'!F$4=\"\",\"\",'１１月集金一覧'!F$4)","v":""},{"$f":"IF('１１月集金一覧'!G$4=\"\",\"\",'１１月集金一覧'!G$4)","v":""},"個人計",null,"番号",{"$f":"IF('１１月集金一覧'!C$4=\"\",\"\",'１１月集金一覧'!C$4)","v":""},{"$f":"IF('１１月集金一覧'!D$4=\"\",\"\",'１１月集金一覧'!D$4)","v":""},{"$f":"IF('１１月集金一覧'!E$4=\"\",\"\",'１１月集金一覧'!E$4)","v":""},{"$f":"IF('１１月集金一覧'!F$4=\"\",\"\",'１１月集金一覧'!F$4)","v":""},{"$f":"IF('１１月集金一覧'!G$4=\"\",\"\",'１１月集金一覧'!G$4)","v":""},"個人計"]
[18,{"$f":"VLOOKUP($A38,'１１月集金一覧'!$A$4:$H$44,B$2,FALSE)","v":0},{"$f":"VLOOKUP($A38,'１１月集金一覧'!$A$4:$H$44,C$2,FALSE)","v":0},{"$f":"VLOOKUP($A38,'１１月集金一覧'!$A$4:$H$44,D$2,FALSE)","v":0},{"$f":"VLOOKUP($A38,'１１月集金一覧'!$A$4:$H$44,E$2,FALSE)","v":0},{"$f":"VLOOKUP($A38,'１１月集金一覧'!$A$4:$H$44,F$2,FALSE)","v":0},{"$f":"VLOOKUP($A38,'１１月集金一覧'!$A$4:$H$44,G$2,FALSE)","v":0},null,40,{"$f":"VLOOKUP($I38,'１１月集金一覧'!$A$4:$H$44,J$2,FALSE)","v":0},{"$f":"VLOOKUP($I38,'１１月集金一覧'!$A$4:$H$44,K$2,FALSE)","v":0},{"$f":"VLOOKUP($I38,'１１月集金一覧'!$A$4:$H$44,L$2,FALSE)","v":0},{"$f":"VLOOKUP($I38,'１１月集金一覧'!$A$4:$H$44,M$2,FALSE)","v":0},{"$f":"VLOOKUP($I38,'１１月集金一覧'!$A$4:$H$44,N$2,FALSE)","v":0},{"$f":"VLOOKUP($I38,'１１月集金一覧'!$A$4:$H$44,O$2,FALSE)","v":0}]
["番号",{"$f":"IF('１１月集金一覧'!C$4=\"\",\"\",'１１月集金一覧'!C$4)","v":""},{"$f":"IF('１１月集金一覧'!D$4=\"\",\"\",'１１月集金一覧'!D$4)","v":""},{"$f":"IF('１１月集金一覧'!E$4=\"\",\"\",'１１月集金一覧'!E$4)","v":""},{"$f":"IF('１１月集金一覧'!F$4=\"\",\"\",'１１月集金一覧'!F$4)","v":""},{"$f":"IF('１１月集金一覧'!G$4=\"\",\"\",'１１月集金一覧'!G$4)","v":""},"個人計"]
[19,{"$f":"VLOOKUP($A40,'１１月集金一覧'!$A$4:$H$44,B$2,FALSE)","v":0},{"$f":"VLOOKUP($A40,'１１月集金一覧'!$A$4:$H$44,C$2,FALSE)","v":0},{"$f":"VLOOKUP($A40,'１１月集金一覧'!$A$4:$H$44,D$2,FALSE)","v":0},{"$f":"VLOOKUP($A40,'１１月集金一覧'!$A$4:$H$44,E$2,FALSE)","v":0},{"$f":"VLOOKUP($A40,'１１月集金一覧'!$A$4:$H$44,F$2,FALSE)","v":0},{"$f":"VLOOKUP($A40,'１１月集金一覧'!$A$4:$H$44,G$2,FALSE)","v":0}]
["番号",{"$f":"IF('１１月集金一覧'!C$4=\"\",\"\",'１１月集金一覧'!C$4)","v":""},{"$f":"IF('１１月集金一覧'!D$4=\"\",\"\",'１１月集金一覧'!D$4)","v":""},{"$f":"IF('１１月集金一覧'!E$4=\"\",\"\",'１１月集金一覧'!E$4)","v":""},{"$f":"IF('１１月集金一覧'!F$4=\"\",\"\",'１１月集金一覧'!F$4)","v":""},{"$f":"IF('１１月集金一覧'!G$4=\"\",\"\",'１１月集金一覧'!G$4)","v":""},"個人計"]
[20,{"$f":"VLOOKUP($A42,'１１月集金一覧'!$A$4:$H$44,B$2,FALSE)","v":0},{"$f":"VLOOKUP($A42,'１１月集金一覧'!$A$4:$H$44,C$2,FALSE)","v":0},{"$f":"VLOOKUP($A42,'１１月集金一覧'!$A$4:$H$44,D$2,FALSE)","v":0},{"$f":"VLOOKUP($A42,'１１月集金一覧'!$A$4:$H$44,E$2,FALSE)","v":0},{"$f":"VLOOKUP($A42,'１１月集金一覧'!$A$4:$H$44,F$2,FALSE)","v":0},{"$f":"VLOOKUP($A42,'１１月集金一覧'!$A$4:$H$44,G$2,FALSE)","v":0}]
["番号",{"$f":"IF('１１月集金一覧'!C$4=\"\",\"\",'１１月集金一覧'!C$4)","v":""},{"$f":"IF('１１月集金一覧'!D$4=\"\",\"\",'１１月集金一覧'!D$4)","v":""},{"$f":"IF('１１月集金一覧'!E$4=\"\",\"\",'１１月集金一覧'!E$4)","v":""},{"$f":"IF('１１月集金一覧'!F$4=\"\",\"\",'１１月集金一覧'!F$4)","v":""},{"$f":"IF('１１月集金一覧'!G$4=\"\",\"\",'１１月集金一覧'!G$4)","v":""},"個人計"]
[21,{"$f":"VLOOKUP($A44,'１１月集金一覧'!$A$4:$H$44,B$2,FALSE)","v":0},{"$f":"VLOOKUP($A44,'１１月集金一覧'!$A$4:$H$44,C$2,FALSE)","v":0},{"$f":"VLOOKUP($A44,'１１月集金一覧'!$A$4:$H$44,D$2,FALSE)","v":0},{"$f":"VLOOKUP($A44,'１１月集金一覧'!$A$4:$H$44,E$2,FALSE)","v":0},{"$f":"VLOOKUP($A44,'１１月集金一覧'!$A$4:$H$44,F$2,FALSE)","v":0},{"$f":"VLOOKUP($A44,'１１月集金一覧'!$A$4:$H$44,G$2,FALSE)","v":0}]
["番号",{"$f":"IF('１１月集金一覧'!C$4=\"\",\"\",'１１月集金一覧'!C$4)","v":""},{"$f":"IF('１１月集金一覧'!D$4=\"\",\"\",'１１月集金一覧'!D$4)","v":""},{"$f":"IF('１１月集金一覧'!E$4=\"\",\"\",'１１月集金一覧'!E$4)","v":""},{"$f":"IF('１１月集金一覧'!F$4=\"\",\"\",'１１月集金一覧'!F$4)","v":""},{"$f":"IF('１１月集金一覧'!G$4=\"\",\"\",'１１月集金一覧'!G$4)","v":""},"個人計"]
[22,{"$f":"VLOOKUP($A46,'１１月集金一覧'!$A$4:$H$44,B$2,FALSE)","v":0},{"$f":"VLOOKUP($A46,'１１月集金一覧'!$A$4:$H$44,C$2,FALSE)","v":0},{"$f":"VLOOKUP($A46,'１１月集金一覧'!$A$4:$H$44,D$2,FALSE)","v":0},{"$f":"VLOOKUP($A46,'１１月集金一覧'!$A$4:$H$44,E$2,FALSE)","v":0},{"$f":"VLOOKUP($A46,'１１月集金一覧'!$A$4:$H$44,F$2,FALSE)","v":0},{"$f":"VLOOKUP($A46,'１１月集金一覧'!$A$4:$H$44,G$2,FALSE)","v":0}]

{"sheet":"12月個票","index":30,"n_rows":46,"n_cols":15,"rows_kept":46,"cut":false,"hidden":false,"merged":[]}
[null,"令和",{"$f":"メイン!D7","v":0},"年度",{"$f":"メイン!C8","v":0},"年",{"$f":"メイン!E8","v":0},"組"]
[1,3,4,5,6,7,8,null,1,3,4,5,6,7,8]
["番号",{"$f":"IF('１２月集金一覧'!C$4=\"\",\"\",'１２月集金一覧'!C$4)","v":""},{"$f":"IF('１２月集金一覧'!$D$4=\"\",\"\",'１２月集金一覧'!D$4)","v":""},{"$f":"IF('１２月集金一覧'!E$4=\"\",\"\",'１２月集金一覧'!E$4)","v":""},{"$f":"IF('１２月集金一覧'!F$4=\"\",\"\",'１２月集金一覧'!F$4)","v":""},{"$f":"IF('１２月集金一覧'!G$4=\"\",\"\",'１２月集金一覧'!G$4)","v":""},"個人計",null,"番号",{"$f":"IF('１２月集金一覧'!C$4=\"\",\"\",'１２月集金一覧'!C$4)","v":""},{"$f":"IF('１２月集金一覧'!D$4=\"\",\"\",'１２月集金一覧'!D$4)","v":""},{"$f":"IF('１２月集金一覧'!E$4=\"\",\"\",'１２月集金一覧'!E$4)","v":""},{"$f":"IF('１２月集金一覧'!F$4=\"\",\"\",'１２月集金一覧'!F$4)","v":""},{"$f":"IF('１２月集金一覧'!G$4=\"\",\"\",'１２月集金一覧'!G$4)","v":""},"個人計"]
[1,{"$f":"VLOOKUP($A4,'１２月集金一覧'!$A$4:$H$44,B$2,FALSE)","v":0},{"$f":"VLOOKUP($A4,'１２月集金一覧'!$A$4:$H$44,C$2,FALSE)","v":0},{"$f":"VLOOKUP($A4,'１２月集金一覧'!$A$4:$H$44,D$2,FALSE)","v":0},{"$f":"VLOOKUP($A4,'１２月集金一覧'!$A$4:$H$44,E$2,FALSE)","v":0},{"$f":"VLOOKUP($A4,'１２月集金一覧'!$A$4:$H$44,F$2,FALSE)","v":0},{"$f":"VLOOKUP($A4,'１２月集金一覧'!$A$4:$H$44,G$2,FALSE)","v":0},null,23,{"$f":"VLOOKUP($I4,'１２月集金一覧'!$A$4:$H$44,J$2,FALSE)","v":0},{"$f":"VLOOKUP($I4,'１２月集金一覧'!$A$4:$H$44,K$2,FALSE)","v":0},{"$f":"VLOOKUP($I4,'１２月集金一覧'!$A$4:$H$44,L$2,FALSE)","v":0},{"$f":"VLOOKUP($I4,'１２月集金一覧'!$A$4:$H$44,M$2,FALSE)","v":0},{"$f":"VLOOKUP($I4,'１２月集金一覧'!$A$4:$H$44,N$2,FALSE)","v":0},{"$f":"VLOOKUP($I4,'１２月集金一覧'!$A$4:$H$44,O$2,FALSE)","v":0}]
["番号",{"$f":"IF('１２月集金一覧'!C$4=\"\",\"\",'１２月集金一覧'!C$4)","v":""},{"$f":"IF('１２月集金一覧'!D$4=\"\",\"\",'１２月集金一覧'!D$4)","v":""},{"$f":"IF('１２月集金一覧'!E$4=\"\",\"\",'１２月集金一覧'!E$4)","v":""},{"$f":"IF('１２月集金一覧'!F$4=\"\",\"\",'１２月集金一覧'!F$4)","v":""},{"$f":"IF('１２月集金一覧'!G$4=\"\",\"\",'１２月集金一覧'!G$4)","v":""},"個人計",null,"番号",{"$f":"IF('１２月集金一覧'!C$4=\"\",\"\",'１２月集金一覧'!C$4)","v":""},{"$f":"IF('１２月集金一覧'!D$4=\"\",\"\",'１２月集金一覧'!D$4)","v":""},{"$f":"IF('１２月集金一覧'!E$4=\"\",\"\",'１２月集金一覧'!E$4)","v":""},{"$f":"IF('１２月集金一覧'!F$4=\"\",\"\",'１２月集金一覧'!F$4)","v":""},{"$f":"IF('１２月集金一覧'!G$4=\"\",\"\",'１２月集金一覧'!G$4)","v":""},"個人計"]
[2,{"$f":"VLOOKUP($A6,'１２月集金一覧'!$A$4:$H$44,B$2,FALSE)","v":0},{"$f":"VLOOKUP($A6,'１２月集金一覧'!$A$4:$H$44,C$2,FALSE)","v":0},{"$f":"VLOOKUP($A6,'１２月集金一覧'!$A$4:$H$44,D$2,FALSE)","v":0},{"$f":"VLOOKUP($A6,'１２月集金一覧'!$A$4:$H$44,E$2,FALSE)","v":0},{"$f":"VLOOKUP($A6,'１２月集金一覧'!$A$4:$H$44,F$2,FALSE)","v":0},{"$f":"VLOOKUP($A6,'１２月集金一覧'!$A$4:$H$44,G$2,FALSE)","v":0},null,24,{"$f":"VLOOKUP($I6,'１２月集金一覧'!$A$4:$H$44,J$2,FALSE)","v":0},{"$f":"VLOOKUP($I6,'１２月集金一覧'!$A$4:$H$44,K$2,FALSE)","v":0},{"$f":"VLOOKUP($I6,'１２月集金一覧'!$A$4:$H$44,L$2,FALSE)","v":0},{"$f":"VLOOKUP($I6,'１２月集金一覧'!$A$4:$H$44,M$2,FALSE)","v":0},{"$f":"VLOOKUP($I6,'１２月集金一覧'!$A$4:$H$44,N$2,FALSE)","v":0},{"$f":"VLOOKUP($I6,'１２月集金一覧'!$A$4:$H$44,O$2,FALSE)","v":0}]
["番号",{"$f":"IF('１２月集金一覧'!C$4=\"\",\"\",'１２月集金一覧'!C$4)","v":""},{"$f":"IF('１２月集金一覧'!D$4=\"\",\"\",'１２月集金一覧'!D$4)","v":""},{"$f":"IF('１２月集金一覧'!E$4=\"\",\"\",'１２月集金一覧'!E$4)","v":""},{"$f":"IF('１２月集金一覧'!F$4=\"\",\"\",'１２月集金一覧'!F$4)","v":""},{"$f":"IF('１２月集金一覧'!G$4=\"\",\"\",'１２月集金一覧'!G$4)","v":""},"個人計",null,"番号",{"$f":"IF('１２月集金一覧'!C$4=\"\",\"\",'１２月集金一覧'!C$4)","v":""},{"$f":"IF('１２月集金一覧'!D$4=\"\",\"\",'１２月集金一覧'!D$4)","v":""},{"$f":"IF('１２月集金一覧'!E$4=\"\",\"\",'１２月集金一覧'!E$4)","v":""},{"$f":"IF('１２月集金一覧'!F$4=\"\",\"\",'１２月集金一覧'!F$4)","v":""},{"$f":"IF('１２月集金一覧'!G$4=\"\",\"\",'１２月集金一覧'!G$4)","v":""},"個人計"]
[3,{"$f":"VLOOKUP($A8,'１２月集金一覧'!$A$4:$H$44,B$2,FALSE)","v":0},{"$f":"VLOOKUP($A8,'１２月集金一覧'!$A$4:$H$44,C$2,FALSE)","v":0},{"$f":"VLOOKUP($A8,'１２月集金一覧'!$A$4:$H$44,D$2,FALSE)","v":0},{"$f":"VLOOKUP($A8,'１２月集金一覧'!$A$4:$H$44,E$2,FALSE)","v":0},{"$f":"VLOOKUP($A8,'１２月集金一覧'!$A$4:$H$44,F$2,FALSE)","v":0},{"$f":"VLOOKUP($A8,'１２月集金一覧'!$A$4:$H$44,G$2,FALSE)","v":0},null,25,{"$f":"VLOOKUP($I8,'１２月集金一覧'!$A$4:$H$44,J$2,FALSE)","v":0},{"$f":"VLOOKUP($I8,'１２月集金一覧'!$A$4:$H$44,K$2,FALSE)","v":0},{"$f":"VLOOKUP($I8,'１２月集金一覧'!$A$4:$H$44,L$2,FALSE)","v":0},{"$f":"VLOOKUP($I8,'１２月集金一覧'!$A$4:$H$44,M$2,FALSE)","v":0},{"$f":"VLOOKUP($I8,'１２月集金一覧'!$A$4:$H$44,N$2,FALSE)","v":0},{"$f":"VLOOKUP($I8,'１２月集金一覧'!$A$4:$H$44,O$2,FALSE)","v":0}]
["番号",{"$f":"IF('１２月集金一覧'!C$4=\"\",\"\",'１２月集金一覧'!C$4)","v":""},{"$f":"IF('１２月集金一覧'!D$4=\"\",\"\",'１２月集金一覧'!D$4)","v":""},{"$f":"IF('１２月集金一覧'!E$4=\"\",\"\",'１２月集金一覧'!E$4)","v":""},{"$f":"IF('１２月集金一覧'!F$4=\"\",\"\",'１２月集金一覧'!F$4)","v":""},{"$f":"IF('１２月集金一覧'!G$4=\"\",\"\",'１２月集金一覧'!G$4)","v":""},"個人計",null,"番号",{"$f":"IF('１２月集金一覧'!C$4=\"\",\"\",'１２月集金一覧'!C$4)","v":""},{"$f":"IF('１２月集金一覧'!D$4=\"\",\"\",'１２月集金一覧'!D$4)","v":""},{"$f":"IF('１２月集金一覧'!E$4=\"\",\"\",'１２月集金一覧'!E$4)","v":""},{"$f":"IF('１２月集金一覧'!F$4=\"\",\"\",'１２月集金一覧'!F$4)","v":""},{"$f":"IF('１２月集金一覧'!G$4=\"\",\"\",'１２月集金一覧'!G$4)","v":""},"個人計"]
[4,{"$f":"VLOOKUP($A10,'１２月集金一覧'!$A$4:$H$44,B$2,FALSE)","v":0},{"$f":"VLOOKUP($A10,'１２月集金一覧'!$A$4:$H$44,C$2,FALSE)","v":0},{"$f":"VLOOKUP($A10,'１２月集金一覧'!$A$4:$H$44,D$2,FALSE)","v":0},{"$f":"VLOOKUP($A10,'１２月集金一覧'!$A$4:$H$44,E$2,FALSE)","v":0},{"$f":"VLOOKUP($A10,'１２月集金一覧'!$A$4:$H$44,F$2,FALSE)","v":0},{"$f":"VLOOKUP($A10,'１２月集金一覧'!$A$4:$H$44,G$2,FALSE)","v":0},null,26,{"$f":"VLOOKUP($I10,'１２月集金一覧'!$A$4:$H$44,J$2,FALSE)","v":0},{"$f":"VLOOKUP($I10,'１２月集金一覧'!$A$4:$H$44,K$2,FALSE)","v":0},{"$f":"VLOOKUP($I10,'１２月集金一覧'!$A$4:$H$44,L$2,FALSE)","v":0},{"$f":"VLOOKUP($I10,'１２月集金一覧'!$A$4:$H$44,M$2,FALSE)","v":0},{"$f":"VLOOKUP($I10,'１２月集金一覧'!$A$4:$H$44,N$2,FALSE)","v":0},{"$f":"VLOOKUP($I10,'１２月集金一覧'!$A$4:$H$44,O$2,FALSE)","v":0}]
["番号",{"$f":"IF('１２月集金一覧'!C$4=\"\",\"\",'１２月集金一覧'!C$4)","v":""},{"$f":"IF('１２月集金一覧'!D$4=\"\",\"\",'１２月集金一覧'!D$4)","v":""},{"$f":"IF('１２月集金一覧'!E$4=\"\",\"\",'１２月集金一覧'!E$4)","v":""},{"$f":"IF('１２月集金一覧'!F$4=\"\",\"\",'１２月集金一覧'!F$4)","v":""},{"$f":"IF('１２月集金一覧'!G$4=\"\",\"\",'１２月集金一覧'!G$4)","v":""},"個人計",null,"番号",{"$f":"IF('１２月集金一覧'!C$4=\"\",\"\",'１２月集金一覧'!C$4)","v":""},{"$f":"IF('１２月集金一覧'!D$4=\"\",\"\",'１２月集金一覧'!D$4)","v":""},{"$f":"IF('１２月集金一覧'!E$4=\"\",\"\",'１２月集金一覧'!E$4)","v":""},{"$f":"IF('１２月集金一覧'!F$4=\"\",\"\",'１２月集金一覧'!F$4)","v":""},{"$f":"IF('１２月集金一覧'!G$4=\"\",\"\",'１２月集金一覧'!G$4)","v":""},"個人計"]
[5,{"$f":"VLOOKUP($A12,'１２月集金一覧'!$A$4:$H$44,B$2,FALSE)","v":0},{"$f":"VLOOKUP($A12,'１２月集金一覧'!$A$4:$H$44,C$2,FALSE)","v":0},{"$f":"VLOOKUP($A12,'１２月集金一覧'!$A$4:$H$44,D$2,FALSE)","v":0},{"$f":"VLOOKUP($A12,'１２月集金一覧'!$A$4:$H$44,E$2,FALSE)","v":0},{"$f":"VLOOKUP($A12,'１２月集金一覧'!$A$4:$H$44,F$2,FALSE)","v":0},{"$f":"VLOOKUP($A12,'１２月集金一覧'!$A$4:$H$44,G$2,FALSE)","v":0},null,27,{"$f":"VLOOKUP($I12,'１２月集金一覧'!$A$4:$H$44,J$2,FALSE)","v":0},{"$f":"VLOOKUP($I12,'１２月集金一覧'!$A$4:$H$44,K$2,FALSE)","v":0},{"$f":"VLOOKUP($I12,'１２月集金一覧'!$A$4:$H$44,L$2,FALSE)","v":0},{"$f":"VLOOKUP($I12,'１２月集金一覧'!$A$4:$H$44,M$2,FALSE)","v":0},{"$f":"VLOOKUP($I12,'１２月集金一覧'!$A$4:$H$44,N$2,FALSE)","v":0},{"$f":"VLOOKUP($I12,'１２月集金一覧'!$A$4:$H$44,O$2,FALSE)","v":0}]
["番号",{"$f":"IF('１２月集金一覧'!C$4=\"\",\"\",'１２月集金一覧'!C$4)","v":""},{"$f":"IF('１２月集金一覧'!D$4=\"\",\"\",'１２月集金一覧'!D$4)","v":""},{"$f":"IF('１２月集金一覧'!E$4=\"\",\"\",'１２月集金一覧'!E$4)","v":""},{"$f":"IF('１２月集金一覧'!F$4=\"\",\"\",'１２月集金一覧'!F$4)","v":""},{"$f":"IF('１２月集金一覧'!G$4=\"\",\"\",'１２月集金一覧'!G$4)","v":""},"個人計",null,"番号",{"$f":"IF('１２月集金一覧'!C$4=\"\",\"\",'１２月集金一覧'!C$4)","v":""},{"$f":"IF('１２月集金一覧'!D$4=\"\",\"\",'１２月集金一覧'!D$4)","v":""},{"$f":"IF('１２月集金一覧'!E$4=\"\",\"\",'１２月集金一覧'!E$4)","v":""},{"$f":"IF('１２月集金一覧'!F$4=\"\",\"\",'１２月集金一覧'!F$4)","v":""},{"$f":"IF('１２月集金一覧'!G$4=\"\",\"\",'１２月集金一覧'!G$4)","v":""},"個人計"]
[6,{"$f":"VLOOKUP($A14,'１２月集金一覧'!$A$4:$H$44,B$2,FALSE)","v":0},{"$f":"VLOOKUP($A14,'１２月集金一覧'!$A$4:$H$44,C$2,FALSE)","v":0},{"$f":"VLOOKUP($A14,'１２月集金一覧'!$A$4:$H$44,D$2,FALSE)","v":0},{"$f":"VLOOKUP($A14,'１２月集金一覧'!$A$4:$H$44,E$2,FALSE)","v":0},{"$f":"VLOOKUP($A14,'１２月集金一覧'!$A$4:$H$44,F$2,FALSE)","v":0},{"$f":"VLOOKUP($A14,'１２月集金一覧'!$A$4:$H$44,G$2,FALSE)","v":0},null,28,{"$f":"VLOOKUP($I14,'１２月集金一覧'!$A$4:$H$44,J$2,FALSE)","v":0},{"$f":"VLOOKUP($I14,'１２月集金一覧'!$A$4:$H$44,K$2,FALSE)","v":0},{"$f":"VLOOKUP($I14,'１２月集金一覧'!$A$4:$H$44,L$2,FALSE)","v":0},{"$f":"VLOOKUP($I14,'１２月集金一覧'!$A$4:$H$44,M$2,FALSE)","v":0},{"$f":"VLOOKUP($I14,'１２月集金一覧'!$A$4:$H$44,N$2,FALSE)","v":0},{"$f":"VLOOKUP($I14,'１２月集金一覧'!$A$4:$H$44,O$2,FALSE)","v":0}]
["番号",{"$f":"IF('１２月集金一覧'!C$4=\"\",\"\",'１２月集金一覧'!C$4)","v":""},{"$f":"IF('１２月集金一覧'!D$4=\"\",\"\",'１２月集金一覧'!D$4)","v":""},{"$f":"IF('１２月集金一覧'!E$4=\"\",\"\",'１２月集金一覧'!E$4)","v":""},{"$f":"IF('１２月集金一覧'!F$4=\"\",\"\",'１２月集金一覧'!F$4)","v":""},{"$f":"IF('１２月集金一覧'!G$4=\"\",\"\",'１２月集金一覧'!G$4)","v":""},"個人計",null,"番号",{"$f":"IF('１２月集金一覧'!C$4=\"\",\"\",'１２月集金一覧'!C$4)","v":""},{"$f":"IF('１２月集金一覧'!D$4=\"\",\"\",'１２月集金一覧'!D$4)","v":""},{"$f":"IF('１２月集金一覧'!E$4=\"\",\"\",'１２月集金一覧'!E$4)","v":""},{"$f":"IF('１２月集金一覧'!F$4=\"\",\"\",'１２月集金一覧'!F$4)","v":""},{"$f":"IF('１２月集金一覧'!G$4=\"\",\"\",'１２月集金一覧'!G$4)","v":""},"個人計"]
[7,{"$f":"VLOOKUP($A16,'１２月集金一覧'!$A$4:$H$44,B$2,FALSE)","v":0},{"$f":"VLOOKUP($A16,'１２月集金一覧'!$A$4:$H$44,C$2,FALSE)","v":0},{"$f":"VLOOKUP($A16,'１２月集金一覧'!$A$4:$H$44,D$2,FALSE)","v":0},{"$f":"VLOOKUP($A16,'１２月集金一覧'!$A$4:$H$44,E$2,FALSE)","v":0},{"$f":"VLOOKUP($A16,'１２月集金一覧'!$A$4:$H$44,F$2,FALSE)","v":0},{"$f":"VLOOKUP($A16,'１２月集金一覧'!$A$4:$H$44,G$2,FALSE)","v":0},null,29,{"$f":"VLOOKUP($I16,'１２月集金一覧'!$A$4:$H$44,J$2,FALSE)","v":0},{"$f":"VLOOKUP($I16,'１２月集金一覧'!$A$4:$H$44,K$2,FALSE)","v":0},{"$f":"VLOOKUP($I16,'１２月集金一覧'!$A$4:$H$44,L$2,FALSE)","v":0},{"$f":"VLOOKUP($I16,'１２月集金一覧'!$A$4:$H$44,M$2,FALSE)","v":0},{"$f":"VLOOKUP($I16,'１２月集金一覧'!$A$4:$H$44,N$2,FALSE)","v":0},{"$f":"VLOOKUP($I16,'１２月集金一覧'!$A$4:$H$44,O$2,FALSE)","v":0}]
["番号",{"$f":"IF('１２月集金一覧'!C$4=\"\",\"\",'１２月集金一覧'!C$4)","v":""},{"$f":"IF('１２月集金一覧'!D$4=\"\",\"\",'１２月集金一覧'!D$4)","v":""},{"$f":"IF('１２月集金一覧'!E$4=\"\",\"\",'１２月集金一覧'!E$4)","v":""},{"$f":"IF('１２月集金一覧'!F$4=\"\",\"\",'１２月集金一覧'!F$4)","v":""},{"$f":"IF('１２月集金一覧'!G$4=\"\",\"\",'１２月集金一覧'!G$4)","v":""},"個人計",null,"番号",{"$f":"IF('１２月集金一覧'!C$4=\"\",\"\",'１２月集金一覧'!C$4)","v":""},{"$f":"IF('１２月集金一覧'!D$4=\"\",\"\",'１２月集金一覧'!D$4)","v":""},{"$f":"IF('１２月集金一覧'!E$4=\"\",\"\",'１２月集金一覧'!E$4)","v":""},{"$f":"IF('１２月集金一覧'!F$4=\"\",\"\",'１２月集金一覧'!F$4)","v":""},{"$f":"IF('１２月集金一覧'!G$4=\"\",\"\",'１２月集金一覧'!G$4)","v":""},"個人計"]
[8,{"$f":"VLOOKUP($A18,'１２月集金一覧'!$A$4:$H$44,B$2,FALSE)","v":0},{"$f":"VLOOKUP($A18,'１２月集金一覧'!$A$4:$H$44,C$2,FALSE)","v":0},{"$f":"VLOOKUP($A18,'１２月集金一覧'!$A$4:$H$44,D$2,FALSE)","v":0},{"$f":"VLOOKUP($A18,'１２月集金一覧'!$A$4:$H$44,E$2,FALSE)","v":0},{"$f":"VLOOKUP($A18,'１２月集金一覧'!$A$4:$H$44,F$2,FALSE)","v":0},{"$f":"VLOOKUP($A18,'１２月集金一覧'!$A$4:$H$44,G$2,FALSE)","v":0},null,30,{"$f":"VLOOKUP($I18,'１２月集金一覧'!$A$4:$H$44,J$2,FALSE)","v":0},{"$f":"VLOOKUP($I18,'１２月集金一覧'!$A$4:$H$44,K$2,FALSE)","v":0},{"$f":"VLOOKUP($I18,'１２月集金一覧'!$A$4:$H$44,L$2,FALSE)","v":0},{"$f":"VLOOKUP($I18,'１２月集金一覧'!$A$4:$H$44,M$2,FALSE)","v":0},{"$f":"VLOOKUP($I18,'１２月集金一覧'!$A$4:$H$44,N$2,FALSE)","v":0},{"$f":"VLOOKUP($I18,'１２月集金一覧'!$A$4:$H$44,O$2,FALSE)","v":0}]
["番号",{"$f":"IF('１２月集金一覧'!C$4=\"\",\"\",'１２月集金一覧'!C$4)","v":""},{"$f":"IF('１２月集金一覧'!D$4=\"\",\"\",'１２月集金一覧'!D$4)","v":""},{"$f":"IF('１２月集金一覧'!E$4=\"\",\"\",'１２月集金一覧'!E$4)","v":""},{"$f":"IF('１２月集金一覧'!F$4=\"\",\"\",'１２月集金一覧'!F$4)","v":""},{"$f":"IF('１２月集金一覧'!G$4=\"\",\"\",'１２月集金一覧'!G$4)","v":""},"個人計",null,"番号",{"$f":"IF('１２月集金一覧'!C$4=\"\",\"\",'１２月集金一覧'!C$4)","v":""},{"$f":"IF('１２月集金一覧'!D$4=\"\",\"\",'１２月集金一覧'!D$4)","v":""},{"$f":"IF('１２月集金一覧'!E$4=\"\",\"\",'１２月集金一覧'!E$4)","v":""},{"$f":"IF('１２月集金一覧'!F$4=\"\",\"\",'１２月集金一覧'!F$4)","v":""},{"$f":"IF('１２月集金一覧'!G$4=\"\",\"\",'１２月集金一覧'!G$4)","v":""},"個人計"]
[9,{"$f":"VLOOKUP($A20,'１２月集金一覧'!$A$4:$H$44,B$2,FALSE)","v":0},{"$f":"VLOOKUP($A20,'１２月集金一覧'!$A$4:$H$44,C$2,FALSE)","v":0},{"$f":"VLOOKUP($A20,'１２月集金一覧'!$A$4:$H$44,D$2,FALSE)","v":0},{"$f":"VLOOKUP($A20,'１２月集金一覧'!$A$4:$H$44,E$2,FALSE)","v":0},{"$f":"VLOOKUP($A20,'１２月集金一覧'!$A$4:$H$44,F$2,FALSE)","v":0},{"$f":"VLOOKUP($A20,'１２月集金一覧'!$A$4:$H$44,G$2,FALSE)","v":0},null,31,{"$f":"VLOOKUP($I20,'１２月集金一覧'!$A$4:$H$44,J$2,FALSE)","v":0},{"$f":"VLOOKUP($I20,'１２月集金一覧'!$A$4:$H$44,K$2,FALSE)","v":0},{"$f":"VLOOKUP($I20,'１２月集金一覧'!$A$4:$H$44,L$2,FALSE)","v":0},{"$f":"VLOOKUP($I20,'１２月集金一覧'!$A$4:$H$44,M$2,FALSE)","v":0},{"$f":"VLOOKUP($I20,'１２月集金一覧'!$A$4:$H$44,N$2,FALSE)","v":0},{"$f":"VLOOKUP($I20,'１２月集金一覧'!$A$4:$H$44,O$2,FALSE)","v":0}]
["番号",{"$f":"IF('１２月集金一覧'!C$4=\"\",\"\",'１２月集金一覧'!C$4)","v":""},{"$f":"IF('１２月集金一覧'!D$4=\"\",\"\",'１２月集金一覧'!D$4)","v":""},{"$f":"IF('１２月集金一覧'!E$4=\"\",\"\",'１２月集金一覧'!E$4)","v":""},{"$f":"IF('１２月集金一覧'!F$4=\"\",\"\",'１２月集金一覧'!F$4)","v":""},{"$f":"IF('１２月集金一覧'!G$4=\"\",\"\",'１２月集金一覧'!G$4)","v":""},"個人計",null,"番号",{"$f":"IF('１２月集金一覧'!C$4=\"\",\"\",'１２月集金一覧'!C$4)","v":""},{"$f":"IF('１２月集金一覧'!D$4=\"\",\"\",'１２月集金一覧'!D$4)","v":""},{"$f":"IF('１２月集金一覧'!E$4=\"\",\"\",'１２月集金一覧'!E$4)","v":""},{"$f":"IF('１２月集金一覧'!F$4=\"\",\"\",'１２月集金一覧'!F$4)","v":""},{"$f":"IF('１２月集金一覧'!G$4=\"\",\"\",'１２月集金一覧'!G$4)","v":""},"個人計"]
[10,{"$f":"VLOOKUP($A22,'１２月集金一覧'!$A$4:$H$44,B$2,FALSE)","v":0},{"$f":"VLOOKUP($A22,'１２月集金一覧'!$A$4:$H$44,C$2,FALSE)","v":0},{"$f":"VLOOKUP($A22,'１２月集金一覧'!$A$4:$H$44,D$2,FALSE)","v":0},{"$f":"VLOOKUP($A22,'１２月集金一覧'!$A$4:$H$44,E$2,FALSE)","v":0},{"$f":"VLOOKUP($A22,'１２月集金一覧'!$A$4:$H$44,F$2,FALSE)","v":0},{"$f":"VLOOKUP($A22,'１２月集金一覧'!$A$4:$H$44,G$2,FALSE)","v":0},null,32,{"$f":"VLOOKUP($I22,'１２月集金一覧'!$A$4:$H$44,J$2,FALSE)","v":0},{"$f":"VLOOKUP($I22,'１２月集金一覧'!$A$4:$H$44,K$2,FALSE)","v":0},{"$f":"VLOOKUP($I22,'１２月集金一覧'!$A$4:$H$44,L$2,FALSE)","v":0},{"$f":"VLOOKUP($I22,'１２月集金一覧'!$A$4:$H$44,M$2,FALSE)","v":0},{"$f":"VLOOKUP($I22,'１２月集金一覧'!$A$4:$H$44,N$2,FALSE)","v":0},{"$f":"VLOOKUP($I22,'１２月集金一覧'!$A$4:$H$44,O$2,FALSE)","v":0}]
["番号",{"$f":"IF('１２月集金一覧'!C$4=\"\",\"\",'１２月集金一覧'!C$4)","v":""},{"$f":"IF('１２月集金一覧'!D$4=\"\",\"\",'１２月集金一覧'!D$4)","v":""},{"$f":"IF('１２月集金一覧'!E$4=\"\",\"\",'１２月集金一覧'!E$4)","v":""},{"$f":"IF('１２月集金一覧'!F$4=\"\",\"\",'１２月集金一覧'!F$4)","v":""},{"$f":"IF('１２月集金一覧'!G$4=\"\",\"\",'１２月集金一覧'!G$4)","v":""},"個人計",null,"番号",{"$f":"IF('１２月集金一覧'!C$4=\"\",\"\",'１２月集金一覧'!C$4)","v":""},{"$f":"IF('１２月集金一覧'!D$4=\"\",\"\",'１２月集金一覧'!D$4)","v":""},{"$f":"IF('１２月集金一覧'!E$4=\"\",\"\",'１２月集金一覧'!E$4)","v":""},{"$f":"IF('１２月集金一覧'!F$4=\"\",\"\",'１２月集金一覧'!F$4)","v":""},{"$f":"IF('１２月集金一覧'!G$4=\"\",\"\",'１２月集金一覧'!G$4)","v":""},"個人計"]
[11,{"$f":"VLOOKUP($A24,'１２月集金一覧'!$A$4:$H$44,B$2,FALSE)","v":0},{"$f":"VLOOKUP($A24,'１２月集金一覧'!$A$4:$H$44,C$2,FALSE)","v":0},{"$f":"VLOOKUP($A24,'１２月集金一覧'!$A$4:$H$44,D$2,FALSE)","v":0},{"$f":"VLOOKUP($A24,'１２月集金一覧'!$A$4:$H$44,E$2,FALSE)","v":0},{"$f":"VLOOKUP($A24,'１２月集金一覧'!$A$4:$H$44,F$2,FALSE)","v":0},{"$f":"VLOOKUP($A24,'１２月集金一覧'!$A$4:$H$44,G$2,FALSE)","v":0},null,33,{"$f":"VLOOKUP($I24,'１２月集金一覧'!$A$4:$H$44,J$2,FALSE)","v":0},{"$f":"VLOOKUP($I24,'１２月集金一覧'!$A$4:$H$44,K$2,FALSE)","v":0},{"$f":"VLOOKUP($I24,'１２月集金一覧'!$A$4:$H$44,L$2,FALSE)","v":0},{"$f":"VLOOKUP($I24,'１２月集金一覧'!$A$4:$H$44,M$2,FALSE)","v":0},{"$f":"VLOOKUP($I24,'１２月集金一覧'!$A$4:$H$44,N$2,FALSE)","v":0},{"$f":"VLOOKUP($I24,'１２月集金一覧'!$A$4:$H$44,O$2,FALSE)","v":0}]
["番号",{"$f":"IF('１２月集金一覧'!C$4=\"\",\"\",'１２月集金一覧'!C$4)","v":""},{"$f":"IF('１２月集金一覧'!D$4=\"\",\"\",'１２月集金一覧'!D$4)","v":""},{"$f":"IF('１２月集金一覧'!E$4=\"\",\"\",'１２月集金一覧'!E$4)","v":""},{"$f":"IF('１２月集金一覧'!F$4=\"\",\"\",'１２月集金一覧'!F$4)","v":""},{"$f":"IF('１２月集金一覧'!G$4=\"\",\"\",'１２月集金一覧'!G$4)","v":""},"個人計",null,"番号",{"$f":"IF('１２月集金一覧'!C$4=\"\",\"\",'１２月集金一覧'!C$4)","v":""},{"$f":"IF('１２月集金一覧'!D$4=\"\",\"\",'１２月集金一覧'!D$4)","v":""},{"$f":"IF('１２月集金一覧'!E$4=\"\",\"\",'１２月集金一覧'!E$4)","v":""},{"$f":"IF('１２月集金一覧'!F$4=\"\",\"\",'１２月集金一覧'!F$4)","v":""},{"$f":"IF('１２月集金一覧'!G$4=\"\",\"\",'１２月集金一覧'!G$4)","v":""},"個人計"]
[12,{"$f":"VLOOKUP($A26,'１２月集金一覧'!$A$4:$H$44,B$2,FALSE)","v":0},{"$f":"VLOOKUP($A26,'１２月集金一覧'!$A$4:$H$44,C$2,FALSE)","v":0},{"$f":"VLOOKUP($A26,'１２月集金一覧'!$A$4:$H$44,D$2,FALSE)","v":0},{"$f":"VLOOKUP($A26,'１２月集金一覧'!$A$4:$H$44,E$2,FALSE)","v":0},{"$f":"VLOOKUP($A26,'１２月集金一覧'!$A$4:$H$44,F$2,FALSE)","v":0},{"$f":"VLOOKUP($A26,'１２月集金一覧'!$A$4:$H$44,G$2,FALSE)","v":0},null,34,{"$f":"VLOOKUP($I26,'１２月集金一覧'!$A$4:$H$44,J$2,FALSE)","v":0},{"$f":"VLOOKUP($I26,'１２月集金一覧'!$A$4:$H$44,K$2,FALSE)","v":0},{"$f":"VLOOKUP($I26,'１２月集金一覧'!$A$4:$H$44,L$2,FALSE)","v":0},{"$f":"VLOOKUP($I26,'１２月集金一覧'!$A$4:$H$44,M$2,FALSE)","v":0},{"$f":"VLOOKUP($I26,'１２月集金一覧'!$A$4:$H$44,N$2,FALSE)","v":0},{"$f":"VLOOKUP($I26,'１２月集金一覧'!$A$4:$H$44,O$2,FALSE)","v":0}]
["番号",{"$f":"IF('１２月集金一覧'!C$4=\"\",\"\",'１２月集金一覧'!C$4)","v":""},{"$f":"IF('１２月集金一覧'!D$4=\"\",\"\",'１２月集金一覧'!D$4)","v":""},{"$f":"IF('１２月集金一覧'!E$4=\"\",\"\",'１２月集金一覧'!E$4)","v":""},{"$f":"IF('１２月集金一覧'!F$4=\"\",\"\",'１２月集金一覧'!F$4)","v":""},{"$f":"IF('１２月集金一覧'!G$4=\"\",\"\",'１２月集金一覧'!G$4)","v":""},"個人計",null,"番号",{"$f":"IF('１２月集金一覧'!C$4=\"\",\"\",'１２月集金一覧'!C$4)","v":""},{"$f":"IF('１２月集金一覧'!D$4=\"\",\"\",'１２月集金一覧'!D$4)","v":""},{"$f":"IF('１２月集金一覧'!E$4=\"\",\"\",'１２月集金一覧'!E$4)","v":""},{"$f":"IF('１２月集金一覧'!F$4=\"\",\"\",'１２月集金一覧'!F$4)","v":""},{"$f":"IF('１２月集金一覧'!G$4=\"\",\"\",'１２月集金一覧'!G$4)","v":""},"個人計"]
[13,{"$f":"VLOOKUP($A28,'１２月集金一覧'!$A$4:$H$44,B$2,FALSE)","v":0},{"$f":"VLOOKUP($A28,'１２月集金一覧'!$A$4:$H$44,C$2,FALSE)","v":0},{"$f":"VLOOKUP($A28,'１２月集金一覧'!$A$4:$H$44,D$2,FALSE)","v":0},{"$f":"VLOOKUP($A28,'１２月集金一覧'!$A$4:$H$44,E$2,FALSE)","v":0},{"$f":"VLOOKUP($A28,'１２月集金一覧'!$A$4:$H$44,F$2,FALSE)","v":0},{"$f":"VLOOKUP($A28,'１２月集金一覧'!$A$4:$H$44,G$2,FALSE)","v":0},null,35,{"$f":"VLOOKUP($I28,'１２月集金一覧'!$A$4:$H$44,J$2,FALSE)","v":0},{"$f":"VLOOKUP($I28,'１２月集金一覧'!$A$4:$H$44,K$2,FALSE)","v":0},{"$f":"VLOOKUP($I28,'１２月集金一覧'!$A$4:$H$44,L$2,FALSE)","v":0},{"$f":"VLOOKUP($I28,'１２月集金一覧'!$A$4:$H$44,M$2,FALSE)","v":0},{"$f":"VLOOKUP($I28,'１２月集金一覧'!$A$4:$H$44,N$2,FALSE)","v":0},{"$f":"VLOOKUP($I28,'１２月集金一覧'!$A$4:$H$44,O$2,FALSE)","v":0}]
["番号",{"$f":"IF('１２月集金一覧'!C$4=\"\",\"\",'１２月集金一覧'!C$4)","v":""},{"$f":"IF('１２月集金一覧'!D$4=\"\",\"\",'１２月集金一覧'!D$4)","v":""},{"$f":"IF('１２月集金一覧'!E$4=\"\",\"\",'１２月集金一覧'!E$4)","v":""},{"$f":"IF('１２月集金一覧'!F$4=\"\",\"\",'１２月集金一覧'!F$4)","v":""},{"$f":"IF('１２月集金一覧'!G$4=\"\",\"\",'１２月集金一覧'!G$4)","v":""},"個人計",null,"番号",{"$f":"IF('１２月集金一覧'!C$4=\"\",\"\",'１２月集金一覧'!C$4)","v":""},{"$f":"IF('１２月集金一覧'!D$4=\"\",\"\",'１２月集金一覧'!D$4)","v":""},{"$f":"IF('１２月集金一覧'!E$4=\"\",\"\",'１２月集金一覧'!E$4)","v":""},{"$f":"IF('１２月集金一覧'!F$4=\"\",\"\",'１２月集金一覧'!F$4)","v":""},{"$f":"IF('１２月集金一覧'!G$4=\"\",\"\",'１２月集金一覧'!G$4)","v":""},"個人計"]
[14,{"$f":"VLOOKUP($A30,'１２月集金一覧'!$A$4:$H$44,B$2,FALSE)","v":0},{"$f":"VLOOKUP($A30,'１２月集金一覧'!$A$4:$H$44,C$2,FALSE)","v":0},{"$f":"VLOOKUP($A30,'１２月集金一覧'!$A$4:$H$44,D$2,FALSE)","v":0},{"$f":"VLOOKUP($A30,'１２月集金一覧'!$A$4:$H$44,E$2,FALSE)","v":0},{"$f":"VLOOKUP($A30,'１２月集金一覧'!$A$4:$H$44,F$2,FALSE)","v":0},{"$f":"VLOOKUP($A30,'１２月集金一覧'!$A$4:$H$44,G$2,FALSE)","v":0},null,36,{"$f":"VLOOKUP($I30,'１２月集金一覧'!$A$4:$H$44,J$2,FALSE)","v":0},{"$f":"VLOOKUP($I30,'１２月集金一覧'!$A$4:$H$44,K$2,FALSE)","v":0},{"$f":"VLOOKUP($I30,'１２月集金一覧'!$A$4:$H$44,L$2,FALSE)","v":0},{"$f":"VLOOKUP($I30,'１２月集金一覧'!$A$4:$H$44,M$2,FALSE)","v":0},{"$f":"VLOOKUP($I30,'１２月集金一覧'!$A$4:$H$44,N$2,FALSE)","v":0},{"$f":"VLOOKUP($I30,'１２月集金一覧'!$A$4:$H$44,O$2,FALSE)","v":0}]
["番号",{"$f":"IF('１２月集金一覧'!C$4=\"\",\"\",'１２月集金一覧'!C$4)","v":""},{"$f":"IF('１２月集金一覧'!D$4=\"\",\"\",'１２月集金一覧'!D$4)","v":""},{"$f":"IF('１２月集金一覧'!E$4=\"\",\"\",'１２月集金一覧'!E$4)","v":""},{"$f":"IF('１２月集金一覧'!F$4=\"\",\"\",'１２月集金一覧'!F$4)","v":""},{"$f":"IF('１２月集金一覧'!G$4=\"\",\"\",'１２月集金一覧'!G$4)","v":""},"個人計",null,"番号",{"$f":"IF('１２月集金一覧'!C$4=\"\",\"\",'１２月集金一覧'!C$4)","v":""},{"$f":"IF('１２月集金一覧'!D$4=\"\",\"\",'１２月集金一覧'!D$4)","v":""},{"$f":"IF('１２月集金一覧'!E$4=\"\",\"\",'１２月集金一覧'!E$4)","v":""},{"$f":"IF('１２月集金一覧'!F$4=\"\",\"\",'１２月集金一覧'!F$4)","v":""},{"$f":"IF('１２月集金一覧'!G$4=\"\",\"\",'１２月集金一覧'!G$4)","v":""},"個人計"]
[15,{"$f":"VLOOKUP($A32,'１２月集金一覧'!$A$4:$H$44,B$2,FALSE)","v":0},{"$f":"VLOOKUP($A32,'１２月集金一覧'!$A$4:$H$44,C$2,FALSE)","v":0},{"$f":"VLOOKUP($A32,'１２月集金一覧'!$A$4:$H$44,D$2,FALSE)","v":0},{"$f":"VLOOKUP($A32,'１２月集金一覧'!$A$4:$H$44,E$2,FALSE)","v":0},{"$f":"VLOOKUP($A32,'１２月集金一覧'!$A$4:$H$44,F$2,FALSE)","v":0},{"$f":"VLOOKUP($A32,'１２月集金一覧'!$A$4:$H$44,G$2,FALSE)","v":0},null,37,{"$f":"VLOOKUP($I32,'１２月集金一覧'!$A$4:$H$44,J$2,FALSE)","v":0},{"$f":"VLOOKUP($I32,'１２月集金一覧'!$A$4:$H$44,K$2,FALSE)","v":0},{"$f":"VLOOKUP($I32,'１２月集金一覧'!$A$4:$H$44,L$2,FALSE)","v":0},{"$f":"VLOOKUP($I32,'１２月集金一覧'!$A$4:$H$44,M$2,FALSE)","v":0},{"$f":"VLOOKUP($I32,'１２月集金一覧'!$A$4:$H$44,N$2,FALSE)","v":0},{"$f":"VLOOKUP($I32,'１２月集金一覧'!$A$4:$H$44,O$2,FALSE)","v":0}]
["番号",{"$f":"IF('１２月集金一覧'!C$4=\"\",\"\",'１２月集金一覧'!C$4)","v":""},{"$f":"IF('１２月集金一覧'!D$4=\"\",\"\",'１２月集金一覧'!D$4)","v":""},{"$f":"IF('１２月集金一覧'!E$4=\"\",\"\",'１２月集金一覧'!E$4)","v":""},{"$f":"IF('１２月集金一覧'!F$4=\"\",\"\",'１２月集金一覧'!F$4)","v":""},{"$f":"IF('１２月集金一覧'!G$4=\"\",\"\",'１２月集金一覧'!G$4)","v":""},"個人計",null,"番号",{"$f":"IF('１２月集金一覧'!C$4=\"\",\"\",'１２月集金一覧'!C$4)","v":""},{"$f":"IF('１２月集金一覧'!D$4=\"\",\"\",'１２月集金一覧'!D$4)","v":""},{"$f":"IF('１２月集金一覧'!E$4=\"\",\"\",'１２月集金一覧'!E$4)","v":""},{"$f":"IF('１２月集金一覧'!F$4=\"\",\"\",'１２月集金一覧'!F$4)","v":""},{"$f":"IF('１２月集金一覧'!G$4=\"\",\"\",'１２月集金一覧'!G$4)","v":""},"個人計"]
[16,{"$f":"VLOOKUP($A34,'１２月集金一覧'!$A$4:$H$44,B$2,FALSE)","v":0},{"$f":"VLOOKUP($A34,'１２月集金一覧'!$A$4:$H$44,C$2,FALSE)","v":0},{"$f":"VLOOKUP($A34,'１２月集金一覧'!$A$4:$H$44,D$2,FALSE)","v":0},{"$f":"VLOOKUP($A34,'１２月集金一覧'!$A$4:$H$44,E$2,FALSE)","v":0},{"$f":"VLOOKUP($A34,'１２月集金一覧'!$A$4:$H$44,F$2,FALSE)","v":0},{"$f":"VLOOKUP($A34,'１２月集金一覧'!$A$4:$H$44,G$2,FALSE)","v":0},null,38,{"$f":"VLOOKUP($I34,'１２月集金一覧'!$A$4:$H$44,J$2,FALSE)","v":0},{"$f":"VLOOKUP($I34,'１２月集金一覧'!$A$4:$H$44,K$2,FALSE)","v":0},{"$f":"VLOOKUP($I34,'１２月集金一覧'!$A$4:$H$44,L$2,FALSE)","v":0},{"$f":"VLOOKUP($I34,'１２月集金一覧'!$A$4:$H$44,M$2,FALSE)","v":0},{"$f":"VLOOKUP($I34,'１２月集金一覧'!$A$4:$H$44,N$2,FALSE)","v":0},{"$f":"VLOOKUP($I34,'１２月集金一覧'!$A$4:$H$44,O$2,FALSE)","v":0}]
["番号",{"$f":"IF('１２月集金一覧'!C$4=\"\",\"\",'１２月集金一覧'!C$4)","v":""},{"$f":"IF('１２月集金一覧'!D$4=\"\",\"\",'１２月集金一覧'!D$4)","v":""},{"$f":"IF('１２月集金一覧'!E$4=\"\",\"\",'１２月集金一覧'!E$4)","v":""},{"$f":"IF('１２月集金一覧'!F$4=\"\",\"\",'１２月集金一覧'!F$4)","v":""},{"$f":"IF('１２月集金一覧'!G$4=\"\",\"\",'１２月集金一覧'!G$4)","v":""},"個人計",null,"番号",{"$f":"IF('１２月集金一覧'!C$4=\"\",\"\",'１２月集金一覧'!C$4)","v":""},{"$f":"IF('１２月集金一覧'!D$4=\"\",\"\",'１２月集金一覧'!D$4)","v":""},{"$f":"IF('１２月集金一覧'!E$4=\"\",\"\",'１２月集金一覧'!E$4)","v":""},{"$f":"IF('１２月集金一覧'!F$4=\"\",\"\",'１２月集金一覧'!F$4)","v":""},{"$f":"IF('１２月集金一覧'!G$4=\"\",\"\",'１２月集金一覧'!G$4)","v":""},"個人計"]
[17,{"$f":"VLOOKUP($A36,'１２月集金一覧'!$A$4:$H$44,B$2,FALSE)","v":0},{"$f":"VLOOKUP($A36,'１２月集金一覧'!$A$4:$H$44,C$2,FALSE)","v":0},{"$f":"VLOOKUP($A36,'１２月集金一覧'!$A$4:$H$44,D$2,FALSE)","v":0},{"$f":"VLOOKUP($A36,'１２月集金一覧'!$A$4:$H$44,E$2,FALSE)","v":0},{"$f":"VLOOKUP($A36,'１２月集金一覧'!$A$4:$H$44,F$2,FALSE)","v":0},{"$f":"VLOOKUP($A36,'１２月集金一覧'!$A$4:$H$44,G$2,FALSE)","v":0},null,39,{"$f":"VLOOKUP($I36,'１２月集金一覧'!$A$4:$H$44,J$2,FALSE)","v":0},{"$f":"VLOOKUP($I36,'１２月集金一覧'!$A$4:$H$44,K$2,FALSE)","v":0},{"$f":"VLOOKUP($I36,'１２月集金一覧'!$A$4:$H$44,L$2,FALSE)","v":0},{"$f":"VLOOKUP($I36,'１２月集金一覧'!$A$4:$H$44,M$2,FALSE)","v":0},{"$f":"VLOOKUP($I36,'１２月集金一覧'!$A$4:$H$44,N$2,FALSE)","v":0},{"$f":"VLOOKUP($I36,'１２月集金一覧'!$A$4:$H$44,O$2,FALSE)","v":0}]
["番号",{"$f":"IF('１２月集金一覧'!C$4=\"\",\"\",'１２月集金一覧'!C$4)","v":""},{"$f":"IF('１２月集金一覧'!D$4=\"\",\"\",'１２月集金一覧'!D$4)","v":""},{"$f":"IF('１２月集金一覧'!E$4=\"\",\"\",'１２月集金一覧'!E$4)","v":""},{"$f":"IF('１２月集金一覧'!F$4=\"\",\"\",'１２月集金一覧'!F$4)","v":""},{"$f":"IF('１２月集金一覧'!G$4=\"\",\"\",'１２月集金一覧'!G$4)","v":""},"個人計",null,"番号",{"$f":"IF('１２月集金一覧'!C$4=\"\",\"\",'１２月集金一覧'!C$4)","v":""},{"$f":"IF('１２月集金一覧'!D$4=\"\",\"\",'１２月集金一覧'!D$4)","v":""},{"$f":"IF('１２月集金一覧'!E$4=\"\",\"\",'１２月集金一覧'!E$4)","v":""},{"$f":"IF('１２月集金一覧'!F$4=\"\",\"\",'１２月集金一覧'!F$4)","v":""},{"$f":"IF('１２月集金一覧'!G$4=\"\",\"\",'１２月集金一覧'!G$4)","v":""},"個人計"]
[18,{"$f":"VLOOKUP($A38,'１２月集金一覧'!$A$4:$H$44,B$2,FALSE)","v":0},{"$f":"VLOOKUP($A38,'１２月集金一覧'!$A$4:$H$44,C$2,FALSE)","v":0},{"$f":"VLOOKUP($A38,'１２月集金一覧'!$A$4:$H$44,D$2,FALSE)","v":0},{"$f":"VLOOKUP($A38,'１２月集金一覧'!$A$4:$H$44,E$2,FALSE)","v":0},{"$f":"VLOOKUP($A38,'１２月集金一覧'!$A$4:$H$44,F$2,FALSE)","v":0},{"$f":"VLOOKUP($A38,'１２月集金一覧'!$A$4:$H$44,G$2,FALSE)","v":0},null,40,{"$f":"VLOOKUP($I38,'１２月集金一覧'!$A$4:$H$44,J$2,FALSE)","v":0},{"$f":"VLOOKUP($I38,'１２月集金一覧'!$A$4:$H$44,K$2,FALSE)","v":0},{"$f":"VLOOKUP($I38,'１２月集金一覧'!$A$4:$H$44,L$2,FALSE)","v":0},{"$f":"VLOOKUP($I38,'１２月集金一覧'!$A$4:$H$44,M$2,FALSE)","v":0},{"$f":"VLOOKUP($I38,'１２月集金一覧'!$A$4:$H$44,N$2,FALSE)","v":0},{"$f":"VLOOKUP($I38,'１２月集金一覧'!$A$4:$H$44,O$2,FALSE)","v":0}]
["番号",{"$f":"IF('１２月集金一覧'!C$4=\"\",\"\",'１２月集金一覧'!C$4)","v":""},{"$f":"IF('１２月集金一覧'!D$4=\"\",\"\",'１２月集金一覧'!D$4)","v":""},{"$f":"IF('１２月集金一覧'!E$4=\"\",\"\",'１２月集金一覧'!E$4)","v":""},{"$f":"IF('１２月集金一覧'!F$4=\"\",\"\",'１２月集金一覧'!F$4)","v":""},{"$f":"IF('１２月集金一覧'!G$4=\"\",\"\",'１２月集金一覧'!G$4)","v":""},"個人計"]
[19,{"$f":"VLOOKUP($A40,'１２月集金一覧'!$A$4:$H$44,B$2,FALSE)","v":0},{"$f":"VLOOKUP($A40,'１２月集金一覧'!$A$4:$H$44,C$2,FALSE)","v":0},{"$f":"VLOOKUP($A40,'１２月集金一覧'!$A$4:$H$44,D$2,FALSE)","v":0},{"$f":"VLOOKUP($A40,'１２月集金一覧'!$A$4:$H$44,E$2,FALSE)","v":0},{"$f":"VLOOKUP($A40,'１２月集金一覧'!$A$4:$H$44,F$2,FALSE)","v":0},{"$f":"VLOOKUP($A40,'１２月集金一覧'!$A$4:$H$44,G$2,FALSE)","v":0}]
["番号",{"$f":"IF('１２月集金一覧'!C$4=\"\",\"\",'１２月集金一覧'!C$4)","v":""},{"$f":"IF('１２月集金一覧'!D$4=\"\",\"\",'１２月集金一覧'!D$4)","v":""},{"$f":"IF('１２月集金一覧'!E$4=\"\",\"\",'１２月集金一覧'!E$4)","v":""},{"$f":"IF('１２月集金一覧'!F$4=\"\",\"\",'１２月集金一覧'!F$4)","v":""},{"$f":"IF('１２月集金一覧'!G$4=\"\",\"\",'１２月集金一覧'!G$4)","v":""},"個人計"]
[20,{"$f":"VLOOKUP($A42,'１２月集金一覧'!$A$4:$H$44,B$2,FALSE)","v":0},{"$f":"VLOOKUP($A42,'１２月集金一覧'!$A$4:$H$44,C$2,FALSE)","v":0},{"$f":"VLOOKUP($A42,'１２月集金一覧'!$A$4:$H$44,D$2,FALSE)","v":0},{"$f":"VLOOKUP($A42,'１２月集金一覧'!$A$4:$H$44,E$2,FALSE)","v":0},{"$f":"VLOOKUP($A42,'１２月集金一覧'!$A$4:$H$44,F$2,FALSE)","v":0},{"$f":"VLOOKUP($A42,'１２月集金一覧'!$A$4:$H$44,G$2,FALSE)","v":0}]
["番号",{"$f":"IF('１２月集金一覧'!C$4=\"\",\"\",'１２月集金一覧'!C$4)","v":""},{"$f":"IF('１２月集金一覧'!D$4=\"\",\"\",'１２月集金一覧'!D$4)","v":""},{"$f":"IF('１２月集金一覧'!E$4=\"\",\"\",'１２月集金一覧'!E$4)","v":""},{"$f":"IF('１２月集金一覧'!F$4=\"\",\"\",'１２月集金一覧'!F$4)","v":""},{"$f":"IF('１２月集金一覧'!G$4=\"\",\"\",'１２月集金一覧'!G$4)","v":""},"個人計"]
[21,{"$f":"VLOOKUP($A44,'１２月集金一覧'!$A$4:$H$44,B$2,FALSE)","v":0},{"$f":"VLOOKUP($A44,'１２月集金一覧'!$A$4:$H$44,C$2,FALSE)","v":0},{"$f":"VLOOKUP($A44,'１２月集金一覧'!$A$4:$H$44,D$2,FALSE)","v":0},{"$f":"VLOOKUP($A44,'１２月集金一覧'!$A$4:$H$44,E$2,FALSE)","v":0},{"$f":"VLOOKUP($A44,'１２月集金一覧'!$A$4:$H$44,F$2,FALSE)","v":0},{"$f":"VLOOKUP($A44,'１２月集金一覧'!$A$4:$H$44,G$2,FALSE)","v":0}]
["番号",{"$f":"IF('１２月集金一覧'!C$4=\"\",\"\",'１２月集金一覧'!C$4)","v":""},{"$f":"IF('１２月集金一覧'!D$4=\"\",\"\",'１２月集金一覧'!D$4)","v":""},{"$f":"IF('１２月集金一覧'!E$4=\"\",\"\",'１２月集金一覧'!E$4)","v":""},{"$f":"IF('１２月集金一覧'!F$4=\"\",\"\",'１２月集金一覧'!F$4)","v":""},{"$f":"IF('１２月集金一覧'!G$4=\"\",\"\",'１２月集金一覧'!G$4)","v":""},"個人計"]
[22,{"$f":"VLOOKUP($A46,'１２月集金一覧'!$A$4:$H$44,B$2,FALSE)","v":0},{"$f":"VLOOKUP($A46,'１２月集金一覧'!$A$4:$H$44,C$2,FALSE)","v":0},{"$f":"VLOOKUP($A46,'１２月集金一覧'!$A$4:$H$44,D$2,FALSE)","v":0},{"$f":"VLOOKUP($A46,'１２月集金一覧'!$A$4:$H$44,E$2,FALSE)","v":0},{"$f":"VLOOKUP($A46,'１２月集金一覧'!$A$4:$H$44,F$2,FALSE)","v":0},{"$f":"VLOOKUP($A46,'１２月集金一覧'!$A$4:$H$44,G$2,FALSE)","v":0}]

{"sheet":"1月個票","index":31,"n_rows":46,"n_cols":15,"rows_kept":46,"cut":false,"hidden":false,"merged":[]}
[null,"令和",{"$f":"メイン!D7","v":0},"年度",{"$f":"メイン!C8","v":0},"年",{"$f":"メイン!E8","v":0},"組"]
[1,3,4,5,6,7,8,null,1,3,4,5,6,7,8]
["番号",{"$f":"IF('１月集金一覧'!C$4=\"\",\"\",'１月集金一覧'!C$4)","v":""},{"$f":"IF('１月集金一覧'!$D$4=\"\",\"\",'１月集金一覧'!D$4)","v":""},{"$f":"IF('１月集金一覧'!E$4=\"\",\"\",'１月集金一覧'!E$4)","v":""},{"$f":"IF('１月集金一覧'!F$4=\"\",\"\",'１月集金一覧'!F$4)","v":""},{"$f":"IF('１月集金一覧'!G$4=\"\",\"\",'１月集金一覧'!G$4)","v":""},"個人計",null,"番号",{"$f":"IF('１月集金一覧'!C$4=\"\",\"\",'１月集金一覧'!C$4)","v":""},{"$f":"IF('１月集金一覧'!D$4=\"\",\"\",'１月集金一覧'!D$4)","v":""},{"$f":"IF('１月集金一覧'!E$4=\"\",\"\",'１月集金一覧'!E$4)","v":""},{"$f":"IF('１月集金一覧'!F$4=\"\",\"\",'１月集金一覧'!F$4)","v":""},{"$f":"IF('１月集金一覧'!G$4=\"\",\"\",'１月集金一覧'!G$4)","v":""},"個人計"]
[1,{"$f":"VLOOKUP($A4,'１月集金一覧'!$A$4:$H$44,B$2,FALSE)","v":0},{"$f":"VLOOKUP($A4,'１月集金一覧'!$A$4:$H$44,C$2,FALSE)","v":0},{"$f":"VLOOKUP($A4,'１月集金一覧'!$A$4:$H$44,D$2,FALSE)","v":0},{"$f":"VLOOKUP($A4,'１月集金一覧'!$A$4:$H$44,E$2,FALSE)","v":0},{"$f":"VLOOKUP($A4,'１月集金一覧'!$A$4:$H$44,F$2,FALSE)","v":0},{"$f":"VLOOKUP($A4,'１月集金一覧'!$A$4:$H$44,G$2,FALSE)","v":0},null,23,{"$f":"VLOOKUP($I4,'１月集金一覧'!$A$4:$H$44,J$2,FALSE)","v":0},{"$f":"VLOOKUP($I4,'１月集金一覧'!$A$4:$H$44,K$2,FALSE)","v":0},{"$f":"VLOOKUP($I4,'１月集金一覧'!$A$4:$H$44,L$2,FALSE)","v":0},{"$f":"VLOOKUP($I4,'１月集金一覧'!$A$4:$H$44,M$2,FALSE)","v":0},{"$f":"VLOOKUP($I4,'１月集金一覧'!$A$4:$H$44,N$2,FALSE)","v":0},{"$f":"VLOOKUP($I4,'１月集金一覧'!$A$4:$H$44,O$2,FALSE)","v":0}]
["番号",{"$f":"IF('１月集金一覧'!C$4=\"\",\"\",'１月集金一覧'!C$4)","v":""},{"$f":"IF('１月集金一覧'!D$4=\"\",\"\",'１月集金一覧'!D$4)","v":""},{"$f":"IF('１月集金一覧'!E$4=\"\",\"\",'１月集金一覧'!E$4)","v":""},{"$f":"IF('１月集金一覧'!F$4=\"\",\"\",'１月集金一覧'!F$4)","v":""},{"$f":"IF('１月集金一覧'!G$4=\"\",\"\",'１月集金一覧'!G$4)","v":""},"個人計",null,"番号",{"$f":"IF('１月集金一覧'!C$4=\"\",\"\",'１月集金一覧'!C$4)","v":""},{"$f":"IF('１月集金一覧'!D$4=\"\",\"\",'１月集金一覧'!D$4)","v":""},{"$f":"IF('１月集金一覧'!E$4=\"\",\"\",'１月集金一覧'!E$4)","v":""},{"$f":"IF('１月集金一覧'!F$4=\"\",\"\",'１月集金一覧'!F$4)","v":""},{"$f":"IF('１月集金一覧'!G$4=\"\",\"\",'１月集金一覧'!G$4)","v":""},"個人計"]
[2,{"$f":"VLOOKUP($A6,'１月集金一覧'!$A$4:$H$44,B$2,FALSE)","v":0},{"$f":"VLOOKUP($A6,'１月集金一覧'!$A$4:$H$44,C$2,FALSE)","v":0},{"$f":"VLOOKUP($A6,'１月集金一覧'!$A$4:$H$44,D$2,FALSE)","v":0},{"$f":"VLOOKUP($A6,'１月集金一覧'!$A$4:$H$44,E$2,FALSE)","v":0},{"$f":"VLOOKUP($A6,'１月集金一覧'!$A$4:$H$44,F$2,FALSE)","v":0},{"$f":"VLOOKUP($A6,'１月集金一覧'!$A$4:$H$44,G$2,FALSE)","v":0},null,24,{"$f":"VLOOKUP($I6,'１月集金一覧'!$A$4:$H$44,J$2,FALSE)","v":0},{"$f":"VLOOKUP($I6,'１月集金一覧'!$A$4:$H$44,K$2,FALSE)","v":0},{"$f":"VLOOKUP($I6,'１月集金一覧'!$A$4:$H$44,L$2,FALSE)","v":0},{"$f":"VLOOKUP($I6,'１月集金一覧'!$A$4:$H$44,M$2,FALSE)","v":0},{"$f":"VLOOKUP($I6,'１月集金一覧'!$A$4:$H$44,N$2,FALSE)","v":0},{"$f":"VLOOKUP($I6,'１月集金一覧'!$A$4:$H$44,O$2,FALSE)","v":0}]
["番号",{"$f":"IF('１月集金一覧'!C$4=\"\",\"\",'１月集金一覧'!C$4)","v":""},{"$f":"IF('１月集金一覧'!D$4=\"\",\"\",'１月集金一覧'!D$4)","v":""},{"$f":"IF('１月集金一覧'!E$4=\"\",\"\",'１月集金一覧'!E$4)","v":""},{"$f":"IF('１月集金一覧'!F$4=\"\",\"\",'１月集金一覧'!F$4)","v":""},{"$f":"IF('１月集金一覧'!G$4=\"\",\"\",'１月集金一覧'!G$4)","v":""},"個人計",null,"番号",{"$f":"IF('１月集金一覧'!C$4=\"\",\"\",'１月集金一覧'!C$4)","v":""},{"$f":"IF('１月集金一覧'!D$4=\"\",\"\",'１月集金一覧'!D$4)","v":""},{"$f":"IF('１月集金一覧'!E$4=\"\",\"\",'１月集金一覧'!E$4)","v":""},{"$f":"IF('１月集金一覧'!F$4=\"\",\"\",'１月集金一覧'!F$4)","v":""},{"$f":"IF('１月集金一覧'!G$4=\"\",\"\",'１月集金一覧'!G$4)","v":""},"個人計"]
[3,{"$f":"VLOOKUP($A8,'１月集金一覧'!$A$4:$H$44,B$2,FALSE)","v":0},{"$f":"VLOOKUP($A8,'１月集金一覧'!$A$4:$H$44,C$2,FALSE)","v":0},{"$f":"VLOOKUP($A8,'１月集金一覧'!$A$4:$H$44,D$2,FALSE)","v":0},{"$f":"VLOOKUP($A8,'１月集金一覧'!$A$4:$H$44,E$2,FALSE)","v":0},{"$f":"VLOOKUP($A8,'１月集金一覧'!$A$4:$H$44,F$2,FALSE)","v":0},{"$f":"VLOOKUP($A8,'１月集金一覧'!$A$4:$H$44,G$2,FALSE)","v":0},null,25,{"$f":"VLOOKUP($I8,'１月集金一覧'!$A$4:$H$44,J$2,FALSE)","v":0},{"$f":"VLOOKUP($I8,'１月集金一覧'!$A$4:$H$44,K$2,FALSE)","v":0},{"$f":"VLOOKUP($I8,'１月集金一覧'!$A$4:$H$44,L$2,FALSE)","v":0},{"$f":"VLOOKUP($I8,'１月集金一覧'!$A$4:$H$44,M$2,FALSE)","v":0},{"$f":"VLOOKUP($I8,'１月集金一覧'!$A$4:$H$44,N$2,FALSE)","v":0},{"$f":"VLOOKUP($I8,'１月集金一覧'!$A$4:$H$44,O$2,FALSE)","v":0}]
["番号",{"$f":"IF('１月集金一覧'!C$4=\"\",\"\",'１月集金一覧'!C$4)","v":""},{"$f":"IF('１月集金一覧'!D$4=\"\",\"\",'１月集金一覧'!D$4)","v":""},{"$f":"IF('１月集金一覧'!E$4=\"\",\"\",'１月集金一覧'!E$4)","v":""},{"$f":"IF('１月集金一覧'!F$4=\"\",\"\",'１月集金一覧'!F$4)","v":""},{"$f":"IF('１月集金一覧'!G$4=\"\",\"\",'１月集金一覧'!G$4)","v":""},"個人計",null,"番号",{"$f":"IF('１月集金一覧'!C$4=\"\",\"\",'１月集金一覧'!C$4)","v":""},{"$f":"IF('１月集金一覧'!D$4=\"\",\"\",'１月集金一覧'!D$4)","v":""},{"$f":"IF('１月集金一覧'!E$4=\"\",\"\",'１月集金一覧'!E$4)","v":""},{"$f":"IF('１月集金一覧'!F$4=\"\",\"\",'１月集金一覧'!F$4)","v":""},{"$f":"IF('１月集金一覧'!G$4=\"\",\"\",'１月集金一覧'!G$4)","v":""},"個人計"]
[4,{"$f":"VLOOKUP($A10,'１月集金一覧'!$A$4:$H$44,B$2,FALSE)","v":0},{"$f":"VLOOKUP($A10,'１月集金一覧'!$A$4:$H$44,C$2,FALSE)","v":0},{"$f":"VLOOKUP($A10,'１月集金一覧'!$A$4:$H$44,D$2,FALSE)","v":0},{"$f":"VLOOKUP($A10,'１月集金一覧'!$A$4:$H$44,E$2,FALSE)","v":0},{"$f":"VLOOKUP($A10,'１月集金一覧'!$A$4:$H$44,F$2,FALSE)","v":0},{"$f":"VLOOKUP($A10,'１月集金一覧'!$A$4:$H$44,G$2,FALSE)","v":0},null,26,{"$f":"VLOOKUP($I10,'１月集金一覧'!$A$4:$H$44,J$2,FALSE)","v":0},{"$f":"VLOOKUP($I10,'１月集金一覧'!$A$4:$H$44,K$2,FALSE)","v":0},{"$f":"VLOOKUP($I10,'１月集金一覧'!$A$4:$H$44,L$2,FALSE)","v":0},{"$f":"VLOOKUP($I10,'１月集金一覧'!$A$4:$H$44,M$2,FALSE)","v":0},{"$f":"VLOOKUP($I10,'１月集金一覧'!$A$4:$H$44,N$2,FALSE)","v":0},{"$f":"VLOOKUP($I10,'１月集金一覧'!$A$4:$H$44,O$2,FALSE)","v":0}]
["番号",{"$f":"IF('１月集金一覧'!C$4=\"\",\"\",'１月集金一覧'!C$4)","v":""},{"$f":"IF('１月集金一覧'!D$4=\"\",\"\",'１月集金一覧'!D$4)","v":""},{"$f":"IF('１月集金一覧'!E$4=\"\",\"\",'１月集金一覧'!E$4)","v":""},{"$f":"IF('１月集金一覧'!F$4=\"\",\"\",'１月集金一覧'!F$4)","v":""},{"$f":"IF('１月集金一覧'!G$4=\"\",\"\",'１月集金一覧'!G$4)","v":""},"個人計",null,"番号",{"$f":"IF('１月集金一覧'!C$4=\"\",\"\",'１月集金一覧'!C$4)","v":""},{"$f":"IF('１月集金一覧'!D$4=\"\",\"\",'１月集金一覧'!D$4)","v":""},{"$f":"IF('１月集金一覧'!E$4=\"\",\"\",'１月集金一覧'!E$4)","v":""},{"$f":"IF('１月集金一覧'!F$4=\"\",\"\",'１月集金一覧'!F$4)","v":""},{"$f":"IF('１月集金一覧'!G$4=\"\",\"\",'１月集金一覧'!G$4)","v":""},"個人計"]
[5,{"$f":"VLOOKUP($A12,'１月集金一覧'!$A$4:$H$44,B$2,FALSE)","v":0},{"$f":"VLOOKUP($A12,'１月集金一覧'!$A$4:$H$44,C$2,FALSE)","v":0},{"$f":"VLOOKUP($A12,'１月集金一覧'!$A$4:$H$44,D$2,FALSE)","v":0},{"$f":"VLOOKUP($A12,'１月集金一覧'!$A$4:$H$44,E$2,FALSE)","v":0},{"$f":"VLOOKUP($A12,'１月集金一覧'!$A$4:$H$44,F$2,FALSE)","v":0},{"$f":"VLOOKUP($A12,'１月集金一覧'!$A$4:$H$44,G$2,FALSE)","v":0},null,27,{"$f":"VLOOKUP($I12,'１月集金一覧'!$A$4:$H$44,J$2,FALSE)","v":0},{"$f":"VLOOKUP($I12,'１月集金一覧'!$A$4:$H$44,K$2,FALSE)","v":0},{"$f":"VLOOKUP($I12,'１月集金一覧'!$A$4:$H$44,L$2,FALSE)","v":0},{"$f":"VLOOKUP($I12,'１月集金一覧'!$A$4:$H$44,M$2,FALSE)","v":0},{"$f":"VLOOKUP($I12,'１月集金一覧'!$A$4:$H$44,N$2,FALSE)","v":0},{"$f":"VLOOKUP($I12,'１月集金一覧'!$A$4:$H$44,O$2,FALSE)","v":0}]
["番号",{"$f":"IF('１月集金一覧'!C$4=\"\",\"\",'１月集金一覧'!C$4)","v":""},{"$f":"IF('１月集金一覧'!D$4=\"\",\"\",'１月集金一覧'!D$4)","v":""},{"$f":"IF('１月集金一覧'!E$4=\"\",\"\",'１月集金一覧'!E$4)","v":""},{"$f":"IF('１月集金一覧'!F$4=\"\",\"\",'１月集金一覧'!F$4)","v":""},{"$f":"IF('１月集金一覧'!G$4=\"\",\"\",'１月集金一覧'!G$4)","v":""},"個人計",null,"番号",{"$f":"IF('１月集金一覧'!C$4=\"\",\"\",'１月集金一覧'!C$4)","v":""},{"$f":"IF('１月集金一覧'!D$4=\"\",\"\",'１月集金一覧'!D$4)","v":""},{"$f":"IF('１月集金一覧'!E$4=\"\",\"\",'１月集金一覧'!E$4)","v":""},{"$f":"IF('１月集金一覧'!F$4=\"\",\"\",'１月集金一覧'!F$4)","v":""},{"$f":"IF('１月集金一覧'!G$4=\"\",\"\",'１月集金一覧'!G$4)","v":""},"個人計"]
[6,{"$f":"VLOOKUP($A14,'１月集金一覧'!$A$4:$H$44,B$2,FALSE)","v":0},{"$f":"VLOOKUP($A14,'１月集金一覧'!$A$4:$H$44,C$2,FALSE)","v":0},{"$f":"VLOOKUP($A14,'１月集金一覧'!$A$4:$H$44,D$2,FALSE)","v":0},{"$f":"VLOOKUP($A14,'１月集金一覧'!$A$4:$H$44,E$2,FALSE)","v":0},{"$f":"VLOOKUP($A14,'１月集金一覧'!$A$4:$H$44,F$2,FALSE)","v":0},{"$f":"VLOOKUP($A14,'１月集金一覧'!$A$4:$H$44,G$2,FALSE)","v":0},null,28,{"$f":"VLOOKUP($I14,'１月集金一覧'!$A$4:$H$44,J$2,FALSE)","v":0},{"$f":"VLOOKUP($I14,'１月集金一覧'!$A$4:$H$44,K$2,FALSE)","v":0},{"$f":"VLOOKUP($I14,'１月集金一覧'!$A$4:$H$44,L$2,FALSE)","v":0},{"$f":"VLOOKUP($I14,'１月集金一覧'!$A$4:$H$44,M$2,FALSE)","v":0},{"$f":"VLOOKUP($I14,'１月集金一覧'!$A$4:$H$44,N$2,FALSE)","v":0},{"$f":"VLOOKUP($I14,'１月集金一覧'!$A$4:$H$44,O$2,FALSE)","v":0}]
["番号",{"$f":"IF('１月集金一覧'!C$4=\"\",\"\",'１月集金一覧'!C$4)","v":""},{"$f":"IF('１月集金一覧'!D$4=\"\",\"\",'１月集金一覧'!D$4)","v":""},{"$f":"IF('１月集金一覧'!E$4=\"\",\"\",'１月集金一覧'!E$4)","v":""},{"$f":"IF('１月集金一覧'!F$4=\"\",\"\",'１月集金一覧'!F$4)","v":""},{"$f":"IF('１月集金一覧'!G$4=\"\",\"\",'１月集金一覧'!G$4)","v":""},"個人計",null,"番号",{"$f":"IF('１月集金一覧'!C$4=\"\",\"\",'１月集金一覧'!C$4)","v":""},{"$f":"IF('１月集金一覧'!D$4=\"\",\"\",'１月集金一覧'!D$4)","v":""},{"$f":"IF('１月集金一覧'!E$4=\"\",\"\",'１月集金一覧'!E$4)","v":""},{"$f":"IF('１月集金一覧'!F$4=\"\",\"\",'１月集金一覧'!F$4)","v":""},{"$f":"IF('１月集金一覧'!G$4=\"\",\"\",'１月集金一覧'!G$4)","v":""},"個人計"]
[7,{"$f":"VLOOKUP($A16,'１月集金一覧'!$A$4:$H$44,B$2,FALSE)","v":0},{"$f":"VLOOKUP($A16,'１月集金一覧'!$A$4:$H$44,C$2,FALSE)","v":0},{"$f":"VLOOKUP($A16,'１月集金一覧'!$A$4:$H$44,D$2,FALSE)","v":0},{"$f":"VLOOKUP($A16,'１月集金一覧'!$A$4:$H$44,E$2,FALSE)","v":0},{"$f":"VLOOKUP($A16,'１月集金一覧'!$A$4:$H$44,F$2,FALSE)","v":0},{"$f":"VLOOKUP($A16,'１月集金一覧'!$A$4:$H$44,G$2,FALSE)","v":0},null,29,{"$f":"VLOOKUP($I16,'１月集金一覧'!$A$4:$H$44,J$2,FALSE)","v":0},{"$f":"VLOOKUP($I16,'１月集金一覧'!$A$4:$H$44,K$2,FALSE)","v":0},{"$f":"VLOOKUP($I16,'１月集金一覧'!$A$4:$H$44,L$2,FALSE)","v":0},{"$f":"VLOOKUP($I16,'１月集金一覧'!$A$4:$H$44,M$2,FALSE)","v":0},{"$f":"VLOOKUP($I16,'１月集金一覧'!$A$4:$H$44,N$2,FALSE)","v":0},{"$f":"VLOOKUP($I16,'１月集金一覧'!$A$4:$H$44,O$2,FALSE)","v":0}]
["番号",{"$f":"IF('１月集金一覧'!C$4=\"\",\"\",'１月集金一覧'!C$4)","v":""},{"$f":"IF('１月集金一覧'!D$4=\"\",\"\",'１月集金一覧'!D$4)","v":""},{"$f":"IF('１月集金一覧'!E$4=\"\",\"\",'１月集金一覧'!E$4)","v":""},{"$f":"IF('１月集金一覧'!F$4=\"\",\"\",'１月集金一覧'!F$4)","v":""},{"$f":"IF('１月集金一覧'!G$4=\"\",\"\",'１月集金一覧'!G$4)","v":""},"個人計",null,"番号",{"$f":"IF('１月集金一覧'!C$4=\"\",\"\",'１月集金一覧'!C$4)","v":""},{"$f":"IF('１月集金一覧'!D$4=\"\",\"\",'１月集金一覧'!D$4)","v":""},{"$f":"IF('１月集金一覧'!E$4=\"\",\"\",'１月集金一覧'!E$4)","v":""},{"$f":"IF('１月集金一覧'!F$4=\"\",\"\",'１月集金一覧'!F$4)","v":""},{"$f":"IF('１月集金一覧'!G$4=\"\",\"\",'１月集金一覧'!G$4)","v":""},"個人計"]
[8,{"$f":"VLOOKUP($A18,'１月集金一覧'!$A$4:$H$44,B$2,FALSE)","v":0},{"$f":"VLOOKUP($A18,'１月集金一覧'!$A$4:$H$44,C$2,FALSE)","v":0},{"$f":"VLOOKUP($A18,'１月集金一覧'!$A$4:$H$44,D$2,FALSE)","v":0},{"$f":"VLOOKUP($A18,'１月集金一覧'!$A$4:$H$44,E$2,FALSE)","v":0},{"$f":"VLOOKUP($A18,'１月集金一覧'!$A$4:$H$44,F$2,FALSE)","v":0},{"$f":"VLOOKUP($A18,'１月集金一覧'!$A$4:$H$44,G$2,FALSE)","v":0},null,30,{"$f":"VLOOKUP($I18,'１月集金一覧'!$A$4:$H$44,J$2,FALSE)","v":0},{"$f":"VLOOKUP($I18,'１月集金一覧'!$A$4:$H$44,K$2,FALSE)","v":0},{"$f":"VLOOKUP($I18,'１月集金一覧'!$A$4:$H$44,L$2,FALSE)","v":0},{"$f":"VLOOKUP($I18,'１月集金一覧'!$A$4:$H$44,M$2,FALSE)","v":0},{"$f":"VLOOKUP($I18,'１月集金一覧'!$A$4:$H$44,N$2,FALSE)","v":0},{"$f":"VLOOKUP($I18,'１月集金一覧'!$A$4:$H$44,O$2,FALSE)","v":0}]
["番号",{"$f":"IF('１月集金一覧'!C$4=\"\",\"\",'１月集金一覧'!C$4)","v":""},{"$f":"IF('１月集金一覧'!D$4=\"\",\"\",'１月集金一覧'!D$4)","v":""},{"$f":"IF('１月集金一覧'!E$4=\"\",\"\",'１月集金一覧'!E$4)","v":""},{"$f":"IF('１月集金一覧'!F$4=\"\",\"\",'１月集金一覧'!F$4)","v":""},{"$f":"IF('１月集金一覧'!G$4=\"\",\"\",'１月集金一覧'!G$4)","v":""},"個人計",null,"番号",{"$f":"IF('１月集金一覧'!C$4=\"\",\"\",'１月集金一覧'!C$4)","v":""},{"$f":"IF('１月集金一覧'!D$4=\"\",\"\",'１月集金一覧'!D$4)","v":""},{"$f":"IF('１月集金一覧'!E$4=\"\",\"\",'１月集金一覧'!E$4)","v":""},{"$f":"IF('１月集金一覧'!F$4=\"\",\"\",'１月集金一覧'!F$4)","v":""},{"$f":"IF('１月集金一覧'!G$4=\"\",\"\",'１月集金一覧'!G$4)","v":""},"個人計"]
[9,{"$f":"VLOOKUP($A20,'１月集金一覧'!$A$4:$H$44,B$2,FALSE)","v":0},{"$f":"VLOOKUP($A20,'１月集金一覧'!$A$4:$H$44,C$2,FALSE)","v":0},{"$f":"VLOOKUP($A20,'１月集金一覧'!$A$4:$H$44,D$2,FALSE)","v":0},{"$f":"VLOOKUP($A20,'１月集金一覧'!$A$4:$H$44,E$2,FALSE)","v":0},{"$f":"VLOOKUP($A20,'１月集金一覧'!$A$4:$H$44,F$2,FALSE)","v":0},{"$f":"VLOOKUP($A20,'１月集金一覧'!$A$4:$H$44,G$2,FALSE)","v":0},null,31,{"$f":"VLOOKUP($I20,'１月集金一覧'!$A$4:$H$44,J$2,FALSE)","v":0},{"$f":"VLOOKUP($I20,'１月集金一覧'!$A$4:$H$44,K$2,FALSE)","v":0},{"$f":"VLOOKUP($I20,'１月集金一覧'!$A$4:$H$44,L$2,FALSE)","v":0},{"$f":"VLOOKUP($I20,'１月集金一覧'!$A$4:$H$44,M$2,FALSE)","v":0},{"$f":"VLOOKUP($I20,'１月集金一覧'!$A$4:$H$44,N$2,FALSE)","v":0},{"$f":"VLOOKUP($I20,'１月集金一覧'!$A$4:$H$44,O$2,FALSE)","v":0}]
["番号",{"$f":"IF('１月集金一覧'!C$4=\"\",\"\",'１月集金一覧'!C$4)","v":""},{"$f":"IF('１月集金一覧'!D$4=\"\",\"\",'１月集金一覧'!D$4)","v":""},{"$f":"IF('１月集金一覧'!E$4=\"\",\"\",'１月集金一覧'!E$4)","v":""},{"$f":"IF('１月集金一覧'!F$4=\"\",\"\",'１月集金一覧'!F$4)","v":""},{"$f":"IF('１月集金一覧'!G$4=\"\",\"\",'１月集金一覧'!G$4)","v":""},"個人計",null,"番号",{"$f":"IF('１月集金一覧'!C$4=\"\",\"\",'１月集金一覧'!C$4)","v":""},{"$f":"IF('１月集金一覧'!D$4=\"\",\"\",'１月集金一覧'!D$4)","v":""},{"$f":"IF('１月集金一覧'!E$4=\"\",\"\",'１月集金一覧'!E$4)","v":""},{"$f":"IF('１月集金一覧'!F$4=\"\",\"\",'１月集金一覧'!F$4)","v":""},{"$f":"IF('１月集金一覧'!G$4=\"\",\"\",'１月集金一覧'!G$4)","v":""},"個人計"]
[10,{"$f":"VLOOKUP($A22,'１月集金一覧'!$A$4:$H$44,B$2,FALSE)","v":0},{"$f":"VLOOKUP($A22,'１月集金一覧'!$A$4:$H$44,C$2,FALSE)","v":0},{"$f":"VLOOKUP($A22,'１月集金一覧'!$A$4:$H$44,D$2,FALSE)","v":0},{"$f":"VLOOKUP($A22,'１月集金一覧'!$A$4:$H$44,E$2,FALSE)","v":0},{"$f":"VLOOKUP($A22,'１月集金一覧'!$A$4:$H$44,F$2,FALSE)","v":0},{"$f":"VLOOKUP($A22,'１月集金一覧'!$A$4:$H$44,G$2,FALSE)","v":0},null,32,{"$f":"VLOOKUP($I22,'１月集金一覧'!$A$4:$H$44,J$2,FALSE)","v":0},{"$f":"VLOOKUP($I22,'１月集金一覧'!$A$4:$H$44,K$2,FALSE)","v":0},{"$f":"VLOOKUP($I22,'１月集金一覧'!$A$4:$H$44,L$2,FALSE)","v":0},{"$f":"VLOOKUP($I22,'１月集金一覧'!$A$4:$H$44,M$2,FALSE)","v":0},{"$f":"VLOOKUP($I22,'１月集金一覧'!$A$4:$H$44,N$2,FALSE)","v":0},{"$f":"VLOOKUP($I22,'１月集金一覧'!$A$4:$H$44,O$2,FALSE)","v":0}]
["番号",{"$f":"IF('１月集金一覧'!C$4=\"\",\"\",'１月集金一覧'!C$4)","v":""},{"$f":"IF('１月集金一覧'!D$4=\"\",\"\",'１月集金一覧'!D$4)","v":""},{"$f":"IF('１月集金一覧'!E$4=\"\",\"\",'１月集金一覧'!E$4)","v":""},{"$f":"IF('１月集金一覧'!F$4=\"\",\"\",'１月集金一覧'!F$4)","v":""},{"$f":"IF('１月集金一覧'!G$4=\"\",\"\",'１月集金一覧'!G$4)","v":""},"個人計",null,"番号",{"$f":"IF('１月集金一覧'!C$4=\"\",\"\",'１月集金一覧'!C$4)","v":""},{"$f":"IF('１月集金一覧'!D$4=\"\",\"\",'１月集金一覧'!D$4)","v":""},{"$f":"IF('１月集金一覧'!E$4=\"\",\"\",'１月集金一覧'!E$4)","v":""},{"$f":"IF('１月集金一覧'!F$4=\"\",\"\",'１月集金一覧'!F$4)","v":""},{"$f":"IF('１月集金一覧'!G$4=\"\",\"\",'１月集金一覧'!G$4)","v":""},"個人計"]
[11,{"$f":"VLOOKUP($A24,'１月集金一覧'!$A$4:$H$44,B$2,FALSE)","v":0},{"$f":"VLOOKUP($A24,'１月集金一覧'!$A$4:$H$44,C$2,FALSE)","v":0},{"$f":"VLOOKUP($A24,'１月集金一覧'!$A$4:$H$44,D$2,FALSE)","v":0},{"$f":"VLOOKUP($A24,'１月集金一覧'!$A$4:$H$44,E$2,FALSE)","v":0},{"$f":"VLOOKUP($A24,'１月集金一覧'!$A$4:$H$44,F$2,FALSE)","v":0},{"$f":"VLOOKUP($A24,'１月集金一覧'!$A$4:$H$44,G$2,FALSE)","v":0},null,33,{"$f":"VLOOKUP($I24,'１月集金一覧'!$A$4:$H$44,J$2,FALSE)","v":0},{"$f":"VLOOKUP($I24,'１月集金一覧'!$A$4:$H$44,K$2,FALSE)","v":0},{"$f":"VLOOKUP($I24,'１月集金一覧'!$A$4:$H$44,L$2,FALSE)","v":0},{"$f":"VLOOKUP($I24,'１月集金一覧'!$A$4:$H$44,M$2,FALSE)","v":0},{"$f":"VLOOKUP($I24,'１月集金一覧'!$A$4:$H$44,N$2,FALSE)","v":0},{"$f":"VLOOKUP($I24,'１月集金一覧'!$A$4:$H$44,O$2,FALSE)","v":0}]
["番号",{"$f":"IF('１月集金一覧'!C$4=\"\",\"\",'１月集金一覧'!C$4)","v":""},{"$f":"IF('１月集金一覧'!D$4=\"\",\"\",'１月集金一覧'!D$4)","v":""},{"$f":"IF('１月集金一覧'!E$4=\"\",\"\",'１月集金一覧'!E$4)","v":""},{"$f":"IF('１月集金一覧'!F$4=\"\",\"\",'１月集金一覧'!F$4)","v":""},{"$f":"IF('１月集金一覧'!G$4=\"\",\"\",'１月集金一覧'!G$4)","v":""},"個人計",null,"番号",{"$f":"IF('１月集金一覧'!C$4=\"\",\"\",'１月集金一覧'!C$4)","v":""},{"$f":"IF('１月集金一覧'!D$4=\"\",\"\",'１月集金一覧'!D$4)","v":""},{"$f":"IF('１月集金一覧'!E$4=\"\",\"\",'１月集金一覧'!E$4)","v":""},{"$f":"IF('１月集金一覧'!F$4=\"\",\"\",'１月集金一覧'!F$4)","v":""},{"$f":"IF('１月集金一覧'!G$4=\"\",\"\",'１月集金一覧'!G$4)","v":""},"個人計"]
[12,{"$f":"VLOOKUP($A26,'１月集金一覧'!$A$4:$H$44,B$2,FALSE)","v":0},{"$f":"VLOOKUP($A26,'１月集金一覧'!$A$4:$H$44,C$2,FALSE)","v":0},{"$f":"VLOOKUP($A26,'１月集金一覧'!$A$4:$H$44,D$2,FALSE)","v":0},{"$f":"VLOOKUP($A26,'１月集金一覧'!$A$4:$H$44,E$2,FALSE)","v":0},{"$f":"VLOOKUP($A26,'１月集金一覧'!$A$4:$H$44,F$2,FALSE)","v":0},{"$f":"VLOOKUP($A26,'１月集金一覧'!$A$4:$H$44,G$2,FALSE)","v":0},null,34,{"$f":"VLOOKUP($I26,'１月集金一覧'!$A$4:$H$44,J$2,FALSE)","v":0},{"$f":"VLOOKUP($I26,'１月集金一覧'!$A$4:$H$44,K$2,FALSE)","v":0},{"$f":"VLOOKUP($I26,'１月集金一覧'!$A$4:$H$44,L$2,FALSE)","v":0},{"$f":"VLOOKUP($I26,'１月集金一覧'!$A$4:$H$44,M$2,FALSE)","v":0},{"$f":"VLOOKUP($I26,'１月集金一覧'!$A$4:$H$44,N$2,FALSE)","v":0},{"$f":"VLOOKUP($I26,'１月集金一覧'!$A$4:$H$44,O$2,FALSE)","v":0}]
["番号",{"$f":"IF('１月集金一覧'!C$4=\"\",\"\",'１月集金一覧'!C$4)","v":""},{"$f":"IF('１月集金一覧'!D$4=\"\",\"\",'１月集金一覧'!D$4)","v":""},{"$f":"IF('１月集金一覧'!E$4=\"\",\"\",'１月集金一覧'!E$4)","v":""},{"$f":"IF('１月集金一覧'!F$4=\"\",\"\",'１月集金一覧'!F$4)","v":""},{"$f":"IF('１月集金一覧'!G$4=\"\",\"\",'１月集金一覧'!G$4)","v":""},"個人計",null,"番号",{"$f":"IF('１月集金一覧'!C$4=\"\",\"\",'１月集金一覧'!C$4)","v":""},{"$f":"IF('１月集金一覧'!D$4=\"\",\"\",'１月集金一覧'!D$4)","v":""},{"$f":"IF('１月集金一覧'!E$4=\"\",\"\",'１月集金一覧'!E$4)","v":""},{"$f":"IF('１月集金一覧'!F$4=\"\",\"\",'１月集金一覧'!F$4)","v":""},{"$f":"IF('１月集金一覧'!G$4=\"\",\"\",'１月集金一覧'!G$4)","v":""},"個人計"]
[13,{"$f":"VLOOKUP($A28,'１月集金一覧'!$A$4:$H$44,B$2,FALSE)","v":0},{"$f":"VLOOKUP($A28,'１月集金一覧'!$A$4:$H$44,C$2,FALSE)","v":0},{"$f":"VLOOKUP($A28,'１月集金一覧'!$A$4:$H$44,D$2,FALSE)","v":0},{"$f":"VLOOKUP($A28,'１月集金一覧'!$A$4:$H$44,E$2,FALSE)","v":0},{"$f":"VLOOKUP($A28,'１月集金一覧'!$A$4:$H$44,F$2,FALSE)","v":0},{"$f":"VLOOKUP($A28,'１月集金一覧'!$A$4:$H$44,G$2,FALSE)","v":0},null,35,{"$f":"VLOOKUP($I28,'１月集金一覧'!$A$4:$H$44,J$2,FALSE)","v":0},{"$f":"VLOOKUP($I28,'１月集金一覧'!$A$4:$H$44,K$2,FALSE)","v":0},{"$f":"VLOOKUP($I28,'１月集金一覧'!$A$4:$H$44,L$2,FALSE)","v":0},{"$f":"VLOOKUP($I28,'１月集金一覧'!$A$4:$H$44,M$2,FALSE)","v":0},{"$f":"VLOOKUP($I28,'１月集金一覧'!$A$4:$H$44,N$2,FALSE)","v":0},{"$f":"VLOOKUP($I28,'１月集金一覧'!$A$4:$H$44,O$2,FALSE)","v":0}]
["番号",{"$f":"IF('１月集金一覧'!C$4=\"\",\"\",'１月集金一覧'!C$4)","v":""},{"$f":"IF('１月集金一覧'!D$4=\"\",\"\",'１月集金一覧'!D$4)","v":""},{"$f":"IF('１月集金一覧'!E$4=\"\",\"\",'１月集金一覧'!E$4)","v":""},{"$f":"IF('１月集金一覧'!F$4=\"\",\"\",'１月集金一覧'!F$4)","v":""},{"$f":"IF('１月集金一覧'!G$4=\"\",\"\",'１月集金一覧'!G$4)","v":""},"個人計",null,"番号",{"$f":"IF('１月集金一覧'!C$4=\"\",\"\",'１月集金一覧'!C$4)","v":""},{"$f":"IF('１月集金一覧'!D$4=\"\",\"\",'１月集金一覧'!D$4)","v":""},{"$f":"IF('１月集金一覧'!E$4=\"\",\"\",'１月集金一覧'!E$4)","v":""},{"$f":"IF('１月集金一覧'!F$4=\"\",\"\",'１月集金一覧'!F$4)","v":""},{"$f":"IF('１月集金一覧'!G$4=\"\",\"\",'１月集金一覧'!G$4)","v":""},"個人計"]
[14,{"$f":"VLOOKUP($A30,'１月集金一覧'!$A$4:$H$44,B$2,FALSE)","v":0},{"$f":"VLOOKUP($A30,'１月集金一覧'!$A$4:$H$44,C$2,FALSE)","v":0},{"$f":"VLOOKUP($A30,'１月集金一覧'!$A$4:$H$44,D$2,FALSE)","v":0},{"$f":"VLOOKUP($A30,'１月集金一覧'!$A$4:$H$44,E$2,FALSE)","v":0},{"$f":"VLOOKUP($A30,'１月集金一覧'!$A$4:$H$44,F$2,FALSE)","v":0},{"$f":"VLOOKUP($A30,'１月集金一覧'!$A$4:$H$44,G$2,FALSE)","v":0},null,36,{"$f":"VLOOKUP($I30,'１月集金一覧'!$A$4:$H$44,J$2,FALSE)","v":0},{"$f":"VLOOKUP($I30,'１月集金一覧'!$A$4:$H$44,K$2,FALSE)","v":0},{"$f":"VLOOKUP($I30,'１月集金一覧'!$A$4:$H$44,L$2,FALSE)","v":0},{"$f":"VLOOKUP($I30,'１月集金一覧'!$A$4:$H$44,M$2,FALSE)","v":0},{"$f":"VLOOKUP($I30,'１月集金一覧'!$A$4:$H$44,N$2,FALSE)","v":0},{"$f":"VLOOKUP($I30,'１月集金一覧'!$A$4:$H$44,O$2,FALSE)","v":0}]
["番号",{"$f":"IF('１月集金一覧'!C$4=\"\",\"\",'１月集金一覧'!C$4)","v":""},{"$f":"IF('１月集金一覧'!D$4=\"\",\"\",'１月集金一覧'!D$4)","v":""},{"$f":"IF('１月集金一覧'!E$4=\"\",\"\",'１月集金一覧'!E$4)","v":""},{"$f":"IF('１月集金一覧'!F$4=\"\",\"\",'１月集金一覧'!F$4)","v":""},{"$f":"IF('１月集金一覧'!G$4=\"\",\"\",'１月集金一覧'!G$4)","v":""},"個人計",null,"番号",{"$f":"IF('１月集金一覧'!C$4=\"\",\"\",'１月集金一覧'!C$4)","v":""},{"$f":"IF('１月集金一覧'!D$4=\"\",\"\",'１月集金一覧'!D$4)","v":""},{"$f":"IF('１月集金一覧'!E$4=\"\",\"\",'１月集金一覧'!E$4)","v":""},{"$f":"IF('１月集金一覧'!F$4=\"\",\"\",'１月集金一覧'!F$4)","v":""},{"$f":"IF('１月集金一覧'!G$4=\"\",\"\",'１月集金一覧'!G$4)","v":""},"個人計"]
[15,{"$f":"VLOOKUP($A32,'１月集金一覧'!$A$4:$H$44,B$2,FALSE)","v":0},{"$f":"VLOOKUP($A32,'１月集金一覧'!$A$4:$H$44,C$2,FALSE)","v":0},{"$f":"VLOOKUP($A32,'１月集金一覧'!$A$4:$H$44,D$2,FALSE)","v":0},{"$f":"VLOOKUP($A32,'１月集金一覧'!$A$4:$H$44,E$2,FALSE)","v":0},{"$f":"VLOOKUP($A32,'１月集金一覧'!$A$4:$H$44,F$2,FALSE)","v":0},{"$f":"VLOOKUP($A32,'１月集金一覧'!$A$4:$H$44,G$2,FALSE)","v":0},null,37,{"$f":"VLOOKUP($I32,'１月集金一覧'!$A$4:$H$44,J$2,FALSE)","v":0},{"$f":"VLOOKUP($I32,'１月集金一覧'!$A$4:$H$44,K$2,FALSE)","v":0},{"$f":"VLOOKUP($I32,'１月集金一覧'!$A$4:$H$44,L$2,FALSE)","v":0},{"$f":"VLOOKUP($I32,'１月集金一覧'!$A$4:$H$44,M$2,FALSE)","v":0},{"$f":"VLOOKUP($I32,'１月集金一覧'!$A$4:$H$44,N$2,FALSE)","v":0},{"$f":"VLOOKUP($I32,'１月集金一覧'!$A$4:$H$44,O$2,FALSE)","v":0}]
["番号",{"$f":"IF('１月集金一覧'!C$4=\"\",\"\",'１月集金一覧'!C$4)","v":""},{"$f":"IF('１月集金一覧'!D$4=\"\",\"\",'１月集金一覧'!D$4)","v":""},{"$f":"IF('１月集金一覧'!E$4=\"\",\"\",'１月集金一覧'!E$4)","v":""},{"$f":"IF('１月集金一覧'!F$4=\"\",\"\",'１月集金一覧'!F$4)","v":""},{"$f":"IF('１月集金一覧'!G$4=\"\",\"\",'１月集金一覧'!G$4)","v":""},"個人計",null,"番号",{"$f":"IF('１月集金一覧'!C$4=\"\",\"\",'１月集金一覧'!C$4)","v":""},{"$f":"IF('１月集金一覧'!D$4=\"\",\"\",'１月集金一覧'!D$4)","v":""},{"$f":"IF('１月集金一覧'!E$4=\"\",\"\",'１月集金一覧'!E$4)","v":""},{"$f":"IF('１月集金一覧'!F$4=\"\",\"\",'１月集金一覧'!F$4)","v":""},{"$f":"IF('１月集金一覧'!G$4=\"\",\"\",'１月集金一覧'!G$4)","v":""},"個人計"]
[16,{"$f":"VLOOKUP($A34,'１月集金一覧'!$A$4:$H$44,B$2,FALSE)","v":0},{"$f":"VLOOKUP($A34,'１月集金一覧'!$A$4:$H$44,C$2,FALSE)","v":0},{"$f":"VLOOKUP($A34,'１月集金一覧'!$A$4:$H$44,D$2,FALSE)","v":0},{"$f":"VLOOKUP($A34,'１月集金一覧'!$A$4:$H$44,E$2,FALSE)","v":0},{"$f":"VLOOKUP($A34,'１月集金一覧'!$A$4:$H$44,F$2,FALSE)","v":0},{"$f":"VLOOKUP($A34,'１月集金一覧'!$A$4:$H$44,G$2,FALSE)","v":0},null,38,{"$f":"VLOOKUP($I34,'１月集金一覧'!$A$4:$H$44,J$2,FALSE)","v":0},{"$f":"VLOOKUP($I34,'１月集金一覧'!$A$4:$H$44,K$2,FALSE)","v":0},{"$f":"VLOOKUP($I34,'１月集金一覧'!$A$4:$H$44,L$2,FALSE)","v":0},{"$f":"VLOOKUP($I34,'１月集金一覧'!$A$4:$H$44,M$2,FALSE)","v":0},{"$f":"VLOOKUP($I34,'１月集金一覧'!$A$4:$H$44,N$2,FALSE)","v":0},{"$f":"VLOOKUP($I34,'１月集金一覧'!$A$4:$H$44,O$2,FALSE)","v":0}]
["番号",{"$f":"IF('１月集金一覧'!C$4=\"\",\"\",'１月集金一覧'!C$4)","v":""},{"$f":"IF('１月集金一覧'!D$4=\"\",\"\",'１月集金一覧'!D$4)","v":""},{"$f":"IF('１月集金一覧'!E$4=\"\",\"\",'１月集金一覧'!E$4)","v":""},{"$f":"IF('１月集金一覧'!F$4=\"\",\"\",'１月集金一覧'!F$4)","v":""},{"$f":"IF('１月集金一覧'!G$4=\"\",\"\",'１月集金一覧'!G$4)","v":""},"個人計",null,"番号",{"$f":"IF('１月集金一覧'!C$4=\"\",\"\",'１月集金一覧'!C$4)","v":""},{"$f":"IF('１月集金一覧'!D$4=\"\",\"\",'１月集金一覧'!D$4)","v":""},{"$f":"IF('１月集金一覧'!E$4=\"\",\"\",'１月集金一覧'!E$4)","v":""},{"$f":"IF('１月集金一覧'!F$4=\"\",\"\",'１月集金一覧'!F$4)","v":""},{"$f":"IF('１月集金一覧'!G$4=\"\",\"\",'１月集金一覧'!G$4)","v":""},"個人計"]
[17,{"$f":"VLOOKUP($A36,'１月集金一覧'!$A$4:$H$44,B$2,FALSE)","v":0},{"$f":"VLOOKUP($A36,'１月集金一覧'!$A$4:$H$44,C$2,FALSE)","v":0},{"$f":"VLOOKUP($A36,'１月集金一覧'!$A$4:$H$44,D$2,FALSE)","v":0},{"$f":"VLOOKUP($A36,'１月集金一覧'!$A$4:$H$44,E$2,FALSE)","v":0},{"$f":"VLOOKUP($A36,'１月集金一覧'!$A$4:$H$44,F$2,FALSE)","v":0},{"$f":"VLOOKUP($A36,'１月集金一覧'!$A$4:$H$44,G$2,FALSE)","v":0},null,39,{"$f":"VLOOKUP($I36,'１月集金一覧'!$A$4:$H$44,J$2,FALSE)","v":0},{"$f":"VLOOKUP($I36,'１月集金一覧'!$A$4:$H$44,K$2,FALSE)","v":0},{"$f":"VLOOKUP($I36,'１月集金一覧'!$A$4:$H$44,L$2,FALSE)","v":0},{"$f":"VLOOKUP($I36,'１月集金一覧'!$A$4:$H$44,M$2,FALSE)","v":0},{"$f":"VLOOKUP($I36,'１月集金一覧'!$A$4:$H$44,N$2,FALSE)","v":0},{"$f":"VLOOKUP($I36,'１月集金一覧'!$A$4:$H$44,O$2,FALSE)","v":0}]
["番号",{"$f":"IF('１月集金一覧'!C$4=\"\",\"\",'１月集金一覧'!C$4)","v":""},{"$f":"IF('１月集金一覧'!D$4=\"\",\"\",'１月集金一覧'!D$4)","v":""},{"$f":"IF('１月集金一覧'!E$4=\"\",\"\",'１月集金一覧'!E$4)","v":""},{"$f":"IF('１月集金一覧'!F$4=\"\",\"\",'１月集金一覧'!F$4)","v":""},{"$f":"IF('１月集金一覧'!G$4=\"\",\"\",'１月集金一覧'!G$4)","v":""},"個人計",null,"番号",{"$f":"IF('１月集金一覧'!C$4=\"\",\"\",'１月集金一覧'!C$4)","v":""},{"$f":"IF('１月集金一覧'!D$4=\"\",\"\",'１月集金一覧'!D$4)","v":""},{"$f":"IF('１月集金一覧'!E$4=\"\",\"\",'１月集金一覧'!E$4)","v":""},{"$f":"IF('１月集金一覧'!F$4=\"\",\"\",'１月集金一覧'!F$4)","v":""},{"$f":"IF('１月集金一覧'!G$4=\"\",\"\",'１月集金一覧'!G$4)","v":""},"個人計"]
[18,{"$f":"VLOOKUP($A38,'１月集金一覧'!$A$4:$H$44,B$2,FALSE)","v":0},{"$f":"VLOOKUP($A38,'１月集金一覧'!$A$4:$H$44,C$2,FALSE)","v":0},{"$f":"VLOOKUP($A38,'１月集金一覧'!$A$4:$H$44,D$2,FALSE)","v":0},{"$f":"VLOOKUP($A38,'１月集金一覧'!$A$4:$H$44,E$2,FALSE)","v":0},{"$f":"VLOOKUP($A38,'１月集金一覧'!$A$4:$H$44,F$2,FALSE)","v":0},{"$f":"VLOOKUP($A38,'１月集金一覧'!$A$4:$H$44,G$2,FALSE)","v":0},null,40,{"$f":"VLOOKUP($I38,'１月集金一覧'!$A$4:$H$44,J$2,FALSE)","v":0},{"$f":"VLOOKUP($I38,'１月集金一覧'!$A$4:$H$44,K$2,FALSE)","v":0},{"$f":"VLOOKUP($I38,'１月集金一覧'!$A$4:$H$44,L$2,FALSE)","v":0},{"$f":"VLOOKUP($I38,'１月集金一覧'!$A$4:$H$44,M$2,FALSE)","v":0},{"$f":"VLOOKUP($I38,'１月集金一覧'!$A$4:$H$44,N$2,FALSE)","v":0},{"$f":"VLOOKUP($I38,'１月集金一覧'!$A$4:$H$44,O$2,FALSE)","v":0}]
["番号",{"$f":"IF('１月集金一覧'!C$4=\"\",\"\",'１月集金一覧'!C$4)","v":""},{"$f":"IF('１月集金一覧'!D$4=\"\",\"\",'１月集金一覧'!D$4)","v":""},{"$f":"IF('１月集金一覧'!E$4=\"\",\"\",'１月集金一覧'!E$4)","v":""},{"$f":"IF('１月集金一覧'!F$4=\"\",\"\",'１月集金一覧'!F$4)","v":""},{"$f":"IF('１月集金一覧'!G$4=\"\",\"\",'１月集金一覧'!G$4)","v":""},"個人計"]
[19,{"$f":"VLOOKUP($A40,'１月集金一覧'!$A$4:$H$44,B$2,FALSE)","v":0},{"$f":"VLOOKUP($A40,'１月集金一覧'!$A$4:$H$44,C$2,FALSE)","v":0},{"$f":"VLOOKUP($A40,'１月集金一覧'!$A$4:$H$44,D$2,FALSE)","v":0},{"$f":"VLOOKUP($A40,'１月集金一覧'!$A$4:$H$44,E$2,FALSE)","v":0},{"$f":"VLOOKUP($A40,'１月集金一覧'!$A$4:$H$44,F$2,FALSE)","v":0},{"$f":"VLOOKUP($A40,'１月集金一覧'!$A$4:$H$44,G$2,FALSE)","v":0}]
["番号",{"$f":"IF('１月集金一覧'!C$4=\"\",\"\",'１月集金一覧'!C$4)","v":""},{"$f":"IF('１月集金一覧'!D$4=\"\",\"\",'１月集金一覧'!D$4)","v":""},{"$f":"IF('１月集金一覧'!E$4=\"\",\"\",'１月集金一覧'!E$4)","v":""},{"$f":"IF('１月集金一覧'!F$4=\"\",\"\",'１月集金一覧'!F$4)","v":""},{"$f":"IF('１月集金一覧'!G$4=\"\",\"\",'１月集金一覧'!G$4)","v":""},"個人計"]
[20,{"$f":"VLOOKUP($A42,'１月集金一覧'!$A$4:$H$44,B$2,FALSE)","v":0},{"$f":"VLOOKUP($A42,'１月集金一覧'!$A$4:$H$44,C$2,FALSE)","v":0},{"$f":"VLOOKUP($A42,'１月集金一覧'!$A$4:$H$44,D$2,FALSE)","v":0},{"$f":"VLOOKUP($A42,'１月集金一覧'!$A$4:$H$44,E$2,FALSE)","v":0},{"$f":"VLOOKUP($A42,'１月集金一覧'!$A$4:$H$44,F$2,FALSE)","v":0},{"$f":"VLOOKUP($A42,'１月集金一覧'!$A$4:$H$44,G$2,FALSE)","v":0}]
["番号",{"$f":"IF('１月集金一覧'!C$4=\"\",\"\",'１月集金一覧'!C$4)","v":""},{"$f":"IF('１月集金一覧'!D$4=\"\",\"\",'１月集金一覧'!D$4)","v":""},{"$f":"IF('１月集金一覧'!E$4=\"\",\"\",'１月集金一覧'!E$4)","v":""},{"$f":"IF('１月集金一覧'!F$4=\"\",\"\",'１月集金一覧'!F$4)","v":""},{"$f":"IF('１月集金一覧'!G$4=\"\",\"\",'１月集金一覧'!G$4)","v":""},"個人計"]
[21,{"$f":"VLOOKUP($A44,'１月集金一覧'!$A$4:$H$44,B$2,FALSE)","v":0},{"$f":"VLOOKUP($A44,'１月集金一覧'!$A$4:$H$44,C$2,FALSE)","v":0},{"$f":"VLOOKUP($A44,'１月集金一覧'!$A$4:$H$44,D$2,FALSE)","v":0},{"$f":"VLOOKUP($A44,'１月集金一覧'!$A$4:$H$44,E$2,FALSE)","v":0},{"$f":"VLOOKUP($A44,'１月集金一覧'!$A$4:$H$44,F$2,FALSE)","v":0},{"$f":"VLOOKUP($A44,'１月集金一覧'!$A$4:$H$44,G$2,FALSE)","v":0}]
["番号",{"$f":"IF('１月集金一覧'!C$4=\"\",\"\",'１月集金一覧'!C$4)","v":""},{"$f":"IF('１月集金一覧'!D$4=\"\",\"\",'１月集金一覧'!D$4)","v":""},{"$f":"IF('１月集金一覧'!E$4=\"\",\"\",'１月集金一覧'!E$4)","v":""},{"$f":"IF('１月集金一覧'!F$4=\"\",\"\",'１月集金一覧'!F$4)","v":""},{"$f":"IF('１月集金一覧'!G$4=\"\",\"\",'１月集金一覧'!G$4)","v":""},"個人計"]
[22,{"$f":"VLOOKUP($A46,'１月集金一覧'!$A$4:$H$44,B$2,FALSE)","v":0},{"$f":"VLOOKUP($A46,'１月集金一覧'!$A$4:$H$44,C$2,FALSE)","v":0},{"$f":"VLOOKUP($A46,'１月集金一覧'!$A$4:$H$44,D$2,FALSE)","v":0},{"$f":"VLOOKUP($A46,'１月集金一覧'!$A$4:$H$44,E$2,FALSE)","v":0},{"$f":"VLOOKUP($A46,'１月集金一覧'!$A$4:$H$44,F$2,FALSE)","v":0},{"$f":"VLOOKUP($A46,'１月集金一覧'!$A$4:$H$44,G$2,FALSE)","v":0}]

{"sheet":"2月個票","index":32,"n_rows":46,"n_cols":15,"rows_kept":46,"cut":false,"hidden":false,"merged":[]}
[null,"令和",{"$f":"メイン!D7","v":0},"年度",{"$f":"メイン!C8","v":0},"年",{"$f":"メイン!E8","v":0},"組"]
[1,3,4,5,6,7,8,null,1,3,4,5,6,7,8]
["番号",{"$f":"IF('２月集金一覧'!C$4=\"\",\"\",'２月集金一覧'!C$4)","v":""},{"$f":"IF('２月集金一覧'!$D$4=\"\",\"\",'２月集金一覧'!D$4)","v":""},{"$f":"IF('２月集金一覧'!E$4=\"\",\"\",'２月集金一覧'!E$4)","v":""},{"$f":"IF('２月集金一覧'!F$4=\"\",\"\",'２月集金一覧'!F$4)","v":""},{"$f":"IF('２月集金一覧'!G$4=\"\",\"\",'２月集金一覧'!G$4)","v":""},"個人計",null,"番号",{"$f":"IF('２月集金一覧'!C$4=\"\",\"\",'２月集金一覧'!C$4)","v":""},{"$f":"IF('２月集金一覧'!D$4=\"\",\"\",'２月集金一覧'!D$4)","v":""},{"$f":"IF('２月集金一覧'!E$4=\"\",\"\",'２月集金一覧'!E$4)","v":""},{"$f":"IF('２月集金一覧'!F$4=\"\",\"\",'２月集金一覧'!F$4)","v":""},{"$f":"IF('２月集金一覧'!G$4=\"\",\"\",'２月集金一覧'!G$4)","v":""},"個人計"]
[1,{"$f":"VLOOKUP($A4,'２月集金一覧'!$A$4:$H$44,B$2,FALSE)","v":0},{"$f":"VLOOKUP($A4,'２月集金一覧'!$A$4:$H$44,C$2,FALSE)","v":0},{"$f":"VLOOKUP($A4,'２月集金一覧'!$A$4:$H$44,D$2,FALSE)","v":0},{"$f":"VLOOKUP($A4,'２月集金一覧'!$A$4:$H$44,E$2,FALSE)","v":0},{"$f":"VLOOKUP($A4,'２月集金一覧'!$A$4:$H$44,F$2,FALSE)","v":0},{"$f":"VLOOKUP($A4,'２月集金一覧'!$A$4:$H$44,G$2,FALSE)","v":0},null,23,{"$f":"VLOOKUP($I4,'２月集金一覧'!$A$4:$H$44,J$2,FALSE)","v":0},{"$f":"VLOOKUP($I4,'２月集金一覧'!$A$4:$H$44,K$2,FALSE)","v":0},{"$f":"VLOOKUP($I4,'２月集金一覧'!$A$4:$H$44,L$2,FALSE)","v":0},{"$f":"VLOOKUP($I4,'２月集金一覧'!$A$4:$H$44,M$2,FALSE)","v":0},{"$f":"VLOOKUP($I4,'２月集金一覧'!$A$4:$H$44,N$2,FALSE)","v":0},{"$f":"VLOOKUP($I4,'２月集金一覧'!$A$4:$H$44,O$2,FALSE)","v":0}]
["番号",{"$f":"IF('２月集金一覧'!C$4=\"\",\"\",'２月集金一覧'!C$4)","v":""},{"$f":"IF('２月集金一覧'!D$4=\"\",\"\",'２月集金一覧'!D$4)","v":""},{"$f":"IF('２月集金一覧'!E$4=\"\",\"\",'２月集金一覧'!E$4)","v":""},{"$f":"IF('２月集金一覧'!F$4=\"\",\"\",'２月集金一覧'!F$4)","v":""},{"$f":"IF('２月集金一覧'!G$4=\"\",\"\",'２月集金一覧'!G$4)","v":""},"個人計",null,"番号",{"$f":"IF('２月集金一覧'!C$4=\"\",\"\",'２月集金一覧'!C$4)","v":""},{"$f":"IF('２月集金一覧'!D$4=\"\",\"\",'２月集金一覧'!D$4)","v":""},{"$f":"IF('２月集金一覧'!E$4=\"\",\"\",'２月集金一覧'!E$4)","v":""},{"$f":"IF('２月集金一覧'!F$4=\"\",\"\",'２月集金一覧'!F$4)","v":""},{"$f":"IF('２月集金一覧'!G$4=\"\",\"\",'２月集金一覧'!G$4)","v":""},"個人計"]
[2,{"$f":"VLOOKUP($A6,'２月集金一覧'!$A$4:$H$44,B$2,FALSE)","v":0},{"$f":"VLOOKUP($A6,'２月集金一覧'!$A$4:$H$44,C$2,FALSE)","v":0},{"$f":"VLOOKUP($A6,'２月集金一覧'!$A$4:$H$44,D$2,FALSE)","v":0},{"$f":"VLOOKUP($A6,'２月集金一覧'!$A$4:$H$44,E$2,FALSE)","v":0},{"$f":"VLOOKUP($A6,'２月集金一覧'!$A$4:$H$44,F$2,FALSE)","v":0},{"$f":"VLOOKUP($A6,'２月集金一覧'!$A$4:$H$44,G$2,FALSE)","v":0},null,24,{"$f":"VLOOKUP($I6,'２月集金一覧'!$A$4:$H$44,J$2,FALSE)","v":0},{"$f":"VLOOKUP($I6,'２月集金一覧'!$A$4:$H$44,K$2,FALSE)","v":0},{"$f":"VLOOKUP($I6,'２月集金一覧'!$A$4:$H$44,L$2,FALSE)","v":0},{"$f":"VLOOKUP($I6,'２月集金一覧'!$A$4:$H$44,M$2,FALSE)","v":0},{"$f":"VLOOKUP($I6,'２月集金一覧'!$A$4:$H$44,N$2,FALSE)","v":0},{"$f":"VLOOKUP($I6,'２月集金一覧'!$A$4:$H$44,O$2,FALSE)","v":0}]
["番号",{"$f":"IF('２月集金一覧'!C$4=\"\",\"\",'２月集金一覧'!C$4)","v":""},{"$f":"IF('２月集金一覧'!D$4=\"\",\"\",'２月集金一覧'!D$4)","v":""},{"$f":"IF('２月集金一覧'!E$4=\"\",\"\",'２月集金一覧'!E$4)","v":""},{"$f":"IF('２月集金一覧'!F$4=\"\",\"\",'２月集金一覧'!F$4)","v":""},{"$f":"IF('２月集金一覧'!G$4=\"\",\"\",'２月集金一覧'!G$4)","v":""},"個人計",null,"番号",{"$f":"IF('２月集金一覧'!C$4=\"\",\"\",'２月集金一覧'!C$4)","v":""},{"$f":"IF('２月集金一覧'!D$4=\"\",\"\",'２月集金一覧'!D$4)","v":""},{"$f":"IF('２月集金一覧'!E$4=\"\",\"\",'２月集金一覧'!E$4)","v":""},{"$f":"IF('２月集金一覧'!F$4=\"\",\"\",'２月集金一覧'!F$4)","v":""},{"$f":"IF('２月集金一覧'!G$4=\"\",\"\",'２月集金一覧'!G$4)","v":""},"個人計"]
[3,{"$f":"VLOOKUP($A8,'２月集金一覧'!$A$4:$H$44,B$2,FALSE)","v":0},{"$f":"VLOOKUP($A8,'２月集金一覧'!$A$4:$H$44,C$2,FALSE)","v":0},{"$f":"VLOOKUP($A8,'２月集金一覧'!$A$4:$H$44,D$2,FALSE)","v":0},{"$f":"VLOOKUP($A8,'２月集金一覧'!$A$4:$H$44,E$2,FALSE)","v":0},{"$f":"VLOOKUP($A8,'２月集金一覧'!$A$4:$H$44,F$2,FALSE)","v":0},{"$f":"VLOOKUP($A8,'２月集金一覧'!$A$4:$H$44,G$2,FALSE)","v":0},null,25,{"$f":"VLOOKUP($I8,'２月集金一覧'!$A$4:$H$44,J$2,FALSE)","v":0},{"$f":"VLOOKUP($I8,'２月集金一覧'!$A$4:$H$44,K$2,FALSE)","v":0},{"$f":"VLOOKUP($I8,'２月集金一覧'!$A$4:$H$44,L$2,FALSE)","v":0},{"$f":"VLOOKUP($I8,'２月集金一覧'!$A$4:$H$44,M$2,FALSE)","v":0},{"$f":"VLOOKUP($I8,'２月集金一覧'!$A$4:$H$44,N$2,FALSE)","v":0},{"$f":"VLOOKUP($I8,'２月集金一覧'!$A$4:$H$44,O$2,FALSE)","v":0}]
["番号",{"$f":"IF('２月集金一覧'!C$4=\"\",\"\",'２月集金一覧'!C$4)","v":""},{"$f":"IF('２月集金一覧'!D$4=\"\",\"\",'２月集金一覧'!D$4)","v":""},{"$f":"IF('２月集金一覧'!E$4=\"\",\"\",'２月集金一覧'!E$4)","v":""},{"$f":"IF('２月集金一覧'!F$4=\"\",\"\",'２月集金一覧'!F$4)","v":""},{"$f":"IF('２月集金一覧'!G$4=\"\",\"\",'２月集金一覧'!G$4)","v":""},"個人計",null,"番号",{"$f":"IF('２月集金一覧'!C$4=\"\",\"\",'２月集金一覧'!C$4)","v":""},{"$f":"IF('２月集金一覧'!D$4=\"\",\"\",'２月集金一覧'!D$4)","v":""},{"$f":"IF('２月集金一覧'!E$4=\"\",\"\",'２月集金一覧'!E$4)","v":""},{"$f":"IF('２月集金一覧'!F$4=\"\",\"\",'２月集金一覧'!F$4)","v":""},{"$f":"IF('２月集金一覧'!G$4=\"\",\"\",'２月集金一覧'!G$4)","v":""},"個人計"]
[4,{"$f":"VLOOKUP($A10,'２月集金一覧'!$A$4:$H$44,B$2,FALSE)","v":0},{"$f":"VLOOKUP($A10,'２月集金一覧'!$A$4:$H$44,C$2,FALSE)","v":0},{"$f":"VLOOKUP($A10,'２月集金一覧'!$A$4:$H$44,D$2,FALSE)","v":0},{"$f":"VLOOKUP($A10,'２月集金一覧'!$A$4:$H$44,E$2,FALSE)","v":0},{"$f":"VLOOKUP($A10,'２月集金一覧'!$A$4:$H$44,F$2,FALSE)","v":0},{"$f":"VLOOKUP($A10,'２月集金一覧'!$A$4:$H$44,G$2,FALSE)","v":0},null,26,{"$f":"VLOOKUP($I10,'２月集金一覧'!$A$4:$H$44,J$2,FALSE)","v":0},{"$f":"VLOOKUP($I10,'２月集金一覧'!$A$4:$H$44,K$2,FALSE)","v":0},{"$f":"VLOOKUP($I10,'２月集金一覧'!$A$4:$H$44,L$2,FALSE)","v":0},{"$f":"VLOOKUP($I10,'２月集金一覧'!$A$4:$H$44,M$2,FALSE)","v":0},{"$f":"VLOOKUP($I10,'２月集金一覧'!$A$4:$H$44,N$2,FALSE)","v":0},{"$f":"VLOOKUP($I10,'２月集金一覧'!$A$4:$H$44,O$2,FALSE)","v":0}]
["番号",{"$f":"IF('２月集金一覧'!C$4=\"\",\"\",'２月集金一覧'!C$4)","v":""},{"$f":"IF('２月集金一覧'!D$4=\"\",\"\",'２月集金一覧'!D$4)","v":""},{"$f":"IF('２月集金一覧'!E$4=\"\",\"\",'２月集金一覧'!E$4)","v":""},{"$f":"IF('２月集金一覧'!F$4=\"\",\"\",'２月集金一覧'!F$4)","v":""},{"$f":"IF('２月集金一覧'!G$4=\"\",\"\",'２月集金一覧'!G$4)","v":""},"個人計",null,"番号",{"$f":"IF('２月集金一覧'!C$4=\"\",\"\",'２月集金一覧'!C$4)","v":""},{"$f":"IF('２月集金一覧'!D$4=\"\",\"\",'２月集金一覧'!D$4)","v":""},{"$f":"IF('２月集金一覧'!E$4=\"\",\"\",'２月集金一覧'!E$4)","v":""},{"$f":"IF('２月集金一覧'!F$4=\"\",\"\",'２月集金一覧'!F$4)","v":""},{"$f":"IF('２月集金一覧'!G$4=\"\",\"\",'２月集金一覧'!G$4)","v":""},"個人計"]
[5,{"$f":"VLOOKUP($A12,'２月集金一覧'!$A$4:$H$44,B$2,FALSE)","v":0},{"$f":"VLOOKUP($A12,'２月集金一覧'!$A$4:$H$44,C$2,FALSE)","v":0},{"$f":"VLOOKUP($A12,'２月集金一覧'!$A$4:$H$44,D$2,FALSE)","v":0},{"$f":"VLOOKUP($A12,'２月集金一覧'!$A$4:$H$44,E$2,FALSE)","v":0},{"$f":"VLOOKUP($A12,'２月集金一覧'!$A$4:$H$44,F$2,FALSE)","v":0},{"$f":"VLOOKUP($A12,'２月集金一覧'!$A$4:$H$44,G$2,FALSE)","v":0},null,27,{"$f":"VLOOKUP($I12,'２月集金一覧'!$A$4:$H$44,J$2,FALSE)","v":0},{"$f":"VLOOKUP($I12,'２月集金一覧'!$A$4:$H$44,K$2,FALSE)","v":0},{"$f":"VLOOKUP($I12,'２月集金一覧'!$A$4:$H$44,L$2,FALSE)","v":0},{"$f":"VLOOKUP($I12,'２月集金一覧'!$A$4:$H$44,M$2,FALSE)","v":0},{"$f":"VLOOKUP($I12,'２月集金一覧'!$A$4:$H$44,N$2,FALSE)","v":0},{"$f":"VLOOKUP($I12,'２月集金一覧'!$A$4:$H$44,O$2,FALSE)","v":0}]
["番号",{"$f":"IF('２月集金一覧'!C$4=\"\",\"\",'２月集金一覧'!C$4)","v":""},{"$f":"IF('２月集金一覧'!D$4=\"\",\"\",'２月集金一覧'!D$4)","v":""},{"$f":"IF('２月集金一覧'!E$4=\"\",\"\",'２月集金一覧'!E$4)","v":""},{"$f":"IF('２月集金一覧'!F$4=\"\",\"\",'２月集金一覧'!F$4)","v":""},{"$f":"IF('２月集金一覧'!G$4=\"\",\"\",'２月集金一覧'!G$4)","v":""},"個人計",null,"番号",{"$f":"IF('２月集金一覧'!C$4=\"\",\"\",'２月集金一覧'!C$4)","v":""},{"$f":"IF('２月集金一覧'!D$4=\"\",\"\",'２月集金一覧'!D$4)","v":""},{"$f":"IF('２月集金一覧'!E$4=\"\",\"\",'２月集金一覧'!E$4)","v":""},{"$f":"IF('２月集金一覧'!F$4=\"\",\"\",'２月集金一覧'!F$4)","v":""},{"$f":"IF('２月集金一覧'!G$4=\"\",\"\",'２月集金一覧'!G$4)","v":""},"個人計"]
[6,{"$f":"VLOOKUP($A14,'２月集金一覧'!$A$4:$H$44,B$2,FALSE)","v":0},{"$f":"VLOOKUP($A14,'２月集金一覧'!$A$4:$H$44,C$2,FALSE)","v":0},{"$f":"VLOOKUP($A14,'２月集金一覧'!$A$4:$H$44,D$2,FALSE)","v":0},{"$f":"VLOOKUP($A14,'２月集金一覧'!$A$4:$H$44,E$2,FALSE)","v":0},{"$f":"VLOOKUP($A14,'２月集金一覧'!$A$4:$H$44,F$2,FALSE)","v":0},{"$f":"VLOOKUP($A14,'２月集金一覧'!$A$4:$H$44,G$2,FALSE)","v":0},null,28,{"$f":"VLOOKUP($I14,'２月集金一覧'!$A$4:$H$44,J$2,FALSE)","v":0},{"$f":"VLOOKUP($I14,'２月集金一覧'!$A$4:$H$44,K$2,FALSE)","v":0},{"$f":"VLOOKUP($I14,'２月集金一覧'!$A$4:$H$44,L$2,FALSE)","v":0},{"$f":"VLOOKUP($I14,'２月集金一覧'!$A$4:$H$44,M$2,FALSE)","v":0},{"$f":"VLOOKUP($I14,'２月集金一覧'!$A$4:$H$44,N$2,FALSE)","v":0},{"$f":"VLOOKUP($I14,'２月集金一覧'!$A$4:$H$44,O$2,FALSE)","v":0}]
["番号",{"$f":"IF('２月集金一覧'!C$4=\"\",\"\",'２月集金一覧'!C$4)","v":""},{"$f":"IF('２月集金一覧'!D$4=\"\",\"\",'２月集金一覧'!D$4)","v":""},{"$f":"IF('２月集金一覧'!E$4=\"\",\"\",'２月集金一覧'!E$4)","v":""},{"$f":"IF('２月集金一覧'!F$4=\"\",\"\",'２月集金一覧'!F$4)","v":""},{"$f":"IF('２月集金一覧'!G$4=\"\",\"\",'２月集金一覧'!G$4)","v":""},"個人計",null,"番号",{"$f":"IF('２月集金一覧'!C$4=\"\",\"\",'２月集金一覧'!C$4)","v":""},{"$f":"IF('２月集金一覧'!D$4=\"\",\"\",'２月集金一覧'!D$4)","v":""},{"$f":"IF('２月集金一覧'!E$4=\"\",\"\",'２月集金一覧'!E$4)","v":""},{"$f":"IF('２月集金一覧'!F$4=\"\",\"\",'２月集金一覧'!F$4)","v":""},{"$f":"IF('２月集金一覧'!G$4=\"\",\"\",'２月集金一覧'!G$4)","v":""},"個人計"]
[7,{"$f":"VLOOKUP($A16,'２月集金一覧'!$A$4:$H$44,B$2,FALSE)","v":0},{"$f":"VLOOKUP($A16,'２月集金一覧'!$A$4:$H$44,C$2,FALSE)","v":0},{"$f":"VLOOKUP($A16,'２月集金一覧'!$A$4:$H$44,D$2,FALSE)","v":0},{"$f":"VLOOKUP($A16,'２月集金一覧'!$A$4:$H$44,E$2,FALSE)","v":0},{"$f":"VLOOKUP($A16,'２月集金一覧'!$A$4:$H$44,F$2,FALSE)","v":0},{"$f":"VLOOKUP($A16,'２月集金一覧'!$A$4:$H$44,G$2,FALSE)","v":0},null,29,{"$f":"VLOOKUP($I16,'２月集金一覧'!$A$4:$H$44,J$2,FALSE)","v":0},{"$f":"VLOOKUP($I16,'２月集金一覧'!$A$4:$H$44,K$2,FALSE)","v":0},{"$f":"VLOOKUP($I16,'２月集金一覧'!$A$4:$H$44,L$2,FALSE)","v":0},{"$f":"VLOOKUP($I16,'２月集金一覧'!$A$4:$H$44,M$2,FALSE)","v":0},{"$f":"VLOOKUP($I16,'２月集金一覧'!$A$4:$H$44,N$2,FALSE)","v":0},{"$f":"VLOOKUP($I16,'２月集金一覧'!$A$4:$H$44,O$2,FALSE)","v":0}]
["番号",{"$f":"IF('２月集金一覧'!C$4=\"\",\"\",'２月集金一覧'!C$4)","v":""},{"$f":"IF('２月集金一覧'!D$4=\"\",\"\",'２月集金一覧'!D$4)","v":""},{"$f":"IF('２月集金一覧'!E$4=\"\",\"\",'２月集金一覧'!E$4)","v":""},{"$f":"IF('２月集金一覧'!F$4=\"\",\"\",'２月集金一覧'!F$4)","v":""},{"$f":"IF('２月集金一覧'!G$4=\"\",\"\",'２月集金一覧'!G$4)","v":""},"個人計",null,"番号",{"$f":"IF('２月集金一覧'!C$4=\"\",\"\",'２月集金一覧'!C$4)","v":""},{"$f":"IF('２月集金一覧'!D$4=\"\",\"\",'２月集金一覧'!D$4)","v":""},{"$f":"IF('２月集金一覧'!E$4=\"\",\"\",'２月集金一覧'!E$4)","v":""},{"$f":"IF('２月集金一覧'!F$4=\"\",\"\",'２月集金一覧'!F$4)","v":""},{"$f":"IF('２月集金一覧'!G$4=\"\",\"\",'２月集金一覧'!G$4)","v":""},"個人計"]
[8,{"$f":"VLOOKUP($A18,'２月集金一覧'!$A$4:$H$44,B$2,FALSE)","v":0},{"$f":"VLOOKUP($A18,'２月集金一覧'!$A$4:$H$44,C$2,FALSE)","v":0},{"$f":"VLOOKUP($A18,'２月集金一覧'!$A$4:$H$44,D$2,FALSE)","v":0},{"$f":"VLOOKUP($A18,'２月集金一覧'!$A$4:$H$44,E$2,FALSE)","v":0},{"$f":"VLOOKUP($A18,'２月集金一覧'!$A$4:$H$44,F$2,FALSE)","v":0},{"$f":"VLOOKUP($A18,'２月集金一覧'!$A$4:$H$44,G$2,FALSE)","v":0},null,30,{"$f":"VLOOKUP($I18,'２月集金一覧'!$A$4:$H$44,J$2,FALSE)","v":0},{"$f":"VLOOKUP($I18,'２月集金一覧'!$A$4:$H$44,K$2,FALSE)","v":0},{"$f":"VLOOKUP($I18,'２月集金一覧'!$A$4:$H$44,L$2,FALSE)","v":0},{"$f":"VLOOKUP($I18,'２月集金一覧'!$A$4:$H$44,M$2,FALSE)","v":0},{"$f":"VLOOKUP($I18,'２月集金一覧'!$A$4:$H$44,N$2,FALSE)","v":0},{"$f":"VLOOKUP($I18,'２月集金一覧'!$A$4:$H$44,O$2,FALSE)","v":0}]
["番号",{"$f":"IF('２月集金一覧'!C$4=\"\",\"\",'２月集金一覧'!C$4)","v":""},{"$f":"IF('２月集金一覧'!D$4=\"\",\"\",'２月集金一覧'!D$4)","v":""},{"$f":"IF('２月集金一覧'!E$4=\"\",\"\",'２月集金一覧'!E$4)","v":""},{"$f":"IF('２月集金一覧'!F$4=\"\",\"\",'２月集金一覧'!F$4)","v":""},{"$f":"IF('２月集金一覧'!G$4=\"\",\"\",'２月集金一覧'!G$4)","v":""},"個人計",null,"番号",{"$f":"IF('２月集金一覧'!C$4=\"\",\"\",'２月集金一覧'!C$4)","v":""},{"$f":"IF('２月集金一覧'!D$4=\"\",\"\",'２月集金一覧'!D$4)","v":""},{"$f":"IF('２月集金一覧'!E$4=\"\",\"\",'２月集金一覧'!E$4)","v":""},{"$f":"IF('２月集金一覧'!F$4=\"\",\"\",'２月集金一覧'!F$4)","v":""},{"$f":"IF('２月集金一覧'!G$4=\"\",\"\",'２月集金一覧'!G$4)","v":""},"個人計"]
[9,{"$f":"VLOOKUP($A20,'２月集金一覧'!$A$4:$H$44,B$2,FALSE)","v":0},{"$f":"VLOOKUP($A20,'２月集金一覧'!$A$4:$H$44,C$2,FALSE)","v":0},{"$f":"VLOOKUP($A20,'２月集金一覧'!$A$4:$H$44,D$2,FALSE)","v":0},{"$f":"VLOOKUP($A20,'２月集金一覧'!$A$4:$H$44,E$2,FALSE)","v":0},{"$f":"VLOOKUP($A20,'２月集金一覧'!$A$4:$H$44,F$2,FALSE)","v":0},{"$f":"VLOOKUP($A20,'２月集金一覧'!$A$4:$H$44,G$2,FALSE)","v":0},null,31,{"$f":"VLOOKUP($I20,'２月集金一覧'!$A$4:$H$44,J$2,FALSE)","v":0},{"$f":"VLOOKUP($I20,'２月集金一覧'!$A$4:$H$44,K$2,FALSE)","v":0},{"$f":"VLOOKUP($I20,'２月集金一覧'!$A$4:$H$44,L$2,FALSE)","v":0},{"$f":"VLOOKUP($I20,'２月集金一覧'!$A$4:$H$44,M$2,FALSE)","v":0},{"$f":"VLOOKUP($I20,'２月集金一覧'!$A$4:$H$44,N$2,FALSE)","v":0},{"$f":"VLOOKUP($I20,'２月集金一覧'!$A$4:$H$44,O$2,FALSE)","v":0}]
["番号",{"$f":"IF('２月集金一覧'!C$4=\"\",\"\",'２月集金一覧'!C$4)","v":""},{"$f":"IF('２月集金一覧'!D$4=\"\",\"\",'２月集金一覧'!D$4)","v":""},{"$f":"IF('２月集金一覧'!E$4=\"\",\"\",'２月集金一覧'!E$4)","v":""},{"$f":"IF('２月集金一覧'!F$4=\"\",\"\",'２月集金一覧'!F$4)","v":""},{"$f":"IF('２月集金一覧'!G$4=\"\",\"\",'２月集金一覧'!G$4)","v":""},"個人計",null,"番号",{"$f":"IF('２月集金一覧'!C$4=\"\",\"\",'２月集金一覧'!C$4)","v":""},{"$f":"IF('２月集金一覧'!D$4=\"\",\"\",'２月集金一覧'!D$4)","v":""},{"$f":"IF('２月集金一覧'!E$4=\"\",\"\",'２月集金一覧'!E$4)","v":""},{"$f":"IF('２月集金一覧'!F$4=\"\",\"\",'２月集金一覧'!F$4)","v":""},{"$f":"IF('２月集金一覧'!G$4=\"\",\"\",'２月集金一覧'!G$4)","v":""},"個人計"]
[10,{"$f":"VLOOKUP($A22,'２月集金一覧'!$A$4:$H$44,B$2,FALSE)","v":0},{"$f":"VLOOKUP($A22,'２月集金一覧'!$A$4:$H$44,C$2,FALSE)","v":0},{"$f":"VLOOKUP($A22,'２月集金一覧'!$A$4:$H$44,D$2,FALSE)","v":0},{"$f":"VLOOKUP($A22,'２月集金一覧'!$A$4:$H$44,E$2,FALSE)","v":0},{"$f":"VLOOKUP($A22,'２月集金一覧'!$A$4:$H$44,F$2,FALSE)","v":0},{"$f":"VLOOKUP($A22,'２月集金一覧'!$A$4:$H$44,G$2,FALSE)","v":0},null,32,{"$f":"VLOOKUP($I22,'２月集金一覧'!$A$4:$H$44,J$2,FALSE)","v":0},{"$f":"VLOOKUP($I22,'２月集金一覧'!$A$4:$H$44,K$2,FALSE)","v":0},{"$f":"VLOOKUP($I22,'２月集金一覧'!$A$4:$H$44,L$2,FALSE)","v":0},{"$f":"VLOOKUP($I22,'２月集金一覧'!$A$4:$H$44,M$2,FALSE)","v":0},{"$f":"VLOOKUP($I22,'２月集金一覧'!$A$4:$H$44,N$2,FALSE)","v":0},{"$f":"VLOOKUP($I22,'２月集金一覧'!$A$4:$H$44,O$2,FALSE)","v":0}]
["番号",{"$f":"IF('２月集金一覧'!C$4=\"\",\"\",'２月集金一覧'!C$4)","v":""},{"$f":"IF('２月集金一覧'!D$4=\"\",\"\",'２月集金一覧'!D$4)","v":""},{"$f":"IF('２月集金一覧'!E$4=\"\",\"\",'２月集金一覧'!E$4)","v":""},{"$f":"IF('２月集金一覧'!F$4=\"\",\"\",'２月集金一覧'!F$4)","v":""},{"$f":"IF('２月集金一覧'!G$4=\"\",\"\",'２月集金一覧'!G$4)","v":""},"個人計",null,"番号",{"$f":"IF('２月集金一覧'!C$4=\"\",\"\",'２月集金一覧'!C$4)","v":""},{"$f":"IF('２月集金一覧'!D$4=\"\",\"\",'２月集金一覧'!D$4)","v":""},{"$f":"IF('２月集金一覧'!E$4=\"\",\"\",'２月集金一覧'!E$4)","v":""},{"$f":"IF('２月集金一覧'!F$4=\"\",\"\",'２月集金一覧'!F$4)","v":""},{"$f":"IF('２月集金一覧'!G$4=\"\",\"\",'２月集金一覧'!G$4)","v":""},"個人計"]
[11,{"$f":"VLOOKUP($A24,'２月集金一覧'!$A$4:$H$44,B$2,FALSE)","v":0},{"$f":"VLOOKUP($A24,'２月集金一覧'!$A$4:$H$44,C$2,FALSE)","v":0},{"$f":"VLOOKUP($A24,'２月集金一覧'!$A$4:$H$44,D$2,FALSE)","v":0},{"$f":"VLOOKUP($A24,'２月集金一覧'!$A$4:$H$44,E$2,FALSE)","v":0},{"$f":"VLOOKUP($A24,'２月集金一覧'!$A$4:$H$44,F$2,FALSE)","v":0},{"$f":"VLOOKUP($A24,'２月集金一覧'!$A$4:$H$44,G$2,FALSE)","v":0},null,33,{"$f":"VLOOKUP($I24,'２月集金一覧'!$A$4:$H$44,J$2,FALSE)","v":0},{"$f":"VLOOKUP($I24,'２月集金一覧'!$A$4:$H$44,K$2,FALSE)","v":0},{"$f":"VLOOKUP($I24,'２月集金一覧'!$A$4:$H$44,L$2,FALSE)","v":0},{"$f":"VLOOKUP($I24,'２月集金一覧'!$A$4:$H$44,M$2,FALSE)","v":0},{"$f":"VLOOKUP($I24,'２月集金一覧'!$A$4:$H$44,N$2,FALSE)","v":0},{"$f":"VLOOKUP($I24,'２月集金一覧'!$A$4:$H$44,O$2,FALSE)","v":0}]
["番号",{"$f":"IF('２月集金一覧'!C$4=\"\",\"\",'２月集金一覧'!C$4)","v":""},{"$f":"IF('２月集金一覧'!D$4=\"\",\"\",'２月集金一覧'!D$4)","v":""},{"$f":"IF('２月集金一覧'!E$4=\"\",\"\",'２月集金一覧'!E$4)","v":""},{"$f":"IF('２月集金一覧'!F$4=\"\",\"\",'２月集金一覧'!F$4)","v":""},{"$f":"IF('２月集金一覧'!G$4=\"\",\"\",'２月集金一覧'!G$4)","v":""},"個人計",null,"番号",{"$f":"IF('２月集金一覧'!C$4=\"\",\"\",'２月集金一覧'!C$4)","v":""},{"$f":"IF('２月集金一覧'!D$4=\"\",\"\",'２月集金一覧'!D$4)","v":""},{"$f":"IF('２月集金一覧'!E$4=\"\",\"\",'２月集金一覧'!E$4)","v":""},{"$f":"IF('２月集金一覧'!F$4=\"\",\"\",'２月集金一覧'!F$4)","v":""},{"$f":"IF('２月集金一覧'!G$4=\"\",\"\",'２月集金一覧'!G$4)","v":""},"個人計"]
[12,{"$f":"VLOOKUP($A26,'２月集金一覧'!$A$4:$H$44,B$2,FALSE)","v":0},{"$f":"VLOOKUP($A26,'２月集金一覧'!$A$4:$H$44,C$2,FALSE)","v":0},{"$f":"VLOOKUP($A26,'２月集金一覧'!$A$4:$H$44,D$2,FALSE)","v":0},{"$f":"VLOOKUP($A26,'２月集金一覧'!$A$4:$H$44,E$2,FALSE)","v":0},{"$f":"VLOOKUP($A26,'２月集金一覧'!$A$4:$H$44,F$2,FALSE)","v":0},{"$f":"VLOOKUP($A26,'２月集金一覧'!$A$4:$H$44,G$2,FALSE)","v":0},null,34,{"$f":"VLOOKUP($I26,'２月集金一覧'!$A$4:$H$44,J$2,FALSE)","v":0},{"$f":"VLOOKUP($I26,'２月集金一覧'!$A$4:$H$44,K$2,FALSE)","v":0},{"$f":"VLOOKUP($I26,'２月集金一覧'!$A$4:$H$44,L$2,FALSE)","v":0},{"$f":"VLOOKUP($I26,'２月集金一覧'!$A$4:$H$44,M$2,FALSE)","v":0},{"$f":"VLOOKUP($I26,'２月集金一覧'!$A$4:$H$44,N$2,FALSE)","v":0},{"$f":"VLOOKUP($I26,'２月集金一覧'!$A$4:$H$44,O$2,FALSE)","v":0}]
["番号",{"$f":"IF('２月集金一覧'!C$4=\"\",\"\",'２月集金一覧'!C$4)","v":""},{"$f":"IF('２月集金一覧'!D$4=\"\",\"\",'２月集金一覧'!D$4)","v":""},{"$f":"IF('２月集金一覧'!E$4=\"\",\"\",'２月集金一覧'!E$4)","v":""},{"$f":"IF('２月集金一覧'!F$4=\"\",\"\",'２月集金一覧'!F$4)","v":""},{"$f":"IF('２月集金一覧'!G$4=\"\",\"\",'２月集金一覧'!G$4)","v":""},"個人計",null,"番号",{"$f":"IF('２月集金一覧'!C$4=\"\",\"\",'２月集金一覧'!C$4)","v":""},{"$f":"IF('２月集金一覧'!D$4=\"\",\"\",'２月集金一覧'!D$4)","v":""},{"$f":"IF('２月集金一覧'!E$4=\"\",\"\",'２月集金一覧'!E$4)","v":""},{"$f":"IF('２月集金一覧'!F$4=\"\",\"\",'２月集金一覧'!F$4)","v":""},{"$f":"IF('２月集金一覧'!G$4=\"\",\"\",'２月集金一覧'!G$4)","v":""},"個人計"]
[13,{"$f":"VLOOKUP($A28,'２月集金一覧'!$A$4:$H$44,B$2,FALSE)","v":0},{"$f":"VLOOKUP($A28,'２月集金一覧'!$A$4:$H$44,C$2,FALSE)","v":0},{"$f":"VLOOKUP($A28,'２月集金一覧'!$A$4:$H$44,D$2,FALSE)","v":0},{"$f":"VLOOKUP($A28,'２月集金一覧'!$A$4:$H$44,E$2,FALSE)","v":0},{"$f":"VLOOKUP($A28,'２月集金一覧'!$A$4:$H$44,F$2,FALSE)","v":0},{"$f":"VLOOKUP($A28,'２月集金一覧'!$A$4:$H$44,G$2,FALSE)","v":0},null,35,{"$f":"VLOOKUP($I28,'２月集金一覧'!$A$4:$H$44,J$2,FALSE)","v":0},{"$f":"VLOOKUP($I28,'２月集金一覧'!$A$4:$H$44,K$2,FALSE)","v":0},{"$f":"VLOOKUP($I28,'２月集金一覧'!$A$4:$H$44,L$2,FALSE)","v":0},{"$f":"VLOOKUP($I28,'２月集金一覧'!$A$4:$H$44,M$2,FALSE)","v":0},{"$f":"VLOOKUP($I28,'２月集金一覧'!$A$4:$H$44,N$2,FALSE)","v":0},{"$f":"VLOOKUP($I28,'２月集金一覧'!$A$4:$H$44,O$2,FALSE)","v":0}]
["番号",{"$f":"IF('２月集金一覧'!C$4=\"\",\"\",'２月集金一覧'!C$4)","v":""},{"$f":"IF('２月集金一覧'!D$4=\"\",\"\",'２月集金一覧'!D$4)","v":""},{"$f":"IF('２月集金一覧'!E$4=\"\",\"\",'２月集金一覧'!E$4)","v":""},{"$f":"IF('２月集金一覧'!F$4=\"\",\"\",'２月集金一覧'!F$4)","v":""},{"$f":"IF('２月集金一覧'!G$4=\"\",\"\",'２月集金一覧'!G$4)","v":""},"個人計",null,"番号",{"$f":"IF('２月集金一覧'!C$4=\"\",\"\",'２月集金一覧'!C$4)","v":""},{"$f":"IF('２月集金一覧'!D$4=\"\",\"\",'２月集金一覧'!D$4)","v":""},{"$f":"IF('２月集金一覧'!E$4=\"\",\"\",'２月集金一覧'!E$4)","v":""},{"$f":"IF('２月集金一覧'!F$4=\"\",\"\",'２月集金一覧'!F$4)","v":""},{"$f":"IF('２月集金一覧'!G$4=\"\",\"\",'２月集金一覧'!G$4)","v":""},"個人計"]
[14,{"$f":"VLOOKUP($A30,'２月集金一覧'!$A$4:$H$44,B$2,FALSE)","v":0},{"$f":"VLOOKUP($A30,'２月集金一覧'!$A$4:$H$44,C$2,FALSE)","v":0},{"$f":"VLOOKUP($A30,'２月集金一覧'!$A$4:$H$44,D$2,FALSE)","v":0},{"$f":"VLOOKUP($A30,'２月集金一覧'!$A$4:$H$44,E$2,FALSE)","v":0},{"$f":"VLOOKUP($A30,'２月集金一覧'!$A$4:$H$44,F$2,FALSE)","v":0},{"$f":"VLOOKUP($A30,'２月集金一覧'!$A$4:$H$44,G$2,FALSE)","v":0},null,36,{"$f":"VLOOKUP($I30,'２月集金一覧'!$A$4:$H$44,J$2,FALSE)","v":0},{"$f":"VLOOKUP($I30,'２月集金一覧'!$A$4:$H$44,K$2,FALSE)","v":0},{"$f":"VLOOKUP($I30,'２月集金一覧'!$A$4:$H$44,L$2,FALSE)","v":0},{"$f":"VLOOKUP($I30,'２月集金一覧'!$A$4:$H$44,M$2,FALSE)","v":0},{"$f":"VLOOKUP($I30,'２月集金一覧'!$A$4:$H$44,N$2,FALSE)","v":0},{"$f":"VLOOKUP($I30,'２月集金一覧'!$A$4:$H$44,O$2,FALSE)","v":0}]
["番号",{"$f":"IF('２月集金一覧'!C$4=\"\",\"\",'２月集金一覧'!C$4)","v":""},{"$f":"IF('２月集金一覧'!D$4=\"\",\"\",'２月集金一覧'!D$4)","v":""},{"$f":"IF('２月集金一覧'!E$4=\"\",\"\",'２月集金一覧'!E$4)","v":""},{"$f":"IF('２月集金一覧'!F$4=\"\",\"\",'２月集金一覧'!F$4)","v":""},{"$f":"IF('２月集金一覧'!G$4=\"\",\"\",'２月集金一覧'!G$4)","v":""},"個人計",null,"番号",{"$f":"IF('２月集金一覧'!C$4=\"\",\"\",'２月集金一覧'!C$4)","v":""},{"$f":"IF('２月集金一覧'!D$4=\"\",\"\",'２月集金一覧'!D$4)","v":""},{"$f":"IF('２月集金一覧'!E$4=\"\",\"\",'２月集金一覧'!E$4)","v":""},{"$f":"IF('２月集金一覧'!F$4=\"\",\"\",'２月集金一覧'!F$4)","v":""},{"$f":"IF('２月集金一覧'!G$4=\"\",\"\",'２月集金一覧'!G$4)","v":""},"個人計"]
[15,{"$f":"VLOOKUP($A32,'２月集金一覧'!$A$4:$H$44,B$2,FALSE)","v":0},{"$f":"VLOOKUP($A32,'２月集金一覧'!$A$4:$H$44,C$2,FALSE)","v":0},{"$f":"VLOOKUP($A32,'２月集金一覧'!$A$4:$H$44,D$2,FALSE)","v":0},{"$f":"VLOOKUP($A32,'２月集金一覧'!$A$4:$H$44,E$2,FALSE)","v":0},{"$f":"VLOOKUP($A32,'２月集金一覧'!$A$4:$H$44,F$2,FALSE)","v":0},{"$f":"VLOOKUP($A32,'２月集金一覧'!$A$4:$H$44,G$2,FALSE)","v":0},null,37,{"$f":"VLOOKUP($I32,'２月集金一覧'!$A$4:$H$44,J$2,FALSE)","v":0},{"$f":"VLOOKUP($I32,'２月集金一覧'!$A$4:$H$44,K$2,FALSE)","v":0},{"$f":"VLOOKUP($I32,'２月集金一覧'!$A$4:$H$44,L$2,FALSE)","v":0},{"$f":"VLOOKUP($I32,'２月集金一覧'!$A$4:$H$44,M$2,FALSE)","v":0},{"$f":"VLOOKUP($I32,'２月集金一覧'!$A$4:$H$44,N$2,FALSE)","v":0},{"$f":"VLOOKUP($I32,'２月集金一覧'!$A$4:$H$44,O$2,FALSE)","v":0}]
["番号",{"$f":"IF('２月集金一覧'!C$4=\"\",\"\",'２月集金一覧'!C$4)","v":""},{"$f":"IF('２月集金一覧'!D$4=\"\",\"\",'２月集金一覧'!D$4)","v":""},{"$f":"IF('２月集金一覧'!E$4=\"\",\"\",'２月集金一覧'!E$4)","v":""},{"$f":"IF('２月集金一覧'!F$4=\"\",\"\",'２月集金一覧'!F$4)","v":""},{"$f":"IF('２月集金一覧'!G$4=\"\",\"\",'２月集金一覧'!G$4)","v":""},"個人計",null,"番号",{"$f":"IF('２月集金一覧'!C$4=\"\",\"\",'２月集金一覧'!C$4)","v":""},{"$f":"IF('２月集金一覧'!D$4=\"\",\"\",'２月集金一覧'!D$4)","v":""},{"$f":"IF('２月集金一覧'!E$4=\"\",\"\",'２月集金一覧'!E$4)","v":""},{"$f":"IF('２月集金一覧'!F$4=\"\",\"\",'２月集金一覧'!F$4)","v":""},{"$f":"IF('２月集金一覧'!G$4=\"\",\"\",'２月集金一覧'!G$4)","v":""},"個人計"]
[16,{"$f":"VLOOKUP($A34,'２月集金一覧'!$A$4:$H$44,B$2,FALSE)","v":0},{"$f":"VLOOKUP($A34,'２月集金一覧'!$A$4:$H$44,C$2,FALSE)","v":0},{"$f":"VLOOKUP($A34,'２月集金一覧'!$A$4:$H$44,D$2,FALSE)","v":0},{"$f":"VLOOKUP($A34,'２月集金一覧'!$A$4:$H$44,E$2,FALSE)","v":0},{"$f":"VLOOKUP($A34,'２月集金一覧'!$A$4:$H$44,F$2,FALSE)","v":0},{"$f":"VLOOKUP($A34,'２月集金一覧'!$A$4:$H$44,G$2,FALSE)","v":0},null,38,{"$f":"VLOOKUP($I34,'２月集金一覧'!$A$4:$H$44,J$2,FALSE)","v":0},{"$f":"VLOOKUP($I34,'２月集金一覧'!$A$4:$H$44,K$2,FALSE)","v":0},{"$f":"VLOOKUP($I34,'２月集金一覧'!$A$4:$H$44,L$2,FALSE)","v":0},{"$f":"VLOOKUP($I34,'２月集金一覧'!$A$4:$H$44,M$2,FALSE)","v":0},{"$f":"VLOOKUP($I34,'２月集金一覧'!$A$4:$H$44,N$2,FALSE)","v":0},{"$f":"VLOOKUP($I34,'２月集金一覧'!$A$4:$H$44,O$2,FALSE)","v":0}]
["番号",{"$f":"IF('２月集金一覧'!C$4=\"\",\"\",'２月集金一覧'!C$4)","v":""},{"$f":"IF('２月集金一覧'!D$4=\"\",\"\",'２月集金一覧'!D$4)","v":""},{"$f":"IF('２月集金一覧'!E$4=\"\",\"\",'２月集金一覧'!E$4)","v":""},{"$f":"IF('２月集金一覧'!F$4=\"\",\"\",'２月集金一覧'!F$4)","v":""},{"$f":"IF('２月集金一覧'!G$4=\"\",\"\",'２月集金一覧'!G$4)","v":""},"個人計",null,"番号",{"$f":"IF('２月集金一覧'!C$4=\"\",\"\",'２月集金一覧'!C$4)","v":""},{"$f":"IF('２月集金一覧'!D$4=\"\",\"\",'２月集金一覧'!D$4)","v":""},{"$f":"IF('２月集金一覧'!E$4=\"\",\"\",'２月集金一覧'!E$4)","v":""},{"$f":"IF('２月集金一覧'!F$4=\"\",\"\",'２月集金一覧'!F$4)","v":""},{"$f":"IF('２月集金一覧'!G$4=\"\",\"\",'２月集金一覧'!G$4)","v":""},"個人計"]
[17,{"$f":"VLOOKUP($A36,'２月集金一覧'!$A$4:$H$44,B$2,FALSE)","v":0},{"$f":"VLOOKUP($A36,'２月集金一覧'!$A$4:$H$44,C$2,FALSE)","v":0},{"$f":"VLOOKUP($A36,'２月集金一覧'!$A$4:$H$44,D$2,FALSE)","v":0},{"$f":"VLOOKUP($A36,'２月集金一覧'!$A$4:$H$44,E$2,FALSE)","v":0},{"$f":"VLOOKUP($A36,'２月集金一覧'!$A$4:$H$44,F$2,FALSE)","v":0},{"$f":"VLOOKUP($A36,'２月集金一覧'!$A$4:$H$44,G$2,FALSE)","v":0},null,39,{"$f":"VLOOKUP($I36,'２月集金一覧'!$A$4:$H$44,J$2,FALSE)","v":0},{"$f":"VLOOKUP($I36,'２月集金一覧'!$A$4:$H$44,K$2,FALSE)","v":0},{"$f":"VLOOKUP($I36,'２月集金一覧'!$A$4:$H$44,L$2,FALSE)","v":0},{"$f":"VLOOKUP($I36,'２月集金一覧'!$A$4:$H$44,M$2,FALSE)","v":0},{"$f":"VLOOKUP($I36,'２月集金一覧'!$A$4:$H$44,N$2,FALSE)","v":0},{"$f":"VLOOKUP($I36,'２月集金一覧'!$A$4:$H$44,O$2,FALSE)","v":0}]
["番号",{"$f":"IF('２月集金一覧'!C$4=\"\",\"\",'２月集金一覧'!C$4)","v":""},{"$f":"IF('２月集金一覧'!D$4=\"\",\"\",'２月集金一覧'!D$4)","v":""},{"$f":"IF('２月集金一覧'!E$4=\"\",\"\",'２月集金一覧'!E$4)","v":""},{"$f":"IF('２月集金一覧'!F$4=\"\",\"\",'２月集金一覧'!F$4)","v":""},{"$f":"IF('２月集金一覧'!G$4=\"\",\"\",'２月集金一覧'!G$4)","v":""},"個人計",null,"番号",{"$f":"IF('２月集金一覧'!C$4=\"\",\"\",'２月集金一覧'!C$4)","v":""},{"$f":"IF('２月集金一覧'!D$4=\"\",\"\",'２月集金一覧'!D$4)","v":""},{"$f":"IF('２月集金一覧'!E$4=\"\",\"\",'２月集金一覧'!E$4)","v":""},{"$f":"IF('２月集金一覧'!F$4=\"\",\"\",'２月集金一覧'!F$4)","v":""},{"$f":"IF('２月集金一覧'!G$4=\"\",\"\",'２月集金一覧'!G$4)","v":""},"個人計"]
[18,{"$f":"VLOOKUP($A38,'２月集金一覧'!$A$4:$H$44,B$2,FALSE)","v":0},{"$f":"VLOOKUP($A38,'２月集金一覧'!$A$4:$H$44,C$2,FALSE)","v":0},{"$f":"VLOOKUP($A38,'２月集金一覧'!$A$4:$H$44,D$2,FALSE)","v":0},{"$f":"VLOOKUP($A38,'２月集金一覧'!$A$4:$H$44,E$2,FALSE)","v":0},{"$f":"VLOOKUP($A38,'２月集金一覧'!$A$4:$H$44,F$2,FALSE)","v":0},{"$f":"VLOOKUP($A38,'２月集金一覧'!$A$4:$H$44,G$2,FALSE)","v":0},null,40,{"$f":"VLOOKUP($I38,'２月集金一覧'!$A$4:$H$44,J$2,FALSE)","v":0},{"$f":"VLOOKUP($I38,'２月集金一覧'!$A$4:$H$44,K$2,FALSE)","v":0},{"$f":"VLOOKUP($I38,'２月集金一覧'!$A$4:$H$44,L$2,FALSE)","v":0},{"$f":"VLOOKUP($I38,'２月集金一覧'!$A$4:$H$44,M$2,FALSE)","v":0},{"$f":"VLOOKUP($I38,'２月集金一覧'!$A$4:$H$44,N$2,FALSE)","v":0},{"$f":"VLOOKUP($I38,'２月集金一覧'!$A$4:$H$44,O$2,FALSE)","v":0}]
["番号",{"$f":"IF('２月集金一覧'!C$4=\"\",\"\",'２月集金一覧'!C$4)","v":""},{"$f":"IF('２月集金一覧'!D$4=\"\",\"\",'２月集金一覧'!D$4)","v":""},{"$f":"IF('２月集金一覧'!E$4=\"\",\"\",'２月集金一覧'!E$4)","v":""},{"$f":"IF('２月集金一覧'!F$4=\"\",\"\",'２月集金一覧'!F$4)","v":""},{"$f":"IF('２月集金一覧'!G$4=\"\",\"\",'２月集金一覧'!G$4)","v":""},"個人計"]
[19,{"$f":"VLOOKUP($A40,'２月集金一覧'!$A$4:$H$44,B$2,FALSE)","v":0},{"$f":"VLOOKUP($A40,'２月集金一覧'!$A$4:$H$44,C$2,FALSE)","v":0},{"$f":"VLOOKUP($A40,'２月集金一覧'!$A$4:$H$44,D$2,FALSE)","v":0},{"$f":"VLOOKUP($A40,'２月集金一覧'!$A$4:$H$44,E$2,FALSE)","v":0},{"$f":"VLOOKUP($A40,'２月集金一覧'!$A$4:$H$44,F$2,FALSE)","v":0},{"$f":"VLOOKUP($A40,'２月集金一覧'!$A$4:$H$44,G$2,FALSE)","v":0}]
["番号",{"$f":"IF('２月集金一覧'!C$4=\"\",\"\",'２月集金一覧'!C$4)","v":""},{"$f":"IF('２月集金一覧'!D$4=\"\",\"\",'２月集金一覧'!D$4)","v":""},{"$f":"IF('２月集金一覧'!E$4=\"\",\"\",'２月集金一覧'!E$4)","v":""},{"$f":"IF('２月集金一覧'!F$4=\"\",\"\",'２月集金一覧'!F$4)","v":""},{"$f":"IF('２月集金一覧'!G$4=\"\",\"\",'２月集金一覧'!G$4)","v":""},"個人計"]
[20,{"$f":"VLOOKUP($A42,'２月集金一覧'!$A$4:$H$44,B$2,FALSE)","v":0},{"$f":"VLOOKUP($A42,'２月集金一覧'!$A$4:$H$44,C$2,FALSE)","v":0},{"$f":"VLOOKUP($A42,'２月集金一覧'!$A$4:$H$44,D$2,FALSE)","v":0},{"$f":"VLOOKUP($A42,'２月集金一覧'!$A$4:$H$44,E$2,FALSE)","v":0},{"$f":"VLOOKUP($A42,'２月集金一覧'!$A$4:$H$44,F$2,FALSE)","v":0},{"$f":"VLOOKUP($A42,'２月集金一覧'!$A$4:$H$44,G$2,FALSE)","v":0}]
["番号",{"$f":"IF('２月集金一覧'!C$4=\"\",\"\",'２月集金一覧'!C$4)","v":""},{"$f":"IF('２月集金一覧'!D$4=\"\",\"\",'２月集金一覧'!D$4)","v":""},{"$f":"IF('２月集金一覧'!E$4=\"\",\"\",'２月集金一覧'!E$4)","v":""},{"$f":"IF('２月集金一覧'!F$4=\"\",\"\",'２月集金一覧'!F$4)","v":""},{"$f":"IF('２月集金一覧'!G$4=\"\",\"\",'２月集金一覧'!G$4)","v":""},"個人計"]
[21,{"$f":"VLOOKUP($A44,'２月集金一覧'!$A$4:$H$44,B$2,FALSE)","v":0},{"$f":"VLOOKUP($A44,'２月集金一覧'!$A$4:$H$44,C$2,FALSE)","v":0},{"$f":"VLOOKUP($A44,'２月集金一覧'!$A$4:$H$44,D$2,FALSE)","v":0},{"$f":"VLOOKUP($A44,'２月集金一覧'!$A$4:$H$44,E$2,FALSE)","v":0},{"$f":"VLOOKUP($A44,'２月集金一覧'!$A$4:$H$44,F$2,FALSE)","v":0},{"$f":"VLOOKUP($A44,'２月集金一覧'!$A$4:$H$44,G$2,FALSE)","v":0}]
["番号",{"$f":"IF('２月集金一覧'!C$4=\"\",\"\",'２月集金一覧'!C$4)","v":""},{"$f":"IF('２月集金一覧'!D$4=\"\",\"\",'２月集金一覧'!D$4)","v":""},{"$f":"IF('２月集金一覧'!E$4=\"\",\"\",'２月集金一覧'!E$4)","v":""},{"$f":"IF('２月集金一覧'!F$4=\"\",\"\",'２月集金一覧'!F$4)","v":""},{"$f":"IF('２月集金一覧'!G$4=\"\",\"\",'２月集金一覧'!G$4)","v":""},"個人計"]
[22,{"$f":"VLOOKUP($A46,'２月集金一覧'!$A$4:$H$44,B$2,FALSE)","v":0},{"$f":"VLOOKUP($A46,'２月集金一覧'!$A$4:$H$44,C$2,FALSE)","v":0},{"$f":"VLOOKUP($A46,'２月集金一覧'!$A$4:$H$44,D$2,FALSE)","v":0},{"$f":"VLOOKUP($A46,'２月集金一覧'!$A$4:$H$44,E$2,FALSE)","v":0},{"$f":"VLOOKUP($A46,'２月集金一覧'!$A$4:$H$44,F$2,FALSE)","v":0},{"$f":"VLOOKUP($A46,'２月集金一覧'!$A$4:$H$44,G$2,FALSE)","v":0}]

{"sheet":"3月個票","index":33,"n_rows":46,"n_cols":15,"rows_kept":46,"cut":false,"hidden":false,"merged":[]}
[null,"令和",{"$f":"メイン!D7","v":0},"年度",{"$f":"メイン!C8","v":0},"年",{"$f":"メイン!E8","v":0},"組"]
[1,3,4,5,6,7,8,null,1,3,4,5,6,7,8]
["番号",{"$f":"IF('３月集金一覧'!C$4=\"\",\"\",'３月集金一覧'!C$4)","v":""},{"$f":"IF('３月集金一覧'!$D$4=\"\",\"\",'３月集金一覧'!D$4)","v":""},{"$f":"IF('３月集金一覧'!E$4=\"\",\"\",'３月集金一覧'!E$4)","v":""},{"$f":"IF('３月集金一覧'!F$4=\"\",\"\",'３月集金一覧'!F$4)","v":""},{"$f":"IF('３月集金一覧'!G$4=\"\",\"\",'３月集金一覧'!G$4)","v":""},"個人計",null,"番号",{"$f":"IF('３月集金一覧'!C$4=\"\",\"\",'３月集金一覧'!C$4)","v":""},{"$f":"IF('３月集金一覧'!D$4=\"\",\"\",'３月集金一覧'!D$4)","v":""},{"$f":"IF('３月集金一覧'!E$4=\"\",\"\",'３月集金一覧'!E$4)","v":""},{"$f":"IF('３月集金一覧'!F$4=\"\",\"\",'３月集金一覧'!F$4)","v":""},{"$f":"IF('３月集金一覧'!G$4=\"\",\"\",'３月集金一覧'!G$4)","v":""},"個人計"]
[1,{"$f":"VLOOKUP($A4,'３月集金一覧'!$A$4:$H$44,B$2,FALSE)","v":0},{"$f":"VLOOKUP($A4,'３月集金一覧'!$A$4:$H$44,C$2,FALSE)","v":0},{"$f":"VLOOKUP($A4,'３月集金一覧'!$A$4:$H$44,D$2,FALSE)","v":0},{"$f":"VLOOKUP($A4,'３月集金一覧'!$A$4:$H$44,E$2,FALSE)","v":0},{"$f":"VLOOKUP($A4,'３月集金一覧'!$A$4:$H$44,F$2,FALSE)","v":0},{"$f":"VLOOKUP($A4,'３月集金一覧'!$A$4:$H$44,G$2,FALSE)","v":0},null,23,{"$f":"VLOOKUP($I4,'３月集金一覧'!$A$4:$H$44,J$2,FALSE)","v":0},{"$f":"VLOOKUP($I4,'３月集金一覧'!$A$4:$H$44,K$2,FALSE)","v":0},{"$f":"VLOOKUP($I4,'３月集金一覧'!$A$4:$H$44,L$2,FALSE)","v":0},{"$f":"VLOOKUP($I4,'３月集金一覧'!$A$4:$H$44,M$2,FALSE)","v":0},{"$f":"VLOOKUP($I4,'３月集金一覧'!$A$4:$H$44,N$2,FALSE)","v":0},{"$f":"VLOOKUP($I4,'３月集金一覧'!$A$4:$H$44,O$2,FALSE)","v":0}]
["番号",{"$f":"IF('３月集金一覧'!C$4=\"\",\"\",'３月集金一覧'!C$4)","v":""},{"$f":"IF('３月集金一覧'!D$4=\"\",\"\",'３月集金一覧'!D$4)","v":""},{"$f":"IF('３月集金一覧'!E$4=\"\",\"\",'３月集金一覧'!E$4)","v":""},{"$f":"IF('３月集金一覧'!F$4=\"\",\"\",'３月集金一覧'!F$4)","v":""},{"$f":"IF('３月集金一覧'!G$4=\"\",\"\",'３月集金一覧'!G$4)","v":""},"個人計",null,"番号",{"$f":"IF('３月集金一覧'!C$4=\"\",\"\",'３月集金一覧'!C$4)","v":""},{"$f":"IF('３月集金一覧'!D$4=\"\",\"\",'３月集金一覧'!D$4)","v":""},{"$f":"IF('３月集金一覧'!E$4=\"\",\"\",'３月集金一覧'!E$4)","v":""},{"$f":"IF('３月集金一覧'!F$4=\"\",\"\",'３月集金一覧'!F$4)","v":""},{"$f":"IF('３月集金一覧'!G$4=\"\",\"\",'３月集金一覧'!G$4)","v":""},"個人計"]
[2,{"$f":"VLOOKUP($A6,'３月集金一覧'!$A$4:$H$44,B$2,FALSE)","v":0},{"$f":"VLOOKUP($A6,'３月集金一覧'!$A$4:$H$44,C$2,FALSE)","v":0},{"$f":"VLOOKUP($A6,'３月集金一覧'!$A$4:$H$44,D$2,FALSE)","v":0},{"$f":"VLOOKUP($A6,'３月集金一覧'!$A$4:$H$44,E$2,FALSE)","v":0},{"$f":"VLOOKUP($A6,'３月集金一覧'!$A$4:$H$44,F$2,FALSE)","v":0},{"$f":"VLOOKUP($A6,'３月集金一覧'!$A$4:$H$44,G$2,FALSE)","v":0},null,24,{"$f":"VLOOKUP($I6,'３月集金一覧'!$A$4:$H$44,J$2,FALSE)","v":0},{"$f":"VLOOKUP($I6,'３月集金一覧'!$A$4:$H$44,K$2,FALSE)","v":0},{"$f":"VLOOKUP($I6,'３月集金一覧'!$A$4:$H$44,L$2,FALSE)","v":0},{"$f":"VLOOKUP($I6,'３月集金一覧'!$A$4:$H$44,M$2,FALSE)","v":0},{"$f":"VLOOKUP($I6,'３月集金一覧'!$A$4:$H$44,N$2,FALSE)","v":0},{"$f":"VLOOKUP($I6,'３月集金一覧'!$A$4:$H$44,O$2,FALSE)","v":0}]
["番号",{"$f":"IF('３月集金一覧'!C$4=\"\",\"\",'３月集金一覧'!C$4)","v":""},{"$f":"IF('３月集金一覧'!D$4=\"\",\"\",'３月集金一覧'!D$4)","v":""},{"$f":"IF('３月集金一覧'!E$4=\"\",\"\",'３月集金一覧'!E$4)","v":""},{"$f":"IF('３月集金一覧'!F$4=\"\",\"\",'３月集金一覧'!F$4)","v":""},{"$f":"IF('３月集金一覧'!G$4=\"\",\"\",'３月集金一覧'!G$4)","v":""},"個人計",null,"番号",{"$f":"IF('３月集金一覧'!C$4=\"\",\"\",'３月集金一覧'!C$4)","v":""},{"$f":"IF('３月集金一覧'!D$4=\"\",\"\",'３月集金一覧'!D$4)","v":""},{"$f":"IF('３月集金一覧'!E$4=\"\",\"\",'３月集金一覧'!E$4)","v":""},{"$f":"IF('３月集金一覧'!F$4=\"\",\"\",'３月集金一覧'!F$4)","v":""},{"$f":"IF('３月集金一覧'!G$4=\"\",\"\",'３月集金一覧'!G$4)","v":""},"個人計"]
[3,{"$f":"VLOOKUP($A8,'３月集金一覧'!$A$4:$H$44,B$2,FALSE)","v":0},{"$f":"VLOOKUP($A8,'３月集金一覧'!$A$4:$H$44,C$2,FALSE)","v":0},{"$f":"VLOOKUP($A8,'３月集金一覧'!$A$4:$H$44,D$2,FALSE)","v":0},{"$f":"VLOOKUP($A8,'３月集金一覧'!$A$4:$H$44,E$2,FALSE)","v":0},{"$f":"VLOOKUP($A8,'３月集金一覧'!$A$4:$H$44,F$2,FALSE)","v":0},{"$f":"VLOOKUP($A8,'３月集金一覧'!$A$4:$H$44,G$2,FALSE)","v":0},null,25,{"$f":"VLOOKUP($I8,'３月集金一覧'!$A$4:$H$44,J$2,FALSE)","v":0},{"$f":"VLOOKUP($I8,'３月集金一覧'!$A$4:$H$44,K$2,FALSE)","v":0},{"$f":"VLOOKUP($I8,'３月集金一覧'!$A$4:$H$44,L$2,FALSE)","v":0},{"$f":"VLOOKUP($I8,'３月集金一覧'!$A$4:$H$44,M$2,FALSE)","v":0},{"$f":"VLOOKUP($I8,'３月集金一覧'!$A$4:$H$44,N$2,FALSE)","v":0},{"$f":"VLOOKUP($I8,'３月集金一覧'!$A$4:$H$44,O$2,FALSE)","v":0}]
["番号",{"$f":"IF('３月集金一覧'!C$4=\"\",\"\",'３月集金一覧'!C$4)","v":""},{"$f":"IF('３月集金一覧'!D$4=\"\",\"\",'３月集金一覧'!D$4)","v":""},{"$f":"IF('３月集金一覧'!E$4=\"\",\"\",'３月集金一覧'!E$4)","v":""},{"$f":"IF('３月集金一覧'!F$4=\"\",\"\",'３月集金一覧'!F$4)","v":""},{"$f":"IF('３月集金一覧'!G$4=\"\",\"\",'３月集金一覧'!G$4)","v":""},"個人計",null,"番号",{"$f":"IF('３月集金一覧'!C$4=\"\",\"\",'３月集金一覧'!C$4)","v":""},{"$f":"IF('３月集金一覧'!D$4=\"\",\"\",'３月集金一覧'!D$4)","v":""},{"$f":"IF('３月集金一覧'!E$4=\"\",\"\",'３月集金一覧'!E$4)","v":""},{"$f":"IF('３月集金一覧'!F$4=\"\",\"\",'３月集金一覧'!F$4)","v":""},{"$f":"IF('３月集金一覧'!G$4=\"\",\"\",'３月集金一覧'!G$4)","v":""},"個人計"]
[4,{"$f":"VLOOKUP($A10,'３月集金一覧'!$A$4:$H$44,B$2,FALSE)","v":0},{"$f":"VLOOKUP($A10,'３月集金一覧'!$A$4:$H$44,C$2,FALSE)","v":0},{"$f":"VLOOKUP($A10,'３月集金一覧'!$A$4:$H$44,D$2,FALSE)","v":0},{"$f":"VLOOKUP($A10,'３月集金一覧'!$A$4:$H$44,E$2,FALSE)","v":0},{"$f":"VLOOKUP($A10,'３月集金一覧'!$A$4:$H$44,F$2,FALSE)","v":0},{"$f":"VLOOKUP($A10,'３月集金一覧'!$A$4:$H$44,G$2,FALSE)","v":0},null,26,{"$f":"VLOOKUP($I10,'３月集金一覧'!$A$4:$H$44,J$2,FALSE)","v":0},{"$f":"VLOOKUP($I10,'３月集金一覧'!$A$4:$H$44,K$2,FALSE)","v":0},{"$f":"VLOOKUP($I10,'３月集金一覧'!$A$4:$H$44,L$2,FALSE)","v":0},{"$f":"VLOOKUP($I10,'３月集金一覧'!$A$4:$H$44,M$2,FALSE)","v":0},{"$f":"VLOOKUP($I10,'３月集金一覧'!$A$4:$H$44,N$2,FALSE)","v":0},{"$f":"VLOOKUP($I10,'３月集金一覧'!$A$4:$H$44,O$2,FALSE)","v":0}]
["番号",{"$f":"IF('３月集金一覧'!C$4=\"\",\"\",'３月集金一覧'!C$4)","v":""},{"$f":"IF('３月集金一覧'!D$4=\"\",\"\",'３月集金一覧'!D$4)","v":""},{"$f":"IF('３月集金一覧'!E$4=\"\",\"\",'３月集金一覧'!E$4)","v":""},{"$f":"IF('３月集金一覧'!F$4=\"\",\"\",'３月集金一覧'!F$4)","v":""},{"$f":"IF('３月集金一覧'!G$4=\"\",\"\",'３月集金一覧'!G$4)","v":""},"個人計",null,"番号",{"$f":"IF('３月集金一覧'!C$4=\"\",\"\",'３月集金一覧'!C$4)","v":""},{"$f":"IF('３月集金一覧'!D$4=\"\",\"\",'３月集金一覧'!D$4)","v":""},{"$f":"IF('３月集金一覧'!E$4=\"\",\"\",'３月集金一覧'!E$4)","v":""},{"$f":"IF('３月集金一覧'!F$4=\"\",\"\",'３月集金一覧'!F$4)","v":""},{"$f":"IF('３月集金一覧'!G$4=\"\",\"\",'３月集金一覧'!G$4)","v":""},"個人計"]
[5,{"$f":"VLOOKUP($A12,'３月集金一覧'!$A$4:$H$44,B$2,FALSE)","v":0},{"$f":"VLOOKUP($A12,'３月集金一覧'!$A$4:$H$44,C$2,FALSE)","v":0},{"$f":"VLOOKUP($A12,'３月集金一覧'!$A$4:$H$44,D$2,FALSE)","v":0},{"$f":"VLOOKUP($A12,'３月集金一覧'!$A$4:$H$44,E$2,FALSE)","v":0},{"$f":"VLOOKUP($A12,'３月集金一覧'!$A$4:$H$44,F$2,FALSE)","v":0},{"$f":"VLOOKUP($A12,'３月集金一覧'!$A$4:$H$44,G$2,FALSE)","v":0},null,27,{"$f":"VLOOKUP($I12,'３月集金一覧'!$A$4:$H$44,J$2,FALSE)","v":0},{"$f":"VLOOKUP($I12,'３月集金一覧'!$A$4:$H$44,K$2,FALSE)","v":0},{"$f":"VLOOKUP($I12,'３月集金一覧'!$A$4:$H$44,L$2,FALSE)","v":0},{"$f":"VLOOKUP($I12,'３月集金一覧'!$A$4:$H$44,M$2,FALSE)","v":0},{"$f":"VLOOKUP($I12,'３月集金一覧'!$A$4:$H$44,N$2,FALSE)","v":0},{"$f":"VLOOKUP($I12,'３月集金一覧'!$A$4:$H$44,O$2,FALSE)","v":0}]
["番号",{"$f":"IF('３月集金一覧'!C$4=\"\",\"\",'３月集金一覧'!C$4)","v":""},{"$f":"IF('３月集金一覧'!D$4=\"\",\"\",'３月集金一覧'!D$4)","v":""},{"$f":"IF('３月集金一覧'!E$4=\"\",\"\",'３月集金一覧'!E$4)","v":""},{"$f":"IF('３月集金一覧'!F$4=\"\",\"\",'３月集金一覧'!F$4)","v":""},{"$f":"IF('３月集金一覧'!G$4=\"\",\"\",'３月集金一覧'!G$4)","v":""},"個人計",null,"番号",{"$f":"IF('３月集金一覧'!C$4=\"\",\"\",'３月集金一覧'!C$4)","v":""},{"$f":"IF('３月集金一覧'!D$4=\"\",\"\",'３月集金一覧'!D$4)","v":""},{"$f":"IF('３月集金一覧'!E$4=\"\",\"\",'３月集金一覧'!E$4)","v":""},{"$f":"IF('３月集金一覧'!F$4=\"\",\"\",'３月集金一覧'!F$4)","v":""},{"$f":"IF('３月集金一覧'!G$4=\"\",\"\",'３月集金一覧'!G$4)","v":""},"個人計"]
[6,{"$f":"VLOOKUP($A14,'３月集金一覧'!$A$4:$H$44,B$2,FALSE)","v":0},{"$f":"VLOOKUP($A14,'３月集金一覧'!$A$4:$H$44,C$2,FALSE)","v":0},{"$f":"VLOOKUP($A14,'３月集金一覧'!$A$4:$H$44,D$2,FALSE)","v":0},{"$f":"VLOOKUP($A14,'３月集金一覧'!$A$4:$H$44,E$2,FALSE)","v":0},{"$f":"VLOOKUP($A14,'３月集金一覧'!$A$4:$H$44,F$2,FALSE)","v":0},{"$f":"VLOOKUP($A14,'３月集金一覧'!$A$4:$H$44,G$2,FALSE)","v":0},null,28,{"$f":"VLOOKUP($I14,'３月集金一覧'!$A$4:$H$44,J$2,FALSE)","v":0},{"$f":"VLOOKUP($I14,'３月集金一覧'!$A$4:$H$44,K$2,FALSE)","v":0},{"$f":"VLOOKUP($I14,'３月集金一覧'!$A$4:$H$44,L$2,FALSE)","v":0},{"$f":"VLOOKUP($I14,'３月集金一覧'!$A$4:$H$44,M$2,FALSE)","v":0},{"$f":"VLOOKUP($I14,'３月集金一覧'!$A$4:$H$44,N$2,FALSE)","v":0},{"$f":"VLOOKUP($I14,'３月集金一覧'!$A$4:$H$44,O$2,FALSE)","v":0}]
["番号",{"$f":"IF('３月集金一覧'!C$4=\"\",\"\",'３月集金一覧'!C$4)","v":""},{"$f":"IF('３月集金一覧'!D$4=\"\",\"\",'３月集金一覧'!D$4)","v":""},{"$f":"IF('３月集金一覧'!E$4=\"\",\"\",'３月集金一覧'!E$4)","v":""},{"$f":"IF('３月集金一覧'!F$4=\"\",\"\",'３月集金一覧'!F$4)","v":""},{"$f":"IF('３月集金一覧'!G$4=\"\",\"\",'３月集金一覧'!G$4)","v":""},"個人計",null,"番号",{"$f":"IF('３月集金一覧'!C$4=\"\",\"\",'３月集金一覧'!C$4)","v":""},{"$f":"IF('３月集金一覧'!D$4=\"\",\"\",'３月集金一覧'!D$4)","v":""},{"$f":"IF('３月集金一覧'!E$4=\"\",\"\",'３月集金一覧'!E$4)","v":""},{"$f":"IF('３月集金一覧'!F$4=\"\",\"\",'３月集金一覧'!F$4)","v":""},{"$f":"IF('３月集金一覧'!G$4=\"\",\"\",'３月集金一覧'!G$4)","v":""},"個人計"]
[7,{"$f":"VLOOKUP($A16,'３月集金一覧'!$A$4:$H$44,B$2,FALSE)","v":0},{"$f":"VLOOKUP($A16,'３月集金一覧'!$A$4:$H$44,C$2,FALSE)","v":0},{"$f":"VLOOKUP($A16,'３月集金一覧'!$A$4:$H$44,D$2,FALSE)","v":0},{"$f":"VLOOKUP($A16,'３月集金一覧'!$A$4:$H$44,E$2,FALSE)","v":0},{"$f":"VLOOKUP($A16,'３月集金一覧'!$A$4:$H$44,F$2,FALSE)","v":0},{"$f":"VLOOKUP($A16,'３月集金一覧'!$A$4:$H$44,G$2,FALSE)","v":0},null,29,{"$f":"VLOOKUP($I16,'３月集金一覧'!$A$4:$H$44,J$2,FALSE)","v":0},{"$f":"VLOOKUP($I16,'３月集金一覧'!$A$4:$H$44,K$2,FALSE)","v":0},{"$f":"VLOOKUP($I16,'３月集金一覧'!$A$4:$H$44,L$2,FALSE)","v":0},{"$f":"VLOOKUP($I16,'３月集金一覧'!$A$4:$H$44,M$2,FALSE)","v":0},{"$f":"VLOOKUP($I16,'３月集金一覧'!$A$4:$H$44,N$2,FALSE)","v":0},{"$f":"VLOOKUP($I16,'３月集金一覧'!$A$4:$H$44,O$2,FALSE)","v":0}]
["番号",{"$f":"IF('３月集金一覧'!C$4=\"\",\"\",'３月集金一覧'!C$4)","v":""},{"$f":"IF('３月集金一覧'!D$4=\"\",\"\",'３月集金一覧'!D$4)","v":""},{"$f":"IF('３月集金一覧'!E$4=\"\",\"\",'３月集金一覧'!E$4)","v":""},{"$f":"IF('３月集金一覧'!F$4=\"\",\"\",'３月集金一覧'!F$4)","v":""},{"$f":"IF('３月集金一覧'!G$4=\"\",\"\",'３月集金一覧'!G$4)","v":""},"個人計",null,"番号",{"$f":"IF('３月集金一覧'!C$4=\"\",\"\",'３月集金一覧'!C$4)","v":""},{"$f":"IF('３月集金一覧'!D$4=\"\",\"\",'３月集金一覧'!D$4)","v":""},{"$f":"IF('３月集金一覧'!E$4=\"\",\"\",'３月集金一覧'!E$4)","v":""},{"$f":"IF('３月集金一覧'!F$4=\"\",\"\",'３月集金一覧'!F$4)","v":""},{"$f":"IF('３月集金一覧'!G$4=\"\",\"\",'３月集金一覧'!G$4)","v":""},"個人計"]
[8,{"$f":"VLOOKUP($A18,'３月集金一覧'!$A$4:$H$44,B$2,FALSE)","v":0},{"$f":"VLOOKUP($A18,'３月集金一覧'!$A$4:$H$44,C$2,FALSE)","v":0},{"$f":"VLOOKUP($A18,'３月集金一覧'!$A$4:$H$44,D$2,FALSE)","v":0},{"$f":"VLOOKUP($A18,'３月集金一覧'!$A$4:$H$44,E$2,FALSE)","v":0},{"$f":"VLOOKUP($A18,'３月集金一覧'!$A$4:$H$44,F$2,FALSE)","v":0},{"$f":"VLOOKUP($A18,'３月集金一覧'!$A$4:$H$44,G$2,FALSE)","v":0},null,30,{"$f":"VLOOKUP($I18,'３月集金一覧'!$A$4:$H$44,J$2,FALSE)","v":0},{"$f":"VLOOKUP($I18,'３月集金一覧'!$A$4:$H$44,K$2,FALSE)","v":0},{"$f":"VLOOKUP($I18,'３月集金一覧'!$A$4:$H$44,L$2,FALSE)","v":0},{"$f":"VLOOKUP($I18,'３月集金一覧'!$A$4:$H$44,M$2,FALSE)","v":0},{"$f":"VLOOKUP($I18,'３月集金一覧'!$A$4:$H$44,N$2,FALSE)","v":0},{"$f":"VLOOKUP($I18,'３月集金一覧'!$A$4:$H$44,O$2,FALSE)","v":0}]
["番号",{"$f":"IF('３月集金一覧'!C$4=\"\",\"\",'３月集金一覧'!C$4)","v":""},{"$f":"IF('３月集金一覧'!D$4=\"\",\"\",'３月集金一覧'!D$4)","v":""},{"$f":"IF('３月集金一覧'!E$4=\"\",\"\",'３月集金一覧'!E$4)","v":""},{"$f":"IF('３月集金一覧'!F$4=\"\",\"\",'３月集金一覧'!F$4)","v":""},{"$f":"IF('３月集金一覧'!G$4=\"\",\"\",'３月集金一覧'!G$4)","v":""},"個人計",null,"番号",{"$f":"IF('３月集金一覧'!C$4=\"\",\"\",'３月集金一覧'!C$4)","v":""},{"$f":"IF('３月集金一覧'!D$4=\"\",\"\",'３月集金一覧'!D$4)","v":""},{"$f":"IF('３月集金一覧'!E$4=\"\",\"\",'３月集金一覧'!E$4)","v":""},{"$f":"IF('３月集金一覧'!F$4=\"\",\"\",'３月集金一覧'!F$4)","v":""},{"$f":"IF('３月集金一覧'!G$4=\"\",\"\",'３月集金一覧'!G$4)","v":""},"個人計"]
[9,{"$f":"VLOOKUP($A20,'３月集金一覧'!$A$4:$H$44,B$2,FALSE)","v":0},{"$f":"VLOOKUP($A20,'３月集金一覧'!$A$4:$H$44,C$2,FALSE)","v":0},{"$f":"VLOOKUP($A20,'３月集金一覧'!$A$4:$H$44,D$2,FALSE)","v":0},{"$f":"VLOOKUP($A20,'３月集金一覧'!$A$4:$H$44,E$2,FALSE)","v":0},{"$f":"VLOOKUP($A20,'３月集金一覧'!$A$4:$H$44,F$2,FALSE)","v":0},{"$f":"VLOOKUP($A20,'３月集金一覧'!$A$4:$H$44,G$2,FALSE)","v":0},null,31,{"$f":"VLOOKUP($I20,'３月集金一覧'!$A$4:$H$44,J$2,FALSE)","v":0},{"$f":"VLOOKUP($I20,'３月集金一覧'!$A$4:$H$44,K$2,FALSE)","v":0},{"$f":"VLOOKUP($I20,'３月集金一覧'!$A$4:$H$44,L$2,FALSE)","v":0},{"$f":"VLOOKUP($I20,'３月集金一覧'!$A$4:$H$44,M$2,FALSE)","v":0},{"$f":"VLOOKUP($I20,'３月集金一覧'!$A$4:$H$44,N$2,FALSE)","v":0},{"$f":"VLOOKUP($I20,'３月集金一覧'!$A$4:$H$44,O$2,FALSE)","v":0}]
["番号",{"$f":"IF('３月集金一覧'!C$4=\"\",\"\",'３月集金一覧'!C$4)","v":""},{"$f":"IF('３月集金一覧'!D$4=\"\",\"\",'３月集金一覧'!D$4)","v":""},{"$f":"IF('３月集金一覧'!E$4=\"\",\"\",'３月集金一覧'!E$4)","v":""},{"$f":"IF('３月集金一覧'!F$4=\"\",\"\",'３月集金一覧'!F$4)","v":""},{"$f":"IF('３月集金一覧'!G$4=\"\",\"\",'３月集金一覧'!G$4)","v":""},"個人計",null,"番号",{"$f":"IF('３月集金一覧'!C$4=\"\",\"\",'３月集金一覧'!C$4)","v":""},{"$f":"IF('３月集金一覧'!D$4=\"\",\"\",'３月集金一覧'!D$4)","v":""},{"$f":"IF('３月集金一覧'!E$4=\"\",\"\",'３月集金一覧'!E$4)","v":""},{"$f":"IF('３月集金一覧'!F$4=\"\",\"\",'３月集金一覧'!F$4)","v":""},{"$f":"IF('３月集金一覧'!G$4=\"\",\"\",'３月集金一覧'!G$4)","v":""},"個人計"]
[10,{"$f":"VLOOKUP($A22,'３月集金一覧'!$A$4:$H$44,B$2,FALSE)","v":0},{"$f":"VLOOKUP($A22,'３月集金一覧'!$A$4:$H$44,C$2,FALSE)","v":0},{"$f":"VLOOKUP($A22,'３月集金一覧'!$A$4:$H$44,D$2,FALSE)","v":0},{"$f":"VLOOKUP($A22,'３月集金一覧'!$A$4:$H$44,E$2,FALSE)","v":0},{"$f":"VLOOKUP($A22,'３月集金一覧'!$A$4:$H$44,F$2,FALSE)","v":0},{"$f":"VLOOKUP($A22,'３月集金一覧'!$A$4:$H$44,G$2,FALSE)","v":0},null,32,{"$f":"VLOOKUP($I22,'３月集金一覧'!$A$4:$H$44,J$2,FALSE)","v":0},{"$f":"VLOOKUP($I22,'３月集金一覧'!$A$4:$H$44,K$2,FALSE)","v":0},{"$f":"VLOOKUP($I22,'３月集金一覧'!$A$4:$H$44,L$2,FALSE)","v":0},{"$f":"VLOOKUP($I22,'３月集金一覧'!$A$4:$H$44,M$2,FALSE)","v":0},{"$f":"VLOOKUP($I22,'３月集金一覧'!$A$4:$H$44,N$2,FALSE)","v":0},{"$f":"VLOOKUP($I22,'３月集金一覧'!$A$4:$H$44,O$2,FALSE)","v":0}]
["番号",{"$f":"IF('３月集金一覧'!C$4=\"\",\"\",'３月集金一覧'!C$4)","v":""},{"$f":"IF('３月集金一覧'!D$4=\"\",\"\",'３月集金一覧'!D$4)","v":""},{"$f":"IF('３月集金一覧'!E$4=\"\",\"\",'３月集金一覧'!E$4)","v":""},{"$f":"IF('３月集金一覧'!F$4=\"\",\"\",'３月集金一覧'!F$4)","v":""},{"$f":"IF('３月集金一覧'!G$4=\"\",\"\",'３月集金一覧'!G$4)","v":""},"個人計",null,"番号",{"$f":"IF('３月集金一覧'!C$4=\"\",\"\",'３月集金一覧'!C$4)","v":""},{"$f":"IF('３月集金一覧'!D$4=\"\",\"\",'３月集金一覧'!D$4)","v":""},{"$f":"IF('３月集金一覧'!E$4=\"\",\"\",'３月集金一覧'!E$4)","v":""},{"$f":"IF('３月集金一覧'!F$4=\"\",\"\",'３月集金一覧'!F$4)","v":""},{"$f":"IF('３月集金一覧'!G$4=\"\",\"\",'３月集金一覧'!G$4)","v":""},"個人計"]
[11,{"$f":"VLOOKUP($A24,'３月集金一覧'!$A$4:$H$44,B$2,FALSE)","v":0},{"$f":"VLOOKUP($A24,'３月集金一覧'!$A$4:$H$44,C$2,FALSE)","v":0},{"$f":"VLOOKUP($A24,'３月集金一覧'!$A$4:$H$44,D$2,FALSE)","v":0},{"$f":"VLOOKUP($A24,'３月集金一覧'!$A$4:$H$44,E$2,FALSE)","v":0},{"$f":"VLOOKUP($A24,'３月集金一覧'!$A$4:$H$44,F$2,FALSE)","v":0},{"$f":"VLOOKUP($A24,'３月集金一覧'!$A$4:$H$44,G$2,FALSE)","v":0},null,33,{"$f":"VLOOKUP($I24,'３月集金一覧'!$A$4:$H$44,J$2,FALSE)","v":0},{"$f":"VLOOKUP($I24,'３月集金一覧'!$A$4:$H$44,K$2,FALSE)","v":0},{"$f":"VLOOKUP($I24,'３月集金一覧'!$A$4:$H$44,L$2,FALSE)","v":0},{"$f":"VLOOKUP($I24,'３月集金一覧'!$A$4:$H$44,M$2,FALSE)","v":0},{"$f":"VLOOKUP($I24,'３月集金一覧'!$A$4:$H$44,N$2,FALSE)","v":0},{"$f":"VLOOKUP($I24,'３月集金一覧'!$A$4:$H$44,O$2,FALSE)","v":0}]
["番号",{"$f":"IF('３月集金一覧'!C$4=\"\",\"\",'３月集金一覧'!C$4)","v":""},{"$f":"IF('３月集金一覧'!D$4=\"\",\"\",'３月集金一覧'!D$4)","v":""},{"$f":"IF('３月集金一覧'!E$4=\"\",\"\",'３月集金一覧'!E$4)","v":""},{"$f":"IF('３月集金一覧'!F$4=\"\",\"\",'３月集金一覧'!F$4)","v":""},{"$f":"IF('３月集金一覧'!G$4=\"\",\"\",'３月集金一覧'!G$4)","v":""},"個人計",null,"番号",{"$f":"IF('３月集金一覧'!C$4=\"\",\"\",'３月集金一覧'!C$4)","v":""},{"$f":"IF('３月集金一覧'!D$4=\"\",\"\",'３月集金一覧'!D$4)","v":""},{"$f":"IF('３月集金一覧'!E$4=\"\",\"\",'３月集金一覧'!E$4)","v":""},{"$f":"IF('３月集金一覧'!F$4=\"\",\"\",'３月集金一覧'!F$4)","v":""},{"$f":"IF('３月集金一覧'!G$4=\"\",\"\",'３月集金一覧'!G$4)","v":""},"個人計"]
[12,{"$f":"VLOOKUP($A26,'３月集金一覧'!$A$4:$H$44,B$2,FALSE)","v":0},{"$f":"VLOOKUP($A26,'３月集金一覧'!$A$4:$H$44,C$2,FALSE)","v":0},{"$f":"VLOOKUP($A26,'３月集金一覧'!$A$4:$H$44,D$2,FALSE)","v":0},{"$f":"VLOOKUP($A26,'３月集金一覧'!$A$4:$H$44,E$2,FALSE)","v":0},{"$f":"VLOOKUP($A26,'３月集金一覧'!$A$4:$H$44,F$2,FALSE)","v":0},{"$f":"VLOOKUP($A26,'３月集金一覧'!$A$4:$H$44,G$2,FALSE)","v":0},null,34,{"$f":"VLOOKUP($I26,'３月集金一覧'!$A$4:$H$44,J$2,FALSE)","v":0},{"$f":"VLOOKUP($I26,'３月集金一覧'!$A$4:$H$44,K$2,FALSE)","v":0},{"$f":"VLOOKUP($I26,'３月集金一覧'!$A$4:$H$44,L$2,FALSE)","v":0},{"$f":"VLOOKUP($I26,'３月集金一覧'!$A$4:$H$44,M$2,FALSE)","v":0},{"$f":"VLOOKUP($I26,'３月集金一覧'!$A$4:$H$44,N$2,FALSE)","v":0},{"$f":"VLOOKUP($I26,'３月集金一覧'!$A$4:$H$44,O$2,FALSE)","v":0}]
["番号",{"$f":"IF('３月集金一覧'!C$4=\"\",\"\",'３月集金一覧'!C$4)","v":""},{"$f":"IF('３月集金一覧'!D$4=\"\",\"\",'３月集金一覧'!D$4)","v":""},{"$f":"IF('３月集金一覧'!E$4=\"\",\"\",'３月集金一覧'!E$4)","v":""},{"$f":"IF('３月集金一覧'!F$4=\"\",\"\",'３月集金一覧'!F$4)","v":""},{"$f":"IF('３月集金一覧'!G$4=\"\",\"\",'３月集金一覧'!G$4)","v":""},"個人計",null,"番号",{"$f":"IF('３月集金一覧'!C$4=\"\",\"\",'３月集金一覧'!C$4)","v":""},{"$f":"IF('３月集金一覧'!D$4=\"\",\"\",'３月集金一覧'!D$4)","v":""},{"$f":"IF('３月集金一覧'!E$4=\"\",\"\",'３月集金一覧'!E$4)","v":""},{"$f":"IF('３月集金一覧'!F$4=\"\",\"\",'３月集金一覧'!F$4)","v":""},{"$f":"IF('３月集金一覧'!G$4=\"\",\"\",'３月集金一覧'!G$4)","v":""},"個人計"]
[13,{"$f":"VLOOKUP($A28,'３月集金一覧'!$A$4:$H$44,B$2,FALSE)","v":0},{"$f":"VLOOKUP($A28,'３月集金一覧'!$A$4:$H$44,C$2,FALSE)","v":0},{"$f":"VLOOKUP($A28,'３月集金一覧'!$A$4:$H$44,D$2,FALSE)","v":0},{"$f":"VLOOKUP($A28,'３月集金一覧'!$A$4:$H$44,E$2,FALSE)","v":0},{"$f":"VLOOKUP($A28,'３月集金一覧'!$A$4:$H$44,F$2,FALSE)","v":0},{"$f":"VLOOKUP($A28,'３月集金一覧'!$A$4:$H$44,G$2,FALSE)","v":0},null,35,{"$f":"VLOOKUP($I28,'３月集金一覧'!$A$4:$H$44,J$2,FALSE)","v":0},{"$f":"VLOOKUP($I28,'３月集金一覧'!$A$4:$H$44,K$2,FALSE)","v":0},{"$f":"VLOOKUP($I28,'３月集金一覧'!$A$4:$H$44,L$2,FALSE)","v":0},{"$f":"VLOOKUP($I28,'３月集金一覧'!$A$4:$H$44,M$2,FALSE)","v":0},{"$f":"VLOOKUP($I28,'３月集金一覧'!$A$4:$H$44,N$2,FALSE)","v":0},{"$f":"VLOOKUP($I28,'３月集金一覧'!$A$4:$H$44,O$2,FALSE)","v":0}]
["番号",{"$f":"IF('３月集金一覧'!C$4=\"\",\"\",'３月集金一覧'!C$4)","v":""},{"$f":"IF('３月集金一覧'!D$4=\"\",\"\",'３月集金一覧'!D$4)","v":""},{"$f":"IF('３月集金一覧'!E$4=\"\",\"\",'３月集金一覧'!E$4)","v":""},{"$f":"IF('３月集金一覧'!F$4=\"\",\"\",'３月集金一覧'!F$4)","v":""},{"$f":"IF('３月集金一覧'!G$4=\"\",\"\",'３月集金一覧'!G$4)","v":""},"個人計",null,"番号",{"$f":"IF('３月集金一覧'!C$4=\"\",\"\",'３月集金一覧'!C$4)","v":""},{"$f":"IF('３月集金一覧'!D$4=\"\",\"\",'３月集金一覧'!D$4)","v":""},{"$f":"IF('３月集金一覧'!E$4=\"\",\"\",'３月集金一覧'!E$4)","v":""},{"$f":"IF('３月集金一覧'!F$4=\"\",\"\",'３月集金一覧'!F$4)","v":""},{"$f":"IF('３月集金一覧'!G$4=\"\",\"\",'３月集金一覧'!G$4)","v":""},"個人計"]
[14,{"$f":"VLOOKUP($A30,'３月集金一覧'!$A$4:$H$44,B$2,FALSE)","v":0},{"$f":"VLOOKUP($A30,'３月集金一覧'!$A$4:$H$44,C$2,FALSE)","v":0},{"$f":"VLOOKUP($A30,'３月集金一覧'!$A$4:$H$44,D$2,FALSE)","v":0},{"$f":"VLOOKUP($A30,'３月集金一覧'!$A$4:$H$44,E$2,FALSE)","v":0},{"$f":"VLOOKUP($A30,'３月集金一覧'!$A$4:$H$44,F$2,FALSE)","v":0},{"$f":"VLOOKUP($A30,'３月集金一覧'!$A$4:$H$44,G$2,FALSE)","v":0},null,36,{"$f":"VLOOKUP($I30,'３月集金一覧'!$A$4:$H$44,J$2,FALSE)","v":0},{"$f":"VLOOKUP($I30,'３月集金一覧'!$A$4:$H$44,K$2,FALSE)","v":0},{"$f":"VLOOKUP($I30,'３月集金一覧'!$A$4:$H$44,L$2,FALSE)","v":0},{"$f":"VLOOKUP($I30,'３月集金一覧'!$A$4:$H$44,M$2,FALSE)","v":0},{"$f":"VLOOKUP($I30,'３月集金一覧'!$A$4:$H$44,N$2,FALSE)","v":0},{"$f":"VLOOKUP($I30,'３月集金一覧'!$A$4:$H$44,O$2,FALSE)","v":0}]
["番号",{"$f":"IF('３月集金一覧'!C$4=\"\",\"\",'３月集金一覧'!C$4)","v":""},{"$f":"IF('３月集金一覧'!D$4=\"\",\"\",'３月集金一覧'!D$4)","v":""},{"$f":"IF('３月集金一覧'!E$4=\"\",\"\",'３月集金一覧'!E$4)","v":""},{"$f":"IF('３月集金一覧'!F$4=\"\",\"\",'３月集金一覧'!F$4)","v":""},{"$f":"IF('３月集金一覧'!G$4=\"\",\"\",'３月集金一覧'!G$4)","v":""},"個人計",null,"番号",{"$f":"IF('３月集金一覧'!C$4=\"\",\"\",'３月集金一覧'!C$4)","v":""},{"$f":"IF('３月集金一覧'!D$4=\"\",\"\",'３月集金一覧'!D$4)","v":""},{"$f":"IF('３月集金一覧'!E$4=\"\",\"\",'３月集金一覧'!E$4)","v":""},{"$f":"IF('３月集金一覧'!F$4=\"\",\"\",'３月集金一覧'!F$4)","v":""},{"$f":"IF('３月集金一覧'!G$4=\"\",\"\",'３月集金一覧'!G$4)","v":""},"個人計"]
[15,{"$f":"VLOOKUP($A32,'３月集金一覧'!$A$4:$H$44,B$2,FALSE)","v":0},{"$f":"VLOOKUP($A32,'３月集金一覧'!$A$4:$H$44,C$2,FALSE)","v":0},{"$f":"VLOOKUP($A32,'３月集金一覧'!$A$4:$H$44,D$2,FALSE)","v":0},{"$f":"VLOOKUP($A32,'３月集金一覧'!$A$4:$H$44,E$2,FALSE)","v":0},{"$f":"VLOOKUP($A32,'３月集金一覧'!$A$4:$H$44,F$2,FALSE)","v":0},{"$f":"VLOOKUP($A32,'３月集金一覧'!$A$4:$H$44,G$2,FALSE)","v":0},null,37,{"$f":"VLOOKUP($I32,'３月集金一覧'!$A$4:$H$44,J$2,FALSE)","v":0},{"$f":"VLOOKUP($I32,'３月集金一覧'!$A$4:$H$44,K$2,FALSE)","v":0},{"$f":"VLOOKUP($I32,'３月集金一覧'!$A$4:$H$44,L$2,FALSE)","v":0},{"$f":"VLOOKUP($I32,'３月集金一覧'!$A$4:$H$44,M$2,FALSE)","v":0},{"$f":"VLOOKUP($I32,'３月集金一覧'!$A$4:$H$44,N$2,FALSE)","v":0},{"$f":"VLOOKUP($I32,'３月集金一覧'!$A$4:$H$44,O$2,FALSE)","v":0}]
["番号",{"$f":"IF('３月集金一覧'!C$4=\"\",\"\",'３月集金一覧'!C$4)","v":""},{"$f":"IF('３月集金一覧'!D$4=\"\",\"\",'３月集金一覧'!D$4)","v":""},{"$f":"IF('３月集金一覧'!E$4=\"\",\"\",'３月集金一覧'!E$4)","v":""},{"$f":"IF('３月集金一覧'!F$4=\"\",\"\",'３月集金一覧'!F$4)","v":""},{"$f":"IF('３月集金一覧'!G$4=\"\",\"\",'３月集金一覧'!G$4)","v":""},"個人計",null,"番号",{"$f":"IF('３月集金一覧'!C$4=\"\",\"\",'３月集金一覧'!C$4)","v":""},{"$f":"IF('３月集金一覧'!D$4=\"\",\"\",'３月集金一覧'!D$4)","v":""},{"$f":"IF('３月集金一覧'!E$4=\"\",\"\",'３月集金一覧'!E$4)","v":""},{"$f":"IF('３月集金一覧'!F$4=\"\",\"\",'３月集金一覧'!F$4)","v":""},{"$f":"IF('３月集金一覧'!G$4=\"\",\"\",'３月集金一覧'!G$4)","v":""},"個人計"]
[16,{"$f":"VLOOKUP($A34,'３月集金一覧'!$A$4:$H$44,B$2,FALSE)","v":0},{"$f":"VLOOKUP($A34,'３月集金一覧'!$A$4:$H$44,C$2,FALSE)","v":0},{"$f":"VLOOKUP($A34,'３月集金一覧'!$A$4:$H$44,D$2,FALSE)","v":0},{"$f":"VLOOKUP($A34,'３月集金一覧'!$A$4:$H$44,E$2,FALSE)","v":0},{"$f":"VLOOKUP($A34,'３月集金一覧'!$A$4:$H$44,F$2,FALSE)","v":0},{"$f":"VLOOKUP($A34,'３月集金一覧'!$A$4:$H$44,G$2,FALSE)","v":0},null,38,{"$f":"VLOOKUP($I34,'３月集金一覧'!$A$4:$H$44,J$2,FALSE)","v":0},{"$f":"VLOOKUP($I34,'３月集金一覧'!$A$4:$H$44,K$2,FALSE)","v":0},{"$f":"VLOOKUP($I34,'３月集金一覧'!$A$4:$H$44,L$2,FALSE)","v":0},{"$f":"VLOOKUP($I34,'３月集金一覧'!$A$4:$H$44,M$2,FALSE)","v":0},{"$f":"VLOOKUP($I34,'３月集金一覧'!$A$4:$H$44,N$2,FALSE)","v":0},{"$f":"VLOOKUP($I34,'３月集金一覧'!$A$4:$H$44,O$2,FALSE)","v":0}]
["番号",{"$f":"IF('３月集金一覧'!C$4=\"\",\"\",'３月集金一覧'!C$4)","v":""},{"$f":"IF('３月集金一覧'!D$4=\"\",\"\",'３月集金一覧'!D$4)","v":""},{"$f":"IF('３月集金一覧'!E$4=\"\",\"\",'３月集金一覧'!E$4)","v":""},{"$f":"IF('３月集金一覧'!F$4=\"\",\"\",'３月集金一覧'!F$4)","v":""},{"$f":"IF('３月集金一覧'!G$4=\"\",\"\",'３月集金一覧'!G$4)","v":""},"個人計",null,"番号",{"$f":"IF('３月集金一覧'!C$4=\"\",\"\",'３月集金一覧'!C$4)","v":""},{"$f":"IF('３月集金一覧'!D$4=\"\",\"\",'３月集金一覧'!D$4)","v":""},{"$f":"IF('３月集金一覧'!E$4=\"\",\"\",'３月集金一覧'!E$4)","v":""},{"$f":"IF('３月集金一覧'!F$4=\"\",\"\",'３月集金一覧'!F$4)","v":""},{"$f":"IF('３月集金一覧'!G$4=\"\",\"\",'３月集金一覧'!G$4)","v":""},"個人計"]
[17,{"$f":"VLOOKUP($A36,'３月集金一覧'!$A$4:$H$44,B$2,FALSE)","v":0},{"$f":"VLOOKUP($A36,'３月集金一覧'!$A$4:$H$44,C$2,FALSE)","v":0},{"$f":"VLOOKUP($A36,'３月集金一覧'!$A$4:$H$44,D$2,FALSE)","v":0},{"$f":"VLOOKUP($A36,'３月集金一覧'!$A$4:$H$44,E$2,FALSE)","v":0},{"$f":"VLOOKUP($A36,'３月集金一覧'!$A$4:$H$44,F$2,FALSE)","v":0},{"$f":"VLOOKUP($A36,'３月集金一覧'!$A$4:$H$44,G$2,FALSE)","v":0},null,39,{"$f":"VLOOKUP($I36,'３月集金一覧'!$A$4:$H$44,J$2,FALSE)","v":0},{"$f":"VLOOKUP($I36,'３月集金一覧'!$A$4:$H$44,K$2,FALSE)","v":0},{"$f":"VLOOKUP($I36,'３月集金一覧'!$A$4:$H$44,L$2,FALSE)","v":0},{"$f":"VLOOKUP($I36,'３月集金一覧'!$A$4:$H$44,M$2,FALSE)","v":0},{"$f":"VLOOKUP($I36,'３月集金一覧'!$A$4:$H$44,N$2,FALSE)","v":0},{"$f":"VLOOKUP($I36,'３月集金一覧'!$A$4:$H$44,O$2,FALSE)","v":0}]
["番号",{"$f":"IF('３月集金一覧'!C$4=\"\",\"\",'３月集金一覧'!C$4)","v":""},{"$f":"IF('３月集金一覧'!D$4=\"\",\"\",'３月集金一覧'!D$4)","v":""},{"$f":"IF('３月集金一覧'!E$4=\"\",\"\",'３月集金一覧'!E$4)","v":""},{"$f":"IF('３月集金一覧'!F$4=\"\",\"\",'３月集金一覧'!F$4)","v":""},{"$f":"IF('３月集金一覧'!G$4=\"\",\"\",'３月集金一覧'!G$4)","v":""},"個人計",null,"番号",{"$f":"IF('３月集金一覧'!C$4=\"\",\"\",'３月集金一覧'!C$4)","v":""},{"$f":"IF('３月集金一覧'!D$4=\"\",\"\",'３月集金一覧'!D$4)","v":""},{"$f":"IF('３月集金一覧'!E$4=\"\",\"\",'３月集金一覧'!E$4)","v":""},{"$f":"IF('３月集金一覧'!F$4=\"\",\"\",'３月集金一覧'!F$4)","v":""},{"$f":"IF('３月集金一覧'!G$4=\"\",\"\",'３月集金一覧'!G$4)","v":""},"個人計"]
[18,{"$f":"VLOOKUP($A38,'３月集金一覧'!$A$4:$H$44,B$2,FALSE)","v":0},{"$f":"VLOOKUP($A38,'３月集金一覧'!$A$4:$H$44,C$2,FALSE)","v":0},{"$f":"VLOOKUP($A38,'３月集金一覧'!$A$4:$H$44,D$2,FALSE)","v":0},{"$f":"VLOOKUP($A38,'３月集金一覧'!$A$4:$H$44,E$2,FALSE)","v":0},{"$f":"VLOOKUP($A38,'３月集金一覧'!$A$4:$H$44,F$2,FALSE)","v":0},{"$f":"VLOOKUP($A38,'３月集金一覧'!$A$4:$H$44,G$2,FALSE)","v":0},null,40,{"$f":"VLOOKUP($I38,'３月集金一覧'!$A$4:$H$44,J$2,FALSE)","v":0},{"$f":"VLOOKUP($I38,'３月集金一覧'!$A$4:$H$44,K$2,FALSE)","v":0},{"$f":"VLOOKUP($I38,'３月集金一覧'!$A$4:$H$44,L$2,FALSE)","v":0},{"$f":"VLOOKUP($I38,'３月集金一覧'!$A$4:$H$44,M$2,FALSE)","v":0},{"$f":"VLOOKUP($I38,'３月集金一覧'!$A$4:$H$44,N$2,FALSE)","v":0},{"$f":"VLOOKUP($I38,'３月集金一覧'!$A$4:$H$44,O$2,FALSE)","v":0}]
["番号",{"$f":"IF('３月集金一覧'!C$4=\"\",\"\",'３月集金一覧'!C$4)","v":""},{"$f":"IF('３月集金一覧'!D$4=\"\",\"\",'３月集金一覧'!D$4)","v":""},{"$f":"IF('３月集金一覧'!E$4=\"\",\"\",'３月集金一覧'!E$4)","v":""},{"$f":"IF('３月集金一覧'!F$4=\"\",\"\",'３月集金一覧'!F$4)","v":""},{"$f":"IF('３月集金一覧'!G$4=\"\",\"\",'３月集金一覧'!G$4)","v":""},"個人計"]
[19,{"$f":"VLOOKUP($A40,'３月集金一覧'!$A$4:$H$44,B$2,FALSE)","v":0},{"$f":"VLOOKUP($A40,'３月集金一覧'!$A$4:$H$44,C$2,FALSE)","v":0},{"$f":"VLOOKUP($A40,'３月集金一覧'!$A$4:$H$44,D$2,FALSE)","v":0},{"$f":"VLOOKUP($A40,'３月集金一覧'!$A$4:$H$44,E$2,FALSE)","v":0},{"$f":"VLOOKUP($A40,'３月集金一覧'!$A$4:$H$44,F$2,FALSE)","v":0},{"$f":"VLOOKUP($A40,'３月集金一覧'!$A$4:$H$44,G$2,FALSE)","v":0}]
["番号",{"$f":"IF('３月集金一覧'!C$4=\"\",\"\",'３月集金一覧'!C$4)","v":""},{"$f":"IF('３月集金一覧'!D$4=\"\",\"\",'３月集金一覧'!D$4)","v":""},{"$f":"IF('３月集金一覧'!E$4=\"\",\"\",'３月集金一覧'!E$4)","v":""},{"$f":"IF('３月集金一覧'!F$4=\"\",\"\",'３月集金一覧'!F$4)","v":""},{"$f":"IF('３月集金一覧'!G$4=\"\",\"\",'３月集金一覧'!G$4)","v":""},"個人計"]
[20,{"$f":"VLOOKUP($A42,'３月集金一覧'!$A$4:$H$44,B$2,FALSE)","v":0},{"$f":"VLOOKUP($A42,'３月集金一覧'!$A$4:$H$44,C$2,FALSE)","v":0},{"$f":"VLOOKUP($A42,'３月集金一覧'!$A$4:$H$44,D$2,FALSE)","v":0},{"$f":"VLOOKUP($A42,'３月集金一覧'!$A$4:$H$44,E$2,FALSE)","v":0},{"$f":"VLOOKUP($A42,'３月集金一覧'!$A$4:$H$44,F$2,FALSE)","v":0},{"$f":"VLOOKUP($A42,'３月集金一覧'!$A$4:$H$44,G$2,FALSE)","v":0}]
["番号",{"$f":"IF('３月集金一覧'!C$4=\"\",\"\",'３月集金一覧'!C$4)","v":""},{"$f":"IF('３月集金一覧'!D$4=\"\",\"\",'３月集金一覧'!D$4)","v":""},{"$f":"IF('３月集金一覧'!E$4=\"\",\"\",'３月集金一覧'!E$4)","v":""},{"$f":"IF('３月集金一覧'!F$4=\"\",\"\",'３月集金一覧'!F$4)","v":""},{"$f":"IF('３月集金一覧'!G$4=\"\",\"\",'３月集金一覧'!G$4)","v":""},"個人計"]
[21,{"$f":"VLOOKUP($A44,'３月集金一覧'!$A$4:$H$44,B$2,FALSE)","v":0},{"$f":"VLOOKUP($A44,'３月集金一覧'!$A$4:$H$44,C$2,FALSE)","v":0},{"$f":"VLOOKUP($A44,'３月集金一覧'!$A$4:$H$44,D$2,FALSE)","v":0},{"$f":"VLOOKUP($A44,'３月集金一覧'!$A$4:$H$44,E$2,FALSE)","v":0},{"$f":"VLOOKUP($A44,'３月集金一覧'!$A$4:$H$44,F$2,FALSE)","v":0},{"$f":"VLOOKUP($A44,'３月集金一覧'!$A$4:$H$44,G$2,FALSE)","v":0}]
["番号",{"$f":"IF('３月集金一覧'!C$4=\"\",\"\",'３月集金一覧'!C$4)","v":""},{"$f":"IF('３月集金一覧'!D$4=\"\",\"\",'３月集金一覧'!D$4)","v":""},{"$f":"IF('３月集金一覧'!E$4=\"\",\"\",'３月集金一覧'!E$4)","v":""},{"$f":"IF('３月集金一覧'!F$4=\"\",\"\",'３月集金一覧'!F$4)","v":""},{"$f":"IF('３月集金一覧'!G$4=\"\",\"\",'３月集金一覧'!G$4)","v":""},"個人計"]
[22,{"$f":"VLOOKUP($A46,'３月集金一覧'!$A$4:$H$44,B$2,FALSE)","v":0},{"$f":"VLOOKUP($A46,'３月集金一覧'!$A$4:$H$44,C$2,FALSE)","v":0},{"$f":"VLOOKUP($A46,'３月集金一覧'!$A$4:$H$44,D$2,FALSE)","v":0},{"$f":"VLOOKUP($A46,'３月集金一覧'!$A$4:$H$44,E$2,FALSE)","v":0},{"$f":"VLOOKUP($A46,'３月集金一覧'!$A$4:$H$44,F$2,FALSE)","v":0},{"$f":"VLOOKUP($A46,'３月集金一覧'!$A$4:$H$44,G$2,FALSE)","v":0}]